{"text_format":"1","workbook":"xlsx","n_sheets":5,"sheets":["Home","Planning","Leerlingen","Instellingen","Tellingen"],"not_rendered":{"charts":0,"images":7,"macros":1,"external_links":0,"defined_names":0,"comments":0,"pivot_tables":0},"unopened":[],"bounds":{"document_bytes":16777216,"sheet_cells":100000,"rows_first":2000,"rows_last":500,"rows_between":2000,"halvings":0,"cell_chars":16384,"cell_head_chars":4096},"cells_cut":0,"cells_raw":0,"read":"whole","date_system":"1900"}

{"sheet":"Home","index":0,"n_rows":8,"n_cols":2,"rows_kept":8,"cut":false,"hidden":false,"merged":[]}
[]
[]
[]
[]
[]
[]
["*","info@terzake-excel.nl"]
["(","0317 200 009"]

{"sheet":"Planning","index":1,"n_rows":5,"n_cols":1371,"rows_kept":5,"cut":false,"hidden":false,"merged":[]}
[]
[]
["2024-01-01"]
[null,null,"2024-01-01","2024-01-02","2024-01-03","2024-01-04","2024-01-05","2024-01-06","2024-01-07","2024-01-08","2024-01-09","2024-01-10","2024-01-11","2024-01-12","2024-01-13","2024-01-14","2024-01-15","2024-01-16","2024-01-17","2024-01-18","2024-01-19","2024-01-20","2024-01-21","2024-01-22","2024-01-23","2024-01-24","2024-01-25","2024-01-26","2024-01-27","2024-01-28","2024-01-29","2024-01-30","2024-01-31","2024-02-01","2024-02-02","2024-02-03","2024-02-04","2024-02-05","2024-02-06","2024-02-07","2024-02-08","2024-02-09","2024-02-10","2024-02-11","2024-02-12","2024-02-13","2024-02-14","2024-02-15","2024-02-16","2024-02-17","2024-02-18","2024-02-19","2024-02-20","2024-02-21","2024-02-22","2024-02-23","2024-02-24","2024-02-25","2024-02-26","2024-02-27","2024-02-28","2024-02-29","2024-03-01","2024-03-02","2024-03-03","2024-03-04","2024-03-05","2024-03-06","2024-03-07","2024-03-08","2024-03-09","2024-03-10","2024-03-11","2024-03-12","2024-03-13","2024-03-14","2024-03-15","2024-03-16","2024-03-17","2024-03-18","2024-03-19","2024-03-20","2024-03-21","2024-03-22","2024-03-23","2024-03-24","2024-03-25","2024-03-26","2024-03-27","2024-03-28","2024-03-29","2024-03-30","2024-03-31","2024-04-01","2024-04-02","2024-04-03","2024-04-04","2024-04-05","2024-04-06","2024-04-07","2024-04-08","2024-04-09","2024-04-10","2024-04-11","2024-04-12","2024-04-13","2024-04-14","2024-04-15","2024-04-16","2024-04-17","2024-04-18","2024-04-19","2024-04-20","2024-04-21","2024-04-22","2024-04-23","2024-04-24","2024-04-25","2024-04-26","2024-04-27","2024-04-28","2024-04-29","2024-04-30","2024-05-01","2024-05-02","2024-05-03","2024-05-04","2024-05-05","2024-05-06","2024-05-07","2024-05-08","2024-05-09","2024-05-10","2024-05-11","2024-05-12","2024-05-13","2024-05-14","2024-05-15","2024-05-16","2024-05-17","2024-05-18","2024-05-19","2024-05-20","2024-05-21","2024-05-22","2024-05-23","2024-05-24","2024-05-25","2024-05-26","2024-05-27","2024-05-28","2024-05-29","2024-05-30","2024-05-31","2024-06-01","2024-06-02","2024-06-03","2024-06-04","2024-06-05","2024-06-06","2024-06-07","2024-06-08","2024-06-09","2024-06-10","2024-06-11","2024-06-12","2024-06-13","2024-06-14","2024-06-15","2024-06-16","2024-06-17","2024-06-18","2024-06-19","2024-06-20","2024-06-21","2024-06-22","2024-06-23","2024-06-24","2024-06-25","2024-06-26","2024-06-27","2024-06-28","2024-06-29","2024-06-30","2024-07-01","2024-07-02","2024-07-03","2024-07-04","2024-07-05","2024-07-06","2024-07-07","2024-07-08","2024-07-09","2024-07-10","2024-07-11","2024-07-12","2024-07-13","2024-07-14","2024-07-15","2024-07-16","2024-07-17","2024-07-18","2024-07-19","2024-07-20","2024-07-21","2024-07-22","2024-07-23","2024-07-24","2024-07-25","2024-07-26","2024-07-27","2024-07-28","2024-07-29","2024-07-30","2024-07-31","2024-08-01","2024-08-02","2024-08-03","2024-08-04","2024-08-05","2024-08-06","2024-08-07","2024-08-08","2024-08-09","2024-08-10","2024-08-11","2024-08-12","2024-08-13","2024-08-14","2024-08-15","2024-08-16","2024-08-17","2024-08-18","2024-08-19","2024-08-20","2024-08-21","2024-08-22","2024-08-23","2024-08-24","2024-08-25","2024-08-26","2024-08-27","2024-08-28","2024-08-29","2024-08-30","2024-08-31","2024-09-01","2024-09-02","2024-09-03","2024-09-04","2024-09-05","2024-09-06","2024-09-07","2024-09-08","2024-09-09","2024-09-10","2024-09-11","2024-09-12","2024-09-13","2024-09-14","2024-09-15","2024-09-16","2024-09-17","2024-09-18","2024-09-19","2024-09-20","2024-09-21","2024-09-22","2024-09-23","2024-09-24","2024-09-25","2024-09-26","2024-09-27","2024-09-28","2024-09-29","2024-09-30","2024-10-01","2024-10-02","2024-10-03","2024-10-04","2024-10-05","2024-10-06","2024-10-07","2024-10-08","2024-10-09","2024-10-10","2024-10-11","2024-10-12","2024-10-13","2024-10-14","2024-10-15","2024-10-16","2024-10-17","2024-10-18","2024-10-19","2024-10-20","2024-10-21","2024-10-22","2024-10-23","2024-10-24","2024-10-25","2024-10-26","2024-10-27","2024-10-28","2024-10-29","2024-10-30","2024-10-31","2024-11-01","2024-11-02","2024-11-03","2024-11-04","2024-11-05","2024-11-06","2024-11-07","2024-11-08","2024-11-09","2024-11-10","2024-11-11","2024-11-12","2024-11-13","2024-11-14","2024-11-15","2024-11-16","2024-11-17","2024-11-18","2024-11-19","2024-11-20","2024-11-21","2024-11-22","2024-11-23","2024-11-24","2024-11-25","2024-11-26","2024-11-27","2024-11-28","2024-11-29","2024-11-30","2024-12-01","2024-12-02","2024-12-03","2024-12-04","2024-12-05","2024-12-06","2024-12-07","2024-12-08","2024-12-09","2024-12-10","2024-12-11","2024-12-12","2024-12-13","2024-12-14","2024-12-15","2024-12-16","2024-12-17","2024-12-18","2024-12-19","2024-12-20","2024-12-21","2024-12-22","2024-12-23","2024-12-24","2024-12-25","2024-12-26","2024-12-27","2024-12-28","2024-12-29","2024-12-30","2024-12-31","2025-01-01","2025-01-02","2025-01-03","2025-01-04","2025-01-05","2025-01-06","2025-01-07","2025-01-08","2025-01-09","2025-01-10","2025-01-11","2025-01-12","2025-01-13","2025-01-14","2025-01-15","2025-01-16","2025-01-17","2025-01-18","2025-01-19","2025-01-20","2025-01-21","2025-01-22","2025-01-23","2025-01-24","2025-01-25","2025-01-26","2025-01-27","2025-01-28","2025-01-29","2025-01-30","2025-01-31","2025-02-01","2025-02-02","2025-02-03","2025-02-04","2025-02-05","2025-02-06","2025-02-07","2025-02-08","2025-02-09","2025-02-10","2025-02-11","2025-02-12","2025-02-13","2025-02-14","2025-02-15","2025-02-16","2025-02-17","2025-02-18","2025-02-19","2025-02-20","2025-02-21","2025-02-22","2025-02-23","2025-02-24","2025-02-25","2025-02-26","2025-02-27","2025-02-28","2025-03-01","2025-03-02","2025-03-03","2025-03-04","2025-03-05","2025-03-06","2025-03-07","2025-03-08","2025-03-09","2025-03-10","2025-03-11","2025-03-12","2025-03-13","2025-03-14","2025-03-15","2025-03-16","2025-03-17","2025-03-18","2025-03-19","2025-03-20","2025-03-21","2025-03-22","2025-03-23","2025-03-24","2025-03-25","2025-03-26","2025-03-27","2025-03-28","2025-03-29","2025-03-30","2025-03-31","2025-04-01","2025-04-02","2025-04-03","2025-04-04","2025-04-05","2025-04-06","2025-04-07","2025-04-08","2025-04-09","2025-04-10","2025-04-11","2025-04-12","2025-04-13","2025-04-14","2025-04-15","2025-04-16","2025-04-17","2025-04-18","2025-04-19","2025-04-20","2025-04-21","2025-04-22","2025-04-23","2025-04-24","2025-04-25","2025-04-26","2025-04-27","2025-04-28","2025-04-29","2025-04-30","2025-05-01","2025-05-02","2025-05-03","2025-05-04","2025-05-05","2025-05-06","2025-05-07","2025-05-08","2025-05-09","2025-05-10","2025-05-11","2025-05-12","2025-05-13","2025-05-14","2025-05-15","2025-05-16","2025-05-17","2025-05-18","2025-05-19","2025-05-20","2025-05-21","2025-05-22","2025-05-23","2025-05-24","2025-05-25","2025-05-26","2025-05-27","2025-05-28","2025-05-29","2025-05-30","2025-05-31","2025-06-01","2025-06-02","2025-06-03","2025-06-04","2025-06-05","2025-06-06","2025-06-07","2025-06-08","2025-06-09","2025-06-10","2025-06-11","2025-06-12","2025-06-13","2025-06-14","2025-06-15","2025-06-16","2025-06-17","2025-06-18","2025-06-19","2025-06-20","2025-06-21","2025-06-22","2025-06-23","2025-06-24","2025-06-25","2025-06-26","2025-06-27","2025-06-28","2025-06-29","2025-06-30","2025-07-01","2025-07-02","2025-07-03","2025-07-04","2025-07-05","2025-07-06","2025-07-07","2025-07-08","2025-07-09","2025-07-10","2025-07-11","2025-07-12","2025-07-13","2025-07-14","2025-07-15","2025-07-16","2025-07-17","2025-07-18","2025-07-19","2025-07-20","2025-07-21","2025-07-22","2025-07-23","2025-07-24","2025-07-25","2025-07-26","2025-07-27","2025-07-28","2025-07-29","2025-07-30","2025-07-31","2025-08-01","2025-08-02","2025-08-03","2025-08-04","2025-08-05","2025-08-06","2025-08-07","2025-08-08","2025-08-09","2025-08-10","2025-08-11","2025-08-12","2025-08-13","2025-08-14","2025-08-15","2025-08-16","2025-08-17","2025-08-18","2025-08-19","2025-08-20","2025-08-21","2025-08-22","2025-08-23","2025-08-24","2025-08-25","2025-08-26","2025-08-27","2025-08-28","2025-08-29","2025-08-30","2025-08-31","2025-09-01","2025-09-02","2025-09-03","2025-09-04","2025-09-05","2025-09-06","2025-09-07","2025-09-08","2025-09-09","2025-09-10","2025-09-11","2025-09-12","2025-09-13","2025-09-14","2025-09-15","2025-09-16","2025-09-17","2025-09-18","2025-09-19","2025-09-20","2025-09-21","2025-09-22","2025-09-23","2025-09-24","2025-09-25","2025-09-26","2025-09-27","2025-09-28","2025-09-29","2025-09-30","2025-10-01","2025-10-02","2025-10-03","2025-10-04","2025-10-05","2025-10-06","2025-10-07","2025-10-08","2025-10-09","2025-10-10","2025-10-11","2025-10-12","2025-10-13","2025-10-14","2025-10-15","2025-10-16","2025-10-17","2025-10-18","2025-10-19","2025-10-20","2025-10-21","2025-10-22","2025-10-23","2025-10-24","2025-10-25","2025-10-26","2025-10-27","2025-10-28","2025-10-29","2025-10-30","2025-10-31","2025-11-01","2025-11-02","2025-11-03","2025-11-04","2025-11-05","2025-11-06","2025-11-07","2025-11-08","2025-11-09","2025-11-10","2025-11-11","2025-11-12","2025-11-13","2025-11-14","2025-11-15","2025-11-16","2025-11-17","2025-11-18","2025-11-19","2025-11-20","2025-11-21","2025-11-22","2025-11-23","2025-11-24","2025-11-25","2025-11-26","2025-11-27","2025-11-28","2025-11-29","2025-11-30","2025-12-01","2025-12-02","2025-12-03","2025-12-04","2025-12-05","2025-12-06","2025-12-07","2025-12-08","2025-12-09","2025-12-10","2025-12-11","2025-12-12","2025-12-13","2025-12-14","2025-12-15","2025-12-16","2025-12-17","2025-12-18","2025-12-19","2025-12-20","2025-12-21","2025-12-22","2025-12-23","2025-12-24","2025-12-25","2025-12-26","2025-12-27","2025-12-28","2025-12-29","2025-12-30","2025-12-31","2026-01-01","2026-01-02","2026-01-03","2026-01-04","2026-01-05","2026-01-06","2026-01-07","2026-01-08","2026-01-09","2026-01-10","2026-01-11","2026-01-12","2026-01-13","2026-01-14","2026-01-15","2026-01-16","2026-01-17","2026-01-18","2026-01-19","2026-01-20","2026-01-21","2026-01-22","2026-01-23","2026-01-24","2026-01-25","2026-01-26","2026-01-27","2026-01-28","2026-01-29","2026-01-30","2026-01-31","2026-02-01","2026-02-02","2026-02-03","2026-02-04","2026-02-05","2026-02-06","2026-02-07","2026-02-08","2026-02-09","2026-02-10","2026-02-11","2026-02-12","2026-02-13","2026-02-14","2026-02-15","2026-02-16","2026-02-17","2026-02-18","2026-02-19","2026-02-20","2026-02-21","2026-02-22","2026-02-23","2026-02-24","2026-02-25","2026-02-26","2026-02-27","2026-02-28","2026-03-01","2026-03-02","2026-03-03","2026-03-04","2026-03-05","2026-03-06","2026-03-07","2026-03-08","2026-03-09","2026-03-10","2026-03-11","2026-03-12","2026-03-13","2026-03-14","2026-03-15","2026-03-16","2026-03-17","2026-03-18","2026-03-19","2026-03-20","2026-03-21","2026-03-22","2026-03-23","2026-03-24","2026-03-25","2026-03-26","2026-03-27","2026-03-28","2026-03-29","2026-03-30","2026-03-31","2026-04-01","2026-04-02","2026-04-03","2026-04-04","2026-04-05","2026-04-06","2026-04-07","2026-04-08","2026-04-09","2026-04-10","2026-04-11","2026-04-12","2026-04-13","2026-04-14","2026-04-15","2026-04-16","2026-04-17","2026-04-18","2026-04-19","2026-04-20","2026-04-21","2026-04-22","2026-04-23","2026-04-24","2026-04-25","2026-04-26","2026-04-27","2026-04-28","2026-04-29","2026-04-30","2026-05-01","2026-05-02","2026-05-03","2026-05-04","2026-05-05","2026-05-06","2026-05-07","2026-05-08","2026-05-09","2026-05-10","2026-05-11","2026-05-12","2026-05-13","2026-05-14","2026-05-15","2026-05-16","2026-05-17","2026-05-18","2026-05-19","2026-05-20","2026-05-21","2026-05-22","2026-05-23","2026-05-24","2026-05-25","2026-05-26","2026-05-27","2026-05-28","2026-05-29","2026-05-30","2026-05-31","2026-06-01","2026-06-02","2026-06-03","2026-06-04","2026-06-05","2026-06-06","2026-06-07","2026-06-08","2026-06-09","2026-06-10","2026-06-11","2026-06-12","2026-06-13","2026-06-14","2026-06-15","2026-06-16","2026-06-17","2026-06-18","2026-06-19","2026-06-20","2026-06-21","2026-06-22","2026-06-23","2026-06-24","2026-06-25","2026-06-26","2026-06-27","2026-06-28","2026-06-29","2026-06-30","2026-07-01","2026-07-02","2026-07-03","2026-07-04","2026-07-05","2026-07-06","2026-07-07","2026-07-08","2026-07-09","2026-07-10","2026-07-11","2026-07-12","2026-07-13","2026-07-14","2026-07-15","2026-07-16","2026-07-17","2026-07-18","2026-07-19","2026-07-20","2026-07-21","2026-07-22","2026-07-23","2026-07-24","2026-07-25","2026-07-26","2026-07-27","2026-07-28","2026-07-29","2026-07-30","2026-07-31","2026-08-01","2026-08-02","2026-08-03","2026-08-04","2026-08-05","2026-08-06","2026-08-07","2026-08-08","2026-08-09","2026-08-10","2026-08-11","2026-08-12","2026-08-13","2026-08-14","2026-08-15","2026-08-16","2026-08-17","2026-08-18","2026-08-19","2026-08-20","2026-08-21","2026-08-22","2026-08-23","2026-08-24","2026-08-25","2026-08-26","2026-08-27","2026-08-28","2026-08-29","2026-08-30","2026-08-31","2026-09-01","2026-09-02","2026-09-03","2026-09-04","2026-09-05","2026-09-06","2026-09-07","2026-09-08","2026-09-09","2026-09-10","2026-09-11","2026-09-12","2026-09-13","2026-09-14","2026-09-15","2026-09-16","2026-09-17","2026-09-18","2026-09-19","2026-09-20","2026-09-21","2026-09-22","2026-09-23","2026-09-24","2026-09-25","2026-09-26","2026-09-27","2026-09-28","2026-09-29","2026-09-30","2026-10-01","2026-10-02","2026-10-03","2026-10-04","2026-10-05","2026-10-06","2026-10-07","2026-10-08","2026-10-09","2026-10-10","2026-10-11","2026-10-12","2026-10-13","2026-10-14","2026-10-15","2026-10-16","2026-10-17","2026-10-18","2026-10-19","2026-10-20","2026-10-21","2026-10-22","2026-10-23","2026-10-24","2026-10-25","2026-10-26","2026-10-27","2026-10-28","2026-10-29","2026-10-30","2026-10-31","2026-11-01","2026-11-02","2026-11-03","2026-11-04","2026-11-05","2026-11-06","2026-11-07","2026-11-08","2026-11-09","2026-11-10","2026-11-11","2026-11-12","2026-11-13","2026-11-14","2026-11-15","2026-11-16","2026-11-17","2026-11-18","2026-11-19","2026-11-20","2026-11-21","2026-11-22","2026-11-23","2026-11-24","2026-11-25","2026-11-26","2026-11-27","2026-11-28","2026-11-29","2026-11-30","2026-12-01","2026-12-02","2026-12-03","2026-12-04","2026-12-05","2026-12-06","2026-12-07","2026-12-08","2026-12-09","2026-12-10","2026-12-11","2026-12-12","2026-12-13","2026-12-14","2026-12-15","2026-12-16","2026-12-17","2026-12-18","2026-12-19","2026-12-20","2026-12-21","2026-12-22","2026-12-23","2026-12-24","2026-12-25","2026-12-26","2026-12-27","2026-12-28","2026-12-29","2026-12-30","2026-12-31","2027-01-01","2027-01-02","2027-01-03","2027-01-04","2027-01-05","2027-01-06","2027-01-07","2027-01-08","2027-01-09","2027-01-10","2027-01-11","2027-01-12","2027-01-13","2027-01-14","2027-01-15","2027-01-16","2027-01-17","2027-01-18","2027-01-19","2027-01-20","2027-01-21","2027-01-22","2027-01-23","2027-01-24","2027-01-25","2027-01-26","2027-01-27","2027-01-28","2027-01-29","2027-01-30","2027-01-31","2027-02-01","2027-02-02","2027-02-03","2027-02-04","2027-02-05","2027-02-06","2027-02-07","2027-02-08","2027-02-09","2027-02-10","2027-02-11","2027-02-12","2027-02-13","2027-02-14","2027-02-15","2027-02-16","2027-02-17","2027-02-18","2027-02-19","2027-02-20","2027-02-21","2027-02-22","2027-02-23","2027-02-24","2027-02-25","2027-02-26","2027-02-27","2027-02-28","2027-03-01","2027-03-02","2027-03-03","2027-03-04","2027-03-05","2027-03-06","2027-03-07","2027-03-08","2027-03-09","2027-03-10","2027-03-11","2027-03-12","2027-03-13","2027-03-14","2027-03-15","2027-03-16","2027-03-17","2027-03-18","2027-03-19","2027-03-20","2027-03-21","2027-03-22","2027-03-23","2027-03-24","2027-03-25","2027-03-26","2027-03-27","2027-03-28","2027-03-29","2027-03-30","2027-03-31","2027-04-01","2027-04-02","2027-04-03","2027-04-04","2027-04-05","2027-04-06","2027-04-07","2027-04-08","2027-04-09","2027-04-10","2027-04-11","2027-04-12","2027-04-13","2027-04-14","2027-04-15","2027-04-16","2027-04-17","2027-04-18","2027-04-19","2027-04-20","2027-04-21","2027-04-22","2027-04-23","2027-04-24","2027-04-25","2027-04-26","2027-04-27","2027-04-28","2027-04-29","2027-04-30","2027-05-01","2027-05-02","2027-05-03","2027-05-04","2027-05-05","2027-05-06","2027-05-07","2027-05-08","2027-05-09","2027-05-10","2027-05-11","2027-05-12","2027-05-13","2027-05-14","2027-05-15","2027-05-16","2027-05-17","2027-05-18","2027-05-19","2027-05-20","2027-05-21","2027-05-22","2027-05-23","2027-05-24","2027-05-25","2027-05-26","2027-05-27","2027-05-28","2027-05-29","2027-05-30","2027-05-31","2027-06-01","2027-06-02","2027-06-03","2027-06-04","2027-06-05","2027-06-06","2027-06-07","2027-06-08","2027-06-09","2027-06-10","2027-06-11","2027-06-12","2027-06-13","2027-06-14","2027-06-15","2027-06-16","2027-06-17","2027-06-18","2027-06-19","2027-06-20","2027-06-21","2027-06-22","2027-06-23","2027-06-24","2027-06-25","2027-06-26","2027-06-27","2027-06-28","2027-06-29","2027-06-30","2027-07-01","2027-07-02","2027-07-03","2027-07-04","2027-07-05","2027-07-06","2027-07-07","2027-07-08","2027-07-09","2027-07-10","2027-07-11","2027-07-12","2027-07-13","2027-07-14","2027-07-15","2027-07-16","2027-07-17","2027-07-18","2027-07-19","2027-07-20","2027-07-21","2027-07-22","2027-07-23","2027-07-24","2027-07-25","2027-07-26","2027-07-27","2027-07-28","2027-07-29","2027-07-30","2027-07-31","2027-08-01","2027-08-02","2027-08-03","2027-08-04","2027-08-05","2027-08-06","2027-08-07","2027-08-08","2027-08-09","2027-08-10","2027-08-11","2027-08-12","2027-08-13","2027-08-14","2027-08-15","2027-08-16","2027-08-17","2027-08-18","2027-08-19","2027-08-20","2027-08-21","2027-08-22","2027-08-23","2027-08-24","2027-08-25","2027-08-26","2027-08-27","2027-08-28","2027-08-29","2027-08-30","2027-08-31","2027-09-01","2027-09-02","2027-09-03","2027-09-04","2027-09-05","2027-09-06","2027-09-07","2027-09-08","2027-09-09","2027-09-10","2027-09-11","2027-09-12","2027-09-13","2027-09-14","2027-09-15","2027-09-16","2027-09-17","2027-09-18","2027-09-19","2027-09-20","2027-09-21","2027-09-22","2027-09-23","2027-09-24","2027-09-25","2027-09-26","2027-09-27","2027-09-28","2027-09-29","2027-09-30"]
["Medewerker","Tijdstip","2024-01-01","2024-01-02","2024-01-03","2024-01-04","2024-01-05","2024-01-06","2024-01-07","2024-01-08","2024-01-09","2024-01-10","2024-01-11","2024-01-12","2024-01-13","2024-01-14","2024-01-15","2024-01-16","2024-01-17","2024-01-18","2024-01-19","2024-01-20","2024-01-21","2024-01-22","2024-01-23","2024-01-24","2024-01-25","2024-01-26","2024-01-27","2024-01-28","2024-01-29","2024-01-30","2024-01-31","2024-02-01","2024-02-02","2024-02-03","2024-02-04","2024-02-05","2024-02-06","2024-02-07","2024-02-08","2024-02-09","2024-02-10","2024-02-11","2024-02-12","2024-02-13","2024-02-14","2024-02-15","2024-02-16","2024-02-17","2024-02-18","2024-02-19","2024-02-20","2024-02-21","2024-02-22","2024-02-23","2024-02-24","2024-02-25","2024-02-26","2024-02-27","2024-02-28","2024-02-29","2024-03-01","2024-03-02","2024-03-03","2024-03-04","2024-03-05","2024-03-06","2024-03-07","2024-03-08","2024-03-09","2024-03-10","2024-03-11","2024-03-12","2024-03-13","2024-03-14","2024-03-15","2024-03-16","2024-03-17","2024-03-18","2024-03-19","2024-03-20","2024-03-21","2024-03-22","2024-03-23","2024-03-24","2024-03-25","2024-03-26","2024-03-27","2024-03-28","2024-03-29","2024-03-30","2024-03-31","2024-04-01","2024-04-02","2024-04-03","2024-04-04","2024-04-05","2024-04-06","2024-04-07","2024-04-08","2024-04-09","2024-04-10","2024-04-11","2024-04-12","2024-04-13","2024-04-14","2024-04-15","2024-04-16","2024-04-17","2024-04-18","2024-04-19","2024-04-20","2024-04-21","2024-04-22","2024-04-23","2024-04-24","2024-04-25","2024-04-26","2024-04-27","2024-04-28","2024-04-29","2024-04-30","2024-05-01","2024-05-02","2024-05-03","2024-05-04","2024-05-05","2024-05-06","2024-05-07","2024-05-08","2024-05-09","2024-05-10","2024-05-11","2024-05-12","2024-05-13","2024-05-14","2024-05-15","2024-05-16","2024-05-17","2024-05-18","2024-05-19","2024-05-20","2024-05-21","2024-05-22","2024-05-23","2024-05-24","2024-05-25","2024-05-26","2024-05-27","2024-05-28","2024-05-29","2024-05-30","2024-05-31","2024-06-01","2024-06-02","2024-06-03","2024-06-04","2024-06-05","2024-06-06","2024-06-07","2024-06-08","2024-06-09","2024-06-10","2024-06-11","2024-06-12","2024-06-13","2024-06-14","2024-06-15","2024-06-16","2024-06-17","2024-06-18","2024-06-19","2024-06-20","2024-06-21","2024-06-22","2024-06-23","2024-06-24","2024-06-25","2024-06-26","2024-06-27","2024-06-28","2024-06-29","2024-06-30","2024-07-01","2024-07-02","2024-07-03","2024-07-04","2024-07-05","2024-07-06","2024-07-07","2024-07-08","2024-07-09","2024-07-10","2024-07-11","2024-07-12","2024-07-13","2024-07-14","2024-07-15","2024-07-16","2024-07-17","2024-07-18","2024-07-19","2024-07-20","2024-07-21","2024-07-22","2024-07-23","2024-07-24","2024-07-25","2024-07-26","2024-07-27","2024-07-28","2024-07-29","2024-07-30","2024-07-31","2024-08-01","2024-08-02","2024-08-03","2024-08-04","2024-08-05","2024-08-06","2024-08-07","2024-08-08","2024-08-09","2024-08-10","2024-08-11","2024-08-12","2024-08-13","2024-08-14","2024-08-15","2024-08-16","2024-08-17","2024-08-18","2024-08-19","2024-08-20","2024-08-21","2024-08-22","2024-08-23","2024-08-24","2024-08-25","2024-08-26","2024-08-27","2024-08-28","2024-08-29","2024-08-30","2024-08-31","2024-09-01","2024-09-02","2024-09-03","2024-09-04","2024-09-05","2024-09-06","2024-09-07","2024-09-08","2024-09-09","2024-09-10","2024-09-11","2024-09-12","2024-09-13","2024-09-14","2024-09-15","2024-09-16","2024-09-17","2024-09-18","2024-09-19","2024-09-20","2024-09-21","2024-09-22","2024-09-23","2024-09-24","2024-09-25","2024-09-26","2024-09-27","2024-09-28","2024-09-29","2024-09-30","2024-10-01","2024-10-02","2024-10-03","2024-10-04","2024-10-05","2024-10-06","2024-10-07","2024-10-08","2024-10-09","2024-10-10","2024-10-11","2024-10-12","2024-10-13","2024-10-14","2024-10-15","2024-10-16","2024-10-17","2024-10-18","2024-10-19","2024-10-20","2024-10-21","2024-10-22","2024-10-23","2024-10-24","2024-10-25","2024-10-26","2024-10-27","2024-10-28","2024-10-29","2024-10-30","2024-10-31","2024-11-01","2024-11-02","2024-11-03","2024-11-04","2024-11-05","2024-11-06","2024-11-07","2024-11-08","2024-11-09","2024-11-10","2024-11-11","2024-11-12","2024-11-13","2024-11-14","2024-11-15","2024-11-16","2024-11-17","2024-11-18","2024-11-19","2024-11-20","2024-11-21","2024-11-22","2024-11-23","2024-11-24","2024-11-25","2024-11-26","2024-11-27","2024-11-28","2024-11-29","2024-11-30","2024-12-01","2024-12-02","2024-12-03","2024-12-04","2024-12-05","2024-12-06","2024-12-07","2024-12-08","2024-12-09","2024-12-10","2024-12-11","2024-12-12","2024-12-13","2024-12-14","2024-12-15","2024-12-16","2024-12-17","2024-12-18","2024-12-19","2024-12-20","2024-12-21","2024-12-22","2024-12-23","2024-12-24","2024-12-25","2024-12-26","2024-12-27","2024-12-28","2024-12-29","2024-12-30","2024-12-31","2025-01-01","2025-01-02","2025-01-03","2025-01-04","2025-01-05","2025-01-06","2025-01-07","2025-01-08","2025-01-09","2025-01-10","2025-01-11","2025-01-12","2025-01-13","2025-01-14","2025-01-15","2025-01-16","2025-01-17","2025-01-18","2025-01-19","2025-01-20","2025-01-21","2025-01-22","2025-01-23","2025-01-24","2025-01-25","2025-01-26","2025-01-27","2025-01-28","2025-01-29","2025-01-30","2025-01-31","2025-02-01","2025-02-02","2025-02-03","2025-02-04","2025-02-05","2025-02-06","2025-02-07","2025-02-08","2025-02-09","2025-02-10","2025-02-11","2025-02-12","2025-02-13","2025-02-14","2025-02-15","2025-02-16","2025-02-17","2025-02-18","2025-02-19","2025-02-20","2025-02-21","2025-02-22","2025-02-23","2025-02-24","2025-02-25","2025-02-26","2025-02-27","2025-02-28","2025-03-01","2025-03-02","2025-03-03","2025-03-04","2025-03-05","2025-03-06","2025-03-07","2025-03-08","2025-03-09","2025-03-10","2025-03-11","2025-03-12","2025-03-13","2025-03-14","2025-03-15","2025-03-16","2025-03-17","2025-03-18","2025-03-19","2025-03-20","2025-03-21","2025-03-22","2025-03-23","2025-03-24","2025-03-25","2025-03-26","2025-03-27","2025-03-28","2025-03-29","2025-03-30","2025-03-31","2025-04-01","2025-04-02","2025-04-03","2025-04-04","2025-04-05","2025-04-06","2025-04-07","2025-04-08","2025-04-09","2025-04-10","2025-04-11","2025-04-12","2025-04-13","2025-04-14","2025-04-15","2025-04-16","2025-04-17","2025-04-18","2025-04-19","2025-04-20","2025-04-21","2025-04-22","2025-04-23","2025-04-24","2025-04-25","2025-04-26","2025-04-27","2025-04-28","2025-04-29","2025-04-30","2025-05-01","2025-05-02","2025-05-03","2025-05-04","2025-05-05","2025-05-06","2025-05-07","2025-05-08","2025-05-09","2025-05-10","2025-05-11","2025-05-12","2025-05-13","2025-05-14","2025-05-15","2025-05-16","2025-05-17","2025-05-18","2025-05-19","2025-05-20","2025-05-21","2025-05-22","2025-05-23","2025-05-24","2025-05-25","2025-05-26","2025-05-27","2025-05-28","2025-05-29","2025-05-30","2025-05-31","2025-06-01","2025-06-02","2025-06-03","2025-06-04","2025-06-05","2025-06-06","2025-06-07","2025-06-08","2025-06-09","2025-06-10","2025-06-11","2025-06-12","2025-06-13","2025-06-14","2025-06-15","2025-06-16","2025-06-17","2025-06-18","2025-06-19","2025-06-20","2025-06-21","2025-06-22","2025-06-23","2025-06-24","2025-06-25","2025-06-26","2025-06-27","2025-06-28","2025-06-29","2025-06-30","2025-07-01","2025-07-02","2025-07-03","2025-07-04","2025-07-05","2025-07-06","2025-07-07","2025-07-08","2025-07-09","2025-07-10","2025-07-11","2025-07-12","2025-07-13","2025-07-14","2025-07-15","2025-07-16","2025-07-17","2025-07-18","2025-07-19","2025-07-20","2025-07-21","2025-07-22","2025-07-23","2025-07-24","2025-07-25","2025-07-26","2025-07-27","2025-07-28","2025-07-29","2025-07-30","2025-07-31","2025-08-01","2025-08-02","2025-08-03","2025-08-04","2025-08-05","2025-08-06","2025-08-07","2025-08-08","2025-08-09","2025-08-10","2025-08-11","2025-08-12","2025-08-13","2025-08-14","2025-08-15","2025-08-16","2025-08-17","2025-08-18","2025-08-19","2025-08-20","2025-08-21","2025-08-22","2025-08-23","2025-08-24","2025-08-25","2025-08-26","2025-08-27","2025-08-28","2025-08-29","2025-08-30","2025-08-31","2025-09-01","2025-09-02","2025-09-03","2025-09-04","2025-09-05","2025-09-06","2025-09-07","2025-09-08","2025-09-09","2025-09-10","2025-09-11","2025-09-12","2025-09-13","2025-09-14","2025-09-15","2025-09-16","2025-09-17","2025-09-18","2025-09-19","2025-09-20","2025-09-21","2025-09-22","2025-09-23","2025-09-24","2025-09-25","2025-09-26","2025-09-27","2025-09-28","2025-09-29","2025-09-30","2025-10-01","2025-10-02","2025-10-03","2025-10-04","2025-10-05","2025-10-06","2025-10-07","2025-10-08","2025-10-09","2025-10-10","2025-10-11","2025-10-12","2025-10-13","2025-10-14","2025-10-15","2025-10-16","2025-10-17","2025-10-18","2025-10-19","2025-10-20","2025-10-21","2025-10-22","2025-10-23","2025-10-24","2025-10-25","2025-10-26","2025-10-27","2025-10-28","2025-10-29","2025-10-30","2025-10-31","2025-11-01","2025-11-02","2025-11-03","2025-11-04","2025-11-05","2025-11-06","2025-11-07","2025-11-08","2025-11-09","2025-11-10","2025-11-11","2025-11-12","2025-11-13","2025-11-14","2025-11-15","2025-11-16","2025-11-17","2025-11-18","2025-11-19","2025-11-20","2025-11-21","2025-11-22","2025-11-23","2025-11-24","2025-11-25","2025-11-26","2025-11-27","2025-11-28","2025-11-29","2025-11-30","2025-12-01","2025-12-02","2025-12-03","2025-12-04","2025-12-05","2025-12-06","2025-12-07","2025-12-08","2025-12-09","2025-12-10","2025-12-11","2025-12-12","2025-12-13","2025-12-14","2025-12-15","2025-12-16","2025-12-17","2025-12-18","2025-12-19","2025-12-20","2025-12-21","2025-12-22","2025-12-23","2025-12-24","2025-12-25","2025-12-26","2025-12-27","2025-12-28","2025-12-29","2025-12-30","2025-12-31","2026-01-01","2026-01-02","2026-01-03","2026-01-04","2026-01-05","2026-01-06","2026-01-07","2026-01-08","2026-01-09","2026-01-10","2026-01-11","2026-01-12","2026-01-13","2026-01-14","2026-01-15","2026-01-16","2026-01-17","2026-01-18","2026-01-19","2026-01-20","2026-01-21","2026-01-22","2026-01-23","2026-01-24","2026-01-25","2026-01-26","2026-01-27","2026-01-28","2026-01-29","2026-01-30","2026-01-31","2026-02-01","2026-02-02","2026-02-03","2026-02-04","2026-02-05","2026-02-06","2026-02-07","2026-02-08","2026-02-09","2026-02-10","2026-02-11","2026-02-12","2026-02-13","2026-02-14","2026-02-15","2026-02-16","2026-02-17","2026-02-18","2026-02-19","2026-02-20","2026-02-21","2026-02-22","2026-02-23","2026-02-24","2026-02-25","2026-02-26","2026-02-27","2026-02-28","2026-03-01","2026-03-02","2026-03-03","2026-03-04","2026-03-05","2026-03-06","2026-03-07","2026-03-08","2026-03-09","2026-03-10","2026-03-11","2026-03-12","2026-03-13","2026-03-14","2026-03-15","2026-03-16","2026-03-17","2026-03-18","2026-03-19","2026-03-20","2026-03-21","2026-03-22","2026-03-23","2026-03-24","2026-03-25","2026-03-26","2026-03-27","2026-03-28","2026-03-29","2026-03-30","2026-03-31","2026-04-01","2026-04-02","2026-04-03","2026-04-04","2026-04-05","2026-04-06","2026-04-07","2026-04-08","2026-04-09","2026-04-10","2026-04-11","2026-04-12","2026-04-13","2026-04-14","2026-04-15","2026-04-16","2026-04-17","2026-04-18","2026-04-19","2026-04-20","2026-04-21","2026-04-22","2026-04-23","2026-04-24","2026-04-25","2026-04-26","2026-04-27","2026-04-28","2026-04-29","2026-04-30","2026-05-01","2026-05-02","2026-05-03","2026-05-04","2026-05-05","2026-05-06","2026-05-07","2026-05-08","2026-05-09","2026-05-10","2026-05-11","2026-05-12","2026-05-13","2026-05-14","2026-05-15","2026-05-16","2026-05-17","2026-05-18","2026-05-19","2026-05-20","2026-05-21","2026-05-22","2026-05-23","2026-05-24","2026-05-25","2026-05-26","2026-05-27","2026-05-28","2026-05-29","2026-05-30","2026-05-31","2026-06-01","2026-06-02","2026-06-03","2026-06-04","2026-06-05","2026-06-06","2026-06-07","2026-06-08","2026-06-09","2026-06-10","2026-06-11","2026-06-12","2026-06-13","2026-06-14","2026-06-15","2026-06-16","2026-06-17","2026-06-18","2026-06-19","2026-06-20","2026-06-21","2026-06-22","2026-06-23","2026-06-24","2026-06-25","2026-06-26","2026-06-27","2026-06-28","2026-06-29","2026-06-30","2026-07-01","2026-07-02","2026-07-03","2026-07-04","2026-07-05","2026-07-06","2026-07-07","2026-07-08","2026-07-09","2026-07-10","2026-07-11","2026-07-12","2026-07-13","2026-07-14","2026-07-15","2026-07-16","2026-07-17","2026-07-18","2026-07-19","2026-07-20","2026-07-21","2026-07-22","2026-07-23","2026-07-24","2026-07-25","2026-07-26","2026-07-27","2026-07-28","2026-07-29","2026-07-30","2026-07-31","2026-08-01","2026-08-02","2026-08-03","2026-08-04","2026-08-05","2026-08-06","2026-08-07","2026-08-08","2026-08-09","2026-08-10","2026-08-11","2026-08-12","2026-08-13","2026-08-14","2026-08-15","2026-08-16","2026-08-17","2026-08-18","2026-08-19","2026-08-20","2026-08-21","2026-08-22","2026-08-23","2026-08-24","2026-08-25","2026-08-26","2026-08-27","2026-08-28","2026-08-29","2026-08-30","2026-08-31","2026-09-01","2026-09-02","2026-09-03","2026-09-04","2026-09-05","2026-09-06","2026-09-07","2026-09-08","2026-09-09","2026-09-10","2026-09-11","2026-09-12","2026-09-13","2026-09-14","2026-09-15","2026-09-16","2026-09-17","2026-09-18","2026-09-19","2026-09-20","2026-09-21","2026-09-22","2026-09-23","2026-09-24","2026-09-25","2026-09-26","2026-09-27","2026-09-28","2026-09-29","2026-09-30","2026-10-01","2026-10-02","2026-10-03","2026-10-04","2026-10-05","2026-10-06","2026-10-07","2026-10-08","2026-10-09","2026-10-10","2026-10-11","2026-10-12","2026-10-13","2026-10-14","2026-10-15","2026-10-16","2026-10-17","2026-10-18","2026-10-19","2026-10-20","2026-10-21","2026-10-22","2026-10-23","2026-10-24","2026-10-25","2026-10-26","2026-10-27","2026-10-28","2026-10-29","2026-10-30","2026-10-31","2026-11-01","2026-11-02","2026-11-03","2026-11-04","2026-11-05","2026-11-06","2026-11-07","2026-11-08","2026-11-09","2026-11-10","2026-11-11","2026-11-12","2026-11-13","2026-11-14","2026-11-15","2026-11-16","2026-11-17","2026-11-18","2026-11-19","2026-11-20","2026-11-21","2026-11-22","2026-11-23","2026-11-24","2026-11-25","2026-11-26","2026-11-27","2026-11-28","2026-11-29","2026-11-30","2026-12-01","2026-12-02","2026-12-03","2026-12-04","2026-12-05","2026-12-06","2026-12-07","2026-12-08","2026-12-09","2026-12-10","2026-12-11","2026-12-12","2026-12-13","2026-12-14","2026-12-15","2026-12-16","2026-12-17","2026-12-18","2026-12-19","2026-12-20","2026-12-21","2026-12-22","2026-12-23","2026-12-24","2026-12-25","2026-12-26","2026-12-27","2026-12-28","2026-12-29","2026-12-30","2026-12-31","2027-01-01","2027-01-02","2027-01-03","2027-01-04","2027-01-05","2027-01-06","2027-01-07","2027-01-08","2027-01-09","2027-01-10","2027-01-11","2027-01-12","2027-01-13","2027-01-14","2027-01-15","2027-01-16","2027-01-17","2027-01-18","2027-01-19","2027-01-20","2027-01-21","2027-01-22","2027-01-23","2027-01-24","2027-01-25","2027-01-26","2027-01-27","2027-01-28","2027-01-29","2027-01-30","2027-01-31","2027-02-01","2027-02-02","2027-02-03","2027-02-04","2027-02-05","2027-02-06","2027-02-07","2027-02-08","2027-02-09","2027-02-10","2027-02-11","2027-02-12","2027-02-13","2027-02-14","2027-02-15","2027-02-16","2027-02-17","2027-02-18","2027-02-19","2027-02-20","2027-02-21","2027-02-22","2027-02-23","2027-02-24","2027-02-25","2027-02-26","2027-02-27","2027-02-28","2027-03-01","2027-03-02","2027-03-03","2027-03-04","2027-03-05","2027-03-06","2027-03-07","2027-03-08","2027-03-09","2027-03-10","2027-03-11","2027-03-12","2027-03-13","2027-03-14","2027-03-15","2027-03-16","2027-03-17","2027-03-18","2027-03-19","2027-03-20","2027-03-21","2027-03-22","2027-03-23","2027-03-24","2027-03-25","2027-03-26","2027-03-27","2027-03-28","2027-03-29","2027-03-30","2027-03-31","2027-04-01","2027-04-02","2027-04-03","2027-04-04","2027-04-05","2027-04-06","2027-04-07","2027-04-08","2027-04-09","2027-04-10","2027-04-11","2027-04-12","2027-04-13","2027-04-14","2027-04-15","2027-04-16","2027-04-17","2027-04-18","2027-04-19","2027-04-20","2027-04-21","2027-04-22","2027-04-23","2027-04-24","2027-04-25","2027-04-26","2027-04-27","2027-04-28","2027-04-29","2027-04-30","2027-05-01","2027-05-02","2027-05-03","2027-05-04","2027-05-05","2027-05-06","2027-05-07","2027-05-08","2027-05-09","2027-05-10","2027-05-11","2027-05-12","2027-05-13","2027-05-14","2027-05-15","2027-05-16","2027-05-17","2027-05-18","2027-05-19","2027-05-20","2027-05-21","2027-05-22","2027-05-23","2027-05-24","2027-05-25","2027-05-26","2027-05-27","2027-05-28","2027-05-29","2027-05-30","2027-05-31","2027-06-01","2027-06-02","2027-06-03","2027-06-04","2027-06-05","2027-06-06","2027-06-07","2027-06-08","2027-06-09","2027-06-10","2027-06-11","2027-06-12","2027-06-13","2027-06-14","2027-06-15","2027-06-16","2027-06-17","2027-06-18","2027-06-19","2027-06-20","2027-06-21","2027-06-22","2027-06-23","2027-06-24","2027-06-25","2027-06-26","2027-06-27","2027-06-28","2027-06-29","2027-06-30","2027-07-01","2027-07-02","2027-07-03","2027-07-04","2027-07-05","2027-07-06","2027-07-07","2027-07-08","2027-07-09","2027-07-10","2027-07-11","2027-07-12","2027-07-13","2027-07-14","2027-07-15","2027-07-16","2027-07-17","2027-07-18","2027-07-19","2027-07-20","2027-07-21","2027-07-22","2027-07-23","2027-07-24","2027-07-25","2027-07-26","2027-07-27","2027-07-28","2027-07-29","2027-07-30","2027-07-31","2027-08-01","2027-08-02","2027-08-03","2027-08-04","2027-08-05","2027-08-06","2027-08-07","2027-08-08","2027-08-09","2027-08-10","2027-08-11","2027-08-12","2027-08-13","2027-08-14","2027-08-15","2027-08-16","2027-08-17","2027-08-18","2027-08-19","2027-08-20","2027-08-21","2027-08-22","2027-08-23","2027-08-24","2027-08-25","2027-08-26","2027-08-27","2027-08-28","2027-08-29","2027-08-30","2027-08-31","2027-09-01","2027-09-02","2027-09-03","2027-09-04","2027-09-05","2027-09-06","2027-09-07","2027-09-08","2027-09-09","2027-09-10","2027-09-11","2027-09-12","2027-09-13","2027-09-14","2027-09-15","2027-09-16","2027-09-17","2027-09-18","2027-09-19","2027-09-20","2027-09-21","2027-09-22","2027-09-23","2027-09-24","2027-09-25","2027-09-26","2027-09-27","2027-09-28","2027-09-29","2027-09-30"]

{"sheet":"Leerlingen","index":2,"n_rows":2,"n_cols":8,"rows_kept":2,"cut":false,"hidden":false,"merged":[]}
[]
[null,"Naam klant","Startdatum","Adres","Postcode","Woonplaats","E-mail","Contractsoort"]

{"sheet":"Instellingen","index":3,"n_rows":16,"n_cols":12,"rows_kept":16,"cut":false,"hidden":false,"merged":[]}
[]
[null,"Medewerkers",null,"Tijdstippen",null,"Contractsoort","Aantal uur per week","Euro",null,"Aantal van dit contract","Euro per maand"]
[null,null,null,null,null,null,null,null,null,{"$f":"IF(F3=\"\",\"\",COUNTIFS(Leerlingen!H3:H100,F3))","v":""},{"$f":"IF(F3=\"\",\"\",J3*H3)","v":""},2024]
[null,null,null,null,null,null,null,null,null,{"$f":"IF(F4=\"\",\"\",COUNTIFS(Leerlingen!H4:H101,F4))","v":""},{"$f":"IF(F4=\"\",\"\",J4*H4)","v":""},2025]
[null,null,null,null,null,null,null,null,null,{"$f":"IF(F5=\"\",\"\",COUNTIFS(Leerlingen!H5:H102,F5))","v":""},"",2026]
[null,null,null,null,null,null,null,null,null,{"$f":"IF(F6=\"\",\"\",COUNTIFS(Leerlingen!H6:H103,F6))","v":""},"",2027]
[null,null,null,null,null,null,null,null,null,{"$f":"IF(F7=\"\",\"\",COUNTIFS(Leerlingen!H7:H104,F7))","v":""},""]
[null,null,null,null,null,null,null,null,null,{"$f":"IF(F8=\"\",\"\",COUNTIFS(Leerlingen!H8:H105,F8))","v":""},""]
[null,null,null,null,null,null,null,null,null,{"$f":"IF(F9=\"\",\"\",COUNTIFS(Leerlingen!H9:H106,F9))","v":""},""]
[null,null,null,null,null,null,null,null,null,{"$f":"IF(F10=\"\",\"\",COUNTIFS(Leerlingen!H10:H107,F10))","v":""},""]
[null,null,null,null,null,null,null,null,null,{"$f":"IF(F11=\"\",\"\",COUNTIFS(Leerlingen!H11:H108,F11))","v":""},""]
[null,null,null,null,null,null,null,null,null,{"$f":"IF(F12=\"\",\"\",COUNTIFS(Leerlingen!H12:H109,F12))","v":""},""]
[null,null,null,null,null,null,null,null,null,{"$f":"IF(F13=\"\",\"\",COUNTIFS(Leerlingen!H13:H110,F13))","v":""},""]
[null,null,null,null,null,null,null,null,null,{"$f":"IF(F14=\"\",\"\",COUNTIFS(Leerlingen!H14:H111,F14))","v":""},""]
[null,null,null,null,null,null,null,null,null,{"$f":"IF(F15=\"\",\"\",COUNTIFS(Leerlingen!H15:H112,F15))","v":""},""]
[null,null,null,null,null,null,null,null,"Totaal:",{"$f":"SUM(J3:J15)","v":0},{"$f":"SUM(K3:K15)","v":0}]

{"sheet":"Tellingen","index":4,"n_rows":100,"n_cols":46,"rows_kept":100,"cut":false,"hidden":false,"merged":[]}
["Aantal uur ingepland per maand"]
["Jaar:"]
[2024]
["Klant","2021-10-01","2021-11-01","2021-12-01","2022-01-01","2022-02-01","2022-03-01","2022-04-01","2022-05-01","2022-06-01","2022-07-01","2022-08-01","2022-09-01","2022-10-01","2022-11-01","2022-12-01","2023-01-01","2023-02-01","2023-03-01","2023-04-01","2023-05-01","2023-06-01","2023-07-01","2023-08-01","2023-09-01","2023-10-01","2023-11-01","2023-12-01","2024-01-01","2024-02-01","2024-03-01","2024-04-01","2024-05-01","2024-06-01","2024-07-01","2024-08-01","2024-09-01","2024-10-01","2024-11-01","2024-12-01","2025-01-01","2025-02-01","2025-03-01","2025-04-01","2025-05-01","2025-06-01"]
[{"$f":"IF(LEN(Leerlingen!B3)>0,Leerlingen!B3,\"\")","v":""},{"$f":"IF(A5=\"\",\"\",COUNTIFS(Planning!$C$6:$AG$200,A5))","v":""},{"$f":"IF(A5=\"\",\"\",COUNTIFS(Planning!$AH$6:$BK$200,A5))","v":""},{"$f":"IF(A5=\"\",\"\",COUNTIFS(Planning!$BL$6:$CP$200,A5))","v":""},{"$f":"IF(A5=\"\",\"\",COUNTIFS(Planning!$CQ$6:$DU$200,A5))","v":""},{"$f":"IF(A5=\"\",\"\",COUNTIFS(Planning!$DV$6:$EW$200,A5))","v":""},{"$f":"IF(A5=\"\",\"\",COUNTIFS(Planning!$EX$6:$GB$200,A5))","v":""},{"$f":"IF(A5=\"\",\"\",COUNTIFS(Planning!$GC$6:$HF$200,A5))","v":""},{"$f":"IF(A5=\"\",\"\",COUNTIFS(Planning!$HG$6:$IK$200,A5))","v":""},{"$f":"IF(A5=\"\",\"\",COUNTIFS(Planning!$IL$6:$JO$200,A5))","v":""},{"$f":"IF(A5=\"\",\"\",COUNTIFS(Planning!$JP$6:$KT$200,A5))","v":""},{"$f":"IF(A5=\"\",\"\",COUNTIFS(Planning!$KU$6:$LY$200,A5))","v":""},{"$f":"IF(A5=\"\",\"\",COUNTIFS(Planning!$LZ$6:$NC$200,A5))","v":""},{"$f":"IF(A5=\"\",\"\",COUNTIFS(Planning!$ND$6:$OH$200,A5))","v":""},{"$f":"IF(A5=\"\",\"\",COUNTIFS(Planning!$OI$6:$PL$200,A5))","v":""},{"$f":"IF(A5=\"\",\"\",COUNTIFS(Planning!$PM$6:$QQ$200,A5))","v":""},{"$f":"IF(A5=\"\",\"\",COUNTIFS(Planning!$QR$6:$RV$200,A5))","v":""},{"$f":"IF(A5=\"\",\"\",COUNTIFS(Planning!$RW$6:$SX$200,A5))","v":""},{"$f":"IF(A5=\"\",\"\",COUNTIFS(Planning!$SY$6:$UC$200,A5))","v":""},{"$f":"IF(A5=\"\",\"\",COUNTIFS(Planning!$UD$6:$VG$200,A5))","v":""},{"$f":"IF(A5=\"\",\"\",COUNTIFS(Planning!$VH$6:$WL$200,A5))","v":""},{"$f":"IF(A5=\"\",\"\",COUNTIFS(Planning!$WM$6:$XP$200,A5))","v":""},{"$f":"IF(A5=\"\",\"\",COUNTIFS(Planning!$XQ$6:$YU$200,A5))","v":""},{"$f":"IF(A5=\"\",\"\",COUNTIFS(Planning!$YV$6:$ZZ$200,A5))","v":""},{"$f":"IF(A5=\"\",\"\",COUNTIFS(Planning!$AAA$6:$ABD$200,A5))","v":""},{"$f":"IF(A5=\"\",\"\",COUNTIFS(Planning!$ABE$6:$ACI$200,A5))","v":""},{"$f":"IF(A5=\"\",\"\",COUNTIFS(Planning!$ACJ$6:$ADM$200,A5))","v":""},{"$f":"IF(A5=\"\",\"\",COUNTIFS(Planning!$ADN$6:$AER$200,A5))","v":""},{"$f":"IF(A5=\"\",\"\",COUNTIFS(Planning!$AES$6:$AFW$200,A5))","v":""},{"$f":"IF(A5=\"\",\"\",COUNTIFS(Planning!$AFX$6:$AGZ$200,A5))","v":""},{"$f":"IF(A5=\"\",\"\",COUNTIFS(Planning!$AHA$6:$AIE$200,A5))","v":""},{"$f":"IF(A5=\"\",\"\",COUNTIFS(Planning!$AIF$6:$AJI$200,A5))","v":""},{"$f":"IF(A5=\"\",\"\",COUNTIFS(Planning!$AJJ$6:$AKN$200,A5))","v":""},{"$f":"IF(A5=\"\",\"\",COUNTIFS(Planning!$AKO$6:$ALR$200,A5))","v":""},{"$f":"IF(A5=\"\",\"\",COUNTIFS(Planning!$ALS$6:$AMW$200,A5))","v":""},{"$f":"IF(A5=\"\",\"\",COUNTIFS(Planning!$AMX$6:$AOB$200,A5))","v":""},{"$f":"IF(A5=\"\",\"\",COUNTIFS(Planning!$AOC$6:$APF$200,A5))","v":""},{"$f":"IF(A5=\"\",\"\",COUNTIFS(Planning!$APG$6:$AQK$200,A5))","v":""},{"$f":"IF(A5=\"\",\"\",COUNTIFS(Planning!$AQL$6:$ARO$200,A5))","v":""},{"$f":"IF(A5=\"\",\"\",COUNTIFS(Planning!$ARP$6:$AST$200,A5))","v":""},{"$f":"IF(A5=\"\",\"\",COUNTIFS(Planning!$ASU$6:$ATY$200,A5))","v":""},{"$f":"IF(A5=\"\",\"\",COUNTIFS(Planning!$ATZ$6:$AVA$200,A5))","v":""},{"$f":"IF(A5=\"\",\"\",COUNTIFS(Planning!$AVB$6:$AWF$200,A5))","v":""},{"$f":"IF(A5=\"\",\"\",COUNTIFS(Planning!$AWG$6:$AXJ$200,A5))","v":""},{"$f":"IF(A5=\"\",\"\",COUNTIFS(Planning!$AXK$6:$AYO$200,A5))","v":""},{"$f":"IF(A5=\"\",\"\",COUNTIFS(Planning!$AYP$6:$AZS$200,A5))","v":""}]
[{"$f":"IF(LEN(Leerlingen!B4)>0,Leerlingen!B4,\"\")","v":""},{"$f":"IF(A6=\"\",\"\",COUNTIFS(Planning!$C$6:$AG$200,A6))","v":""},{"$f":"IF(A6=\"\",\"\",COUNTIFS(Planning!$AH$6:$BK$200,A6))","v":""},{"$f":"IF(A6=\"\",\"\",COUNTIFS(Planning!$BL$6:$CP$200,A6))","v":""},{"$f":"IF(A6=\"\",\"\",COUNTIFS(Planning!$CQ$6:$DU$200,A6))","v":""},{"$f":"IF(A6=\"\",\"\",COUNTIFS(Planning!$DV$6:$EW$200,A6))","v":""},{"$f":"IF(A6=\"\",\"\",COUNTIFS(Planning!$EX$6:$GB$200,A6))","v":""},{"$f":"IF(A6=\"\",\"\",COUNTIFS(Planning!$GC$6:$HF$200,A6))","v":""},{"$f":"IF(A6=\"\",\"\",COUNTIFS(Planning!$HG$6:$IK$200,A6))","v":""},{"$f":"IF(A6=\"\",\"\",COUNTIFS(Planning!$IL$6:$JO$200,A6))","v":""},{"$f":"IF(A6=\"\",\"\",COUNTIFS(Planning!$JP$6:$KT$200,A6))","v":""},{"$f":"IF(A6=\"\",\"\",COUNTIFS(Planning!$KU$6:$LY$200,A6))","v":""},{"$f":"IF(A6=\"\",\"\",COUNTIFS(Planning!$LZ$6:$NC$200,A6))","v":""},{"$f":"IF(A6=\"\",\"\",COUNTIFS(Planning!$ND$6:$OH$200,A6))","v":""},{"$f":"IF(A6=\"\",\"\",COUNTIFS(Planning!$OI$6:$PL$200,A6))","v":""},{"$f":"IF(A6=\"\",\"\",COUNTIFS(Planning!$PM$6:$QQ$200,A6))","v":""},{"$f":"IF(A6=\"\",\"\",COUNTIFS(Planning!$QR$6:$RV$200,A6))","v":""},{"$f":"IF(A6=\"\",\"\",COUNTIFS(Planning!$RW$6:$SX$200,A6))","v":""},{"$f":"IF(A6=\"\",\"\",COUNTIFS(Planning!$SY$6:$UC$200,A6))","v":""},{"$f":"IF(A6=\"\",\"\",COUNTIFS(Planning!$UD$6:$VG$200,A6))","v":""},{"$f":"IF(A6=\"\",\"\",COUNTIFS(Planning!$VH$6:$WL$200,A6))","v":""},{"$f":"IF(A6=\"\",\"\",COUNTIFS(Planning!$WM$6:$XP$200,A6))","v":""},{"$f":"IF(A6=\"\",\"\",COUNTIFS(Planning!$XQ$6:$YU$200,A6))","v":""},{"$f":"IF(A6=\"\",\"\",COUNTIFS(Planning!$YV$6:$ZZ$200,A6))","v":""},{"$f":"IF(A6=\"\",\"\",COUNTIFS(Planning!$AAA$6:$ABD$200,A6))","v":""},{"$f":"IF(A6=\"\",\"\",COUNTIFS(Planning!$ABE$6:$ACI$200,A6))","v":""},{"$f":"IF(A6=\"\",\"\",COUNTIFS(Planning!$ACJ$6:$ADM$200,A6))","v":""},{"$f":"IF(A6=\"\",\"\",COUNTIFS(Planning!$ADN$6:$AER$200,A6))","v":""},{"$f":"IF(A6=\"\",\"\",COUNTIFS(Planning!$AES$6:$AFW$200,A6))","v":""},{"$f":"IF(A6=\"\",\"\",COUNTIFS(Planning!$AFX$6:$AGZ$200,A6))","v":""},{"$f":"IF(A6=\"\",\"\",COUNTIFS(Planning!$AHA$6:$AIE$200,A6))","v":""},{"$f":"IF(A6=\"\",\"\",COUNTIFS(Planning!$AIF$6:$AJI$200,A6))","v":""},{"$f":"IF(A6=\"\",\"\",COUNTIFS(Planning!$AJJ$6:$AKN$200,A6))","v":""},{"$f":"IF(A6=\"\",\"\",COUNTIFS(Planning!$AKO$6:$ALR$200,A6))","v":""},{"$f":"IF(A6=\"\",\"\",COUNTIFS(Planning!$ALS$6:$AMW$200,A6))","v":""},{"$f":"IF(A6=\"\",\"\",COUNTIFS(Planning!$AMX$6:$AOB$200,A6))","v":""},{"$f":"IF(A6=\"\",\"\",COUNTIFS(Planning!$AOC$6:$APF$200,A6))","v":""},{"$f":"IF(A6=\"\",\"\",COUNTIFS(Planning!$APG$6:$AQK$200,A6))","v":""},{"$f":"IF(A6=\"\",\"\",COUNTIFS(Planning!$AQL$6:$ARO$200,A6))","v":""},{"$f":"IF(A6=\"\",\"\",COUNTIFS(Planning!$ARP$6:$AST$200,A6))","v":""},{"$f":"IF(A6=\"\",\"\",COUNTIFS(Planning!$ASU$6:$ATY$200,A6))","v":""},{"$f":"IF(A6=\"\",\"\",COUNTIFS(Planning!$ATZ$6:$AVA$200,A6))","v":""},{"$f":"IF(A6=\"\",\"\",COUNTIFS(Planning!$AVB$6:$AWF$200,A6))","v":""},{"$f":"IF(A6=\"\",\"\",COUNTIFS(Planning!$AWG$6:$AXJ$200,A6))","v":""},{"$f":"IF(A6=\"\",\"\",COUNTIFS(Planning!$AXK$6:$AYO$200,A6))","v":""},{"$f":"IF(A6=\"\",\"\",COUNTIFS(Planning!$AYP$6:$AZS$200,A6))","v":""}]
[{"$f":"IF(LEN(Leerlingen!B5)>0,Leerlingen!B5,\"\")","v":""},{"$f":"IF(A7=\"\",\"\",COUNTIFS(Planning!$C$6:$AG$200,A7))","v":""},{"$f":"IF(A7=\"\",\"\",COUNTIFS(Planning!$AH$6:$BK$200,A7))","v":""},{"$f":"IF(A7=\"\",\"\",COUNTIFS(Planning!$BL$6:$CP$200,A7))","v":""},{"$f":"IF(A7=\"\",\"\",COUNTIFS(Planning!$CQ$6:$DU$200,A7))","v":""},{"$f":"IF(A7=\"\",\"\",COUNTIFS(Planning!$DV$6:$EW$200,A7))","v":""},{"$f":"IF(A7=\"\",\"\",COUNTIFS(Planning!$EX$6:$GB$200,A7))","v":""},{"$f":"IF(A7=\"\",\"\",COUNTIFS(Planning!$GC$6:$HF$200,A7))","v":""},{"$f":"IF(A7=\"\",\"\",COUNTIFS(Planning!$HG$6:$IK$200,A7))","v":""},{"$f":"IF(A7=\"\",\"\",COUNTIFS(Planning!$IL$6:$JO$200,A7))","v":""},{"$f":"IF(A7=\"\",\"\",COUNTIFS(Planning!$JP$6:$KT$200,A7))","v":""},{"$f":"IF(A7=\"\",\"\",COUNTIFS(Planning!$KU$6:$LY$200,A7))","v":""},{"$f":"IF(A7=\"\",\"\",COUNTIFS(Planning!$LZ$6:$NC$200,A7))","v":""},{"$f":"IF(A7=\"\",\"\",COUNTIFS(Planning!$ND$6:$OH$200,A7))","v":""},{"$f":"IF(A7=\"\",\"\",COUNTIFS(Planning!$OI$6:$PL$200,A7))","v":""},{"$f":"IF(A7=\"\",\"\",COUNTIFS(Planning!$PM$6:$QQ$200,A7))","v":""},{"$f":"IF(A7=\"\",\"\",COUNTIFS(Planning!$QR$6:$RV$200,A7))","v":""},{"$f":"IF(A7=\"\",\"\",COUNTIFS(Planning!$RW$6:$SX$200,A7))","v":""},{"$f":"IF(A7=\"\",\"\",COUNTIFS(Planning!$SY$6:$UC$200,A7))","v":""},{"$f":"IF(A7=\"\",\"\",COUNTIFS(Planning!$UD$6:$VG$200,A7))","v":""},{"$f":"IF(A7=\"\",\"\",COUNTIFS(Planning!$VH$6:$WL$200,A7))","v":""},{"$f":"IF(A7=\"\",\"\",COUNTIFS(Planning!$WM$6:$XP$200,A7))","v":""},{"$f":"IF(A7=\"\",\"\",COUNTIFS(Planning!$XQ$6:$YU$200,A7))","v":""},{"$f":"IF(A7=\"\",\"\",COUNTIFS(Planning!$YV$6:$ZZ$200,A7))","v":""},{"$f":"IF(A7=\"\",\"\",COUNTIFS(Planning!$AAA$6:$ABD$200,A7))","v":""},{"$f":"IF(A7=\"\",\"\",COUNTIFS(Planning!$ABE$6:$ACI$200,A7))","v":""},{"$f":"IF(A7=\"\",\"\",COUNTIFS(Planning!$ACJ$6:$ADM$200,A7))","v":""},{"$f":"IF(A7=\"\",\"\",COUNTIFS(Planning!$ADN$6:$AER$200,A7))","v":""},{"$f":"IF(A7=\"\",\"\",COUNTIFS(Planning!$AES$6:$AFW$200,A7))","v":""},{"$f":"IF(A7=\"\",\"\",COUNTIFS(Planning!$AFX$6:$AGZ$200,A7))","v":""},{"$f":"IF(A7=\"\",\"\",COUNTIFS(Planning!$AHA$6:$AIE$200,A7))","v":""},{"$f":"IF(A7=\"\",\"\",COUNTIFS(Planning!$AIF$6:$AJI$200,A7))","v":""},{"$f":"IF(A7=\"\",\"\",COUNTIFS(Planning!$AJJ$6:$AKN$200,A7))","v":""},{"$f":"IF(A7=\"\",\"\",COUNTIFS(Planning!$AKO$6:$ALR$200,A7))","v":""},{"$f":"IF(A7=\"\",\"\",COUNTIFS(Planning!$ALS$6:$AMW$200,A7))","v":""},{"$f":"IF(A7=\"\",\"\",COUNTIFS(Planning!$AMX$6:$AOB$200,A7))","v":""},{"$f":"IF(A7=\"\",\"\",COUNTIFS(Planning!$AOC$6:$APF$200,A7))","v":""},{"$f":"IF(A7=\"\",\"\",COUNTIFS(Planning!$APG$6:$AQK$200,A7))","v":""},{"$f":"IF(A7=\"\",\"\",COUNTIFS(Planning!$AQL$6:$ARO$200,A7))","v":""},{"$f":"IF(A7=\"\",\"\",COUNTIFS(Planning!$ARP$6:$AST$200,A7))","v":""},{"$f":"IF(A7=\"\",\"\",COUNTIFS(Planning!$ASU$6:$ATY$200,A7))","v":""},{"$f":"IF(A7=\"\",\"\",COUNTIFS(Planning!$ATZ$6:$AVA$200,A7))","v":""},{"$f":"IF(A7=\"\",\"\",COUNTIFS(Planning!$AVB$6:$AWF$200,A7))","v":""},{"$f":"IF(A7=\"\",\"\",COUNTIFS(Planning!$AWG$6:$AXJ$200,A7))","v":""},{"$f":"IF(A7=\"\",\"\",COUNTIFS(Planning!$AXK$6:$AYO$200,A7))","v":""},{"$f":"IF(A7=\"\",\"\",COUNTIFS(Planning!$AYP$6:$AZS$200,A7))","v":""}]
[{"$f":"IF(LEN(Leerlingen!B6)>0,Leerlingen!B6,\"\")","v":""},{"$f":"IF(A8=\"\",\"\",COUNTIFS(Planning!$C$6:$AG$200,A8))","v":""},{"$f":"IF(A8=\"\",\"\",COUNTIFS(Planning!$AH$6:$BK$200,A8))","v":""},{"$f":"IF(A8=\"\",\"\",COUNTIFS(Planning!$BL$6:$CP$200,A8))","v":""},{"$f":"IF(A8=\"\",\"\",COUNTIFS(Planning!$CQ$6:$DU$200,A8))","v":""},{"$f":"IF(A8=\"\",\"\",COUNTIFS(Planning!$DV$6:$EW$200,A8))","v":""},{"$f":"IF(A8=\"\",\"\",COUNTIFS(Planning!$EX$6:$GB$200,A8))","v":""},{"$f":"IF(A8=\"\",\"\",COUNTIFS(Planning!$GC$6:$HF$200,A8))","v":""},{"$f":"IF(A8=\"\",\"\",COUNTIFS(Planning!$HG$6:$IK$200,A8))","v":""},{"$f":"IF(A8=\"\",\"\",COUNTIFS(Planning!$IL$6:$JO$200,A8))","v":""},{"$f":"IF(A8=\"\",\"\",COUNTIFS(Planning!$JP$6:$KT$200,A8))","v":""},{"$f":"IF(A8=\"\",\"\",COUNTIFS(Planning!$KU$6:$LY$200,A8))","v":""},{"$f":"IF(A8=\"\",\"\",COUNTIFS(Planning!$LZ$6:$NC$200,A8))","v":""},{"$f":"IF(A8=\"\",\"\",COUNTIFS(Planning!$ND$6:$OH$200,A8))","v":""},{"$f":"IF(A8=\"\",\"\",COUNTIFS(Planning!$OI$6:$PL$200,A8))","v":""},{"$f":"IF(A8=\"\",\"\",COUNTIFS(Planning!$PM$6:$QQ$200,A8))","v":""},{"$f":"IF(A8=\"\",\"\",COUNTIFS(Planning!$QR$6:$RV$200,A8))","v":""},{"$f":"IF(A8=\"\",\"\",COUNTIFS(Planning!$RW$6:$SX$200,A8))","v":""},{"$f":"IF(A8=\"\",\"\",COUNTIFS(Planning!$SY$6:$UC$200,A8))","v":""},{"$f":"IF(A8=\"\",\"\",COUNTIFS(Planning!$UD$6:$VG$200,A8))","v":""},{"$f":"IF(A8=\"\",\"\",COUNTIFS(Planning!$VH$6:$WL$200,A8))","v":""},{"$f":"IF(A8=\"\",\"\",COUNTIFS(Planning!$WM$6:$XP$200,A8))","v":""},{"$f":"IF(A8=\"\",\"\",COUNTIFS(Planning!$XQ$6:$YU$200,A8))","v":""},{"$f":"IF(A8=\"\",\"\",COUNTIFS(Planning!$YV$6:$ZZ$200,A8))","v":""},{"$f":"IF(A8=\"\",\"\",COUNTIFS(Planning!$AAA$6:$ABD$200,A8))","v":""},{"$f":"IF(A8=\"\",\"\",COUNTIFS(Planning!$ABE$6:$ACI$200,A8))","v":""},{"$f":"IF(A8=\"\",\"\",COUNTIFS(Planning!$ACJ$6:$ADM$200,A8))","v":""},{"$f":"IF(A8=\"\",\"\",COUNTIFS(Planning!$ADN$6:$AER$200,A8))","v":""},{"$f":"IF(A8=\"\",\"\",COUNTIFS(Planning!$AES$6:$AFW$200,A8))","v":""},{"$f":"IF(A8=\"\",\"\",COUNTIFS(Planning!$AFX$6:$AGZ$200,A8))","v":""},{"$f":"IF(A8=\"\",\"\",COUNTIFS(Planning!$AHA$6:$AIE$200,A8))","v":""},{"$f":"IF(A8=\"\",\"\",COUNTIFS(Planning!$AIF$6:$AJI$200,A8))","v":""},{"$f":"IF(A8=\"\",\"\",COUNTIFS(Planning!$AJJ$6:$AKN$200,A8))","v":""},{"$f":"IF(A8=\"\",\"\",COUNTIFS(Planning!$AKO$6:$ALR$200,A8))","v":""},{"$f":"IF(A8=\"\",\"\",COUNTIFS(Planning!$ALS$6:$AMW$200,A8))","v":""},{"$f":"IF(A8=\"\",\"\",COUNTIFS(Planning!$AMX$6:$AOB$200,A8))","v":""},{"$f":"IF(A8=\"\",\"\",COUNTIFS(Planning!$AOC$6:$APF$200,A8))","v":""},{"$f":"IF(A8=\"\",\"\",COUNTIFS(Planning!$APG$6:$AQK$200,A8))","v":""},{"$f":"IF(A8=\"\",\"\",COUNTIFS(Planning!$AQL$6:$ARO$200,A8))","v":""},{"$f":"IF(A8=\"\",\"\",COUNTIFS(Planning!$ARP$6:$AST$200,A8))","v":""},{"$f":"IF(A8=\"\",\"\",COUNTIFS(Planning!$ASU$6:$ATY$200,A8))","v":""},{"$f":"IF(A8=\"\",\"\",COUNTIFS(Planning!$ATZ$6:$AVA$200,A8))","v":""},{"$f":"IF(A8=\"\",\"\",COUNTIFS(Planning!$AVB$6:$AWF$200,A8))","v":""},{"$f":"IF(A8=\"\",\"\",COUNTIFS(Planning!$AWG$6:$AXJ$200,A8))","v":""},{"$f":"IF(A8=\"\",\"\",COUNTIFS(Planning!$AXK$6:$AYO$200,A8))","v":""},{"$f":"IF(A8=\"\",\"\",COUNTIFS(Planning!$AYP$6:$AZS$200,A8))","v":""}]
[{"$f":"IF(LEN(Leerlingen!B7)>0,Leerlingen!B7,\"\")","v":""},{"$f":"IF(A9=\"\",\"\",COUNTIFS(Planning!$C$6:$AG$200,A9))","v":""},{"$f":"IF(A9=\"\",\"\",COUNTIFS(Planning!$AH$6:$BK$200,A9))","v":""},{"$f":"IF(A9=\"\",\"\",COUNTIFS(Planning!$BL$6:$CP$200,A9))","v":""},{"$f":"IF(A9=\"\",\"\",COUNTIFS(Planning!$CQ$6:$DU$200,A9))","v":""},{"$f":"IF(A9=\"\",\"\",COUNTIFS(Planning!$DV$6:$EW$200,A9))","v":""},{"$f":"IF(A9=\"\",\"\",COUNTIFS(Planning!$EX$6:$GB$200,A9))","v":""},{"$f":"IF(A9=\"\",\"\",COUNTIFS(Planning!$GC$6:$HF$200,A9))","v":""},{"$f":"IF(A9=\"\",\"\",COUNTIFS(Planning!$HG$6:$IK$200,A9))","v":""},{"$f":"IF(A9=\"\",\"\",COUNTIFS(Planning!$IL$6:$JO$200,A9))","v":""},{"$f":"IF(A9=\"\",\"\",COUNTIFS(Planning!$JP$6:$KT$200,A9))","v":""},{"$f":"IF(A9=\"\",\"\",COUNTIFS(Planning!$KU$6:$LY$200,A9))","v":""},{"$f":"IF(A9=\"\",\"\",COUNTIFS(Planning!$LZ$6:$NC$200,A9))","v":""},{"$f":"IF(A9=\"\",\"\",COUNTIFS(Planning!$ND$6:$OH$200,A9))","v":""},{"$f":"IF(A9=\"\",\"\",COUNTIFS(Planning!$OI$6:$PL$200,A9))","v":""},{"$f":"IF(A9=\"\",\"\",COUNTIFS(Planning!$PM$6:$QQ$200,A9))","v":""},{"$f":"IF(A9=\"\",\"\",COUNTIFS(Planning!$QR$6:$RV$200,A9))","v":""},{"$f":"IF(A9=\"\",\"\",COUNTIFS(Planning!$RW$6:$SX$200,A9))","v":""},{"$f":"IF(A9=\"\",\"\",COUNTIFS(Planning!$SY$6:$UC$200,A9))","v":""},{"$f":"IF(A9=\"\",\"\",COUNTIFS(Planning!$UD$6:$VG$200,A9))","v":""},{"$f":"IF(A9=\"\",\"\",COUNTIFS(Planning!$VH$6:$WL$200,A9))","v":""},{"$f":"IF(A9=\"\",\"\",COUNTIFS(Planning!$WM$6:$XP$200,A9))","v":""},{"$f":"IF(A9=\"\",\"\",COUNTIFS(Planning!$XQ$6:$YU$200,A9))","v":""},{"$f":"IF(A9=\"\",\"\",COUNTIFS(Planning!$YV$6:$ZZ$200,A9))","v":""},{"$f":"IF(A9=\"\",\"\",COUNTIFS(Planning!$AAA$6:$ABD$200,A9))","v":""},{"$f":"IF(A9=\"\",\"\",COUNTIFS(Planning!$ABE$6:$ACI$200,A9))","v":""},{"$f":"IF(A9=\"\",\"\",COUNTIFS(Planning!$ACJ$6:$ADM$200,A9))","v":""},{"$f":"IF(A9=\"\",\"\",COUNTIFS(Planning!$ADN$6:$AER$200,A9))","v":""},{"$f":"IF(A9=\"\",\"\",COUNTIFS(Planning!$AES$6:$AFW$200,A9))","v":""},{"$f":"IF(A9=\"\",\"\",COUNTIFS(Planning!$AFX$6:$AGZ$200,A9))","v":""},{"$f":"IF(A9=\"\",\"\",COUNTIFS(Planning!$AHA$6:$AIE$200,A9))","v":""},{"$f":"IF(A9=\"\",\"\",COUNTIFS(Planning!$AIF$6:$AJI$200,A9))","v":""},{"$f":"IF(A9=\"\",\"\",COUNTIFS(Planning!$AJJ$6:$AKN$200,A9))","v":""},{"$f":"IF(A9=\"\",\"\",COUNTIFS(Planning!$AKO$6:$ALR$200,A9))","v":""},{"$f":"IF(A9=\"\",\"\",COUNTIFS(Planning!$ALS$6:$AMW$200,A9))","v":""},{"$f":"IF(A9=\"\",\"\",COUNTIFS(Planning!$AMX$6:$AOB$200,A9))","v":""},{"$f":"IF(A9=\"\",\"\",COUNTIFS(Planning!$AOC$6:$APF$200,A9))","v":""},{"$f":"IF(A9=\"\",\"\",COUNTIFS(Planning!$APG$6:$AQK$200,A9))","v":""},{"$f":"IF(A9=\"\",\"\",COUNTIFS(Planning!$AQL$6:$ARO$200,A9))","v":""},{"$f":"IF(A9=\"\",\"\",COUNTIFS(Planning!$ARP$6:$AST$200,A9))","v":""},{"$f":"IF(A9=\"\",\"\",COUNTIFS(Planning!$ASU$6:$ATY$200,A9))","v":""},{"$f":"IF(A9=\"\",\"\",COUNTIFS(Planning!$ATZ$6:$AVA$200,A9))","v":""},{"$f":"IF(A9=\"\",\"\",COUNTIFS(Planning!$AVB$6:$AWF$200,A9))","v":""},{"$f":"IF(A9=\"\",\"\",COUNTIFS(Planning!$AWG$6:$AXJ$200,A9))","v":""},{"$f":"IF(A9=\"\",\"\",COUNTIFS(Planning!$AXK$6:$AYO$200,A9))","v":""},{"$f":"IF(A9=\"\",\"\",COUNTIFS(Planning!$AYP$6:$AZS$200,A9))","v":""}]
[{"$f":"IF(LEN(Leerlingen!B8)>0,Leerlingen!B8,\"\")","v":""},{"$f":"IF(A10=\"\",\"\",COUNTIFS(Planning!$C$6:$AG$200,A10))","v":""},{"$f":"IF(A10=\"\",\"\",COUNTIFS(Planning!$AH$6:$BK$200,A10))","v":""},{"$f":"IF(A10=\"\",\"\",COUNTIFS(Planning!$BL$6:$CP$200,A10))","v":""},{"$f":"IF(A10=\"\",\"\",COUNTIFS(Planning!$CQ$6:$DU$200,A10))","v":""},{"$f":"IF(A10=\"\",\"\",COUNTIFS(Planning!$DV$6:$EW$200,A10))","v":""},{"$f":"IF(A10=\"\",\"\",COUNTIFS(Planning!$EX$6:$GB$200,A10))","v":""},{"$f":"IF(A10=\"\",\"\",COUNTIFS(Planning!$GC$6:$HF$200,A10))","v":""},{"$f":"IF(A10=\"\",\"\",COUNTIFS(Planning!$HG$6:$IK$200,A10))","v":""},{"$f":"IF(A10=\"\",\"\",COUNTIFS(Planning!$IL$6:$JO$200,A10))","v":""},{"$f":"IF(A10=\"\",\"\",COUNTIFS(Planning!$JP$6:$KT$200,A10))","v":""},{"$f":"IF(A10=\"\",\"\",COUNTIFS(Planning!$KU$6:$LY$200,A10))","v":""},{"$f":"IF(A10=\"\",\"\",COUNTIFS(Planning!$LZ$6:$NC$200,A10))","v":""},{"$f":"IF(A10=\"\",\"\",COUNTIFS(Planning!$ND$6:$OH$200,A10))","v":""},{"$f":"IF(A10=\"\",\"\",COUNTIFS(Planning!$OI$6:$PL$200,A10))","v":""},{"$f":"IF(A10=\"\",\"\",COUNTIFS(Planning!$PM$6:$QQ$200,A10))","v":""},{"$f":"IF(A10=\"\",\"\",COUNTIFS(Planning!$QR$6:$RV$200,A10))","v":""},{"$f":"IF(A10=\"\",\"\",COUNTIFS(Planning!$RW$6:$SX$200,A10))","v":""},{"$f":"IF(A10=\"\",\"\",COUNTIFS(Planning!$SY$6:$UC$200,A10))","v":""},{"$f":"IF(A10=\"\",\"\",COUNTIFS(Planning!$UD$6:$VG$200,A10))","v":""},{"$f":"IF(A10=\"\",\"\",COUNTIFS(Planning!$VH$6:$WL$200,A10))","v":""},{"$f":"IF(A10=\"\",\"\",COUNTIFS(Planning!$WM$6:$XP$200,A10))","v":""},{"$f":"IF(A10=\"\",\"\",COUNTIFS(Planning!$XQ$6:$YU$200,A10))","v":""},{"$f":"IF(A10=\"\",\"\",COUNTIFS(Planning!$YV$6:$ZZ$200,A10))","v":""},{"$f":"IF(A10=\"\",\"\",COUNTIFS(Planning!$AAA$6:$ABD$200,A10))","v":""},{"$f":"IF(A10=\"\",\"\",COUNTIFS(Planning!$ABE$6:$ACI$200,A10))","v":""},{"$f":"IF(A10=\"\",\"\",COUNTIFS(Planning!$ACJ$6:$ADM$200,A10))","v":""},{"$f":"IF(A10=\"\",\"\",COUNTIFS(Planning!$ADN$6:$AER$200,A10))","v":""},{"$f":"IF(A10=\"\",\"\",COUNTIFS(Planning!$AES$6:$AFW$200,A10))","v":""},{"$f":"IF(A10=\"\",\"\",COUNTIFS(Planning!$AFX$6:$AGZ$200,A10))","v":""},{"$f":"IF(A10=\"\",\"\",COUNTIFS(Planning!$AHA$6:$AIE$200,A10))","v":""},{"$f":"IF(A10=\"\",\"\",COUNTIFS(Planning!$AIF$6:$AJI$200,A10))","v":""},{"$f":"IF(A10=\"\",\"\",COUNTIFS(Planning!$AJJ$6:$AKN$200,A10))","v":""},{"$f":"IF(A10=\"\",\"\",COUNTIFS(Planning!$AKO$6:$ALR$200,A10))","v":""},{"$f":"IF(A10=\"\",\"\",COUNTIFS(Planning!$ALS$6:$AMW$200,A10))","v":""},{"$f":"IF(A10=\"\",\"\",COUNTIFS(Planning!$AMX$6:$AOB$200,A10))","v":""},{"$f":"IF(A10=\"\",\"\",COUNTIFS(Planning!$AOC$6:$APF$200,A10))","v":""},{"$f":"IF(A10=\"\",\"\",COUNTIFS(Planning!$APG$6:$AQK$200,A10))","v":""},{"$f":"IF(A10=\"\",\"\",COUNTIFS(Planning!$AQL$6:$ARO$200,A10))","v":""},{"$f":"IF(A10=\"\",\"\",COUNTIFS(Planning!$ARP$6:$AST$200,A10))","v":""},{"$f":"IF(A10=\"\",\"\",COUNTIFS(Planning!$ASU$6:$ATY$200,A10))","v":""},{"$f":"IF(A10=\"\",\"\",COUNTIFS(Planning!$ATZ$6:$AVA$200,A10))","v":""},{"$f":"IF(A10=\"\",\"\",COUNTIFS(Planning!$AVB$6:$AWF$200,A10))","v":""},{"$f":"IF(A10=\"\",\"\",COUNTIFS(Planning!$AWG$6:$AXJ$200,A10))","v":""},{"$f":"IF(A10=\"\",\"\",COUNTIFS(Planning!$AXK$6:$AYO$200,A10))","v":""},{"$f":"IF(A10=\"\",\"\",COUNTIFS(Planning!$AYP$6:$AZS$200,A10))","v":""}]
[{"$f":"IF(LEN(Leerlingen!B9)>0,Leerlingen!B9,\"\")","v":""},{"$f":"IF(A11=\"\",\"\",COUNTIFS(Planning!$C$6:$AG$200,A11))","v":""},{"$f":"IF(A11=\"\",\"\",COUNTIFS(Planning!$AH$6:$BK$200,A11))","v":""},{"$f":"IF(A11=\"\",\"\",COUNTIFS(Planning!$BL$6:$CP$200,A11))","v":""},{"$f":"IF(A11=\"\",\"\",COUNTIFS(Planning!$CQ$6:$DU$200,A11))","v":""},{"$f":"IF(A11=\"\",\"\",COUNTIFS(Planning!$DV$6:$EW$200,A11))","v":""},{"$f":"IF(A11=\"\",\"\",COUNTIFS(Planning!$EX$6:$GB$200,A11))","v":""},{"$f":"IF(A11=\"\",\"\",COUNTIFS(Planning!$GC$6:$HF$200,A11))","v":""},{"$f":"IF(A11=\"\",\"\",COUNTIFS(Planning!$HG$6:$IK$200,A11))","v":""},{"$f":"IF(A11=\"\",\"\",COUNTIFS(Planning!$IL$6:$JO$200,A11))","v":""},{"$f":"IF(A11=\"\",\"\",COUNTIFS(Planning!$JP$6:$KT$200,A11))","v":""},{"$f":"IF(A11=\"\",\"\",COUNTIFS(Planning!$KU$6:$LY$200,A11))","v":""},{"$f":"IF(A11=\"\",\"\",COUNTIFS(Planning!$LZ$6:$NC$200,A11))","v":""},{"$f":"IF(A11=\"\",\"\",COUNTIFS(Planning!$ND$6:$OH$200,A11))","v":""},{"$f":"IF(A11=\"\",\"\",COUNTIFS(Planning!$OI$6:$PL$200,A11))","v":""},{"$f":"IF(A11=\"\",\"\",COUNTIFS(Planning!$PM$6:$QQ$200,A11))","v":""},{"$f":"IF(A11=\"\",\"\",COUNTIFS(Planning!$QR$6:$RV$200,A11))","v":""},{"$f":"IF(A11=\"\",\"\",COUNTIFS(Planning!$RW$6:$SX$200,A11))","v":""},{"$f":"IF(A11=\"\",\"\",COUNTIFS(Planning!$SY$6:$UC$200,A11))","v":""},{"$f":"IF(A11=\"\",\"\",COUNTIFS(Planning!$UD$6:$VG$200,A11))","v":""},{"$f":"IF(A11=\"\",\"\",COUNTIFS(Planning!$VH$6:$WL$200,A11))","v":""},{"$f":"IF(A11=\"\",\"\",COUNTIFS(Planning!$WM$6:$XP$200,A11))","v":""},{"$f":"IF(A11=\"\",\"\",COUNTIFS(Planning!$XQ$6:$YU$200,A11))","v":""},{"$f":"IF(A11=\"\",\"\",COUNTIFS(Planning!$YV$6:$ZZ$200,A11))","v":""},{"$f":"IF(A11=\"\",\"\",COUNTIFS(Planning!$AAA$6:$ABD$200,A11))","v":""},{"$f":"IF(A11=\"\",\"\",COUNTIFS(Planning!$ABE$6:$ACI$200,A11))","v":""},{"$f":"IF(A11=\"\",\"\",COUNTIFS(Planning!$ACJ$6:$ADM$200,A11))","v":""},{"$f":"IF(A11=\"\",\"\",COUNTIFS(Planning!$ADN$6:$AER$200,A11))","v":""},{"$f":"IF(A11=\"\",\"\",COUNTIFS(Planning!$AES$6:$AFW$200,A11))","v":""},{"$f":"IF(A11=\"\",\"\",COUNTIFS(Planning!$AFX$6:$AGZ$200,A11))","v":""},{"$f":"IF(A11=\"\",\"\",COUNTIFS(Planning!$AHA$6:$AIE$200,A11))","v":""},{"$f":"IF(A11=\"\",\"\",COUNTIFS(Planning!$AIF$6:$AJI$200,A11))","v":""},{"$f":"IF(A11=\"\",\"\",COUNTIFS(Planning!$AJJ$6:$AKN$200,A11))","v":""},{"$f":"IF(A11=\"\",\"\",COUNTIFS(Planning!$AKO$6:$ALR$200,A11))","v":""},{"$f":"IF(A11=\"\",\"\",COUNTIFS(Planning!$ALS$6:$AMW$200,A11))","v":""},{"$f":"IF(A11=\"\",\"\",COUNTIFS(Planning!$AMX$6:$AOB$200,A11))","v":""},{"$f":"IF(A11=\"\",\"\",COUNTIFS(Planning!$AOC$6:$APF$200,A11))","v":""},{"$f":"IF(A11=\"\",\"\",COUNTIFS(Planning!$APG$6:$AQK$200,A11))","v":""},{"$f":"IF(A11=\"\",\"\",COUNTIFS(Planning!$AQL$6:$ARO$200,A11))","v":""},{"$f":"IF(A11=\"\",\"\",COUNTIFS(Planning!$ARP$6:$AST$200,A11))","v":""},{"$f":"IF(A11=\"\",\"\",COUNTIFS(Planning!$ASU$6:$ATY$200,A11))","v":""},{"$f":"IF(A11=\"\",\"\",COUNTIFS(Planning!$ATZ$6:$AVA$200,A11))","v":""},{"$f":"IF(A11=\"\",\"\",COUNTIFS(Planning!$AVB$6:$AWF$200,A11))","v":""},{"$f":"IF(A11=\"\",\"\",COUNTIFS(Planning!$AWG$6:$AXJ$200,A11))","v":""},{"$f":"IF(A11=\"\",\"\",COUNTIFS(Planning!$AXK$6:$AYO$200,A11))","v":""},{"$f":"IF(A11=\"\",\"\",COUNTIFS(Planning!$AYP$6:$AZS$200,A11))","v":""}]
[{"$f":"IF(LEN(Leerlingen!B10)>0,Leerlingen!B10,\"\")","v":""},{"$f":"IF(A12=\"\",\"\",COUNTIFS(Planning!$C$6:$AG$200,A12))","v":""},{"$f":"IF(A12=\"\",\"\",COUNTIFS(Planning!$AH$6:$BK$200,A12))","v":""},{"$f":"IF(A12=\"\",\"\",COUNTIFS(Planning!$BL$6:$CP$200,A12))","v":""},{"$f":"IF(A12=\"\",\"\",COUNTIFS(Planning!$CQ$6:$DU$200,A12))","v":""},{"$f":"IF(A12=\"\",\"\",COUNTIFS(Planning!$DV$6:$EW$200,A12))","v":""},{"$f":"IF(A12=\"\",\"\",COUNTIFS(Planning!$EX$6:$GB$200,A12))","v":""},{"$f":"IF(A12=\"\",\"\",COUNTIFS(Planning!$GC$6:$HF$200,A12))","v":""},{"$f":"IF(A12=\"\",\"\",COUNTIFS(Planning!$HG$6:$IK$200,A12))","v":""},{"$f":"IF(A12=\"\",\"\",COUNTIFS(Planning!$IL$6:$JO$200,A12))","v":""},{"$f":"IF(A12=\"\",\"\",COUNTIFS(Planning!$JP$6:$KT$200,A12))","v":""},{"$f":"IF(A12=\"\",\"\",COUNTIFS(Planning!$KU$6:$LY$200,A12))","v":""},{"$f":"IF(A12=\"\",\"\",COUNTIFS(Planning!$LZ$6:$NC$200,A12))","v":""},{"$f":"IF(A12=\"\",\"\",COUNTIFS(Planning!$ND$6:$OH$200,A12))","v":""},{"$f":"IF(A12=\"\",\"\",COUNTIFS(Planning!$OI$6:$PL$200,A12))","v":""},{"$f":"IF(A12=\"\",\"\",COUNTIFS(Planning!$PM$6:$QQ$200,A12))","v":""},{"$f":"IF(A12=\"\",\"\",COUNTIFS(Planning!$QR$6:$RV$200,A12))","v":""},{"$f":"IF(A12=\"\",\"\",COUNTIFS(Planning!$RW$6:$SX$200,A12))","v":""},{"$f":"IF(A12=\"\",\"\",COUNTIFS(Planning!$SY$6:$UC$200,A12))","v":""},{"$f":"IF(A12=\"\",\"\",COUNTIFS(Planning!$UD$6:$VG$200,A12))","v":""},{"$f":"IF(A12=\"\",\"\",COUNTIFS(Planning!$VH$6:$WL$200,A12))","v":""},{"$f":"IF(A12=\"\",\"\",COUNTIFS(Planning!$WM$6:$XP$200,A12))","v":""},{"$f":"IF(A12=\"\",\"\",COUNTIFS(Planning!$XQ$6:$YU$200,A12))","v":""},{"$f":"IF(A12=\"\",\"\",COUNTIFS(Planning!$YV$6:$ZZ$200,A12))","v":""},{"$f":"IF(A12=\"\",\"\",COUNTIFS(Planning!$AAA$6:$ABD$200,A12))","v":""},{"$f":"IF(A12=\"\",\"\",COUNTIFS(Planning!$ABE$6:$ACI$200,A12))","v":""},{"$f":"IF(A12=\"\",\"\",COUNTIFS(Planning!$ACJ$6:$ADM$200,A12))","v":""},{"$f":"IF(A12=\"\",\"\",COUNTIFS(Planning!$ADN$6:$AER$200,A12))","v":""},{"$f":"IF(A12=\"\",\"\",COUNTIFS(Planning!$AES$6:$AFW$200,A12))","v":""},{"$f":"IF(A12=\"\",\"\",COUNTIFS(Planning!$AFX$6:$AGZ$200,A12))","v":""},{"$f":"IF(A12=\"\",\"\",COUNTIFS(Planning!$AHA$6:$AIE$200,A12))","v":""},{"$f":"IF(A12=\"\",\"\",COUNTIFS(Planning!$AIF$6:$AJI$200,A12))","v":""},{"$f":"IF(A12=\"\",\"\",COUNTIFS(Planning!$AJJ$6:$AKN$200,A12))","v":""},{"$f":"IF(A12=\"\",\"\",COUNTIFS(Planning!$AKO$6:$ALR$200,A12))","v":""},{"$f":"IF(A12=\"\",\"\",COUNTIFS(Planning!$ALS$6:$AMW$200,A12))","v":""},{"$f":"IF(A12=\"\",\"\",COUNTIFS(Planning!$AMX$6:$AOB$200,A12))","v":""},{"$f":"IF(A12=\"\",\"\",COUNTIFS(Planning!$AOC$6:$APF$200,A12))","v":""},{"$f":"IF(A12=\"\",\"\",COUNTIFS(Planning!$APG$6:$AQK$200,A12))","v":""},{"$f":"IF(A12=\"\",\"\",COUNTIFS(Planning!$AQL$6:$ARO$200,A12))","v":""},{"$f":"IF(A12=\"\",\"\",COUNTIFS(Planning!$ARP$6:$AST$200,A12))","v":""},{"$f":"IF(A12=\"\",\"\",COUNTIFS(Planning!$ASU$6:$ATY$200,A12))","v":""},{"$f":"IF(A12=\"\",\"\",COUNTIFS(Planning!$ATZ$6:$AVA$200,A12))","v":""},{"$f":"IF(A12=\"\",\"\",COUNTIFS(Planning!$AVB$6:$AWF$200,A12))","v":""},{"$f":"IF(A12=\"\",\"\",COUNTIFS(Planning!$AWG$6:$AXJ$200,A12))","v":""},{"$f":"IF(A12=\"\",\"\",COUNTIFS(Planning!$AXK$6:$AYO$200,A12))","v":""},{"$f":"IF(A12=\"\",\"\",COUNTIFS(Planning!$AYP$6:$AZS$200,A12))","v":""}]
[{"$f":"IF(LEN(Leerlingen!B11)>0,Leerlingen!B11,\"\")","v":""},{"$f":"IF(A13=\"\",\"\",COUNTIFS(Planning!$C$6:$AG$200,A13))","v":""},{"$f":"IF(A13=\"\",\"\",COUNTIFS(Planning!$AH$6:$BK$200,A13))","v":""},{"$f":"IF(A13=\"\",\"\",COUNTIFS(Planning!$BL$6:$CP$200,A13))","v":""},{"$f":"IF(A13=\"\",\"\",COUNTIFS(Planning!$CQ$6:$DU$200,A13))","v":""},{"$f":"IF(A13=\"\",\"\",COUNTIFS(Planning!$DV$6:$EW$200,A13))","v":""},{"$f":"IF(A13=\"\",\"\",COUNTIFS(Planning!$EX$6:$GB$200,A13))","v":""},{"$f":"IF(A13=\"\",\"\",COUNTIFS(Planning!$GC$6:$HF$200,A13))","v":""},{"$f":"IF(A13=\"\",\"\",COUNTIFS(Planning!$HG$6:$IK$200,A13))","v":""},{"$f":"IF(A13=\"\",\"\",COUNTIFS(Planning!$IL$6:$JO$200,A13))","v":""},{"$f":"IF(A13=\"\",\"\",COUNTIFS(Planning!$JP$6:$KT$200,A13))","v":""},{"$f":"IF(A13=\"\",\"\",COUNTIFS(Planning!$KU$6:$LY$200,A13))","v":""},{"$f":"IF(A13=\"\",\"\",COUNTIFS(Planning!$LZ$6:$NC$200,A13))","v":""},{"$f":"IF(A13=\"\",\"\",COUNTIFS(Planning!$ND$6:$OH$200,A13))","v":""},{"$f":"IF(A13=\"\",\"\",COUNTIFS(Planning!$OI$6:$PL$200,A13))","v":""},{"$f":"IF(A13=\"\",\"\",COUNTIFS(Planning!$PM$6:$QQ$200,A13))","v":""},{"$f":"IF(A13=\"\",\"\",COUNTIFS(Planning!$QR$6:$RV$200,A13))","v":""},{"$f":"IF(A13=\"\",\"\",COUNTIFS(Planning!$RW$6:$SX$200,A13))","v":""},{"$f":"IF(A13=\"\",\"\",COUNTIFS(Planning!$SY$6:$UC$200,A13))","v":""},{"$f":"IF(A13=\"\",\"\",COUNTIFS(Planning!$UD$6:$VG$200,A13))","v":""},{"$f":"IF(A13=\"\",\"\",COUNTIFS(Planning!$VH$6:$WL$200,A13))","v":""},{"$f":"IF(A13=\"\",\"\",COUNTIFS(Planning!$WM$6:$XP$200,A13))","v":""},{"$f":"IF(A13=\"\",\"\",COUNTIFS(Planning!$XQ$6:$YU$200,A13))","v":""},{"$f":"IF(A13=\"\",\"\",COUNTIFS(Planning!$YV$6:$ZZ$200,A13))","v":""},{"$f":"IF(A13=\"\",\"\",COUNTIFS(Planning!$AAA$6:$ABD$200,A13))","v":""},{"$f":"IF(A13=\"\",\"\",COUNTIFS(Planning!$ABE$6:$ACI$200,A13))","v":""},{"$f":"IF(A13=\"\",\"\",COUNTIFS(Planning!$ACJ$6:$ADM$200,A13))","v":""},{"$f":"IF(A13=\"\",\"\",COUNTIFS(Planning!$ADN$6:$AER$200,A13))","v":""},{"$f":"IF(A13=\"\",\"\",COUNTIFS(Planning!$AES$6:$AFW$200,A13))","v":""},{"$f":"IF(A13=\"\",\"\",COUNTIFS(Planning!$AFX$6:$AGZ$200,A13))","v":""},{"$f":"IF(A13=\"\",\"\",COUNTIFS(Planning!$AHA$6:$AIE$200,A13))","v":""},{"$f":"IF(A13=\"\",\"\",COUNTIFS(Planning!$AIF$6:$AJI$200,A13))","v":""},{"$f":"IF(A13=\"\",\"\",COUNTIFS(Planning!$AJJ$6:$AKN$200,A13))","v":""},{"$f":"IF(A13=\"\",\"\",COUNTIFS(Planning!$AKO$6:$ALR$200,A13))","v":""},{"$f":"IF(A13=\"\",\"\",COUNTIFS(Planning!$ALS$6:$AMW$200,A13))","v":""},{"$f":"IF(A13=\"\",\"\",COUNTIFS(Planning!$AMX$6:$AOB$200,A13))","v":""},{"$f":"IF(A13=\"\",\"\",COUNTIFS(Planning!$AOC$6:$APF$200,A13))","v":""},{"$f":"IF(A13=\"\",\"\",COUNTIFS(Planning!$APG$6:$AQK$200,A13))","v":""},{"$f":"IF(A13=\"\",\"\",COUNTIFS(Planning!$AQL$6:$ARO$200,A13))","v":""},{"$f":"IF(A13=\"\",\"\",COUNTIFS(Planning!$ARP$6:$AST$200,A13))","v":""},{"$f":"IF(A13=\"\",\"\",COUNTIFS(Planning!$ASU$6:$ATY$200,A13))","v":""},{"$f":"IF(A13=\"\",\"\",COUNTIFS(Planning!$ATZ$6:$AVA$200,A13))","v":""},{"$f":"IF(A13=\"\",\"\",COUNTIFS(Planning!$AVB$6:$AWF$200,A13))","v":""},{"$f":"IF(A13=\"\",\"\",COUNTIFS(Planning!$AWG$6:$AXJ$200,A13))","v":""},{"$f":"IF(A13=\"\",\"\",COUNTIFS(Planning!$AXK$6:$AYO$200,A13))","v":""},{"$f":"IF(A13=\"\",\"\",COUNTIFS(Planning!$AYP$6:$AZS$200,A13))","v":""}]
[{"$f":"IF(LEN(Leerlingen!B12)>0,Leerlingen!B12,\"\")","v":""},{"$f":"IF(A14=\"\",\"\",COUNTIFS(Planning!$C$6:$AG$200,A14))","v":""},{"$f":"IF(A14=\"\",\"\",COUNTIFS(Planning!$AH$6:$BK$200,A14))","v":""},{"$f":"IF(A14=\"\",\"\",COUNTIFS(Planning!$BL$6:$CP$200,A14))","v":""},{"$f":"IF(A14=\"\",\"\",COUNTIFS(Planning!$CQ$6:$DU$200,A14))","v":""},{"$f":"IF(A14=\"\",\"\",COUNTIFS(Planning!$DV$6:$EW$200,A14))","v":""},{"$f":"IF(A14=\"\",\"\",COUNTIFS(Planning!$EX$6:$GB$200,A14))","v":""},{"$f":"IF(A14=\"\",\"\",COUNTIFS(Planning!$GC$6:$HF$200,A14))","v":""},{"$f":"IF(A14=\"\",\"\",COUNTIFS(Planning!$HG$6:$IK$200,A14))","v":""},{"$f":"IF(A14=\"\",\"\",COUNTIFS(Planning!$IL$6:$JO$200,A14))","v":""},{"$f":"IF(A14=\"\",\"\",COUNTIFS(Planning!$JP$6:$KT$200,A14))","v":""},{"$f":"IF(A14=\"\",\"\",COUNTIFS(Planning!$KU$6:$LY$200,A14))","v":""},{"$f":"IF(A14=\"\",\"\",COUNTIFS(Planning!$LZ$6:$NC$200,A14))","v":""},{"$f":"IF(A14=\"\",\"\",COUNTIFS(Planning!$ND$6:$OH$200,A14))","v":""},{"$f":"IF(A14=\"\",\"\",COUNTIFS(Planning!$OI$6:$PL$200,A14))","v":""},{"$f":"IF(A14=\"\",\"\",COUNTIFS(Planning!$PM$6:$QQ$200,A14))","v":""},{"$f":"IF(A14=\"\",\"\",COUNTIFS(Planning!$QR$6:$RV$200,A14))","v":""},{"$f":"IF(A14=\"\",\"\",COUNTIFS(Planning!$RW$6:$SX$200,A14))","v":""},{"$f":"IF(A14=\"\",\"\",COUNTIFS(Planning!$SY$6:$UC$200,A14))","v":""},{"$f":"IF(A14=\"\",\"\",COUNTIFS(Planning!$UD$6:$VG$200,A14))","v":""},{"$f":"IF(A14=\"\",\"\",COUNTIFS(Planning!$VH$6:$WL$200,A14))","v":""},{"$f":"IF(A14=\"\",\"\",COUNTIFS(Planning!$WM$6:$XP$200,A14))","v":""},{"$f":"IF(A14=\"\",\"\",COUNTIFS(Planning!$XQ$6:$YU$200,A14))","v":""},{"$f":"IF(A14=\"\",\"\",COUNTIFS(Planning!$YV$6:$ZZ$200,A14))","v":""},{"$f":"IF(A14=\"\",\"\",COUNTIFS(Planning!$AAA$6:$ABD$200,A14))","v":""},{"$f":"IF(A14=\"\",\"\",COUNTIFS(Planning!$ABE$6:$ACI$200,A14))","v":""},{"$f":"IF(A14=\"\",\"\",COUNTIFS(Planning!$ACJ$6:$ADM$200,A14))","v":""},{"$f":"IF(A14=\"\",\"\",COUNTIFS(Planning!$ADN$6:$AER$200,A14))","v":""},{"$f":"IF(A14=\"\",\"\",COUNTIFS(Planning!$AES$6:$AFW$200,A14))","v":""},{"$f":"IF(A14=\"\",\"\",COUNTIFS(Planning!$AFX$6:$AGZ$200,A14))","v":""},{"$f":"IF(A14=\"\",\"\",COUNTIFS(Planning!$AHA$6:$AIE$200,A14))","v":""},{"$f":"IF(A14=\"\",\"\",COUNTIFS(Planning!$AIF$6:$AJI$200,A14))","v":""},{"$f":"IF(A14=\"\",\"\",COUNTIFS(Planning!$AJJ$6:$AKN$200,A14))","v":""},{"$f":"IF(A14=\"\",\"\",COUNTIFS(Planning!$AKO$6:$ALR$200,A14))","v":""},{"$f":"IF(A14=\"\",\"\",COUNTIFS(Planning!$ALS$6:$AMW$200,A14))","v":""},{"$f":"IF(A14=\"\",\"\",COUNTIFS(Planning!$AMX$6:$AOB$200,A14))","v":""},{"$f":"IF(A14=\"\",\"\",COUNTIFS(Planning!$AOC$6:$APF$200,A14))","v":""},{"$f":"IF(A14=\"\",\"\",COUNTIFS(Planning!$APG$6:$AQK$200,A14))","v":""},{"$f":"IF(A14=\"\",\"\",COUNTIFS(Planning!$AQL$6:$ARO$200,A14))","v":""},{"$f":"IF(A14=\"\",\"\",COUNTIFS(Planning!$ARP$6:$AST$200,A14))","v":""},{"$f":"IF(A14=\"\",\"\",COUNTIFS(Planning!$ASU$6:$ATY$200,A14))","v":""},{"$f":"IF(A14=\"\",\"\",COUNTIFS(Planning!$ATZ$6:$AVA$200,A14))","v":""},{"$f":"IF(A14=\"\",\"\",COUNTIFS(Planning!$AVB$6:$AWF$200,A14))","v":""},{"$f":"IF(A14=\"\",\"\",COUNTIFS(Planning!$AWG$6:$AXJ$200,A14))","v":""},{"$f":"IF(A14=\"\",\"\",COUNTIFS(Planning!$AXK$6:$AYO$200,A14))","v":""},{"$f":"IF(A14=\"\",\"\",COUNTIFS(Planning!$AYP$6:$AZS$200,A14))","v":""}]
[{"$f":"IF(LEN(Leerlingen!B13)>0,Leerlingen!B13,\"\")","v":""},{"$f":"IF(A15=\"\",\"\",COUNTIFS(Planning!$C$6:$AG$200,A15))","v":""},{"$f":"IF(A15=\"\",\"\",COUNTIFS(Planning!$AH$6:$BK$200,A15))","v":""},{"$f":"IF(A15=\"\",\"\",COUNTIFS(Planning!$BL$6:$CP$200,A15))","v":""},{"$f":"IF(A15=\"\",\"\",COUNTIFS(Planning!$CQ$6:$DU$200,A15))","v":""},{"$f":"IF(A15=\"\",\"\",COUNTIFS(Planning!$DV$6:$EW$200,A15))","v":""},{"$f":"IF(A15=\"\",\"\",COUNTIFS(Planning!$EX$6:$GB$200,A15))","v":""},{"$f":"IF(A15=\"\",\"\",COUNTIFS(Planning!$GC$6:$HF$200,A15))","v":""},{"$f":"IF(A15=\"\",\"\",COUNTIFS(Planning!$HG$6:$IK$200,A15))","v":""},{"$f":"IF(A15=\"\",\"\",COUNTIFS(Planning!$IL$6:$JO$200,A15))","v":""},{"$f":"IF(A15=\"\",\"\",COUNTIFS(Planning!$JP$6:$KT$200,A15))","v":""},{"$f":"IF(A15=\"\",\"\",COUNTIFS(Planning!$KU$6:$LY$200,A15))","v":""},{"$f":"IF(A15=\"\",\"\",COUNTIFS(Planning!$LZ$6:$NC$200,A15))","v":""},{"$f":"IF(A15=\"\",\"\",COUNTIFS(Planning!$ND$6:$OH$200,A15))","v":""},{"$f":"IF(A15=\"\",\"\",COUNTIFS(Planning!$OI$6:$PL$200,A15))","v":""},{"$f":"IF(A15=\"\",\"\",COUNTIFS(Planning!$PM$6:$QQ$200,A15))","v":""},{"$f":"IF(A15=\"\",\"\",COUNTIFS(Planning!$QR$6:$RV$200,A15))","v":""},{"$f":"IF(A15=\"\",\"\",COUNTIFS(Planning!$RW$6:$SX$200,A15))","v":""},{"$f":"IF(A15=\"\",\"\",COUNTIFS(Planning!$SY$6:$UC$200,A15))","v":""},{"$f":"IF(A15=\"\",\"\",COUNTIFS(Planning!$UD$6:$VG$200,A15))","v":""},{"$f":"IF(A15=\"\",\"\",COUNTIFS(Planning!$VH$6:$WL$200,A15))","v":""},{"$f":"IF(A15=\"\",\"\",COUNTIFS(Planning!$WM$6:$XP$200,A15))","v":""},{"$f":"IF(A15=\"\",\"\",COUNTIFS(Planning!$XQ$6:$YU$200,A15))","v":""},{"$f":"IF(A15=\"\",\"\",COUNTIFS(Planning!$YV$6:$ZZ$200,A15))","v":""},{"$f":"IF(A15=\"\",\"\",COUNTIFS(Planning!$AAA$6:$ABD$200,A15))","v":""},{"$f":"IF(A15=\"\",\"\",COUNTIFS(Planning!$ABE$6:$ACI$200,A15))","v":""},{"$f":"IF(A15=\"\",\"\",COUNTIFS(Planning!$ACJ$6:$ADM$200,A15))","v":""},{"$f":"IF(A15=\"\",\"\",COUNTIFS(Planning!$ADN$6:$AER$200,A15))","v":""},{"$f":"IF(A15=\"\",\"\",COUNTIFS(Planning!$AES$6:$AFW$200,A15))","v":""},{"$f":"IF(A15=\"\",\"\",COUNTIFS(Planning!$AFX$6:$AGZ$200,A15))","v":""},{"$f":"IF(A15=\"\",\"\",COUNTIFS(Planning!$AHA$6:$AIE$200,A15))","v":""},{"$f":"IF(A15=\"\",\"\",COUNTIFS(Planning!$AIF$6:$AJI$200,A15))","v":""},{"$f":"IF(A15=\"\",\"\",COUNTIFS(Planning!$AJJ$6:$AKN$200,A15))","v":""},{"$f":"IF(A15=\"\",\"\",COUNTIFS(Planning!$AKO$6:$ALR$200,A15))","v":""},{"$f":"IF(A15=\"\",\"\",COUNTIFS(Planning!$ALS$6:$AMW$200,A15))","v":""},{"$f":"IF(A15=\"\",\"\",COUNTIFS(Planning!$AMX$6:$AOB$200,A15))","v":""},{"$f":"IF(A15=\"\",\"\",COUNTIFS(Planning!$AOC$6:$APF$200,A15))","v":""},{"$f":"IF(A15=\"\",\"\",COUNTIFS(Planning!$APG$6:$AQK$200,A15))","v":""},{"$f":"IF(A15=\"\",\"\",COUNTIFS(Planning!$AQL$6:$ARO$200,A15))","v":""},{"$f":"IF(A15=\"\",\"\",COUNTIFS(Planning!$ARP$6:$AST$200,A15))","v":""},{"$f":"IF(A15=\"\",\"\",COUNTIFS(Planning!$ASU$6:$ATY$200,A15))","v":""},{"$f":"IF(A15=\"\",\"\",COUNTIFS(Planning!$ATZ$6:$AVA$200,A15))","v":""},{"$f":"IF(A15=\"\",\"\",COUNTIFS(Planning!$AVB$6:$AWF$200,A15))","v":""},{"$f":"IF(A15=\"\",\"\",COUNTIFS(Planning!$AWG$6:$AXJ$200,A15))","v":""},{"$f":"IF(A15=\"\",\"\",COUNTIFS(Planning!$AXK$6:$AYO$200,A15))","v":""},{"$f":"IF(A15=\"\",\"\",COUNTIFS(Planning!$AYP$6:$AZS$200,A15))","v":""}]
[{"$f":"IF(LEN(Leerlingen!B14)>0,Leerlingen!B14,\"\")","v":""},{"$f":"IF(A16=\"\",\"\",COUNTIFS(Planning!$C$6:$AG$200,A16))","v":""},{"$f":"IF(A16=\"\",\"\",COUNTIFS(Planning!$AH$6:$BK$200,A16))","v":""},{"$f":"IF(A16=\"\",\"\",COUNTIFS(Planning!$BL$6:$CP$200,A16))","v":""},{"$f":"IF(A16=\"\",\"\",COUNTIFS(Planning!$CQ$6:$DU$200,A16))","v":""},{"$f":"IF(A16=\"\",\"\",COUNTIFS(Planning!$DV$6:$EW$200,A16))","v":""},{"$f":"IF(A16=\"\",\"\",COUNTIFS(Planning!$EX$6:$GB$200,A16))","v":""},{"$f":"IF(A16=\"\",\"\",COUNTIFS(Planning!$GC$6:$HF$200,A16))","v":""},{"$f":"IF(A16=\"\",\"\",COUNTIFS(Planning!$HG$6:$IK$200,A16))","v":""},{"$f":"IF(A16=\"\",\"\",COUNTIFS(Planning!$IL$6:$JO$200,A16))","v":""},{"$f":"IF(A16=\"\",\"\",COUNTIFS(Planning!$JP$6:$KT$200,A16))","v":""},{"$f":"IF(A16=\"\",\"\",COUNTIFS(Planning!$KU$6:$LY$200,A16))","v":""},{"$f":"IF(A16=\"\",\"\",COUNTIFS(Planning!$LZ$6:$NC$200,A16))","v":""},{"$f":"IF(A16=\"\",\"\",COUNTIFS(Planning!$ND$6:$OH$200,A16))","v":""},{"$f":"IF(A16=\"\",\"\",COUNTIFS(Planning!$OI$6:$PL$200,A16))","v":""},{"$f":"IF(A16=\"\",\"\",COUNTIFS(Planning!$PM$6:$QQ$200,A16))","v":""},{"$f":"IF(A16=\"\",\"\",COUNTIFS(Planning!$QR$6:$RV$200,A16))","v":""},{"$f":"IF(A16=\"\",\"\",COUNTIFS(Planning!$RW$6:$SX$200,A16))","v":""},{"$f":"IF(A16=\"\",\"\",COUNTIFS(Planning!$SY$6:$UC$200,A16))","v":""},{"$f":"IF(A16=\"\",\"\",COUNTIFS(Planning!$UD$6:$VG$200,A16))","v":""},{"$f":"IF(A16=\"\",\"\",COUNTIFS(Planning!$VH$6:$WL$200,A16))","v":""},{"$f":"IF(A16=\"\",\"\",COUNTIFS(Planning!$WM$6:$XP$200,A16))","v":""},{"$f":"IF(A16=\"\",\"\",COUNTIFS(Planning!$XQ$6:$YU$200,A16))","v":""},{"$f":"IF(A16=\"\",\"\",COUNTIFS(Planning!$YV$6:$ZZ$200,A16))","v":""},{"$f":"IF(A16=\"\",\"\",COUNTIFS(Planning!$AAA$6:$ABD$200,A16))","v":""},{"$f":"IF(A16=\"\",\"\",COUNTIFS(Planning!$ABE$6:$ACI$200,A16))","v":""},{"$f":"IF(A16=\"\",\"\",COUNTIFS(Planning!$ACJ$6:$ADM$200,A16))","v":""},{"$f":"IF(A16=\"\",\"\",COUNTIFS(Planning!$ADN$6:$AER$200,A16))","v":""},{"$f":"IF(A16=\"\",\"\",COUNTIFS(Planning!$AES$6:$AFW$200,A16))","v":""},{"$f":"IF(A16=\"\",\"\",COUNTIFS(Planning!$AFX$6:$AGZ$200,A16))","v":""},{"$f":"IF(A16=\"\",\"\",COUNTIFS(Planning!$AHA$6:$AIE$200,A16))","v":""},{"$f":"IF(A16=\"\",\"\",COUNTIFS(Planning!$AIF$6:$AJI$200,A16))","v":""},{"$f":"IF(A16=\"\",\"\",COUNTIFS(Planning!$AJJ$6:$AKN$200,A16))","v":""},{"$f":"IF(A16=\"\",\"\",COUNTIFS(Planning!$AKO$6:$ALR$200,A16))","v":""},{"$f":"IF(A16=\"\",\"\",COUNTIFS(Planning!$ALS$6:$AMW$200,A16))","v":""},{"$f":"IF(A16=\"\",\"\",COUNTIFS(Planning!$AMX$6:$AOB$200,A16))","v":""},{"$f":"IF(A16=\"\",\"\",COUNTIFS(Planning!$AOC$6:$APF$200,A16))","v":""},{"$f":"IF(A16=\"\",\"\",COUNTIFS(Planning!$APG$6:$AQK$200,A16))","v":""},{"$f":"IF(A16=\"\",\"\",COUNTIFS(Planning!$AQL$6:$ARO$200,A16))","v":""},{"$f":"IF(A16=\"\",\"\",COUNTIFS(Planning!$ARP$6:$AST$200,A16))","v":""},{"$f":"IF(A16=\"\",\"\",COUNTIFS(Planning!$ASU$6:$ATY$200,A16))","v":""},{"$f":"IF(A16=\"\",\"\",COUNTIFS(Planning!$ATZ$6:$AVA$200,A16))","v":""},{"$f":"IF(A16=\"\",\"\",COUNTIFS(Planning!$AVB$6:$AWF$200,A16))","v":""},{"$f":"IF(A16=\"\",\"\",COUNTIFS(Planning!$AWG$6:$AXJ$200,A16))","v":""},{"$f":"IF(A16=\"\",\"\",COUNTIFS(Planning!$AXK$6:$AYO$200,A16))","v":""},{"$f":"IF(A16=\"\",\"\",COUNTIFS(Planning!$AYP$6:$AZS$200,A16))","v":""}]
[{"$f":"IF(LEN(Leerlingen!B15)>0,Leerlingen!B15,\"\")","v":""},{"$f":"IF(A17=\"\",\"\",COUNTIFS(Planning!$C$6:$AG$200,A17))","v":""},{"$f":"IF(A17=\"\",\"\",COUNTIFS(Planning!$AH$6:$BK$200,A17))","v":""},{"$f":"IF(A17=\"\",\"\",COUNTIFS(Planning!$BL$6:$CP$200,A17))","v":""},{"$f":"IF(A17=\"\",\"\",COUNTIFS(Planning!$CQ$6:$DU$200,A17))","v":""},{"$f":"IF(A17=\"\",\"\",COUNTIFS(Planning!$DV$6:$EW$200,A17))","v":""},{"$f":"IF(A17=\"\",\"\",COUNTIFS(Planning!$EX$6:$GB$200,A17))","v":""},{"$f":"IF(A17=\"\",\"\",COUNTIFS(Planning!$GC$6:$HF$200,A17))","v":""},{"$f":"IF(A17=\"\",\"\",COUNTIFS(Planning!$HG$6:$IK$200,A17))","v":""},{"$f":"IF(A17=\"\",\"\",COUNTIFS(Planning!$IL$6:$JO$200,A17))","v":""},{"$f":"IF(A17=\"\",\"\",COUNTIFS(Planning!$JP$6:$KT$200,A17))","v":""},{"$f":"IF(A17=\"\",\"\",COUNTIFS(Planning!$KU$6:$LY$200,A17))","v":""},{"$f":"IF(A17=\"\",\"\",COUNTIFS(Planning!$LZ$6:$NC$200,A17))","v":""},{"$f":"IF(A17=\"\",\"\",COUNTIFS(Planning!$ND$6:$OH$200,A17))","v":""},{"$f":"IF(A17=\"\",\"\",COUNTIFS(Planning!$OI$6:$PL$200,A17))","v":""},{"$f":"IF(A17=\"\",\"\",COUNTIFS(Planning!$PM$6:$QQ$200,A17))","v":""},{"$f":"IF(A17=\"\",\"\",COUNTIFS(Planning!$QR$6:$RV$200,A17))","v":""},{"$f":"IF(A17=\"\",\"\",COUNTIFS(Planning!$RW$6:$SX$200,A17))","v":""},{"$f":"IF(A17=\"\",\"\",COUNTIFS(Planning!$SY$6:$UC$200,A17))","v":""},{"$f":"IF(A17=\"\",\"\",COUNTIFS(Planning!$UD$6:$VG$200,A17))","v":""},{"$f":"IF(A17=\"\",\"\",COUNTIFS(Planning!$VH$6:$WL$200,A17))","v":""},{"$f":"IF(A17=\"\",\"\",COUNTIFS(Planning!$WM$6:$XP$200,A17))","v":""},{"$f":"IF(A17=\"\",\"\",COUNTIFS(Planning!$XQ$6:$YU$200,A17))","v":""},{"$f":"IF(A17=\"\",\"\",COUNTIFS(Planning!$YV$6:$ZZ$200,A17))","v":""},{"$f":"IF(A17=\"\",\"\",COUNTIFS(Planning!$AAA$6:$ABD$200,A17))","v":""},{"$f":"IF(A17=\"\",\"\",COUNTIFS(Planning!$ABE$6:$ACI$200,A17))","v":""},{"$f":"IF(A17=\"\",\"\",COUNTIFS(Planning!$ACJ$6:$ADM$200,A17))","v":""},{"$f":"IF(A17=\"\",\"\",COUNTIFS(Planning!$ADN$6:$AER$200,A17))","v":""},{"$f":"IF(A17=\"\",\"\",COUNTIFS(Planning!$AES$6:$AFW$200,A17))","v":""},{"$f":"IF(A17=\"\",\"\",COUNTIFS(Planning!$AFX$6:$AGZ$200,A17))","v":""},{"$f":"IF(A17=\"\",\"\",COUNTIFS(Planning!$AHA$6:$AIE$200,A17))","v":""},{"$f":"IF(A17=\"\",\"\",COUNTIFS(Planning!$AIF$6:$AJI$200,A17))","v":""},{"$f":"IF(A17=\"\",\"\",COUNTIFS(Planning!$AJJ$6:$AKN$200,A17))","v":""},{"$f":"IF(A17=\"\",\"\",COUNTIFS(Planning!$AKO$6:$ALR$200,A17))","v":""},{"$f":"IF(A17=\"\",\"\",COUNTIFS(Planning!$ALS$6:$AMW$200,A17))","v":""},{"$f":"IF(A17=\"\",\"\",COUNTIFS(Planning!$AMX$6:$AOB$200,A17))","v":""},{"$f":"IF(A17=\"\",\"\",COUNTIFS(Planning!$AOC$6:$APF$200,A17))","v":""},{"$f":"IF(A17=\"\",\"\",COUNTIFS(Planning!$APG$6:$AQK$200,A17))","v":""},{"$f":"IF(A17=\"\",\"\",COUNTIFS(Planning!$AQL$6:$ARO$200,A17))","v":""},{"$f":"IF(A17=\"\",\"\",COUNTIFS(Planning!$ARP$6:$AST$200,A17))","v":""},{"$f":"IF(A17=\"\",\"\",COUNTIFS(Planning!$ASU$6:$ATY$200,A17))","v":""},{"$f":"IF(A17=\"\",\"\",COUNTIFS(Planning!$ATZ$6:$AVA$200,A17))","v":""},{"$f":"IF(A17=\"\",\"\",COUNTIFS(Planning!$AVB$6:$AWF$200,A17))","v":""},{"$f":"IF(A17=\"\",\"\",COUNTIFS(Planning!$AWG$6:$AXJ$200,A17))","v":""},{"$f":"IF(A17=\"\",\"\",COUNTIFS(Planning!$AXK$6:$AYO$200,A17))","v":""},{"$f":"IF(A17=\"\",\"\",COUNTIFS(Planning!$AYP$6:$AZS$200,A17))","v":""}]
[{"$f":"IF(LEN(Leerlingen!B16)>0,Leerlingen!B16,\"\")","v":""},{"$f":"IF(A18=\"\",\"\",COUNTIFS(Planning!$C$6:$AG$200,A18))","v":""},{"$f":"IF(A18=\"\",\"\",COUNTIFS(Planning!$AH$6:$BK$200,A18))","v":""},{"$f":"IF(A18=\"\",\"\",COUNTIFS(Planning!$BL$6:$CP$200,A18))","v":""},{"$f":"IF(A18=\"\",\"\",COUNTIFS(Planning!$CQ$6:$DU$200,A18))","v":""},{"$f":"IF(A18=\"\",\"\",COUNTIFS(Planning!$DV$6:$EW$200,A18))","v":""},{"$f":"IF(A18=\"\",\"\",COUNTIFS(Planning!$EX$6:$GB$200,A18))","v":""},{"$f":"IF(A18=\"\",\"\",COUNTIFS(Planning!$GC$6:$HF$200,A18))","v":""},{"$f":"IF(A18=\"\",\"\",COUNTIFS(Planning!$HG$6:$IK$200,A18))","v":""},{"$f":"IF(A18=\"\",\"\",COUNTIFS(Planning!$IL$6:$JO$200,A18))","v":""},{"$f":"IF(A18=\"\",\"\",COUNTIFS(Planning!$JP$6:$KT$200,A18))","v":""},{"$f":"IF(A18=\"\",\"\",COUNTIFS(Planning!$KU$6:$LY$200,A18))","v":""},{"$f":"IF(A18=\"\",\"\",COUNTIFS(Planning!$LZ$6:$NC$200,A18))","v":""},{"$f":"IF(A18=\"\",\"\",COUNTIFS(Planning!$ND$6:$OH$200,A18))","v":""},{"$f":"IF(A18=\"\",\"\",COUNTIFS(Planning!$OI$6:$PL$200,A18))","v":""},{"$f":"IF(A18=\"\",\"\",COUNTIFS(Planning!$PM$6:$QQ$200,A18))","v":""},{"$f":"IF(A18=\"\",\"\",COUNTIFS(Planning!$QR$6:$RV$200,A18))","v":""},{"$f":"IF(A18=\"\",\"\",COUNTIFS(Planning!$RW$6:$SX$200,A18))","v":""},{"$f":"IF(A18=\"\",\"\",COUNTIFS(Planning!$SY$6:$UC$200,A18))","v":""},{"$f":"IF(A18=\"\",\"\",COUNTIFS(Planning!$UD$6:$VG$200,A18))","v":""},{"$f":"IF(A18=\"\",\"\",COUNTIFS(Planning!$VH$6:$WL$200,A18))","v":""},{"$f":"IF(A18=\"\",\"\",COUNTIFS(Planning!$WM$6:$XP$200,A18))","v":""},{"$f":"IF(A18=\"\",\"\",COUNTIFS(Planning!$XQ$6:$YU$200,A18))","v":""},{"$f":"IF(A18=\"\",\"\",COUNTIFS(Planning!$YV$6:$ZZ$200,A18))","v":""},{"$f":"IF(A18=\"\",\"\",COUNTIFS(Planning!$AAA$6:$ABD$200,A18))","v":""},{"$f":"IF(A18=\"\",\"\",COUNTIFS(Planning!$ABE$6:$ACI$200,A18))","v":""},{"$f":"IF(A18=\"\",\"\",COUNTIFS(Planning!$ACJ$6:$ADM$200,A18))","v":""},{"$f":"IF(A18=\"\",\"\",COUNTIFS(Planning!$ADN$6:$AER$200,A18))","v":""},{"$f":"IF(A18=\"\",\"\",COUNTIFS(Planning!$AES$6:$AFW$200,A18))","v":""},{"$f":"IF(A18=\"\",\"\",COUNTIFS(Planning!$AFX$6:$AGZ$200,A18))","v":""},{"$f":"IF(A18=\"\",\"\",COUNTIFS(Planning!$AHA$6:$AIE$200,A18))","v":""},{"$f":"IF(A18=\"\",\"\",COUNTIFS(Planning!$AIF$6:$AJI$200,A18))","v":""},{"$f":"IF(A18=\"\",\"\",COUNTIFS(Planning!$AJJ$6:$AKN$200,A18))","v":""},{"$f":"IF(A18=\"\",\"\",COUNTIFS(Planning!$AKO$6:$ALR$200,A18))","v":""},{"$f":"IF(A18=\"\",\"\",COUNTIFS(Planning!$ALS$6:$AMW$200,A18))","v":""},{"$f":"IF(A18=\"\",\"\",COUNTIFS(Planning!$AMX$6:$AOB$200,A18))","v":""},{"$f":"IF(A18=\"\",\"\",COUNTIFS(Planning!$AOC$6:$APF$200,A18))","v":""},{"$f":"IF(A18=\"\",\"\",COUNTIFS(Planning!$APG$6:$AQK$200,A18))","v":""},{"$f":"IF(A18=\"\",\"\",COUNTIFS(Planning!$AQL$6:$ARO$200,A18))","v":""},{"$f":"IF(A18=\"\",\"\",COUNTIFS(Planning!$ARP$6:$AST$200,A18))","v":""},{"$f":"IF(A18=\"\",\"\",COUNTIFS(Planning!$ASU$6:$ATY$200,A18))","v":""},{"$f":"IF(A18=\"\",\"\",COUNTIFS(Planning!$ATZ$6:$AVA$200,A18))","v":""},{"$f":"IF(A18=\"\",\"\",COUNTIFS(Planning!$AVB$6:$AWF$200,A18))","v":""},{"$f":"IF(A18=\"\",\"\",COUNTIFS(Planning!$AWG$6:$AXJ$200,A18))","v":""},{"$f":"IF(A18=\"\",\"\",COUNTIFS(Planning!$AXK$6:$AYO$200,A18))","v":""},{"$f":"IF(A18=\"\",\"\",COUNTIFS(Planning!$AYP$6:$AZS$200,A18))","v":""}]
[{"$f":"IF(LEN(Leerlingen!B17)>0,Leerlingen!B17,\"\")","v":""},{"$f":"IF(A19=\"\",\"\",COUNTIFS(Planning!$C$6:$AG$200,A19))","v":""},{"$f":"IF(A19=\"\",\"\",COUNTIFS(Planning!$AH$6:$BK$200,A19))","v":""},{"$f":"IF(A19=\"\",\"\",COUNTIFS(Planning!$BL$6:$CP$200,A19))","v":""},{"$f":"IF(A19=\"\",\"\",COUNTIFS(Planning!$CQ$6:$DU$200,A19))","v":""},{"$f":"IF(A19=\"\",\"\",COUNTIFS(Planning!$DV$6:$EW$200,A19))","v":""},{"$f":"IF(A19=\"\",\"\",COUNTIFS(Planning!$EX$6:$GB$200,A19))","v":""},{"$f":"IF(A19=\"\",\"\",COUNTIFS(Planning!$GC$6:$HF$200,A19))","v":""},{"$f":"IF(A19=\"\",\"\",COUNTIFS(Planning!$HG$6:$IK$200,A19))","v":""},{"$f":"IF(A19=\"\",\"\",COUNTIFS(Planning!$IL$6:$JO$200,A19))","v":""},{"$f":"IF(A19=\"\",\"\",COUNTIFS(Planning!$JP$6:$KT$200,A19))","v":""},{"$f":"IF(A19=\"\",\"\",COUNTIFS(Planning!$KU$6:$LY$200,A19))","v":""},{"$f":"IF(A19=\"\",\"\",COUNTIFS(Planning!$LZ$6:$NC$200,A19))","v":""},{"$f":"IF(A19=\"\",\"\",COUNTIFS(Planning!$ND$6:$OH$200,A19))","v":""},{"$f":"IF(A19=\"\",\"\",COUNTIFS(Planning!$OI$6:$PL$200,A19))","v":""},{"$f":"IF(A19=\"\",\"\",COUNTIFS(Planning!$PM$6:$QQ$200,A19))","v":""},{"$f":"IF(A19=\"\",\"\",COUNTIFS(Planning!$QR$6:$RV$200,A19))","v":""},{"$f":"IF(A19=\"\",\"\",COUNTIFS(Planning!$RW$6:$SX$200,A19))","v":""},{"$f":"IF(A19=\"\",\"\",COUNTIFS(Planning!$SY$6:$UC$200,A19))","v":""},{"$f":"IF(A19=\"\",\"\",COUNTIFS(Planning!$UD$6:$VG$200,A19))","v":""},{"$f":"IF(A19=\"\",\"\",COUNTIFS(Planning!$VH$6:$WL$200,A19))","v":""},{"$f":"IF(A19=\"\",\"\",COUNTIFS(Planning!$WM$6:$XP$200,A19))","v":""},{"$f":"IF(A19=\"\",\"\",COUNTIFS(Planning!$XQ$6:$YU$200,A19))","v":""},{"$f":"IF(A19=\"\",\"\",COUNTIFS(Planning!$YV$6:$ZZ$200,A19))","v":""},{"$f":"IF(A19=\"\",\"\",COUNTIFS(Planning!$AAA$6:$ABD$200,A19))","v":""},{"$f":"IF(A19=\"\",\"\",COUNTIFS(Planning!$ABE$6:$ACI$200,A19))","v":""},{"$f":"IF(A19=\"\",\"\",COUNTIFS(Planning!$ACJ$6:$ADM$200,A19))","v":""},{"$f":"IF(A19=\"\",\"\",COUNTIFS(Planning!$ADN$6:$AER$200,A19))","v":""},{"$f":"IF(A19=\"\",\"\",COUNTIFS(Planning!$AES$6:$AFW$200,A19))","v":""},{"$f":"IF(A19=\"\",\"\",COUNTIFS(Planning!$AFX$6:$AGZ$200,A19))","v":""},{"$f":"IF(A19=\"\",\"\",COUNTIFS(Planning!$AHA$6:$AIE$200,A19))","v":""},{"$f":"IF(A19=\"\",\"\",COUNTIFS(Planning!$AIF$6:$AJI$200,A19))","v":""},{"$f":"IF(A19=\"\",\"\",COUNTIFS(Planning!$AJJ$6:$AKN$200,A19))","v":""},{"$f":"IF(A19=\"\",\"\",COUNTIFS(Planning!$AKO$6:$ALR$200,A19))","v":""},{"$f":"IF(A19=\"\",\"\",COUNTIFS(Planning!$ALS$6:$AMW$200,A19))","v":""},{"$f":"IF(A19=\"\",\"\",COUNTIFS(Planning!$AMX$6:$AOB$200,A19))","v":""},{"$f":"IF(A19=\"\",\"\",COUNTIFS(Planning!$AOC$6:$APF$200,A19))","v":""},{"$f":"IF(A19=\"\",\"\",COUNTIFS(Planning!$APG$6:$AQK$200,A19))","v":""},{"$f":"IF(A19=\"\",\"\",COUNTIFS(Planning!$AQL$6:$ARO$200,A19))","v":""},{"$f":"IF(A19=\"\",\"\",COUNTIFS(Planning!$ARP$6:$AST$200,A19))","v":""},{"$f":"IF(A19=\"\",\"\",COUNTIFS(Planning!$ASU$6:$ATY$200,A19))","v":""},{"$f":"IF(A19=\"\",\"\",COUNTIFS(Planning!$ATZ$6:$AVA$200,A19))","v":""},{"$f":"IF(A19=\"\",\"\",COUNTIFS(Planning!$AVB$6:$AWF$200,A19))","v":""},{"$f":"IF(A19=\"\",\"\",COUNTIFS(Planning!$AWG$6:$AXJ$200,A19))","v":""},{"$f":"IF(A19=\"\",\"\",COUNTIFS(Planning!$AXK$6:$AYO$200,A19))","v":""},{"$f":"IF(A19=\"\",\"\",COUNTIFS(Planning!$AYP$6:$AZS$200,A19))","v":""}]
[{"$f":"IF(LEN(Leerlingen!B18)>0,Leerlingen!B18,\"\")","v":""},{"$f":"IF(A20=\"\",\"\",COUNTIFS(Planning!$C$6:$AG$200,A20))","v":""},{"$f":"IF(A20=\"\",\"\",COUNTIFS(Planning!$AH$6:$BK$200,A20))","v":""},{"$f":"IF(A20=\"\",\"\",COUNTIFS(Planning!$BL$6:$CP$200,A20))","v":""},{"$f":"IF(A20=\"\",\"\",COUNTIFS(Planning!$CQ$6:$DU$200,A20))","v":""},{"$f":"IF(A20=\"\",\"\",COUNTIFS(Planning!$DV$6:$EW$200,A20))","v":""},{"$f":"IF(A20=\"\",\"\",COUNTIFS(Planning!$EX$6:$GB$200,A20))","v":""},{"$f":"IF(A20=\"\",\"\",COUNTIFS(Planning!$GC$6:$HF$200,A20))","v":""},{"$f":"IF(A20=\"\",\"\",COUNTIFS(Planning!$HG$6:$IK$200,A20))","v":""},{"$f":"IF(A20=\"\",\"\",COUNTIFS(Planning!$IL$6:$JO$200,A20))","v":""},{"$f":"IF(A20=\"\",\"\",COUNTIFS(Planning!$JP$6:$KT$200,A20))","v":""},{"$f":"IF(A20=\"\",\"\",COUNTIFS(Planning!$KU$6:$LY$200,A20))","v":""},{"$f":"IF(A20=\"\",\"\",COUNTIFS(Planning!$LZ$6:$NC$200,A20))","v":""},{"$f":"IF(A20=\"\",\"\",COUNTIFS(Planning!$ND$6:$OH$200,A20))","v":""},{"$f":"IF(A20=\"\",\"\",COUNTIFS(Planning!$OI$6:$PL$200,A20))","v":""},{"$f":"IF(A20=\"\",\"\",COUNTIFS(Planning!$PM$6:$QQ$200,A20))","v":""},{"$f":"IF(A20=\"\",\"\",COUNTIFS(Planning!$QR$6:$RV$200,A20))","v":""},{"$f":"IF(A20=\"\",\"\",COUNTIFS(Planning!$RW$6:$SX$200,A20))","v":""},{"$f":"IF(A20=\"\",\"\",COUNTIFS(Planning!$SY$6:$UC$200,A20))","v":""},{"$f":"IF(A20=\"\",\"\",COUNTIFS(Planning!$UD$6:$VG$200,A20))","v":""},{"$f":"IF(A20=\"\",\"\",COUNTIFS(Planning!$VH$6:$WL$200,A20))","v":""},{"$f":"IF(A20=\"\",\"\",COUNTIFS(Planning!$WM$6:$XP$200,A20))","v":""},{"$f":"IF(A20=\"\",\"\",COUNTIFS(Planning!$XQ$6:$YU$200,A20))","v":""},{"$f":"IF(A20=\"\",\"\",COUNTIFS(Planning!$YV$6:$ZZ$200,A20))","v":""},{"$f":"IF(A20=\"\",\"\",COUNTIFS(Planning!$AAA$6:$ABD$200,A20))","v":""},{"$f":"IF(A20=\"\",\"\",COUNTIFS(Planning!$ABE$6:$ACI$200,A20))","v":""},{"$f":"IF(A20=\"\",\"\",COUNTIFS(Planning!$ACJ$6:$ADM$200,A20))","v":""},{"$f":"IF(A20=\"\",\"\",COUNTIFS(Planning!$ADN$6:$AER$200,A20))","v":""},{"$f":"IF(A20=\"\",\"\",COUNTIFS(Planning!$AES$6:$AFW$200,A20))","v":""},{"$f":"IF(A20=\"\",\"\",COUNTIFS(Planning!$AFX$6:$AGZ$200,A20))","v":""},{"$f":"IF(A20=\"\",\"\",COUNTIFS(Planning!$AHA$6:$AIE$200,A20))","v":""},{"$f":"IF(A20=\"\",\"\",COUNTIFS(Planning!$AIF$6:$AJI$200,A20))","v":""},{"$f":"IF(A20=\"\",\"\",COUNTIFS(Planning!$AJJ$6:$AKN$200,A20))","v":""},{"$f":"IF(A20=\"\",\"\",COUNTIFS(Planning!$AKO$6:$ALR$200,A20))","v":""},{"$f":"IF(A20=\"\",\"\",COUNTIFS(Planning!$ALS$6:$AMW$200,A20))","v":""},{"$f":"IF(A20=\"\",\"\",COUNTIFS(Planning!$AMX$6:$AOB$200,A20))","v":""},{"$f":"IF(A20=\"\",\"\",COUNTIFS(Planning!$AOC$6:$APF$200,A20))","v":""},{"$f":"IF(A20=\"\",\"\",COUNTIFS(Planning!$APG$6:$AQK$200,A20))","v":""},{"$f":"IF(A20=\"\",\"\",COUNTIFS(Planning!$AQL$6:$ARO$200,A20))","v":""},{"$f":"IF(A20=\"\",\"\",COUNTIFS(Planning!$ARP$6:$AST$200,A20))","v":""},{"$f":"IF(A20=\"\",\"\",COUNTIFS(Planning!$ASU$6:$ATY$200,A20))","v":""},{"$f":"IF(A20=\"\",\"\",COUNTIFS(Planning!$ATZ$6:$AVA$200,A20))","v":""},{"$f":"IF(A20=\"\",\"\",COUNTIFS(Planning!$AVB$6:$AWF$200,A20))","v":""},{"$f":"IF(A20=\"\",\"\",COUNTIFS(Planning!$AWG$6:$AXJ$200,A20))","v":""},{"$f":"IF(A20=\"\",\"\",COUNTIFS(Planning!$AXK$6:$AYO$200,A20))","v":""},{"$f":"IF(A20=\"\",\"\",COUNTIFS(Planning!$AYP$6:$AZS$200,A20))","v":""}]
[{"$f":"IF(LEN(Leerlingen!B19)>0,Leerlingen!B19,\"\")","v":""},{"$f":"IF(A21=\"\",\"\",COUNTIFS(Planning!$C$6:$AG$200,A21))","v":""},{"$f":"IF(A21=\"\",\"\",COUNTIFS(Planning!$AH$6:$BK$200,A21))","v":""},{"$f":"IF(A21=\"\",\"\",COUNTIFS(Planning!$BL$6:$CP$200,A21))","v":""},{"$f":"IF(A21=\"\",\"\",COUNTIFS(Planning!$CQ$6:$DU$200,A21))","v":""},{"$f":"IF(A21=\"\",\"\",COUNTIFS(Planning!$DV$6:$EW$200,A21))","v":""},{"$f":"IF(A21=\"\",\"\",COUNTIFS(Planning!$EX$6:$GB$200,A21))","v":""},{"$f":"IF(A21=\"\",\"\",COUNTIFS(Planning!$GC$6:$HF$200,A21))","v":""},{"$f":"IF(A21=\"\",\"\",COUNTIFS(Planning!$HG$6:$IK$200,A21))","v":""},{"$f":"IF(A21=\"\",\"\",COUNTIFS(Planning!$IL$6:$JO$200,A21))","v":""},{"$f":"IF(A21=\"\",\"\",COUNTIFS(Planning!$JP$6:$KT$200,A21))","v":""},{"$f":"IF(A21=\"\",\"\",COUNTIFS(Planning!$KU$6:$LY$200,A21))","v":""},{"$f":"IF(A21=\"\",\"\",COUNTIFS(Planning!$LZ$6:$NC$200,A21))","v":""},{"$f":"IF(A21=\"\",\"\",COUNTIFS(Planning!$ND$6:$OH$200,A21))","v":""},{"$f":"IF(A21=\"\",\"\",COUNTIFS(Planning!$OI$6:$PL$200,A21))","v":""},{"$f":"IF(A21=\"\",\"\",COUNTIFS(Planning!$PM$6:$QQ$200,A21))","v":""},{"$f":"IF(A21=\"\",\"\",COUNTIFS(Planning!$QR$6:$RV$200,A21))","v":""},{"$f":"IF(A21=\"\",\"\",COUNTIFS(Planning!$RW$6:$SX$200,A21))","v":""},{"$f":"IF(A21=\"\",\"\",COUNTIFS(Planning!$SY$6:$UC$200,A21))","v":""},{"$f":"IF(A21=\"\",\"\",COUNTIFS(Planning!$UD$6:$VG$200,A21))","v":""},{"$f":"IF(A21=\"\",\"\",COUNTIFS(Planning!$VH$6:$WL$200,A21))","v":""},{"$f":"IF(A21=\"\",\"\",COUNTIFS(Planning!$WM$6:$XP$200,A21))","v":""},{"$f":"IF(A21=\"\",\"\",COUNTIFS(Planning!$XQ$6:$YU$200,A21))","v":""},{"$f":"IF(A21=\"\",\"\",COUNTIFS(Planning!$YV$6:$ZZ$200,A21))","v":""},{"$f":"IF(A21=\"\",\"\",COUNTIFS(Planning!$AAA$6:$ABD$200,A21))","v":""},{"$f":"IF(A21=\"\",\"\",COUNTIFS(Planning!$ABE$6:$ACI$200,A21))","v":""},{"$f":"IF(A21=\"\",\"\",COUNTIFS(Planning!$ACJ$6:$ADM$200,A21))","v":""},{"$f":"IF(A21=\"\",\"\",COUNTIFS(Planning!$ADN$6:$AER$200,A21))","v":""},{"$f":"IF(A21=\"\",\"\",COUNTIFS(Planning!$AES$6:$AFW$200,A21))","v":""},{"$f":"IF(A21=\"\",\"\",COUNTIFS(Planning!$AFX$6:$AGZ$200,A21))","v":""},{"$f":"IF(A21=\"\",\"\",COUNTIFS(Planning!$AHA$6:$AIE$200,A21))","v":""},{"$f":"IF(A21=\"\",\"\",COUNTIFS(Planning!$AIF$6:$AJI$200,A21))","v":""},{"$f":"IF(A21=\"\",\"\",COUNTIFS(Planning!$AJJ$6:$AKN$200,A21))","v":""},{"$f":"IF(A21=\"\",\"\",COUNTIFS(Planning!$AKO$6:$ALR$200,A21))","v":""},{"$f":"IF(A21=\"\",\"\",COUNTIFS(Planning!$ALS$6:$AMW$200,A21))","v":""},{"$f":"IF(A21=\"\",\"\",COUNTIFS(Planning!$AMX$6:$AOB$200,A21))","v":""},{"$f":"IF(A21=\"\",\"\",COUNTIFS(Planning!$AOC$6:$APF$200,A21))","v":""},{"$f":"IF(A21=\"\",\"\",COUNTIFS(Planning!$APG$6:$AQK$200,A21))","v":""},{"$f":"IF(A21=\"\",\"\",COUNTIFS(Planning!$AQL$6:$ARO$200,A21))","v":""},{"$f":"IF(A21=\"\",\"\",COUNTIFS(Planning!$ARP$6:$AST$200,A21))","v":""},{"$f":"IF(A21=\"\",\"\",COUNTIFS(Planning!$ASU$6:$ATY$200,A21))","v":""},{"$f":"IF(A21=\"\",\"\",COUNTIFS(Planning!$ATZ$6:$AVA$200,A21))","v":""},{"$f":"IF(A21=\"\",\"\",COUNTIFS(Planning!$AVB$6:$AWF$200,A21))","v":""},{"$f":"IF(A21=\"\",\"\",COUNTIFS(Planning!$AWG$6:$AXJ$200,A21))","v":""},{"$f":"IF(A21=\"\",\"\",COUNTIFS(Planning!$AXK$6:$AYO$200,A21))","v":""},{"$f":"IF(A21=\"\",\"\",COUNTIFS(Planning!$AYP$6:$AZS$200,A21))","v":""}]
[{"$f":"IF(LEN(Leerlingen!B20)>0,Leerlingen!B20,\"\")","v":""},{"$f":"IF(A22=\"\",\"\",COUNTIFS(Planning!$C$6:$AG$200,A22))","v":""},{"$f":"IF(A22=\"\",\"\",COUNTIFS(Planning!$AH$6:$BK$200,A22))","v":""},{"$f":"IF(A22=\"\",\"\",COUNTIFS(Planning!$BL$6:$CP$200,A22))","v":""},{"$f":"IF(A22=\"\",\"\",COUNTIFS(Planning!$CQ$6:$DU$200,A22))","v":""},{"$f":"IF(A22=\"\",\"\",COUNTIFS(Planning!$DV$6:$EW$200,A22))","v":""},{"$f":"IF(A22=\"\",\"\",COUNTIFS(Planning!$EX$6:$GB$200,A22))","v":""},{"$f":"IF(A22=\"\",\"\",COUNTIFS(Planning!$GC$6:$HF$200,A22))","v":""},{"$f":"IF(A22=\"\",\"\",COUNTIFS(Planning!$HG$6:$IK$200,A22))","v":""},{"$f":"IF(A22=\"\",\"\",COUNTIFS(Planning!$IL$6:$JO$200,A22))","v":""},{"$f":"IF(A22=\"\",\"\",COUNTIFS(Planning!$JP$6:$KT$200,A22))","v":""},{"$f":"IF(A22=\"\",\"\",COUNTIFS(Planning!$KU$6:$LY$200,A22))","v":""},{"$f":"IF(A22=\"\",\"\",COUNTIFS(Planning!$LZ$6:$NC$200,A22))","v":""},{"$f":"IF(A22=\"\",\"\",COUNTIFS(Planning!$ND$6:$OH$200,A22))","v":""},{"$f":"IF(A22=\"\",\"\",COUNTIFS(Planning!$OI$6:$PL$200,A22))","v":""},{"$f":"IF(A22=\"\",\"\",COUNTIFS(Planning!$PM$6:$QQ$200,A22))","v":""},{"$f":"IF(A22=\"\",\"\",COUNTIFS(Planning!$QR$6:$RV$200,A22))","v":""},{"$f":"IF(A22=\"\",\"\",COUNTIFS(Planning!$RW$6:$SX$200,A22))","v":""},{"$f":"IF(A22=\"\",\"\",COUNTIFS(Planning!$SY$6:$UC$200,A22))","v":""},{"$f":"IF(A22=\"\",\"\",COUNTIFS(Planning!$UD$6:$VG$200,A22))","v":""},{"$f":"IF(A22=\"\",\"\",COUNTIFS(Planning!$VH$6:$WL$200,A22))","v":""},{"$f":"IF(A22=\"\",\"\",COUNTIFS(Planning!$WM$6:$XP$200,A22))","v":""},{"$f":"IF(A22=\"\",\"\",COUNTIFS(Planning!$XQ$6:$YU$200,A22))","v":""},{"$f":"IF(A22=\"\",\"\",COUNTIFS(Planning!$YV$6:$ZZ$200,A22))","v":""},{"$f":"IF(A22=\"\",\"\",COUNTIFS(Planning!$AAA$6:$ABD$200,A22))","v":""},{"$f":"IF(A22=\"\",\"\",COUNTIFS(Planning!$ABE$6:$ACI$200,A22))","v":""},{"$f":"IF(A22=\"\",\"\",COUNTIFS(Planning!$ACJ$6:$ADM$200,A22))","v":""},{"$f":"IF(A22=\"\",\"\",COUNTIFS(Planning!$ADN$6:$AER$200,A22))","v":""},{"$f":"IF(A22=\"\",\"\",COUNTIFS(Planning!$AES$6:$AFW$200,A22))","v":""},{"$f":"IF(A22=\"\",\"\",COUNTIFS(Planning!$AFX$6:$AGZ$200,A22))","v":""},{"$f":"IF(A22=\"\",\"\",COUNTIFS(Planning!$AHA$6:$AIE$200,A22))","v":""},{"$f":"IF(A22=\"\",\"\",COUNTIFS(Planning!$AIF$6:$AJI$200,A22))","v":""},{"$f":"IF(A22=\"\",\"\",COUNTIFS(Planning!$AJJ$6:$AKN$200,A22))","v":""},{"$f":"IF(A22=\"\",\"\",COUNTIFS(Planning!$AKO$6:$ALR$200,A22))","v":""},{"$f":"IF(A22=\"\",\"\",COUNTIFS(Planning!$ALS$6:$AMW$200,A22))","v":""},{"$f":"IF(A22=\"\",\"\",COUNTIFS(Planning!$AMX$6:$AOB$200,A22))","v":""},{"$f":"IF(A22=\"\",\"\",COUNTIFS(Planning!$AOC$6:$APF$200,A22))","v":""},{"$f":"IF(A22=\"\",\"\",COUNTIFS(Planning!$APG$6:$AQK$200,A22))","v":""},{"$f":"IF(A22=\"\",\"\",COUNTIFS(Planning!$AQL$6:$ARO$200,A22))","v":""},{"$f":"IF(A22=\"\",\"\",COUNTIFS(Planning!$ARP$6:$AST$200,A22))","v":""},{"$f":"IF(A22=\"\",\"\",COUNTIFS(Planning!$ASU$6:$ATY$200,A22))","v":""},{"$f":"IF(A22=\"\",\"\",COUNTIFS(Planning!$ATZ$6:$AVA$200,A22))","v":""},{"$f":"IF(A22=\"\",\"\",COUNTIFS(Planning!$AVB$6:$AWF$200,A22))","v":""},{"$f":"IF(A22=\"\",\"\",COUNTIFS(Planning!$AWG$6:$AXJ$200,A22))","v":""},{"$f":"IF(A22=\"\",\"\",COUNTIFS(Planning!$AXK$6:$AYO$200,A22))","v":""},{"$f":"IF(A22=\"\",\"\",COUNTIFS(Planning!$AYP$6:$AZS$200,A22))","v":""}]
[{"$f":"IF(LEN(Leerlingen!B21)>0,Leerlingen!B21,\"\")","v":""},{"$f":"IF(A23=\"\",\"\",COUNTIFS(Planning!$C$6:$AG$200,A23))","v":""},{"$f":"IF(A23=\"\",\"\",COUNTIFS(Planning!$AH$6:$BK$200,A23))","v":""},{"$f":"IF(A23=\"\",\"\",COUNTIFS(Planning!$BL$6:$CP$200,A23))","v":""},{"$f":"IF(A23=\"\",\"\",COUNTIFS(Planning!$CQ$6:$DU$200,A23))","v":""},{"$f":"IF(A23=\"\",\"\",COUNTIFS(Planning!$DV$6:$EW$200,A23))","v":""},{"$f":"IF(A23=\"\",\"\",COUNTIFS(Planning!$EX$6:$GB$200,A23))","v":""},{"$f":"IF(A23=\"\",\"\",COUNTIFS(Planning!$GC$6:$HF$200,A23))","v":""},{"$f":"IF(A23=\"\",\"\",COUNTIFS(Planning!$HG$6:$IK$200,A23))","v":""},{"$f":"IF(A23=\"\",\"\",COUNTIFS(Planning!$IL$6:$JO$200,A23))","v":""},{"$f":"IF(A23=\"\",\"\",COUNTIFS(Planning!$JP$6:$KT$200,A23))","v":""},{"$f":"IF(A23=\"\",\"\",COUNTIFS(Planning!$KU$6:$LY$200,A23))","v":""},{"$f":"IF(A23=\"\",\"\",COUNTIFS(Planning!$LZ$6:$NC$200,A23))","v":""},{"$f":"IF(A23=\"\",\"\",COUNTIFS(Planning!$ND$6:$OH$200,A23))","v":""},{"$f":"IF(A23=\"\",\"\",COUNTIFS(Planning!$OI$6:$PL$200,A23))","v":""},{"$f":"IF(A23=\"\",\"\",COUNTIFS(Planning!$PM$6:$QQ$200,A23))","v":""},{"$f":"IF(A23=\"\",\"\",COUNTIFS(Planning!$QR$6:$RV$200,A23))","v":""},{"$f":"IF(A23=\"\",\"\",COUNTIFS(Planning!$RW$6:$SX$200,A23))","v":""},{"$f":"IF(A23=\"\",\"\",COUNTIFS(Planning!$SY$6:$UC$200,A23))","v":""},{"$f":"IF(A23=\"\",\"\",COUNTIFS(Planning!$UD$6:$VG$200,A23))","v":""},{"$f":"IF(A23=\"\",\"\",COUNTIFS(Planning!$VH$6:$WL$200,A23))","v":""},{"$f":"IF(A23=\"\",\"\",COUNTIFS(Planning!$WM$6:$XP$200,A23))","v":""},{"$f":"IF(A23=\"\",\"\",COUNTIFS(Planning!$XQ$6:$YU$200,A23))","v":""},{"$f":"IF(A23=\"\",\"\",COUNTIFS(Planning!$YV$6:$ZZ$200,A23))","v":""},{"$f":"IF(A23=\"\",\"\",COUNTIFS(Planning!$AAA$6:$ABD$200,A23))","v":""},{"$f":"IF(A23=\"\",\"\",COUNTIFS(Planning!$ABE$6:$ACI$200,A23))","v":""},{"$f":"IF(A23=\"\",\"\",COUNTIFS(Planning!$ACJ$6:$ADM$200,A23))","v":""},{"$f":"IF(A23=\"\",\"\",COUNTIFS(Planning!$ADN$6:$AER$200,A23))","v":""},{"$f":"IF(A23=\"\",\"\",COUNTIFS(Planning!$AES$6:$AFW$200,A23))","v":""},{"$f":"IF(A23=\"\",\"\",COUNTIFS(Planning!$AFX$6:$AGZ$200,A23))","v":""},{"$f":"IF(A23=\"\",\"\",COUNTIFS(Planning!$AHA$6:$AIE$200,A23))","v":""},{"$f":"IF(A23=\"\",\"\",COUNTIFS(Planning!$AIF$6:$AJI$200,A23))","v":""},{"$f":"IF(A23=\"\",\"\",COUNTIFS(Planning!$AJJ$6:$AKN$200,A23))","v":""},{"$f":"IF(A23=\"\",\"\",COUNTIFS(Planning!$AKO$6:$ALR$200,A23))","v":""},{"$f":"IF(A23=\"\",\"\",COUNTIFS(Planning!$ALS$6:$AMW$200,A23))","v":""},{"$f":"IF(A23=\"\",\"\",COUNTIFS(Planning!$AMX$6:$AOB$200,A23))","v":""},{"$f":"IF(A23=\"\",\"\",COUNTIFS(Planning!$AOC$6:$APF$200,A23))","v":""},{"$f":"IF(A23=\"\",\"\",COUNTIFS(Planning!$APG$6:$AQK$200,A23))","v":""},{"$f":"IF(A23=\"\",\"\",COUNTIFS(Planning!$AQL$6:$ARO$200,A23))","v":""},{"$f":"IF(A23=\"\",\"\",COUNTIFS(Planning!$ARP$6:$AST$200,A23))","v":""},{"$f":"IF(A23=\"\",\"\",COUNTIFS(Planning!$ASU$6:$ATY$200,A23))","v":""},{"$f":"IF(A23=\"\",\"\",COUNTIFS(Planning!$ATZ$6:$AVA$200,A23))","v":""},{"$f":"IF(A23=\"\",\"\",COUNTIFS(Planning!$AVB$6:$AWF$200,A23))","v":""},{"$f":"IF(A23=\"\",\"\",COUNTIFS(Planning!$AWG$6:$AXJ$200,A23))","v":""},{"$f":"IF(A23=\"\",\"\",COUNTIFS(Planning!$AXK$6:$AYO$200,A23))","v":""},{"$f":"IF(A23=\"\",\"\",COUNTIFS(Planning!$AYP$6:$AZS$200,A23))","v":""}]
[{"$f":"IF(LEN(Leerlingen!B22)>0,Leerlingen!B22,\"\")","v":""},{"$f":"IF(A24=\"\",\"\",COUNTIFS(Planning!$C$6:$AG$200,A24))","v":""},{"$f":"IF(A24=\"\",\"\",COUNTIFS(Planning!$AH$6:$BK$200,A24))","v":""},{"$f":"IF(A24=\"\",\"\",COUNTIFS(Planning!$BL$6:$CP$200,A24))","v":""},{"$f":"IF(A24=\"\",\"\",COUNTIFS(Planning!$CQ$6:$DU$200,A24))","v":""},{"$f":"IF(A24=\"\",\"\",COUNTIFS(Planning!$DV$6:$EW$200,A24))","v":""},{"$f":"IF(A24=\"\",\"\",COUNTIFS(Planning!$EX$6:$GB$200,A24))","v":""},{"$f":"IF(A24=\"\",\"\",COUNTIFS(Planning!$GC$6:$HF$200,A24))","v":""},{"$f":"IF(A24=\"\",\"\",COUNTIFS(Planning!$HG$6:$IK$200,A24))","v":""},{"$f":"IF(A24=\"\",\"\",COUNTIFS(Planning!$IL$6:$JO$200,A24))","v":""},{"$f":"IF(A24=\"\",\"\",COUNTIFS(Planning!$JP$6:$KT$200,A24))","v":""},{"$f":"IF(A24=\"\",\"\",COUNTIFS(Planning!$KU$6:$LY$200,A24))","v":""},{"$f":"IF(A24=\"\",\"\",COUNTIFS(Planning!$LZ$6:$NC$200,A24))","v":""},{"$f":"IF(A24=\"\",\"\",COUNTIFS(Planning!$ND$6:$OH$200,A24))","v":""},{"$f":"IF(A24=\"\",\"\",COUNTIFS(Planning!$OI$6:$PL$200,A24))","v":""},{"$f":"IF(A24=\"\",\"\",COUNTIFS(Planning!$PM$6:$QQ$200,A24))","v":""},{"$f":"IF(A24=\"\",\"\",COUNTIFS(Planning!$QR$6:$RV$200,A24))","v":""},{"$f":"IF(A24=\"\",\"\",COUNTIFS(Planning!$RW$6:$SX$200,A24))","v":""},{"$f":"IF(A24=\"\",\"\",COUNTIFS(Planning!$SY$6:$UC$200,A24))","v":""},{"$f":"IF(A24=\"\",\"\",COUNTIFS(Planning!$UD$6:$VG$200,A24))","v":""},{"$f":"IF(A24=\"\",\"\",COUNTIFS(Planning!$VH$6:$WL$200,A24))","v":""},{"$f":"IF(A24=\"\",\"\",COUNTIFS(Planning!$WM$6:$XP$200,A24))","v":""},{"$f":"IF(A24=\"\",\"\",COUNTIFS(Planning!$XQ$6:$YU$200,A24))","v":""},{"$f":"IF(A24=\"\",\"\",COUNTIFS(Planning!$YV$6:$ZZ$200,A24))","v":""},{"$f":"IF(A24=\"\",\"\",COUNTIFS(Planning!$AAA$6:$ABD$200,A24))","v":""},{"$f":"IF(A24=\"\",\"\",COUNTIFS(Planning!$ABE$6:$ACI$200,A24))","v":""},{"$f":"IF(A24=\"\",\"\",COUNTIFS(Planning!$ACJ$6:$ADM$200,A24))","v":""},{"$f":"IF(A24=\"\",\"\",COUNTIFS(Planning!$ADN$6:$AER$200,A24))","v":""},{"$f":"IF(A24=\"\",\"\",COUNTIFS(Planning!$AES$6:$AFW$200,A24))","v":""},{"$f":"IF(A24=\"\",\"\",COUNTIFS(Planning!$AFX$6:$AGZ$200,A24))","v":""},{"$f":"IF(A24=\"\",\"\",COUNTIFS(Planning!$AHA$6:$AIE$200,A24))","v":""},{"$f":"IF(A24=\"\",\"\",COUNTIFS(Planning!$AIF$6:$AJI$200,A24))","v":""},{"$f":"IF(A24=\"\",\"\",COUNTIFS(Planning!$AJJ$6:$AKN$200,A24))","v":""},{"$f":"IF(A24=\"\",\"\",COUNTIFS(Planning!$AKO$6:$ALR$200,A24))","v":""},{"$f":"IF(A24=\"\",\"\",COUNTIFS(Planning!$ALS$6:$AMW$200,A24))","v":""},{"$f":"IF(A24=\"\",\"\",COUNTIFS(Planning!$AMX$6:$AOB$200,A24))","v":""},{"$f":"IF(A24=\"\",\"\",COUNTIFS(Planning!$AOC$6:$APF$200,A24))","v":""},{"$f":"IF(A24=\"\",\"\",COUNTIFS(Planning!$APG$6:$AQK$200,A24))","v":""},{"$f":"IF(A24=\"\",\"\",COUNTIFS(Planning!$AQL$6:$ARO$200,A24))","v":""},{"$f":"IF(A24=\"\",\"\",COUNTIFS(Planning!$ARP$6:$AST$200,A24))","v":""},{"$f":"IF(A24=\"\",\"\",COUNTIFS(Planning!$ASU$6:$ATY$200,A24))","v":""},{"$f":"IF(A24=\"\",\"\",COUNTIFS(Planning!$ATZ$6:$AVA$200,A24))","v":""},{"$f":"IF(A24=\"\",\"\",COUNTIFS(Planning!$AVB$6:$AWF$200,A24))","v":""},{"$f":"IF(A24=\"\",\"\",COUNTIFS(Planning!$AWG$6:$AXJ$200,A24))","v":""},{"$f":"IF(A24=\"\",\"\",COUNTIFS(Planning!$AXK$6:$AYO$200,A24))","v":""},{"$f":"IF(A24=\"\",\"\",COUNTIFS(Planning!$AYP$6:$AZS$200,A24))","v":""}]
[{"$f":"IF(LEN(Leerlingen!B23)>0,Leerlingen!B23,\"\")","v":""},{"$f":"IF(A25=\"\",\"\",COUNTIFS(Planning!$C$6:$AG$200,A25))","v":""},{"$f":"IF(A25=\"\",\"\",COUNTIFS(Planning!$AH$6:$BK$200,A25))","v":""},{"$f":"IF(A25=\"\",\"\",COUNTIFS(Planning!$BL$6:$CP$200,A25))","v":""},{"$f":"IF(A25=\"\",\"\",COUNTIFS(Planning!$CQ$6:$DU$200,A25))","v":""},{"$f":"IF(A25=\"\",\"\",COUNTIFS(Planning!$DV$6:$EW$200,A25))","v":""},{"$f":"IF(A25=\"\",\"\",COUNTIFS(Planning!$EX$6:$GB$200,A25))","v":""},{"$f":"IF(A25=\"\",\"\",COUNTIFS(Planning!$GC$6:$HF$200,A25))","v":""},{"$f":"IF(A25=\"\",\"\",COUNTIFS(Planning!$HG$6:$IK$200,A25))","v":""},{"$f":"IF(A25=\"\",\"\",COUNTIFS(Planning!$IL$6:$JO$200,A25))","v":""},{"$f":"IF(A25=\"\",\"\",COUNTIFS(Planning!$JP$6:$KT$200,A25))","v":""},{"$f":"IF(A25=\"\",\"\",COUNTIFS(Planning!$KU$6:$LY$200,A25))","v":""},{"$f":"IF(A25=\"\",\"\",COUNTIFS(Planning!$LZ$6:$NC$200,A25))","v":""},{"$f":"IF(A25=\"\",\"\",COUNTIFS(Planning!$ND$6:$OH$200,A25))","v":""},{"$f":"IF(A25=\"\",\"\",COUNTIFS(Planning!$OI$6:$PL$200,A25))","v":""},{"$f":"IF(A25=\"\",\"\",COUNTIFS(Planning!$PM$6:$QQ$200,A25))","v":""},{"$f":"IF(A25=\"\",\"\",COUNTIFS(Planning!$QR$6:$RV$200,A25))","v":""},{"$f":"IF(A25=\"\",\"\",COUNTIFS(Planning!$RW$6:$SX$200,A25))","v":""},{"$f":"IF(A25=\"\",\"\",COUNTIFS(Planning!$SY$6:$UC$200,A25))","v":""},{"$f":"IF(A25=\"\",\"\",COUNTIFS(Planning!$UD$6:$VG$200,A25))","v":""},{"$f":"IF(A25=\"\",\"\",COUNTIFS(Planning!$VH$6:$WL$200,A25))","v":""},{"$f":"IF(A25=\"\",\"\",COUNTIFS(Planning!$WM$6:$XP$200,A25))","v":""},{"$f":"IF(A25=\"\",\"\",COUNTIFS(Planning!$XQ$6:$YU$200,A25))","v":""},{"$f":"IF(A25=\"\",\"\",COUNTIFS(Planning!$YV$6:$ZZ$200,A25))","v":""},{"$f":"IF(A25=\"\",\"\",COUNTIFS(Planning!$AAA$6:$ABD$200,A25))","v":""},{"$f":"IF(A25=\"\",\"\",COUNTIFS(Planning!$ABE$6:$ACI$200,A25))","v":""},{"$f":"IF(A25=\"\",\"\",COUNTIFS(Planning!$ACJ$6:$ADM$200,A25))","v":""},{"$f":"IF(A25=\"\",\"\",COUNTIFS(Planning!$ADN$6:$AER$200,A25))","v":""},{"$f":"IF(A25=\"\",\"\",COUNTIFS(Planning!$AES$6:$AFW$200,A25))","v":""},{"$f":"IF(A25=\"\",\"\",COUNTIFS(Planning!$AFX$6:$AGZ$200,A25))","v":""},{"$f":"IF(A25=\"\",\"\",COUNTIFS(Planning!$AHA$6:$AIE$200,A25))","v":""},{"$f":"IF(A25=\"\",\"\",COUNTIFS(Planning!$AIF$6:$AJI$200,A25))","v":""},{"$f":"IF(A25=\"\",\"\",COUNTIFS(Planning!$AJJ$6:$AKN$200,A25))","v":""},{"$f":"IF(A25=\"\",\"\",COUNTIFS(Planning!$AKO$6:$ALR$200,A25))","v":""},{"$f":"IF(A25=\"\",\"\",COUNTIFS(Planning!$ALS$6:$AMW$200,A25))","v":""},{"$f":"IF(A25=\"\",\"\",COUNTIFS(Planning!$AMX$6:$AOB$200,A25))","v":""},{"$f":"IF(A25=\"\",\"\",COUNTIFS(Planning!$AOC$6:$APF$200,A25))","v":""},{"$f":"IF(A25=\"\",\"\",COUNTIFS(Planning!$APG$6:$AQK$200,A25))","v":""},{"$f":"IF(A25=\"\",\"\",COUNTIFS(Planning!$AQL$6:$ARO$200,A25))","v":""},{"$f":"IF(A25=\"\",\"\",COUNTIFS(Planning!$ARP$6:$AST$200,A25))","v":""},{"$f":"IF(A25=\"\",\"\",COUNTIFS(Planning!$ASU$6:$ATY$200,A25))","v":""},{"$f":"IF(A25=\"\",\"\",COUNTIFS(Planning!$ATZ$6:$AVA$200,A25))","v":""},{"$f":"IF(A25=\"\",\"\",COUNTIFS(Planning!$AVB$6:$AWF$200,A25))","v":""},{"$f":"IF(A25=\"\",\"\",COUNTIFS(Planning!$AWG$6:$AXJ$200,A25))","v":""},{"$f":"IF(A25=\"\",\"\",COUNTIFS(Planning!$AXK$6:$AYO$200,A25))","v":""},{"$f":"IF(A25=\"\",\"\",COUNTIFS(Planning!$AYP$6:$AZS$200,A25))","v":""}]
[{"$f":"IF(LEN(Leerlingen!B24)>0,Leerlingen!B24,\"\")","v":""},{"$f":"IF(A26=\"\",\"\",COUNTIFS(Planning!$C$6:$AG$200,A26))","v":""},{"$f":"IF(A26=\"\",\"\",COUNTIFS(Planning!$AH$6:$BK$200,A26))","v":""},{"$f":"IF(A26=\"\",\"\",COUNTIFS(Planning!$BL$6:$CP$200,A26))","v":""},{"$f":"IF(A26=\"\",\"\",COUNTIFS(Planning!$CQ$6:$DU$200,A26))","v":""},{"$f":"IF(A26=\"\",\"\",COUNTIFS(Planning!$DV$6:$EW$200,A26))","v":""},{"$f":"IF(A26=\"\",\"\",COUNTIFS(Planning!$EX$6:$GB$200,A26))","v":""},{"$f":"IF(A26=\"\",\"\",COUNTIFS(Planning!$GC$6:$HF$200,A26))","v":""},{"$f":"IF(A26=\"\",\"\",COUNTIFS(Planning!$HG$6:$IK$200,A26))","v":""},{"$f":"IF(A26=\"\",\"\",COUNTIFS(Planning!$IL$6:$JO$200,A26))","v":""},{"$f":"IF(A26=\"\",\"\",COUNTIFS(Planning!$JP$6:$KT$200,A26))","v":""},{"$f":"IF(A26=\"\",\"\",COUNTIFS(Planning!$KU$6:$LY$200,A26))","v":""},{"$f":"IF(A26=\"\",\"\",COUNTIFS(Planning!$LZ$6:$NC$200,A26))","v":""},{"$f":"IF(A26=\"\",\"\",COUNTIFS(Planning!$ND$6:$OH$200,A26))","v":""},{"$f":"IF(A26=\"\",\"\",COUNTIFS(Planning!$OI$6:$PL$200,A26))","v":""},{"$f":"IF(A26=\"\",\"\",COUNTIFS(Planning!$PM$6:$QQ$200,A26))","v":""},{"$f":"IF(A26=\"\",\"\",COUNTIFS(Planning!$QR$6:$RV$200,A26))","v":""},{"$f":"IF(A26=\"\",\"\",COUNTIFS(Planning!$RW$6:$SX$200,A26))","v":""},{"$f":"IF(A26=\"\",\"\",COUNTIFS(Planning!$SY$6:$UC$200,A26))","v":""},{"$f":"IF(A26=\"\",\"\",COUNTIFS(Planning!$UD$6:$VG$200,A26))","v":""},{"$f":"IF(A26=\"\",\"\",COUNTIFS(Planning!$VH$6:$WL$200,A26))","v":""},{"$f":"IF(A26=\"\",\"\",COUNTIFS(Planning!$WM$6:$XP$200,A26))","v":""},{"$f":"IF(A26=\"\",\"\",COUNTIFS(Planning!$XQ$6:$YU$200,A26))","v":""},{"$f":"IF(A26=\"\",\"\",COUNTIFS(Planning!$YV$6:$ZZ$200,A26))","v":""},{"$f":"IF(A26=\"\",\"\",COUNTIFS(Planning!$AAA$6:$ABD$200,A26))","v":""},{"$f":"IF(A26=\"\",\"\",COUNTIFS(Planning!$ABE$6:$ACI$200,A26))","v":""},{"$f":"IF(A26=\"\",\"\",COUNTIFS(Planning!$ACJ$6:$ADM$200,A26))","v":""},{"$f":"IF(A26=\"\",\"\",COUNTIFS(Planning!$ADN$6:$AER$200,A26))","v":""},{"$f":"IF(A26=\"\",\"\",COUNTIFS(Planning!$AES$6:$AFW$200,A26))","v":""},{"$f":"IF(A26=\"\",\"\",COUNTIFS(Planning!$AFX$6:$AGZ$200,A26))","v":""},{"$f":"IF(A26=\"\",\"\",COUNTIFS(Planning!$AHA$6:$AIE$200,A26))","v":""},{"$f":"IF(A26=\"\",\"\",COUNTIFS(Planning!$AIF$6:$AJI$200,A26))","v":""},{"$f":"IF(A26=\"\",\"\",COUNTIFS(Planning!$AJJ$6:$AKN$200,A26))","v":""},{"$f":"IF(A26=\"\",\"\",COUNTIFS(Planning!$AKO$6:$ALR$200,A26))","v":""},{"$f":"IF(A26=\"\",\"\",COUNTIFS(Planning!$ALS$6:$AMW$200,A26))","v":""},{"$f":"IF(A26=\"\",\"\",COUNTIFS(Planning!$AMX$6:$AOB$200,A26))","v":""},{"$f":"IF(A26=\"\",\"\",COUNTIFS(Planning!$AOC$6:$APF$200,A26))","v":""},{"$f":"IF(A26=\"\",\"\",COUNTIFS(Planning!$APG$6:$AQK$200,A26))","v":""},{"$f":"IF(A26=\"\",\"\",COUNTIFS(Planning!$AQL$6:$ARO$200,A26))","v":""},{"$f":"IF(A26=\"\",\"\",COUNTIFS(Planning!$ARP$6:$AST$200,A26))","v":""},{"$f":"IF(A26=\"\",\"\",COUNTIFS(Planning!$ASU$6:$ATY$200,A26))","v":""},{"$f":"IF(A26=\"\",\"\",COUNTIFS(Planning!$ATZ$6:$AVA$200,A26))","v":""},{"$f":"IF(A26=\"\",\"\",COUNTIFS(Planning!$AVB$6:$AWF$200,A26))","v":""},{"$f":"IF(A26=\"\",\"\",COUNTIFS(Planning!$AWG$6:$AXJ$200,A26))","v":""},{"$f":"IF(A26=\"\",\"\",COUNTIFS(Planning!$AXK$6:$AYO$200,A26))","v":""},{"$f":"IF(A26=\"\",\"\",COUNTIFS(Planning!$AYP$6:$AZS$200,A26))","v":""}]
[{"$f":"IF(LEN(Leerlingen!B25)>0,Leerlingen!B25,\"\")","v":""},{"$f":"IF(A27=\"\",\"\",COUNTIFS(Planning!$C$6:$AG$200,A27))","v":""},{"$f":"IF(A27=\"\",\"\",COUNTIFS(Planning!$AH$6:$BK$200,A27))","v":""},{"$f":"IF(A27=\"\",\"\",COUNTIFS(Planning!$BL$6:$CP$200,A27))","v":""},{"$f":"IF(A27=\"\",\"\",COUNTIFS(Planning!$CQ$6:$DU$200,A27))","v":""},{"$f":"IF(A27=\"\",\"\",COUNTIFS(Planning!$DV$6:$EW$200,A27))","v":""},{"$f":"IF(A27=\"\",\"\",COUNTIFS(Planning!$EX$6:$GB$200,A27))","v":""},{"$f":"IF(A27=\"\",\"\",COUNTIFS(Planning!$GC$6:$HF$200,A27))","v":""},{"$f":"IF(A27=\"\",\"\",COUNTIFS(Planning!$HG$6:$IK$200,A27))","v":""},{"$f":"IF(A27=\"\",\"\",COUNTIFS(Planning!$IL$6:$JO$200,A27))","v":""},{"$f":"IF(A27=\"\",\"\",COUNTIFS(Planning!$JP$6:$KT$200,A27))","v":""},{"$f":"IF(A27=\"\",\"\",COUNTIFS(Planning!$KU$6:$LY$200,A27))","v":""},{"$f":"IF(A27=\"\",\"\",COUNTIFS(Planning!$LZ$6:$NC$200,A27))","v":""},{"$f":"IF(A27=\"\",\"\",COUNTIFS(Planning!$ND$6:$OH$200,A27))","v":""},{"$f":"IF(A27=\"\",\"\",COUNTIFS(Planning!$OI$6:$PL$200,A27))","v":""},{"$f":"IF(A27=\"\",\"\",COUNTIFS(Planning!$PM$6:$QQ$200,A27))","v":""},{"$f":"IF(A27=\"\",\"\",COUNTIFS(Planning!$QR$6:$RV$200,A27))","v":""},{"$f":"IF(A27=\"\",\"\",COUNTIFS(Planning!$RW$6:$SX$200,A27))","v":""},{"$f":"IF(A27=\"\",\"\",COUNTIFS(Planning!$SY$6:$UC$200,A27))","v":""},{"$f":"IF(A27=\"\",\"\",COUNTIFS(Planning!$UD$6:$VG$200,A27))","v":""},{"$f":"IF(A27=\"\",\"\",COUNTIFS(Planning!$VH$6:$WL$200,A27))","v":""},{"$f":"IF(A27=\"\",\"\",COUNTIFS(Planning!$WM$6:$XP$200,A27))","v":""},{"$f":"IF(A27=\"\",\"\",COUNTIFS(Planning!$XQ$6:$YU$200,A27))","v":""},{"$f":"IF(A27=\"\",\"\",COUNTIFS(Planning!$YV$6:$ZZ$200,A27))","v":""},{"$f":"IF(A27=\"\",\"\",COUNTIFS(Planning!$AAA$6:$ABD$200,A27))","v":""},{"$f":"IF(A27=\"\",\"\",COUNTIFS(Planning!$ABE$6:$ACI$200,A27))","v":""},{"$f":"IF(A27=\"\",\"\",COUNTIFS(Planning!$ACJ$6:$ADM$200,A27))","v":""},{"$f":"IF(A27=\"\",\"\",COUNTIFS(Planning!$ADN$6:$AER$200,A27))","v":""},{"$f":"IF(A27=\"\",\"\",COUNTIFS(Planning!$AES$6:$AFW$200,A27))","v":""},{"$f":"IF(A27=\"\",\"\",COUNTIFS(Planning!$AFX$6:$AGZ$200,A27))","v":""},{"$f":"IF(A27=\"\",\"\",COUNTIFS(Planning!$AHA$6:$AIE$200,A27))","v":""},{"$f":"IF(A27=\"\",\"\",COUNTIFS(Planning!$AIF$6:$AJI$200,A27))","v":""},{"$f":"IF(A27=\"\",\"\",COUNTIFS(Planning!$AJJ$6:$AKN$200,A27))","v":""},{"$f":"IF(A27=\"\",\"\",COUNTIFS(Planning!$AKO$6:$ALR$200,A27))","v":""},{"$f":"IF(A27=\"\",\"\",COUNTIFS(Planning!$ALS$6:$AMW$200,A27))","v":""},{"$f":"IF(A27=\"\",\"\",COUNTIFS(Planning!$AMX$6:$AOB$200,A27))","v":""},{"$f":"IF(A27=\"\",\"\",COUNTIFS(Planning!$AOC$6:$APF$200,A27))","v":""},{"$f":"IF(A27=\"\",\"\",COUNTIFS(Planning!$APG$6:$AQK$200,A27))","v":""},{"$f":"IF(A27=\"\",\"\",COUNTIFS(Planning!$AQL$6:$ARO$200,A27))","v":""},{"$f":"IF(A27=\"\",\"\",COUNTIFS(Planning!$ARP$6:$AST$200,A27))","v":""},{"$f":"IF(A27=\"\",\"\",COUNTIFS(Planning!$ASU$6:$ATY$200,A27))","v":""},{"$f":"IF(A27=\"\",\"\",COUNTIFS(Planning!$ATZ$6:$AVA$200,A27))","v":""},{"$f":"IF(A27=\"\",\"\",COUNTIFS(Planning!$AVB$6:$AWF$200,A27))","v":""},{"$f":"IF(A27=\"\",\"\",COUNTIFS(Planning!$AWG$6:$AXJ$200,A27))","v":""},{"$f":"IF(A27=\"\",\"\",COUNTIFS(Planning!$AXK$6:$AYO$200,A27))","v":""},{"$f":"IF(A27=\"\",\"\",COUNTIFS(Planning!$AYP$6:$AZS$200,A27))","v":""}]
[{"$f":"IF(LEN(Leerlingen!B26)>0,Leerlingen!B26,\"\")","v":""},{"$f":"IF(A28=\"\",\"\",COUNTIFS(Planning!$C$6:$AG$200,A28))","v":""},{"$f":"IF(A28=\"\",\"\",COUNTIFS(Planning!$AH$6:$BK$200,A28))","v":""},{"$f":"IF(A28=\"\",\"\",COUNTIFS(Planning!$BL$6:$CP$200,A28))","v":""},{"$f":"IF(A28=\"\",\"\",COUNTIFS(Planning!$CQ$6:$DU$200,A28))","v":""},{"$f":"IF(A28=\"\",\"\",COUNTIFS(Planning!$DV$6:$EW$200,A28))","v":""},{"$f":"IF(A28=\"\",\"\",COUNTIFS(Planning!$EX$6:$GB$200,A28))","v":""},{"$f":"IF(A28=\"\",\"\",COUNTIFS(Planning!$GC$6:$HF$200,A28))","v":""},{"$f":"IF(A28=\"\",\"\",COUNTIFS(Planning!$HG$6:$IK$200,A28))","v":""},{"$f":"IF(A28=\"\",\"\",COUNTIFS(Planning!$IL$6:$JO$200,A28))","v":""},{"$f":"IF(A28=\"\",\"\",COUNTIFS(Planning!$JP$6:$KT$200,A28))","v":""},{"$f":"IF(A28=\"\",\"\",COUNTIFS(Planning!$KU$6:$LY$200,A28))","v":""},{"$f":"IF(A28=\"\",\"\",COUNTIFS(Planning!$LZ$6:$NC$200,A28))","v":""},{"$f":"IF(A28=\"\",\"\",COUNTIFS(Planning!$ND$6:$OH$200,A28))","v":""},{"$f":"IF(A28=\"\",\"\",COUNTIFS(Planning!$OI$6:$PL$200,A28))","v":""},{"$f":"IF(A28=\"\",\"\",COUNTIFS(Planning!$PM$6:$QQ$200,A28))","v":""},{"$f":"IF(A28=\"\",\"\",COUNTIFS(Planning!$QR$6:$RV$200,A28))","v":""},{"$f":"IF(A28=\"\",\"\",COUNTIFS(Planning!$RW$6:$SX$200,A28))","v":""},{"$f":"IF(A28=\"\",\"\",COUNTIFS(Planning!$SY$6:$UC$200,A28))","v":""},{"$f":"IF(A28=\"\",\"\",COUNTIFS(Planning!$UD$6:$VG$200,A28))","v":""},{"$f":"IF(A28=\"\",\"\",COUNTIFS(Planning!$VH$6:$WL$200,A28))","v":""},{"$f":"IF(A28=\"\",\"\",COUNTIFS(Planning!$WM$6:$XP$200,A28))","v":""},{"$f":"IF(A28=\"\",\"\",COUNTIFS(Planning!$XQ$6:$YU$200,A28))","v":""},{"$f":"IF(A28=\"\",\"\",COUNTIFS(Planning!$YV$6:$ZZ$200,A28))","v":""},{"$f":"IF(A28=\"\",\"\",COUNTIFS(Planning!$AAA$6:$ABD$200,A28))","v":""},{"$f":"IF(A28=\"\",\"\",COUNTIFS(Planning!$ABE$6:$ACI$200,A28))","v":""},{"$f":"IF(A28=\"\",\"\",COUNTIFS(Planning!$ACJ$6:$ADM$200,A28))","v":""},{"$f":"IF(A28=\"\",\"\",COUNTIFS(Planning!$ADN$6:$AER$200,A28))","v":""},{"$f":"IF(A28=\"\",\"\",COUNTIFS(Planning!$AES$6:$AFW$200,A28))","v":""},{"$f":"IF(A28=\"\",\"\",COUNTIFS(Planning!$AFX$6:$AGZ$200,A28))","v":""},{"$f":"IF(A28=\"\",\"\",COUNTIFS(Planning!$AHA$6:$AIE$200,A28))","v":""},{"$f":"IF(A28=\"\",\"\",COUNTIFS(Planning!$AIF$6:$AJI$200,A28))","v":""},{"$f":"IF(A28=\"\",\"\",COUNTIFS(Planning!$AJJ$6:$AKN$200,A28))","v":""},{"$f":"IF(A28=\"\",\"\",COUNTIFS(Planning!$AKO$6:$ALR$200,A28))","v":""},{"$f":"IF(A28=\"\",\"\",COUNTIFS(Planning!$ALS$6:$AMW$200,A28))","v":""},{"$f":"IF(A28=\"\",\"\",COUNTIFS(Planning!$AMX$6:$AOB$200,A28))","v":""},{"$f":"IF(A28=\"\",\"\",COUNTIFS(Planning!$AOC$6:$APF$200,A28))","v":""},{"$f":"IF(A28=\"\",\"\",COUNTIFS(Planning!$APG$6:$AQK$200,A28))","v":""},{"$f":"IF(A28=\"\",\"\",COUNTIFS(Planning!$AQL$6:$ARO$200,A28))","v":""},{"$f":"IF(A28=\"\",\"\",COUNTIFS(Planning!$ARP$6:$AST$200,A28))","v":""},{"$f":"IF(A28=\"\",\"\",COUNTIFS(Planning!$ASU$6:$ATY$200,A28))","v":""},{"$f":"IF(A28=\"\",\"\",COUNTIFS(Planning!$ATZ$6:$AVA$200,A28))","v":""},{"$f":"IF(A28=\"\",\"\",COUNTIFS(Planning!$AVB$6:$AWF$200,A28))","v":""},{"$f":"IF(A28=\"\",\"\",COUNTIFS(Planning!$AWG$6:$AXJ$200,A28))","v":""},{"$f":"IF(A28=\"\",\"\",COUNTIFS(Planning!$AXK$6:$AYO$200,A28))","v":""},{"$f":"IF(A28=\"\",\"\",COUNTIFS(Planning!$AYP$6:$AZS$200,A28))","v":""}]
[{"$f":"IF(LEN(Leerlingen!B27)>0,Leerlingen!B27,\"\")","v":""},{"$f":"IF(A29=\"\",\"\",COUNTIFS(Planning!$C$6:$AG$200,A29))","v":""},{"$f":"IF(A29=\"\",\"\",COUNTIFS(Planning!$AH$6:$BK$200,A29))","v":""},{"$f":"IF(A29=\"\",\"\",COUNTIFS(Planning!$BL$6:$CP$200,A29))","v":""},{"$f":"IF(A29=\"\",\"\",COUNTIFS(Planning!$CQ$6:$DU$200,A29))","v":""},{"$f":"IF(A29=\"\",\"\",COUNTIFS(Planning!$DV$6:$EW$200,A29))","v":""},{"$f":"IF(A29=\"\",\"\",COUNTIFS(Planning!$EX$6:$GB$200,A29))","v":""},{"$f":"IF(A29=\"\",\"\",COUNTIFS(Planning!$GC$6:$HF$200,A29))","v":""},{"$f":"IF(A29=\"\",\"\",COUNTIFS(Planning!$HG$6:$IK$200,A29))","v":""},{"$f":"IF(A29=\"\",\"\",COUNTIFS(Planning!$IL$6:$JO$200,A29))","v":""},{"$f":"IF(A29=\"\",\"\",COUNTIFS(Planning!$JP$6:$KT$200,A29))","v":""},{"$f":"IF(A29=\"\",\"\",COUNTIFS(Planning!$KU$6:$LY$200,A29))","v":""},{"$f":"IF(A29=\"\",\"\",COUNTIFS(Planning!$LZ$6:$NC$200,A29))","v":""},{"$f":"IF(A29=\"\",\"\",COUNTIFS(Planning!$ND$6:$OH$200,A29))","v":""},{"$f":"IF(A29=\"\",\"\",COUNTIFS(Planning!$OI$6:$PL$200,A29))","v":""},{"$f":"IF(A29=\"\",\"\",COUNTIFS(Planning!$PM$6:$QQ$200,A29))","v":""},{"$f":"IF(A29=\"\",\"\",COUNTIFS(Planning!$QR$6:$RV$200,A29))","v":""},{"$f":"IF(A29=\"\",\"\",COUNTIFS(Planning!$RW$6:$SX$200,A29))","v":""},{"$f":"IF(A29=\"\",\"\",COUNTIFS(Planning!$SY$6:$UC$200,A29))","v":""},{"$f":"IF(A29=\"\",\"\",COUNTIFS(Planning!$UD$6:$VG$200,A29))","v":""},{"$f":"IF(A29=\"\",\"\",COUNTIFS(Planning!$VH$6:$WL$200,A29))","v":""},{"$f":"IF(A29=\"\",\"\",COUNTIFS(Planning!$WM$6:$XP$200,A29))","v":""},{"$f":"IF(A29=\"\",\"\",COUNTIFS(Planning!$XQ$6:$YU$200,A29))","v":""},{"$f":"IF(A29=\"\",\"\",COUNTIFS(Planning!$YV$6:$ZZ$200,A29))","v":""},{"$f":"IF(A29=\"\",\"\",COUNTIFS(Planning!$AAA$6:$ABD$200,A29))","v":""},{"$f":"IF(A29=\"\",\"\",COUNTIFS(Planning!$ABE$6:$ACI$200,A29))","v":""},{"$f":"IF(A29=\"\",\"\",COUNTIFS(Planning!$ACJ$6:$ADM$200,A29))","v":""},{"$f":"IF(A29=\"\",\"\",COUNTIFS(Planning!$ADN$6:$AER$200,A29))","v":""},{"$f":"IF(A29=\"\",\"\",COUNTIFS(Planning!$AES$6:$AFW$200,A29))","v":""},{"$f":"IF(A29=\"\",\"\",COUNTIFS(Planning!$AFX$6:$AGZ$200,A29))","v":""},{"$f":"IF(A29=\"\",\"\",COUNTIFS(Planning!$AHA$6:$AIE$200,A29))","v":""},{"$f":"IF(A29=\"\",\"\",COUNTIFS(Planning!$AIF$6:$AJI$200,A29))","v":""},{"$f":"IF(A29=\"\",\"\",COUNTIFS(Planning!$AJJ$6:$AKN$200,A29))","v":""},{"$f":"IF(A29=\"\",\"\",COUNTIFS(Planning!$AKO$6:$ALR$200,A29))","v":""},{"$f":"IF(A29=\"\",\"\",COUNTIFS(Planning!$ALS$6:$AMW$200,A29))","v":""},{"$f":"IF(A29=\"\",\"\",COUNTIFS(Planning!$AMX$6:$AOB$200,A29))","v":""},{"$f":"IF(A29=\"\",\"\",COUNTIFS(Planning!$AOC$6:$APF$200,A29))","v":""},{"$f":"IF(A29=\"\",\"\",COUNTIFS(Planning!$APG$6:$AQK$200,A29))","v":""},{"$f":"IF(A29=\"\",\"\",COUNTIFS(Planning!$AQL$6:$ARO$200,A29))","v":""},{"$f":"IF(A29=\"\",\"\",COUNTIFS(Planning!$ARP$6:$AST$200,A29))","v":""},{"$f":"IF(A29=\"\",\"\",COUNTIFS(Planning!$ASU$6:$ATY$200,A29))","v":""},{"$f":"IF(A29=\"\",\"\",COUNTIFS(Planning!$ATZ$6:$AVA$200,A29))","v":""},{"$f":"IF(A29=\"\",\"\",COUNTIFS(Planning!$AVB$6:$AWF$200,A29))","v":""},{"$f":"IF(A29=\"\",\"\",COUNTIFS(Planning!$AWG$6:$AXJ$200,A29))","v":""},{"$f":"IF(A29=\"\",\"\",COUNTIFS(Planning!$AXK$6:$AYO$200,A29))","v":""},{"$f":"IF(A29=\"\",\"\",COUNTIFS(Planning!$AYP$6:$AZS$200,A29))","v":""}]
[{"$f":"IF(LEN(Leerlingen!B28)>0,Leerlingen!B28,\"\")","v":""},{"$f":"IF(A30=\"\",\"\",COUNTIFS(Planning!$C$6:$AG$200,A30))","v":""},{"$f":"IF(A30=\"\",\"\",COUNTIFS(Planning!$AH$6:$BK$200,A30))","v":""},{"$f":"IF(A30=\"\",\"\",COUNTIFS(Planning!$BL$6:$CP$200,A30))","v":""},{"$f":"IF(A30=\"\",\"\",COUNTIFS(Planning!$CQ$6:$DU$200,A30))","v":""},{"$f":"IF(A30=\"\",\"\",COUNTIFS(Planning!$DV$6:$EW$200,A30))","v":""},{"$f":"IF(A30=\"\",\"\",COUNTIFS(Planning!$EX$6:$GB$200,A30))","v":""},{"$f":"IF(A30=\"\",\"\",COUNTIFS(Planning!$GC$6:$HF$200,A30))","v":""},{"$f":"IF(A30=\"\",\"\",COUNTIFS(Planning!$HG$6:$IK$200,A30))","v":""},{"$f":"IF(A30=\"\",\"\",COUNTIFS(Planning!$IL$6:$JO$200,A30))","v":""},{"$f":"IF(A30=\"\",\"\",COUNTIFS(Planning!$JP$6:$KT$200,A30))","v":""},{"$f":"IF(A30=\"\",\"\",COUNTIFS(Planning!$KU$6:$LY$200,A30))","v":""},{"$f":"IF(A30=\"\",\"\",COUNTIFS(Planning!$LZ$6:$NC$200,A30))","v":""},{"$f":"IF(A30=\"\",\"\",COUNTIFS(Planning!$ND$6:$OH$200,A30))","v":""},{"$f":"IF(A30=\"\",\"\",COUNTIFS(Planning!$OI$6:$PL$200,A30))","v":""},{"$f":"IF(A30=\"\",\"\",COUNTIFS(Planning!$PM$6:$QQ$200,A30))","v":""},{"$f":"IF(A30=\"\",\"\",COUNTIFS(Planning!$QR$6:$RV$200,A30))","v":""},{"$f":"IF(A30=\"\",\"\",COUNTIFS(Planning!$RW$6:$SX$200,A30))","v":""},{"$f":"IF(A30=\"\",\"\",COUNTIFS(Planning!$SY$6:$UC$200,A30))","v":""},{"$f":"IF(A30=\"\",\"\",COUNTIFS(Planning!$UD$6:$VG$200,A30))","v":""},{"$f":"IF(A30=\"\",\"\",COUNTIFS(Planning!$VH$6:$WL$200,A30))","v":""},{"$f":"IF(A30=\"\",\"\",COUNTIFS(Planning!$WM$6:$XP$200,A30))","v":""},{"$f":"IF(A30=\"\",\"\",COUNTIFS(Planning!$XQ$6:$YU$200,A30))","v":""},{"$f":"IF(A30=\"\",\"\",COUNTIFS(Planning!$YV$6:$ZZ$200,A30))","v":""},{"$f":"IF(A30=\"\",\"\",COUNTIFS(Planning!$AAA$6:$ABD$200,A30))","v":""},{"$f":"IF(A30=\"\",\"\",COUNTIFS(Planning!$ABE$6:$ACI$200,A30))","v":""},{"$f":"IF(A30=\"\",\"\",COUNTIFS(Planning!$ACJ$6:$ADM$200,A30))","v":""},{"$f":"IF(A30=\"\",\"\",COUNTIFS(Planning!$ADN$6:$AER$200,A30))","v":""},{"$f":"IF(A30=\"\",\"\",COUNTIFS(Planning!$AES$6:$AFW$200,A30))","v":""},{"$f":"IF(A30=\"\",\"\",COUNTIFS(Planning!$AFX$6:$AGZ$200,A30))","v":""},{"$f":"IF(A30=\"\",\"\",COUNTIFS(Planning!$AHA$6:$AIE$200,A30))","v":""},{"$f":"IF(A30=\"\",\"\",COUNTIFS(Planning!$AIF$6:$AJI$200,A30))","v":""},{"$f":"IF(A30=\"\",\"\",COUNTIFS(Planning!$AJJ$6:$AKN$200,A30))","v":""},{"$f":"IF(A30=\"\",\"\",COUNTIFS(Planning!$AKO$6:$ALR$200,A30))","v":""},{"$f":"IF(A30=\"\",\"\",COUNTIFS(Planning!$ALS$6:$AMW$200,A30))","v":""},{"$f":"IF(A30=\"\",\"\",COUNTIFS(Planning!$AMX$6:$AOB$200,A30))","v":""},{"$f":"IF(A30=\"\",\"\",COUNTIFS(Planning!$AOC$6:$APF$200,A30))","v":""},{"$f":"IF(A30=\"\",\"\",COUNTIFS(Planning!$APG$6:$AQK$200,A30))","v":""},{"$f":"IF(A30=\"\",\"\",COUNTIFS(Planning!$AQL$6:$ARO$200,A30))","v":""},{"$f":"IF(A30=\"\",\"\",COUNTIFS(Planning!$ARP$6:$AST$200,A30))","v":""},{"$f":"IF(A30=\"\",\"\",COUNTIFS(Planning!$ASU$6:$ATY$200,A30))","v":""},{"$f":"IF(A30=\"\",\"\",COUNTIFS(Planning!$ATZ$6:$AVA$200,A30))","v":""},{"$f":"IF(A30=\"\",\"\",COUNTIFS(Planning!$AVB$6:$AWF$200,A30))","v":""},{"$f":"IF(A30=\"\",\"\",COUNTIFS(Planning!$AWG$6:$AXJ$200,A30))","v":""},{"$f":"IF(A30=\"\",\"\",COUNTIFS(Planning!$AXK$6:$AYO$200,A30))","v":""},{"$f":"IF(A30=\"\",\"\",COUNTIFS(Planning!$AYP$6:$AZS$200,A30))","v":""}]
[{"$f":"IF(LEN(Leerlingen!B29)>0,Leerlingen!B29,\"\")","v":""},{"$f":"IF(A31=\"\",\"\",COUNTIFS(Planning!$C$6:$AG$200,A31))","v":""},{"$f":"IF(A31=\"\",\"\",COUNTIFS(Planning!$AH$6:$BK$200,A31))","v":""},{"$f":"IF(A31=\"\",\"\",COUNTIFS(Planning!$BL$6:$CP$200,A31))","v":""},{"$f":"IF(A31=\"\",\"\",COUNTIFS(Planning!$CQ$6:$DU$200,A31))","v":""},{"$f":"IF(A31=\"\",\"\",COUNTIFS(Planning!$DV$6:$EW$200,A31))","v":""},{"$f":"IF(A31=\"\",\"\",COUNTIFS(Planning!$EX$6:$GB$200,A31))","v":""},{"$f":"IF(A31=\"\",\"\",COUNTIFS(Planning!$GC$6:$HF$200,A31))","v":""},{"$f":"IF(A31=\"\",\"\",COUNTIFS(Planning!$HG$6:$IK$200,A31))","v":""},{"$f":"IF(A31=\"\",\"\",COUNTIFS(Planning!$IL$6:$JO$200,A31))","v":""},{"$f":"IF(A31=\"\",\"\",COUNTIFS(Planning!$JP$6:$KT$200,A31))","v":""},{"$f":"IF(A31=\"\",\"\",COUNTIFS(Planning!$KU$6:$LY$200,A31))","v":""},{"$f":"IF(A31=\"\",\"\",COUNTIFS(Planning!$LZ$6:$NC$200,A31))","v":""},{"$f":"IF(A31=\"\",\"\",COUNTIFS(Planning!$ND$6:$OH$200,A31))","v":""},{"$f":"IF(A31=\"\",\"\",COUNTIFS(Planning!$OI$6:$PL$200,A31))","v":""},{"$f":"IF(A31=\"\",\"\",COUNTIFS(Planning!$PM$6:$QQ$200,A31))","v":""},{"$f":"IF(A31=\"\",\"\",COUNTIFS(Planning!$QR$6:$RV$200,A31))","v":""},{"$f":"IF(A31=\"\",\"\",COUNTIFS(Planning!$RW$6:$SX$200,A31))","v":""},{"$f":"IF(A31=\"\",\"\",COUNTIFS(Planning!$SY$6:$UC$200,A31))","v":""},{"$f":"IF(A31=\"\",\"\",COUNTIFS(Planning!$UD$6:$VG$200,A31))","v":""},{"$f":"IF(A31=\"\",\"\",COUNTIFS(Planning!$VH$6:$WL$200,A31))","v":""},{"$f":"IF(A31=\"\",\"\",COUNTIFS(Planning!$WM$6:$XP$200,A31))","v":""},{"$f":"IF(A31=\"\",\"\",COUNTIFS(Planning!$XQ$6:$YU$200,A31))","v":""},{"$f":"IF(A31=\"\",\"\",COUNTIFS(Planning!$YV$6:$ZZ$200,A31))","v":""},{"$f":"IF(A31=\"\",\"\",COUNTIFS(Planning!$AAA$6:$ABD$200,A31))","v":""},{"$f":"IF(A31=\"\",\"\",COUNTIFS(Planning!$ABE$6:$ACI$200,A31))","v":""},{"$f":"IF(A31=\"\",\"\",COUNTIFS(Planning!$ACJ$6:$ADM$200,A31))","v":""},{"$f":"IF(A31=\"\",\"\",COUNTIFS(Planning!$ADN$6:$AER$200,A31))","v":""},{"$f":"IF(A31=\"\",\"\",COUNTIFS(Planning!$AES$6:$AFW$200,A31))","v":""},{"$f":"IF(A31=\"\",\"\",COUNTIFS(Planning!$AFX$6:$AGZ$200,A31))","v":""},{"$f":"IF(A31=\"\",\"\",COUNTIFS(Planning!$AHA$6:$AIE$200,A31))","v":""},{"$f":"IF(A31=\"\",\"\",COUNTIFS(Planning!$AIF$6:$AJI$200,A31))","v":""},{"$f":"IF(A31=\"\",\"\",COUNTIFS(Planning!$AJJ$6:$AKN$200,A31))","v":""},{"$f":"IF(A31=\"\",\"\",COUNTIFS(Planning!$AKO$6:$ALR$200,A31))","v":""},{"$f":"IF(A31=\"\",\"\",COUNTIFS(Planning!$ALS$6:$AMW$200,A31))","v":""},{"$f":"IF(A31=\"\",\"\",COUNTIFS(Planning!$AMX$6:$AOB$200,A31))","v":""},{"$f":"IF(A31=\"\",\"\",COUNTIFS(Planning!$AOC$6:$APF$200,A31))","v":""},{"$f":"IF(A31=\"\",\"\",COUNTIFS(Planning!$APG$6:$AQK$200,A31))","v":""},{"$f":"IF(A31=\"\",\"\",COUNTIFS(Planning!$AQL$6:$ARO$200,A31))","v":""},{"$f":"IF(A31=\"\",\"\",COUNTIFS(Planning!$ARP$6:$AST$200,A31))","v":""},{"$f":"IF(A31=\"\",\"\",COUNTIFS(Planning!$ASU$6:$ATY$200,A31))","v":""},{"$f":"IF(A31=\"\",\"\",COUNTIFS(Planning!$ATZ$6:$AVA$200,A31))","v":""},{"$f":"IF(A31=\"\",\"\",COUNTIFS(Planning!$AVB$6:$AWF$200,A31))","v":""},{"$f":"IF(A31=\"\",\"\",COUNTIFS(Planning!$AWG$6:$AXJ$200,A31))","v":""},{"$f":"IF(A31=\"\",\"\",COUNTIFS(Planning!$AXK$6:$AYO$200,A31))","v":""},{"$f":"IF(A31=\"\",\"\",COUNTIFS(Planning!$AYP$6:$AZS$200,A31))","v":""}]
[{"$f":"IF(LEN(Leerlingen!B30)>0,Leerlingen!B30,\"\")","v":""},{"$f":"IF(A32=\"\",\"\",COUNTIFS(Planning!$C$6:$AG$200,A32))","v":""},{"$f":"IF(A32=\"\",\"\",COUNTIFS(Planning!$AH$6:$BK$200,A32))","v":""},{"$f":"IF(A32=\"\",\"\",COUNTIFS(Planning!$BL$6:$CP$200,A32))","v":""},{"$f":"IF(A32=\"\",\"\",COUNTIFS(Planning!$CQ$6:$DU$200,A32))","v":""},{"$f":"IF(A32=\"\",\"\",COUNTIFS(Planning!$DV$6:$EW$200,A32))","v":""},{"$f":"IF(A32=\"\",\"\",COUNTIFS(Planning!$EX$6:$GB$200,A32))","v":""},{"$f":"IF(A32=\"\",\"\",COUNTIFS(Planning!$GC$6:$HF$200,A32))","v":""},{"$f":"IF(A32=\"\",\"\",COUNTIFS(Planning!$HG$6:$IK$200,A32))","v":""},{"$f":"IF(A32=\"\",\"\",COUNTIFS(Planning!$IL$6:$JO$200,A32))","v":""},{"$f":"IF(A32=\"\",\"\",COUNTIFS(Planning!$JP$6:$KT$200,A32))","v":""},{"$f":"IF(A32=\"\",\"\",COUNTIFS(Planning!$KU$6:$LY$200,A32))","v":""},{"$f":"IF(A32=\"\",\"\",COUNTIFS(Planning!$LZ$6:$NC$200,A32))","v":""},{"$f":"IF(A32=\"\",\"\",COUNTIFS(Planning!$ND$6:$OH$200,A32))","v":""},{"$f":"IF(A32=\"\",\"\",COUNTIFS(Planning!$OI$6:$PL$200,A32))","v":""},{"$f":"IF(A32=\"\",\"\",COUNTIFS(Planning!$PM$6:$QQ$200,A32))","v":""},{"$f":"IF(A32=\"\",\"\",COUNTIFS(Planning!$QR$6:$RV$200,A32))","v":""},{"$f":"IF(A32=\"\",\"\",COUNTIFS(Planning!$RW$6:$SX$200,A32))","v":""},{"$f":"IF(A32=\"\",\"\",COUNTIFS(Planning!$SY$6:$UC$200,A32))","v":""},{"$f":"IF(A32=\"\",\"\",COUNTIFS(Planning!$UD$6:$VG$200,A32))","v":""},{"$f":"IF(A32=\"\",\"\",COUNTIFS(Planning!$VH$6:$WL$200,A32))","v":""},{"$f":"IF(A32=\"\",\"\",COUNTIFS(Planning!$WM$6:$XP$200,A32))","v":""},{"$f":"IF(A32=\"\",\"\",COUNTIFS(Planning!$XQ$6:$YU$200,A32))","v":""},{"$f":"IF(A32=\"\",\"\",COUNTIFS(Planning!$YV$6:$ZZ$200,A32))","v":""},{"$f":"IF(A32=\"\",\"\",COUNTIFS(Planning!$AAA$6:$ABD$200,A32))","v":""},{"$f":"IF(A32=\"\",\"\",COUNTIFS(Planning!$ABE$6:$ACI$200,A32))","v":""},{"$f":"IF(A32=\"\",\"\",COUNTIFS(Planning!$ACJ$6:$ADM$200,A32))","v":""},{"$f":"IF(A32=\"\",\"\",COUNTIFS(Planning!$ADN$6:$AER$200,A32))","v":""},{"$f":"IF(A32=\"\",\"\",COUNTIFS(Planning!$AES$6:$AFW$200,A32))","v":""},{"$f":"IF(A32=\"\",\"\",COUNTIFS(Planning!$AFX$6:$AGZ$200,A32))","v":""},{"$f":"IF(A32=\"\",\"\",COUNTIFS(Planning!$AHA$6:$AIE$200,A32))","v":""},{"$f":"IF(A32=\"\",\"\",COUNTIFS(Planning!$AIF$6:$AJI$200,A32))","v":""},{"$f":"IF(A32=\"\",\"\",COUNTIFS(Planning!$AJJ$6:$AKN$200,A32))","v":""},{"$f":"IF(A32=\"\",\"\",COUNTIFS(Planning!$AKO$6:$ALR$200,A32))","v":""},{"$f":"IF(A32=\"\",\"\",COUNTIFS(Planning!$ALS$6:$AMW$200,A32))","v":""},{"$f":"IF(A32=\"\",\"\",COUNTIFS(Planning!$AMX$6:$AOB$200,A32))","v":""},{"$f":"IF(A32=\"\",\"\",COUNTIFS(Planning!$AOC$6:$APF$200,A32))","v":""},{"$f":"IF(A32=\"\",\"\",COUNTIFS(Planning!$APG$6:$AQK$200,A32))","v":""},{"$f":"IF(A32=\"\",\"\",COUNTIFS(Planning!$AQL$6:$ARO$200,A32))","v":""},{"$f":"IF(A32=\"\",\"\",COUNTIFS(Planning!$ARP$6:$AST$200,A32))","v":""},{"$f":"IF(A32=\"\",\"\",COUNTIFS(Planning!$ASU$6:$ATY$200,A32))","v":""},{"$f":"IF(A32=\"\",\"\",COUNTIFS(Planning!$ATZ$6:$AVA$200,A32))","v":""},{"$f":"IF(A32=\"\",\"\",COUNTIFS(Planning!$AVB$6:$AWF$200,A32))","v":""},{"$f":"IF(A32=\"\",\"\",COUNTIFS(Planning!$AWG$6:$AXJ$200,A32))","v":""},{"$f":"IF(A32=\"\",\"\",COUNTIFS(Planning!$AXK$6:$AYO$200,A32))","v":""},{"$f":"IF(A32=\"\",\"\",COUNTIFS(Planning!$AYP$6:$AZS$200,A32))","v":""}]
[null,{"$f":"IF(A33=\"\",\"\",COUNTIFS(Planning!$C$6:$AG$200,A33))","v":""},{"$f":"IF(A33=\"\",\"\",COUNTIFS(Planning!$AH$6:$BK$200,A33))","v":""},{"$f":"IF(A33=\"\",\"\",COUNTIFS(Planning!$BL$6:$CP$200,A33))","v":""},{"$f":"IF(A33=\"\",\"\",COUNTIFS(Planning!$CQ$6:$DU$200,A33))","v":""},{"$f":"IF(A33=\"\",\"\",COUNTIFS(Planning!$DV$6:$EW$200,A33))","v":""},{"$f":"IF(A33=\"\",\"\",COUNTIFS(Planning!$EX$6:$GB$200,A33))","v":""},{"$f":"IF(A33=\"\",\"\",COUNTIFS(Planning!$GC$6:$HF$200,A33))","v":""},{"$f":"IF(A33=\"\",\"\",COUNTIFS(Planning!$HG$6:$IK$200,A33))","v":""},{"$f":"IF(A33=\"\",\"\",COUNTIFS(Planning!$IL$6:$JO$200,A33))","v":""},{"$f":"IF(A33=\"\",\"\",COUNTIFS(Planning!$JP$6:$KT$200,A33))","v":""},{"$f":"IF(A33=\"\",\"\",COUNTIFS(Planning!$KU$6:$LY$200,A33))","v":""},{"$f":"IF(A33=\"\",\"\",COUNTIFS(Planning!$LZ$6:$NC$200,A33))","v":""},{"$f":"IF(A33=\"\",\"\",COUNTIFS(Planning!$ND$6:$OH$200,A33))","v":""},{"$f":"IF(A33=\"\",\"\",COUNTIFS(Planning!$OI$6:$PL$200,A33))","v":""},{"$f":"IF(A33=\"\",\"\",COUNTIFS(Planning!$PM$6:$QQ$200,A33))","v":""},{"$f":"IF(A33=\"\",\"\",COUNTIFS(Planning!$QR$6:$RV$200,A33))","v":""},{"$f":"IF(A33=\"\",\"\",COUNTIFS(Planning!$RW$6:$SX$200,A33))","v":""},{"$f":"IF(A33=\"\",\"\",COUNTIFS(Planning!$SY$6:$UC$200,A33))","v":""},{"$f":"IF(A33=\"\",\"\",COUNTIFS(Planning!$UD$6:$VG$200,A33))","v":""},{"$f":"IF(A33=\"\",\"\",COUNTIFS(Planning!$VH$6:$WL$200,A33))","v":""},{"$f":"IF(A33=\"\",\"\",COUNTIFS(Planning!$WM$6:$XP$200,A33))","v":""},{"$f":"IF(A33=\"\",\"\",COUNTIFS(Planning!$XQ$6:$YU$200,A33))","v":""},{"$f":"IF(A33=\"\",\"\",COUNTIFS(Planning!$YV$6:$ZZ$200,A33))","v":""},{"$f":"IF(A33=\"\",\"\",COUNTIFS(Planning!$AAA$6:$ABD$200,A33))","v":""},{"$f":"IF(A33=\"\",\"\",COUNTIFS(Planning!$ABE$6:$ACI$200,A33))","v":""},{"$f":"IF(A33=\"\",\"\",COUNTIFS(Planning!$ACJ$6:$ADM$200,A33))","v":""},{"$f":"IF(A33=\"\",\"\",COUNTIFS(Planning!$ADN$6:$AER$200,A33))","v":""},{"$f":"IF(A33=\"\",\"\",COUNTIFS(Planning!$AES$6:$AFW$200,A33))","v":""},{"$f":"IF(A33=\"\",\"\",COUNTIFS(Planning!$AFX$6:$AGZ$200,A33))","v":""},{"$f":"IF(A33=\"\",\"\",COUNTIFS(Planning!$AHA$6:$AIE$200,A33))","v":""},{"$f":"IF(A33=\"\",\"\",COUNTIFS(Planning!$AIF$6:$AJI$200,A33))","v":""},{"$f":"IF(A33=\"\",\"\",COUNTIFS(Planning!$AJJ$6:$AKN$200,A33))","v":""},{"$f":"IF(A33=\"\",\"\",COUNTIFS(Planning!$AKO$6:$ALR$200,A33))","v":""},{"$f":"IF(A33=\"\",\"\",COUNTIFS(Planning!$ALS$6:$AMW$200,A33))","v":""},{"$f":"IF(A33=\"\",\"\",COUNTIFS(Planning!$AMX$6:$AOB$200,A33))","v":""},{"$f":"IF(A33=\"\",\"\",COUNTIFS(Planning!$AOC$6:$APF$200,A33))","v":""},{"$f":"IF(A33=\"\",\"\",COUNTIFS(Planning!$APG$6:$AQK$200,A33))","v":""},{"$f":"IF(A33=\"\",\"\",COUNTIFS(Planning!$AQL$6:$ARO$200,A33))","v":""},{"$f":"IF(A33=\"\",\"\",COUNTIFS(Planning!$ARP$6:$AST$200,A33))","v":""},{"$f":"IF(A33=\"\",\"\",COUNTIFS(Planning!$ASU$6:$ATY$200,A33))","v":""},{"$f":"IF(A33=\"\",\"\",COUNTIFS(Planning!$ATZ$6:$AVA$200,A33))","v":""},{"$f":"IF(A33=\"\",\"\",COUNTIFS(Planning!$AVB$6:$AWF$200,A33))","v":""},{"$f":"IF(A33=\"\",\"\",COUNTIFS(Planning!$AWG$6:$AXJ$200,A33))","v":""},{"$f":"IF(A33=\"\",\"\",COUNTIFS(Planning!$AXK$6:$AYO$200,A33))","v":""},{"$f":"IF(A33=\"\",\"\",COUNTIFS(Planning!$AYP$6:$AZS$200,A33))","v":""}]
[null,{"$f":"IF(A34=\"\",\"\",COUNTIFS(Planning!$C$6:$AG$200,A34))","v":""},{"$f":"IF(A34=\"\",\"\",COUNTIFS(Planning!$AH$6:$BK$200,A34))","v":""},{"$f":"IF(A34=\"\",\"\",COUNTIFS(Planning!$BL$6:$CP$200,A34))","v":""},{"$f":"IF(A34=\"\",\"\",COUNTIFS(Planning!$CQ$6:$DU$200,A34))","v":""},{"$f":"IF(A34=\"\",\"\",COUNTIFS(Planning!$DV$6:$EW$200,A34))","v":""},{"$f":"IF(A34=\"\",\"\",COUNTIFS(Planning!$EX$6:$GB$200,A34))","v":""},{"$f":"IF(A34=\"\",\"\",COUNTIFS(Planning!$GC$6:$HF$200,A34))","v":""},{"$f":"IF(A34=\"\",\"\",COUNTIFS(Planning!$HG$6:$IK$200,A34))","v":""},{"$f":"IF(A34=\"\",\"\",COUNTIFS(Planning!$IL$6:$JO$200,A34))","v":""},{"$f":"IF(A34=\"\",\"\",COUNTIFS(Planning!$JP$6:$KT$200,A34))","v":""},{"$f":"IF(A34=\"\",\"\",COUNTIFS(Planning!$KU$6:$LY$200,A34))","v":""},{"$f":"IF(A34=\"\",\"\",COUNTIFS(Planning!$LZ$6:$NC$200,A34))","v":""},{"$f":"IF(A34=\"\",\"\",COUNTIFS(Planning!$ND$6:$OH$200,A34))","v":""},{"$f":"IF(A34=\"\",\"\",COUNTIFS(Planning!$OI$6:$PL$200,A34))","v":""},{"$f":"IF(A34=\"\",\"\",COUNTIFS(Planning!$PM$6:$QQ$200,A34))","v":""},{"$f":"IF(A34=\"\",\"\",COUNTIFS(Planning!$QR$6:$RV$200,A34))","v":""},{"$f":"IF(A34=\"\",\"\",COUNTIFS(Planning!$RW$6:$SX$200,A34))","v":""},{"$f":"IF(A34=\"\",\"\",COUNTIFS(Planning!$SY$6:$UC$200,A34))","v":""},{"$f":"IF(A34=\"\",\"\",COUNTIFS(Planning!$UD$6:$VG$200,A34))","v":""},{"$f":"IF(A34=\"\",\"\",COUNTIFS(Planning!$VH$6:$WL$200,A34))","v":""},{"$f":"IF(A34=\"\",\"\",COUNTIFS(Planning!$WM$6:$XP$200,A34))","v":""},{"$f":"IF(A34=\"\",\"\",COUNTIFS(Planning!$XQ$6:$YU$200,A34))","v":""},{"$f":"IF(A34=\"\",\"\",COUNTIFS(Planning!$YV$6:$ZZ$200,A34))","v":""},{"$f":"IF(A34=\"\",\"\",COUNTIFS(Planning!$AAA$6:$ABD$200,A34))","v":""},{"$f":"IF(A34=\"\",\"\",COUNTIFS(Planning!$ABE$6:$ACI$200,A34))","v":""},{"$f":"IF(A34=\"\",\"\",COUNTIFS(Planning!$ACJ$6:$ADM$200,A34))","v":""},{"$f":"IF(A34=\"\",\"\",COUNTIFS(Planning!$ADN$6:$AER$200,A34))","v":""},{"$f":"IF(A34=\"\",\"\",COUNTIFS(Planning!$AES$6:$AFW$200,A34))","v":""},{"$f":"IF(A34=\"\",\"\",COUNTIFS(Planning!$AFX$6:$AGZ$200,A34))","v":""},{"$f":"IF(A34=\"\",\"\",COUNTIFS(Planning!$AHA$6:$AIE$200,A34))","v":""},{"$f":"IF(A34=\"\",\"\",COUNTIFS(Planning!$AIF$6:$AJI$200,A34))","v":""},{"$f":"IF(A34=\"\",\"\",COUNTIFS(Planning!$AJJ$6:$AKN$200,A34))","v":""},{"$f":"IF(A34=\"\",\"\",COUNTIFS(Planning!$AKO$6:$ALR$200,A34))","v":""},{"$f":"IF(A34=\"\",\"\",COUNTIFS(Planning!$ALS$6:$AMW$200,A34))","v":""},{"$f":"IF(A34=\"\",\"\",COUNTIFS(Planning!$AMX$6:$AOB$200,A34))","v":""},{"$f":"IF(A34=\"\",\"\",COUNTIFS(Planning!$AOC$6:$APF$200,A34))","v":""},{"$f":"IF(A34=\"\",\"\",COUNTIFS(Planning!$APG$6:$AQK$200,A34))","v":""},{"$f":"IF(A34=\"\",\"\",COUNTIFS(Planning!$AQL$6:$ARO$200,A34))","v":""},{"$f":"IF(A34=\"\",\"\",COUNTIFS(Planning!$ARP$6:$AST$200,A34))","v":""},{"$f":"IF(A34=\"\",\"\",COUNTIFS(Planning!$ASU$6:$ATY$200,A34))","v":""},{"$f":"IF(A34=\"\",\"\",COUNTIFS(Planning!$ATZ$6:$AVA$200,A34))","v":""},{"$f":"IF(A34=\"\",\"\",COUNTIFS(Planning!$AVB$6:$AWF$200,A34))","v":""},{"$f":"IF(A34=\"\",\"\",COUNTIFS(Planning!$AWG$6:$AXJ$200,A34))","v":""},{"$f":"IF(A34=\"\",\"\",COUNTIFS(Planning!$AXK$6:$AYO$200,A34))","v":""},{"$f":"IF(A34=\"\",\"\",COUNTIFS(Planning!$AYP$6:$AZS$200,A34))","v":""}]
[null,{"$f":"IF(A35=\"\",\"\",COUNTIFS(Planning!$C$6:$AG$200,A35))","v":""},{"$f":"IF(A35=\"\",\"\",COUNTIFS(Planning!$AH$6:$BK$200,A35))","v":""},{"$f":"IF(A35=\"\",\"\",COUNTIFS(Planning!$BL$6:$CP$200,A35))","v":""},{"$f":"IF(A35=\"\",\"\",COUNTIFS(Planning!$CQ$6:$DU$200,A35))","v":""},{"$f":"IF(A35=\"\",\"\",COUNTIFS(Planning!$DV$6:$EW$200,A35))","v":""},{"$f":"IF(A35=\"\",\"\",COUNTIFS(Planning!$EX$6:$GB$200,A35))","v":""},{"$f":"IF(A35=\"\",\"\",COUNTIFS(Planning!$GC$6:$HF$200,A35))","v":""},{"$f":"IF(A35=\"\",\"\",COUNTIFS(Planning!$HG$6:$IK$200,A35))","v":""},{"$f":"IF(A35=\"\",\"\",COUNTIFS(Planning!$IL$6:$JO$200,A35))","v":""},{"$f":"IF(A35=\"\",\"\",COUNTIFS(Planning!$JP$6:$KT$200,A35))","v":""},{"$f":"IF(A35=\"\",\"\",COUNTIFS(Planning!$KU$6:$LY$200,A35))","v":""},{"$f":"IF(A35=\"\",\"\",COUNTIFS(Planning!$LZ$6:$NC$200,A35))","v":""},{"$f":"IF(A35=\"\",\"\",COUNTIFS(Planning!$ND$6:$OH$200,A35))","v":""},{"$f":"IF(A35=\"\",\"\",COUNTIFS(Planning!$OI$6:$PL$200,A35))","v":""},{"$f":"IF(A35=\"\",\"\",COUNTIFS(Planning!$PM$6:$QQ$200,A35))","v":""},{"$f":"IF(A35=\"\",\"\",COUNTIFS(Planning!$QR$6:$RV$200,A35))","v":""},{"$f":"IF(A35=\"\",\"\",COUNTIFS(Planning!$RW$6:$SX$200,A35))","v":""},{"$f":"IF(A35=\"\",\"\",COUNTIFS(Planning!$SY$6:$UC$200,A35))","v":""},{"$f":"IF(A35=\"\",\"\",COUNTIFS(Planning!$UD$6:$VG$200,A35))","v":""},{"$f":"IF(A35=\"\",\"\",COUNTIFS(Planning!$VH$6:$WL$200,A35))","v":""},{"$f":"IF(A35=\"\",\"\",COUNTIFS(Planning!$WM$6:$XP$200,A35))","v":""},{"$f":"IF(A35=\"\",\"\",COUNTIFS(Planning!$XQ$6:$YU$200,A35))","v":""},{"$f":"IF(A35=\"\",\"\",COUNTIFS(Planning!$YV$6:$ZZ$200,A35))","v":""},{"$f":"IF(A35=\"\",\"\",COUNTIFS(Planning!$AAA$6:$ABD$200,A35))","v":""},{"$f":"IF(A35=\"\",\"\",COUNTIFS(Planning!$ABE$6:$ACI$200,A35))","v":""},{"$f":"IF(A35=\"\",\"\",COUNTIFS(Planning!$ACJ$6:$ADM$200,A35))","v":""},{"$f":"IF(A35=\"\",\"\",COUNTIFS(Planning!$ADN$6:$AER$200,A35))","v":""},{"$f":"IF(A35=\"\",\"\",COUNTIFS(Planning!$AES$6:$AFW$200,A35))","v":""},{"$f":"IF(A35=\"\",\"\",COUNTIFS(Planning!$AFX$6:$AGZ$200,A35))","v":""},{"$f":"IF(A35=\"\",\"\",COUNTIFS(Planning!$AHA$6:$AIE$200,A35))","v":""},{"$f":"IF(A35=\"\",\"\",COUNTIFS(Planning!$AIF$6:$AJI$200,A35))","v":""},{"$f":"IF(A35=\"\",\"\",COUNTIFS(Planning!$AJJ$6:$AKN$200,A35))","v":""},{"$f":"IF(A35=\"\",\"\",COUNTIFS(Planning!$AKO$6:$ALR$200,A35))","v":""},{"$f":"IF(A35=\"\",\"\",COUNTIFS(Planning!$ALS$6:$AMW$200,A35))","v":""},{"$f":"IF(A35=\"\",\"\",COUNTIFS(Planning!$AMX$6:$AOB$200,A35))","v":""},{"$f":"IF(A35=\"\",\"\",COUNTIFS(Planning!$AOC$6:$APF$200,A35))","v":""},{"$f":"IF(A35=\"\",\"\",COUNTIFS(Planning!$APG$6:$AQK$200,A35))","v":""},{"$f":"IF(A35=\"\",\"\",COUNTIFS(Planning!$AQL$6:$ARO$200,A35))","v":""},{"$f":"IF(A35=\"\",\"\",COUNTIFS(Planning!$ARP$6:$AST$200,A35))","v":""},{"$f":"IF(A35=\"\",\"\",COUNTIFS(Planning!$ASU$6:$ATY$200,A35))","v":""},{"$f":"IF(A35=\"\",\"\",COUNTIFS(Planning!$ATZ$6:$AVA$200,A35))","v":""},{"$f":"IF(A35=\"\",\"\",COUNTIFS(Planning!$AVB$6:$AWF$200,A35))","v":""},{"$f":"IF(A35=\"\",\"\",COUNTIFS(Planning!$AWG$6:$AXJ$200,A35))","v":""},{"$f":"IF(A35=\"\",\"\",COUNTIFS(Planning!$AXK$6:$AYO$200,A35))","v":""},{"$f":"IF(A35=\"\",\"\",COUNTIFS(Planning!$AYP$6:$AZS$200,A35))","v":""}]
[null,{"$f":"IF(A36=\"\",\"\",COUNTIFS(Planning!$C$6:$AG$200,A36))","v":""},{"$f":"IF(A36=\"\",\"\",COUNTIFS(Planning!$AH$6:$BK$200,A36))","v":""},{"$f":"IF(A36=\"\",\"\",COUNTIFS(Planning!$BL$6:$CP$200,A36))","v":""},{"$f":"IF(A36=\"\",\"\",COUNTIFS(Planning!$CQ$6:$DU$200,A36))","v":""},{"$f":"IF(A36=\"\",\"\",COUNTIFS(Planning!$DV$6:$EW$200,A36))","v":""},{"$f":"IF(A36=\"\",\"\",COUNTIFS(Planning!$EX$6:$GB$200,A36))","v":""},{"$f":"IF(A36=\"\",\"\",COUNTIFS(Planning!$GC$6:$HF$200,A36))","v":""},{"$f":"IF(A36=\"\",\"\",COUNTIFS(Planning!$HG$6:$IK$200,A36))","v":""},{"$f":"IF(A36=\"\",\"\",COUNTIFS(Planning!$IL$6:$JO$200,A36))","v":""},{"$f":"IF(A36=\"\",\"\",COUNTIFS(Planning!$JP$6:$KT$200,A36))","v":""},{"$f":"IF(A36=\"\",\"\",COUNTIFS(Planning!$KU$6:$LY$200,A36))","v":""},{"$f":"IF(A36=\"\",\"\",COUNTIFS(Planning!$LZ$6:$NC$200,A36))","v":""},{"$f":"IF(A36=\"\",\"\",COUNTIFS(Planning!$ND$6:$OH$200,A36))","v":""},{"$f":"IF(A36=\"\",\"\",COUNTIFS(Planning!$OI$6:$PL$200,A36))","v":""},{"$f":"IF(A36=\"\",\"\",COUNTIFS(Planning!$PM$6:$QQ$200,A36))","v":""},{"$f":"IF(A36=\"\",\"\",COUNTIFS(Planning!$QR$6:$RV$200,A36))","v":""},{"$f":"IF(A36=\"\",\"\",COUNTIFS(Planning!$RW$6:$SX$200,A36))","v":""},{"$f":"IF(A36=\"\",\"\",COUNTIFS(Planning!$SY$6:$UC$200,A36))","v":""},{"$f":"IF(A36=\"\",\"\",COUNTIFS(Planning!$UD$6:$VG$200,A36))","v":""},{"$f":"IF(A36=\"\",\"\",COUNTIFS(Planning!$VH$6:$WL$200,A36))","v":""},{"$f":"IF(A36=\"\",\"\",COUNTIFS(Planning!$WM$6:$XP$200,A36))","v":""},{"$f":"IF(A36=\"\",\"\",COUNTIFS(Planning!$XQ$6:$YU$200,A36))","v":""},{"$f":"IF(A36=\"\",\"\",COUNTIFS(Planning!$YV$6:$ZZ$200,A36))","v":""},{"$f":"IF(A36=\"\",\"\",COUNTIFS(Planning!$AAA$6:$ABD$200,A36))","v":""},{"$f":"IF(A36=\"\",\"\",COUNTIFS(Planning!$ABE$6:$ACI$200,A36))","v":""},{"$f":"IF(A36=\"\",\"\",COUNTIFS(Planning!$ACJ$6:$ADM$200,A36))","v":""},{"$f":"IF(A36=\"\",\"\",COUNTIFS(Planning!$ADN$6:$AER$200,A36))","v":""},{"$f":"IF(A36=\"\",\"\",COUNTIFS(Planning!$AES$6:$AFW$200,A36))","v":""},{"$f":"IF(A36=\"\",\"\",COUNTIFS(Planning!$AFX$6:$AGZ$200,A36))","v":""},{"$f":"IF(A36=\"\",\"\",COUNTIFS(Planning!$AHA$6:$AIE$200,A36))","v":""},{"$f":"IF(A36=\"\",\"\",COUNTIFS(Planning!$AIF$6:$AJI$200,A36))","v":""},{"$f":"IF(A36=\"\",\"\",COUNTIFS(Planning!$AJJ$6:$AKN$200,A36))","v":""},{"$f":"IF(A36=\"\",\"\",COUNTIFS(Planning!$AKO$6:$ALR$200,A36))","v":""},{"$f":"IF(A36=\"\",\"\",COUNTIFS(Planning!$ALS$6:$AMW$200,A36))","v":""},{"$f":"IF(A36=\"\",\"\",COUNTIFS(Planning!$AMX$6:$AOB$200,A36))","v":""},{"$f":"IF(A36=\"\",\"\",COUNTIFS(Planning!$AOC$6:$APF$200,A36))","v":""},{"$f":"IF(A36=\"\",\"\",COUNTIFS(Planning!$APG$6:$AQK$200,A36))","v":""},{"$f":"IF(A36=\"\",\"\",COUNTIFS(Planning!$AQL$6:$ARO$200,A36))","v":""},{"$f":"IF(A36=\"\",\"\",COUNTIFS(Planning!$ARP$6:$AST$200,A36))","v":""},{"$f":"IF(A36=\"\",\"\",COUNTIFS(Planning!$ASU$6:$ATY$200,A36))","v":""},{"$f":"IF(A36=\"\",\"\",COUNTIFS(Planning!$ATZ$6:$AVA$200,A36))","v":""},{"$f":"IF(A36=\"\",\"\",COUNTIFS(Planning!$AVB$6:$AWF$200,A36))","v":""},{"$f":"IF(A36=\"\",\"\",COUNTIFS(Planning!$AWG$6:$AXJ$200,A36))","v":""},{"$f":"IF(A36=\"\",\"\",COUNTIFS(Planning!$AXK$6:$AYO$200,A36))","v":""},{"$f":"IF(A36=\"\",\"\",COUNTIFS(Planning!$AYP$6:$AZS$200,A36))","v":""}]
[null,{"$f":"IF(A37=\"\",\"\",COUNTIFS(Planning!$C$6:$AG$200,A37))","v":""},{"$f":"IF(A37=\"\",\"\",COUNTIFS(Planning!$AH$6:$BK$200,A37))","v":""},{"$f":"IF(A37=\"\",\"\",COUNTIFS(Planning!$BL$6:$CP$200,A37))","v":""},{"$f":"IF(A37=\"\",\"\",COUNTIFS(Planning!$CQ$6:$DU$200,A37))","v":""},{"$f":"IF(A37=\"\",\"\",COUNTIFS(Planning!$DV$6:$EW$200,A37))","v":""},{"$f":"IF(A37=\"\",\"\",COUNTIFS(Planning!$EX$6:$GB$200,A37))","v":""},{"$f":"IF(A37=\"\",\"\",COUNTIFS(Planning!$GC$6:$HF$200,A37))","v":""},{"$f":"IF(A37=\"\",\"\",COUNTIFS(Planning!$HG$6:$IK$200,A37))","v":""},{"$f":"IF(A37=\"\",\"\",COUNTIFS(Planning!$IL$6:$JO$200,A37))","v":""},{"$f":"IF(A37=\"\",\"\",COUNTIFS(Planning!$JP$6:$KT$200,A37))","v":""},{"$f":"IF(A37=\"\",\"\",COUNTIFS(Planning!$KU$6:$LY$200,A37))","v":""},{"$f":"IF(A37=\"\",\"\",COUNTIFS(Planning!$LZ$6:$NC$200,A37))","v":""},{"$f":"IF(A37=\"\",\"\",COUNTIFS(Planning!$ND$6:$OH$200,A37))","v":""},{"$f":"IF(A37=\"\",\"\",COUNTIFS(Planning!$OI$6:$PL$200,A37))","v":""},{"$f":"IF(A37=\"\",\"\",COUNTIFS(Planning!$PM$6:$QQ$200,A37))","v":""},{"$f":"IF(A37=\"\",\"\",COUNTIFS(Planning!$QR$6:$RV$200,A37))","v":""},{"$f":"IF(A37=\"\",\"\",COUNTIFS(Planning!$RW$6:$SX$200,A37))","v":""},{"$f":"IF(A37=\"\",\"\",COUNTIFS(Planning!$SY$6:$UC$200,A37))","v":""},{"$f":"IF(A37=\"\",\"\",COUNTIFS(Planning!$UD$6:$VG$200,A37))","v":""},{"$f":"IF(A37=\"\",\"\",COUNTIFS(Planning!$VH$6:$WL$200,A37))","v":""},{"$f":"IF(A37=\"\",\"\",COUNTIFS(Planning!$WM$6:$XP$200,A37))","v":""},{"$f":"IF(A37=\"\",\"\",COUNTIFS(Planning!$XQ$6:$YU$200,A37))","v":""},{"$f":"IF(A37=\"\",\"\",COUNTIFS(Planning!$YV$6:$ZZ$200,A37))","v":""},{"$f":"IF(A37=\"\",\"\",COUNTIFS(Planning!$AAA$6:$ABD$200,A37))","v":""},{"$f":"IF(A37=\"\",\"\",COUNTIFS(Planning!$ABE$6:$ACI$200,A37))","v":""},{"$f":"IF(A37=\"\",\"\",COUNTIFS(Planning!$ACJ$6:$ADM$200,A37))","v":""},{"$f":"IF(A37=\"\",\"\",COUNTIFS(Planning!$ADN$6:$AER$200,A37))","v":""},{"$f":"IF(A37=\"\",\"\",COUNTIFS(Planning!$AES$6:$AFW$200,A37))","v":""},{"$f":"IF(A37=\"\",\"\",COUNTIFS(Planning!$AFX$6:$AGZ$200,A37))","v":""},{"$f":"IF(A37=\"\",\"\",COUNTIFS(Planning!$AHA$6:$AIE$200,A37))","v":""},{"$f":"IF(A37=\"\",\"\",COUNTIFS(Planning!$AIF$6:$AJI$200,A37))","v":""},{"$f":"IF(A37=\"\",\"\",COUNTIFS(Planning!$AJJ$6:$AKN$200,A37))","v":""},{"$f":"IF(A37=\"\",\"\",COUNTIFS(Planning!$AKO$6:$ALR$200,A37))","v":""},{"$f":"IF(A37=\"\",\"\",COUNTIFS(Planning!$ALS$6:$AMW$200,A37))","v":""},{"$f":"IF(A37=\"\",\"\",COUNTIFS(Planning!$AMX$6:$AOB$200,A37))","v":""},{"$f":"IF(A37=\"\",\"\",COUNTIFS(Planning!$AOC$6:$APF$200,A37))","v":""},{"$f":"IF(A37=\"\",\"\",COUNTIFS(Planning!$APG$6:$AQK$200,A37))","v":""},{"$f":"IF(A37=\"\",\"\",COUNTIFS(Planning!$AQL$6:$ARO$200,A37))","v":""},{"$f":"IF(A37=\"\",\"\",COUNTIFS(Planning!$ARP$6:$AST$200,A37))","v":""},{"$f":"IF(A37=\"\",\"\",COUNTIFS(Planning!$ASU$6:$ATY$200,A37))","v":""},{"$f":"IF(A37=\"\",\"\",COUNTIFS(Planning!$ATZ$6:$AVA$200,A37))","v":""},{"$f":"IF(A37=\"\",\"\",COUNTIFS(Planning!$AVB$6:$AWF$200,A37))","v":""},{"$f":"IF(A37=\"\",\"\",COUNTIFS(Planning!$AWG$6:$AXJ$200,A37))","v":""},{"$f":"IF(A37=\"\",\"\",COUNTIFS(Planning!$AXK$6:$AYO$200,A37))","v":""},{"$f":"IF(A37=\"\",\"\",COUNTIFS(Planning!$AYP$6:$AZS$200,A37))","v":""}]
[null,{"$f":"IF(A38=\"\",\"\",COUNTIFS(Planning!$C$6:$AG$200,A38))","v":""},{"$f":"IF(A38=\"\",\"\",COUNTIFS(Planning!$AH$6:$BK$200,A38))","v":""},{"$f":"IF(A38=\"\",\"\",COUNTIFS(Planning!$BL$6:$CP$200,A38))","v":""},{"$f":"IF(A38=\"\",\"\",COUNTIFS(Planning!$CQ$6:$DU$200,A38))","v":""},{"$f":"IF(A38=\"\",\"\",COUNTIFS(Planning!$DV$6:$EW$200,A38))","v":""},{"$f":"IF(A38=\"\",\"\",COUNTIFS(Planning!$EX$6:$GB$200,A38))","v":""},{"$f":"IF(A38=\"\",\"\",COUNTIFS(Planning!$GC$6:$HF$200,A38))","v":""},{"$f":"IF(A38=\"\",\"\",COUNTIFS(Planning!$HG$6:$IK$200,A38))","v":""},{"$f":"IF(A38=\"\",\"\",COUNTIFS(Planning!$IL$6:$JO$200,A38))","v":""},{"$f":"IF(A38=\"\",\"\",COUNTIFS(Planning!$JP$6:$KT$200,A38))","v":""},{"$f":"IF(A38=\"\",\"\",COUNTIFS(Planning!$KU$6:$LY$200,A38))","v":""},{"$f":"IF(A38=\"\",\"\",COUNTIFS(Planning!$LZ$6:$NC$200,A38))","v":""},{"$f":"IF(A38=\"\",\"\",COUNTIFS(Planning!$ND$6:$OH$200,A38))","v":""},{"$f":"IF(A38=\"\",\"\",COUNTIFS(Planning!$OI$6:$PL$200,A38))","v":""},{"$f":"IF(A38=\"\",\"\",COUNTIFS(Planning!$PM$6:$QQ$200,A38))","v":""},{"$f":"IF(A38=\"\",\"\",COUNTIFS(Planning!$QR$6:$RV$200,A38))","v":""},{"$f":"IF(A38=\"\",\"\",COUNTIFS(Planning!$RW$6:$SX$200,A38))","v":""},{"$f":"IF(A38=\"\",\"\",COUNTIFS(Planning!$SY$6:$UC$200,A38))","v":""},{"$f":"IF(A38=\"\",\"\",COUNTIFS(Planning!$UD$6:$VG$200,A38))","v":""},{"$f":"IF(A38=\"\",\"\",COUNTIFS(Planning!$VH$6:$WL$200,A38))","v":""},{"$f":"IF(A38=\"\",\"\",COUNTIFS(Planning!$WM$6:$XP$200,A38))","v":""},{"$f":"IF(A38=\"\",\"\",COUNTIFS(Planning!$XQ$6:$YU$200,A38))","v":""},{"$f":"IF(A38=\"\",\"\",COUNTIFS(Planning!$YV$6:$ZZ$200,A38))","v":""},{"$f":"IF(A38=\"\",\"\",COUNTIFS(Planning!$AAA$6:$ABD$200,A38))","v":""},{"$f":"IF(A38=\"\",\"\",COUNTIFS(Planning!$ABE$6:$ACI$200,A38))","v":""},{"$f":"IF(A38=\"\",\"\",COUNTIFS(Planning!$ACJ$6:$ADM$200,A38))","v":""},{"$f":"IF(A38=\"\",\"\",COUNTIFS(Planning!$ADN$6:$AER$200,A38))","v":""},{"$f":"IF(A38=\"\",\"\",COUNTIFS(Planning!$AES$6:$AFW$200,A38))","v":""},{"$f":"IF(A38=\"\",\"\",COUNTIFS(Planning!$AFX$6:$AGZ$200,A38))","v":""},{"$f":"IF(A38=\"\",\"\",COUNTIFS(Planning!$AHA$6:$AIE$200,A38))","v":""},{"$f":"IF(A38=\"\",\"\",COUNTIFS(Planning!$AIF$6:$AJI$200,A38))","v":""},{"$f":"IF(A38=\"\",\"\",COUNTIFS(Planning!$AJJ$6:$AKN$200,A38))","v":""},{"$f":"IF(A38=\"\",\"\",COUNTIFS(Planning!$AKO$6:$ALR$200,A38))","v":""},{"$f":"IF(A38=\"\",\"\",COUNTIFS(Planning!$ALS$6:$AMW$200,A38))","v":""},{"$f":"IF(A38=\"\",\"\",COUNTIFS(Planning!$AMX$6:$AOB$200,A38))","v":""},{"$f":"IF(A38=\"\",\"\",COUNTIFS(Planning!$AOC$6:$APF$200,A38))","v":""},{"$f":"IF(A38=\"\",\"\",COUNTIFS(Planning!$APG$6:$AQK$200,A38))","v":""},{"$f":"IF(A38=\"\",\"\",COUNTIFS(Planning!$AQL$6:$ARO$200,A38))","v":""},{"$f":"IF(A38=\"\",\"\",COUNTIFS(Planning!$ARP$6:$AST$200,A38))","v":""},{"$f":"IF(A38=\"\",\"\",COUNTIFS(Planning!$ASU$6:$ATY$200,A38))","v":""},{"$f":"IF(A38=\"\",\"\",COUNTIFS(Planning!$ATZ$6:$AVA$200,A38))","v":""},{"$f":"IF(A38=\"\",\"\",COUNTIFS(Planning!$AVB$6:$AWF$200,A38))","v":""},{"$f":"IF(A38=\"\",\"\",COUNTIFS(Planning!$AWG$6:$AXJ$200,A38))","v":""},{"$f":"IF(A38=\"\",\"\",COUNTIFS(Planning!$AXK$6:$AYO$200,A38))","v":""},{"$f":"IF(A38=\"\",\"\",COUNTIFS(Planning!$AYP$6:$AZS$200,A38))","v":""}]
[null,{"$f":"IF(A39=\"\",\"\",COUNTIFS(Planning!$C$6:$AG$200,A39))","v":""},{"$f":"IF(A39=\"\",\"\",COUNTIFS(Planning!$AH$6:$BK$200,A39))","v":""},{"$f":"IF(A39=\"\",\"\",COUNTIFS(Planning!$BL$6:$CP$200,A39))","v":""},{"$f":"IF(A39=\"\",\"\",COUNTIFS(Planning!$CQ$6:$DU$200,A39))","v":""},{"$f":"IF(A39=\"\",\"\",COUNTIFS(Planning!$DV$6:$EW$200,A39))","v":""},{"$f":"IF(A39=\"\",\"\",COUNTIFS(Planning!$EX$6:$GB$200,A39))","v":""},{"$f":"IF(A39=\"\",\"\",COUNTIFS(Planning!$GC$6:$HF$200,A39))","v":""},{"$f":"IF(A39=\"\",\"\",COUNTIFS(Planning!$HG$6:$IK$200,A39))","v":""},{"$f":"IF(A39=\"\",\"\",COUNTIFS(Planning!$IL$6:$JO$200,A39))","v":""},{"$f":"IF(A39=\"\",\"\",COUNTIFS(Planning!$JP$6:$KT$200,A39))","v":""},{"$f":"IF(A39=\"\",\"\",COUNTIFS(Planning!$KU$6:$LY$200,A39))","v":""},{"$f":"IF(A39=\"\",\"\",COUNTIFS(Planning!$LZ$6:$NC$200,A39))","v":""},{"$f":"IF(A39=\"\",\"\",COUNTIFS(Planning!$ND$6:$OH$200,A39))","v":""},{"$f":"IF(A39=\"\",\"\",COUNTIFS(Planning!$OI$6:$PL$200,A39))","v":""},{"$f":"IF(A39=\"\",\"\",COUNTIFS(Planning!$PM$6:$QQ$200,A39))","v":""},{"$f":"IF(A39=\"\",\"\",COUNTIFS(Planning!$QR$6:$RV$200,A39))","v":""},{"$f":"IF(A39=\"\",\"\",COUNTIFS(Planning!$RW$6:$SX$200,A39))","v":""},{"$f":"IF(A39=\"\",\"\",COUNTIFS(Planning!$SY$6:$UC$200,A39))","v":""},{"$f":"IF(A39=\"\",\"\",COUNTIFS(Planning!$UD$6:$VG$200,A39))","v":""},{"$f":"IF(A39=\"\",\"\",COUNTIFS(Planning!$VH$6:$WL$200,A39))","v":""},{"$f":"IF(A39=\"\",\"\",COUNTIFS(Planning!$WM$6:$XP$200,A39))","v":""},{"$f":"IF(A39=\"\",\"\",COUNTIFS(Planning!$XQ$6:$YU$200,A39))","v":""},{"$f":"IF(A39=\"\",\"\",COUNTIFS(Planning!$YV$6:$ZZ$200,A39))","v":""},{"$f":"IF(A39=\"\",\"\",COUNTIFS(Planning!$AAA$6:$ABD$200,A39))","v":""},{"$f":"IF(A39=\"\",\"\",COUNTIFS(Planning!$ABE$6:$ACI$200,A39))","v":""},{"$f":"IF(A39=\"\",\"\",COUNTIFS(Planning!$ACJ$6:$ADM$200,A39))","v":""},{"$f":"IF(A39=\"\",\"\",COUNTIFS(Planning!$ADN$6:$AER$200,A39))","v":""},{"$f":"IF(A39=\"\",\"\",COUNTIFS(Planning!$AES$6:$AFW$200,A39))","v":""},{"$f":"IF(A39=\"\",\"\",COUNTIFS(Planning!$AFX$6:$AGZ$200,A39))","v":""},{"$f":"IF(A39=\"\",\"\",COUNTIFS(Planning!$AHA$6:$AIE$200,A39))","v":""},{"$f":"IF(A39=\"\",\"\",COUNTIFS(Planning!$AIF$6:$AJI$200,A39))","v":""},{"$f":"IF(A39=\"\",\"\",COUNTIFS(Planning!$AJJ$6:$AKN$200,A39))","v":""},{"$f":"IF(A39=\"\",\"\",COUNTIFS(Planning!$AKO$6:$ALR$200,A39))","v":""},{"$f":"IF(A39=\"\",\"\",COUNTIFS(Planning!$ALS$6:$AMW$200,A39))","v":""},{"$f":"IF(A39=\"\",\"\",COUNTIFS(Planning!$AMX$6:$AOB$200,A39))","v":""},{"$f":"IF(A39=\"\",\"\",COUNTIFS(Planning!$AOC$6:$APF$200,A39))","v":""},{"$f":"IF(A39=\"\",\"\",COUNTIFS(Planning!$APG$6:$AQK$200,A39))","v":""},{"$f":"IF(A39=\"\",\"\",COUNTIFS(Planning!$AQL$6:$ARO$200,A39))","v":""},{"$f":"IF(A39=\"\",\"\",COUNTIFS(Planning!$ARP$6:$AST$200,A39))","v":""},{"$f":"IF(A39=\"\",\"\",COUNTIFS(Planning!$ASU$6:$ATY$200,A39))","v":""},{"$f":"IF(A39=\"\",\"\",COUNTIFS(Planning!$ATZ$6:$AVA$200,A39))","v":""},{"$f":"IF(A39=\"\",\"\",COUNTIFS(Planning!$AVB$6:$AWF$200,A39))","v":""},{"$f":"IF(A39=\"\",\"\",COUNTIFS(Planning!$AWG$6:$AXJ$200,A39))","v":""},{"$f":"IF(A39=\"\",\"\",COUNTIFS(Planning!$AXK$6:$AYO$200,A39))","v":""},{"$f":"IF(A39=\"\",\"\",COUNTIFS(Planning!$AYP$6:$AZS$200,A39))","v":""}]
[null,{"$f":"IF(A40=\"\",\"\",COUNTIFS(Planning!$C$6:$AG$200,A40))","v":""},{"$f":"IF(A40=\"\",\"\",COUNTIFS(Planning!$AH$6:$BK$200,A40))","v":""},{"$f":"IF(A40=\"\",\"\",COUNTIFS(Planning!$BL$6:$CP$200,A40))","v":""},{"$f":"IF(A40=\"\",\"\",COUNTIFS(Planning!$CQ$6:$DU$200,A40))","v":""},{"$f":"IF(A40=\"\",\"\",COUNTIFS(Planning!$DV$6:$EW$200,A40))","v":""},{"$f":"IF(A40=\"\",\"\",COUNTIFS(Planning!$EX$6:$GB$200,A40))","v":""},{"$f":"IF(A40=\"\",\"\",COUNTIFS(Planning!$GC$6:$HF$200,A40))","v":""},{"$f":"IF(A40=\"\",\"\",COUNTIFS(Planning!$HG$6:$IK$200,A40))","v":""},{"$f":"IF(A40=\"\",\"\",COUNTIFS(Planning!$IL$6:$JO$200,A40))","v":""},{"$f":"IF(A40=\"\",\"\",COUNTIFS(Planning!$JP$6:$KT$200,A40))","v":""},{"$f":"IF(A40=\"\",\"\",COUNTIFS(Planning!$KU$6:$LY$200,A40))","v":""},{"$f":"IF(A40=\"\",\"\",COUNTIFS(Planning!$LZ$6:$NC$200,A40))","v":""},{"$f":"IF(A40=\"\",\"\",COUNTIFS(Planning!$ND$6:$OH$200,A40))","v":""},{"$f":"IF(A40=\"\",\"\",COUNTIFS(Planning!$OI$6:$PL$200,A40))","v":""},{"$f":"IF(A40=\"\",\"\",COUNTIFS(Planning!$PM$6:$QQ$200,A40))","v":""},{"$f":"IF(A40=\"\",\"\",COUNTIFS(Planning!$QR$6:$RV$200,A40))","v":""},{"$f":"IF(A40=\"\",\"\",COUNTIFS(Planning!$RW$6:$SX$200,A40))","v":""},{"$f":"IF(A40=\"\",\"\",COUNTIFS(Planning!$SY$6:$UC$200,A40))","v":""},{"$f":"IF(A40=\"\",\"\",COUNTIFS(Planning!$UD$6:$VG$200,A40))","v":""},{"$f":"IF(A40=\"\",\"\",COUNTIFS(Planning!$VH$6:$WL$200,A40))","v":""},{"$f":"IF(A40=\"\",\"\",COUNTIFS(Planning!$WM$6:$XP$200,A40))","v":""},{"$f":"IF(A40=\"\",\"\",COUNTIFS(Planning!$XQ$6:$YU$200,A40))","v":""},{"$f":"IF(A40=\"\",\"\",COUNTIFS(Planning!$YV$6:$ZZ$200,A40))","v":""},{"$f":"IF(A40=\"\",\"\",COUNTIFS(Planning!$AAA$6:$ABD$200,A40))","v":""},{"$f":"IF(A40=\"\",\"\",COUNTIFS(Planning!$ABE$6:$ACI$200,A40))","v":""},{"$f":"IF(A40=\"\",\"\",COUNTIFS(Planning!$ACJ$6:$ADM$200,A40))","v":""},{"$f":"IF(A40=\"\",\"\",COUNTIFS(Planning!$ADN$6:$AER$200,A40))","v":""},{"$f":"IF(A40=\"\",\"\",COUNTIFS(Planning!$AES$6:$AFW$200,A40))","v":""},{"$f":"IF(A40=\"\",\"\",COUNTIFS(Planning!$AFX$6:$AGZ$200,A40))","v":""},{"$f":"IF(A40=\"\",\"\",COUNTIFS(Planning!$AHA$6:$AIE$200,A40))","v":""},{"$f":"IF(A40=\"\",\"\",COUNTIFS(Planning!$AIF$6:$AJI$200,A40))","v":""},{"$f":"IF(A40=\"\",\"\",COUNTIFS(Planning!$AJJ$6:$AKN$200,A40))","v":""},{"$f":"IF(A40=\"\",\"\",COUNTIFS(Planning!$AKO$6:$ALR$200,A40))","v":""},{"$f":"IF(A40=\"\",\"\",COUNTIFS(Planning!$ALS$6:$AMW$200,A40))","v":""},{"$f":"IF(A40=\"\",\"\",COUNTIFS(Planning!$AMX$6:$AOB$200,A40))","v":""},{"$f":"IF(A40=\"\",\"\",COUNTIFS(Planning!$AOC$6:$APF$200,A40))","v":""},{"$f":"IF(A40=\"\",\"\",COUNTIFS(Planning!$APG$6:$AQK$200,A40))","v":""},{"$f":"IF(A40=\"\",\"\",COUNTIFS(Planning!$AQL$6:$ARO$200,A40))","v":""},{"$f":"IF(A40=\"\",\"\",COUNTIFS(Planning!$ARP$6:$AST$200,A40))","v":""},{"$f":"IF(A40=\"\",\"\",COUNTIFS(Planning!$ASU$6:$ATY$200,A40))","v":""},{"$f":"IF(A40=\"\",\"\",COUNTIFS(Planning!$ATZ$6:$AVA$200,A40))","v":""},{"$f":"IF(A40=\"\",\"\",COUNTIFS(Planning!$AVB$6:$AWF$200,A40))","v":""},{"$f":"IF(A40=\"\",\"\",COUNTIFS(Planning!$AWG$6:$AXJ$200,A40))","v":""},{"$f":"IF(A40=\"\",\"\",COUNTIFS(Planning!$AXK$6:$AYO$200,A40))","v":""},{"$f":"IF(A40=\"\",\"\",COUNTIFS(Planning!$AYP$6:$AZS$200,A40))","v":""}]
[null,{"$f":"IF(A41=\"\",\"\",COUNTIFS(Planning!$C$6:$AG$200,A41))","v":""},{"$f":"IF(A41=\"\",\"\",COUNTIFS(Planning!$AH$6:$BK$200,A41))","v":""},{"$f":"IF(A41=\"\",\"\",COUNTIFS(Planning!$BL$6:$CP$200,A41))","v":""},{"$f":"IF(A41=\"\",\"\",COUNTIFS(Planning!$CQ$6:$DU$200,A41))","v":""},{"$f":"IF(A41=\"\",\"\",COUNTIFS(Planning!$DV$6:$EW$200,A41))","v":""},{"$f":"IF(A41=\"\",\"\",COUNTIFS(Planning!$EX$6:$GB$200,A41))","v":""},{"$f":"IF(A41=\"\",\"\",COUNTIFS(Planning!$GC$6:$HF$200,A41))","v":""},{"$f":"IF(A41=\"\",\"\",COUNTIFS(Planning!$HG$6:$IK$200,A41))","v":""},{"$f":"IF(A41=\"\",\"\",COUNTIFS(Planning!$IL$6:$JO$200,A41))","v":""},{"$f":"IF(A41=\"\",\"\",COUNTIFS(Planning!$JP$6:$KT$200,A41))","v":""},{"$f":"IF(A41=\"\",\"\",COUNTIFS(Planning!$KU$6:$LY$200,A41))","v":""},{"$f":"IF(A41=\"\",\"\",COUNTIFS(Planning!$LZ$6:$NC$200,A41))","v":""},{"$f":"IF(A41=\"\",\"\",COUNTIFS(Planning!$ND$6:$OH$200,A41))","v":""},{"$f":"IF(A41=\"\",\"\",COUNTIFS(Planning!$OI$6:$PL$200,A41))","v":""},{"$f":"IF(A41=\"\",\"\",COUNTIFS(Planning!$PM$6:$QQ$200,A41))","v":""},{"$f":"IF(A41=\"\",\"\",COUNTIFS(Planning!$QR$6:$RV$200,A41))","v":""},{"$f":"IF(A41=\"\",\"\",COUNTIFS(Planning!$RW$6:$SX$200,A41))","v":""},{"$f":"IF(A41=\"\",\"\",COUNTIFS(Planning!$SY$6:$UC$200,A41))","v":""},{"$f":"IF(A41=\"\",\"\",COUNTIFS(Planning!$UD$6:$VG$200,A41))","v":""},{"$f":"IF(A41=\"\",\"\",COUNTIFS(Planning!$VH$6:$WL$200,A41))","v":""},{"$f":"IF(A41=\"\",\"\",COUNTIFS(Planning!$WM$6:$XP$200,A41))","v":""},{"$f":"IF(A41=\"\",\"\",COUNTIFS(Planning!$XQ$6:$YU$200,A41))","v":""},{"$f":"IF(A41=\"\",\"\",COUNTIFS(Planning!$YV$6:$ZZ$200,A41))","v":""},{"$f":"IF(A41=\"\",\"\",COUNTIFS(Planning!$AAA$6:$ABD$200,A41))","v":""},{"$f":"IF(A41=\"\",\"\",COUNTIFS(Planning!$ABE$6:$ACI$200,A41))","v":""},{"$f":"IF(A41=\"\",\"\",COUNTIFS(Planning!$ACJ$6:$ADM$200,A41))","v":""},{"$f":"IF(A41=\"\",\"\",COUNTIFS(Planning!$ADN$6:$AER$200,A41))","v":""},{"$f":"IF(A41=\"\",\"\",COUNTIFS(Planning!$AES$6:$AFW$200,A41))","v":""},{"$f":"IF(A41=\"\",\"\",COUNTIFS(Planning!$AFX$6:$AGZ$200,A41))","v":""},{"$f":"IF(A41=\"\",\"\",COUNTIFS(Planning!$AHA$6:$AIE$200,A41))","v":""},{"$f":"IF(A41=\"\",\"\",COUNTIFS(Planning!$AIF$6:$AJI$200,A41))","v":""},{"$f":"IF(A41=\"\",\"\",COUNTIFS(Planning!$AJJ$6:$AKN$200,A41))","v":""},{"$f":"IF(A41=\"\",\"\",COUNTIFS(Planning!$AKO$6:$ALR$200,A41))","v":""},{"$f":"IF(A41=\"\",\"\",COUNTIFS(Planning!$ALS$6:$AMW$200,A41))","v":""},{"$f":"IF(A41=\"\",\"\",COUNTIFS(Planning!$AMX$6:$AOB$200,A41))","v":""},{"$f":"IF(A41=\"\",\"\",COUNTIFS(Planning!$AOC$6:$APF$200,A41))","v":""},{"$f":"IF(A41=\"\",\"\",COUNTIFS(Planning!$APG$6:$AQK$200,A41))","v":""},{"$f":"IF(A41=\"\",\"\",COUNTIFS(Planning!$AQL$6:$ARO$200,A41))","v":""},{"$f":"IF(A41=\"\",\"\",COUNTIFS(Planning!$ARP$6:$AST$200,A41))","v":""},{"$f":"IF(A41=\"\",\"\",COUNTIFS(Planning!$ASU$6:$ATY$200,A41))","v":""},{"$f":"IF(A41=\"\",\"\",COUNTIFS(Planning!$ATZ$6:$AVA$200,A41))","v":""},{"$f":"IF(A41=\"\",\"\",COUNTIFS(Planning!$AVB$6:$AWF$200,A41))","v":""},{"$f":"IF(A41=\"\",\"\",COUNTIFS(Planning!$AWG$6:$AXJ$200,A41))","v":""},{"$f":"IF(A41=\"\",\"\",COUNTIFS(Planning!$AXK$6:$AYO$200,A41))","v":""},{"$f":"IF(A41=\"\",\"\",COUNTIFS(Planning!$AYP$6:$AZS$200,A41))","v":""}]
[null,{"$f":"IF(A42=\"\",\"\",COUNTIFS(Planning!$C$6:$AG$200,A42))","v":""},{"$f":"IF(A42=\"\",\"\",COUNTIFS(Planning!$AH$6:$BK$200,A42))","v":""},{"$f":"IF(A42=\"\",\"\",COUNTIFS(Planning!$BL$6:$CP$200,A42))","v":""},{"$f":"IF(A42=\"\",\"\",COUNTIFS(Planning!$CQ$6:$DU$200,A42))","v":""},{"$f":"IF(A42=\"\",\"\",COUNTIFS(Planning!$DV$6:$EW$200,A42))","v":""},{"$f":"IF(A42=\"\",\"\",COUNTIFS(Planning!$EX$6:$GB$200,A42))","v":""},{"$f":"IF(A42=\"\",\"\",COUNTIFS(Planning!$GC$6:$HF$200,A42))","v":""},{"$f":"IF(A42=\"\",\"\",COUNTIFS(Planning!$HG$6:$IK$200,A42))","v":""},{"$f":"IF(A42=\"\",\"\",COUNTIFS(Planning!$IL$6:$JO$200,A42))","v":""},{"$f":"IF(A42=\"\",\"\",COUNTIFS(Planning!$JP$6:$KT$200,A42))","v":""},{"$f":"IF(A42=\"\",\"\",COUNTIFS(Planning!$KU$6:$LY$200,A42))","v":""},{"$f":"IF(A42=\"\",\"\",COUNTIFS(Planning!$LZ$6:$NC$200,A42))","v":""},{"$f":"IF(A42=\"\",\"\",COUNTIFS(Planning!$ND$6:$OH$200,A42))","v":""},{"$f":"IF(A42=\"\",\"\",COUNTIFS(Planning!$OI$6:$PL$200,A42))","v":""},{"$f":"IF(A42=\"\",\"\",COUNTIFS(Planning!$PM$6:$QQ$200,A42))","v":""},{"$f":"IF(A42=\"\",\"\",COUNTIFS(Planning!$QR$6:$RV$200,A42))","v":""},{"$f":"IF(A42=\"\",\"\",COUNTIFS(Planning!$RW$6:$SX$200,A42))","v":""},{"$f":"IF(A42=\"\",\"\",COUNTIFS(Planning!$SY$6:$UC$200,A42))","v":""},{"$f":"IF(A42=\"\",\"\",COUNTIFS(Planning!$UD$6:$VG$200,A42))","v":""},{"$f":"IF(A42=\"\",\"\",COUNTIFS(Planning!$VH$6:$WL$200,A42))","v":""},{"$f":"IF(A42=\"\",\"\",COUNTIFS(Planning!$WM$6:$XP$200,A42))","v":""},{"$f":"IF(A42=\"\",\"\",COUNTIFS(Planning!$XQ$6:$YU$200,A42))","v":""},{"$f":"IF(A42=\"\",\"\",COUNTIFS(Planning!$YV$6:$ZZ$200,A42))","v":""},{"$f":"IF(A42=\"\",\"\",COUNTIFS(Planning!$AAA$6:$ABD$200,A42))","v":""},{"$f":"IF(A42=\"\",\"\",COUNTIFS(Planning!$ABE$6:$ACI$200,A42))","v":""},{"$f":"IF(A42=\"\",\"\",COUNTIFS(Planning!$ACJ$6:$ADM$200,A42))","v":""},{"$f":"IF(A42=\"\",\"\",COUNTIFS(Planning!$ADN$6:$AER$200,A42))","v":""},{"$f":"IF(A42=\"\",\"\",COUNTIFS(Planning!$AES$6:$AFW$200,A42))","v":""},{"$f":"IF(A42=\"\",\"\",COUNTIFS(Planning!$AFX$6:$AGZ$200,A42))","v":""},{"$f":"IF(A42=\"\",\"\",COUNTIFS(Planning!$AHA$6:$AIE$200,A42))","v":""},{"$f":"IF(A42=\"\",\"\",COUNTIFS(Planning!$AIF$6:$AJI$200,A42))","v":""},{"$f":"IF(A42=\"\",\"\",COUNTIFS(Planning!$AJJ$6:$AKN$200,A42))","v":""},{"$f":"IF(A42=\"\",\"\",COUNTIFS(Planning!$AKO$6:$ALR$200,A42))","v":""},{"$f":"IF(A42=\"\",\"\",COUNTIFS(Planning!$ALS$6:$AMW$200,A42))","v":""},{"$f":"IF(A42=\"\",\"\",COUNTIFS(Planning!$AMX$6:$AOB$200,A42))","v":""},{"$f":"IF(A42=\"\",\"\",COUNTIFS(Planning!$AOC$6:$APF$200,A42))","v":""},{"$f":"IF(A42=\"\",\"\",COUNTIFS(Planning!$APG$6:$AQK$200,A42))","v":""},{"$f":"IF(A42=\"\",\"\",COUNTIFS(Planning!$AQL$6:$ARO$200,A42))","v":""},{"$f":"IF(A42=\"\",\"\",COUNTIFS(Planning!$ARP$6:$AST$200,A42))","v":""},{"$f":"IF(A42=\"\",\"\",COUNTIFS(Planning!$ASU$6:$ATY$200,A42))","v":""},{"$f":"IF(A42=\"\",\"\",COUNTIFS(Planning!$ATZ$6:$AVA$200,A42))","v":""},{"$f":"IF(A42=\"\",\"\",COUNTIFS(Planning!$AVB$6:$AWF$200,A42))","v":""},{"$f":"IF(A42=\"\",\"\",COUNTIFS(Planning!$AWG$6:$AXJ$200,A42))","v":""},{"$f":"IF(A42=\"\",\"\",COUNTIFS(Planning!$AXK$6:$AYO$200,A42))","v":""},{"$f":"IF(A42=\"\",\"\",COUNTIFS(Planning!$AYP$6:$AZS$200,A42))","v":""}]
[null,{"$f":"IF(A43=\"\",\"\",COUNTIFS(Planning!$C$6:$AG$200,A43))","v":""},{"$f":"IF(A43=\"\",\"\",COUNTIFS(Planning!$AH$6:$BK$200,A43))","v":""},{"$f":"IF(A43=\"\",\"\",COUNTIFS(Planning!$BL$6:$CP$200,A43))","v":""},{"$f":"IF(A43=\"\",\"\",COUNTIFS(Planning!$CQ$6:$DU$200,A43))","v":""},{"$f":"IF(A43=\"\",\"\",COUNTIFS(Planning!$DV$6:$EW$200,A43))","v":""},{"$f":"IF(A43=\"\",\"\",COUNTIFS(Planning!$EX$6:$GB$200,A43))","v":""},{"$f":"IF(A43=\"\",\"\",COUNTIFS(Planning!$GC$6:$HF$200,A43))","v":""},{"$f":"IF(A43=\"\",\"\",COUNTIFS(Planning!$HG$6:$IK$200,A43))","v":""},{"$f":"IF(A43=\"\",\"\",COUNTIFS(Planning!$IL$6:$JO$200,A43))","v":""},{"$f":"IF(A43=\"\",\"\",COUNTIFS(Planning!$JP$6:$KT$200,A43))","v":""},{"$f":"IF(A43=\"\",\"\",COUNTIFS(Planning!$KU$6:$LY$200,A43))","v":""},{"$f":"IF(A43=\"\",\"\",COUNTIFS(Planning!$LZ$6:$NC$200,A43))","v":""},{"$f":"IF(A43=\"\",\"\",COUNTIFS(Planning!$ND$6:$OH$200,A43))","v":""},{"$f":"IF(A43=\"\",\"\",COUNTIFS(Planning!$OI$6:$PL$200,A43))","v":""},{"$f":"IF(A43=\"\",\"\",COUNTIFS(Planning!$PM$6:$QQ$200,A43))","v":""},{"$f":"IF(A43=\"\",\"\",COUNTIFS(Planning!$QR$6:$RV$200,A43))","v":""},{"$f":"IF(A43=\"\",\"\",COUNTIFS(Planning!$RW$6:$SX$200,A43))","v":""},{"$f":"IF(A43=\"\",\"\",COUNTIFS(Planning!$SY$6:$UC$200,A43))","v":""},{"$f":"IF(A43=\"\",\"\",COUNTIFS(Planning!$UD$6:$VG$200,A43))","v":""},{"$f":"IF(A43=\"\",\"\",COUNTIFS(Planning!$VH$6:$WL$200,A43))","v":""},{"$f":"IF(A43=\"\",\"\",COUNTIFS(Planning!$WM$6:$XP$200,A43))","v":""},{"$f":"IF(A43=\"\",\"\",COUNTIFS(Planning!$XQ$6:$YU$200,A43))","v":""},{"$f":"IF(A43=\"\",\"\",COUNTIFS(Planning!$YV$6:$ZZ$200,A43))","v":""},{"$f":"IF(A43=\"\",\"\",COUNTIFS(Planning!$AAA$6:$ABD$200,A43))","v":""},{"$f":"IF(A43=\"\",\"\",COUNTIFS(Planning!$ABE$6:$ACI$200,A43))","v":""},{"$f":"IF(A43=\"\",\"\",COUNTIFS(Planning!$ACJ$6:$ADM$200,A43))","v":""},{"$f":"IF(A43=\"\",\"\",COUNTIFS(Planning!$ADN$6:$AER$200,A43))","v":""},{"$f":"IF(A43=\"\",\"\",COUNTIFS(Planning!$AES$6:$AFW$200,A43))","v":""},{"$f":"IF(A43=\"\",\"\",COUNTIFS(Planning!$AFX$6:$AGZ$200,A43))","v":""},{"$f":"IF(A43=\"\",\"\",COUNTIFS(Planning!$AHA$6:$AIE$200,A43))","v":""},{"$f":"IF(A43=\"\",\"\",COUNTIFS(Planning!$AIF$6:$AJI$200,A43))","v":""},{"$f":"IF(A43=\"\",\"\",COUNTIFS(Planning!$AJJ$6:$AKN$200,A43))","v":""},{"$f":"IF(A43=\"\",\"\",COUNTIFS(Planning!$AKO$6:$ALR$200,A43))","v":""},{"$f":"IF(A43=\"\",\"\",COUNTIFS(Planning!$ALS$6:$AMW$200,A43))","v":""},{"$f":"IF(A43=\"\",\"\",COUNTIFS(Planning!$AMX$6:$AOB$200,A43))","v":""},{"$f":"IF(A43=\"\",\"\",COUNTIFS(Planning!$AOC$6:$APF$200,A43))","v":""},{"$f":"IF(A43=\"\",\"\",COUNTIFS(Planning!$APG$6:$AQK$200,A43))","v":""},{"$f":"IF(A43=\"\",\"\",COUNTIFS(Planning!$AQL$6:$ARO$200,A43))","v":""},{"$f":"IF(A43=\"\",\"\",COUNTIFS(Planning!$ARP$6:$AST$200,A43))","v":""},{"$f":"IF(A43=\"\",\"\",COUNTIFS(Planning!$ASU$6:$ATY$200,A43))","v":""},{"$f":"IF(A43=\"\",\"\",COUNTIFS(Planning!$ATZ$6:$AVA$200,A43))","v":""},{"$f":"IF(A43=\"\",\"\",COUNTIFS(Planning!$AVB$6:$AWF$200,A43))","v":""},{"$f":"IF(A43=\"\",\"\",COUNTIFS(Planning!$AWG$6:$AXJ$200,A43))","v":""},{"$f":"IF(A43=\"\",\"\",COUNTIFS(Planning!$AXK$6:$AYO$200,A43))","v":""},{"$f":"IF(A43=\"\",\"\",COUNTIFS(Planning!$AYP$6:$AZS$200,A43))","v":""}]
[null,{"$f":"IF(A44=\"\",\"\",COUNTIFS(Planning!$C$6:$AG$200,A44))","v":""},{"$f":"IF(A44=\"\",\"\",COUNTIFS(Planning!$AH$6:$BK$200,A44))","v":""},{"$f":"IF(A44=\"\",\"\",COUNTIFS(Planning!$BL$6:$CP$200,A44))","v":""},{"$f":"IF(A44=\"\",\"\",COUNTIFS(Planning!$CQ$6:$DU$200,A44))","v":""},{"$f":"IF(A44=\"\",\"\",COUNTIFS(Planning!$DV$6:$EW$200,A44))","v":""},{"$f":"IF(A44=\"\",\"\",COUNTIFS(Planning!$EX$6:$GB$200,A44))","v":""},{"$f":"IF(A44=\"\",\"\",COUNTIFS(Planning!$GC$6:$HF$200,A44))","v":""},{"$f":"IF(A44=\"\",\"\",COUNTIFS(Planning!$HG$6:$IK$200,A44))","v":""},{"$f":"IF(A44=\"\",\"\",COUNTIFS(Planning!$IL$6:$JO$200,A44))","v":""},{"$f":"IF(A44=\"\",\"\",COUNTIFS(Planning!$JP$6:$KT$200,A44))","v":""},{"$f":"IF(A44=\"\",\"\",COUNTIFS(Planning!$KU$6:$LY$200,A44))","v":""},{"$f":"IF(A44=\"\",\"\",COUNTIFS(Planning!$LZ$6:$NC$200,A44))","v":""},{"$f":"IF(A44=\"\",\"\",COUNTIFS(Planning!$ND$6:$OH$200,A44))","v":""},{"$f":"IF(A44=\"\",\"\",COUNTIFS(Planning!$OI$6:$PL$200,A44))","v":""},{"$f":"IF(A44=\"\",\"\",COUNTIFS(Planning!$PM$6:$QQ$200,A44))","v":""},{"$f":"IF(A44=\"\",\"\",COUNTIFS(Planning!$QR$6:$RV$200,A44))","v":""},{"$f":"IF(A44=\"\",\"\",COUNTIFS(Planning!$RW$6:$SX$200,A44))","v":""},{"$f":"IF(A44=\"\",\"\",COUNTIFS(Planning!$SY$6:$UC$200,A44))","v":""},{"$f":"IF(A44=\"\",\"\",COUNTIFS(Planning!$UD$6:$VG$200,A44))","v":""},{"$f":"IF(A44=\"\",\"\",COUNTIFS(Planning!$VH$6:$WL$200,A44))","v":""},{"$f":"IF(A44=\"\",\"\",COUNTIFS(Planning!$WM$6:$XP$200,A44))","v":""},{"$f":"IF(A44=\"\",\"\",COUNTIFS(Planning!$XQ$6:$YU$200,A44))","v":""},{"$f":"IF(A44=\"\",\"\",COUNTIFS(Planning!$YV$6:$ZZ$200,A44))","v":""},{"$f":"IF(A44=\"\",\"\",COUNTIFS(Planning!$AAA$6:$ABD$200,A44))","v":""},{"$f":"IF(A44=\"\",\"\",COUNTIFS(Planning!$ABE$6:$ACI$200,A44))","v":""},{"$f":"IF(A44=\"\",\"\",COUNTIFS(Planning!$ACJ$6:$ADM$200,A44))","v":""},{"$f":"IF(A44=\"\",\"\",COUNTIFS(Planning!$ADN$6:$AER$200,A44))","v":""},{"$f":"IF(A44=\"\",\"\",COUNTIFS(Planning!$AES$6:$AFW$200,A44))","v":""},{"$f":"IF(A44=\"\",\"\",COUNTIFS(Planning!$AFX$6:$AGZ$200,A44))","v":""},{"$f":"IF(A44=\"\",\"\",COUNTIFS(Planning!$AHA$6:$AIE$200,A44))","v":""},{"$f":"IF(A44=\"\",\"\",COUNTIFS(Planning!$AIF$6:$AJI$200,A44))","v":""},{"$f":"IF(A44=\"\",\"\",COUNTIFS(Planning!$AJJ$6:$AKN$200,A44))","v":""},{"$f":"IF(A44=\"\",\"\",COUNTIFS(Planning!$AKO$6:$ALR$200,A44))","v":""},{"$f":"IF(A44=\"\",\"\",COUNTIFS(Planning!$ALS$6:$AMW$200,A44))","v":""},{"$f":"IF(A44=\"\",\"\",COUNTIFS(Planning!$AMX$6:$AOB$200,A44))","v":""},{"$f":"IF(A44=\"\",\"\",COUNTIFS(Planning!$AOC$6:$APF$200,A44))","v":""},{"$f":"IF(A44=\"\",\"\",COUNTIFS(Planning!$APG$6:$AQK$200,A44))","v":""},{"$f":"IF(A44=\"\",\"\",COUNTIFS(Planning!$AQL$6:$ARO$200,A44))","v":""},{"$f":"IF(A44=\"\",\"\",COUNTIFS(Planning!$ARP$6:$AST$200,A44))","v":""},{"$f":"IF(A44=\"\",\"\",COUNTIFS(Planning!$ASU$6:$ATY$200,A44))","v":""},{"$f":"IF(A44=\"\",\"\",COUNTIFS(Planning!$ATZ$6:$AVA$200,A44))","v":""},{"$f":"IF(A44=\"\",\"\",COUNTIFS(Planning!$AVB$6:$AWF$200,A44))","v":""},{"$f":"IF(A44=\"\",\"\",COUNTIFS(Planning!$AWG$6:$AXJ$200,A44))","v":""},{"$f":"IF(A44=\"\",\"\",COUNTIFS(Planning!$AXK$6:$AYO$200,A44))","v":""},{"$f":"IF(A44=\"\",\"\",COUNTIFS(Planning!$AYP$6:$AZS$200,A44))","v":""}]
[null,{"$f":"IF(A45=\"\",\"\",COUNTIFS(Planning!$C$6:$AG$200,A45))","v":""},{"$f":"IF(A45=\"\",\"\",COUNTIFS(Planning!$AH$6:$BK$200,A45))","v":""},{"$f":"IF(A45=\"\",\"\",COUNTIFS(Planning!$BL$6:$CP$200,A45))","v":""},{"$f":"IF(A45=\"\",\"\",COUNTIFS(Planning!$CQ$6:$DU$200,A45))","v":""},{"$f":"IF(A45=\"\",\"\",COUNTIFS(Planning!$DV$6:$EW$200,A45))","v":""},{"$f":"IF(A45=\"\",\"\",COUNTIFS(Planning!$EX$6:$GB$200,A45))","v":""},{"$f":"IF(A45=\"\",\"\",COUNTIFS(Planning!$GC$6:$HF$200,A45))","v":""},{"$f":"IF(A45=\"\",\"\",COUNTIFS(Planning!$HG$6:$IK$200,A45))","v":""},{"$f":"IF(A45=\"\",\"\",COUNTIFS(Planning!$IL$6:$JO$200,A45))","v":""},{"$f":"IF(A45=\"\",\"\",COUNTIFS(Planning!$JP$6:$KT$200,A45))","v":""},{"$f":"IF(A45=\"\",\"\",COUNTIFS(Planning!$KU$6:$LY$200,A45))","v":""},{"$f":"IF(A45=\"\",\"\",COUNTIFS(Planning!$LZ$6:$NC$200,A45))","v":""},{"$f":"IF(A45=\"\",\"\",COUNTIFS(Planning!$ND$6:$OH$200,A45))","v":""},{"$f":"IF(A45=\"\",\"\",COUNTIFS(Planning!$OI$6:$PL$200,A45))","v":""},{"$f":"IF(A45=\"\",\"\",COUNTIFS(Planning!$PM$6:$QQ$200,A45))","v":""},{"$f":"IF(A45=\"\",\"\",COUNTIFS(Planning!$QR$6:$RV$200,A45))","v":""},{"$f":"IF(A45=\"\",\"\",COUNTIFS(Planning!$RW$6:$SX$200,A45))","v":""},{"$f":"IF(A45=\"\",\"\",COUNTIFS(Planning!$SY$6:$UC$200,A45))","v":""},{"$f":"IF(A45=\"\",\"\",COUNTIFS(Planning!$UD$6:$VG$200,A45))","v":""},{"$f":"IF(A45=\"\",\"\",COUNTIFS(Planning!$VH$6:$WL$200,A45))","v":""},{"$f":"IF(A45=\"\",\"\",COUNTIFS(Planning!$WM$6:$XP$200,A45))","v":""},{"$f":"IF(A45=\"\",\"\",COUNTIFS(Planning!$XQ$6:$YU$200,A45))","v":""},{"$f":"IF(A45=\"\",\"\",COUNTIFS(Planning!$YV$6:$ZZ$200,A45))","v":""},{"$f":"IF(A45=\"\",\"\",COUNTIFS(Planning!$AAA$6:$ABD$200,A45))","v":""},{"$f":"IF(A45=\"\",\"\",COUNTIFS(Planning!$ABE$6:$ACI$200,A45))","v":""},{"$f":"IF(A45=\"\",\"\",COUNTIFS(Planning!$ACJ$6:$ADM$200,A45))","v":""},{"$f":"IF(A45=\"\",\"\",COUNTIFS(Planning!$ADN$6:$AER$200,A45))","v":""},{"$f":"IF(A45=\"\",\"\",COUNTIFS(Planning!$AES$6:$AFW$200,A45))","v":""},{"$f":"IF(A45=\"\",\"\",COUNTIFS(Planning!$AFX$6:$AGZ$200,A45))","v":""},{"$f":"IF(A45=\"\",\"\",COUNTIFS(Planning!$AHA$6:$AIE$200,A45))","v":""},{"$f":"IF(A45=\"\",\"\",COUNTIFS(Planning!$AIF$6:$AJI$200,A45))","v":""},{"$f":"IF(A45=\"\",\"\",COUNTIFS(Planning!$AJJ$6:$AKN$200,A45))","v":""},{"$f":"IF(A45=\"\",\"\",COUNTIFS(Planning!$AKO$6:$ALR$200,A45))","v":""},{"$f":"IF(A45=\"\",\"\",COUNTIFS(Planning!$ALS$6:$AMW$200,A45))","v":""},{"$f":"IF(A45=\"\",\"\",COUNTIFS(Planning!$AMX$6:$AOB$200,A45))","v":""},{"$f":"IF(A45=\"\",\"\",COUNTIFS(Planning!$AOC$6:$APF$200,A45))","v":""},{"$f":"IF(A45=\"\",\"\",COUNTIFS(Planning!$APG$6:$AQK$200,A45))","v":""},{"$f":"IF(A45=\"\",\"\",COUNTIFS(Planning!$AQL$6:$ARO$200,A45))","v":""},{"$f":"IF(A45=\"\",\"\",COUNTIFS(Planning!$ARP$6:$AST$200,A45))","v":""},{"$f":"IF(A45=\"\",\"\",COUNTIFS(Planning!$ASU$6:$ATY$200,A45))","v":""},{"$f":"IF(A45=\"\",\"\",COUNTIFS(Planning!$ATZ$6:$AVA$200,A45))","v":""},{"$f":"IF(A45=\"\",\"\",COUNTIFS(Planning!$AVB$6:$AWF$200,A45))","v":""},{"$f":"IF(A45=\"\",\"\",COUNTIFS(Planning!$AWG$6:$AXJ$200,A45))","v":""},{"$f":"IF(A45=\"\",\"\",COUNTIFS(Planning!$AXK$6:$AYO$200,A45))","v":""},{"$f":"IF(A45=\"\",\"\",COUNTIFS(Planning!$AYP$6:$AZS$200,A45))","v":""}]
[null,{"$f":"IF(A46=\"\",\"\",COUNTIFS(Planning!$C$6:$AG$200,A46))","v":""},{"$f":"IF(A46=\"\",\"\",COUNTIFS(Planning!$AH$6:$BK$200,A46))","v":""},{"$f":"IF(A46=\"\",\"\",COUNTIFS(Planning!$BL$6:$CP$200,A46))","v":""},{"$f":"IF(A46=\"\",\"\",COUNTIFS(Planning!$CQ$6:$DU$200,A46))","v":""},{"$f":"IF(A46=\"\",\"\",COUNTIFS(Planning!$DV$6:$EW$200,A46))","v":""},{"$f":"IF(A46=\"\",\"\",COUNTIFS(Planning!$EX$6:$GB$200,A46))","v":""},{"$f":"IF(A46=\"\",\"\",COUNTIFS(Planning!$GC$6:$HF$200,A46))","v":""},{"$f":"IF(A46=\"\",\"\",COUNTIFS(Planning!$HG$6:$IK$200,A46))","v":""},{"$f":"IF(A46=\"\",\"\",COUNTIFS(Planning!$IL$6:$JO$200,A46))","v":""},{"$f":"IF(A46=\"\",\"\",COUNTIFS(Planning!$JP$6:$KT$200,A46))","v":""},{"$f":"IF(A46=\"\",\"\",COUNTIFS(Planning!$KU$6:$LY$200,A46))","v":""},{"$f":"IF(A46=\"\",\"\",COUNTIFS(Planning!$LZ$6:$NC$200,A46))","v":""},{"$f":"IF(A46=\"\",\"\",COUNTIFS(Planning!$ND$6:$OH$200,A46))","v":""},{"$f":"IF(A46=\"\",\"\",COUNTIFS(Planning!$OI$6:$PL$200,A46))","v":""},{"$f":"IF(A46=\"\",\"\",COUNTIFS(Planning!$PM$6:$QQ$200,A46))","v":""},{"$f":"IF(A46=\"\",\"\",COUNTIFS(Planning!$QR$6:$RV$200,A46))","v":""},{"$f":"IF(A46=\"\",\"\",COUNTIFS(Planning!$RW$6:$SX$200,A46))","v":""},{"$f":"IF(A46=\"\",\"\",COUNTIFS(Planning!$SY$6:$UC$200,A46))","v":""},{"$f":"IF(A46=\"\",\"\",COUNTIFS(Planning!$UD$6:$VG$200,A46))","v":""},{"$f":"IF(A46=\"\",\"\",COUNTIFS(Planning!$VH$6:$WL$200,A46))","v":""},{"$f":"IF(A46=\"\",\"\",COUNTIFS(Planning!$WM$6:$XP$200,A46))","v":""},{"$f":"IF(A46=\"\",\"\",COUNTIFS(Planning!$XQ$6:$YU$200,A46))","v":""},{"$f":"IF(A46=\"\",\"\",COUNTIFS(Planning!$YV$6:$ZZ$200,A46))","v":""},{"$f":"IF(A46=\"\",\"\",COUNTIFS(Planning!$AAA$6:$ABD$200,A46))","v":""},{"$f":"IF(A46=\"\",\"\",COUNTIFS(Planning!$ABE$6:$ACI$200,A46))","v":""},{"$f":"IF(A46=\"\",\"\",COUNTIFS(Planning!$ACJ$6:$ADM$200,A46))","v":""},{"$f":"IF(A46=\"\",\"\",COUNTIFS(Planning!$ADN$6:$AER$200,A46))","v":""},{"$f":"IF(A46=\"\",\"\",COUNTIFS(Planning!$AES$6:$AFW$200,A46))","v":""},{"$f":"IF(A46=\"\",\"\",COUNTIFS(Planning!$AFX$6:$AGZ$200,A46))","v":""},{"$f":"IF(A46=\"\",\"\",COUNTIFS(Planning!$AHA$6:$AIE$200,A46))","v":""},{"$f":"IF(A46=\"\",\"\",COUNTIFS(Planning!$AIF$6:$AJI$200,A46))","v":""},{"$f":"IF(A46=\"\",\"\",COUNTIFS(Planning!$AJJ$6:$AKN$200,A46))","v":""},{"$f":"IF(A46=\"\",\"\",COUNTIFS(Planning!$AKO$6:$ALR$200,A46))","v":""},{"$f":"IF(A46=\"\",\"\",COUNTIFS(Planning!$ALS$6:$AMW$200,A46))","v":""},{"$f":"IF(A46=\"\",\"\",COUNTIFS(Planning!$AMX$6:$AOB$200,A46))","v":""},{"$f":"IF(A46=\"\",\"\",COUNTIFS(Planning!$AOC$6:$APF$200,A46))","v":""},{"$f":"IF(A46=\"\",\"\",COUNTIFS(Planning!$APG$6:$AQK$200,A46))","v":""},{"$f":"IF(A46=\"\",\"\",COUNTIFS(Planning!$AQL$6:$ARO$200,A46))","v":""},{"$f":"IF(A46=\"\",\"\",COUNTIFS(Planning!$ARP$6:$AST$200,A46))","v":""},{"$f":"IF(A46=\"\",\"\",COUNTIFS(Planning!$ASU$6:$ATY$200,A46))","v":""},{"$f":"IF(A46=\"\",\"\",COUNTIFS(Planning!$ATZ$6:$AVA$200,A46))","v":""},{"$f":"IF(A46=\"\",\"\",COUNTIFS(Planning!$AVB$6:$AWF$200,A46))","v":""},{"$f":"IF(A46=\"\",\"\",COUNTIFS(Planning!$AWG$6:$AXJ$200,A46))","v":""},{"$f":"IF(A46=\"\",\"\",COUNTIFS(Planning!$AXK$6:$AYO$200,A46))","v":""},{"$f":"IF(A46=\"\",\"\",COUNTIFS(Planning!$AYP$6:$AZS$200,A46))","v":""}]
[null,{"$f":"IF(A47=\"\",\"\",COUNTIFS(Planning!$C$6:$AG$200,A47))","v":""},{"$f":"IF(A47=\"\",\"\",COUNTIFS(Planning!$AH$6:$BK$200,A47))","v":""},{"$f":"IF(A47=\"\",\"\",COUNTIFS(Planning!$BL$6:$CP$200,A47))","v":""},{"$f":"IF(A47=\"\",\"\",COUNTIFS(Planning!$CQ$6:$DU$200,A47))","v":""},{"$f":"IF(A47=\"\",\"\",COUNTIFS(Planning!$DV$6:$EW$200,A47))","v":""},{"$f":"IF(A47=\"\",\"\",COUNTIFS(Planning!$EX$6:$GB$200,A47))","v":""},{"$f":"IF(A47=\"\",\"\",COUNTIFS(Planning!$GC$6:$HF$200,A47))","v":""},{"$f":"IF(A47=\"\",\"\",COUNTIFS(Planning!$HG$6:$IK$200,A47))","v":""},{"$f":"IF(A47=\"\",\"\",COUNTIFS(Planning!$IL$6:$JO$200,A47))","v":""},{"$f":"IF(A47=\"\",\"\",COUNTIFS(Planning!$JP$6:$KT$200,A47))","v":""},{"$f":"IF(A47=\"\",\"\",COUNTIFS(Planning!$KU$6:$LY$200,A47))","v":""},{"$f":"IF(A47=\"\",\"\",COUNTIFS(Planning!$LZ$6:$NC$200,A47))","v":""},{"$f":"IF(A47=\"\",\"\",COUNTIFS(Planning!$ND$6:$OH$200,A47))","v":""},{"$f":"IF(A47=\"\",\"\",COUNTIFS(Planning!$OI$6:$PL$200,A47))","v":""},{"$f":"IF(A47=\"\",\"\",COUNTIFS(Planning!$PM$6:$QQ$200,A47))","v":""},{"$f":"IF(A47=\"\",\"\",COUNTIFS(Planning!$QR$6:$RV$200,A47))","v":""},{"$f":"IF(A47=\"\",\"\",COUNTIFS(Planning!$RW$6:$SX$200,A47))","v":""},{"$f":"IF(A47=\"\",\"\",COUNTIFS(Planning!$SY$6:$UC$200,A47))","v":""},{"$f":"IF(A47=\"\",\"\",COUNTIFS(Planning!$UD$6:$VG$200,A47))","v":""},{"$f":"IF(A47=\"\",\"\",COUNTIFS(Planning!$VH$6:$WL$200,A47))","v":""},{"$f":"IF(A47=\"\",\"\",COUNTIFS(Planning!$WM$6:$XP$200,A47))","v":""},{"$f":"IF(A47=\"\",\"\",COUNTIFS(Planning!$XQ$6:$YU$200,A47))","v":""},{"$f":"IF(A47=\"\",\"\",COUNTIFS(Planning!$YV$6:$ZZ$200,A47))","v":""},{"$f":"IF(A47=\"\",\"\",COUNTIFS(Planning!$AAA$6:$ABD$200,A47))","v":""},{"$f":"IF(A47=\"\",\"\",COUNTIFS(Planning!$ABE$6:$ACI$200,A47))","v":""},{"$f":"IF(A47=\"\",\"\",COUNTIFS(Planning!$ACJ$6:$ADM$200,A47))","v":""},{"$f":"IF(A47=\"\",\"\",COUNTIFS(Planning!$ADN$6:$AER$200,A47))","v":""},{"$f":"IF(A47=\"\",\"\",COUNTIFS(Planning!$AES$6:$AFW$200,A47))","v":""},{"$f":"IF(A47=\"\",\"\",COUNTIFS(Planning!$AFX$6:$AGZ$200,A47))","v":""},{"$f":"IF(A47=\"\",\"\",COUNTIFS(Planning!$AHA$6:$AIE$200,A47))","v":""},{"$f":"IF(A47=\"\",\"\",COUNTIFS(Planning!$AIF$6:$AJI$200,A47))","v":""},{"$f":"IF(A47=\"\",\"\",COUNTIFS(Planning!$AJJ$6:$AKN$200,A47))","v":""},{"$f":"IF(A47=\"\",\"\",COUNTIFS(Planning!$AKO$6:$ALR$200,A47))","v":""},{"$f":"IF(A47=\"\",\"\",COUNTIFS(Planning!$ALS$6:$AMW$200,A47))","v":""},{"$f":"IF(A47=\"\",\"\",COUNTIFS(Planning!$AMX$6:$AOB$200,A47))","v":""},{"$f":"IF(A47=\"\",\"\",COUNTIFS(Planning!$AOC$6:$APF$200,A47))","v":""},{"$f":"IF(A47=\"\",\"\",COUNTIFS(Planning!$APG$6:$AQK$200,A47))","v":""},{"$f":"IF(A47=\"\",\"\",COUNTIFS(Planning!$AQL$6:$ARO$200,A47))","v":""},{"$f":"IF(A47=\"\",\"\",COUNTIFS(Planning!$ARP$6:$AST$200,A47))","v":""},{"$f":"IF(A47=\"\",\"\",COUNTIFS(Planning!$ASU$6:$ATY$200,A47))","v":""},{"$f":"IF(A47=\"\",\"\",COUNTIFS(Planning!$ATZ$6:$AVA$200,A47))","v":""},{"$f":"IF(A47=\"\",\"\",COUNTIFS(Planning!$AVB$6:$AWF$200,A47))","v":""},{"$f":"IF(A47=\"\",\"\",COUNTIFS(Planning!$AWG$6:$AXJ$200,A47))","v":""},{"$f":"IF(A47=\"\",\"\",COUNTIFS(Planning!$AXK$6:$AYO$200,A47))","v":""},{"$f":"IF(A47=\"\",\"\",COUNTIFS(Planning!$AYP$6:$AZS$200,A47))","v":""}]
[null,{"$f":"IF(A48=\"\",\"\",COUNTIFS(Planning!$C$6:$AG$200,A48))","v":""},{"$f":"IF(A48=\"\",\"\",COUNTIFS(Planning!$AH$6:$BK$200,A48))","v":""},{"$f":"IF(A48=\"\",\"\",COUNTIFS(Planning!$BL$6:$CP$200,A48))","v":""},{"$f":"IF(A48=\"\",\"\",COUNTIFS(Planning!$CQ$6:$DU$200,A48))","v":""},{"$f":"IF(A48=\"\",\"\",COUNTIFS(Planning!$DV$6:$EW$200,A48))","v":""},{"$f":"IF(A48=\"\",\"\",COUNTIFS(Planning!$EX$6:$GB$200,A48))","v":""},{"$f":"IF(A48=\"\",\"\",COUNTIFS(Planning!$GC$6:$HF$200,A48))","v":""},{"$f":"IF(A48=\"\",\"\",COUNTIFS(Planning!$HG$6:$IK$200,A48))","v":""},{"$f":"IF(A48=\"\",\"\",COUNTIFS(Planning!$IL$6:$JO$200,A48))","v":""},{"$f":"IF(A48=\"\",\"\",COUNTIFS(Planning!$JP$6:$KT$200,A48))","v":""},{"$f":"IF(A48=\"\",\"\",COUNTIFS(Planning!$KU$6:$LY$200,A48))","v":""},{"$f":"IF(A48=\"\",\"\",COUNTIFS(Planning!$LZ$6:$NC$200,A48))","v":""},{"$f":"IF(A48=\"\",\"\",COUNTIFS(Planning!$ND$6:$OH$200,A48))","v":""},{"$f":"IF(A48=\"\",\"\",COUNTIFS(Planning!$OI$6:$PL$200,A48))","v":""},{"$f":"IF(A48=\"\",\"\",COUNTIFS(Planning!$PM$6:$QQ$200,A48))","v":""},{"$f":"IF(A48=\"\",\"\",COUNTIFS(Planning!$QR$6:$RV$200,A48))","v":""},{"$f":"IF(A48=\"\",\"\",COUNTIFS(Planning!$RW$6:$SX$200,A48))","v":""},{"$f":"IF(A48=\"\",\"\",COUNTIFS(Planning!$SY$6:$UC$200,A48))","v":""},{"$f":"IF(A48=\"\",\"\",COUNTIFS(Planning!$UD$6:$VG$200,A48))","v":""},{"$f":"IF(A48=\"\",\"\",COUNTIFS(Planning!$VH$6:$WL$200,A48))","v":""},{"$f":"IF(A48=\"\",\"\",COUNTIFS(Planning!$WM$6:$XP$200,A48))","v":""},{"$f":"IF(A48=\"\",\"\",COUNTIFS(Planning!$XQ$6:$YU$200,A48))","v":""},{"$f":"IF(A48=\"\",\"\",COUNTIFS(Planning!$YV$6:$ZZ$200,A48))","v":""},{"$f":"IF(A48=\"\",\"\",COUNTIFS(Planning!$AAA$6:$ABD$200,A48))","v":""},{"$f":"IF(A48=\"\",\"\",COUNTIFS(Planning!$ABE$6:$ACI$200,A48))","v":""},{"$f":"IF(A48=\"\",\"\",COUNTIFS(Planning!$ACJ$6:$ADM$200,A48))","v":""},{"$f":"IF(A48=\"\",\"\",COUNTIFS(Planning!$ADN$6:$AER$200,A48))","v":""},{"$f":"IF(A48=\"\",\"\",COUNTIFS(Planning!$AES$6:$AFW$200,A48))","v":""},{"$f":"IF(A48=\"\",\"\",COUNTIFS(Planning!$AFX$6:$AGZ$200,A48))","v":""},{"$f":"IF(A48=\"\",\"\",COUNTIFS(Planning!$AHA$6:$AIE$200,A48))","v":""},{"$f":"IF(A48=\"\",\"\",COUNTIFS(Planning!$AIF$6:$AJI$200,A48))","v":""},{"$f":"IF(A48=\"\",\"\",COUNTIFS(Planning!$AJJ$6:$AKN$200,A48))","v":""},{"$f":"IF(A48=\"\",\"\",COUNTIFS(Planning!$AKO$6:$ALR$200,A48))","v":""},{"$f":"IF(A48=\"\",\"\",COUNTIFS(Planning!$ALS$6:$AMW$200,A48))","v":""},{"$f":"IF(A48=\"\",\"\",COUNTIFS(Planning!$AMX$6:$AOB$200,A48))","v":""},{"$f":"IF(A48=\"\",\"\",COUNTIFS(Planning!$AOC$6:$APF$200,A48))","v":""},{"$f":"IF(A48=\"\",\"\",COUNTIFS(Planning!$APG$6:$AQK$200,A48))","v":""},{"$f":"IF(A48=\"\",\"\",COUNTIFS(Planning!$AQL$6:$ARO$200,A48))","v":""},{"$f":"IF(A48=\"\",\"\",COUNTIFS(Planning!$ARP$6:$AST$200,A48))","v":""},{"$f":"IF(A48=\"\",\"\",COUNTIFS(Planning!$ASU$6:$ATY$200,A48))","v":""},{"$f":"IF(A48=\"\",\"\",COUNTIFS(Planning!$ATZ$6:$AVA$200,A48))","v":""},{"$f":"IF(A48=\"\",\"\",COUNTIFS(Planning!$AVB$6:$AWF$200,A48))","v":""},{"$f":"IF(A48=\"\",\"\",COUNTIFS(Planning!$AWG$6:$AXJ$200,A48))","v":""},{"$f":"IF(A48=\"\",\"\",COUNTIFS(Planning!$AXK$6:$AYO$200,A48))","v":""},{"$f":"IF(A48=\"\",\"\",COUNTIFS(Planning!$AYP$6:$AZS$200,A48))","v":""}]
[null,{"$f":"IF(A49=\"\",\"\",COUNTIFS(Planning!$C$6:$AG$200,A49))","v":""},{"$f":"IF(A49=\"\",\"\",COUNTIFS(Planning!$AH$6:$BK$200,A49))","v":""},{"$f":"IF(A49=\"\",\"\",COUNTIFS(Planning!$BL$6:$CP$200,A49))","v":""},{"$f":"IF(A49=\"\",\"\",COUNTIFS(Planning!$CQ$6:$DU$200,A49))","v":""},{"$f":"IF(A49=\"\",\"\",COUNTIFS(Planning!$DV$6:$EW$200,A49))","v":""},{"$f":"IF(A49=\"\",\"\",COUNTIFS(Planning!$EX$6:$GB$200,A49))","v":""},{"$f":"IF(A49=\"\",\"\",COUNTIFS(Planning!$GC$6:$HF$200,A49))","v":""},{"$f":"IF(A49=\"\",\"\",COUNTIFS(Planning!$HG$6:$IK$200,A49))","v":""},{"$f":"IF(A49=\"\",\"\",COUNTIFS(Planning!$IL$6:$JO$200,A49))","v":""},{"$f":"IF(A49=\"\",\"\",COUNTIFS(Planning!$JP$6:$KT$200,A49))","v":""},{"$f":"IF(A49=\"\",\"\",COUNTIFS(Planning!$KU$6:$LY$200,A49))","v":""},{"$f":"IF(A49=\"\",\"\",COUNTIFS(Planning!$LZ$6:$NC$200,A49))","v":""},{"$f":"IF(A49=\"\",\"\",COUNTIFS(Planning!$ND$6:$OH$200,A49))","v":""},{"$f":"IF(A49=\"\",\"\",COUNTIFS(Planning!$OI$6:$PL$200,A49))","v":""},{"$f":"IF(A49=\"\",\"\",COUNTIFS(Planning!$PM$6:$QQ$200,A49))","v":""},{"$f":"IF(A49=\"\",\"\",COUNTIFS(Planning!$QR$6:$RV$200,A49))","v":""},{"$f":"IF(A49=\"\",\"\",COUNTIFS(Planning!$RW$6:$SX$200,A49))","v":""},{"$f":"IF(A49=\"\",\"\",COUNTIFS(Planning!$SY$6:$UC$200,A49))","v":""},{"$f":"IF(A49=\"\",\"\",COUNTIFS(Planning!$UD$6:$VG$200,A49))","v":""},{"$f":"IF(A49=\"\",\"\",COUNTIFS(Planning!$VH$6:$WL$200,A49))","v":""},{"$f":"IF(A49=\"\",\"\",COUNTIFS(Planning!$WM$6:$XP$200,A49))","v":""},{"$f":"IF(A49=\"\",\"\",COUNTIFS(Planning!$XQ$6:$YU$200,A49))","v":""},{"$f":"IF(A49=\"\",\"\",COUNTIFS(Planning!$YV$6:$ZZ$200,A49))","v":""},{"$f":"IF(A49=\"\",\"\",COUNTIFS(Planning!$AAA$6:$ABD$200,A49))","v":""},{"$f":"IF(A49=\"\",\"\",COUNTIFS(Planning!$ABE$6:$ACI$200,A49))","v":""},{"$f":"IF(A49=\"\",\"\",COUNTIFS(Planning!$ACJ$6:$ADM$200,A49))","v":""},{"$f":"IF(A49=\"\",\"\",COUNTIFS(Planning!$ADN$6:$AER$200,A49))","v":""},{"$f":"IF(A49=\"\",\"\",COUNTIFS(Planning!$AES$6:$AFW$200,A49))","v":""},{"$f":"IF(A49=\"\",\"\",COUNTIFS(Planning!$AFX$6:$AGZ$200,A49))","v":""},{"$f":"IF(A49=\"\",\"\",COUNTIFS(Planning!$AHA$6:$AIE$200,A49))","v":""},{"$f":"IF(A49=\"\",\"\",COUNTIFS(Planning!$AIF$6:$AJI$200,A49))","v":""},{"$f":"IF(A49=\"\",\"\",COUNTIFS(Planning!$AJJ$6:$AKN$200,A49))","v":""},{"$f":"IF(A49=\"\",\"\",COUNTIFS(Planning!$AKO$6:$ALR$200,A49))","v":""},{"$f":"IF(A49=\"\",\"\",COUNTIFS(Planning!$ALS$6:$AMW$200,A49))","v":""},{"$f":"IF(A49=\"\",\"\",COUNTIFS(Planning!$AMX$6:$AOB$200,A49))","v":""},{"$f":"IF(A49=\"\",\"\",COUNTIFS(Planning!$AOC$6:$APF$200,A49))","v":""},{"$f":"IF(A49=\"\",\"\",COUNTIFS(Planning!$APG$6:$AQK$200,A49))","v":""},{"$f":"IF(A49=\"\",\"\",COUNTIFS(Planning!$AQL$6:$ARO$200,A49))","v":""},{"$f":"IF(A49=\"\",\"\",COUNTIFS(Planning!$ARP$6:$AST$200,A49))","v":""},{"$f":"IF(A49=\"\",\"\",COUNTIFS(Planning!$ASU$6:$ATY$200,A49))","v":""},{"$f":"IF(A49=\"\",\"\",COUNTIFS(Planning!$ATZ$6:$AVA$200,A49))","v":""},{"$f":"IF(A49=\"\",\"\",COUNTIFS(Planning!$AVB$6:$AWF$200,A49))","v":""},{"$f":"IF(A49=\"\",\"\",COUNTIFS(Planning!$AWG$6:$AXJ$200,A49))","v":""},{"$f":"IF(A49=\"\",\"\",COUNTIFS(Planning!$AXK$6:$AYO$200,A49))","v":""},{"$f":"IF(A49=\"\",\"\",COUNTIFS(Planning!$AYP$6:$AZS$200,A49))","v":""}]
[null,{"$f":"IF(A50=\"\",\"\",COUNTIFS(Planning!$C$6:$AG$200,A50))","v":""},{"$f":"IF(A50=\"\",\"\",COUNTIFS(Planning!$AH$6:$BK$200,A50))","v":""},{"$f":"IF(A50=\"\",\"\",COUNTIFS(Planning!$BL$6:$CP$200,A50))","v":""},{"$f":"IF(A50=\"\",\"\",COUNTIFS(Planning!$CQ$6:$DU$200,A50))","v":""},{"$f":"IF(A50=\"\",\"\",COUNTIFS(Planning!$DV$6:$EW$200,A50))","v":""},{"$f":"IF(A50=\"\",\"\",COUNTIFS(Planning!$EX$6:$GB$200,A50))","v":""},{"$f":"IF(A50=\"\",\"\",COUNTIFS(Planning!$GC$6:$HF$200,A50))","v":""},{"$f":"IF(A50=\"\",\"\",COUNTIFS(Planning!$HG$6:$IK$200,A50))","v":""},{"$f":"IF(A50=\"\",\"\",COUNTIFS(Planning!$IL$6:$JO$200,A50))","v":""},{"$f":"IF(A50=\"\",\"\",COUNTIFS(Planning!$JP$6:$KT$200,A50))","v":""},{"$f":"IF(A50=\"\",\"\",COUNTIFS(Planning!$KU$6:$LY$200,A50))","v":""},{"$f":"IF(A50=\"\",\"\",COUNTIFS(Planning!$LZ$6:$NC$200,A50))","v":""},{"$f":"IF(A50=\"\",\"\",COUNTIFS(Planning!$ND$6:$OH$200,A50))","v":""},{"$f":"IF(A50=\"\",\"\",COUNTIFS(Planning!$OI$6:$PL$200,A50))","v":""},{"$f":"IF(A50=\"\",\"\",COUNTIFS(Planning!$PM$6:$QQ$200,A50))","v":""},{"$f":"IF(A50=\"\",\"\",COUNTIFS(Planning!$QR$6:$RV$200,A50))","v":""},{"$f":"IF(A50=\"\",\"\",COUNTIFS(Planning!$RW$6:$SX$200,A50))","v":""},{"$f":"IF(A50=\"\",\"\",COUNTIFS(Planning!$SY$6:$UC$200,A50))","v":""},{"$f":"IF(A50=\"\",\"\",COUNTIFS(Planning!$UD$6:$VG$200,A50))","v":""},{"$f":"IF(A50=\"\",\"\",COUNTIFS(Planning!$VH$6:$WL$200,A50))","v":""},{"$f":"IF(A50=\"\",\"\",COUNTIFS(Planning!$WM$6:$XP$200,A50))","v":""},{"$f":"IF(A50=\"\",\"\",COUNTIFS(Planning!$XQ$6:$YU$200,A50))","v":""},{"$f":"IF(A50=\"\",\"\",COUNTIFS(Planning!$YV$6:$ZZ$200,A50))","v":""},{"$f":"IF(A50=\"\",\"\",COUNTIFS(Planning!$AAA$6:$ABD$200,A50))","v":""},{"$f":"IF(A50=\"\",\"\",COUNTIFS(Planning!$ABE$6:$ACI$200,A50))","v":""},{"$f":"IF(A50=\"\",\"\",COUNTIFS(Planning!$ACJ$6:$ADM$200,A50))","v":""},{"$f":"IF(A50=\"\",\"\",COUNTIFS(Planning!$ADN$6:$AER$200,A50))","v":""},{"$f":"IF(A50=\"\",\"\",COUNTIFS(Planning!$AES$6:$AFW$200,A50))","v":""},{"$f":"IF(A50=\"\",\"\",COUNTIFS(Planning!$AFX$6:$AGZ$200,A50))","v":""},{"$f":"IF(A50=\"\",\"\",COUNTIFS(Planning!$AHA$6:$AIE$200,A50))","v":""},{"$f":"IF(A50=\"\",\"\",COUNTIFS(Planning!$AIF$6:$AJI$200,A50))","v":""},{"$f":"IF(A50=\"\",\"\",COUNTIFS(Planning!$AJJ$6:$AKN$200,A50))","v":""},{"$f":"IF(A50=\"\",\"\",COUNTIFS(Planning!$AKO$6:$ALR$200,A50))","v":""},{"$f":"IF(A50=\"\",\"\",COUNTIFS(Planning!$ALS$6:$AMW$200,A50))","v":""},{"$f":"IF(A50=\"\",\"\",COUNTIFS(Planning!$AMX$6:$AOB$200,A50))","v":""},{"$f":"IF(A50=\"\",\"\",COUNTIFS(Planning!$AOC$6:$APF$200,A50))","v":""},{"$f":"IF(A50=\"\",\"\",COUNTIFS(Planning!$APG$6:$AQK$200,A50))","v":""},{"$f":"IF(A50=\"\",\"\",COUNTIFS(Planning!$AQL$6:$ARO$200,A50))","v":""},{"$f":"IF(A50=\"\",\"\",COUNTIFS(Planning!$ARP$6:$AST$200,A50))","v":""},{"$f":"IF(A50=\"\",\"\",COUNTIFS(Planning!$ASU$6:$ATY$200,A50))","v":""},{"$f":"IF(A50=\"\",\"\",COUNTIFS(Planning!$ATZ$6:$AVA$200,A50))","v":""},{"$f":"IF(A50=\"\",\"\",COUNTIFS(Planning!$AVB$6:$AWF$200,A50))","v":""},{"$f":"IF(A50=\"\",\"\",COUNTIFS(Planning!$AWG$6:$AXJ$200,A50))","v":""},{"$f":"IF(A50=\"\",\"\",COUNTIFS(Planning!$AXK$6:$AYO$200,A50))","v":""},{"$f":"IF(A50=\"\",\"\",COUNTIFS(Planning!$AYP$6:$AZS$200,A50))","v":""}]
[null,{"$f":"IF(A51=\"\",\"\",COUNTIFS(Planning!$C$6:$AG$200,A51))","v":""},{"$f":"IF(A51=\"\",\"\",COUNTIFS(Planning!$AH$6:$BK$200,A51))","v":""},{"$f":"IF(A51=\"\",\"\",COUNTIFS(Planning!$BL$6:$CP$200,A51))","v":""},{"$f":"IF(A51=\"\",\"\",COUNTIFS(Planning!$CQ$6:$DU$200,A51))","v":""},{"$f":"IF(A51=\"\",\"\",COUNTIFS(Planning!$DV$6:$EW$200,A51))","v":""},{"$f":"IF(A51=\"\",\"\",COUNTIFS(Planning!$EX$6:$GB$200,A51))","v":""},{"$f":"IF(A51=\"\",\"\",COUNTIFS(Planning!$GC$6:$HF$200,A51))","v":""},{"$f":"IF(A51=\"\",\"\",COUNTIFS(Planning!$HG$6:$IK$200,A51))","v":""},{"$f":"IF(A51=\"\",\"\",COUNTIFS(Planning!$IL$6:$JO$200,A51))","v":""},{"$f":"IF(A51=\"\",\"\",COUNTIFS(Planning!$JP$6:$KT$200,A51))","v":""},{"$f":"IF(A51=\"\",\"\",COUNTIFS(Planning!$KU$6:$LY$200,A51))","v":""},{"$f":"IF(A51=\"\",\"\",COUNTIFS(Planning!$LZ$6:$NC$200,A51))","v":""},{"$f":"IF(A51=\"\",\"\",COUNTIFS(Planning!$ND$6:$OH$200,A51))","v":""},{"$f":"IF(A51=\"\",\"\",COUNTIFS(Planning!$OI$6:$PL$200,A51))","v":""},{"$f":"IF(A51=\"\",\"\",COUNTIFS(Planning!$PM$6:$QQ$200,A51))","v":""},{"$f":"IF(A51=\"\",\"\",COUNTIFS(Planning!$QR$6:$RV$200,A51))","v":""},{"$f":"IF(A51=\"\",\"\",COUNTIFS(Planning!$RW$6:$SX$200,A51))","v":""},{"$f":"IF(A51=\"\",\"\",COUNTIFS(Planning!$SY$6:$UC$200,A51))","v":""},{"$f":"IF(A51=\"\",\"\",COUNTIFS(Planning!$UD$6:$VG$200,A51))","v":""},{"$f":"IF(A51=\"\",\"\",COUNTIFS(Planning!$VH$6:$WL$200,A51))","v":""},{"$f":"IF(A51=\"\",\"\",COUNTIFS(Planning!$WM$6:$XP$200,A51))","v":""},{"$f":"IF(A51=\"\",\"\",COUNTIFS(Planning!$XQ$6:$YU$200,A51))","v":""},{"$f":"IF(A51=\"\",\"\",COUNTIFS(Planning!$YV$6:$ZZ$200,A51))","v":""},{"$f":"IF(A51=\"\",\"\",COUNTIFS(Planning!$AAA$6:$ABD$200,A51))","v":""},{"$f":"IF(A51=\"\",\"\",COUNTIFS(Planning!$ABE$6:$ACI$200,A51))","v":""},{"$f":"IF(A51=\"\",\"\",COUNTIFS(Planning!$ACJ$6:$ADM$200,A51))","v":""},{"$f":"IF(A51=\"\",\"\",COUNTIFS(Planning!$ADN$6:$AER$200,A51))","v":""},{"$f":"IF(A51=\"\",\"\",COUNTIFS(Planning!$AES$6:$AFW$200,A51))","v":""},{"$f":"IF(A51=\"\",\"\",COUNTIFS(Planning!$AFX$6:$AGZ$200,A51))","v":""},{"$f":"IF(A51=\"\",\"\",COUNTIFS(Planning!$AHA$6:$AIE$200,A51))","v":""},{"$f":"IF(A51=\"\",\"\",COUNTIFS(Planning!$AIF$6:$AJI$200,A51))","v":""},{"$f":"IF(A51=\"\",\"\",COUNTIFS(Planning!$AJJ$6:$AKN$200,A51))","v":""},{"$f":"IF(A51=\"\",\"\",COUNTIFS(Planning!$AKO$6:$ALR$200,A51))","v":""},{"$f":"IF(A51=\"\",\"\",COUNTIFS(Planning!$ALS$6:$AMW$200,A51))","v":""},{"$f":"IF(A51=\"\",\"\",COUNTIFS(Planning!$AMX$6:$AOB$200,A51))","v":""},{"$f":"IF(A51=\"\",\"\",COUNTIFS(Planning!$AOC$6:$APF$200,A51))","v":""},{"$f":"IF(A51=\"\",\"\",COUNTIFS(Planning!$APG$6:$AQK$200,A51))","v":""},{"$f":"IF(A51=\"\",\"\",COUNTIFS(Planning!$AQL$6:$ARO$200,A51))","v":""},{"$f":"IF(A51=\"\",\"\",COUNTIFS(Planning!$ARP$6:$AST$200,A51))","v":""},{"$f":"IF(A51=\"\",\"\",COUNTIFS(Planning!$ASU$6:$ATY$200,A51))","v":""},{"$f":"IF(A51=\"\",\"\",COUNTIFS(Planning!$ATZ$6:$AVA$200,A51))","v":""},{"$f":"IF(A51=\"\",\"\",COUNTIFS(Planning!$AVB$6:$AWF$200,A51))","v":""},{"$f":"IF(A51=\"\",\"\",COUNTIFS(Planning!$AWG$6:$AXJ$200,A51))","v":""},{"$f":"IF(A51=\"\",\"\",COUNTIFS(Planning!$AXK$6:$AYO$200,A51))","v":""},{"$f":"IF(A51=\"\",\"\",COUNTIFS(Planning!$AYP$6:$AZS$200,A51))","v":""}]
[null,{"$f":"IF(A52=\"\",\"\",COUNTIFS(Planning!$C$6:$AG$200,A52))","v":""},{"$f":"IF(A52=\"\",\"\",COUNTIFS(Planning!$AH$6:$BK$200,A52))","v":""},{"$f":"IF(A52=\"\",\"\",COUNTIFS(Planning!$BL$6:$CP$200,A52))","v":""},{"$f":"IF(A52=\"\",\"\",COUNTIFS(Planning!$CQ$6:$DU$200,A52))","v":""},{"$f":"IF(A52=\"\",\"\",COUNTIFS(Planning!$DV$6:$EW$200,A52))","v":""},{"$f":"IF(A52=\"\",\"\",COUNTIFS(Planning!$EX$6:$GB$200,A52))","v":""},{"$f":"IF(A52=\"\",\"\",COUNTIFS(Planning!$GC$6:$HF$200,A52))","v":""},{"$f":"IF(A52=\"\",\"\",COUNTIFS(Planning!$HG$6:$IK$200,A52))","v":""},{"$f":"IF(A52=\"\",\"\",COUNTIFS(Planning!$IL$6:$JO$200,A52))","v":""},{"$f":"IF(A52=\"\",\"\",COUNTIFS(Planning!$JP$6:$KT$200,A52))","v":""},{"$f":"IF(A52=\"\",\"\",COUNTIFS(Planning!$KU$6:$LY$200,A52))","v":""},{"$f":"IF(A52=\"\",\"\",COUNTIFS(Planning!$LZ$6:$NC$200,A52))","v":""},{"$f":"IF(A52=\"\",\"\",COUNTIFS(Planning!$ND$6:$OH$200,A52))","v":""},{"$f":"IF(A52=\"\",\"\",COUNTIFS(Planning!$OI$6:$PL$200,A52))","v":""},{"$f":"IF(A52=\"\",\"\",COUNTIFS(Planning!$PM$6:$QQ$200,A52))","v":""},{"$f":"IF(A52=\"\",\"\",COUNTIFS(Planning!$QR$6:$RV$200,A52))","v":""},{"$f":"IF(A52=\"\",\"\",COUNTIFS(Planning!$RW$6:$SX$200,A52))","v":""},{"$f":"IF(A52=\"\",\"\",COUNTIFS(Planning!$SY$6:$UC$200,A52))","v":""},{"$f":"IF(A52=\"\",\"\",COUNTIFS(Planning!$UD$6:$VG$200,A52))","v":""},{"$f":"IF(A52=\"\",\"\",COUNTIFS(Planning!$VH$6:$WL$200,A52))","v":""},{"$f":"IF(A52=\"\",\"\",COUNTIFS(Planning!$WM$6:$XP$200,A52))","v":""},{"$f":"IF(A52=\"\",\"\",COUNTIFS(Planning!$XQ$6:$YU$200,A52))","v":""},{"$f":"IF(A52=\"\",\"\",COUNTIFS(Planning!$YV$6:$ZZ$200,A52))","v":""},{"$f":"IF(A52=\"\",\"\",COUNTIFS(Planning!$AAA$6:$ABD$200,A52))","v":""},{"$f":"IF(A52=\"\",\"\",COUNTIFS(Planning!$ABE$6:$ACI$200,A52))","v":""},{"$f":"IF(A52=\"\",\"\",COUNTIFS(Planning!$ACJ$6:$ADM$200,A52))","v":""},{"$f":"IF(A52=\"\",\"\",COUNTIFS(Planning!$ADN$6:$AER$200,A52))","v":""},{"$f":"IF(A52=\"\",\"\",COUNTIFS(Planning!$AES$6:$AFW$200,A52))","v":""},{"$f":"IF(A52=\"\",\"\",COUNTIFS(Planning!$AFX$6:$AGZ$200,A52))","v":""},{"$f":"IF(A52=\"\",\"\",COUNTIFS(Planning!$AHA$6:$AIE$200,A52))","v":""},{"$f":"IF(A52=\"\",\"\",COUNTIFS(Planning!$AIF$6:$AJI$200,A52))","v":""},{"$f":"IF(A52=\"\",\"\",COUNTIFS(Planning!$AJJ$6:$AKN$200,A52))","v":""},{"$f":"IF(A52=\"\",\"\",COUNTIFS(Planning!$AKO$6:$ALR$200,A52))","v":""},{"$f":"IF(A52=\"\",\"\",COUNTIFS(Planning!$ALS$6:$AMW$200,A52))","v":""},{"$f":"IF(A52=\"\",\"\",COUNTIFS(Planning!$AMX$6:$AOB$200,A52))","v":""},{"$f":"IF(A52=\"\",\"\",COUNTIFS(Planning!$AOC$6:$APF$200,A52))","v":""},{"$f":"IF(A52=\"\",\"\",COUNTIFS(Planning!$APG$6:$AQK$200,A52))","v":""},{"$f":"IF(A52=\"\",\"\",COUNTIFS(Planning!$AQL$6:$ARO$200,A52))","v":""},{"$f":"IF(A52=\"\",\"\",COUNTIFS(Planning!$ARP$6:$AST$200,A52))","v":""},{"$f":"IF(A52=\"\",\"\",COUNTIFS(Planning!$ASU$6:$ATY$200,A52))","v":""},{"$f":"IF(A52=\"\",\"\",COUNTIFS(Planning!$ATZ$6:$AVA$200,A52))","v":""},{"$f":"IF(A52=\"\",\"\",COUNTIFS(Planning!$AVB$6:$AWF$200,A52))","v":""},{"$f":"IF(A52=\"\",\"\",COUNTIFS(Planning!$AWG$6:$AXJ$200,A52))","v":""},{"$f":"IF(A52=\"\",\"\",COUNTIFS(Planning!$AXK$6:$AYO$200,A52))","v":""},{"$f":"IF(A52=\"\",\"\",COUNTIFS(Planning!$AYP$6:$AZS$200,A52))","v":""}]
[null,{"$f":"IF(A53=\"\",\"\",COUNTIFS(Planning!$C$6:$AG$200,A53))","v":""},{"$f":"IF(A53=\"\",\"\",COUNTIFS(Planning!$AH$6:$BK$200,A53))","v":""},{"$f":"IF(A53=\"\",\"\",COUNTIFS(Planning!$BL$6:$CP$200,A53))","v":""},{"$f":"IF(A53=\"\",\"\",COUNTIFS(Planning!$CQ$6:$DU$200,A53))","v":""},{"$f":"IF(A53=\"\",\"\",COUNTIFS(Planning!$DV$6:$EW$200,A53))","v":""},{"$f":"IF(A53=\"\",\"\",COUNTIFS(Planning!$EX$6:$GB$200,A53))","v":""},{"$f":"IF(A53=\"\",\"\",COUNTIFS(Planning!$GC$6:$HF$200,A53))","v":""},{"$f":"IF(A53=\"\",\"\",COUNTIFS(Planning!$HG$6:$IK$200,A53))","v":""},{"$f":"IF(A53=\"\",\"\",COUNTIFS(Planning!$IL$6:$JO$200,A53))","v":""},{"$f":"IF(A53=\"\",\"\",COUNTIFS(Planning!$JP$6:$KT$200,A53))","v":""},{"$f":"IF(A53=\"\",\"\",COUNTIFS(Planning!$KU$6:$LY$200,A53))","v":""},{"$f":"IF(A53=\"\",\"\",COUNTIFS(Planning!$LZ$6:$NC$200,A53))","v":""},{"$f":"IF(A53=\"\",\"\",COUNTIFS(Planning!$ND$6:$OH$200,A53))","v":""},{"$f":"IF(A53=\"\",\"\",COUNTIFS(Planning!$OI$6:$PL$200,A53))","v":""},{"$f":"IF(A53=\"\",\"\",COUNTIFS(Planning!$PM$6:$QQ$200,A53))","v":""},{"$f":"IF(A53=\"\",\"\",COUNTIFS(Planning!$QR$6:$RV$200,A53))","v":""},{"$f":"IF(A53=\"\",\"\",COUNTIFS(Planning!$RW$6:$SX$200,A53))","v":""},{"$f":"IF(A53=\"\",\"\",COUNTIFS(Planning!$SY$6:$UC$200,A53))","v":""},{"$f":"IF(A53=\"\",\"\",COUNTIFS(Planning!$UD$6:$VG$200,A53))","v":""},{"$f":"IF(A53=\"\",\"\",COUNTIFS(Planning!$VH$6:$WL$200,A53))","v":""},{"$f":"IF(A53=\"\",\"\",COUNTIFS(Planning!$WM$6:$XP$200,A53))","v":""},{"$f":"IF(A53=\"\",\"\",COUNTIFS(Planning!$XQ$6:$YU$200,A53))","v":""},{"$f":"IF(A53=\"\",\"\",COUNTIFS(Planning!$YV$6:$ZZ$200,A53))","v":""},{"$f":"IF(A53=\"\",\"\",COUNTIFS(Planning!$AAA$6:$ABD$200,A53))","v":""},{"$f":"IF(A53=\"\",\"\",COUNTIFS(Planning!$ABE$6:$ACI$200,A53))","v":""},{"$f":"IF(A53=\"\",\"\",COUNTIFS(Planning!$ACJ$6:$ADM$200,A53))","v":""},{"$f":"IF(A53=\"\",\"\",COUNTIFS(Planning!$ADN$6:$AER$200,A53))","v":""},{"$f":"IF(A53=\"\",\"\",COUNTIFS(Planning!$AES$6:$AFW$200,A53))","v":""},{"$f":"IF(A53=\"\",\"\",COUNTIFS(Planning!$AFX$6:$AGZ$200,A53))","v":""},{"$f":"IF(A53=\"\",\"\",COUNTIFS(Planning!$AHA$6:$AIE$200,A53))","v":""},{"$f":"IF(A53=\"\",\"\",COUNTIFS(Planning!$AIF$6:$AJI$200,A53))","v":""},{"$f":"IF(A53=\"\",\"\",COUNTIFS(Planning!$AJJ$6:$AKN$200,A53))","v":""},{"$f":"IF(A53=\"\",\"\",COUNTIFS(Planning!$AKO$6:$ALR$200,A53))","v":""},{"$f":"IF(A53=\"\",\"\",COUNTIFS(Planning!$ALS$6:$AMW$200,A53))","v":""},{"$f":"IF(A53=\"\",\"\",COUNTIFS(Planning!$AMX$6:$AOB$200,A53))","v":""},{"$f":"IF(A53=\"\",\"\",COUNTIFS(Planning!$AOC$6:$APF$200,A53))","v":""},{"$f":"IF(A53=\"\",\"\",COUNTIFS(Planning!$APG$6:$AQK$200,A53))","v":""},{"$f":"IF(A53=\"\",\"\",COUNTIFS(Planning!$AQL$6:$ARO$200,A53))","v":""},{"$f":"IF(A53=\"\",\"\",COUNTIFS(Planning!$ARP$6:$AST$200,A53))","v":""},{"$f":"IF(A53=\"\",\"\",COUNTIFS(Planning!$ASU$6:$ATY$200,A53))","v":""},{"$f":"IF(A53=\"\",\"\",COUNTIFS(Planning!$ATZ$6:$AVA$200,A53))","v":""},{"$f":"IF(A53=\"\",\"\",COUNTIFS(Planning!$AVB$6:$AWF$200,A53))","v":""},{"$f":"IF(A53=\"\",\"\",COUNTIFS(Planning!$AWG$6:$AXJ$200,A53))","v":""},{"$f":"IF(A53=\"\",\"\",COUNTIFS(Planning!$AXK$6:$AYO$200,A53))","v":""},{"$f":"IF(A53=\"\",\"\",COUNTIFS(Planning!$AYP$6:$AZS$200,A53))","v":""}]
[null,{"$f":"IF(A54=\"\",\"\",COUNTIFS(Planning!$C$6:$AG$200,A54))","v":""},{"$f":"IF(A54=\"\",\"\",COUNTIFS(Planning!$AH$6:$BK$200,A54))","v":""},{"$f":"IF(A54=\"\",\"\",COUNTIFS(Planning!$BL$6:$CP$200,A54))","v":""},{"$f":"IF(A54=\"\",\"\",COUNTIFS(Planning!$CQ$6:$DU$200,A54))","v":""},{"$f":"IF(A54=\"\",\"\",COUNTIFS(Planning!$DV$6:$EW$200,A54))","v":""},{"$f":"IF(A54=\"\",\"\",COUNTIFS(Planning!$EX$6:$GB$200,A54))","v":""},{"$f":"IF(A54=\"\",\"\",COUNTIFS(Planning!$GC$6:$HF$200,A54))","v":""},{"$f":"IF(A54=\"\",\"\",COUNTIFS(Planning!$HG$6:$IK$200,A54))","v":""},{"$f":"IF(A54=\"\",\"\",COUNTIFS(Planning!$IL$6:$JO$200,A54))","v":""},{"$f":"IF(A54=\"\",\"\",COUNTIFS(Planning!$JP$6:$KT$200,A54))","v":""},{"$f":"IF(A54=\"\",\"\",COUNTIFS(Planning!$KU$6:$LY$200,A54))","v":""},{"$f":"IF(A54=\"\",\"\",COUNTIFS(Planning!$LZ$6:$NC$200,A54))","v":""},{"$f":"IF(A54=\"\",\"\",COUNTIFS(Planning!$ND$6:$OH$200,A54))","v":""},{"$f":"IF(A54=\"\",\"\",COUNTIFS(Planning!$OI$6:$PL$200,A54))","v":""},{"$f":"IF(A54=\"\",\"\",COUNTIFS(Planning!$PM$6:$QQ$200,A54))","v":""},{"$f":"IF(A54=\"\",\"\",COUNTIFS(Planning!$QR$6:$RV$200,A54))","v":""},{"$f":"IF(A54=\"\",\"\",COUNTIFS(Planning!$RW$6:$SX$200,A54))","v":""},{"$f":"IF(A54=\"\",\"\",COUNTIFS(Planning!$SY$6:$UC$200,A54))","v":""},{"$f":"IF(A54=\"\",\"\",COUNTIFS(Planning!$UD$6:$VG$200,A54))","v":""},{"$f":"IF(A54=\"\",\"\",COUNTIFS(Planning!$VH$6:$WL$200,A54))","v":""},{"$f":"IF(A54=\"\",\"\",COUNTIFS(Planning!$WM$6:$XP$200,A54))","v":""},{"$f":"IF(A54=\"\",\"\",COUNTIFS(Planning!$XQ$6:$YU$200,A54))","v":""},{"$f":"IF(A54=\"\",\"\",COUNTIFS(Planning!$YV$6:$ZZ$200,A54))","v":""},{"$f":"IF(A54=\"\",\"\",COUNTIFS(Planning!$AAA$6:$ABD$200,A54))","v":""},{"$f":"IF(A54=\"\",\"\",COUNTIFS(Planning!$ABE$6:$ACI$200,A54))","v":""},{"$f":"IF(A54=\"\",\"\",COUNTIFS(Planning!$ACJ$6:$ADM$200,A54))","v":""},{"$f":"IF(A54=\"\",\"\",COUNTIFS(Planning!$ADN$6:$AER$200,A54))","v":""},{"$f":"IF(A54=\"\",\"\",COUNTIFS(Planning!$AES$6:$AFW$200,A54))","v":""},{"$f":"IF(A54=\"\",\"\",COUNTIFS(Planning!$AFX$6:$AGZ$200,A54))","v":""},{"$f":"IF(A54=\"\",\"\",COUNTIFS(Planning!$AHA$6:$AIE$200,A54))","v":""},{"$f":"IF(A54=\"\",\"\",COUNTIFS(Planning!$AIF$6:$AJI$200,A54))","v":""},{"$f":"IF(A54=\"\",\"\",COUNTIFS(Planning!$AJJ$6:$AKN$200,A54))","v":""},{"$f":"IF(A54=\"\",\"\",COUNTIFS(Planning!$AKO$6:$ALR$200,A54))","v":""},{"$f":"IF(A54=\"\",\"\",COUNTIFS(Planning!$ALS$6:$AMW$200,A54))","v":""},{"$f":"IF(A54=\"\",\"\",COUNTIFS(Planning!$AMX$6:$AOB$200,A54))","v":""},{"$f":"IF(A54=\"\",\"\",COUNTIFS(Planning!$AOC$6:$APF$200,A54))","v":""},{"$f":"IF(A54=\"\",\"\",COUNTIFS(Planning!$APG$6:$AQK$200,A54))","v":""},{"$f":"IF(A54=\"\",\"\",COUNTIFS(Planning!$AQL$6:$ARO$200,A54))","v":""},{"$f":"IF(A54=\"\",\"\",COUNTIFS(Planning!$ARP$6:$AST$200,A54))","v":""},{"$f":"IF(A54=\"\",\"\",COUNTIFS(Planning!$ASU$6:$ATY$200,A54))","v":""},{"$f":"IF(A54=\"\",\"\",COUNTIFS(Planning!$ATZ$6:$AVA$200,A54))","v":""},{"$f":"IF(A54=\"\",\"\",COUNTIFS(Planning!$AVB$6:$AWF$200,A54))","v":""},{"$f":"IF(A54=\"\",\"\",COUNTIFS(Planning!$AWG$6:$AXJ$200,A54))","v":""},{"$f":"IF(A54=\"\",\"\",COUNTIFS(Planning!$AXK$6:$AYO$200,A54))","v":""},{"$f":"IF(A54=\"\",\"\",COUNTIFS(Planning!$AYP$6:$AZS$200,A54))","v":""}]
[null,{"$f":"IF(A55=\"\",\"\",COUNTIFS(Planning!$C$6:$AG$200,A55))","v":""},{"$f":"IF(A55=\"\",\"\",COUNTIFS(Planning!$AH$6:$BK$200,A55))","v":""},{"$f":"IF(A55=\"\",\"\",COUNTIFS(Planning!$BL$6:$CP$200,A55))","v":""},{"$f":"IF(A55=\"\",\"\",COUNTIFS(Planning!$CQ$6:$DU$200,A55))","v":""},{"$f":"IF(A55=\"\",\"\",COUNTIFS(Planning!$DV$6:$EW$200,A55))","v":""},{"$f":"IF(A55=\"\",\"\",COUNTIFS(Planning!$EX$6:$GB$200,A55))","v":""},{"$f":"IF(A55=\"\",\"\",COUNTIFS(Planning!$GC$6:$HF$200,A55))","v":""},{"$f":"IF(A55=\"\",\"\",COUNTIFS(Planning!$HG$6:$IK$200,A55))","v":""},{"$f":"IF(A55=\"\",\"\",COUNTIFS(Planning!$IL$6:$JO$200,A55))","v":""},{"$f":"IF(A55=\"\",\"\",COUNTIFS(Planning!$JP$6:$KT$200,A55))","v":""},{"$f":"IF(A55=\"\",\"\",COUNTIFS(Planning!$KU$6:$LY$200,A55))","v":""},{"$f":"IF(A55=\"\",\"\",COUNTIFS(Planning!$LZ$6:$NC$200,A55))","v":""},{"$f":"IF(A55=\"\",\"\",COUNTIFS(Planning!$ND$6:$OH$200,A55))","v":""},{"$f":"IF(A55=\"\",\"\",COUNTIFS(Planning!$OI$6:$PL$200,A55))","v":""},{"$f":"IF(A55=\"\",\"\",COUNTIFS(Planning!$PM$6:$QQ$200,A55))","v":""},{"$f":"IF(A55=\"\",\"\",COUNTIFS(Planning!$QR$6:$RV$200,A55))","v":""},{"$f":"IF(A55=\"\",\"\",COUNTIFS(Planning!$RW$6:$SX$200,A55))","v":""},{"$f":"IF(A55=\"\",\"\",COUNTIFS(Planning!$SY$6:$UC$200,A55))","v":""},{"$f":"IF(A55=\"\",\"\",COUNTIFS(Planning!$UD$6:$VG$200,A55))","v":""},{"$f":"IF(A55=\"\",\"\",COUNTIFS(Planning!$VH$6:$WL$200,A55))","v":""},{"$f":"IF(A55=\"\",\"\",COUNTIFS(Planning!$WM$6:$XP$200,A55))","v":""},{"$f":"IF(A55=\"\",\"\",COUNTIFS(Planning!$XQ$6:$YU$200,A55))","v":""},{"$f":"IF(A55=\"\",\"\",COUNTIFS(Planning!$YV$6:$ZZ$200,A55))","v":""},{"$f":"IF(A55=\"\",\"\",COUNTIFS(Planning!$AAA$6:$ABD$200,A55))","v":""},{"$f":"IF(A55=\"\",\"\",COUNTIFS(Planning!$ABE$6:$ACI$200,A55))","v":""},{"$f":"IF(A55=\"\",\"\",COUNTIFS(Planning!$ACJ$6:$ADM$200,A55))","v":""},{"$f":"IF(A55=\"\",\"\",COUNTIFS(Planning!$ADN$6:$AER$200,A55))","v":""},{"$f":"IF(A55=\"\",\"\",COUNTIFS(Planning!$AES$6:$AFW$200,A55))","v":""},{"$f":"IF(A55=\"\",\"\",COUNTIFS(Planning!$AFX$6:$AGZ$200,A55))","v":""},{"$f":"IF(A55=\"\",\"\",COUNTIFS(Planning!$AHA$6:$AIE$200,A55))","v":""},{"$f":"IF(A55=\"\",\"\",COUNTIFS(Planning!$AIF$6:$AJI$200,A55))","v":""},{"$f":"IF(A55=\"\",\"\",COUNTIFS(Planning!$AJJ$6:$AKN$200,A55))","v":""},{"$f":"IF(A55=\"\",\"\",COUNTIFS(Planning!$AKO$6:$ALR$200,A55))","v":""},{"$f":"IF(A55=\"\",\"\",COUNTIFS(Planning!$ALS$6:$AMW$200,A55))","v":""},{"$f":"IF(A55=\"\",\"\",COUNTIFS(Planning!$AMX$6:$AOB$200,A55))","v":""},{"$f":"IF(A55=\"\",\"\",COUNTIFS(Planning!$AOC$6:$APF$200,A55))","v":""},{"$f":"IF(A55=\"\",\"\",COUNTIFS(Planning!$APG$6:$AQK$200,A55))","v":""},{"$f":"IF(A55=\"\",\"\",COUNTIFS(Planning!$AQL$6:$ARO$200,A55))","v":""},{"$f":"IF(A55=\"\",\"\",COUNTIFS(Planning!$ARP$6:$AST$200,A55))","v":""},{"$f":"IF(A55=\"\",\"\",COUNTIFS(Planning!$ASU$6:$ATY$200,A55))","v":""},{"$f":"IF(A55=\"\",\"\",COUNTIFS(Planning!$ATZ$6:$AVA$200,A55))","v":""},{"$f":"IF(A55=\"\",\"\",COUNTIFS(Planning!$AVB$6:$AWF$200,A55))","v":""},{"$f":"IF(A55=\"\",\"\",COUNTIFS(Planning!$AWG$6:$AXJ$200,A55))","v":""},{"$f":"IF(A55=\"\",\"\",COUNTIFS(Planning!$AXK$6:$AYO$200,A55))","v":""},{"$f":"IF(A55=\"\",\"\",COUNTIFS(Planning!$AYP$6:$AZS$200,A55))","v":""}]
[null,{"$f":"IF(A56=\"\",\"\",COUNTIFS(Planning!$C$6:$AG$200,A56))","v":""},{"$f":"IF(A56=\"\",\"\",COUNTIFS(Planning!$AH$6:$BK$200,A56))","v":""},{"$f":"IF(A56=\"\",\"\",COUNTIFS(Planning!$BL$6:$CP$200,A56))","v":""},{"$f":"IF(A56=\"\",\"\",COUNTIFS(Planning!$CQ$6:$DU$200,A56))","v":""},{"$f":"IF(A56=\"\",\"\",COUNTIFS(Planning!$DV$6:$EW$200,A56))","v":""},{"$f":"IF(A56=\"\",\"\",COUNTIFS(Planning!$EX$6:$GB$200,A56))","v":""},{"$f":"IF(A56=\"\",\"\",COUNTIFS(Planning!$GC$6:$HF$200,A56))","v":""},{"$f":"IF(A56=\"\",\"\",COUNTIFS(Planning!$HG$6:$IK$200,A56))","v":""},{"$f":"IF(A56=\"\",\"\",COUNTIFS(Planning!$IL$6:$JO$200,A56))","v":""},{"$f":"IF(A56=\"\",\"\",COUNTIFS(Planning!$JP$6:$KT$200,A56))","v":""},{"$f":"IF(A56=\"\",\"\",COUNTIFS(Planning!$KU$6:$LY$200,A56))","v":""},{"$f":"IF(A56=\"\",\"\",COUNTIFS(Planning!$LZ$6:$NC$200,A56))","v":""},{"$f":"IF(A56=\"\",\"\",COUNTIFS(Planning!$ND$6:$OH$200,A56))","v":""},{"$f":"IF(A56=\"\",\"\",COUNTIFS(Planning!$OI$6:$PL$200,A56))","v":""},{"$f":"IF(A56=\"\",\"\",COUNTIFS(Planning!$PM$6:$QQ$200,A56))","v":""},{"$f":"IF(A56=\"\",\"\",COUNTIFS(Planning!$QR$6:$RV$200,A56))","v":""},{"$f":"IF(A56=\"\",\"\",COUNTIFS(Planning!$RW$6:$SX$200,A56))","v":""},{"$f":"IF(A56=\"\",\"\",COUNTIFS(Planning!$SY$6:$UC$200,A56))","v":""},{"$f":"IF(A56=\"\",\"\",COUNTIFS(Planning!$UD$6:$VG$200,A56))","v":""},{"$f":"IF(A56=\"\",\"\",COUNTIFS(Planning!$VH$6:$WL$200,A56))","v":""},{"$f":"IF(A56=\"\",\"\",COUNTIFS(Planning!$WM$6:$XP$200,A56))","v":""},{"$f":"IF(A56=\"\",\"\",COUNTIFS(Planning!$XQ$6:$YU$200,A56))","v":""},{"$f":"IF(A56=\"\",\"\",COUNTIFS(Planning!$YV$6:$ZZ$200,A56))","v":""},{"$f":"IF(A56=\"\",\"\",COUNTIFS(Planning!$AAA$6:$ABD$200,A56))","v":""},{"$f":"IF(A56=\"\",\"\",COUNTIFS(Planning!$ABE$6:$ACI$200,A56))","v":""},{"$f":"IF(A56=\"\",\"\",COUNTIFS(Planning!$ACJ$6:$ADM$200,A56))","v":""},{"$f":"IF(A56=\"\",\"\",COUNTIFS(Planning!$ADN$6:$AER$200,A56))","v":""},{"$f":"IF(A56=\"\",\"\",COUNTIFS(Planning!$AES$6:$AFW$200,A56))","v":""},{"$f":"IF(A56=\"\",\"\",COUNTIFS(Planning!$AFX$6:$AGZ$200,A56))","v":""},{"$f":"IF(A56=\"\",\"\",COUNTIFS(Planning!$AHA$6:$AIE$200,A56))","v":""},{"$f":"IF(A56=\"\",\"\",COUNTIFS(Planning!$AIF$6:$AJI$200,A56))","v":""},{"$f":"IF(A56=\"\",\"\",COUNTIFS(Planning!$AJJ$6:$AKN$200,A56))","v":""},{"$f":"IF(A56=\"\",\"\",COUNTIFS(Planning!$AKO$6:$ALR$200,A56))","v":""},{"$f":"IF(A56=\"\",\"\",COUNTIFS(Planning!$ALS$6:$AMW$200,A56))","v":""},{"$f":"IF(A56=\"\",\"\",COUNTIFS(Planning!$AMX$6:$AOB$200,A56))","v":""},{"$f":"IF(A56=\"\",\"\",COUNTIFS(Planning!$AOC$6:$APF$200,A56))","v":""},{"$f":"IF(A56=\"\",\"\",COUNTIFS(Planning!$APG$6:$AQK$200,A56))","v":""},{"$f":"IF(A56=\"\",\"\",COUNTIFS(Planning!$AQL$6:$ARO$200,A56))","v":""},{"$f":"IF(A56=\"\",\"\",COUNTIFS(Planning!$ARP$6:$AST$200,A56))","v":""},{"$f":"IF(A56=\"\",\"\",COUNTIFS(Planning!$ASU$6:$ATY$200,A56))","v":""},{"$f":"IF(A56=\"\",\"\",COUNTIFS(Planning!$ATZ$6:$AVA$200,A56))","v":""},{"$f":"IF(A56=\"\",\"\",COUNTIFS(Planning!$AVB$6:$AWF$200,A56))","v":""},{"$f":"IF(A56=\"\",\"\",COUNTIFS(Planning!$AWG$6:$AXJ$200,A56))","v":""},{"$f":"IF(A56=\"\",\"\",COUNTIFS(Planning!$AXK$6:$AYO$200,A56))","v":""},{"$f":"IF(A56=\"\",\"\",COUNTIFS(Planning!$AYP$6:$AZS$200,A56))","v":""}]
[null,{"$f":"IF(A57=\"\",\"\",COUNTIFS(Planning!$C$6:$AG$200,A57))","v":""},{"$f":"IF(A57=\"\",\"\",COUNTIFS(Planning!$AH$6:$BK$200,A57))","v":""},{"$f":"IF(A57=\"\",\"\",COUNTIFS(Planning!$BL$6:$CP$200,A57))","v":""},{"$f":"IF(A57=\"\",\"\",COUNTIFS(Planning!$CQ$6:$DU$200,A57))","v":""},{"$f":"IF(A57=\"\",\"\",COUNTIFS(Planning!$DV$6:$EW$200,A57))","v":""},{"$f":"IF(A57=\"\",\"\",COUNTIFS(Planning!$EX$6:$GB$200,A57))","v":""},{"$f":"IF(A57=\"\",\"\",COUNTIFS(Planning!$GC$6:$HF$200,A57))","v":""},{"$f":"IF(A57=\"\",\"\",COUNTIFS(Planning!$HG$6:$IK$200,A57))","v":""},{"$f":"IF(A57=\"\",\"\",COUNTIFS(Planning!$IL$6:$JO$200,A57))","v":""},{"$f":"IF(A57=\"\",\"\",COUNTIFS(Planning!$JP$6:$KT$200,A57))","v":""},{"$f":"IF(A57=\"\",\"\",COUNTIFS(Planning!$KU$6:$LY$200,A57))","v":""},{"$f":"IF(A57=\"\",\"\",COUNTIFS(Planning!$LZ$6:$NC$200,A57))","v":""},{"$f":"IF(A57=\"\",\"\",COUNTIFS(Planning!$ND$6:$OH$200,A57))","v":""},{"$f":"IF(A57=\"\",\"\",COUNTIFS(Planning!$OI$6:$PL$200,A57))","v":""},{"$f":"IF(A57=\"\",\"\",COUNTIFS(Planning!$PM$6:$QQ$200,A57))","v":""},{"$f":"IF(A57=\"\",\"\",COUNTIFS(Planning!$QR$6:$RV$200,A57))","v":""},{"$f":"IF(A57=\"\",\"\",COUNTIFS(Planning!$RW$6:$SX$200,A57))","v":""},{"$f":"IF(A57=\"\",\"\",COUNTIFS(Planning!$SY$6:$UC$200,A57))","v":""},{"$f":"IF(A57=\"\",\"\",COUNTIFS(Planning!$UD$6:$VG$200,A57))","v":""},{"$f":"IF(A57=\"\",\"\",COUNTIFS(Planning!$VH$6:$WL$200,A57))","v":""},{"$f":"IF(A57=\"\",\"\",COUNTIFS(Planning!$WM$6:$XP$200,A57))","v":""},{"$f":"IF(A57=\"\",\"\",COUNTIFS(Planning!$XQ$6:$YU$200,A57))","v":""},{"$f":"IF(A57=\"\",\"\",COUNTIFS(Planning!$YV$6:$ZZ$200,A57))","v":""},{"$f":"IF(A57=\"\",\"\",COUNTIFS(Planning!$AAA$6:$ABD$200,A57))","v":""},{"$f":"IF(A57=\"\",\"\",COUNTIFS(Planning!$ABE$6:$ACI$200,A57))","v":""},{"$f":"IF(A57=\"\",\"\",COUNTIFS(Planning!$ACJ$6:$ADM$200,A57))","v":""},{"$f":"IF(A57=\"\",\"\",COUNTIFS(Planning!$ADN$6:$AER$200,A57))","v":""},{"$f":"IF(A57=\"\",\"\",COUNTIFS(Planning!$AES$6:$AFW$200,A57))","v":""},{"$f":"IF(A57=\"\",\"\",COUNTIFS(Planning!$AFX$6:$AGZ$200,A57))","v":""},{"$f":"IF(A57=\"\",\"\",COUNTIFS(Planning!$AHA$6:$AIE$200,A57))","v":""},{"$f":"IF(A57=\"\",\"\",COUNTIFS(Planning!$AIF$6:$AJI$200,A57))","v":""},{"$f":"IF(A57=\"\",\"\",COUNTIFS(Planning!$AJJ$6:$AKN$200,A57))","v":""},{"$f":"IF(A57=\"\",\"\",COUNTIFS(Planning!$AKO$6:$ALR$200,A57))","v":""},{"$f":"IF(A57=\"\",\"\",COUNTIFS(Planning!$ALS$6:$AMW$200,A57))","v":""},{"$f":"IF(A57=\"\",\"\",COUNTIFS(Planning!$AMX$6:$AOB$200,A57))","v":""},{"$f":"IF(A57=\"\",\"\",COUNTIFS(Planning!$AOC$6:$APF$200,A57))","v":""},{"$f":"IF(A57=\"\",\"\",COUNTIFS(Planning!$APG$6:$AQK$200,A57))","v":""},{"$f":"IF(A57=\"\",\"\",COUNTIFS(Planning!$AQL$6:$ARO$200,A57))","v":""},{"$f":"IF(A57=\"\",\"\",COUNTIFS(Planning!$ARP$6:$AST$200,A57))","v":""},{"$f":"IF(A57=\"\",\"\",COUNTIFS(Planning!$ASU$6:$ATY$200,A57))","v":""},{"$f":"IF(A57=\"\",\"\",COUNTIFS(Planning!$ATZ$6:$AVA$200,A57))","v":""},{"$f":"IF(A57=\"\",\"\",COUNTIFS(Planning!$AVB$6:$AWF$200,A57))","v":""},{"$f":"IF(A57=\"\",\"\",COUNTIFS(Planning!$AWG$6:$AXJ$200,A57))","v":""},{"$f":"IF(A57=\"\",\"\",COUNTIFS(Planning!$AXK$6:$AYO$200,A57))","v":""},{"$f":"IF(A57=\"\",\"\",COUNTIFS(Planning!$AYP$6:$AZS$200,A57))","v":""}]
[null,{"$f":"IF(A58=\"\",\"\",COUNTIFS(Planning!$C$6:$AG$200,A58))","v":""},{"$f":"IF(A58=\"\",\"\",COUNTIFS(Planning!$AH$6:$BK$200,A58))","v":""},{"$f":"IF(A58=\"\",\"\",COUNTIFS(Planning!$BL$6:$CP$200,A58))","v":""},{"$f":"IF(A58=\"\",\"\",COUNTIFS(Planning!$CQ$6:$DU$200,A58))","v":""},{"$f":"IF(A58=\"\",\"\",COUNTIFS(Planning!$DV$6:$EW$200,A58))","v":""},{"$f":"IF(A58=\"\",\"\",COUNTIFS(Planning!$EX$6:$GB$200,A58))","v":""},{"$f":"IF(A58=\"\",\"\",COUNTIFS(Planning!$GC$6:$HF$200,A58))","v":""},{"$f":"IF(A58=\"\",\"\",COUNTIFS(Planning!$HG$6:$IK$200,A58))","v":""},{"$f":"IF(A58=\"\",\"\",COUNTIFS(Planning!$IL$6:$JO$200,A58))","v":""},{"$f":"IF(A58=\"\",\"\",COUNTIFS(Planning!$JP$6:$KT$200,A58))","v":""},{"$f":"IF(A58=\"\",\"\",COUNTIFS(Planning!$KU$6:$LY$200,A58))","v":""},{"$f":"IF(A58=\"\",\"\",COUNTIFS(Planning!$LZ$6:$NC$200,A58))","v":""},{"$f":"IF(A58=\"\",\"\",COUNTIFS(Planning!$ND$6:$OH$200,A58))","v":""},{"$f":"IF(A58=\"\",\"\",COUNTIFS(Planning!$OI$6:$PL$200,A58))","v":""},{"$f":"IF(A58=\"\",\"\",COUNTIFS(Planning!$PM$6:$QQ$200,A58))","v":""},{"$f":"IF(A58=\"\",\"\",COUNTIFS(Planning!$QR$6:$RV$200,A58))","v":""},{"$f":"IF(A58=\"\",\"\",COUNTIFS(Planning!$RW$6:$SX$200,A58))","v":""},{"$f":"IF(A58=\"\",\"\",COUNTIFS(Planning!$SY$6:$UC$200,A58))","v":""},{"$f":"IF(A58=\"\",\"\",COUNTIFS(Planning!$UD$6:$VG$200,A58))","v":""},{"$f":"IF(A58=\"\",\"\",COUNTIFS(Planning!$VH$6:$WL$200,A58))","v":""},{"$f":"IF(A58=\"\",\"\",COUNTIFS(Planning!$WM$6:$XP$200,A58))","v":""},{"$f":"IF(A58=\"\",\"\",COUNTIFS(Planning!$XQ$6:$YU$200,A58))","v":""},{"$f":"IF(A58=\"\",\"\",COUNTIFS(Planning!$YV$6:$ZZ$200,A58))","v":""},{"$f":"IF(A58=\"\",\"\",COUNTIFS(Planning!$AAA$6:$ABD$200,A58))","v":""},{"$f":"IF(A58=\"\",\"\",COUNTIFS(Planning!$ABE$6:$ACI$200,A58))","v":""},{"$f":"IF(A58=\"\",\"\",COUNTIFS(Planning!$ACJ$6:$ADM$200,A58))","v":""},{"$f":"IF(A58=\"\",\"\",COUNTIFS(Planning!$ADN$6:$AER$200,A58))","v":""},{"$f":"IF(A58=\"\",\"\",COUNTIFS(Planning!$AES$6:$AFW$200,A58))","v":""},{"$f":"IF(A58=\"\",\"\",COUNTIFS(Planning!$AFX$6:$AGZ$200,A58))","v":""},{"$f":"IF(A58=\"\",\"\",COUNTIFS(Planning!$AHA$6:$AIE$200,A58))","v":""},{"$f":"IF(A58=\"\",\"\",COUNTIFS(Planning!$AIF$6:$AJI$200,A58))","v":""},{"$f":"IF(A58=\"\",\"\",COUNTIFS(Planning!$AJJ$6:$AKN$200,A58))","v":""},{"$f":"IF(A58=\"\",\"\",COUNTIFS(Planning!$AKO$6:$ALR$200,A58))","v":""},{"$f":"IF(A58=\"\",\"\",COUNTIFS(Planning!$ALS$6:$AMW$200,A58))","v":""},{"$f":"IF(A58=\"\",\"\",COUNTIFS(Planning!$AMX$6:$AOB$200,A58))","v":""},{"$f":"IF(A58=\"\",\"\",COUNTIFS(Planning!$AOC$6:$APF$200,A58))","v":""},{"$f":"IF(A58=\"\",\"\",COUNTIFS(Planning!$APG$6:$AQK$200,A58))","v":""},{"$f":"IF(A58=\"\",\"\",COUNTIFS(Planning!$AQL$6:$ARO$200,A58))","v":""},{"$f":"IF(A58=\"\",\"\",COUNTIFS(Planning!$ARP$6:$AST$200,A58))","v":""},{"$f":"IF(A58=\"\",\"\",COUNTIFS(Planning!$ASU$6:$ATY$200,A58))","v":""},{"$f":"IF(A58=\"\",\"\",COUNTIFS(Planning!$ATZ$6:$AVA$200,A58))","v":""},{"$f":"IF(A58=\"\",\"\",COUNTIFS(Planning!$AVB$6:$AWF$200,A58))","v":""},{"$f":"IF(A58=\"\",\"\",COUNTIFS(Planning!$AWG$6:$AXJ$200,A58))","v":""},{"$f":"IF(A58=\"\",\"\",COUNTIFS(Planning!$AXK$6:$AYO$200,A58))","v":""},{"$f":"IF(A58=\"\",\"\",COUNTIFS(Planning!$AYP$6:$AZS$200,A58))","v":""}]
[null,{"$f":"IF(A59=\"\",\"\",COUNTIFS(Planning!$C$6:$AG$200,A59))","v":""},{"$f":"IF(A59=\"\",\"\",COUNTIFS(Planning!$AH$6:$BK$200,A59))","v":""},{"$f":"IF(A59=\"\",\"\",COUNTIFS(Planning!$BL$6:$CP$200,A59))","v":""},{"$f":"IF(A59=\"\",\"\",COUNTIFS(Planning!$CQ$6:$DU$200,A59))","v":""},{"$f":"IF(A59=\"\",\"\",COUNTIFS(Planning!$DV$6:$EW$200,A59))","v":""},{"$f":"IF(A59=\"\",\"\",COUNTIFS(Planning!$EX$6:$GB$200,A59))","v":""},{"$f":"IF(A59=\"\",\"\",COUNTIFS(Planning!$GC$6:$HF$200,A59))","v":""},{"$f":"IF(A59=\"\",\"\",COUNTIFS(Planning!$HG$6:$IK$200,A59))","v":""},{"$f":"IF(A59=\"\",\"\",COUNTIFS(Planning!$IL$6:$JO$200,A59))","v":""},{"$f":"IF(A59=\"\",\"\",COUNTIFS(Planning!$JP$6:$KT$200,A59))","v":""},{"$f":"IF(A59=\"\",\"\",COUNTIFS(Planning!$KU$6:$LY$200,A59))","v":""},{"$f":"IF(A59=\"\",\"\",COUNTIFS(Planning!$LZ$6:$NC$200,A59))","v":""},{"$f":"IF(A59=\"\",\"\",COUNTIFS(Planning!$ND$6:$OH$200,A59))","v":""},{"$f":"IF(A59=\"\",\"\",COUNTIFS(Planning!$OI$6:$PL$200,A59))","v":""},{"$f":"IF(A59=\"\",\"\",COUNTIFS(Planning!$PM$6:$QQ$200,A59))","v":""},{"$f":"IF(A59=\"\",\"\",COUNTIFS(Planning!$QR$6:$RV$200,A59))","v":""},{"$f":"IF(A59=\"\",\"\",COUNTIFS(Planning!$RW$6:$SX$200,A59))","v":""},{"$f":"IF(A59=\"\",\"\",COUNTIFS(Planning!$SY$6:$UC$200,A59))","v":""},{"$f":"IF(A59=\"\",\"\",COUNTIFS(Planning!$UD$6:$VG$200,A59))","v":""},{"$f":"IF(A59=\"\",\"\",COUNTIFS(Planning!$VH$6:$WL$200,A59))","v":""},{"$f":"IF(A59=\"\",\"\",COUNTIFS(Planning!$WM$6:$XP$200,A59))","v":""},{"$f":"IF(A59=\"\",\"\",COUNTIFS(Planning!$XQ$6:$YU$200,A59))","v":""},{"$f":"IF(A59=\"\",\"\",COUNTIFS(Planning!$YV$6:$ZZ$200,A59))","v":""},{"$f":"IF(A59=\"\",\"\",COUNTIFS(Planning!$AAA$6:$ABD$200,A59))","v":""},{"$f":"IF(A59=\"\",\"\",COUNTIFS(Planning!$ABE$6:$ACI$200,A59))","v":""},{"$f":"IF(A59=\"\",\"\",COUNTIFS(Planning!$ACJ$6:$ADM$200,A59))","v":""},{"$f":"IF(A59=\"\",\"\",COUNTIFS(Planning!$ADN$6:$AER$200,A59))","v":""},{"$f":"IF(A59=\"\",\"\",COUNTIFS(Planning!$AES$6:$AFW$200,A59))","v":""},{"$f":"IF(A59=\"\",\"\",COUNTIFS(Planning!$AFX$6:$AGZ$200,A59))","v":""},{"$f":"IF(A59=\"\",\"\",COUNTIFS(Planning!$AHA$6:$AIE$200,A59))","v":""},{"$f":"IF(A59=\"\",\"\",COUNTIFS(Planning!$AIF$6:$AJI$200,A59))","v":""},{"$f":"IF(A59=\"\",\"\",COUNTIFS(Planning!$AJJ$6:$AKN$200,A59))","v":""},{"$f":"IF(A59=\"\",\"\",COUNTIFS(Planning!$AKO$6:$ALR$200,A59))","v":""},{"$f":"IF(A59=\"\",\"\",COUNTIFS(Planning!$ALS$6:$AMW$200,A59))","v":""},{"$f":"IF(A59=\"\",\"\",COUNTIFS(Planning!$AMX$6:$AOB$200,A59))","v":""},{"$f":"IF(A59=\"\",\"\",COUNTIFS(Planning!$AOC$6:$APF$200,A59))","v":""},{"$f":"IF(A59=\"\",\"\",COUNTIFS(Planning!$APG$6:$AQK$200,A59))","v":""},{"$f":"IF(A59=\"\",\"\",COUNTIFS(Planning!$AQL$6:$ARO$200,A59))","v":""},{"$f":"IF(A59=\"\",\"\",COUNTIFS(Planning!$ARP$6:$AST$200,A59))","v":""},{"$f":"IF(A59=\"\",\"\",COUNTIFS(Planning!$ASU$6:$ATY$200,A59))","v":""},{"$f":"IF(A59=\"\",\"\",COUNTIFS(Planning!$ATZ$6:$AVA$200,A59))","v":""},{"$f":"IF(A59=\"\",\"\",COUNTIFS(Planning!$AVB$6:$AWF$200,A59))","v":""},{"$f":"IF(A59=\"\",\"\",COUNTIFS(Planning!$AWG$6:$AXJ$200,A59))","v":""},{"$f":"IF(A59=\"\",\"\",COUNTIFS(Planning!$AXK$6:$AYO$200,A59))","v":""},{"$f":"IF(A59=\"\",\"\",COUNTIFS(Planning!$AYP$6:$AZS$200,A59))","v":""}]
[null,{"$f":"IF(A60=\"\",\"\",COUNTIFS(Planning!$C$6:$AG$200,A60))","v":""},{"$f":"IF(A60=\"\",\"\",COUNTIFS(Planning!$AH$6:$BK$200,A60))","v":""},{"$f":"IF(A60=\"\",\"\",COUNTIFS(Planning!$BL$6:$CP$200,A60))","v":""},{"$f":"IF(A60=\"\",\"\",COUNTIFS(Planning!$CQ$6:$DU$200,A60))","v":""},{"$f":"IF(A60=\"\",\"\",COUNTIFS(Planning!$DV$6:$EW$200,A60))","v":""},{"$f":"IF(A60=\"\",\"\",COUNTIFS(Planning!$EX$6:$GB$200,A60))","v":""},{"$f":"IF(A60=\"\",\"\",COUNTIFS(Planning!$GC$6:$HF$200,A60))","v":""},{"$f":"IF(A60=\"\",\"\",COUNTIFS(Planning!$HG$6:$IK$200,A60))","v":""},{"$f":"IF(A60=\"\",\"\",COUNTIFS(Planning!$IL$6:$JO$200,A60))","v":""},{"$f":"IF(A60=\"\",\"\",COUNTIFS(Planning!$JP$6:$KT$200,A60))","v":""},{"$f":"IF(A60=\"\",\"\",COUNTIFS(Planning!$KU$6:$LY$200,A60))","v":""},{"$f":"IF(A60=\"\",\"\",COUNTIFS(Planning!$LZ$6:$NC$200,A60))","v":""},{"$f":"IF(A60=\"\",\"\",COUNTIFS(Planning!$ND$6:$OH$200,A60))","v":""},{"$f":"IF(A60=\"\",\"\",COUNTIFS(Planning!$OI$6:$PL$200,A60))","v":""},{"$f":"IF(A60=\"\",\"\",COUNTIFS(Planning!$PM$6:$QQ$200,A60))","v":""},{"$f":"IF(A60=\"\",\"\",COUNTIFS(Planning!$QR$6:$RV$200,A60))","v":""},{"$f":"IF(A60=\"\",\"\",COUNTIFS(Planning!$RW$6:$SX$200,A60))","v":""},{"$f":"IF(A60=\"\",\"\",COUNTIFS(Planning!$SY$6:$UC$200,A60))","v":""},{"$f":"IF(A60=\"\",\"\",COUNTIFS(Planning!$UD$6:$VG$200,A60))","v":""},{"$f":"IF(A60=\"\",\"\",COUNTIFS(Planning!$VH$6:$WL$200,A60))","v":""},{"$f":"IF(A60=\"\",\"\",COUNTIFS(Planning!$WM$6:$XP$200,A60))","v":""},{"$f":"IF(A60=\"\",\"\",COUNTIFS(Planning!$XQ$6:$YU$200,A60))","v":""},{"$f":"IF(A60=\"\",\"\",COUNTIFS(Planning!$YV$6:$ZZ$200,A60))","v":""},{"$f":"IF(A60=\"\",\"\",COUNTIFS(Planning!$AAA$6:$ABD$200,A60))","v":""},{"$f":"IF(A60=\"\",\"\",COUNTIFS(Planning!$ABE$6:$ACI$200,A60))","v":""},{"$f":"IF(A60=\"\",\"\",COUNTIFS(Planning!$ACJ$6:$ADM$200,A60))","v":""},{"$f":"IF(A60=\"\",\"\",COUNTIFS(Planning!$ADN$6:$AER$200,A60))","v":""},{"$f":"IF(A60=\"\",\"\",COUNTIFS(Planning!$AES$6:$AFW$200,A60))","v":""},{"$f":"IF(A60=\"\",\"\",COUNTIFS(Planning!$AFX$6:$AGZ$200,A60))","v":""},{"$f":"IF(A60=\"\",\"\",COUNTIFS(Planning!$AHA$6:$AIE$200,A60))","v":""},{"$f":"IF(A60=\"\",\"\",COUNTIFS(Planning!$AIF$6:$AJI$200,A60))","v":""},{"$f":"IF(A60=\"\",\"\",COUNTIFS(Planning!$AJJ$6:$AKN$200,A60))","v":""},{"$f":"IF(A60=\"\",\"\",COUNTIFS(Planning!$AKO$6:$ALR$200,A60))","v":""},{"$f":"IF(A60=\"\",\"\",COUNTIFS(Planning!$ALS$6:$AMW$200,A60))","v":""},{"$f":"IF(A60=\"\",\"\",COUNTIFS(Planning!$AMX$6:$AOB$200,A60))","v":""},{"$f":"IF(A60=\"\",\"\",COUNTIFS(Planning!$AOC$6:$APF$200,A60))","v":""},{"$f":"IF(A60=\"\",\"\",COUNTIFS(Planning!$APG$6:$AQK$200,A60))","v":""},{"$f":"IF(A60=\"\",\"\",COUNTIFS(Planning!$AQL$6:$ARO$200,A60))","v":""},{"$f":"IF(A60=\"\",\"\",COUNTIFS(Planning!$ARP$6:$AST$200,A60))","v":""},{"$f":"IF(A60=\"\",\"\",COUNTIFS(Planning!$ASU$6:$ATY$200,A60))","v":""},{"$f":"IF(A60=\"\",\"\",COUNTIFS(Planning!$ATZ$6:$AVA$200,A60))","v":""},{"$f":"IF(A60=\"\",\"\",COUNTIFS(Planning!$AVB$6:$AWF$200,A60))","v":""},{"$f":"IF(A60=\"\",\"\",COUNTIFS(Planning!$AWG$6:$AXJ$200,A60))","v":""},{"$f":"IF(A60=\"\",\"\",COUNTIFS(Planning!$AXK$6:$AYO$200,A60))","v":""},{"$f":"IF(A60=\"\",\"\",COUNTIFS(Planning!$AYP$6:$AZS$200,A60))","v":""}]
[null,{"$f":"IF(A61=\"\",\"\",COUNTIFS(Planning!$C$6:$AG$200,A61))","v":""},{"$f":"IF(A61=\"\",\"\",COUNTIFS(Planning!$AH$6:$BK$200,A61))","v":""},{"$f":"IF(A61=\"\",\"\",COUNTIFS(Planning!$BL$6:$CP$200,A61))","v":""},{"$f":"IF(A61=\"\",\"\",COUNTIFS(Planning!$CQ$6:$DU$200,A61))","v":""},{"$f":"IF(A61=\"\",\"\",COUNTIFS(Planning!$DV$6:$EW$200,A61))","v":""},{"$f":"IF(A61=\"\",\"\",COUNTIFS(Planning!$EX$6:$GB$200,A61))","v":""},{"$f":"IF(A61=\"\",\"\",COUNTIFS(Planning!$GC$6:$HF$200,A61))","v":""},{"$f":"IF(A61=\"\",\"\",COUNTIFS(Planning!$HG$6:$IK$200,A61))","v":""},{"$f":"IF(A61=\"\",\"\",COUNTIFS(Planning!$IL$6:$JO$200,A61))","v":""},{"$f":"IF(A61=\"\",\"\",COUNTIFS(Planning!$JP$6:$KT$200,A61))","v":""},{"$f":"IF(A61=\"\",\"\",COUNTIFS(Planning!$KU$6:$LY$200,A61))","v":""},{"$f":"IF(A61=\"\",\"\",COUNTIFS(Planning!$LZ$6:$NC$200,A61))","v":""},{"$f":"IF(A61=\"\",\"\",COUNTIFS(Planning!$ND$6:$OH$200,A61))","v":""},{"$f":"IF(A61=\"\",\"\",COUNTIFS(Planning!$OI$6:$PL$200,A61))","v":""},{"$f":"IF(A61=\"\",\"\",COUNTIFS(Planning!$PM$6:$QQ$200,A61))","v":""},{"$f":"IF(A61=\"\",\"\",COUNTIFS(Planning!$QR$6:$RV$200,A61))","v":""},{"$f":"IF(A61=\"\",\"\",COUNTIFS(Planning!$RW$6:$SX$200,A61))","v":""},{"$f":"IF(A61=\"\",\"\",COUNTIFS(Planning!$SY$6:$UC$200,A61))","v":""},{"$f":"IF(A61=\"\",\"\",COUNTIFS(Planning!$UD$6:$VG$200,A61))","v":""},{"$f":"IF(A61=\"\",\"\",COUNTIFS(Planning!$VH$6:$WL$200,A61))","v":""},{"$f":"IF(A61=\"\",\"\",COUNTIFS(Planning!$WM$6:$XP$200,A61))","v":""},{"$f":"IF(A61=\"\",\"\",COUNTIFS(Planning!$XQ$6:$YU$200,A61))","v":""},{"$f":"IF(A61=\"\",\"\",COUNTIFS(Planning!$YV$6:$ZZ$200,A61))","v":""},{"$f":"IF(A61=\"\",\"\",COUNTIFS(Planning!$AAA$6:$ABD$200,A61))","v":""},{"$f":"IF(A61=\"\",\"\",COUNTIFS(Planning!$ABE$6:$ACI$200,A61))","v":""},{"$f":"IF(A61=\"\",\"\",COUNTIFS(Planning!$ACJ$6:$ADM$200,A61))","v":""},{"$f":"IF(A61=\"\",\"\",COUNTIFS(Planning!$ADN$6:$AER$200,A61))","v":""},{"$f":"IF(A61=\"\",\"\",COUNTIFS(Planning!$AES$6:$AFW$200,A61))","v":""},{"$f":"IF(A61=\"\",\"\",COUNTIFS(Planning!$AFX$6:$AGZ$200,A61))","v":""},{"$f":"IF(A61=\"\",\"\",COUNTIFS(Planning!$AHA$6:$AIE$200,A61))","v":""},{"$f":"IF(A61=\"\",\"\",COUNTIFS(Planning!$AIF$6:$AJI$200,A61))","v":""},{"$f":"IF(A61=\"\",\"\",COUNTIFS(Planning!$AJJ$6:$AKN$200,A61))","v":""},{"$f":"IF(A61=\"\",\"\",COUNTIFS(Planning!$AKO$6:$ALR$200,A61))","v":""},{"$f":"IF(A61=\"\",\"\",COUNTIFS(Planning!$ALS$6:$AMW$200,A61))","v":""},{"$f":"IF(A61=\"\",\"\",COUNTIFS(Planning!$AMX$6:$AOB$200,A61))","v":""},{"$f":"IF(A61=\"\",\"\",COUNTIFS(Planning!$AOC$6:$APF$200,A61))","v":""},{"$f":"IF(A61=\"\",\"\",COUNTIFS(Planning!$APG$6:$AQK$200,A61))","v":""},{"$f":"IF(A61=\"\",\"\",COUNTIFS(Planning!$AQL$6:$ARO$200,A61))","v":""},{"$f":"IF(A61=\"\",\"\",COUNTIFS(Planning!$ARP$6:$AST$200,A61))","v":""},{"$f":"IF(A61=\"\",\"\",COUNTIFS(Planning!$ASU$6:$ATY$200,A61))","v":""},{"$f":"IF(A61=\"\",\"\",COUNTIFS(Planning!$ATZ$6:$AVA$200,A61))","v":""},{"$f":"IF(A61=\"\",\"\",COUNTIFS(Planning!$AVB$6:$AWF$200,A61))","v":""},{"$f":"IF(A61=\"\",\"\",COUNTIFS(Planning!$AWG$6:$AXJ$200,A61))","v":""},{"$f":"IF(A61=\"\",\"\",COUNTIFS(Planning!$AXK$6:$AYO$200,A61))","v":""},{"$f":"IF(A61=\"\",\"\",COUNTIFS(Planning!$AYP$6:$AZS$200,A61))","v":""}]
[null,{"$f":"IF(A62=\"\",\"\",COUNTIFS(Planning!$C$6:$AG$200,A62))","v":""},{"$f":"IF(A62=\"\",\"\",COUNTIFS(Planning!$AH$6:$BK$200,A62))","v":""},{"$f":"IF(A62=\"\",\"\",COUNTIFS(Planning!$BL$6:$CP$200,A62))","v":""},{"$f":"IF(A62=\"\",\"\",COUNTIFS(Planning!$CQ$6:$DU$200,A62))","v":""},{"$f":"IF(A62=\"\",\"\",COUNTIFS(Planning!$DV$6:$EW$200,A62))","v":""},{"$f":"IF(A62=\"\",\"\",COUNTIFS(Planning!$EX$6:$GB$200,A62))","v":""},{"$f":"IF(A62=\"\",\"\",COUNTIFS(Planning!$GC$6:$HF$200,A62))","v":""},{"$f":"IF(A62=\"\",\"\",COUNTIFS(Planning!$HG$6:$IK$200,A62))","v":""},{"$f":"IF(A62=\"\",\"\",COUNTIFS(Planning!$IL$6:$JO$200,A62))","v":""},{"$f":"IF(A62=\"\",\"\",COUNTIFS(Planning!$JP$6:$KT$200,A62))","v":""},{"$f":"IF(A62=\"\",\"\",COUNTIFS(Planning!$KU$6:$LY$200,A62))","v":""},{"$f":"IF(A62=\"\",\"\",COUNTIFS(Planning!$LZ$6:$NC$200,A62))","v":""},{"$f":"IF(A62=\"\",\"\",COUNTIFS(Planning!$ND$6:$OH$200,A62))","v":""},{"$f":"IF(A62=\"\",\"\",COUNTIFS(Planning!$OI$6:$PL$200,A62))","v":""},{"$f":"IF(A62=\"\",\"\",COUNTIFS(Planning!$PM$6:$QQ$200,A62))","v":""},{"$f":"IF(A62=\"\",\"\",COUNTIFS(Planning!$QR$6:$RV$200,A62))","v":""},{"$f":"IF(A62=\"\",\"\",COUNTIFS(Planning!$RW$6:$SX$200,A62))","v":""},{"$f":"IF(A62=\"\",\"\",COUNTIFS(Planning!$SY$6:$UC$200,A62))","v":""},{"$f":"IF(A62=\"\",\"\",COUNTIFS(Planning!$UD$6:$VG$200,A62))","v":""},{"$f":"IF(A62=\"\",\"\",COUNTIFS(Planning!$VH$6:$WL$200,A62))","v":""},{"$f":"IF(A62=\"\",\"\",COUNTIFS(Planning!$WM$6:$XP$200,A62))","v":""},{"$f":"IF(A62=\"\",\"\",COUNTIFS(Planning!$XQ$6:$YU$200,A62))","v":""},{"$f":"IF(A62=\"\",\"\",COUNTIFS(Planning!$YV$6:$ZZ$200,A62))","v":""},{"$f":"IF(A62=\"\",\"\",COUNTIFS(Planning!$AAA$6:$ABD$200,A62))","v":""},{"$f":"IF(A62=\"\",\"\",COUNTIFS(Planning!$ABE$6:$ACI$200,A62))","v":""},{"$f":"IF(A62=\"\",\"\",COUNTIFS(Planning!$ACJ$6:$ADM$200,A62))","v":""},{"$f":"IF(A62=\"\",\"\",COUNTIFS(Planning!$ADN$6:$AER$200,A62))","v":""},{"$f":"IF(A62=\"\",\"\",COUNTIFS(Planning!$AES$6:$AFW$200,A62))","v":""},{"$f":"IF(A62=\"\",\"\",COUNTIFS(Planning!$AFX$6:$AGZ$200,A62))","v":""},{"$f":"IF(A62=\"\",\"\",COUNTIFS(Planning!$AHA$6:$AIE$200,A62))","v":""},{"$f":"IF(A62=\"\",\"\",COUNTIFS(Planning!$AIF$6:$AJI$200,A62))","v":""},{"$f":"IF(A62=\"\",\"\",COUNTIFS(Planning!$AJJ$6:$AKN$200,A62))","v":""},{"$f":"IF(A62=\"\",\"\",COUNTIFS(Planning!$AKO$6:$ALR$200,A62))","v":""},{"$f":"IF(A62=\"\",\"\",COUNTIFS(Planning!$ALS$6:$AMW$200,A62))","v":""},{"$f":"IF(A62=\"\",\"\",COUNTIFS(Planning!$AMX$6:$AOB$200,A62))","v":""},{"$f":"IF(A62=\"\",\"\",COUNTIFS(Planning!$AOC$6:$APF$200,A62))","v":""},{"$f":"IF(A62=\"\",\"\",COUNTIFS(Planning!$APG$6:$AQK$200,A62))","v":""},{"$f":"IF(A62=\"\",\"\",COUNTIFS(Planning!$AQL$6:$ARO$200,A62))","v":""},{"$f":"IF(A62=\"\",\"\",COUNTIFS(Planning!$ARP$6:$AST$200,A62))","v":""},{"$f":"IF(A62=\"\",\"\",COUNTIFS(Planning!$ASU$6:$ATY$200,A62))","v":""},{"$f":"IF(A62=\"\",\"\",COUNTIFS(Planning!$ATZ$6:$AVA$200,A62))","v":""},{"$f":"IF(A62=\"\",\"\",COUNTIFS(Planning!$AVB$6:$AWF$200,A62))","v":""},{"$f":"IF(A62=\"\",\"\",COUNTIFS(Planning!$AWG$6:$AXJ$200,A62))","v":""},{"$f":"IF(A62=\"\",\"\",COUNTIFS(Planning!$AXK$6:$AYO$200,A62))","v":""},{"$f":"IF(A62=\"\",\"\",COUNTIFS(Planning!$AYP$6:$AZS$200,A62))","v":""}]
[null,{"$f":"IF(A63=\"\",\"\",COUNTIFS(Planning!$C$6:$AG$200,A63))","v":""},{"$f":"IF(A63=\"\",\"\",COUNTIFS(Planning!$AH$6:$BK$200,A63))","v":""},{"$f":"IF(A63=\"\",\"\",COUNTIFS(Planning!$BL$6:$CP$200,A63))","v":""},{"$f":"IF(A63=\"\",\"\",COUNTIFS(Planning!$CQ$6:$DU$200,A63))","v":""},{"$f":"IF(A63=\"\",\"\",COUNTIFS(Planning!$DV$6:$EW$200,A63))","v":""},{"$f":"IF(A63=\"\",\"\",COUNTIFS(Planning!$EX$6:$GB$200,A63))","v":""},{"$f":"IF(A63=\"\",\"\",COUNTIFS(Planning!$GC$6:$HF$200,A63))","v":""},{"$f":"IF(A63=\"\",\"\",COUNTIFS(Planning!$HG$6:$IK$200,A63))","v":""},{"$f":"IF(A63=\"\",\"\",COUNTIFS(Planning!$IL$6:$JO$200,A63))","v":""},{"$f":"IF(A63=\"\",\"\",COUNTIFS(Planning!$JP$6:$KT$200,A63))","v":""},{"$f":"IF(A63=\"\",\"\",COUNTIFS(Planning!$KU$6:$LY$200,A63))","v":""},{"$f":"IF(A63=\"\",\"\",COUNTIFS(Planning!$LZ$6:$NC$200,A63))","v":""},{"$f":"IF(A63=\"\",\"\",COUNTIFS(Planning!$ND$6:$OH$200,A63))","v":""},{"$f":"IF(A63=\"\",\"\",COUNTIFS(Planning!$OI$6:$PL$200,A63))","v":""},{"$f":"IF(A63=\"\",\"\",COUNTIFS(Planning!$PM$6:$QQ$200,A63))","v":""},{"$f":"IF(A63=\"\",\"\",COUNTIFS(Planning!$QR$6:$RV$200,A63))","v":""},{"$f":"IF(A63=\"\",\"\",COUNTIFS(Planning!$RW$6:$SX$200,A63))","v":""},{"$f":"IF(A63=\"\",\"\",COUNTIFS(Planning!$SY$6:$UC$200,A63))","v":""},{"$f":"IF(A63=\"\",\"\",COUNTIFS(Planning!$UD$6:$VG$200,A63))","v":""},{"$f":"IF(A63=\"\",\"\",COUNTIFS(Planning!$VH$6:$WL$200,A63))","v":""},{"$f":"IF(A63=\"\",\"\",COUNTIFS(Planning!$WM$6:$XP$200,A63))","v":""},{"$f":"IF(A63=\"\",\"\",COUNTIFS(Planning!$XQ$6:$YU$200,A63))","v":""},{"$f":"IF(A63=\"\",\"\",COUNTIFS(Planning!$YV$6:$ZZ$200,A63))","v":""},{"$f":"IF(A63=\"\",\"\",COUNTIFS(Planning!$AAA$6:$ABD$200,A63))","v":""},{"$f":"IF(A63=\"\",\"\",COUNTIFS(Planning!$ABE$6:$ACI$200,A63))","v":""},{"$f":"IF(A63=\"\",\"\",COUNTIFS(Planning!$ACJ$6:$ADM$200,A63))","v":""},{"$f":"IF(A63=\"\",\"\",COUNTIFS(Planning!$ADN$6:$AER$200,A63))","v":""},{"$f":"IF(A63=\"\",\"\",COUNTIFS(Planning!$AES$6:$AFW$200,A63))","v":""},{"$f":"IF(A63=\"\",\"\",COUNTIFS(Planning!$AFX$6:$AGZ$200,A63))","v":""},{"$f":"IF(A63=\"\",\"\",COUNTIFS(Planning!$AHA$6:$AIE$200,A63))","v":""},{"$f":"IF(A63=\"\",\"\",COUNTIFS(Planning!$AIF$6:$AJI$200,A63))","v":""},{"$f":"IF(A63=\"\",\"\",COUNTIFS(Planning!$AJJ$6:$AKN$200,A63))","v":""},{"$f":"IF(A63=\"\",\"\",COUNTIFS(Planning!$AKO$6:$ALR$200,A63))","v":""},{"$f":"IF(A63=\"\",\"\",COUNTIFS(Planning!$ALS$6:$AMW$200,A63))","v":""},{"$f":"IF(A63=\"\",\"\",COUNTIFS(Planning!$AMX$6:$AOB$200,A63))","v":""},{"$f":"IF(A63=\"\",\"\",COUNTIFS(Planning!$AOC$6:$APF$200,A63))","v":""},{"$f":"IF(A63=\"\",\"\",COUNTIFS(Planning!$APG$6:$AQK$200,A63))","v":""},{"$f":"IF(A63=\"\",\"\",COUNTIFS(Planning!$AQL$6:$ARO$200,A63))","v":""},{"$f":"IF(A63=\"\",\"\",COUNTIFS(Planning!$ARP$6:$AST$200,A63))","v":""},{"$f":"IF(A63=\"\",\"\",COUNTIFS(Planning!$ASU$6:$ATY$200,A63))","v":""},{"$f":"IF(A63=\"\",\"\",COUNTIFS(Planning!$ATZ$6:$AVA$200,A63))","v":""},{"$f":"IF(A63=\"\",\"\",COUNTIFS(Planning!$AVB$6:$AWF$200,A63))","v":""},{"$f":"IF(A63=\"\",\"\",COUNTIFS(Planning!$AWG$6:$AXJ$200,A63))","v":""},{"$f":"IF(A63=\"\",\"\",COUNTIFS(Planning!$AXK$6:$AYO$200,A63))","v":""},{"$f":"IF(A63=\"\",\"\",COUNTIFS(Planning!$AYP$6:$AZS$200,A63))","v":""}]
[null,{"$f":"IF(A64=\"\",\"\",COUNTIFS(Planning!$C$6:$AG$200,A64))","v":""},{"$f":"IF(A64=\"\",\"\",COUNTIFS(Planning!$AH$6:$BK$200,A64))","v":""},{"$f":"IF(A64=\"\",\"\",COUNTIFS(Planning!$BL$6:$CP$200,A64))","v":""},{"$f":"IF(A64=\"\",\"\",COUNTIFS(Planning!$CQ$6:$DU$200,A64))","v":""},{"$f":"IF(A64=\"\",\"\",COUNTIFS(Planning!$DV$6:$EW$200,A64))","v":""},{"$f":"IF(A64=\"\",\"\",COUNTIFS(Planning!$EX$6:$GB$200,A64))","v":""},{"$f":"IF(A64=\"\",\"\",COUNTIFS(Planning!$GC$6:$HF$200,A64))","v":""},{"$f":"IF(A64=\"\",\"\",COUNTIFS(Planning!$HG$6:$IK$200,A64))","v":""},{"$f":"IF(A64=\"\",\"\",COUNTIFS(Planning!$IL$6:$JO$200,A64))","v":""},{"$f":"IF(A64=\"\",\"\",COUNTIFS(Planning!$JP$6:$KT$200,A64))","v":""},{"$f":"IF(A64=\"\",\"\",COUNTIFS(Planning!$KU$6:$LY$200,A64))","v":""},{"$f":"IF(A64=\"\",\"\",COUNTIFS(Planning!$LZ$6:$NC$200,A64))","v":""},{"$f":"IF(A64=\"\",\"\",COUNTIFS(Planning!$ND$6:$OH$200,A64))","v":""},{"$f":"IF(A64=\"\",\"\",COUNTIFS(Planning!$OI$6:$PL$200,A64))","v":""},{"$f":"IF(A64=\"\",\"\",COUNTIFS(Planning!$PM$6:$QQ$200,A64))","v":""},{"$f":"IF(A64=\"\",\"\",COUNTIFS(Planning!$QR$6:$RV$200,A64))","v":""},{"$f":"IF(A64=\"\",\"\",COUNTIFS(Planning!$RW$6:$SX$200,A64))","v":""},{"$f":"IF(A64=\"\",\"\",COUNTIFS(Planning!$SY$6:$UC$200,A64))","v":""},{"$f":"IF(A64=\"\",\"\",COUNTIFS(Planning!$UD$6:$VG$200,A64))","v":""},{"$f":"IF(A64=\"\",\"\",COUNTIFS(Planning!$VH$6:$WL$200,A64))","v":""},{"$f":"IF(A64=\"\",\"\",COUNTIFS(Planning!$WM$6:$XP$200,A64))","v":""},{"$f":"IF(A64=\"\",\"\",COUNTIFS(Planning!$XQ$6:$YU$200,A64))","v":""},{"$f":"IF(A64=\"\",\"\",COUNTIFS(Planning!$YV$6:$ZZ$200,A64))","v":""},{"$f":"IF(A64=\"\",\"\",COUNTIFS(Planning!$AAA$6:$ABD$200,A64))","v":""},{"$f":"IF(A64=\"\",\"\",COUNTIFS(Planning!$ABE$6:$ACI$200,A64))","v":""},{"$f":"IF(A64=\"\",\"\",COUNTIFS(Planning!$ACJ$6:$ADM$200,A64))","v":""},{"$f":"IF(A64=\"\",\"\",COUNTIFS(Planning!$ADN$6:$AER$200,A64))","v":""},{"$f":"IF(A64=\"\",\"\",COUNTIFS(Planning!$AES$6:$AFW$200,A64))","v":""},{"$f":"IF(A64=\"\",\"\",COUNTIFS(Planning!$AFX$6:$AGZ$200,A64))","v":""},{"$f":"IF(A64=\"\",\"\",COUNTIFS(Planning!$AHA$6:$AIE$200,A64))","v":""},{"$f":"IF(A64=\"\",\"\",COUNTIFS(Planning!$AIF$6:$AJI$200,A64))","v":""},{"$f":"IF(A64=\"\",\"\",COUNTIFS(Planning!$AJJ$6:$AKN$200,A64))","v":""},{"$f":"IF(A64=\"\",\"\",COUNTIFS(Planning!$AKO$6:$ALR$200,A64))","v":""},{"$f":"IF(A64=\"\",\"\",COUNTIFS(Planning!$ALS$6:$AMW$200,A64))","v":""},{"$f":"IF(A64=\"\",\"\",COUNTIFS(Planning!$AMX$6:$AOB$200,A64))","v":""},{"$f":"IF(A64=\"\",\"\",COUNTIFS(Planning!$AOC$6:$APF$200,A64))","v":""},{"$f":"IF(A64=\"\",\"\",COUNTIFS(Planning!$APG$6:$AQK$200,A64))","v":""},{"$f":"IF(A64=\"\",\"\",COUNTIFS(Planning!$AQL$6:$ARO$200,A64))","v":""},{"$f":"IF(A64=\"\",\"\",COUNTIFS(Planning!$ARP$6:$AST$200,A64))","v":""},{"$f":"IF(A64=\"\",\"\",COUNTIFS(Planning!$ASU$6:$ATY$200,A64))","v":""},{"$f":"IF(A64=\"\",\"\",COUNTIFS(Planning!$ATZ$6:$AVA$200,A64))","v":""},{"$f":"IF(A64=\"\",\"\",COUNTIFS(Planning!$AVB$6:$AWF$200,A64))","v":""},{"$f":"IF(A64=\"\",\"\",COUNTIFS(Planning!$AWG$6:$AXJ$200,A64))","v":""},{"$f":"IF(A64=\"\",\"\",COUNTIFS(Planning!$AXK$6:$AYO$200,A64))","v":""},{"$f":"IF(A64=\"\",\"\",COUNTIFS(Planning!$AYP$6:$AZS$200,A64))","v":""}]
[null,{"$f":"IF(A65=\"\",\"\",COUNTIFS(Planning!$C$6:$AG$200,A65))","v":""},{"$f":"IF(A65=\"\",\"\",COUNTIFS(Planning!$AH$6:$BK$200,A65))","v":""},{"$f":"IF(A65=\"\",\"\",COUNTIFS(Planning!$BL$6:$CP$200,A65))","v":""},{"$f":"IF(A65=\"\",\"\",COUNTIFS(Planning!$CQ$6:$DU$200,A65))","v":""},{"$f":"IF(A65=\"\",\"\",COUNTIFS(Planning!$DV$6:$EW$200,A65))","v":""},{"$f":"IF(A65=\"\",\"\",COUNTIFS(Planning!$EX$6:$GB$200,A65))","v":""},{"$f":"IF(A65=\"\",\"\",COUNTIFS(Planning!$GC$6:$HF$200,A65))","v":""},{"$f":"IF(A65=\"\",\"\",COUNTIFS(Planning!$HG$6:$IK$200,A65))","v":""},{"$f":"IF(A65=\"\",\"\",COUNTIFS(Planning!$IL$6:$JO$200,A65))","v":""},{"$f":"IF(A65=\"\",\"\",COUNTIFS(Planning!$JP$6:$KT$200,A65))","v":""},{"$f":"IF(A65=\"\",\"\",COUNTIFS(Planning!$KU$6:$LY$200,A65))","v":""},{"$f":"IF(A65=\"\",\"\",COUNTIFS(Planning!$LZ$6:$NC$200,A65))","v":""},{"$f":"IF(A65=\"\",\"\",COUNTIFS(Planning!$ND$6:$OH$200,A65))","v":""},{"$f":"IF(A65=\"\",\"\",COUNTIFS(Planning!$OI$6:$PL$200,A65))","v":""},{"$f":"IF(A65=\"\",\"\",COUNTIFS(Planning!$PM$6:$QQ$200,A65))","v":""},{"$f":"IF(A65=\"\",\"\",COUNTIFS(Planning!$QR$6:$RV$200,A65))","v":""},{"$f":"IF(A65=\"\",\"\",COUNTIFS(Planning!$RW$6:$SX$200,A65))","v":""},{"$f":"IF(A65=\"\",\"\",COUNTIFS(Planning!$SY$6:$UC$200,A65))","v":""},{"$f":"IF(A65=\"\",\"\",COUNTIFS(Planning!$UD$6:$VG$200,A65))","v":""},{"$f":"IF(A65=\"\",\"\",COUNTIFS(Planning!$VH$6:$WL$200,A65))","v":""},{"$f":"IF(A65=\"\",\"\",COUNTIFS(Planning!$WM$6:$XP$200,A65))","v":""},{"$f":"IF(A65=\"\",\"\",COUNTIFS(Planning!$XQ$6:$YU$200,A65))","v":""},{"$f":"IF(A65=\"\",\"\",COUNTIFS(Planning!$YV$6:$ZZ$200,A65))","v":""},{"$f":"IF(A65=\"\",\"\",COUNTIFS(Planning!$AAA$6:$ABD$200,A65))","v":""},{"$f":"IF(A65=\"\",\"\",COUNTIFS(Planning!$ABE$6:$ACI$200,A65))","v":""},{"$f":"IF(A65=\"\",\"\",COUNTIFS(Planning!$ACJ$6:$ADM$200,A65))","v":""},{"$f":"IF(A65=\"\",\"\",COUNTIFS(Planning!$ADN$6:$AER$200,A65))","v":""},{"$f":"IF(A65=\"\",\"\",COUNTIFS(Planning!$AES$6:$AFW$200,A65))","v":""},{"$f":"IF(A65=\"\",\"\",COUNTIFS(Planning!$AFX$6:$AGZ$200,A65))","v":""},{"$f":"IF(A65=\"\",\"\",COUNTIFS(Planning!$AHA$6:$AIE$200,A65))","v":""},{"$f":"IF(A65=\"\",\"\",COUNTIFS(Planning!$AIF$6:$AJI$200,A65))","v":""},{"$f":"IF(A65=\"\",\"\",COUNTIFS(Planning!$AJJ$6:$AKN$200,A65))","v":""},{"$f":"IF(A65=\"\",\"\",COUNTIFS(Planning!$AKO$6:$ALR$200,A65))","v":""},{"$f":"IF(A65=\"\",\"\",COUNTIFS(Planning!$ALS$6:$AMW$200,A65))","v":""},{"$f":"IF(A65=\"\",\"\",COUNTIFS(Planning!$AMX$6:$AOB$200,A65))","v":""},{"$f":"IF(A65=\"\",\"\",COUNTIFS(Planning!$AOC$6:$APF$200,A65))","v":""},{"$f":"IF(A65=\"\",\"\",COUNTIFS(Planning!$APG$6:$AQK$200,A65))","v":""},{"$f":"IF(A65=\"\",\"\",COUNTIFS(Planning!$AQL$6:$ARO$200,A65))","v":""},{"$f":"IF(A65=\"\",\"\",COUNTIFS(Planning!$ARP$6:$AST$200,A65))","v":""},{"$f":"IF(A65=\"\",\"\",COUNTIFS(Planning!$ASU$6:$ATY$200,A65))","v":""},{"$f":"IF(A65=\"\",\"\",COUNTIFS(Planning!$ATZ$6:$AVA$200,A65))","v":""},{"$f":"IF(A65=\"\",\"\",COUNTIFS(Planning!$AVB$6:$AWF$200,A65))","v":""},{"$f":"IF(A65=\"\",\"\",COUNTIFS(Planning!$AWG$6:$AXJ$200,A65))","v":""},{"$f":"IF(A65=\"\",\"\",COUNTIFS(Planning!$AXK$6:$AYO$200,A65))","v":""},{"$f":"IF(A65=\"\",\"\",COUNTIFS(Planning!$AYP$6:$AZS$200,A65))","v":""}]
[null,{"$f":"IF(A66=\"\",\"\",COUNTIFS(Planning!$C$6:$AG$200,A66))","v":""},{"$f":"IF(A66=\"\",\"\",COUNTIFS(Planning!$AH$6:$BK$200,A66))","v":""},{"$f":"IF(A66=\"\",\"\",COUNTIFS(Planning!$BL$6:$CP$200,A66))","v":""},{"$f":"IF(A66=\"\",\"\",COUNTIFS(Planning!$CQ$6:$DU$200,A66))","v":""},{"$f":"IF(A66=\"\",\"\",COUNTIFS(Planning!$DV$6:$EW$200,A66))","v":""},{"$f":"IF(A66=\"\",\"\",COUNTIFS(Planning!$EX$6:$GB$200,A66))","v":""},{"$f":"IF(A66=\"\",\"\",COUNTIFS(Planning!$GC$6:$HF$200,A66))","v":""},{"$f":"IF(A66=\"\",\"\",COUNTIFS(Planning!$HG$6:$IK$200,A66))","v":""},{"$f":"IF(A66=\"\",\"\",COUNTIFS(Planning!$IL$6:$JO$200,A66))","v":""},{"$f":"IF(A66=\"\",\"\",COUNTIFS(Planning!$JP$6:$KT$200,A66))","v":""},{"$f":"IF(A66=\"\",\"\",COUNTIFS(Planning!$KU$6:$LY$200,A66))","v":""},{"$f":"IF(A66=\"\",\"\",COUNTIFS(Planning!$LZ$6:$NC$200,A66))","v":""},{"$f":"IF(A66=\"\",\"\",COUNTIFS(Planning!$ND$6:$OH$200,A66))","v":""},{"$f":"IF(A66=\"\",\"\",COUNTIFS(Planning!$OI$6:$PL$200,A66))","v":""},{"$f":"IF(A66=\"\",\"\",COUNTIFS(Planning!$PM$6:$QQ$200,A66))","v":""},{"$f":"IF(A66=\"\",\"\",COUNTIFS(Planning!$QR$6:$RV$200,A66))","v":""},{"$f":"IF(A66=\"\",\"\",COUNTIFS(Planning!$RW$6:$SX$200,A66))","v":""},{"$f":"IF(A66=\"\",\"\",COUNTIFS(Planning!$SY$6:$UC$200,A66))","v":""},{"$f":"IF(A66=\"\",\"\",COUNTIFS(Planning!$UD$6:$VG$200,A66))","v":""},{"$f":"IF(A66=\"\",\"\",COUNTIFS(Planning!$VH$6:$WL$200,A66))","v":""},{"$f":"IF(A66=\"\",\"\",COUNTIFS(Planning!$WM$6:$XP$200,A66))","v":""},{"$f":"IF(A66=\"\",\"\",COUNTIFS(Planning!$XQ$6:$YU$200,A66))","v":""},{"$f":"IF(A66=\"\",\"\",COUNTIFS(Planning!$YV$6:$ZZ$200,A66))","v":""},{"$f":"IF(A66=\"\",\"\",COUNTIFS(Planning!$AAA$6:$ABD$200,A66))","v":""},{"$f":"IF(A66=\"\",\"\",COUNTIFS(Planning!$ABE$6:$ACI$200,A66))","v":""},{"$f":"IF(A66=\"\",\"\",COUNTIFS(Planning!$ACJ$6:$ADM$200,A66))","v":""},{"$f":"IF(A66=\"\",\"\",COUNTIFS(Planning!$ADN$6:$AER$200,A66))","v":""},{"$f":"IF(A66=\"\",\"\",COUNTIFS(Planning!$AES$6:$AFW$200,A66))","v":""},{"$f":"IF(A66=\"\",\"\",COUNTIFS(Planning!$AFX$6:$AGZ$200,A66))","v":""},{"$f":"IF(A66=\"\",\"\",COUNTIFS(Planning!$AHA$6:$AIE$200,A66))","v":""},{"$f":"IF(A66=\"\",\"\",COUNTIFS(Planning!$AIF$6:$AJI$200,A66))","v":""},{"$f":"IF(A66=\"\",\"\",COUNTIFS(Planning!$AJJ$6:$AKN$200,A66))","v":""},{"$f":"IF(A66=\"\",\"\",COUNTIFS(Planning!$AKO$6:$ALR$200,A66))","v":""},{"$f":"IF(A66=\"\",\"\",COUNTIFS(Planning!$ALS$6:$AMW$200,A66))","v":""},{"$f":"IF(A66=\"\",\"\",COUNTIFS(Planning!$AMX$6:$AOB$200,A66))","v":""},{"$f":"IF(A66=\"\",\"\",COUNTIFS(Planning!$AOC$6:$APF$200,A66))","v":""},{"$f":"IF(A66=\"\",\"\",COUNTIFS(Planning!$APG$6:$AQK$200,A66))","v":""},{"$f":"IF(A66=\"\",\"\",COUNTIFS(Planning!$AQL$6:$ARO$200,A66))","v":""},{"$f":"IF(A66=\"\",\"\",COUNTIFS(Planning!$ARP$6:$AST$200,A66))","v":""},{"$f":"IF(A66=\"\",\"\",COUNTIFS(Planning!$ASU$6:$ATY$200,A66))","v":""},{"$f":"IF(A66=\"\",\"\",COUNTIFS(Planning!$ATZ$6:$AVA$200,A66))","v":""},{"$f":"IF(A66=\"\",\"\",COUNTIFS(Planning!$AVB$6:$AWF$200,A66))","v":""},{"$f":"IF(A66=\"\",\"\",COUNTIFS(Planning!$AWG$6:$AXJ$200,A66))","v":""},{"$f":"IF(A66=\"\",\"\",COUNTIFS(Planning!$AXK$6:$AYO$200,A66))","v":""},{"$f":"IF(A66=\"\",\"\",COUNTIFS(Planning!$AYP$6:$AZS$200,A66))","v":""}]
[null,{"$f":"IF(A67=\"\",\"\",COUNTIFS(Planning!$C$6:$AG$200,A67))","v":""},{"$f":"IF(A67=\"\",\"\",COUNTIFS(Planning!$AH$6:$BK$200,A67))","v":""},{"$f":"IF(A67=\"\",\"\",COUNTIFS(Planning!$BL$6:$CP$200,A67))","v":""},{"$f":"IF(A67=\"\",\"\",COUNTIFS(Planning!$CQ$6:$DU$200,A67))","v":""},{"$f":"IF(A67=\"\",\"\",COUNTIFS(Planning!$DV$6:$EW$200,A67))","v":""},{"$f":"IF(A67=\"\",\"\",COUNTIFS(Planning!$EX$6:$GB$200,A67))","v":""},{"$f":"IF(A67=\"\",\"\",COUNTIFS(Planning!$GC$6:$HF$200,A67))","v":""},{"$f":"IF(A67=\"\",\"\",COUNTIFS(Planning!$HG$6:$IK$200,A67))","v":""},{"$f":"IF(A67=\"\",\"\",COUNTIFS(Planning!$IL$6:$JO$200,A67))","v":""},{"$f":"IF(A67=\"\",\"\",COUNTIFS(Planning!$JP$6:$KT$200,A67))","v":""},{"$f":"IF(A67=\"\",\"\",COUNTIFS(Planning!$KU$6:$LY$200,A67))","v":""},{"$f":"IF(A67=\"\",\"\",COUNTIFS(Planning!$LZ$6:$NC$200,A67))","v":""},{"$f":"IF(A67=\"\",\"\",COUNTIFS(Planning!$ND$6:$OH$200,A67))","v":""},{"$f":"IF(A67=\"\",\"\",COUNTIFS(Planning!$OI$6:$PL$200,A67))","v":""},{"$f":"IF(A67=\"\",\"\",COUNTIFS(Planning!$PM$6:$QQ$200,A67))","v":""},{"$f":"IF(A67=\"\",\"\",COUNTIFS(Planning!$QR$6:$RV$200,A67))","v":""},{"$f":"IF(A67=\"\",\"\",COUNTIFS(Planning!$RW$6:$SX$200,A67))","v":""},{"$f":"IF(A67=\"\",\"\",COUNTIFS(Planning!$SY$6:$UC$200,A67))","v":""},{"$f":"IF(A67=\"\",\"\",COUNTIFS(Planning!$UD$6:$VG$200,A67))","v":""},{"$f":"IF(A67=\"\",\"\",COUNTIFS(Planning!$VH$6:$WL$200,A67))","v":""},{"$f":"IF(A67=\"\",\"\",COUNTIFS(Planning!$WM$6:$XP$200,A67))","v":""},{"$f":"IF(A67=\"\",\"\",COUNTIFS(Planning!$XQ$6:$YU$200,A67))","v":""},{"$f":"IF(A67=\"\",\"\",COUNTIFS(Planning!$YV$6:$ZZ$200,A67))","v":""},{"$f":"IF(A67=\"\",\"\",COUNTIFS(Planning!$AAA$6:$ABD$200,A67))","v":""},{"$f":"IF(A67=\"\",\"\",COUNTIFS(Planning!$ABE$6:$ACI$200,A67))","v":""},{"$f":"IF(A67=\"\",\"\",COUNTIFS(Planning!$ACJ$6:$ADM$200,A67))","v":""},{"$f":"IF(A67=\"\",\"\",COUNTIFS(Planning!$ADN$6:$AER$200,A67))","v":""},{"$f":"IF(A67=\"\",\"\",COUNTIFS(Planning!$AES$6:$AFW$200,A67))","v":""},{"$f":"IF(A67=\"\",\"\",COUNTIFS(Planning!$AFX$6:$AGZ$200,A67))","v":""},{"$f":"IF(A67=\"\",\"\",COUNTIFS(Planning!$AHA$6:$AIE$200,A67))","v":""},{"$f":"IF(A67=\"\",\"\",COUNTIFS(Planning!$AIF$6:$AJI$200,A67))","v":""},{"$f":"IF(A67=\"\",\"\",COUNTIFS(Planning!$AJJ$6:$AKN$200,A67))","v":""},{"$f":"IF(A67=\"\",\"\",COUNTIFS(Planning!$AKO$6:$ALR$200,A67))","v":""},{"$f":"IF(A67=\"\",\"\",COUNTIFS(Planning!$ALS$6:$AMW$200,A67))","v":""},{"$f":"IF(A67=\"\",\"\",COUNTIFS(Planning!$AMX$6:$AOB$200,A67))","v":""},{"$f":"IF(A67=\"\",\"\",COUNTIFS(Planning!$AOC$6:$APF$200,A67))","v":""},{"$f":"IF(A67=\"\",\"\",COUNTIFS(Planning!$APG$6:$AQK$200,A67))","v":""},{"$f":"IF(A67=\"\",\"\",COUNTIFS(Planning!$AQL$6:$ARO$200,A67))","v":""},{"$f":"IF(A67=\"\",\"\",COUNTIFS(Planning!$ARP$6:$AST$200,A67))","v":""},{"$f":"IF(A67=\"\",\"\",COUNTIFS(Planning!$ASU$6:$ATY$200,A67))","v":""},{"$f":"IF(A67=\"\",\"\",COUNTIFS(Planning!$ATZ$6:$AVA$200,A67))","v":""},{"$f":"IF(A67=\"\",\"\",COUNTIFS(Planning!$AVB$6:$AWF$200,A67))","v":""},{"$f":"IF(A67=\"\",\"\",COUNTIFS(Planning!$AWG$6:$AXJ$200,A67))","v":""},{"$f":"IF(A67=\"\",\"\",COUNTIFS(Planning!$AXK$6:$AYO$200,A67))","v":""},{"$f":"IF(A67=\"\",\"\",COUNTIFS(Planning!$AYP$6:$AZS$200,A67))","v":""}]
[null,{"$f":"IF(A68=\"\",\"\",COUNTIFS(Planning!$C$6:$AG$200,A68))","v":""},{"$f":"IF(A68=\"\",\"\",COUNTIFS(Planning!$AH$6:$BK$200,A68))","v":""},{"$f":"IF(A68=\"\",\"\",COUNTIFS(Planning!$BL$6:$CP$200,A68))","v":""},{"$f":"IF(A68=\"\",\"\",COUNTIFS(Planning!$CQ$6:$DU$200,A68))","v":""},{"$f":"IF(A68=\"\",\"\",COUNTIFS(Planning!$DV$6:$EW$200,A68))","v":""},{"$f":"IF(A68=\"\",\"\",COUNTIFS(Planning!$EX$6:$GB$200,A68))","v":""},{"$f":"IF(A68=\"\",\"\",COUNTIFS(Planning!$GC$6:$HF$200,A68))","v":""},{"$f":"IF(A68=\"\",\"\",COUNTIFS(Planning!$HG$6:$IK$200,A68))","v":""},{"$f":"IF(A68=\"\",\"\",COUNTIFS(Planning!$IL$6:$JO$200,A68))","v":""},{"$f":"IF(A68=\"\",\"\",COUNTIFS(Planning!$JP$6:$KT$200,A68))","v":""},{"$f":"IF(A68=\"\",\"\",COUNTIFS(Planning!$KU$6:$LY$200,A68))","v":""},{"$f":"IF(A68=\"\",\"\",COUNTIFS(Planning!$LZ$6:$NC$200,A68))","v":""},{"$f":"IF(A68=\"\",\"\",COUNTIFS(Planning!$ND$6:$OH$200,A68))","v":""},{"$f":"IF(A68=\"\",\"\",COUNTIFS(Planning!$OI$6:$PL$200,A68))","v":""},{"$f":"IF(A68=\"\",\"\",COUNTIFS(Planning!$PM$6:$QQ$200,A68))","v":""},{"$f":"IF(A68=\"\",\"\",COUNTIFS(Planning!$QR$6:$RV$200,A68))","v":""},{"$f":"IF(A68=\"\",\"\",COUNTIFS(Planning!$RW$6:$SX$200,A68))","v":""},{"$f":"IF(A68=\"\",\"\",COUNTIFS(Planning!$SY$6:$UC$200,A68))","v":""},{"$f":"IF(A68=\"\",\"\",COUNTIFS(Planning!$UD$6:$VG$200,A68))","v":""},{"$f":"IF(A68=\"\",\"\",COUNTIFS(Planning!$VH$6:$WL$200,A68))","v":""},{"$f":"IF(A68=\"\",\"\",COUNTIFS(Planning!$WM$6:$XP$200,A68))","v":""},{"$f":"IF(A68=\"\",\"\",COUNTIFS(Planning!$XQ$6:$YU$200,A68))","v":""},{"$f":"IF(A68=\"\",\"\",COUNTIFS(Planning!$YV$6:$ZZ$200,A68))","v":""},{"$f":"IF(A68=\"\",\"\",COUNTIFS(Planning!$AAA$6:$ABD$200,A68))","v":""},{"$f":"IF(A68=\"\",\"\",COUNTIFS(Planning!$ABE$6:$ACI$200,A68))","v":""},{"$f":"IF(A68=\"\",\"\",COUNTIFS(Planning!$ACJ$6:$ADM$200,A68))","v":""},{"$f":"IF(A68=\"\",\"\",COUNTIFS(Planning!$ADN$6:$AER$200,A68))","v":""},{"$f":"IF(A68=\"\",\"\",COUNTIFS(Planning!$AES$6:$AFW$200,A68))","v":""},{"$f":"IF(A68=\"\",\"\",COUNTIFS(Planning!$AFX$6:$AGZ$200,A68))","v":""},{"$f":"IF(A68=\"\",\"\",COUNTIFS(Planning!$AHA$6:$AIE$200,A68))","v":""},{"$f":"IF(A68=\"\",\"\",COUNTIFS(Planning!$AIF$6:$AJI$200,A68))","v":""},{"$f":"IF(A68=\"\",\"\",COUNTIFS(Planning!$AJJ$6:$AKN$200,A68))","v":""},{"$f":"IF(A68=\"\",\"\",COUNTIFS(Planning!$AKO$6:$ALR$200,A68))","v":""},{"$f":"IF(A68=\"\",\"\",COUNTIFS(Planning!$ALS$6:$AMW$200,A68))","v":""},{"$f":"IF(A68=\"\",\"\",COUNTIFS(Planning!$AMX$6:$AOB$200,A68))","v":""},{"$f":"IF(A68=\"\",\"\",COUNTIFS(Planning!$AOC$6:$APF$200,A68))","v":""},{"$f":"IF(A68=\"\",\"\",COUNTIFS(Planning!$APG$6:$AQK$200,A68))","v":""},{"$f":"IF(A68=\"\",\"\",COUNTIFS(Planning!$AQL$6:$ARO$200,A68))","v":""},{"$f":"IF(A68=\"\",\"\",COUNTIFS(Planning!$ARP$6:$AST$200,A68))","v":""},{"$f":"IF(A68=\"\",\"\",COUNTIFS(Planning!$ASU$6:$ATY$200,A68))","v":""},{"$f":"IF(A68=\"\",\"\",COUNTIFS(Planning!$ATZ$6:$AVA$200,A68))","v":""},{"$f":"IF(A68=\"\",\"\",COUNTIFS(Planning!$AVB$6:$AWF$200,A68))","v":""},{"$f":"IF(A68=\"\",\"\",COUNTIFS(Planning!$AWG$6:$AXJ$200,A68))","v":""},{"$f":"IF(A68=\"\",\"\",COUNTIFS(Planning!$AXK$6:$AYO$200,A68))","v":""},{"$f":"IF(A68=\"\",\"\",COUNTIFS(Planning!$AYP$6:$AZS$200,A68))","v":""}]
[null,{"$f":"IF(A69=\"\",\"\",COUNTIFS(Planning!$C$6:$AG$200,A69))","v":""},{"$f":"IF(A69=\"\",\"\",COUNTIFS(Planning!$AH$6:$BK$200,A69))","v":""},{"$f":"IF(A69=\"\",\"\",COUNTIFS(Planning!$BL$6:$CP$200,A69))","v":""},{"$f":"IF(A69=\"\",\"\",COUNTIFS(Planning!$CQ$6:$DU$200,A69))","v":""},{"$f":"IF(A69=\"\",\"\",COUNTIFS(Planning!$DV$6:$EW$200,A69))","v":""},{"$f":"IF(A69=\"\",\"\",COUNTIFS(Planning!$EX$6:$GB$200,A69))","v":""},{"$f":"IF(A69=\"\",\"\",COUNTIFS(Planning!$GC$6:$HF$200,A69))","v":""},{"$f":"IF(A69=\"\",\"\",COUNTIFS(Planning!$HG$6:$IK$200,A69))","v":""},{"$f":"IF(A69=\"\",\"\",COUNTIFS(Planning!$IL$6:$JO$200,A69))","v":""},{"$f":"IF(A69=\"\",\"\",COUNTIFS(Planning!$JP$6:$KT$200,A69))","v":""},{"$f":"IF(A69=\"\",\"\",COUNTIFS(Planning!$KU$6:$LY$200,A69))","v":""},{"$f":"IF(A69=\"\",\"\",COUNTIFS(Planning!$LZ$6:$NC$200,A69))","v":""},{"$f":"IF(A69=\"\",\"\",COUNTIFS(Planning!$ND$6:$OH$200,A69))","v":""},{"$f":"IF(A69=\"\",\"\",COUNTIFS(Planning!$OI$6:$PL$200,A69))","v":""},{"$f":"IF(A69=\"\",\"\",COUNTIFS(Planning!$PM$6:$QQ$200,A69))","v":""},{"$f":"IF(A69=\"\",\"\",COUNTIFS(Planning!$QR$6:$RV$200,A69))","v":""},{"$f":"IF(A69=\"\",\"\",COUNTIFS(Planning!$RW$6:$SX$200,A69))","v":""},{"$f":"IF(A69=\"\",\"\",COUNTIFS(Planning!$SY$6:$UC$200,A69))","v":""},{"$f":"IF(A69=\"\",\"\",COUNTIFS(Planning!$UD$6:$VG$200,A69))","v":""},{"$f":"IF(A69=\"\",\"\",COUNTIFS(Planning!$VH$6:$WL$200,A69))","v":""},{"$f":"IF(A69=\"\",\"\",COUNTIFS(Planning!$WM$6:$XP$200,A69))","v":""},{"$f":"IF(A69=\"\",\"\",COUNTIFS(Planning!$XQ$6:$YU$200,A69))","v":""},{"$f":"IF(A69=\"\",\"\",COUNTIFS(Planning!$YV$6:$ZZ$200,A69))","v":""},{"$f":"IF(A69=\"\",\"\",COUNTIFS(Planning!$AAA$6:$ABD$200,A69))","v":""},{"$f":"IF(A69=\"\",\"\",COUNTIFS(Planning!$ABE$6:$ACI$200,A69))","v":""},{"$f":"IF(A69=\"\",\"\",COUNTIFS(Planning!$ACJ$6:$ADM$200,A69))","v":""},{"$f":"IF(A69=\"\",\"\",COUNTIFS(Planning!$ADN$6:$AER$200,A69))","v":""},{"$f":"IF(A69=\"\",\"\",COUNTIFS(Planning!$AES$6:$AFW$200,A69))","v":""},{"$f":"IF(A69=\"\",\"\",COUNTIFS(Planning!$AFX$6:$AGZ$200,A69))","v":""},{"$f":"IF(A69=\"\",\"\",COUNTIFS(Planning!$AHA$6:$AIE$200,A69))","v":""},{"$f":"IF(A69=\"\",\"\",COUNTIFS(Planning!$AIF$6:$AJI$200,A69))","v":""},{"$f":"IF(A69=\"\",\"\",COUNTIFS(Planning!$AJJ$6:$AKN$200,A69))","v":""},{"$f":"IF(A69=\"\",\"\",COUNTIFS(Planning!$AKO$6:$ALR$200,A69))","v":""},{"$f":"IF(A69=\"\",\"\",COUNTIFS(Planning!$ALS$6:$AMW$200,A69))","v":""},{"$f":"IF(A69=\"\",\"\",COUNTIFS(Planning!$AMX$6:$AOB$200,A69))","v":""},{"$f":"IF(A69=\"\",\"\",COUNTIFS(Planning!$AOC$6:$APF$200,A69))","v":""},{"$f":"IF(A69=\"\",\"\",COUNTIFS(Planning!$APG$6:$AQK$200,A69))","v":""},{"$f":"IF(A69=\"\",\"\",COUNTIFS(Planning!$AQL$6:$ARO$200,A69))","v":""},{"$f":"IF(A69=\"\",\"\",COUNTIFS(Planning!$ARP$6:$AST$200,A69))","v":""},{"$f":"IF(A69=\"\",\"\",COUNTIFS(Planning!$ASU$6:$ATY$200,A69))","v":""},{"$f":"IF(A69=\"\",\"\",COUNTIFS(Planning!$ATZ$6:$AVA$200,A69))","v":""},{"$f":"IF(A69=\"\",\"\",COUNTIFS(Planning!$AVB$6:$AWF$200,A69))","v":""},{"$f":"IF(A69=\"\",\"\",COUNTIFS(Planning!$AWG$6:$AXJ$200,A69))","v":""},{"$f":"IF(A69=\"\",\"\",COUNTIFS(Planning!$AXK$6:$AYO$200,A69))","v":""},{"$f":"IF(A69=\"\",\"\",COUNTIFS(Planning!$AYP$6:$AZS$200,A69))","v":""}]
[null,{"$f":"IF(A70=\"\",\"\",COUNTIFS(Planning!$C$6:$AG$200,A70))","v":""},{"$f":"IF(A70=\"\",\"\",COUNTIFS(Planning!$AH$6:$BK$200,A70))","v":""},{"$f":"IF(A70=\"\",\"\",COUNTIFS(Planning!$BL$6:$CP$200,A70))","v":""},{"$f":"IF(A70=\"\",\"\",COUNTIFS(Planning!$CQ$6:$DU$200,A70))","v":""},{"$f":"IF(A70=\"\",\"\",COUNTIFS(Planning!$DV$6:$EW$200,A70))","v":""},{"$f":"IF(A70=\"\",\"\",COUNTIFS(Planning!$EX$6:$GB$200,A70))","v":""},{"$f":"IF(A70=\"\",\"\",COUNTIFS(Planning!$GC$6:$HF$200,A70))","v":""},{"$f":"IF(A70=\"\",\"\",COUNTIFS(Planning!$HG$6:$IK$200,A70))","v":""},{"$f":"IF(A70=\"\",\"\",COUNTIFS(Planning!$IL$6:$JO$200,A70))","v":""},{"$f":"IF(A70=\"\",\"\",COUNTIFS(Planning!$JP$6:$KT$200,A70))","v":""},{"$f":"IF(A70=\"\",\"\",COUNTIFS(Planning!$KU$6:$LY$200,A70))","v":""},{"$f":"IF(A70=\"\",\"\",COUNTIFS(Planning!$LZ$6:$NC$200,A70))","v":""},{"$f":"IF(A70=\"\",\"\",COUNTIFS(Planning!$ND$6:$OH$200,A70))","v":""},{"$f":"IF(A70=\"\",\"\",COUNTIFS(Planning!$OI$6:$PL$200,A70))","v":""},{"$f":"IF(A70=\"\",\"\",COUNTIFS(Planning!$PM$6:$QQ$200,A70))","v":""},{"$f":"IF(A70=\"\",\"\",COUNTIFS(Planning!$QR$6:$RV$200,A70))","v":""},{"$f":"IF(A70=\"\",\"\",COUNTIFS(Planning!$RW$6:$SX$200,A70))","v":""},{"$f":"IF(A70=\"\",\"\",COUNTIFS(Planning!$SY$6:$UC$200,A70))","v":""},{"$f":"IF(A70=\"\",\"\",COUNTIFS(Planning!$UD$6:$VG$200,A70))","v":""},{"$f":"IF(A70=\"\",\"\",COUNTIFS(Planning!$VH$6:$WL$200,A70))","v":""},{"$f":"IF(A70=\"\",\"\",COUNTIFS(Planning!$WM$6:$XP$200,A70))","v":""},{"$f":"IF(A70=\"\",\"\",COUNTIFS(Planning!$XQ$6:$YU$200,A70))","v":""},{"$f":"IF(A70=\"\",\"\",COUNTIFS(Planning!$YV$6:$ZZ$200,A70))","v":""},{"$f":"IF(A70=\"\",\"\",COUNTIFS(Planning!$AAA$6:$ABD$200,A70))","v":""},{"$f":"IF(A70=\"\",\"\",COUNTIFS(Planning!$ABE$6:$ACI$200,A70))","v":""},{"$f":"IF(A70=\"\",\"\",COUNTIFS(Planning!$ACJ$6:$ADM$200,A70))","v":""},{"$f":"IF(A70=\"\",\"\",COUNTIFS(Planning!$ADN$6:$AER$200,A70))","v":""},{"$f":"IF(A70=\"\",\"\",COUNTIFS(Planning!$AES$6:$AFW$200,A70))","v":""},{"$f":"IF(A70=\"\",\"\",COUNTIFS(Planning!$AFX$6:$AGZ$200,A70))","v":""},{"$f":"IF(A70=\"\",\"\",COUNTIFS(Planning!$AHA$6:$AIE$200,A70))","v":""},{"$f":"IF(A70=\"\",\"\",COUNTIFS(Planning!$AIF$6:$AJI$200,A70))","v":""},{"$f":"IF(A70=\"\",\"\",COUNTIFS(Planning!$AJJ$6:$AKN$200,A70))","v":""},{"$f":"IF(A70=\"\",\"\",COUNTIFS(Planning!$AKO$6:$ALR$200,A70))","v":""},{"$f":"IF(A70=\"\",\"\",COUNTIFS(Planning!$ALS$6:$AMW$200,A70))","v":""},{"$f":"IF(A70=\"\",\"\",COUNTIFS(Planning!$AMX$6:$AOB$200,A70))","v":""},{"$f":"IF(A70=\"\",\"\",COUNTIFS(Planning!$AOC$6:$APF$200,A70))","v":""},{"$f":"IF(A70=\"\",\"\",COUNTIFS(Planning!$APG$6:$AQK$200,A70))","v":""},{"$f":"IF(A70=\"\",\"\",COUNTIFS(Planning!$AQL$6:$ARO$200,A70))","v":""},{"$f":"IF(A70=\"\",\"\",COUNTIFS(Planning!$ARP$6:$AST$200,A70))","v":""},{"$f":"IF(A70=\"\",\"\",COUNTIFS(Planning!$ASU$6:$ATY$200,A70))","v":""},{"$f":"IF(A70=\"\",\"\",COUNTIFS(Planning!$ATZ$6:$AVA$200,A70))","v":""},{"$f":"IF(A70=\"\",\"\",COUNTIFS(Planning!$AVB$6:$AWF$200,A70))","v":""},{"$f":"IF(A70=\"\",\"\",COUNTIFS(Planning!$AWG$6:$AXJ$200,A70))","v":""},{"$f":"IF(A70=\"\",\"\",COUNTIFS(Planning!$AXK$6:$AYO$200,A70))","v":""},{"$f":"IF(A70=\"\",\"\",COUNTIFS(Planning!$AYP$6:$AZS$200,A70))","v":""}]
[null,{"$f":"IF(A71=\"\",\"\",COUNTIFS(Planning!$C$6:$AG$200,A71))","v":""},{"$f":"IF(A71=\"\",\"\",COUNTIFS(Planning!$AH$6:$BK$200,A71))","v":""},{"$f":"IF(A71=\"\",\"\",COUNTIFS(Planning!$BL$6:$CP$200,A71))","v":""},{"$f":"IF(A71=\"\",\"\",COUNTIFS(Planning!$CQ$6:$DU$200,A71))","v":""},{"$f":"IF(A71=\"\",\"\",COUNTIFS(Planning!$DV$6:$EW$200,A71))","v":""},{"$f":"IF(A71=\"\",\"\",COUNTIFS(Planning!$EX$6:$GB$200,A71))","v":""},{"$f":"IF(A71=\"\",\"\",COUNTIFS(Planning!$GC$6:$HF$200,A71))","v":""},{"$f":"IF(A71=\"\",\"\",COUNTIFS(Planning!$HG$6:$IK$200,A71))","v":""},{"$f":"IF(A71=\"\",\"\",COUNTIFS(Planning!$IL$6:$JO$200,A71))","v":""},{"$f":"IF(A71=\"\",\"\",COUNTIFS(Planning!$JP$6:$KT$200,A71))","v":""},{"$f":"IF(A71=\"\",\"\",COUNTIFS(Planning!$KU$6:$LY$200,A71))","v":""},{"$f":"IF(A71=\"\",\"\",COUNTIFS(Planning!$LZ$6:$NC$200,A71))","v":""},{"$f":"IF(A71=\"\",\"\",COUNTIFS(Planning!$ND$6:$OH$200,A71))","v":""},{"$f":"IF(A71=\"\",\"\",COUNTIFS(Planning!$OI$6:$PL$200,A71))","v":""},{"$f":"IF(A71=\"\",\"\",COUNTIFS(Planning!$PM$6:$QQ$200,A71))","v":""},{"$f":"IF(A71=\"\",\"\",COUNTIFS(Planning!$QR$6:$RV$200,A71))","v":""},{"$f":"IF(A71=\"\",\"\",COUNTIFS(Planning!$RW$6:$SX$200,A71))","v":""},{"$f":"IF(A71=\"\",\"\",COUNTIFS(Planning!$SY$6:$UC$200,A71))","v":""},{"$f":"IF(A71=\"\",\"\",COUNTIFS(Planning!$UD$6:$VG$200,A71))","v":""},{"$f":"IF(A71=\"\",\"\",COUNTIFS(Planning!$VH$6:$WL$200,A71))","v":""},{"$f":"IF(A71=\"\",\"\",COUNTIFS(Planning!$WM$6:$XP$200,A71))","v":""},{"$f":"IF(A71=\"\",\"\",COUNTIFS(Planning!$XQ$6:$YU$200,A71))","v":""},{"$f":"IF(A71=\"\",\"\",COUNTIFS(Planning!$YV$6:$ZZ$200,A71))","v":""},{"$f":"IF(A71=\"\",\"\",COUNTIFS(Planning!$AAA$6:$ABD$200,A71))","v":""},{"$f":"IF(A71=\"\",\"\",COUNTIFS(Planning!$ABE$6:$ACI$200,A71))","v":""},{"$f":"IF(A71=\"\",\"\",COUNTIFS(Planning!$ACJ$6:$ADM$200,A71))","v":""},{"$f":"IF(A71=\"\",\"\",COUNTIFS(Planning!$ADN$6:$AER$200,A71))","v":""},{"$f":"IF(A71=\"\",\"\",COUNTIFS(Planning!$AES$6:$AFW$200,A71))","v":""},{"$f":"IF(A71=\"\",\"\",COUNTIFS(Planning!$AFX$6:$AGZ$200,A71))","v":""},{"$f":"IF(A71=\"\",\"\",COUNTIFS(Planning!$AHA$6:$AIE$200,A71))","v":""},{"$f":"IF(A71=\"\",\"\",COUNTIFS(Planning!$AIF$6:$AJI$200,A71))","v":""},{"$f":"IF(A71=\"\",\"\",COUNTIFS(Planning!$AJJ$6:$AKN$200,A71))","v":""},{"$f":"IF(A71=\"\",\"\",COUNTIFS(Planning!$AKO$6:$ALR$200,A71))","v":""},{"$f":"IF(A71=\"\",\"\",COUNTIFS(Planning!$ALS$6:$AMW$200,A71))","v":""},{"$f":"IF(A71=\"\",\"\",COUNTIFS(Planning!$AMX$6:$AOB$200,A71))","v":""},{"$f":"IF(A71=\"\",\"\",COUNTIFS(Planning!$AOC$6:$APF$200,A71))","v":""},{"$f":"IF(A71=\"\",\"\",COUNTIFS(Planning!$APG$6:$AQK$200,A71))","v":""},{"$f":"IF(A71=\"\",\"\",COUNTIFS(Planning!$AQL$6:$ARO$200,A71))","v":""},{"$f":"IF(A71=\"\",\"\",COUNTIFS(Planning!$ARP$6:$AST$200,A71))","v":""},{"$f":"IF(A71=\"\",\"\",COUNTIFS(Planning!$ASU$6:$ATY$200,A71))","v":""},{"$f":"IF(A71=\"\",\"\",COUNTIFS(Planning!$ATZ$6:$AVA$200,A71))","v":""},{"$f":"IF(A71=\"\",\"\",COUNTIFS(Planning!$AVB$6:$AWF$200,A71))","v":""},{"$f":"IF(A71=\"\",\"\",COUNTIFS(Planning!$AWG$6:$AXJ$200,A71))","v":""},{"$f":"IF(A71=\"\",\"\",COUNTIFS(Planning!$AXK$6:$AYO$200,A71))","v":""},{"$f":"IF(A71=\"\",\"\",COUNTIFS(Planning!$AYP$6:$AZS$200,A71))","v":""}]
[null,{"$f":"IF(A72=\"\",\"\",COUNTIFS(Planning!$C$6:$AG$200,A72))","v":""},{"$f":"IF(A72=\"\",\"\",COUNTIFS(Planning!$AH$6:$BK$200,A72))","v":""},{"$f":"IF(A72=\"\",\"\",COUNTIFS(Planning!$BL$6:$CP$200,A72))","v":""},{"$f":"IF(A72=\"\",\"\",COUNTIFS(Planning!$CQ$6:$DU$200,A72))","v":""},{"$f":"IF(A72=\"\",\"\",COUNTIFS(Planning!$DV$6:$EW$200,A72))","v":""},{"$f":"IF(A72=\"\",\"\",COUNTIFS(Planning!$EX$6:$GB$200,A72))","v":""},{"$f":"IF(A72=\"\",\"\",COUNTIFS(Planning!$GC$6:$HF$200,A72))","v":""},{"$f":"IF(A72=\"\",\"\",COUNTIFS(Planning!$HG$6:$IK$200,A72))","v":""},{"$f":"IF(A72=\"\",\"\",COUNTIFS(Planning!$IL$6:$JO$200,A72))","v":""},{"$f":"IF(A72=\"\",\"\",COUNTIFS(Planning!$JP$6:$KT$200,A72))","v":""},{"$f":"IF(A72=\"\",\"\",COUNTIFS(Planning!$KU$6:$LY$200,A72))","v":""},{"$f":"IF(A72=\"\",\"\",COUNTIFS(Planning!$LZ$6:$NC$200,A72))","v":""},{"$f":"IF(A72=\"\",\"\",COUNTIFS(Planning!$ND$6:$OH$200,A72))","v":""},{"$f":"IF(A72=\"\",\"\",COUNTIFS(Planning!$OI$6:$PL$200,A72))","v":""},{"$f":"IF(A72=\"\",\"\",COUNTIFS(Planning!$PM$6:$QQ$200,A72))","v":""},{"$f":"IF(A72=\"\",\"\",COUNTIFS(Planning!$QR$6:$RV$200,A72))","v":""},{"$f":"IF(A72=\"\",\"\",COUNTIFS(Planning!$RW$6:$SX$200,A72))","v":""},{"$f":"IF(A72=\"\",\"\",COUNTIFS(Planning!$SY$6:$UC$200,A72))","v":""},{"$f":"IF(A72=\"\",\"\",COUNTIFS(Planning!$UD$6:$VG$200,A72))","v":""},{"$f":"IF(A72=\"\",\"\",COUNTIFS(Planning!$VH$6:$WL$200,A72))","v":""},{"$f":"IF(A72=\"\",\"\",COUNTIFS(Planning!$WM$6:$XP$200,A72))","v":""},{"$f":"IF(A72=\"\",\"\",COUNTIFS(Planning!$XQ$6:$YU$200,A72))","v":""},{"$f":"IF(A72=\"\",\"\",COUNTIFS(Planning!$YV$6:$ZZ$200,A72))","v":""},{"$f":"IF(A72=\"\",\"\",COUNTIFS(Planning!$AAA$6:$ABD$200,A72))","v":""},{"$f":"IF(A72=\"\",\"\",COUNTIFS(Planning!$ABE$6:$ACI$200,A72))","v":""},{"$f":"IF(A72=\"\",\"\",COUNTIFS(Planning!$ACJ$6:$ADM$200,A72))","v":""},{"$f":"IF(A72=\"\",\"\",COUNTIFS(Planning!$ADN$6:$AER$200,A72))","v":""},{"$f":"IF(A72=\"\",\"\",COUNTIFS(Planning!$AES$6:$AFW$200,A72))","v":""},{"$f":"IF(A72=\"\",\"\",COUNTIFS(Planning!$AFX$6:$AGZ$200,A72))","v":""},{"$f":"IF(A72=\"\",\"\",COUNTIFS(Planning!$AHA$6:$AIE$200,A72))","v":""},{"$f":"IF(A72=\"\",\"\",COUNTIFS(Planning!$AIF$6:$AJI$200,A72))","v":""},{"$f":"IF(A72=\"\",\"\",COUNTIFS(Planning!$AJJ$6:$AKN$200,A72))","v":""},{"$f":"IF(A72=\"\",\"\",COUNTIFS(Planning!$AKO$6:$ALR$200,A72))","v":""},{"$f":"IF(A72=\"\",\"\",COUNTIFS(Planning!$ALS$6:$AMW$200,A72))","v":""},{"$f":"IF(A72=\"\",\"\",COUNTIFS(Planning!$AMX$6:$AOB$200,A72))","v":""},{"$f":"IF(A72=\"\",\"\",COUNTIFS(Planning!$AOC$6:$APF$200,A72))","v":""},{"$f":"IF(A72=\"\",\"\",COUNTIFS(Planning!$APG$6:$AQK$200,A72))","v":""},{"$f":"IF(A72=\"\",\"\",COUNTIFS(Planning!$AQL$6:$ARO$200,A72))","v":""},{"$f":"IF(A72=\"\",\"\",COUNTIFS(Planning!$ARP$6:$AST$200,A72))","v":""},{"$f":"IF(A72=\"\",\"\",COUNTIFS(Planning!$ASU$6:$ATY$200,A72))","v":""},{"$f":"IF(A72=\"\",\"\",COUNTIFS(Planning!$ATZ$6:$AVA$200,A72))","v":""},{"$f":"IF(A72=\"\",\"\",COUNTIFS(Planning!$AVB$6:$AWF$200,A72))","v":""},{"$f":"IF(A72=\"\",\"\",COUNTIFS(Planning!$AWG$6:$AXJ$200,A72))","v":""},{"$f":"IF(A72=\"\",\"\",COUNTIFS(Planning!$AXK$6:$AYO$200,A72))","v":""},{"$f":"IF(A72=\"\",\"\",COUNTIFS(Planning!$AYP$6:$AZS$200,A72))","v":""}]
[null,{"$f":"IF(A73=\"\",\"\",COUNTIFS(Planning!$C$6:$AG$200,A73))","v":""},{"$f":"IF(A73=\"\",\"\",COUNTIFS(Planning!$AH$6:$BK$200,A73))","v":""},{"$f":"IF(A73=\"\",\"\",COUNTIFS(Planning!$BL$6:$CP$200,A73))","v":""},{"$f":"IF(A73=\"\",\"\",COUNTIFS(Planning!$CQ$6:$DU$200,A73))","v":""},{"$f":"IF(A73=\"\",\"\",COUNTIFS(Planning!$DV$6:$EW$200,A73))","v":""},{"$f":"IF(A73=\"\",\"\",COUNTIFS(Planning!$EX$6:$GB$200,A73))","v":""},{"$f":"IF(A73=\"\",\"\",COUNTIFS(Planning!$GC$6:$HF$200,A73))","v":""},{"$f":"IF(A73=\"\",\"\",COUNTIFS(Planning!$HG$6:$IK$200,A73))","v":""},{"$f":"IF(A73=\"\",\"\",COUNTIFS(Planning!$IL$6:$JO$200,A73))","v":""},{"$f":"IF(A73=\"\",\"\",COUNTIFS(Planning!$JP$6:$KT$200,A73))","v":""},{"$f":"IF(A73=\"\",\"\",COUNTIFS(Planning!$KU$6:$LY$200,A73))","v":""},{"$f":"IF(A73=\"\",\"\",COUNTIFS(Planning!$LZ$6:$NC$200,A73))","v":""},{"$f":"IF(A73=\"\",\"\",COUNTIFS(Planning!$ND$6:$OH$200,A73))","v":""},{"$f":"IF(A73=\"\",\"\",COUNTIFS(Planning!$OI$6:$PL$200,A73))","v":""},{"$f":"IF(A73=\"\",\"\",COUNTIFS(Planning!$PM$6:$QQ$200,A73))","v":""},{"$f":"IF(A73=\"\",\"\",COUNTIFS(Planning!$QR$6:$RV$200,A73))","v":""},{"$f":"IF(A73=\"\",\"\",COUNTIFS(Planning!$RW$6:$SX$200,A73))","v":""},{"$f":"IF(A73=\"\",\"\",COUNTIFS(Planning!$SY$6:$UC$200,A73))","v":""},{"$f":"IF(A73=\"\",\"\",COUNTIFS(Planning!$UD$6:$VG$200,A73))","v":""},{"$f":"IF(A73=\"\",\"\",COUNTIFS(Planning!$VH$6:$WL$200,A73))","v":""},{"$f":"IF(A73=\"\",\"\",COUNTIFS(Planning!$WM$6:$XP$200,A73))","v":""},{"$f":"IF(A73=\"\",\"\",COUNTIFS(Planning!$XQ$6:$YU$200,A73))","v":""},{"$f":"IF(A73=\"\",\"\",COUNTIFS(Planning!$YV$6:$ZZ$200,A73))","v":""},{"$f":"IF(A73=\"\",\"\",COUNTIFS(Planning!$AAA$6:$ABD$200,A73))","v":""},{"$f":"IF(A73=\"\",\"\",COUNTIFS(Planning!$ABE$6:$ACI$200,A73))","v":""},{"$f":"IF(A73=\"\",\"\",COUNTIFS(Planning!$ACJ$6:$ADM$200,A73))","v":""},{"$f":"IF(A73=\"\",\"\",COUNTIFS(Planning!$ADN$6:$AER$200,A73))","v":""},{"$f":"IF(A73=\"\",\"\",COUNTIFS(Planning!$AES$6:$AFW$200,A73))","v":""},{"$f":"IF(A73=\"\",\"\",COUNTIFS(Planning!$AFX$6:$AGZ$200,A73))","v":""},{"$f":"IF(A73=\"\",\"\",COUNTIFS(Planning!$AHA$6:$AIE$200,A73))","v":""},{"$f":"IF(A73=\"\",\"\",COUNTIFS(Planning!$AIF$6:$AJI$200,A73))","v":""},{"$f":"IF(A73=\"\",\"\",COUNTIFS(Planning!$AJJ$6:$AKN$200,A73))","v":""},{"$f":"IF(A73=\"\",\"\",COUNTIFS(Planning!$AKO$6:$ALR$200,A73))","v":""},{"$f":"IF(A73=\"\",\"\",COUNTIFS(Planning!$ALS$6:$AMW$200,A73))","v":""},{"$f":"IF(A73=\"\",\"\",COUNTIFS(Planning!$AMX$6:$AOB$200,A73))","v":""},{"$f":"IF(A73=\"\",\"\",COUNTIFS(Planning!$AOC$6:$APF$200,A73))","v":""},{"$f":"IF(A73=\"\",\"\",COUNTIFS(Planning!$APG$6:$AQK$200,A73))","v":""},{"$f":"IF(A73=\"\",\"\",COUNTIFS(Planning!$AQL$6:$ARO$200,A73))","v":""},{"$f":"IF(A73=\"\",\"\",COUNTIFS(Planning!$ARP$6:$AST$200,A73))","v":""},{"$f":"IF(A73=\"\",\"\",COUNTIFS(Planning!$ASU$6:$ATY$200,A73))","v":""},{"$f":"IF(A73=\"\",\"\",COUNTIFS(Planning!$ATZ$6:$AVA$200,A73))","v":""},{"$f":"IF(A73=\"\",\"\",COUNTIFS(Planning!$AVB$6:$AWF$200,A73))","v":""},{"$f":"IF(A73=\"\",\"\",COUNTIFS(Planning!$AWG$6:$AXJ$200,A73))","v":""},{"$f":"IF(A73=\"\",\"\",COUNTIFS(Planning!$AXK$6:$AYO$200,A73))","v":""},{"$f":"IF(A73=\"\",\"\",COUNTIFS(Planning!$AYP$6:$AZS$200,A73))","v":""}]
[null,{"$f":"IF(A74=\"\",\"\",COUNTIFS(Planning!$C$6:$AG$200,A74))","v":""},{"$f":"IF(A74=\"\",\"\",COUNTIFS(Planning!$AH$6:$BK$200,A74))","v":""},{"$f":"IF(A74=\"\",\"\",COUNTIFS(Planning!$BL$6:$CP$200,A74))","v":""},{"$f":"IF(A74=\"\",\"\",COUNTIFS(Planning!$CQ$6:$DU$200,A74))","v":""},{"$f":"IF(A74=\"\",\"\",COUNTIFS(Planning!$DV$6:$EW$200,A74))","v":""},{"$f":"IF(A74=\"\",\"\",COUNTIFS(Planning!$EX$6:$GB$200,A74))","v":""},{"$f":"IF(A74=\"\",\"\",COUNTIFS(Planning!$GC$6:$HF$200,A74))","v":""},{"$f":"IF(A74=\"\",\"\",COUNTIFS(Planning!$HG$6:$IK$200,A74))","v":""},{"$f":"IF(A74=\"\",\"\",COUNTIFS(Planning!$IL$6:$JO$200,A74))","v":""},{"$f":"IF(A74=\"\",\"\",COUNTIFS(Planning!$JP$6:$KT$200,A74))","v":""},{"$f":"IF(A74=\"\",\"\",COUNTIFS(Planning!$KU$6:$LY$200,A74))","v":""},{"$f":"IF(A74=\"\",\"\",COUNTIFS(Planning!$LZ$6:$NC$200,A74))","v":""},{"$f":"IF(A74=\"\",\"\",COUNTIFS(Planning!$ND$6:$OH$200,A74))","v":""},{"$f":"IF(A74=\"\",\"\",COUNTIFS(Planning!$OI$6:$PL$200,A74))","v":""},{"$f":"IF(A74=\"\",\"\",COUNTIFS(Planning!$PM$6:$QQ$200,A74))","v":""},{"$f":"IF(A74=\"\",\"\",COUNTIFS(Planning!$QR$6:$RV$200,A74))","v":""},{"$f":"IF(A74=\"\",\"\",COUNTIFS(Planning!$RW$6:$SX$200,A74))","v":""},{"$f":"IF(A74=\"\",\"\",COUNTIFS(Planning!$SY$6:$UC$200,A74))","v":""},{"$f":"IF(A74=\"\",\"\",COUNTIFS(Planning!$UD$6:$VG$200,A74))","v":""},{"$f":"IF(A74=\"\",\"\",COUNTIFS(Planning!$VH$6:$WL$200,A74))","v":""},{"$f":"IF(A74=\"\",\"\",COUNTIFS(Planning!$WM$6:$XP$200,A74))","v":""},{"$f":"IF(A74=\"\",\"\",COUNTIFS(Planning!$XQ$6:$YU$200,A74))","v":""},{"$f":"IF(A74=\"\",\"\",COUNTIFS(Planning!$YV$6:$ZZ$200,A74))","v":""},{"$f":"IF(A74=\"\",\"\",COUNTIFS(Planning!$AAA$6:$ABD$200,A74))","v":""},{"$f":"IF(A74=\"\",\"\",COUNTIFS(Planning!$ABE$6:$ACI$200,A74))","v":""},{"$f":"IF(A74=\"\",\"\",COUNTIFS(Planning!$ACJ$6:$ADM$200,A74))","v":""},{"$f":"IF(A74=\"\",\"\",COUNTIFS(Planning!$ADN$6:$AER$200,A74))","v":""},{"$f":"IF(A74=\"\",\"\",COUNTIFS(Planning!$AES$6:$AFW$200,A74))","v":""},{"$f":"IF(A74=\"\",\"\",COUNTIFS(Planning!$AFX$6:$AGZ$200,A74))","v":""},{"$f":"IF(A74=\"\",\"\",COUNTIFS(Planning!$AHA$6:$AIE$200,A74))","v":""},{"$f":"IF(A74=\"\",\"\",COUNTIFS(Planning!$AIF$6:$AJI$200,A74))","v":""},{"$f":"IF(A74=\"\",\"\",COUNTIFS(Planning!$AJJ$6:$AKN$200,A74))","v":""},{"$f":"IF(A74=\"\",\"\",COUNTIFS(Planning!$AKO$6:$ALR$200,A74))","v":""},{"$f":"IF(A74=\"\",\"\",COUNTIFS(Planning!$ALS$6:$AMW$200,A74))","v":""},{"$f":"IF(A74=\"\",\"\",COUNTIFS(Planning!$AMX$6:$AOB$200,A74))","v":""},{"$f":"IF(A74=\"\",\"\",COUNTIFS(Planning!$AOC$6:$APF$200,A74))","v":""},{"$f":"IF(A74=\"\",\"\",COUNTIFS(Planning!$APG$6:$AQK$200,A74))","v":""},{"$f":"IF(A74=\"\",\"\",COUNTIFS(Planning!$AQL$6:$ARO$200,A74))","v":""},{"$f":"IF(A74=\"\",\"\",COUNTIFS(Planning!$ARP$6:$AST$200,A74))","v":""},{"$f":"IF(A74=\"\",\"\",COUNTIFS(Planning!$ASU$6:$ATY$200,A74))","v":""},{"$f":"IF(A74=\"\",\"\",COUNTIFS(Planning!$ATZ$6:$AVA$200,A74))","v":""},{"$f":"IF(A74=\"\",\"\",COUNTIFS(Planning!$AVB$6:$AWF$200,A74))","v":""},{"$f":"IF(A74=\"\",\"\",COUNTIFS(Planning!$AWG$6:$AXJ$200,A74))","v":""},{"$f":"IF(A74=\"\",\"\",COUNTIFS(Planning!$AXK$6:$AYO$200,A74))","v":""},{"$f":"IF(A74=\"\",\"\",COUNTIFS(Planning!$AYP$6:$AZS$200,A74))","v":""}]
[null,{"$f":"IF(A75=\"\",\"\",COUNTIFS(Planning!$C$6:$AG$200,A75))","v":""},{"$f":"IF(A75=\"\",\"\",COUNTIFS(Planning!$AH$6:$BK$200,A75))","v":""},{"$f":"IF(A75=\"\",\"\",COUNTIFS(Planning!$BL$6:$CP$200,A75))","v":""},{"$f":"IF(A75=\"\",\"\",COUNTIFS(Planning!$CQ$6:$DU$200,A75))","v":""},{"$f":"IF(A75=\"\",\"\",COUNTIFS(Planning!$DV$6:$EW$200,A75))","v":""},{"$f":"IF(A75=\"\",\"\",COUNTIFS(Planning!$EX$6:$GB$200,A75))","v":""},{"$f":"IF(A75=\"\",\"\",COUNTIFS(Planning!$GC$6:$HF$200,A75))","v":""},{"$f":"IF(A75=\"\",\"\",COUNTIFS(Planning!$HG$6:$IK$200,A75))","v":""},{"$f":"IF(A75=\"\",\"\",COUNTIFS(Planning!$IL$6:$JO$200,A75))","v":""},{"$f":"IF(A75=\"\",\"\",COUNTIFS(Planning!$JP$6:$KT$200,A75))","v":""},{"$f":"IF(A75=\"\",\"\",COUNTIFS(Planning!$KU$6:$LY$200,A75))","v":""},{"$f":"IF(A75=\"\",\"\",COUNTIFS(Planning!$LZ$6:$NC$200,A75))","v":""},{"$f":"IF(A75=\"\",\"\",COUNTIFS(Planning!$ND$6:$OH$200,A75))","v":""},{"$f":"IF(A75=\"\",\"\",COUNTIFS(Planning!$OI$6:$PL$200,A75))","v":""},{"$f":"IF(A75=\"\",\"\",COUNTIFS(Planning!$PM$6:$QQ$200,A75))","v":""},{"$f":"IF(A75=\"\",\"\",COUNTIFS(Planning!$QR$6:$RV$200,A75))","v":""},{"$f":"IF(A75=\"\",\"\",COUNTIFS(Planning!$RW$6:$SX$200,A75))","v":""},{"$f":"IF(A75=\"\",\"\",COUNTIFS(Planning!$SY$6:$UC$200,A75))","v":""},{"$f":"IF(A75=\"\",\"\",COUNTIFS(Planning!$UD$6:$VG$200,A75))","v":""},{"$f":"IF(A75=\"\",\"\",COUNTIFS(Planning!$VH$6:$WL$200,A75))","v":""},{"$f":"IF(A75=\"\",\"\",COUNTIFS(Planning!$WM$6:$XP$200,A75))","v":""},{"$f":"IF(A75=\"\",\"\",COUNTIFS(Planning!$XQ$6:$YU$200,A75))","v":""},{"$f":"IF(A75=\"\",\"\",COUNTIFS(Planning!$YV$6:$ZZ$200,A75))","v":""},{"$f":"IF(A75=\"\",\"\",COUNTIFS(Planning!$AAA$6:$ABD$200,A75))","v":""},{"$f":"IF(A75=\"\",\"\",COUNTIFS(Planning!$ABE$6:$ACI$200,A75))","v":""},{"$f":"IF(A75=\"\",\"\",COUNTIFS(Planning!$ACJ$6:$ADM$200,A75))","v":""},{"$f":"IF(A75=\"\",\"\",COUNTIFS(Planning!$ADN$6:$AER$200,A75))","v":""},{"$f":"IF(A75=\"\",\"\",COUNTIFS(Planning!$AES$6:$AFW$200,A75))","v":""},{"$f":"IF(A75=\"\",\"\",COUNTIFS(Planning!$AFX$6:$AGZ$200,A75))","v":""},{"$f":"IF(A75=\"\",\"\",COUNTIFS(Planning!$AHA$6:$AIE$200,A75))","v":""},{"$f":"IF(A75=\"\",\"\",COUNTIFS(Planning!$AIF$6:$AJI$200,A75))","v":""},{"$f":"IF(A75=\"\",\"\",COUNTIFS(Planning!$AJJ$6:$AKN$200,A75))","v":""},{"$f":"IF(A75=\"\",\"\",COUNTIFS(Planning!$AKO$6:$ALR$200,A75))","v":""},{"$f":"IF(A75=\"\",\"\",COUNTIFS(Planning!$ALS$6:$AMW$200,A75))","v":""},{"$f":"IF(A75=\"\",\"\",COUNTIFS(Planning!$AMX$6:$AOB$200,A75))","v":""},{"$f":"IF(A75=\"\",\"\",COUNTIFS(Planning!$AOC$6:$APF$200,A75))","v":""},{"$f":"IF(A75=\"\",\"\",COUNTIFS(Planning!$APG$6:$AQK$200,A75))","v":""},{"$f":"IF(A75=\"\",\"\",COUNTIFS(Planning!$AQL$6:$ARO$200,A75))","v":""},{"$f":"IF(A75=\"\",\"\",COUNTIFS(Planning!$ARP$6:$AST$200,A75))","v":""},{"$f":"IF(A75=\"\",\"\",COUNTIFS(Planning!$ASU$6:$ATY$200,A75))","v":""},{"$f":"IF(A75=\"\",\"\",COUNTIFS(Planning!$ATZ$6:$AVA$200,A75))","v":""},{"$f":"IF(A75=\"\",\"\",COUNTIFS(Planning!$AVB$6:$AWF$200,A75))","v":""},{"$f":"IF(A75=\"\",\"\",COUNTIFS(Planning!$AWG$6:$AXJ$200,A75))","v":""},{"$f":"IF(A75=\"\",\"\",COUNTIFS(Planning!$AXK$6:$AYO$200,A75))","v":""},{"$f":"IF(A75=\"\",\"\",COUNTIFS(Planning!$AYP$6:$AZS$200,A75))","v":""}]
[null,{"$f":"IF(A76=\"\",\"\",COUNTIFS(Planning!$C$6:$AG$200,A76))","v":""},{"$f":"IF(A76=\"\",\"\",COUNTIFS(Planning!$AH$6:$BK$200,A76))","v":""},{"$f":"IF(A76=\"\",\"\",COUNTIFS(Planning!$BL$6:$CP$200,A76))","v":""},{"$f":"IF(A76=\"\",\"\",COUNTIFS(Planning!$CQ$6:$DU$200,A76))","v":""},{"$f":"IF(A76=\"\",\"\",COUNTIFS(Planning!$DV$6:$EW$200,A76))","v":""},{"$f":"IF(A76=\"\",\"\",COUNTIFS(Planning!$EX$6:$GB$200,A76))","v":""},{"$f":"IF(A76=\"\",\"\",COUNTIFS(Planning!$GC$6:$HF$200,A76))","v":""},{"$f":"IF(A76=\"\",\"\",COUNTIFS(Planning!$HG$6:$IK$200,A76))","v":""},{"$f":"IF(A76=\"\",\"\",COUNTIFS(Planning!$IL$6:$JO$200,A76))","v":""},{"$f":"IF(A76=\"\",\"\",COUNTIFS(Planning!$JP$6:$KT$200,A76))","v":""},{"$f":"IF(A76=\"\",\"\",COUNTIFS(Planning!$KU$6:$LY$200,A76))","v":""},{"$f":"IF(A76=\"\",\"\",COUNTIFS(Planning!$LZ$6:$NC$200,A76))","v":""},{"$f":"IF(A76=\"\",\"\",COUNTIFS(Planning!$ND$6:$OH$200,A76))","v":""},{"$f":"IF(A76=\"\",\"\",COUNTIFS(Planning!$OI$6:$PL$200,A76))","v":""},{"$f":"IF(A76=\"\",\"\",COUNTIFS(Planning!$PM$6:$QQ$200,A76))","v":""},{"$f":"IF(A76=\"\",\"\",COUNTIFS(Planning!$QR$6:$RV$200,A76))","v":""},{"$f":"IF(A76=\"\",\"\",COUNTIFS(Planning!$RW$6:$SX$200,A76))","v":""},{"$f":"IF(A76=\"\",\"\",COUNTIFS(Planning!$SY$6:$UC$200,A76))","v":""},{"$f":"IF(A76=\"\",\"\",COUNTIFS(Planning!$UD$6:$VG$200,A76))","v":""},{"$f":"IF(A76=\"\",\"\",COUNTIFS(Planning!$VH$6:$WL$200,A76))","v":""},{"$f":"IF(A76=\"\",\"\",COUNTIFS(Planning!$WM$6:$XP$200,A76))","v":""},{"$f":"IF(A76=\"\",\"\",COUNTIFS(Planning!$XQ$6:$YU$200,A76))","v":""},{"$f":"IF(A76=\"\",\"\",COUNTIFS(Planning!$YV$6:$ZZ$200,A76))","v":""},{"$f":"IF(A76=\"\",\"\",COUNTIFS(Planning!$AAA$6:$ABD$200,A76))","v":""},{"$f":"IF(A76=\"\",\"\",COUNTIFS(Planning!$ABE$6:$ACI$200,A76))","v":""},{"$f":"IF(A76=\"\",\"\",COUNTIFS(Planning!$ACJ$6:$ADM$200,A76))","v":""},{"$f":"IF(A76=\"\",\"\",COUNTIFS(Planning!$ADN$6:$AER$200,A76))","v":""},{"$f":"IF(A76=\"\",\"\",COUNTIFS(Planning!$AES$6:$AFW$200,A76))","v":""},{"$f":"IF(A76=\"\",\"\",COUNTIFS(Planning!$AFX$6:$AGZ$200,A76))","v":""},{"$f":"IF(A76=\"\",\"\",COUNTIFS(Planning!$AHA$6:$AIE$200,A76))","v":""},{"$f":"IF(A76=\"\",\"\",COUNTIFS(Planning!$AIF$6:$AJI$200,A76))","v":""},{"$f":"IF(A76=\"\",\"\",COUNTIFS(Planning!$AJJ$6:$AKN$200,A76))","v":""},{"$f":"IF(A76=\"\",\"\",COUNTIFS(Planning!$AKO$6:$ALR$200,A76))","v":""},{"$f":"IF(A76=\"\",\"\",COUNTIFS(Planning!$ALS$6:$AMW$200,A76))","v":""},{"$f":"IF(A76=\"\",\"\",COUNTIFS(Planning!$AMX$6:$AOB$200,A76))","v":""},{"$f":"IF(A76=\"\",\"\",COUNTIFS(Planning!$AOC$6:$APF$200,A76))","v":""},{"$f":"IF(A76=\"\",\"\",COUNTIFS(Planning!$APG$6:$AQK$200,A76))","v":""},{"$f":"IF(A76=\"\",\"\",COUNTIFS(Planning!$AQL$6:$ARO$200,A76))","v":""},{"$f":"IF(A76=\"\",\"\",COUNTIFS(Planning!$ARP$6:$AST$200,A76))","v":""},{"$f":"IF(A76=\"\",\"\",COUNTIFS(Planning!$ASU$6:$ATY$200,A76))","v":""},{"$f":"IF(A76=\"\",\"\",COUNTIFS(Planning!$ATZ$6:$AVA$200,A76))","v":""},{"$f":"IF(A76=\"\",\"\",COUNTIFS(Planning!$AVB$6:$AWF$200,A76))","v":""},{"$f":"IF(A76=\"\",\"\",COUNTIFS(Planning!$AWG$6:$AXJ$200,A76))","v":""},{"$f":"IF(A76=\"\",\"\",COUNTIFS(Planning!$AXK$6:$AYO$200,A76))","v":""},{"$f":"IF(A76=\"\",\"\",COUNTIFS(Planning!$AYP$6:$AZS$200,A76))","v":""}]
[null,{"$f":"IF(A77=\"\",\"\",COUNTIFS(Planning!$C$6:$AG$200,A77))","v":""},{"$f":"IF(A77=\"\",\"\",COUNTIFS(Planning!$AH$6:$BK$200,A77))","v":""},{"$f":"IF(A77=\"\",\"\",COUNTIFS(Planning!$BL$6:$CP$200,A77))","v":""},{"$f":"IF(A77=\"\",\"\",COUNTIFS(Planning!$CQ$6:$DU$200,A77))","v":""},{"$f":"IF(A77=\"\",\"\",COUNTIFS(Planning!$DV$6:$EW$200,A77))","v":""},{"$f":"IF(A77=\"\",\"\",COUNTIFS(Planning!$EX$6:$GB$200,A77))","v":""},{"$f":"IF(A77=\"\",\"\",COUNTIFS(Planning!$GC$6:$HF$200,A77))","v":""},{"$f":"IF(A77=\"\",\"\",COUNTIFS(Planning!$HG$6:$IK$200,A77))","v":""},{"$f":"IF(A77=\"\",\"\",COUNTIFS(Planning!$IL$6:$JO$200,A77))","v":""},{"$f":"IF(A77=\"\",\"\",COUNTIFS(Planning!$JP$6:$KT$200,A77))","v":""},{"$f":"IF(A77=\"\",\"\",COUNTIFS(Planning!$KU$6:$LY$200,A77))","v":""},{"$f":"IF(A77=\"\",\"\",COUNTIFS(Planning!$LZ$6:$NC$200,A77))","v":""},{"$f":"IF(A77=\"\",\"\",COUNTIFS(Planning!$ND$6:$OH$200,A77))","v":""},{"$f":"IF(A77=\"\",\"\",COUNTIFS(Planning!$OI$6:$PL$200,A77))","v":""},{"$f":"IF(A77=\"\",\"\",COUNTIFS(Planning!$PM$6:$QQ$200,A77))","v":""},{"$f":"IF(A77=\"\",\"\",COUNTIFS(Planning!$QR$6:$RV$200,A77))","v":""},{"$f":"IF(A77=\"\",\"\",COUNTIFS(Planning!$RW$6:$SX$200,A77))","v":""},{"$f":"IF(A77=\"\",\"\",COUNTIFS(Planning!$SY$6:$UC$200,A77))","v":""},{"$f":"IF(A77=\"\",\"\",COUNTIFS(Planning!$UD$6:$VG$200,A77))","v":""},{"$f":"IF(A77=\"\",\"\",COUNTIFS(Planning!$VH$6:$WL$200,A77))","v":""},{"$f":"IF(A77=\"\",\"\",COUNTIFS(Planning!$WM$6:$XP$200,A77))","v":""},{"$f":"IF(A77=\"\",\"\",COUNTIFS(Planning!$XQ$6:$YU$200,A77))","v":""},{"$f":"IF(A77=\"\",\"\",COUNTIFS(Planning!$YV$6:$ZZ$200,A77))","v":""},{"$f":"IF(A77=\"\",\"\",COUNTIFS(Planning!$AAA$6:$ABD$200,A77))","v":""},{"$f":"IF(A77=\"\",\"\",COUNTIFS(Planning!$ABE$6:$ACI$200,A77))","v":""},{"$f":"IF(A77=\"\",\"\",COUNTIFS(Planning!$ACJ$6:$ADM$200,A77))","v":""},{"$f":"IF(A77=\"\",\"\",COUNTIFS(Planning!$ADN$6:$AER$200,A77))","v":""},{"$f":"IF(A77=\"\",\"\",COUNTIFS(Planning!$AES$6:$AFW$200,A77))","v":""},{"$f":"IF(A77=\"\",\"\",COUNTIFS(Planning!$AFX$6:$AGZ$200,A77))","v":""},{"$f":"IF(A77=\"\",\"\",COUNTIFS(Planning!$AHA$6:$AIE$200,A77))","v":""},{"$f":"IF(A77=\"\",\"\",COUNTIFS(Planning!$AIF$6:$AJI$200,A77))","v":""},{"$f":"IF(A77=\"\",\"\",COUNTIFS(Planning!$AJJ$6:$AKN$200,A77))","v":""},{"$f":"IF(A77=\"\",\"\",COUNTIFS(Planning!$AKO$6:$ALR$200,A77))","v":""},{"$f":"IF(A77=\"\",\"\",COUNTIFS(Planning!$ALS$6:$AMW$200,A77))","v":""},{"$f":"IF(A77=\"\",\"\",COUNTIFS(Planning!$AMX$6:$AOB$200,A77))","v":""},{"$f":"IF(A77=\"\",\"\",COUNTIFS(Planning!$AOC$6:$APF$200,A77))","v":""},{"$f":"IF(A77=\"\",\"\",COUNTIFS(Planning!$APG$6:$AQK$200,A77))","v":""},{"$f":"IF(A77=\"\",\"\",COUNTIFS(Planning!$AQL$6:$ARO$200,A77))","v":""},{"$f":"IF(A77=\"\",\"\",COUNTIFS(Planning!$ARP$6:$AST$200,A77))","v":""},{"$f":"IF(A77=\"\",\"\",COUNTIFS(Planning!$ASU$6:$ATY$200,A77))","v":""},{"$f":"IF(A77=\"\",\"\",COUNTIFS(Planning!$ATZ$6:$AVA$200,A77))","v":""},{"$f":"IF(A77=\"\",\"\",COUNTIFS(Planning!$AVB$6:$AWF$200,A77))","v":""},{"$f":"IF(A77=\"\",\"\",COUNTIFS(Planning!$AWG$6:$AXJ$200,A77))","v":""},{"$f":"IF(A77=\"\",\"\",COUNTIFS(Planning!$AXK$6:$AYO$200,A77))","v":""},{"$f":"IF(A77=\"\",\"\",COUNTIFS(Planning!$AYP$6:$AZS$200,A77))","v":""}]
[null,{"$f":"IF(A78=\"\",\"\",COUNTIFS(Planning!$C$6:$AG$200,A78))","v":""},{"$f":"IF(A78=\"\",\"\",COUNTIFS(Planning!$AH$6:$BK$200,A78))","v":""},{"$f":"IF(A78=\"\",\"\",COUNTIFS(Planning!$BL$6:$CP$200,A78))","v":""},{"$f":"IF(A78=\"\",\"\",COUNTIFS(Planning!$CQ$6:$DU$200,A78))","v":""},{"$f":"IF(A78=\"\",\"\",COUNTIFS(Planning!$DV$6:$EW$200,A78))","v":""},{"$f":"IF(A78=\"\",\"\",COUNTIFS(Planning!$EX$6:$GB$200,A78))","v":""},{"$f":"IF(A78=\"\",\"\",COUNTIFS(Planning!$GC$6:$HF$200,A78))","v":""},{"$f":"IF(A78=\"\",\"\",COUNTIFS(Planning!$HG$6:$IK$200,A78))","v":""},{"$f":"IF(A78=\"\",\"\",COUNTIFS(Planning!$IL$6:$JO$200,A78))","v":""},{"$f":"IF(A78=\"\",\"\",COUNTIFS(Planning!$JP$6:$KT$200,A78))","v":""},{"$f":"IF(A78=\"\",\"\",COUNTIFS(Planning!$KU$6:$LY$200,A78))","v":""},{"$f":"IF(A78=\"\",\"\",COUNTIFS(Planning!$LZ$6:$NC$200,A78))","v":""},{"$f":"IF(A78=\"\",\"\",COUNTIFS(Planning!$ND$6:$OH$200,A78))","v":""},{"$f":"IF(A78=\"\",\"\",COUNTIFS(Planning!$OI$6:$PL$200,A78))","v":""},{"$f":"IF(A78=\"\",\"\",COUNTIFS(Planning!$PM$6:$QQ$200,A78))","v":""},{"$f":"IF(A78=\"\",\"\",COUNTIFS(Planning!$QR$6:$RV$200,A78))","v":""},{"$f":"IF(A78=\"\",\"\",COUNTIFS(Planning!$RW$6:$SX$200,A78))","v":""},{"$f":"IF(A78=\"\",\"\",COUNTIFS(Planning!$SY$6:$UC$200,A78))","v":""},{"$f":"IF(A78=\"\",\"\",COUNTIFS(Planning!$UD$6:$VG$200,A78))","v":""},{"$f":"IF(A78=\"\",\"\",COUNTIFS(Planning!$VH$6:$WL$200,A78))","v":""},{"$f":"IF(A78=\"\",\"\",COUNTIFS(Planning!$WM$6:$XP$200,A78))","v":""},{"$f":"IF(A78=\"\",\"\",COUNTIFS(Planning!$XQ$6:$YU$200,A78))","v":""},{"$f":"IF(A78=\"\",\"\",COUNTIFS(Planning!$YV$6:$ZZ$200,A78))","v":""},{"$f":"IF(A78=\"\",\"\",COUNTIFS(Planning!$AAA$6:$ABD$200,A78))","v":""},{"$f":"IF(A78=\"\",\"\",COUNTIFS(Planning!$ABE$6:$ACI$200,A78))","v":""},{"$f":"IF(A78=\"\",\"\",COUNTIFS(Planning!$ACJ$6:$ADM$200,A78))","v":""},{"$f":"IF(A78=\"\",\"\",COUNTIFS(Planning!$ADN$6:$AER$200,A78))","v":""},{"$f":"IF(A78=\"\",\"\",COUNTIFS(Planning!$AES$6:$AFW$200,A78))","v":""},{"$f":"IF(A78=\"\",\"\",COUNTIFS(Planning!$AFX$6:$AGZ$200,A78))","v":""},{"$f":"IF(A78=\"\",\"\",COUNTIFS(Planning!$AHA$6:$AIE$200,A78))","v":""},{"$f":"IF(A78=\"\",\"\",COUNTIFS(Planning!$AIF$6:$AJI$200,A78))","v":""},{"$f":"IF(A78=\"\",\"\",COUNTIFS(Planning!$AJJ$6:$AKN$200,A78))","v":""},{"$f":"IF(A78=\"\",\"\",COUNTIFS(Planning!$AKO$6:$ALR$200,A78))","v":""},{"$f":"IF(A78=\"\",\"\",COUNTIFS(Planning!$ALS$6:$AMW$200,A78))","v":""},{"$f":"IF(A78=\"\",\"\",COUNTIFS(Planning!$AMX$6:$AOB$200,A78))","v":""},{"$f":"IF(A78=\"\",\"\",COUNTIFS(Planning!$AOC$6:$APF$200,A78))","v":""},{"$f":"IF(A78=\"\",\"\",COUNTIFS(Planning!$APG$6:$AQK$200,A78))","v":""},{"$f":"IF(A78=\"\",\"\",COUNTIFS(Planning!$AQL$6:$ARO$200,A78))","v":""},{"$f":"IF(A78=\"\",\"\",COUNTIFS(Planning!$ARP$6:$AST$200,A78))","v":""},{"$f":"IF(A78=\"\",\"\",COUNTIFS(Planning!$ASU$6:$ATY$200,A78))","v":""},{"$f":"IF(A78=\"\",\"\",COUNTIFS(Planning!$ATZ$6:$AVA$200,A78))","v":""},{"$f":"IF(A78=\"\",\"\",COUNTIFS(Planning!$AVB$6:$AWF$200,A78))","v":""},{"$f":"IF(A78=\"\",\"\",COUNTIFS(Planning!$AWG$6:$AXJ$200,A78))","v":""},{"$f":"IF(A78=\"\",\"\",COUNTIFS(Planning!$AXK$6:$AYO$200,A78))","v":""},{"$f":"IF(A78=\"\",\"\",COUNTIFS(Planning!$AYP$6:$AZS$200,A78))","v":""}]
[null,{"$f":"IF(A79=\"\",\"\",COUNTIFS(Planning!$C$6:$AG$200,A79))","v":""},{"$f":"IF(A79=\"\",\"\",COUNTIFS(Planning!$AH$6:$BK$200,A79))","v":""},{"$f":"IF(A79=\"\",\"\",COUNTIFS(Planning!$BL$6:$CP$200,A79))","v":""},{"$f":"IF(A79=\"\",\"\",COUNTIFS(Planning!$CQ$6:$DU$200,A79))","v":""},{"$f":"IF(A79=\"\",\"\",COUNTIFS(Planning!$DV$6:$EW$200,A79))","v":""},{"$f":"IF(A79=\"\",\"\",COUNTIFS(Planning!$EX$6:$GB$200,A79))","v":""},{"$f":"IF(A79=\"\",\"\",COUNTIFS(Planning!$GC$6:$HF$200,A79))","v":""},{"$f":"IF(A79=\"\",\"\",COUNTIFS(Planning!$HG$6:$IK$200,A79))","v":""},{"$f":"IF(A79=\"\",\"\",COUNTIFS(Planning!$IL$6:$JO$200,A79))","v":""},{"$f":"IF(A79=\"\",\"\",COUNTIFS(Planning!$JP$6:$KT$200,A79))","v":""},{"$f":"IF(A79=\"\",\"\",COUNTIFS(Planning!$KU$6:$LY$200,A79))","v":""},{"$f":"IF(A79=\"\",\"\",COUNTIFS(Planning!$LZ$6:$NC$200,A79))","v":""},{"$f":"IF(A79=\"\",\"\",COUNTIFS(Planning!$ND$6:$OH$200,A79))","v":""},{"$f":"IF(A79=\"\",\"\",COUNTIFS(Planning!$OI$6:$PL$200,A79))","v":""},{"$f":"IF(A79=\"\",\"\",COUNTIFS(Planning!$PM$6:$QQ$200,A79))","v":""},{"$f":"IF(A79=\"\",\"\",COUNTIFS(Planning!$QR$6:$RV$200,A79))","v":""},{"$f":"IF(A79=\"\",\"\",COUNTIFS(Planning!$RW$6:$SX$200,A79))","v":""},{"$f":"IF(A79=\"\",\"\",COUNTIFS(Planning!$SY$6:$UC$200,A79))","v":""},{"$f":"IF(A79=\"\",\"\",COUNTIFS(Planning!$UD$6:$VG$200,A79))","v":""},{"$f":"IF(A79=\"\",\"\",COUNTIFS(Planning!$VH$6:$WL$200,A79))","v":""},{"$f":"IF(A79=\"\",\"\",COUNTIFS(Planning!$WM$6:$XP$200,A79))","v":""},{"$f":"IF(A79=\"\",\"\",COUNTIFS(Planning!$XQ$6:$YU$200,A79))","v":""},{"$f":"IF(A79=\"\",\"\",COUNTIFS(Planning!$YV$6:$ZZ$200,A79))","v":""},{"$f":"IF(A79=\"\",\"\",COUNTIFS(Planning!$AAA$6:$ABD$200,A79))","v":""},{"$f":"IF(A79=\"\",\"\",COUNTIFS(Planning!$ABE$6:$ACI$200,A79))","v":""},{"$f":"IF(A79=\"\",\"\",COUNTIFS(Planning!$ACJ$6:$ADM$200,A79))","v":""},{"$f":"IF(A79=\"\",\"\",COUNTIFS(Planning!$ADN$6:$AER$200,A79))","v":""},{"$f":"IF(A79=\"\",\"\",COUNTIFS(Planning!$AES$6:$AFW$200,A79))","v":""},{"$f":"IF(A79=\"\",\"\",COUNTIFS(Planning!$AFX$6:$AGZ$200,A79))","v":""},{"$f":"IF(A79=\"\",\"\",COUNTIFS(Planning!$AHA$6:$AIE$200,A79))","v":""},{"$f":"IF(A79=\"\",\"\",COUNTIFS(Planning!$AIF$6:$AJI$200,A79))","v":""},{"$f":"IF(A79=\"\",\"\",COUNTIFS(Planning!$AJJ$6:$AKN$200,A79))","v":""},{"$f":"IF(A79=\"\",\"\",COUNTIFS(Planning!$AKO$6:$ALR$200,A79))","v":""},{"$f":"IF(A79=\"\",\"\",COUNTIFS(Planning!$ALS$6:$AMW$200,A79))","v":""},{"$f":"IF(A79=\"\",\"\",COUNTIFS(Planning!$AMX$6:$AOB$200,A79))","v":""},{"$f":"IF(A79=\"\",\"\",COUNTIFS(Planning!$AOC$6:$APF$200,A79))","v":""},{"$f":"IF(A79=\"\",\"\",COUNTIFS(Planning!$APG$6:$AQK$200,A79))","v":""},{"$f":"IF(A79=\"\",\"\",COUNTIFS(Planning!$AQL$6:$ARO$200,A79))","v":""},{"$f":"IF(A79=\"\",\"\",COUNTIFS(Planning!$ARP$6:$AST$200,A79))","v":""},{"$f":"IF(A79=\"\",\"\",COUNTIFS(Planning!$ASU$6:$ATY$200,A79))","v":""},{"$f":"IF(A79=\"\",\"\",COUNTIFS(Planning!$ATZ$6:$AVA$200,A79))","v":""},{"$f":"IF(A79=\"\",\"\",COUNTIFS(Planning!$AVB$6:$AWF$200,A79))","v":""},{"$f":"IF(A79=\"\",\"\",COUNTIFS(Planning!$AWG$6:$AXJ$200,A79))","v":""},{"$f":"IF(A79=\"\",\"\",COUNTIFS(Planning!$AXK$6:$AYO$200,A79))","v":""},{"$f":"IF(A79=\"\",\"\",COUNTIFS(Planning!$AYP$6:$AZS$200,A79))","v":""}]
[null,{"$f":"IF(A80=\"\",\"\",COUNTIFS(Planning!$C$6:$AG$200,A80))","v":""},{"$f":"IF(A80=\"\",\"\",COUNTIFS(Planning!$AH$6:$BK$200,A80))","v":""},{"$f":"IF(A80=\"\",\"\",COUNTIFS(Planning!$BL$6:$CP$200,A80))","v":""},{"$f":"IF(A80=\"\",\"\",COUNTIFS(Planning!$CQ$6:$DU$200,A80))","v":""},{"$f":"IF(A80=\"\",\"\",COUNTIFS(Planning!$DV$6:$EW$200,A80))","v":""},{"$f":"IF(A80=\"\",\"\",COUNTIFS(Planning!$EX$6:$GB$200,A80))","v":""},{"$f":"IF(A80=\"\",\"\",COUNTIFS(Planning!$GC$6:$HF$200,A80))","v":""},{"$f":"IF(A80=\"\",\"\",COUNTIFS(Planning!$HG$6:$IK$200,A80))","v":""},{"$f":"IF(A80=\"\",\"\",COUNTIFS(Planning!$IL$6:$JO$200,A80))","v":""},{"$f":"IF(A80=\"\",\"\",COUNTIFS(Planning!$JP$6:$KT$200,A80))","v":""},{"$f":"IF(A80=\"\",\"\",COUNTIFS(Planning!$KU$6:$LY$200,A80))","v":""},{"$f":"IF(A80=\"\",\"\",COUNTIFS(Planning!$LZ$6:$NC$200,A80))","v":""},{"$f":"IF(A80=\"\",\"\",COUNTIFS(Planning!$ND$6:$OH$200,A80))","v":""},{"$f":"IF(A80=\"\",\"\",COUNTIFS(Planning!$OI$6:$PL$200,A80))","v":""},{"$f":"IF(A80=\"\",\"\",COUNTIFS(Planning!$PM$6:$QQ$200,A80))","v":""},{"$f":"IF(A80=\"\",\"\",COUNTIFS(Planning!$QR$6:$RV$200,A80))","v":""},{"$f":"IF(A80=\"\",\"\",COUNTIFS(Planning!$RW$6:$SX$200,A80))","v":""},{"$f":"IF(A80=\"\",\"\",COUNTIFS(Planning!$SY$6:$UC$200,A80))","v":""},{"$f":"IF(A80=\"\",\"\",COUNTIFS(Planning!$UD$6:$VG$200,A80))","v":""},{"$f":"IF(A80=\"\",\"\",COUNTIFS(Planning!$VH$6:$WL$200,A80))","v":""},{"$f":"IF(A80=\"\",\"\",COUNTIFS(Planning!$WM$6:$XP$200,A80))","v":""},{"$f":"IF(A80=\"\",\"\",COUNTIFS(Planning!$XQ$6:$YU$200,A80))","v":""},{"$f":"IF(A80=\"\",\"\",COUNTIFS(Planning!$YV$6:$ZZ$200,A80))","v":""},{"$f":"IF(A80=\"\",\"\",COUNTIFS(Planning!$AAA$6:$ABD$200,A80))","v":""},{"$f":"IF(A80=\"\",\"\",COUNTIFS(Planning!$ABE$6:$ACI$200,A80))","v":""},{"$f":"IF(A80=\"\",\"\",COUNTIFS(Planning!$ACJ$6:$ADM$200,A80))","v":""},{"$f":"IF(A80=\"\",\"\",COUNTIFS(Planning!$ADN$6:$AER$200,A80))","v":""},{"$f":"IF(A80=\"\",\"\",COUNTIFS(Planning!$AES$6:$AFW$200,A80))","v":""},{"$f":"IF(A80=\"\",\"\",COUNTIFS(Planning!$AFX$6:$AGZ$200,A80))","v":""},{"$f":"IF(A80=\"\",\"\",COUNTIFS(Planning!$AHA$6:$AIE$200,A80))","v":""},{"$f":"IF(A80=\"\",\"\",COUNTIFS(Planning!$AIF$6:$AJI$200,A80))","v":""},{"$f":"IF(A80=\"\",\"\",COUNTIFS(Planning!$AJJ$6:$AKN$200,A80))","v":""},{"$f":"IF(A80=\"\",\"\",COUNTIFS(Planning!$AKO$6:$ALR$200,A80))","v":""},{"$f":"IF(A80=\"\",\"\",COUNTIFS(Planning!$ALS$6:$AMW$200,A80))","v":""},{"$f":"IF(A80=\"\",\"\",COUNTIFS(Planning!$AMX$6:$AOB$200,A80))","v":""},{"$f":"IF(A80=\"\",\"\",COUNTIFS(Planning!$AOC$6:$APF$200,A80))","v":""},{"$f":"IF(A80=\"\",\"\",COUNTIFS(Planning!$APG$6:$AQK$200,A80))","v":""},{"$f":"IF(A80=\"\",\"\",COUNTIFS(Planning!$AQL$6:$ARO$200,A80))","v":""},{"$f":"IF(A80=\"\",\"\",COUNTIFS(Planning!$ARP$6:$AST$200,A80))","v":""},{"$f":"IF(A80=\"\",\"\",COUNTIFS(Planning!$ASU$6:$ATY$200,A80))","v":""},{"$f":"IF(A80=\"\",\"\",COUNTIFS(Planning!$ATZ$6:$AVA$200,A80))","v":""},{"$f":"IF(A80=\"\",\"\",COUNTIFS(Planning!$AVB$6:$AWF$200,A80))","v":""},{"$f":"IF(A80=\"\",\"\",COUNTIFS(Planning!$AWG$6:$AXJ$200,A80))","v":""},{"$f":"IF(A80=\"\",\"\",COUNTIFS(Planning!$AXK$6:$AYO$200,A80))","v":""},{"$f":"IF(A80=\"\",\"\",COUNTIFS(Planning!$AYP$6:$AZS$200,A80))","v":""}]
[null,{"$f":"IF(A81=\"\",\"\",COUNTIFS(Planning!$C$6:$AG$200,A81))","v":""},{"$f":"IF(A81=\"\",\"\",COUNTIFS(Planning!$AH$6:$BK$200,A81))","v":""},{"$f":"IF(A81=\"\",\"\",COUNTIFS(Planning!$BL$6:$CP$200,A81))","v":""},{"$f":"IF(A81=\"\",\"\",COUNTIFS(Planning!$CQ$6:$DU$200,A81))","v":""},{"$f":"IF(A81=\"\",\"\",COUNTIFS(Planning!$DV$6:$EW$200,A81))","v":""},{"$f":"IF(A81=\"\",\"\",COUNTIFS(Planning!$EX$6:$GB$200,A81))","v":""},{"$f":"IF(A81=\"\",\"\",COUNTIFS(Planning!$GC$6:$HF$200,A81))","v":""},{"$f":"IF(A81=\"\",\"\",COUNTIFS(Planning!$HG$6:$IK$200,A81))","v":""},{"$f":"IF(A81=\"\",\"\",COUNTIFS(Planning!$IL$6:$JO$200,A81))","v":""},{"$f":"IF(A81=\"\",\"\",COUNTIFS(Planning!$JP$6:$KT$200,A81))","v":""},{"$f":"IF(A81=\"\",\"\",COUNTIFS(Planning!$KU$6:$LY$200,A81))","v":""},{"$f":"IF(A81=\"\",\"\",COUNTIFS(Planning!$LZ$6:$NC$200,A81))","v":""},{"$f":"IF(A81=\"\",\"\",COUNTIFS(Planning!$ND$6:$OH$200,A81))","v":""},{"$f":"IF(A81=\"\",\"\",COUNTIFS(Planning!$OI$6:$PL$200,A81))","v":""},{"$f":"IF(A81=\"\",\"\",COUNTIFS(Planning!$PM$6:$QQ$200,A81))","v":""},{"$f":"IF(A81=\"\",\"\",COUNTIFS(Planning!$QR$6:$RV$200,A81))","v":""},{"$f":"IF(A81=\"\",\"\",COUNTIFS(Planning!$RW$6:$SX$200,A81))","v":""},{"$f":"IF(A81=\"\",\"\",COUNTIFS(Planning!$SY$6:$UC$200,A81))","v":""},{"$f":"IF(A81=\"\",\"\",COUNTIFS(Planning!$UD$6:$VG$200,A81))","v":""},{"$f":"IF(A81=\"\",\"\",COUNTIFS(Planning!$VH$6:$WL$200,A81))","v":""},{"$f":"IF(A81=\"\",\"\",COUNTIFS(Planning!$WM$6:$XP$200,A81))","v":""},{"$f":"IF(A81=\"\",\"\",COUNTIFS(Planning!$XQ$6:$YU$200,A81))","v":""},{"$f":"IF(A81=\"\",\"\",COUNTIFS(Planning!$YV$6:$ZZ$200,A81))","v":""},{"$f":"IF(A81=\"\",\"\",COUNTIFS(Planning!$AAA$6:$ABD$200,A81))","v":""},{"$f":"IF(A81=\"\",\"\",COUNTIFS(Planning!$ABE$6:$ACI$200,A81))","v":""},{"$f":"IF(A81=\"\",\"\",COUNTIFS(Planning!$ACJ$6:$ADM$200,A81))","v":""},{"$f":"IF(A81=\"\",\"\",COUNTIFS(Planning!$ADN$6:$AER$200,A81))","v":""},{"$f":"IF(A81=\"\",\"\",COUNTIFS(Planning!$AES$6:$AFW$200,A81))","v":""},{"$f":"IF(A81=\"\",\"\",COUNTIFS(Planning!$AFX$6:$AGZ$200,A81))","v":""},{"$f":"IF(A81=\"\",\"\",COUNTIFS(Planning!$AHA$6:$AIE$200,A81))","v":""},{"$f":"IF(A81=\"\",\"\",COUNTIFS(Planning!$AIF$6:$AJI$200,A81))","v":""},{"$f":"IF(A81=\"\",\"\",COUNTIFS(Planning!$AJJ$6:$AKN$200,A81))","v":""},{"$f":"IF(A81=\"\",\"\",COUNTIFS(Planning!$AKO$6:$ALR$200,A81))","v":""},{"$f":"IF(A81=\"\",\"\",COUNTIFS(Planning!$ALS$6:$AMW$200,A81))","v":""},{"$f":"IF(A81=\"\",\"\",COUNTIFS(Planning!$AMX$6:$AOB$200,A81))","v":""},{"$f":"IF(A81=\"\",\"\",COUNTIFS(Planning!$AOC$6:$APF$200,A81))","v":""},{"$f":"IF(A81=\"\",\"\",COUNTIFS(Planning!$APG$6:$AQK$200,A81))","v":""},{"$f":"IF(A81=\"\",\"\",COUNTIFS(Planning!$AQL$6:$ARO$200,A81))","v":""},{"$f":"IF(A81=\"\",\"\",COUNTIFS(Planning!$ARP$6:$AST$200,A81))","v":""},{"$f":"IF(A81=\"\",\"\",COUNTIFS(Planning!$ASU$6:$ATY$200,A81))","v":""},{"$f":"IF(A81=\"\",\"\",COUNTIFS(Planning!$ATZ$6:$AVA$200,A81))","v":""},{"$f":"IF(A81=\"\",\"\",COUNTIFS(Planning!$AVB$6:$AWF$200,A81))","v":""},{"$f":"IF(A81=\"\",\"\",COUNTIFS(Planning!$AWG$6:$AXJ$200,A81))","v":""},{"$f":"IF(A81=\"\",\"\",COUNTIFS(Planning!$AXK$6:$AYO$200,A81))","v":""},{"$f":"IF(A81=\"\",\"\",COUNTIFS(Planning!$AYP$6:$AZS$200,A81))","v":""}]
[null,{"$f":"IF(A82=\"\",\"\",COUNTIFS(Planning!$C$6:$AG$200,A82))","v":""},{"$f":"IF(A82=\"\",\"\",COUNTIFS(Planning!$AH$6:$BK$200,A82))","v":""},{"$f":"IF(A82=\"\",\"\",COUNTIFS(Planning!$BL$6:$CP$200,A82))","v":""},{"$f":"IF(A82=\"\",\"\",COUNTIFS(Planning!$CQ$6:$DU$200,A82))","v":""},{"$f":"IF(A82=\"\",\"\",COUNTIFS(Planning!$DV$6:$EW$200,A82))","v":""},{"$f":"IF(A82=\"\",\"\",COUNTIFS(Planning!$EX$6:$GB$200,A82))","v":""},{"$f":"IF(A82=\"\",\"\",COUNTIFS(Planning!$GC$6:$HF$200,A82))","v":""},{"$f":"IF(A82=\"\",\"\",COUNTIFS(Planning!$HG$6:$IK$200,A82))","v":""},{"$f":"IF(A82=\"\",\"\",COUNTIFS(Planning!$IL$6:$JO$200,A82))","v":""},{"$f":"IF(A82=\"\",\"\",COUNTIFS(Planning!$JP$6:$KT$200,A82))","v":""},{"$f":"IF(A82=\"\",\"\",COUNTIFS(Planning!$KU$6:$LY$200,A82))","v":""},{"$f":"IF(A82=\"\",\"\",COUNTIFS(Planning!$LZ$6:$NC$200,A82))","v":""},{"$f":"IF(A82=\"\",\"\",COUNTIFS(Planning!$ND$6:$OH$200,A82))","v":""},{"$f":"IF(A82=\"\",\"\",COUNTIFS(Planning!$OI$6:$PL$200,A82))","v":""},{"$f":"IF(A82=\"\",\"\",COUNTIFS(Planning!$PM$6:$QQ$200,A82))","v":""},{"$f":"IF(A82=\"\",\"\",COUNTIFS(Planning!$QR$6:$RV$200,A82))","v":""},{"$f":"IF(A82=\"\",\"\",COUNTIFS(Planning!$RW$6:$SX$200,A82))","v":""},{"$f":"IF(A82=\"\",\"\",COUNTIFS(Planning!$SY$6:$UC$200,A82))","v":""},{"$f":"IF(A82=\"\",\"\",COUNTIFS(Planning!$UD$6:$VG$200,A82))","v":""},{"$f":"IF(A82=\"\",\"\",COUNTIFS(Planning!$VH$6:$WL$200,A82))","v":""},{"$f":"IF(A82=\"\",\"\",COUNTIFS(Planning!$WM$6:$XP$200,A82))","v":""},{"$f":"IF(A82=\"\",\"\",COUNTIFS(Planning!$XQ$6:$YU$200,A82))","v":""},{"$f":"IF(A82=\"\",\"\",COUNTIFS(Planning!$YV$6:$ZZ$200,A82))","v":""},{"$f":"IF(A82=\"\",\"\",COUNTIFS(Planning!$AAA$6:$ABD$200,A82))","v":""},{"$f":"IF(A82=\"\",\"\",COUNTIFS(Planning!$ABE$6:$ACI$200,A82))","v":""},{"$f":"IF(A82=\"\",\"\",COUNTIFS(Planning!$ACJ$6:$ADM$200,A82))","v":""},{"$f":"IF(A82=\"\",\"\",COUNTIFS(Planning!$ADN$6:$AER$200,A82))","v":""},{"$f":"IF(A82=\"\",\"\",COUNTIFS(Planning!$AES$6:$AFW$200,A82))","v":""},{"$f":"IF(A82=\"\",\"\",COUNTIFS(Planning!$AFX$6:$AGZ$200,A82))","v":""},{"$f":"IF(A82=\"\",\"\",COUNTIFS(Planning!$AHA$6:$AIE$200,A82))","v":""},{"$f":"IF(A82=\"\",\"\",COUNTIFS(Planning!$AIF$6:$AJI$200,A82))","v":""},{"$f":"IF(A82=\"\",\"\",COUNTIFS(Planning!$AJJ$6:$AKN$200,A82))","v":""},{"$f":"IF(A82=\"\",\"\",COUNTIFS(Planning!$AKO$6:$ALR$200,A82))","v":""},{"$f":"IF(A82=\"\",\"\",COUNTIFS(Planning!$ALS$6:$AMW$200,A82))","v":""},{"$f":"IF(A82=\"\",\"\",COUNTIFS(Planning!$AMX$6:$AOB$200,A82))","v":""},{"$f":"IF(A82=\"\",\"\",COUNTIFS(Planning!$AOC$6:$APF$200,A82))","v":""},{"$f":"IF(A82=\"\",\"\",COUNTIFS(Planning!$APG$6:$AQK$200,A82))","v":""},{"$f":"IF(A82=\"\",\"\",COUNTIFS(Planning!$AQL$6:$ARO$200,A82))","v":""},{"$f":"IF(A82=\"\",\"\",COUNTIFS(Planning!$ARP$6:$AST$200,A82))","v":""},{"$f":"IF(A82=\"\",\"\",COUNTIFS(Planning!$ASU$6:$ATY$200,A82))","v":""},{"$f":"IF(A82=\"\",\"\",COUNTIFS(Planning!$ATZ$6:$AVA$200,A82))","v":""},{"$f":"IF(A82=\"\",\"\",COUNTIFS(Planning!$AVB$6:$AWF$200,A82))","v":""},{"$f":"IF(A82=\"\",\"\",COUNTIFS(Planning!$AWG$6:$AXJ$200,A82))","v":""},{"$f":"IF(A82=\"\",\"\",COUNTIFS(Planning!$AXK$6:$AYO$200,A82))","v":""},{"$f":"IF(A82=\"\",\"\",COUNTIFS(Planning!$AYP$6:$AZS$200,A82))","v":""}]
[null,{"$f":"IF(A83=\"\",\"\",COUNTIFS(Planning!$C$6:$AG$200,A83))","v":""},{"$f":"IF(A83=\"\",\"\",COUNTIFS(Planning!$AH$6:$BK$200,A83))","v":""},{"$f":"IF(A83=\"\",\"\",COUNTIFS(Planning!$BL$6:$CP$200,A83))","v":""},{"$f":"IF(A83=\"\",\"\",COUNTIFS(Planning!$CQ$6:$DU$200,A83))","v":""},{"$f":"IF(A83=\"\",\"\",COUNTIFS(Planning!$DV$6:$EW$200,A83))","v":""},{"$f":"IF(A83=\"\",\"\",COUNTIFS(Planning!$EX$6:$GB$200,A83))","v":""},{"$f":"IF(A83=\"\",\"\",COUNTIFS(Planning!$GC$6:$HF$200,A83))","v":""},{"$f":"IF(A83=\"\",\"\",COUNTIFS(Planning!$HG$6:$IK$200,A83))","v":""},{"$f":"IF(A83=\"\",\"\",COUNTIFS(Planning!$IL$6:$JO$200,A83))","v":""},{"$f":"IF(A83=\"\",\"\",COUNTIFS(Planning!$JP$6:$KT$200,A83))","v":""},{"$f":"IF(A83=\"\",\"\",COUNTIFS(Planning!$KU$6:$LY$200,A83))","v":""},{"$f":"IF(A83=\"\",\"\",COUNTIFS(Planning!$LZ$6:$NC$200,A83))","v":""},{"$f":"IF(A83=\"\",\"\",COUNTIFS(Planning!$ND$6:$OH$200,A83))","v":""},{"$f":"IF(A83=\"\",\"\",COUNTIFS(Planning!$OI$6:$PL$200,A83))","v":""},{"$f":"IF(A83=\"\",\"\",COUNTIFS(Planning!$PM$6:$QQ$200,A83))","v":""},{"$f":"IF(A83=\"\",\"\",COUNTIFS(Planning!$QR$6:$RV$200,A83))","v":""},{"$f":"IF(A83=\"\",\"\",COUNTIFS(Planning!$RW$6:$SX$200,A83))","v":""},{"$f":"IF(A83=\"\",\"\",COUNTIFS(Planning!$SY$6:$UC$200,A83))","v":""},{"$f":"IF(A83=\"\",\"\",COUNTIFS(Planning!$UD$6:$VG$200,A83))","v":""},{"$f":"IF(A83=\"\",\"\",COUNTIFS(Planning!$VH$6:$WL$200,A83))","v":""},{"$f":"IF(A83=\"\",\"\",COUNTIFS(Planning!$WM$6:$XP$200,A83))","v":""},{"$f":"IF(A83=\"\",\"\",COUNTIFS(Planning!$XQ$6:$YU$200,A83))","v":""},{"$f":"IF(A83=\"\",\"\",COUNTIFS(Planning!$YV$6:$ZZ$200,A83))","v":""},{"$f":"IF(A83=\"\",\"\",COUNTIFS(Planning!$AAA$6:$ABD$200,A83))","v":""},{"$f":"IF(A83=\"\",\"\",COUNTIFS(Planning!$ABE$6:$ACI$200,A83))","v":""},{"$f":"IF(A83=\"\",\"\",COUNTIFS(Planning!$ACJ$6:$ADM$200,A83))","v":""},{"$f":"IF(A83=\"\",\"\",COUNTIFS(Planning!$ADN$6:$AER$200,A83))","v":""},{"$f":"IF(A83=\"\",\"\",COUNTIFS(Planning!$AES$6:$AFW$200,A83))","v":""},{"$f":"IF(A83=\"\",\"\",COUNTIFS(Planning!$AFX$6:$AGZ$200,A83))","v":""},{"$f":"IF(A83=\"\",\"\",COUNTIFS(Planning!$AHA$6:$AIE$200,A83))","v":""},{"$f":"IF(A83=\"\",\"\",COUNTIFS(Planning!$AIF$6:$AJI$200,A83))","v":""},{"$f":"IF(A83=\"\",\"\",COUNTIFS(Planning!$AJJ$6:$AKN$200,A83))","v":""},{"$f":"IF(A83=\"\",\"\",COUNTIFS(Planning!$AKO$6:$ALR$200,A83))","v":""},{"$f":"IF(A83=\"\",\"\",COUNTIFS(Planning!$ALS$6:$AMW$200,A83))","v":""},{"$f":"IF(A83=\"\",\"\",COUNTIFS(Planning!$AMX$6:$AOB$200,A83))","v":""},{"$f":"IF(A83=\"\",\"\",COUNTIFS(Planning!$AOC$6:$APF$200,A83))","v":""},{"$f":"IF(A83=\"\",\"\",COUNTIFS(Planning!$APG$6:$AQK$200,A83))","v":""},{"$f":"IF(A83=\"\",\"\",COUNTIFS(Planning!$AQL$6:$ARO$200,A83))","v":""},{"$f":"IF(A83=\"\",\"\",COUNTIFS(Planning!$ARP$6:$AST$200,A83))","v":""},{"$f":"IF(A83=\"\",\"\",COUNTIFS(Planning!$ASU$6:$ATY$200,A83))","v":""},{"$f":"IF(A83=\"\",\"\",COUNTIFS(Planning!$ATZ$6:$AVA$200,A83))","v":""},{"$f":"IF(A83=\"\",\"\",COUNTIFS(Planning!$AVB$6:$AWF$200,A83))","v":""},{"$f":"IF(A83=\"\",\"\",COUNTIFS(Planning!$AWG$6:$AXJ$200,A83))","v":""},{"$f":"IF(A83=\"\",\"\",COUNTIFS(Planning!$AXK$6:$AYO$200,A83))","v":""},{"$f":"IF(A83=\"\",\"\",COUNTIFS(Planning!$AYP$6:$AZS$200,A83))","v":""}]
[null,{"$f":"IF(A84=\"\",\"\",COUNTIFS(Planning!$C$6:$AG$200,A84))","v":""},{"$f":"IF(A84=\"\",\"\",COUNTIFS(Planning!$AH$6:$BK$200,A84))","v":""},{"$f":"IF(A84=\"\",\"\",COUNTIFS(Planning!$BL$6:$CP$200,A84))","v":""},{"$f":"IF(A84=\"\",\"\",COUNTIFS(Planning!$CQ$6:$DU$200,A84))","v":""},{"$f":"IF(A84=\"\",\"\",COUNTIFS(Planning!$DV$6:$EW$200,A84))","v":""},{"$f":"IF(A84=\"\",\"\",COUNTIFS(Planning!$EX$6:$GB$200,A84))","v":""},{"$f":"IF(A84=\"\",\"\",COUNTIFS(Planning!$GC$6:$HF$200,A84))","v":""},{"$f":"IF(A84=\"\",\"\",COUNTIFS(Planning!$HG$6:$IK$200,A84))","v":""},{"$f":"IF(A84=\"\",\"\",COUNTIFS(Planning!$IL$6:$JO$200,A84))","v":""},{"$f":"IF(A84=\"\",\"\",COUNTIFS(Planning!$JP$6:$KT$200,A84))","v":""},{"$f":"IF(A84=\"\",\"\",COUNTIFS(Planning!$KU$6:$LY$200,A84))","v":""},{"$f":"IF(A84=\"\",\"\",COUNTIFS(Planning!$LZ$6:$NC$200,A84))","v":""},{"$f":"IF(A84=\"\",\"\",COUNTIFS(Planning!$ND$6:$OH$200,A84))","v":""},{"$f":"IF(A84=\"\",\"\",COUNTIFS(Planning!$OI$6:$PL$200,A84))","v":""},{"$f":"IF(A84=\"\",\"\",COUNTIFS(Planning!$PM$6:$QQ$200,A84))","v":""},{"$f":"IF(A84=\"\",\"\",COUNTIFS(Planning!$QR$6:$RV$200,A84))","v":""},{"$f":"IF(A84=\"\",\"\",COUNTIFS(Planning!$RW$6:$SX$200,A84))","v":""},{"$f":"IF(A84=\"\",\"\",COUNTIFS(Planning!$SY$6:$UC$200,A84))","v":""},{"$f":"IF(A84=\"\",\"\",COUNTIFS(Planning!$UD$6:$VG$200,A84))","v":""},{"$f":"IF(A84=\"\",\"\",COUNTIFS(Planning!$VH$6:$WL$200,A84))","v":""},{"$f":"IF(A84=\"\",\"\",COUNTIFS(Planning!$WM$6:$XP$200,A84))","v":""},{"$f":"IF(A84=\"\",\"\",COUNTIFS(Planning!$XQ$6:$YU$200,A84))","v":""},{"$f":"IF(A84=\"\",\"\",COUNTIFS(Planning!$YV$6:$ZZ$200,A84))","v":""},{"$f":"IF(A84=\"\",\"\",COUNTIFS(Planning!$AAA$6:$ABD$200,A84))","v":""},{"$f":"IF(A84=\"\",\"\",COUNTIFS(Planning!$ABE$6:$ACI$200,A84))","v":""},{"$f":"IF(A84=\"\",\"\",COUNTIFS(Planning!$ACJ$6:$ADM$200,A84))","v":""},{"$f":"IF(A84=\"\",\"\",COUNTIFS(Planning!$ADN$6:$AER$200,A84))","v":""},{"$f":"IF(A84=\"\",\"\",COUNTIFS(Planning!$AES$6:$AFW$200,A84))","v":""},{"$f":"IF(A84=\"\",\"\",COUNTIFS(Planning!$AFX$6:$AGZ$200,A84))","v":""},{"$f":"IF(A84=\"\",\"\",COUNTIFS(Planning!$AHA$6:$AIE$200,A84))","v":""},{"$f":"IF(A84=\"\",\"\",COUNTIFS(Planning!$AIF$6:$AJI$200,A84))","v":""},{"$f":"IF(A84=\"\",\"\",COUNTIFS(Planning!$AJJ$6:$AKN$200,A84))","v":""},{"$f":"IF(A84=\"\",\"\",COUNTIFS(Planning!$AKO$6:$ALR$200,A84))","v":""},{"$f":"IF(A84=\"\",\"\",COUNTIFS(Planning!$ALS$6:$AMW$200,A84))","v":""},{"$f":"IF(A84=\"\",\"\",COUNTIFS(Planning!$AMX$6:$AOB$200,A84))","v":""},{"$f":"IF(A84=\"\",\"\",COUNTIFS(Planning!$AOC$6:$APF$200,A84))","v":""},{"$f":"IF(A84=\"\",\"\",COUNTIFS(Planning!$APG$6:$AQK$200,A84))","v":""},{"$f":"IF(A84=\"\",\"\",COUNTIFS(Planning!$AQL$6:$ARO$200,A84))","v":""},{"$f":"IF(A84=\"\",\"\",COUNTIFS(Planning!$ARP$6:$AST$200,A84))","v":""},{"$f":"IF(A84=\"\",\"\",COUNTIFS(Planning!$ASU$6:$ATY$200,A84))","v":""},{"$f":"IF(A84=\"\",\"\",COUNTIFS(Planning!$ATZ$6:$AVA$200,A84))","v":""},{"$f":"IF(A84=\"\",\"\",COUNTIFS(Planning!$AVB$6:$AWF$200,A84))","v":""},{"$f":"IF(A84=\"\",\"\",COUNTIFS(Planning!$AWG$6:$AXJ$200,A84))","v":""},{"$f":"IF(A84=\"\",\"\",COUNTIFS(Planning!$AXK$6:$AYO$200,A84))","v":""},{"$f":"IF(A84=\"\",\"\",COUNTIFS(Planning!$AYP$6:$AZS$200,A84))","v":""}]
[null,{"$f":"IF(A85=\"\",\"\",COUNTIFS(Planning!$C$6:$AG$200,A85))","v":""},{"$f":"IF(A85=\"\",\"\",COUNTIFS(Planning!$AH$6:$BK$200,A85))","v":""},{"$f":"IF(A85=\"\",\"\",COUNTIFS(Planning!$BL$6:$CP$200,A85))","v":""},{"$f":"IF(A85=\"\",\"\",COUNTIFS(Planning!$CQ$6:$DU$200,A85))","v":""},{"$f":"IF(A85=\"\",\"\",COUNTIFS(Planning!$DV$6:$EW$200,A85))","v":""},{"$f":"IF(A85=\"\",\"\",COUNTIFS(Planning!$EX$6:$GB$200,A85))","v":""},{"$f":"IF(A85=\"\",\"\",COUNTIFS(Planning!$GC$6:$HF$200,A85))","v":""},{"$f":"IF(A85=\"\",\"\",COUNTIFS(Planning!$HG$6:$IK$200,A85))","v":""},{"$f":"IF(A85=\"\",\"\",COUNTIFS(Planning!$IL$6:$JO$200,A85))","v":""},{"$f":"IF(A85=\"\",\"\",COUNTIFS(Planning!$JP$6:$KT$200,A85))","v":""},{"$f":"IF(A85=\"\",\"\",COUNTIFS(Planning!$KU$6:$LY$200,A85))","v":""},{"$f":"IF(A85=\"\",\"\",COUNTIFS(Planning!$LZ$6:$NC$200,A85))","v":""},{"$f":"IF(A85=\"\",\"\",COUNTIFS(Planning!$ND$6:$OH$200,A85))","v":""},{"$f":"IF(A85=\"\",\"\",COUNTIFS(Planning!$OI$6:$PL$200,A85))","v":""},{"$f":"IF(A85=\"\",\"\",COUNTIFS(Planning!$PM$6:$QQ$200,A85))","v":""},{"$f":"IF(A85=\"\",\"\",COUNTIFS(Planning!$QR$6:$RV$200,A85))","v":""},{"$f":"IF(A85=\"\",\"\",COUNTIFS(Planning!$RW$6:$SX$200,A85))","v":""},{"$f":"IF(A85=\"\",\"\",COUNTIFS(Planning!$SY$6:$UC$200,A85))","v":""},{"$f":"IF(A85=\"\",\"\",COUNTIFS(Planning!$UD$6:$VG$200,A85))","v":""},{"$f":"IF(A85=\"\",\"\",COUNTIFS(Planning!$VH$6:$WL$200,A85))","v":""},{"$f":"IF(A85=\"\",\"\",COUNTIFS(Planning!$WM$6:$XP$200,A85))","v":""},{"$f":"IF(A85=\"\",\"\",COUNTIFS(Planning!$XQ$6:$YU$200,A85))","v":""},{"$f":"IF(A85=\"\",\"\",COUNTIFS(Planning!$YV$6:$ZZ$200,A85))","v":""},{"$f":"IF(A85=\"\",\"\",COUNTIFS(Planning!$AAA$6:$ABD$200,A85))","v":""},{"$f":"IF(A85=\"\",\"\",COUNTIFS(Planning!$ABE$6:$ACI$200,A85))","v":""},{"$f":"IF(A85=\"\",\"\",COUNTIFS(Planning!$ACJ$6:$ADM$200,A85))","v":""},{"$f":"IF(A85=\"\",\"\",COUNTIFS(Planning!$ADN$6:$AER$200,A85))","v":""},{"$f":"IF(A85=\"\",\"\",COUNTIFS(Planning!$AES$6:$AFW$200,A85))","v":""},{"$f":"IF(A85=\"\",\"\",COUNTIFS(Planning!$AFX$6:$AGZ$200,A85))","v":""},{"$f":"IF(A85=\"\",\"\",COUNTIFS(Planning!$AHA$6:$AIE$200,A85))","v":""},{"$f":"IF(A85=\"\",\"\",COUNTIFS(Planning!$AIF$6:$AJI$200,A85))","v":""},{"$f":"IF(A85=\"\",\"\",COUNTIFS(Planning!$AJJ$6:$AKN$200,A85))","v":""},{"$f":"IF(A85=\"\",\"\",COUNTIFS(Planning!$AKO$6:$ALR$200,A85))","v":""},{"$f":"IF(A85=\"\",\"\",COUNTIFS(Planning!$ALS$6:$AMW$200,A85))","v":""},{"$f":"IF(A85=\"\",\"\",COUNTIFS(Planning!$AMX$6:$AOB$200,A85))","v":""},{"$f":"IF(A85=\"\",\"\",COUNTIFS(Planning!$AOC$6:$APF$200,A85))","v":""},{"$f":"IF(A85=\"\",\"\",COUNTIFS(Planning!$APG$6:$AQK$200,A85))","v":""},{"$f":"IF(A85=\"\",\"\",COUNTIFS(Planning!$AQL$6:$ARO$200,A85))","v":""},{"$f":"IF(A85=\"\",\"\",COUNTIFS(Planning!$ARP$6:$AST$200,A85))","v":""},{"$f":"IF(A85=\"\",\"\",COUNTIFS(Planning!$ASU$6:$ATY$200,A85))","v":""},{"$f":"IF(A85=\"\",\"\",COUNTIFS(Planning!$ATZ$6:$AVA$200,A85))","v":""},{"$f":"IF(A85=\"\",\"\",COUNTIFS(Planning!$AVB$6:$AWF$200,A85))","v":""},{"$f":"IF(A85=\"\",\"\",COUNTIFS(Planning!$AWG$6:$AXJ$200,A85))","v":""},{"$f":"IF(A85=\"\",\"\",COUNTIFS(Planning!$AXK$6:$AYO$200,A85))","v":""},{"$f":"IF(A85=\"\",\"\",COUNTIFS(Planning!$AYP$6:$AZS$200,A85))","v":""}]
[null,{"$f":"IF(A86=\"\",\"\",COUNTIFS(Planning!$C$6:$AG$200,A86))","v":""},{"$f":"IF(A86=\"\",\"\",COUNTIFS(Planning!$AH$6:$BK$200,A86))","v":""},{"$f":"IF(A86=\"\",\"\",COUNTIFS(Planning!$BL$6:$CP$200,A86))","v":""},{"$f":"IF(A86=\"\",\"\",COUNTIFS(Planning!$CQ$6:$DU$200,A86))","v":""},{"$f":"IF(A86=\"\",\"\",COUNTIFS(Planning!$DV$6:$EW$200,A86))","v":""},{"$f":"IF(A86=\"\",\"\",COUNTIFS(Planning!$EX$6:$GB$200,A86))","v":""},{"$f":"IF(A86=\"\",\"\",COUNTIFS(Planning!$GC$6:$HF$200,A86))","v":""},{"$f":"IF(A86=\"\",\"\",COUNTIFS(Planning!$HG$6:$IK$200,A86))","v":""},{"$f":"IF(A86=\"\",\"\",COUNTIFS(Planning!$IL$6:$JO$200,A86))","v":""},{"$f":"IF(A86=\"\",\"\",COUNTIFS(Planning!$JP$6:$KT$200,A86))","v":""},{"$f":"IF(A86=\"\",\"\",COUNTIFS(Planning!$KU$6:$LY$200,A86))","v":""},{"$f":"IF(A86=\"\",\"\",COUNTIFS(Planning!$LZ$6:$NC$200,A86))","v":""},{"$f":"IF(A86=\"\",\"\",COUNTIFS(Planning!$ND$6:$OH$200,A86))","v":""},{"$f":"IF(A86=\"\",\"\",COUNTIFS(Planning!$OI$6:$PL$200,A86))","v":""},{"$f":"IF(A86=\"\",\"\",COUNTIFS(Planning!$PM$6:$QQ$200,A86))","v":""},{"$f":"IF(A86=\"\",\"\",COUNTIFS(Planning!$QR$6:$RV$200,A86))","v":""},{"$f":"IF(A86=\"\",\"\",COUNTIFS(Planning!$RW$6:$SX$200,A86))","v":""},{"$f":"IF(A86=\"\",\"\",COUNTIFS(Planning!$SY$6:$UC$200,A86))","v":""},{"$f":"IF(A86=\"\",\"\",COUNTIFS(Planning!$UD$6:$VG$200,A86))","v":""},{"$f":"IF(A86=\"\",\"\",COUNTIFS(Planning!$VH$6:$WL$200,A86))","v":""},{"$f":"IF(A86=\"\",\"\",COUNTIFS(Planning!$WM$6:$XP$200,A86))","v":""},{"$f":"IF(A86=\"\",\"\",COUNTIFS(Planning!$XQ$6:$YU$200,A86))","v":""},{"$f":"IF(A86=\"\",\"\",COUNTIFS(Planning!$YV$6:$ZZ$200,A86))","v":""},{"$f":"IF(A86=\"\",\"\",COUNTIFS(Planning!$AAA$6:$ABD$200,A86))","v":""},{"$f":"IF(A86=\"\",\"\",COUNTIFS(Planning!$ABE$6:$ACI$200,A86))","v":""},{"$f":"IF(A86=\"\",\"\",COUNTIFS(Planning!$ACJ$6:$ADM$200,A86))","v":""},{"$f":"IF(A86=\"\",\"\",COUNTIFS(Planning!$ADN$6:$AER$200,A86))","v":""},{"$f":"IF(A86=\"\",\"\",COUNTIFS(Planning!$AES$6:$AFW$200,A86))","v":""},{"$f":"IF(A86=\"\",\"\",COUNTIFS(Planning!$AFX$6:$AGZ$200,A86))","v":""},{"$f":"IF(A86=\"\",\"\",COUNTIFS(Planning!$AHA$6:$AIE$200,A86))","v":""},{"$f":"IF(A86=\"\",\"\",COUNTIFS(Planning!$AIF$6:$AJI$200,A86))","v":""},{"$f":"IF(A86=\"\",\"\",COUNTIFS(Planning!$AJJ$6:$AKN$200,A86))","v":""},{"$f":"IF(A86=\"\",\"\",COUNTIFS(Planning!$AKO$6:$ALR$200,A86))","v":""},{"$f":"IF(A86=\"\",\"\",COUNTIFS(Planning!$ALS$6:$AMW$200,A86))","v":""},{"$f":"IF(A86=\"\",\"\",COUNTIFS(Planning!$AMX$6:$AOB$200,A86))","v":""},{"$f":"IF(A86=\"\",\"\",COUNTIFS(Planning!$AOC$6:$APF$200,A86))","v":""},{"$f":"IF(A86=\"\",\"\",COUNTIFS(Planning!$APG$6:$AQK$200,A86))","v":""},{"$f":"IF(A86=\"\",\"\",COUNTIFS(Planning!$AQL$6:$ARO$200,A86))","v":""},{"$f":"IF(A86=\"\",\"\",COUNTIFS(Planning!$ARP$6:$AST$200,A86))","v":""},{"$f":"IF(A86=\"\",\"\",COUNTIFS(Planning!$ASU$6:$ATY$200,A86))","v":""},{"$f":"IF(A86=\"\",\"\",COUNTIFS(Planning!$ATZ$6:$AVA$200,A86))","v":""},{"$f":"IF(A86=\"\",\"\",COUNTIFS(Planning!$AVB$6:$AWF$200,A86))","v":""},{"$f":"IF(A86=\"\",\"\",COUNTIFS(Planning!$AWG$6:$AXJ$200,A86))","v":""},{"$f":"IF(A86=\"\",\"\",COUNTIFS(Planning!$AXK$6:$AYO$200,A86))","v":""},{"$f":"IF(A86=\"\",\"\",COUNTIFS(Planning!$AYP$6:$AZS$200,A86))","v":""}]
[null,{"$f":"IF(A87=\"\",\"\",COUNTIFS(Planning!$C$6:$AG$200,A87))","v":""},{"$f":"IF(A87=\"\",\"\",COUNTIFS(Planning!$AH$6:$BK$200,A87))","v":""},{"$f":"IF(A87=\"\",\"\",COUNTIFS(Planning!$BL$6:$CP$200,A87))","v":""},{"$f":"IF(A87=\"\",\"\",COUNTIFS(Planning!$CQ$6:$DU$200,A87))","v":""},{"$f":"IF(A87=\"\",\"\",COUNTIFS(Planning!$DV$6:$EW$200,A87))","v":""},{"$f":"IF(A87=\"\",\"\",COUNTIFS(Planning!$EX$6:$GB$200,A87))","v":""},{"$f":"IF(A87=\"\",\"\",COUNTIFS(Planning!$GC$6:$HF$200,A87))","v":""},{"$f":"IF(A87=\"\",\"\",COUNTIFS(Planning!$HG$6:$IK$200,A87))","v":""},{"$f":"IF(A87=\"\",\"\",COUNTIFS(Planning!$IL$6:$JO$200,A87))","v":""},{"$f":"IF(A87=\"\",\"\",COUNTIFS(Planning!$JP$6:$KT$200,A87))","v":""},{"$f":"IF(A87=\"\",\"\",COUNTIFS(Planning!$KU$6:$LY$200,A87))","v":""},{"$f":"IF(A87=\"\",\"\",COUNTIFS(Planning!$LZ$6:$NC$200,A87))","v":""},{"$f":"IF(A87=\"\",\"\",COUNTIFS(Planning!$ND$6:$OH$200,A87))","v":""},{"$f":"IF(A87=\"\",\"\",COUNTIFS(Planning!$OI$6:$PL$200,A87))","v":""},{"$f":"IF(A87=\"\",\"\",COUNTIFS(Planning!$PM$6:$QQ$200,A87))","v":""},{"$f":"IF(A87=\"\",\"\",COUNTIFS(Planning!$QR$6:$RV$200,A87))","v":""},{"$f":"IF(A87=\"\",\"\",COUNTIFS(Planning!$RW$6:$SX$200,A87))","v":""},{"$f":"IF(A87=\"\",\"\",COUNTIFS(Planning!$SY$6:$UC$200,A87))","v":""},{"$f":"IF(A87=\"\",\"\",COUNTIFS(Planning!$UD$6:$VG$200,A87))","v":""},{"$f":"IF(A87=\"\",\"\",COUNTIFS(Planning!$VH$6:$WL$200,A87))","v":""},{"$f":"IF(A87=\"\",\"\",COUNTIFS(Planning!$WM$6:$XP$200,A87))","v":""},{"$f":"IF(A87=\"\",\"\",COUNTIFS(Planning!$XQ$6:$YU$200,A87))","v":""},{"$f":"IF(A87=\"\",\"\",COUNTIFS(Planning!$YV$6:$ZZ$200,A87))","v":""},{"$f":"IF(A87=\"\",\"\",COUNTIFS(Planning!$AAA$6:$ABD$200,A87))","v":""},{"$f":"IF(A87=\"\",\"\",COUNTIFS(Planning!$ABE$6:$ACI$200,A87))","v":""},{"$f":"IF(A87=\"\",\"\",COUNTIFS(Planning!$ACJ$6:$ADM$200,A87))","v":""},{"$f":"IF(A87=\"\",\"\",COUNTIFS(Planning!$ADN$6:$AER$200,A87))","v":""},{"$f":"IF(A87=\"\",\"\",COUNTIFS(Planning!$AES$6:$AFW$200,A87))","v":""},{"$f":"IF(A87=\"\",\"\",COUNTIFS(Planning!$AFX$6:$AGZ$200,A87))","v":""},{"$f":"IF(A87=\"\",\"\",COUNTIFS(Planning!$AHA$6:$AIE$200,A87))","v":""},{"$f":"IF(A87=\"\",\"\",COUNTIFS(Planning!$AIF$6:$AJI$200,A87))","v":""},{"$f":"IF(A87=\"\",\"\",COUNTIFS(Planning!$AJJ$6:$AKN$200,A87))","v":""},{"$f":"IF(A87=\"\",\"\",COUNTIFS(Planning!$AKO$6:$ALR$200,A87))","v":""},{"$f":"IF(A87=\"\",\"\",COUNTIFS(Planning!$ALS$6:$AMW$200,A87))","v":""},{"$f":"IF(A87=\"\",\"\",COUNTIFS(Planning!$AMX$6:$AOB$200,A87))","v":""},{"$f":"IF(A87=\"\",\"\",COUNTIFS(Planning!$AOC$6:$APF$200,A87))","v":""},{"$f":"IF(A87=\"\",\"\",COUNTIFS(Planning!$APG$6:$AQK$200,A87))","v":""},{"$f":"IF(A87=\"\",\"\",COUNTIFS(Planning!$AQL$6:$ARO$200,A87))","v":""},{"$f":"IF(A87=\"\",\"\",COUNTIFS(Planning!$ARP$6:$AST$200,A87))","v":""},{"$f":"IF(A87=\"\",\"\",COUNTIFS(Planning!$ASU$6:$ATY$200,A87))","v":""},{"$f":"IF(A87=\"\",\"\",COUNTIFS(Planning!$ATZ$6:$AVA$200,A87))","v":""},{"$f":"IF(A87=\"\",\"\",COUNTIFS(Planning!$AVB$6:$AWF$200,A87))","v":""},{"$f":"IF(A87=\"\",\"\",COUNTIFS(Planning!$AWG$6:$AXJ$200,A87))","v":""},{"$f":"IF(A87=\"\",\"\",COUNTIFS(Planning!$AXK$6:$AYO$200,A87))","v":""},{"$f":"IF(A87=\"\",\"\",COUNTIFS(Planning!$AYP$6:$AZS$200,A87))","v":""}]
[null,{"$f":"IF(A88=\"\",\"\",COUNTIFS(Planning!$C$6:$AG$200,A88))","v":""},{"$f":"IF(A88=\"\",\"\",COUNTIFS(Planning!$AH$6:$BK$200,A88))","v":""},{"$f":"IF(A88=\"\",\"\",COUNTIFS(Planning!$BL$6:$CP$200,A88))","v":""},{"$f":"IF(A88=\"\",\"\",COUNTIFS(Planning!$CQ$6:$DU$200,A88))","v":""},{"$f":"IF(A88=\"\",\"\",COUNTIFS(Planning!$DV$6:$EW$200,A88))","v":""},{"$f":"IF(A88=\"\",\"\",COUNTIFS(Planning!$EX$6:$GB$200,A88))","v":""},{"$f":"IF(A88=\"\",\"\",COUNTIFS(Planning!$GC$6:$HF$200,A88))","v":""},{"$f":"IF(A88=\"\",\"\",COUNTIFS(Planning!$HG$6:$IK$200,A88))","v":""},{"$f":"IF(A88=\"\",\"\",COUNTIFS(Planning!$IL$6:$JO$200,A88))","v":""},{"$f":"IF(A88=\"\",\"\",COUNTIFS(Planning!$JP$6:$KT$200,A88))","v":""},{"$f":"IF(A88=\"\",\"\",COUNTIFS(Planning!$KU$6:$LY$200,A88))","v":""},{"$f":"IF(A88=\"\",\"\",COUNTIFS(Planning!$LZ$6:$NC$200,A88))","v":""},{"$f":"IF(A88=\"\",\"\",COUNTIFS(Planning!$ND$6:$OH$200,A88))","v":""},{"$f":"IF(A88=\"\",\"\",COUNTIFS(Planning!$OI$6:$PL$200,A88))","v":""},{"$f":"IF(A88=\"\",\"\",COUNTIFS(Planning!$PM$6:$QQ$200,A88))","v":""},{"$f":"IF(A88=\"\",\"\",COUNTIFS(Planning!$QR$6:$RV$200,A88))","v":""},{"$f":"IF(A88=\"\",\"\",COUNTIFS(Planning!$RW$6:$SX$200,A88))","v":""},{"$f":"IF(A88=\"\",\"\",COUNTIFS(Planning!$SY$6:$UC$200,A88))","v":""},{"$f":"IF(A88=\"\",\"\",COUNTIFS(Planning!$UD$6:$VG$200,A88))","v":""},{"$f":"IF(A88=\"\",\"\",COUNTIFS(Planning!$VH$6:$WL$200,A88))","v":""},{"$f":"IF(A88=\"\",\"\",COUNTIFS(Planning!$WM$6:$XP$200,A88))","v":""},{"$f":"IF(A88=\"\",\"\",COUNTIFS(Planning!$XQ$6:$YU$200,A88))","v":""},{"$f":"IF(A88=\"\",\"\",COUNTIFS(Planning!$YV$6:$ZZ$200,A88))","v":""},{"$f":"IF(A88=\"\",\"\",COUNTIFS(Planning!$AAA$6:$ABD$200,A88))","v":""},{"$f":"IF(A88=\"\",\"\",COUNTIFS(Planning!$ABE$6:$ACI$200,A88))","v":""},{"$f":"IF(A88=\"\",\"\",COUNTIFS(Planning!$ACJ$6:$ADM$200,A88))","v":""},{"$f":"IF(A88=\"\",\"\",COUNTIFS(Planning!$ADN$6:$AER$200,A88))","v":""},{"$f":"IF(A88=\"\",\"\",COUNTIFS(Planning!$AES$6:$AFW$200,A88))","v":""},{"$f":"IF(A88=\"\",\"\",COUNTIFS(Planning!$AFX$6:$AGZ$200,A88))","v":""},{"$f":"IF(A88=\"\",\"\",COUNTIFS(Planning!$AHA$6:$AIE$200,A88))","v":""},{"$f":"IF(A88=\"\",\"\",COUNTIFS(Planning!$AIF$6:$AJI$200,A88))","v":""},{"$f":"IF(A88=\"\",\"\",COUNTIFS(Planning!$AJJ$6:$AKN$200,A88))","v":""},{"$f":"IF(A88=\"\",\"\",COUNTIFS(Planning!$AKO$6:$ALR$200,A88))","v":""},{"$f":"IF(A88=\"\",\"\",COUNTIFS(Planning!$ALS$6:$AMW$200,A88))","v":""},{"$f":"IF(A88=\"\",\"\",COUNTIFS(Planning!$AMX$6:$AOB$200,A88))","v":""},{"$f":"IF(A88=\"\",\"\",COUNTIFS(Planning!$AOC$6:$APF$200,A88))","v":""},{"$f":"IF(A88=\"\",\"\",COUNTIFS(Planning!$APG$6:$AQK$200,A88))","v":""},{"$f":"IF(A88=\"\",\"\",COUNTIFS(Planning!$AQL$6:$ARO$200,A88))","v":""},{"$f":"IF(A88=\"\",\"\",COUNTIFS(Planning!$ARP$6:$AST$200,A88))","v":""},{"$f":"IF(A88=\"\",\"\",COUNTIFS(Planning!$ASU$6:$ATY$200,A88))","v":""},{"$f":"IF(A88=\"\",\"\",COUNTIFS(Planning!$ATZ$6:$AVA$200,A88))","v":""},{"$f":"IF(A88=\"\",\"\",COUNTIFS(Planning!$AVB$6:$AWF$200,A88))","v":""},{"$f":"IF(A88=\"\",\"\",COUNTIFS(Planning!$AWG$6:$AXJ$200,A88))","v":""},{"$f":"IF(A88=\"\",\"\",COUNTIFS(Planning!$AXK$6:$AYO$200,A88))","v":""},{"$f":"IF(A88=\"\",\"\",COUNTIFS(Planning!$AYP$6:$AZS$200,A88))","v":""}]
[null,{"$f":"IF(A89=\"\",\"\",COUNTIFS(Planning!$C$6:$AG$200,A89))","v":""},{"$f":"IF(A89=\"\",\"\",COUNTIFS(Planning!$AH$6:$BK$200,A89))","v":""},{"$f":"IF(A89=\"\",\"\",COUNTIFS(Planning!$BL$6:$CP$200,A89))","v":""},{"$f":"IF(A89=\"\",\"\",COUNTIFS(Planning!$CQ$6:$DU$200,A89))","v":""},{"$f":"IF(A89=\"\",\"\",COUNTIFS(Planning!$DV$6:$EW$200,A89))","v":""},{"$f":"IF(A89=\"\",\"\",COUNTIFS(Planning!$EX$6:$GB$200,A89))","v":""},{"$f":"IF(A89=\"\",\"\",COUNTIFS(Planning!$GC$6:$HF$200,A89))","v":""},{"$f":"IF(A89=\"\",\"\",COUNTIFS(Planning!$HG$6:$IK$200,A89))","v":""},{"$f":"IF(A89=\"\",\"\",COUNTIFS(Planning!$IL$6:$JO$200,A89))","v":""},{"$f":"IF(A89=\"\",\"\",COUNTIFS(Planning!$JP$6:$KT$200,A89))","v":""},{"$f":"IF(A89=\"\",\"\",COUNTIFS(Planning!$KU$6:$LY$200,A89))","v":""},{"$f":"IF(A89=\"\",\"\",COUNTIFS(Planning!$LZ$6:$NC$200,A89))","v":""},{"$f":"IF(A89=\"\",\"\",COUNTIFS(Planning!$ND$6:$OH$200,A89))","v":""},{"$f":"IF(A89=\"\",\"\",COUNTIFS(Planning!$OI$6:$PL$200,A89))","v":""},{"$f":"IF(A89=\"\",\"\",COUNTIFS(Planning!$PM$6:$QQ$200,A89))","v":""},{"$f":"IF(A89=\"\",\"\",COUNTIFS(Planning!$QR$6:$RV$200,A89))","v":""},{"$f":"IF(A89=\"\",\"\",COUNTIFS(Planning!$RW$6:$SX$200,A89))","v":""},{"$f":"IF(A89=\"\",\"\",COUNTIFS(Planning!$SY$6:$UC$200,A89))","v":""},{"$f":"IF(A89=\"\",\"\",COUNTIFS(Planning!$UD$6:$VG$200,A89))","v":""},{"$f":"IF(A89=\"\",\"\",COUNTIFS(Planning!$VH$6:$WL$200,A89))","v":""},{"$f":"IF(A89=\"\",\"\",COUNTIFS(Planning!$WM$6:$XP$200,A89))","v":""},{"$f":"IF(A89=\"\",\"\",COUNTIFS(Planning!$XQ$6:$YU$200,A89))","v":""},{"$f":"IF(A89=\"\",\"\",COUNTIFS(Planning!$YV$6:$ZZ$200,A89))","v":""},{"$f":"IF(A89=\"\",\"\",COUNTIFS(Planning!$AAA$6:$ABD$200,A89))","v":""},{"$f":"IF(A89=\"\",\"\",COUNTIFS(Planning!$ABE$6:$ACI$200,A89))","v":""},{"$f":"IF(A89=\"\",\"\",COUNTIFS(Planning!$ACJ$6:$ADM$200,A89))","v":""},{"$f":"IF(A89=\"\",\"\",COUNTIFS(Planning!$ADN$6:$AER$200,A89))","v":""},{"$f":"IF(A89=\"\",\"\",COUNTIFS(Planning!$AES$6:$AFW$200,A89))","v":""},{"$f":"IF(A89=\"\",\"\",COUNTIFS(Planning!$AFX$6:$AGZ$200,A89))","v":""},{"$f":"IF(A89=\"\",\"\",COUNTIFS(Planning!$AHA$6:$AIE$200,A89))","v":""},{"$f":"IF(A89=\"\",\"\",COUNTIFS(Planning!$AIF$6:$AJI$200,A89))","v":""},{"$f":"IF(A89=\"\",\"\",COUNTIFS(Planning!$AJJ$6:$AKN$200,A89))","v":""},{"$f":"IF(A89=\"\",\"\",COUNTIFS(Planning!$AKO$6:$ALR$200,A89))","v":""},{"$f":"IF(A89=\"\",\"\",COUNTIFS(Planning!$ALS$6:$AMW$200,A89))","v":""},{"$f":"IF(A89=\"\",\"\",COUNTIFS(Planning!$AMX$6:$AOB$200,A89))","v":""},{"$f":"IF(A89=\"\",\"\",COUNTIFS(Planning!$AOC$6:$APF$200,A89))","v":""},{"$f":"IF(A89=\"\",\"\",COUNTIFS(Planning!$APG$6:$AQK$200,A89))","v":""},{"$f":"IF(A89=\"\",\"\",COUNTIFS(Planning!$AQL$6:$ARO$200,A89))","v":""},{"$f":"IF(A89=\"\",\"\",COUNTIFS(Planning!$ARP$6:$AST$200,A89))","v":""},{"$f":"IF(A89=\"\",\"\",COUNTIFS(Planning!$ASU$6:$ATY$200,A89))","v":""},{"$f":"IF(A89=\"\",\"\",COUNTIFS(Planning!$ATZ$6:$AVA$200,A89))","v":""},{"$f":"IF(A89=\"\",\"\",COUNTIFS(Planning!$AVB$6:$AWF$200,A89))","v":""},{"$f":"IF(A89=\"\",\"\",COUNTIFS(Planning!$AWG$6:$AXJ$200,A89))","v":""},{"$f":"IF(A89=\"\",\"\",COUNTIFS(Planning!$AXK$6:$AYO$200,A89))","v":""},{"$f":"IF(A89=\"\",\"\",COUNTIFS(Planning!$AYP$6:$AZS$200,A89))","v":""}]
[null,{"$f":"IF(A90=\"\",\"\",COUNTIFS(Planning!$C$6:$AG$200,A90))","v":""},{"$f":"IF(A90=\"\",\"\",COUNTIFS(Planning!$AH$6:$BK$200,A90))","v":""},{"$f":"IF(A90=\"\",\"\",COUNTIFS(Planning!$BL$6:$CP$200,A90))","v":""},{"$f":"IF(A90=\"\",\"\",COUNTIFS(Planning!$CQ$6:$DU$200,A90))","v":""},{"$f":"IF(A90=\"\",\"\",COUNTIFS(Planning!$DV$6:$EW$200,A90))","v":""},{"$f":"IF(A90=\"\",\"\",COUNTIFS(Planning!$EX$6:$GB$200,A90))","v":""},{"$f":"IF(A90=\"\",\"\",COUNTIFS(Planning!$GC$6:$HF$200,A90))","v":""},{"$f":"IF(A90=\"\",\"\",COUNTIFS(Planning!$HG$6:$IK$200,A90))","v":""},{"$f":"IF(A90=\"\",\"\",COUNTIFS(Planning!$IL$6:$JO$200,A90))","v":""},{"$f":"IF(A90=\"\",\"\",COUNTIFS(Planning!$JP$6:$KT$200,A90))","v":""},{"$f":"IF(A90=\"\",\"\",COUNTIFS(Planning!$KU$6:$LY$200,A90))","v":""},{"$f":"IF(A90=\"\",\"\",COUNTIFS(Planning!$LZ$6:$NC$200,A90))","v":""},{"$f":"IF(A90=\"\",\"\",COUNTIFS(Planning!$ND$6:$OH$200,A90))","v":""},{"$f":"IF(A90=\"\",\"\",COUNTIFS(Planning!$OI$6:$PL$200,A90))","v":""},{"$f":"IF(A90=\"\",\"\",COUNTIFS(Planning!$PM$6:$QQ$200,A90))","v":""},{"$f":"IF(A90=\"\",\"\",COUNTIFS(Planning!$QR$6:$RV$200,A90))","v":""},{"$f":"IF(A90=\"\",\"\",COUNTIFS(Planning!$RW$6:$SX$200,A90))","v":""},{"$f":"IF(A90=\"\",\"\",COUNTIFS(Planning!$SY$6:$UC$200,A90))","v":""},{"$f":"IF(A90=\"\",\"\",COUNTIFS(Planning!$UD$6:$VG$200,A90))","v":""},{"$f":"IF(A90=\"\",\"\",COUNTIFS(Planning!$VH$6:$WL$200,A90))","v":""},{"$f":"IF(A90=\"\",\"\",COUNTIFS(Planning!$WM$6:$XP$200,A90))","v":""},{"$f":"IF(A90=\"\",\"\",COUNTIFS(Planning!$XQ$6:$YU$200,A90))","v":""},{"$f":"IF(A90=\"\",\"\",COUNTIFS(Planning!$YV$6:$ZZ$200,A90))","v":""},{"$f":"IF(A90=\"\",\"\",COUNTIFS(Planning!$AAA$6:$ABD$200,A90))","v":""},{"$f":"IF(A90=\"\",\"\",COUNTIFS(Planning!$ABE$6:$ACI$200,A90))","v":""},{"$f":"IF(A90=\"\",\"\",COUNTIFS(Planning!$ACJ$6:$ADM$200,A90))","v":""},{"$f":"IF(A90=\"\",\"\",COUNTIFS(Planning!$ADN$6:$AER$200,A90))","v":""},{"$f":"IF(A90=\"\",\"\",COUNTIFS(Planning!$AES$6:$AFW$200,A90))","v":""},{"$f":"IF(A90=\"\",\"\",COUNTIFS(Planning!$AFX$6:$AGZ$200,A90))","v":""},{"$f":"IF(A90=\"\",\"\",COUNTIFS(Planning!$AHA$6:$AIE$200,A90))","v":""},{"$f":"IF(A90=\"\",\"\",COUNTIFS(Planning!$AIF$6:$AJI$200,A90))","v":""},{"$f":"IF(A90=\"\",\"\",COUNTIFS(Planning!$AJJ$6:$AKN$200,A90))","v":""},{"$f":"IF(A90=\"\",\"\",COUNTIFS(Planning!$AKO$6:$ALR$200,A90))","v":""},{"$f":"IF(A90=\"\",\"\",COUNTIFS(Planning!$ALS$6:$AMW$200,A90))","v":""},{"$f":"IF(A90=\"\",\"\",COUNTIFS(Planning!$AMX$6:$AOB$200,A90))","v":""},{"$f":"IF(A90=\"\",\"\",COUNTIFS(Planning!$AOC$6:$APF$200,A90))","v":""},{"$f":"IF(A90=\"\",\"\",COUNTIFS(Planning!$APG$6:$AQK$200,A90))","v":""},{"$f":"IF(A90=\"\",\"\",COUNTIFS(Planning!$AQL$6:$ARO$200,A90))","v":""},{"$f":"IF(A90=\"\",\"\",COUNTIFS(Planning!$ARP$6:$AST$200,A90))","v":""},{"$f":"IF(A90=\"\",\"\",COUNTIFS(Planning!$ASU$6:$ATY$200,A90))","v":""},{"$f":"IF(A90=\"\",\"\",COUNTIFS(Planning!$ATZ$6:$AVA$200,A90))","v":""},{"$f":"IF(A90=\"\",\"\",COUNTIFS(Planning!$AVB$6:$AWF$200,A90))","v":""},{"$f":"IF(A90=\"\",\"\",COUNTIFS(Planning!$AWG$6:$AXJ$200,A90))","v":""},{"$f":"IF(A90=\"\",\"\",COUNTIFS(Planning!$AXK$6:$AYO$200,A90))","v":""},{"$f":"IF(A90=\"\",\"\",COUNTIFS(Planning!$AYP$6:$AZS$200,A90))","v":""}]
[null,{"$f":"IF(A91=\"\",\"\",COUNTIFS(Planning!$C$6:$AG$200,A91))","v":""},{"$f":"IF(A91=\"\",\"\",COUNTIFS(Planning!$AH$6:$BK$200,A91))","v":""},{"$f":"IF(A91=\"\",\"\",COUNTIFS(Planning!$BL$6:$CP$200,A91))","v":""},{"$f":"IF(A91=\"\",\"\",COUNTIFS(Planning!$CQ$6:$DU$200,A91))","v":""},{"$f":"IF(A91=\"\",\"\",COUNTIFS(Planning!$DV$6:$EW$200,A91))","v":""},{"$f":"IF(A91=\"\",\"\",COUNTIFS(Planning!$EX$6:$GB$200,A91))","v":""},{"$f":"IF(A91=\"\",\"\",COUNTIFS(Planning!$GC$6:$HF$200,A91))","v":""},{"$f":"IF(A91=\"\",\"\",COUNTIFS(Planning!$HG$6:$IK$200,A91))","v":""},{"$f":"IF(A91=\"\",\"\",COUNTIFS(Planning!$IL$6:$JO$200,A91))","v":""},{"$f":"IF(A91=\"\",\"\",COUNTIFS(Planning!$JP$6:$KT$200,A91))","v":""},{"$f":"IF(A91=\"\",\"\",COUNTIFS(Planning!$KU$6:$LY$200,A91))","v":""},{"$f":"IF(A91=\"\",\"\",COUNTIFS(Planning!$LZ$6:$NC$200,A91))","v":""},{"$f":"IF(A91=\"\",\"\",COUNTIFS(Planning!$ND$6:$OH$200,A91))","v":""},{"$f":"IF(A91=\"\",\"\",COUNTIFS(Planning!$OI$6:$PL$200,A91))","v":""},{"$f":"IF(A91=\"\",\"\",COUNTIFS(Planning!$PM$6:$QQ$200,A91))","v":""},{"$f":"IF(A91=\"\",\"\",COUNTIFS(Planning!$QR$6:$RV$200,A91))","v":""},{"$f":"IF(A91=\"\",\"\",COUNTIFS(Planning!$RW$6:$SX$200,A91))","v":""},{"$f":"IF(A91=\"\",\"\",COUNTIFS(Planning!$SY$6:$UC$200,A91))","v":""},{"$f":"IF(A91=\"\",\"\",COUNTIFS(Planning!$UD$6:$VG$200,A91))","v":""},{"$f":"IF(A91=\"\",\"\",COUNTIFS(Planning!$VH$6:$WL$200,A91))","v":""},{"$f":"IF(A91=\"\",\"\",COUNTIFS(Planning!$WM$6:$XP$200,A91))","v":""},{"$f":"IF(A91=\"\",\"\",COUNTIFS(Planning!$XQ$6:$YU$200,A91))","v":""},{"$f":"IF(A91=\"\",\"\",COUNTIFS(Planning!$YV$6:$ZZ$200,A91))","v":""},{"$f":"IF(A91=\"\",\"\",COUNTIFS(Planning!$AAA$6:$ABD$200,A91))","v":""},{"$f":"IF(A91=\"\",\"\",COUNTIFS(Planning!$ABE$6:$ACI$200,A91))","v":""},{"$f":"IF(A91=\"\",\"\",COUNTIFS(Planning!$ACJ$6:$ADM$200,A91))","v":""},{"$f":"IF(A91=\"\",\"\",COUNTIFS(Planning!$ADN$6:$AER$200,A91))","v":""},{"$f":"IF(A91=\"\",\"\",COUNTIFS(Planning!$AES$6:$AFW$200,A91))","v":""},{"$f":"IF(A91=\"\",\"\",COUNTIFS(Planning!$AFX$6:$AGZ$200,A91))","v":""},{"$f":"IF(A91=\"\",\"\",COUNTIFS(Planning!$AHA$6:$AIE$200,A91))","v":""},{"$f":"IF(A91=\"\",\"\",COUNTIFS(Planning!$AIF$6:$AJI$200,A91))","v":""},{"$f":"IF(A91=\"\",\"\",COUNTIFS(Planning!$AJJ$6:$AKN$200,A91))","v":""},{"$f":"IF(A91=\"\",\"\",COUNTIFS(Planning!$AKO$6:$ALR$200,A91))","v":""},{"$f":"IF(A91=\"\",\"\",COUNTIFS(Planning!$ALS$6:$AMW$200,A91))","v":""},{"$f":"IF(A91=\"\",\"\",COUNTIFS(Planning!$AMX$6:$AOB$200,A91))","v":""},{"$f":"IF(A91=\"\",\"\",COUNTIFS(Planning!$AOC$6:$APF$200,A91))","v":""},{"$f":"IF(A91=\"\",\"\",COUNTIFS(Planning!$APG$6:$AQK$200,A91))","v":""},{"$f":"IF(A91=\"\",\"\",COUNTIFS(Planning!$AQL$6:$ARO$200,A91))","v":""},{"$f":"IF(A91=\"\",\"\",COUNTIFS(Planning!$ARP$6:$AST$200,A91))","v":""},{"$f":"IF(A91=\"\",\"\",COUNTIFS(Planning!$ASU$6:$ATY$200,A91))","v":""},{"$f":"IF(A91=\"\",\"\",COUNTIFS(Planning!$ATZ$6:$AVA$200,A91))","v":""},{"$f":"IF(A91=\"\",\"\",COUNTIFS(Planning!$AVB$6:$AWF$200,A91))","v":""},{"$f":"IF(A91=\"\",\"\",COUNTIFS(Planning!$AWG$6:$AXJ$200,A91))","v":""},{"$f":"IF(A91=\"\",\"\",COUNTIFS(Planning!$AXK$6:$AYO$200,A91))","v":""},{"$f":"IF(A91=\"\",\"\",COUNTIFS(Planning!$AYP$6:$AZS$200,A91))","v":""}]
[null,{"$f":"IF(A92=\"\",\"\",COUNTIFS(Planning!$C$6:$AG$200,A92))","v":""},{"$f":"IF(A92=\"\",\"\",COUNTIFS(Planning!$AH$6:$BK$200,A92))","v":""},{"$f":"IF(A92=\"\",\"\",COUNTIFS(Planning!$BL$6:$CP$200,A92))","v":""},{"$f":"IF(A92=\"\",\"\",COUNTIFS(Planning!$CQ$6:$DU$200,A92))","v":""},{"$f":"IF(A92=\"\",\"\",COUNTIFS(Planning!$DV$6:$EW$200,A92))","v":""},{"$f":"IF(A92=\"\",\"\",COUNTIFS(Planning!$EX$6:$GB$200,A92))","v":""},{"$f":"IF(A92=\"\",\"\",COUNTIFS(Planning!$GC$6:$HF$200,A92))","v":""},{"$f":"IF(A92=\"\",\"\",COUNTIFS(Planning!$HG$6:$IK$200,A92))","v":""},{"$f":"IF(A92=\"\",\"\",COUNTIFS(Planning!$IL$6:$JO$200,A92))","v":""},{"$f":"IF(A92=\"\",\"\",COUNTIFS(Planning!$JP$6:$KT$200,A92))","v":""},{"$f":"IF(A92=\"\",\"\",COUNTIFS(Planning!$KU$6:$LY$200,A92))","v":""},{"$f":"IF(A92=\"\",\"\",COUNTIFS(Planning!$LZ$6:$NC$200,A92))","v":""},{"$f":"IF(A92=\"\",\"\",COUNTIFS(Planning!$ND$6:$OH$200,A92))","v":""},{"$f":"IF(A92=\"\",\"\",COUNTIFS(Planning!$OI$6:$PL$200,A92))","v":""},{"$f":"IF(A92=\"\",\"\",COUNTIFS(Planning!$PM$6:$QQ$200,A92))","v":""},{"$f":"IF(A92=\"\",\"\",COUNTIFS(Planning!$QR$6:$RV$200,A92))","v":""},{"$f":"IF(A92=\"\",\"\",COUNTIFS(Planning!$RW$6:$SX$200,A92))","v":""},{"$f":"IF(A92=\"\",\"\",COUNTIFS(Planning!$SY$6:$UC$200,A92))","v":""},{"$f":"IF(A92=\"\",\"\",COUNTIFS(Planning!$UD$6:$VG$200,A92))","v":""},{"$f":"IF(A92=\"\",\"\",COUNTIFS(Planning!$VH$6:$WL$200,A92))","v":""},{"$f":"IF(A92=\"\",\"\",COUNTIFS(Planning!$WM$6:$XP$200,A92))","v":""},{"$f":"IF(A92=\"\",\"\",COUNTIFS(Planning!$XQ$6:$YU$200,A92))","v":""},{"$f":"IF(A92=\"\",\"\",COUNTIFS(Planning!$YV$6:$ZZ$200,A92))","v":""},{"$f":"IF(A92=\"\",\"\",COUNTIFS(Planning!$AAA$6:$ABD$200,A92))","v":""},{"$f":"IF(A92=\"\",\"\",COUNTIFS(Planning!$ABE$6:$ACI$200,A92))","v":""},{"$f":"IF(A92=\"\",\"\",COUNTIFS(Planning!$ACJ$6:$ADM$200,A92))","v":""},{"$f":"IF(A92=\"\",\"\",COUNTIFS(Planning!$ADN$6:$AER$200,A92))","v":""},{"$f":"IF(A92=\"\",\"\",COUNTIFS(Planning!$AES$6:$AFW$200,A92))","v":""},{"$f":"IF(A92=\"\",\"\",COUNTIFS(Planning!$AFX$6:$AGZ$200,A92))","v":""},{"$f":"IF(A92=\"\",\"\",COUNTIFS(Planning!$AHA$6:$AIE$200,A92))","v":""},{"$f":"IF(A92=\"\",\"\",COUNTIFS(Planning!$AIF$6:$AJI$200,A92))","v":""},{"$f":"IF(A92=\"\",\"\",COUNTIFS(Planning!$AJJ$6:$AKN$200,A92))","v":""},{"$f":"IF(A92=\"\",\"\",COUNTIFS(Planning!$AKO$6:$ALR$200,A92))","v":""},{"$f":"IF(A92=\"\",\"\",COUNTIFS(Planning!$ALS$6:$AMW$200,A92))","v":""},{"$f":"IF(A92=\"\",\"\",COUNTIFS(Planning!$AMX$6:$AOB$200,A92))","v":""},{"$f":"IF(A92=\"\",\"\",COUNTIFS(Planning!$AOC$6:$APF$200,A92))","v":""},{"$f":"IF(A92=\"\",\"\",COUNTIFS(Planning!$APG$6:$AQK$200,A92))","v":""},{"$f":"IF(A92=\"\",\"\",COUNTIFS(Planning!$AQL$6:$ARO$200,A92))","v":""},{"$f":"IF(A92=\"\",\"\",COUNTIFS(Planning!$ARP$6:$AST$200,A92))","v":""},{"$f":"IF(A92=\"\",\"\",COUNTIFS(Planning!$ASU$6:$ATY$200,A92))","v":""},{"$f":"IF(A92=\"\",\"\",COUNTIFS(Planning!$ATZ$6:$AVA$200,A92))","v":""},{"$f":"IF(A92=\"\",\"\",COUNTIFS(Planning!$AVB$6:$AWF$200,A92))","v":""},{"$f":"IF(A92=\"\",\"\",COUNTIFS(Planning!$AWG$6:$AXJ$200,A92))","v":""},{"$f":"IF(A92=\"\",\"\",COUNTIFS(Planning!$AXK$6:$AYO$200,A92))","v":""},{"$f":"IF(A92=\"\",\"\",COUNTIFS(Planning!$AYP$6:$AZS$200,A92))","v":""}]
[null,{"$f":"IF(A93=\"\",\"\",COUNTIFS(Planning!$C$6:$AG$200,A93))","v":""},{"$f":"IF(A93=\"\",\"\",COUNTIFS(Planning!$AH$6:$BK$200,A93))","v":""},{"$f":"IF(A93=\"\",\"\",COUNTIFS(Planning!$BL$6:$CP$200,A93))","v":""},{"$f":"IF(A93=\"\",\"\",COUNTIFS(Planning!$CQ$6:$DU$200,A93))","v":""},{"$f":"IF(A93=\"\",\"\",COUNTIFS(Planning!$DV$6:$EW$200,A93))","v":""},{"$f":"IF(A93=\"\",\"\",COUNTIFS(Planning!$EX$6:$GB$200,A93))","v":""},{"$f":"IF(A93=\"\",\"\",COUNTIFS(Planning!$GC$6:$HF$200,A93))","v":""},{"$f":"IF(A93=\"\",\"\",COUNTIFS(Planning!$HG$6:$IK$200,A93))","v":""},{"$f":"IF(A93=\"\",\"\",COUNTIFS(Planning!$IL$6:$JO$200,A93))","v":""},{"$f":"IF(A93=\"\",\"\",COUNTIFS(Planning!$JP$6:$KT$200,A93))","v":""},{"$f":"IF(A93=\"\",\"\",COUNTIFS(Planning!$KU$6:$LY$200,A93))","v":""},{"$f":"IF(A93=\"\",\"\",COUNTIFS(Planning!$LZ$6:$NC$200,A93))","v":""},{"$f":"IF(A93=\"\",\"\",COUNTIFS(Planning!$ND$6:$OH$200,A93))","v":""},{"$f":"IF(A93=\"\",\"\",COUNTIFS(Planning!$OI$6:$PL$200,A93))","v":""},{"$f":"IF(A93=\"\",\"\",COUNTIFS(Planning!$PM$6:$QQ$200,A93))","v":""},{"$f":"IF(A93=\"\",\"\",COUNTIFS(Planning!$QR$6:$RV$200,A93))","v":""},{"$f":"IF(A93=\"\",\"\",COUNTIFS(Planning!$RW$6:$SX$200,A93))","v":""},{"$f":"IF(A93=\"\",\"\",COUNTIFS(Planning!$SY$6:$UC$200,A93))","v":""},{"$f":"IF(A93=\"\",\"\",COUNTIFS(Planning!$UD$6:$VG$200,A93))","v":""},{"$f":"IF(A93=\"\",\"\",COUNTIFS(Planning!$VH$6:$WL$200,A93))","v":""},{"$f":"IF(A93=\"\",\"\",COUNTIFS(Planning!$WM$6:$XP$200,A93))","v":""},{"$f":"IF(A93=\"\",\"\",COUNTIFS(Planning!$XQ$6:$YU$200,A93))","v":""},{"$f":"IF(A93=\"\",\"\",COUNTIFS(Planning!$YV$6:$ZZ$200,A93))","v":""},{"$f":"IF(A93=\"\",\"\",COUNTIFS(Planning!$AAA$6:$ABD$200,A93))","v":""},{"$f":"IF(A93=\"\",\"\",COUNTIFS(Planning!$ABE$6:$ACI$200,A93))","v":""},{"$f":"IF(A93=\"\",\"\",COUNTIFS(Planning!$ACJ$6:$ADM$200,A93))","v":""},{"$f":"IF(A93=\"\",\"\",COUNTIFS(Planning!$ADN$6:$AER$200,A93))","v":""},{"$f":"IF(A93=\"\",\"\",COUNTIFS(Planning!$AES$6:$AFW$200,A93))","v":""},{"$f":"IF(A93=\"\",\"\",COUNTIFS(Planning!$AFX$6:$AGZ$200,A93))","v":""},{"$f":"IF(A93=\"\",\"\",COUNTIFS(Planning!$AHA$6:$AIE$200,A93))","v":""},{"$f":"IF(A93=\"\",\"\",COUNTIFS(Planning!$AIF$6:$AJI$200,A93))","v":""},{"$f":"IF(A93=\"\",\"\",COUNTIFS(Planning!$AJJ$6:$AKN$200,A93))","v":""},{"$f":"IF(A93=\"\",\"\",COUNTIFS(Planning!$AKO$6:$ALR$200,A93))","v":""},{"$f":"IF(A93=\"\",\"\",COUNTIFS(Planning!$ALS$6:$AMW$200,A93))","v":""},{"$f":"IF(A93=\"\",\"\",COUNTIFS(Planning!$AMX$6:$AOB$200,A93))","v":""},{"$f":"IF(A93=\"\",\"\",COUNTIFS(Planning!$AOC$6:$APF$200,A93))","v":""},{"$f":"IF(A93=\"\",\"\",COUNTIFS(Planning!$APG$6:$AQK$200,A93))","v":""},{"$f":"IF(A93=\"\",\"\",COUNTIFS(Planning!$AQL$6:$ARO$200,A93))","v":""},{"$f":"IF(A93=\"\",\"\",COUNTIFS(Planning!$ARP$6:$AST$200,A93))","v":""},{"$f":"IF(A93=\"\",\"\",COUNTIFS(Planning!$ASU$6:$ATY$200,A93))","v":""},{"$f":"IF(A93=\"\",\"\",COUNTIFS(Planning!$ATZ$6:$AVA$200,A93))","v":""},{"$f":"IF(A93=\"\",\"\",COUNTIFS(Planning!$AVB$6:$AWF$200,A93))","v":""},{"$f":"IF(A93=\"\",\"\",COUNTIFS(Planning!$AWG$6:$AXJ$200,A93))","v":""},{"$f":"IF(A93=\"\",\"\",COUNTIFS(Planning!$AXK$6:$AYO$200,A93))","v":""},{"$f":"IF(A93=\"\",\"\",COUNTIFS(Planning!$AYP$6:$AZS$200,A93))","v":""}]
[null,{"$f":"IF(A94=\"\",\"\",COUNTIFS(Planning!$C$6:$AG$200,A94))","v":""},{"$f":"IF(A94=\"\",\"\",COUNTIFS(Planning!$AH$6:$BK$200,A94))","v":""},{"$f":"IF(A94=\"\",\"\",COUNTIFS(Planning!$BL$6:$CP$200,A94))","v":""},{"$f":"IF(A94=\"\",\"\",COUNTIFS(Planning!$CQ$6:$DU$200,A94))","v":""},{"$f":"IF(A94=\"\",\"\",COUNTIFS(Planning!$DV$6:$EW$200,A94))","v":""},{"$f":"IF(A94=\"\",\"\",COUNTIFS(Planning!$EX$6:$GB$200,A94))","v":""},{"$f":"IF(A94=\"\",\"\",COUNTIFS(Planning!$GC$6:$HF$200,A94))","v":""},{"$f":"IF(A94=\"\",\"\",COUNTIFS(Planning!$HG$6:$IK$200,A94))","v":""},{"$f":"IF(A94=\"\",\"\",COUNTIFS(Planning!$IL$6:$JO$200,A94))","v":""},{"$f":"IF(A94=\"\",\"\",COUNTIFS(Planning!$JP$6:$KT$200,A94))","v":""},{"$f":"IF(A94=\"\",\"\",COUNTIFS(Planning!$KU$6:$LY$200,A94))","v":""},{"$f":"IF(A94=\"\",\"\",COUNTIFS(Planning!$LZ$6:$NC$200,A94))","v":""},{"$f":"IF(A94=\"\",\"\",COUNTIFS(Planning!$ND$6:$OH$200,A94))","v":""},{"$f":"IF(A94=\"\",\"\",COUNTIFS(Planning!$OI$6:$PL$200,A94))","v":""},{"$f":"IF(A94=\"\",\"\",COUNTIFS(Planning!$PM$6:$QQ$200,A94))","v":""},{"$f":"IF(A94=\"\",\"\",COUNTIFS(Planning!$QR$6:$RV$200,A94))","v":""},{"$f":"IF(A94=\"\",\"\",COUNTIFS(Planning!$RW$6:$SX$200,A94))","v":""},{"$f":"IF(A94=\"\",\"\",COUNTIFS(Planning!$SY$6:$UC$200,A94))","v":""},{"$f":"IF(A94=\"\",\"\",COUNTIFS(Planning!$UD$6:$VG$200,A94))","v":""},{"$f":"IF(A94=\"\",\"\",COUNTIFS(Planning!$VH$6:$WL$200,A94))","v":""},{"$f":"IF(A94=\"\",\"\",COUNTIFS(Planning!$WM$6:$XP$200,A94))","v":""},{"$f":"IF(A94=\"\",\"\",COUNTIFS(Planning!$XQ$6:$YU$200,A94))","v":""},{"$f":"IF(A94=\"\",\"\",COUNTIFS(Planning!$YV$6:$ZZ$200,A94))","v":""},{"$f":"IF(A94=\"\",\"\",COUNTIFS(Planning!$AAA$6:$ABD$200,A94))","v":""},{"$f":"IF(A94=\"\",\"\",COUNTIFS(Planning!$ABE$6:$ACI$200,A94))","v":""},{"$f":"IF(A94=\"\",\"\",COUNTIFS(Planning!$ACJ$6:$ADM$200,A94))","v":""},{"$f":"IF(A94=\"\",\"\",COUNTIFS(Planning!$ADN$6:$AER$200,A94))","v":""},{"$f":"IF(A94=\"\",\"\",COUNTIFS(Planning!$AES$6:$AFW$200,A94))","v":""},{"$f":"IF(A94=\"\",\"\",COUNTIFS(Planning!$AFX$6:$AGZ$200,A94))","v":""},{"$f":"IF(A94=\"\",\"\",COUNTIFS(Planning!$AHA$6:$AIE$200,A94))","v":""},{"$f":"IF(A94=\"\",\"\",COUNTIFS(Planning!$AIF$6:$AJI$200,A94))","v":""},{"$f":"IF(A94=\"\",\"\",COUNTIFS(Planning!$AJJ$6:$AKN$200,A94))","v":""},{"$f":"IF(A94=\"\",\"\",COUNTIFS(Planning!$AKO$6:$ALR$200,A94))","v":""},{"$f":"IF(A94=\"\",\"\",COUNTIFS(Planning!$ALS$6:$AMW$200,A94))","v":""},{"$f":"IF(A94=\"\",\"\",COUNTIFS(Planning!$AMX$6:$AOB$200,A94))","v":""},{"$f":"IF(A94=\"\",\"\",COUNTIFS(Planning!$AOC$6:$APF$200,A94))","v":""},{"$f":"IF(A94=\"\",\"\",COUNTIFS(Planning!$APG$6:$AQK$200,A94))","v":""},{"$f":"IF(A94=\"\",\"\",COUNTIFS(Planning!$AQL$6:$ARO$200,A94))","v":""},{"$f":"IF(A94=\"\",\"\",COUNTIFS(Planning!$ARP$6:$AST$200,A94))","v":""},{"$f":"IF(A94=\"\",\"\",COUNTIFS(Planning!$ASU$6:$ATY$200,A94))","v":""},{"$f":"IF(A94=\"\",\"\",COUNTIFS(Planning!$ATZ$6:$AVA$200,A94))","v":""},{"$f":"IF(A94=\"\",\"\",COUNTIFS(Planning!$AVB$6:$AWF$200,A94))","v":""},{"$f":"IF(A94=\"\",\"\",COUNTIFS(Planning!$AWG$6:$AXJ$200,A94))","v":""},{"$f":"IF(A94=\"\",\"\",COUNTIFS(Planning!$AXK$6:$AYO$200,A94))","v":""},{"$f":"IF(A94=\"\",\"\",COUNTIFS(Planning!$AYP$6:$AZS$200,A94))","v":""}]
[null,{"$f":"IF(A95=\"\",\"\",COUNTIFS(Planning!$C$6:$AG$200,A95))","v":""},{"$f":"IF(A95=\"\",\"\",COUNTIFS(Planning!$AH$6:$BK$200,A95))","v":""},{"$f":"IF(A95=\"\",\"\",COUNTIFS(Planning!$BL$6:$CP$200,A95))","v":""},{"$f":"IF(A95=\"\",\"\",COUNTIFS(Planning!$CQ$6:$DU$200,A95))","v":""},{"$f":"IF(A95=\"\",\"\",COUNTIFS(Planning!$DV$6:$EW$200,A95))","v":""},{"$f":"IF(A95=\"\",\"\",COUNTIFS(Planning!$EX$6:$GB$200,A95))","v":""},{"$f":"IF(A95=\"\",\"\",COUNTIFS(Planning!$GC$6:$HF$200,A95))","v":""},{"$f":"IF(A95=\"\",\"\",COUNTIFS(Planning!$HG$6:$IK$200,A95))","v":""},{"$f":"IF(A95=\"\",\"\",COUNTIFS(Planning!$IL$6:$JO$200,A95))","v":""},{"$f":"IF(A95=\"\",\"\",COUNTIFS(Planning!$JP$6:$KT$200,A95))","v":""},{"$f":"IF(A95=\"\",\"\",COUNTIFS(Planning!$KU$6:$LY$200,A95))","v":""},{"$f":"IF(A95=\"\",\"\",COUNTIFS(Planning!$LZ$6:$NC$200,A95))","v":""},{"$f":"IF(A95=\"\",\"\",COUNTIFS(Planning!$ND$6:$OH$200,A95))","v":""},{"$f":"IF(A95=\"\",\"\",COUNTIFS(Planning!$OI$6:$PL$200,A95))","v":""},{"$f":"IF(A95=\"\",\"\",COUNTIFS(Planning!$PM$6:$QQ$200,A95))","v":""},{"$f":"IF(A95=\"\",\"\",COUNTIFS(Planning!$QR$6:$RV$200,A95))","v":""},{"$f":"IF(A95=\"\",\"\",COUNTIFS(Planning!$RW$6:$SX$200,A95))","v":""},{"$f":"IF(A95=\"\",\"\",COUNTIFS(Planning!$SY$6:$UC$200,A95))","v":""},{"$f":"IF(A95=\"\",\"\",COUNTIFS(Planning!$UD$6:$VG$200,A95))","v":""},{"$f":"IF(A95=\"\",\"\",COUNTIFS(Planning!$VH$6:$WL$200,A95))","v":""},{"$f":"IF(A95=\"\",\"\",COUNTIFS(Planning!$WM$6:$XP$200,A95))","v":""},{"$f":"IF(A95=\"\",\"\",COUNTIFS(Planning!$XQ$6:$YU$200,A95))","v":""},{"$f":"IF(A95=\"\",\"\",COUNTIFS(Planning!$YV$6:$ZZ$200,A95))","v":""},{"$f":"IF(A95=\"\",\"\",COUNTIFS(Planning!$AAA$6:$ABD$200,A95))","v":""},{"$f":"IF(A95=\"\",\"\",COUNTIFS(Planning!$ABE$6:$ACI$200,A95))","v":""},{"$f":"IF(A95=\"\",\"\",COUNTIFS(Planning!$ACJ$6:$ADM$200,A95))","v":""},{"$f":"IF(A95=\"\",\"\",COUNTIFS(Planning!$ADN$6:$AER$200,A95))","v":""},{"$f":"IF(A95=\"\",\"\",COUNTIFS(Planning!$AES$6:$AFW$200,A95))","v":""},{"$f":"IF(A95=\"\",\"\",COUNTIFS(Planning!$AFX$6:$AGZ$200,A95))","v":""},{"$f":"IF(A95=\"\",\"\",COUNTIFS(Planning!$AHA$6:$AIE$200,A95))","v":""},{"$f":"IF(A95=\"\",\"\",COUNTIFS(Planning!$AIF$6:$AJI$200,A95))","v":""},{"$f":"IF(A95=\"\",\"\",COUNTIFS(Planning!$AJJ$6:$AKN$200,A95))","v":""},{"$f":"IF(A95=\"\",\"\",COUNTIFS(Planning!$AKO$6:$ALR$200,A95))","v":""},{"$f":"IF(A95=\"\",\"\",COUNTIFS(Planning!$ALS$6:$AMW$200,A95))","v":""},{"$f":"IF(A95=\"\",\"\",COUNTIFS(Planning!$AMX$6:$AOB$200,A95))","v":""},{"$f":"IF(A95=\"\",\"\",COUNTIFS(Planning!$AOC$6:$APF$200,A95))","v":""},{"$f":"IF(A95=\"\",\"\",COUNTIFS(Planning!$APG$6:$AQK$200,A95))","v":""},{"$f":"IF(A95=\"\",\"\",COUNTIFS(Planning!$AQL$6:$ARO$200,A95))","v":""},{"$f":"IF(A95=\"\",\"\",COUNTIFS(Planning!$ARP$6:$AST$200,A95))","v":""},{"$f":"IF(A95=\"\",\"\",COUNTIFS(Planning!$ASU$6:$ATY$200,A95))","v":""},{"$f":"IF(A95=\"\",\"\",COUNTIFS(Planning!$ATZ$6:$AVA$200,A95))","v":""},{"$f":"IF(A95=\"\",\"\",COUNTIFS(Planning!$AVB$6:$AWF$200,A95))","v":""},{"$f":"IF(A95=\"\",\"\",COUNTIFS(Planning!$AWG$6:$AXJ$200,A95))","v":""},{"$f":"IF(A95=\"\",\"\",COUNTIFS(Planning!$AXK$6:$AYO$200,A95))","v":""},{"$f":"IF(A95=\"\",\"\",COUNTIFS(Planning!$AYP$6:$AZS$200,A95))","v":""}]
[null,{"$f":"IF(A96=\"\",\"\",COUNTIFS(Planning!$C$6:$AG$200,A96))","v":""},{"$f":"IF(A96=\"\",\"\",COUNTIFS(Planning!$AH$6:$BK$200,A96))","v":""},{"$f":"IF(A96=\"\",\"\",COUNTIFS(Planning!$BL$6:$CP$200,A96))","v":""},{"$f":"IF(A96=\"\",\"\",COUNTIFS(Planning!$CQ$6:$DU$200,A96))","v":""},{"$f":"IF(A96=\"\",\"\",COUNTIFS(Planning!$DV$6:$EW$200,A96))","v":""},{"$f":"IF(A96=\"\",\"\",COUNTIFS(Planning!$EX$6:$GB$200,A96))","v":""},{"$f":"IF(A96=\"\",\"\",COUNTIFS(Planning!$GC$6:$HF$200,A96))","v":""},{"$f":"IF(A96=\"\",\"\",COUNTIFS(Planning!$HG$6:$IK$200,A96))","v":""},{"$f":"IF(A96=\"\",\"\",COUNTIFS(Planning!$IL$6:$JO$200,A96))","v":""},{"$f":"IF(A96=\"\",\"\",COUNTIFS(Planning!$JP$6:$KT$200,A96))","v":""},{"$f":"IF(A96=\"\",\"\",COUNTIFS(Planning!$KU$6:$LY$200,A96))","v":""},{"$f":"IF(A96=\"\",\"\",COUNTIFS(Planning!$LZ$6:$NC$200,A96))","v":""},{"$f":"IF(A96=\"\",\"\",COUNTIFS(Planning!$ND$6:$OH$200,A96))","v":""},{"$f":"IF(A96=\"\",\"\",COUNTIFS(Planning!$OI$6:$PL$200,A96))","v":""},{"$f":"IF(A96=\"\",\"\",COUNTIFS(Planning!$PM$6:$QQ$200,A96))","v":""},{"$f":"IF(A96=\"\",\"\",COUNTIFS(Planning!$QR$6:$RV$200,A96))","v":""},{"$f":"IF(A96=\"\",\"\",COUNTIFS(Planning!$RW$6:$SX$200,A96))","v":""},{"$f":"IF(A96=\"\",\"\",COUNTIFS(Planning!$SY$6:$UC$200,A96))","v":""},{"$f":"IF(A96=\"\",\"\",COUNTIFS(Planning!$UD$6:$VG$200,A96))","v":""},{"$f":"IF(A96=\"\",\"\",COUNTIFS(Planning!$VH$6:$WL$200,A96))","v":""},{"$f":"IF(A96=\"\",\"\",COUNTIFS(Planning!$WM$6:$XP$200,A96))","v":""},{"$f":"IF(A96=\"\",\"\",COUNTIFS(Planning!$XQ$6:$YU$200,A96))","v":""},{"$f":"IF(A96=\"\",\"\",COUNTIFS(Planning!$YV$6:$ZZ$200,A96))","v":""},{"$f":"IF(A96=\"\",\"\",COUNTIFS(Planning!$AAA$6:$ABD$200,A96))","v":""},{"$f":"IF(A96=\"\",\"\",COUNTIFS(Planning!$ABE$6:$ACI$200,A96))","v":""},{"$f":"IF(A96=\"\",\"\",COUNTIFS(Planning!$ACJ$6:$ADM$200,A96))","v":""},{"$f":"IF(A96=\"\",\"\",COUNTIFS(Planning!$ADN$6:$AER$200,A96))","v":""},{"$f":"IF(A96=\"\",\"\",COUNTIFS(Planning!$AES$6:$AFW$200,A96))","v":""},{"$f":"IF(A96=\"\",\"\",COUNTIFS(Planning!$AFX$6:$AGZ$200,A96))","v":""},{"$f":"IF(A96=\"\",\"\",COUNTIFS(Planning!$AHA$6:$AIE$200,A96))","v":""},{"$f":"IF(A96=\"\",\"\",COUNTIFS(Planning!$AIF$6:$AJI$200,A96))","v":""},{"$f":"IF(A96=\"\",\"\",COUNTIFS(Planning!$AJJ$6:$AKN$200,A96))","v":""},{"$f":"IF(A96=\"\",\"\",COUNTIFS(Planning!$AKO$6:$ALR$200,A96))","v":""},{"$f":"IF(A96=\"\",\"\",COUNTIFS(Planning!$ALS$6:$AMW$200,A96))","v":""},{"$f":"IF(A96=\"\",\"\",COUNTIFS(Planning!$AMX$6:$AOB$200,A96))","v":""},{"$f":"IF(A96=\"\",\"\",COUNTIFS(Planning!$AOC$6:$APF$200,A96))","v":""},{"$f":"IF(A96=\"\",\"\",COUNTIFS(Planning!$APG$6:$AQK$200,A96))","v":""},{"$f":"IF(A96=\"\",\"\",COUNTIFS(Planning!$AQL$6:$ARO$200,A96))","v":""},{"$f":"IF(A96=\"\",\"\",COUNTIFS(Planning!$ARP$6:$AST$200,A96))","v":""},{"$f":"IF(A96=\"\",\"\",COUNTIFS(Planning!$ASU$6:$ATY$200,A96))","v":""},{"$f":"IF(A96=\"\",\"\",COUNTIFS(Planning!$ATZ$6:$AVA$200,A96))","v":""},{"$f":"IF(A96=\"\",\"\",COUNTIFS(Planning!$AVB$6:$AWF$200,A96))","v":""},{"$f":"IF(A96=\"\",\"\",COUNTIFS(Planning!$AWG$6:$AXJ$200,A96))","v":""},{"$f":"IF(A96=\"\",\"\",COUNTIFS(Planning!$AXK$6:$AYO$200,A96))","v":""},{"$f":"IF(A96=\"\",\"\",COUNTIFS(Planning!$AYP$6:$AZS$200,A96))","v":""}]
[null,{"$f":"IF(A97=\"\",\"\",COUNTIFS(Planning!$C$6:$AG$200,A97))","v":""},{"$f":"IF(A97=\"\",\"\",COUNTIFS(Planning!$AH$6:$BK$200,A97))","v":""},{"$f":"IF(A97=\"\",\"\",COUNTIFS(Planning!$BL$6:$CP$200,A97))","v":""},{"$f":"IF(A97=\"\",\"\",COUNTIFS(Planning!$CQ$6:$DU$200,A97))","v":""},{"$f":"IF(A97=\"\",\"\",COUNTIFS(Planning!$DV$6:$EW$200,A97))","v":""},{"$f":"IF(A97=\"\",\"\",COUNTIFS(Planning!$EX$6:$GB$200,A97))","v":""},{"$f":"IF(A97=\"\",\"\",COUNTIFS(Planning!$GC$6:$HF$200,A97))","v":""},{"$f":"IF(A97=\"\",\"\",COUNTIFS(Planning!$HG$6:$IK$200,A97))","v":""},{"$f":"IF(A97=\"\",\"\",COUNTIFS(Planning!$IL$6:$JO$200,A97))","v":""},{"$f":"IF(A97=\"\",\"\",COUNTIFS(Planning!$JP$6:$KT$200,A97))","v":""},{"$f":"IF(A97=\"\",\"\",COUNTIFS(Planning!$KU$6:$LY$200,A97))","v":""},{"$f":"IF(A97=\"\",\"\",COUNTIFS(Planning!$LZ$6:$NC$200,A97))","v":""},{"$f":"IF(A97=\"\",\"\",COUNTIFS(Planning!$ND$6:$OH$200,A97))","v":""},{"$f":"IF(A97=\"\",\"\",COUNTIFS(Planning!$OI$6:$PL$200,A97))","v":""},{"$f":"IF(A97=\"\",\"\",COUNTIFS(Planning!$PM$6:$QQ$200,A97))","v":""},{"$f":"IF(A97=\"\",\"\",COUNTIFS(Planning!$QR$6:$RV$200,A97))","v":""},{"$f":"IF(A97=\"\",\"\",COUNTIFS(Planning!$RW$6:$SX$200,A97))","v":""},{"$f":"IF(A97=\"\",\"\",COUNTIFS(Planning!$SY$6:$UC$200,A97))","v":""},{"$f":"IF(A97=\"\",\"\",COUNTIFS(Planning!$UD$6:$VG$200,A97))","v":""},{"$f":"IF(A97=\"\",\"\",COUNTIFS(Planning!$VH$6:$WL$200,A97))","v":""},{"$f":"IF(A97=\"\",\"\",COUNTIFS(Planning!$WM$6:$XP$200,A97))","v":""},{"$f":"IF(A97=\"\",\"\",COUNTIFS(Planning!$XQ$6:$YU$200,A97))","v":""},{"$f":"IF(A97=\"\",\"\",COUNTIFS(Planning!$YV$6:$ZZ$200,A97))","v":""},{"$f":"IF(A97=\"\",\"\",COUNTIFS(Planning!$AAA$6:$ABD$200,A97))","v":""},{"$f":"IF(A97=\"\",\"\",COUNTIFS(Planning!$ABE$6:$ACI$200,A97))","v":""},{"$f":"IF(A97=\"\",\"\",COUNTIFS(Planning!$ACJ$6:$ADM$200,A97))","v":""},{"$f":"IF(A97=\"\",\"\",COUNTIFS(Planning!$ADN$6:$AER$200,A97))","v":""},{"$f":"IF(A97=\"\",\"\",COUNTIFS(Planning!$AES$6:$AFW$200,A97))","v":""},{"$f":"IF(A97=\"\",\"\",COUNTIFS(Planning!$AFX$6:$AGZ$200,A97))","v":""},{"$f":"IF(A97=\"\",\"\",COUNTIFS(Planning!$AHA$6:$AIE$200,A97))","v":""},{"$f":"IF(A97=\"\",\"\",COUNTIFS(Planning!$AIF$6:$AJI$200,A97))","v":""},{"$f":"IF(A97=\"\",\"\",COUNTIFS(Planning!$AJJ$6:$AKN$200,A97))","v":""},{"$f":"IF(A97=\"\",\"\",COUNTIFS(Planning!$AKO$6:$ALR$200,A97))","v":""},{"$f":"IF(A97=\"\",\"\",COUNTIFS(Planning!$ALS$6:$AMW$200,A97))","v":""},{"$f":"IF(A97=\"\",\"\",COUNTIFS(Planning!$AMX$6:$AOB$200,A97))","v":""},{"$f":"IF(A97=\"\",\"\",COUNTIFS(Planning!$AOC$6:$APF$200,A97))","v":""},{"$f":"IF(A97=\"\",\"\",COUNTIFS(Planning!$APG$6:$AQK$200,A97))","v":""},{"$f":"IF(A97=\"\",\"\",COUNTIFS(Planning!$AQL$6:$ARO$200,A97))","v":""},{"$f":"IF(A97=\"\",\"\",COUNTIFS(Planning!$ARP$6:$AST$200,A97))","v":""},{"$f":"IF(A97=\"\",\"\",COUNTIFS(Planning!$ASU$6:$ATY$200,A97))","v":""},{"$f":"IF(A97=\"\",\"\",COUNTIFS(Planning!$ATZ$6:$AVA$200,A97))","v":""},{"$f":"IF(A97=\"\",\"\",COUNTIFS(Planning!$AVB$6:$AWF$200,A97))","v":""},{"$f":"IF(A97=\"\",\"\",COUNTIFS(Planning!$AWG$6:$AXJ$200,A97))","v":""},{"$f":"IF(A97=\"\",\"\",COUNTIFS(Planning!$AXK$6:$AYO$200,A97))","v":""},{"$f":"IF(A97=\"\",\"\",COUNTIFS(Planning!$AYP$6:$AZS$200,A97))","v":""}]
[null,{"$f":"IF(A98=\"\",\"\",COUNTIFS(Planning!$C$6:$AG$200,A98))","v":""},{"$f":"IF(A98=\"\",\"\",COUNTIFS(Planning!$AH$6:$BK$200,A98))","v":""},{"$f":"IF(A98=\"\",\"\",COUNTIFS(Planning!$BL$6:$CP$200,A98))","v":""},{"$f":"IF(A98=\"\",\"\",COUNTIFS(Planning!$CQ$6:$DU$200,A98))","v":""},{"$f":"IF(A98=\"\",\"\",COUNTIFS(Planning!$DV$6:$EW$200,A98))","v":""},{"$f":"IF(A98=\"\",\"\",COUNTIFS(Planning!$EX$6:$GB$200,A98))","v":""},{"$f":"IF(A98=\"\",\"\",COUNTIFS(Planning!$GC$6:$HF$200,A98))","v":""},{"$f":"IF(A98=\"\",\"\",COUNTIFS(Planning!$HG$6:$IK$200,A98))","v":""},{"$f":"IF(A98=\"\",\"\",COUNTIFS(Planning!$IL$6:$JO$200,A98))","v":""},{"$f":"IF(A98=\"\",\"\",COUNTIFS(Planning!$JP$6:$KT$200,A98))","v":""},{"$f":"IF(A98=\"\",\"\",COUNTIFS(Planning!$KU$6:$LY$200,A98))","v":""},{"$f":"IF(A98=\"\",\"\",COUNTIFS(Planning!$LZ$6:$NC$200,A98))","v":""},{"$f":"IF(A98=\"\",\"\",COUNTIFS(Planning!$ND$6:$OH$200,A98))","v":""},{"$f":"IF(A98=\"\",\"\",COUNTIFS(Planning!$OI$6:$PL$200,A98))","v":""},{"$f":"IF(A98=\"\",\"\",COUNTIFS(Planning!$PM$6:$QQ$200,A98))","v":""},{"$f":"IF(A98=\"\",\"\",COUNTIFS(Planning!$QR$6:$RV$200,A98))","v":""},{"$f":"IF(A98=\"\",\"\",COUNTIFS(Planning!$RW$6:$SX$200,A98))","v":""},{"$f":"IF(A98=\"\",\"\",COUNTIFS(Planning!$SY$6:$UC$200,A98))","v":""},{"$f":"IF(A98=\"\",\"\",COUNTIFS(Planning!$UD$6:$VG$200,A98))","v":""},{"$f":"IF(A98=\"\",\"\",COUNTIFS(Planning!$VH$6:$WL$200,A98))","v":""},{"$f":"IF(A98=\"\",\"\",COUNTIFS(Planning!$WM$6:$XP$200,A98))","v":""},{"$f":"IF(A98=\"\",\"\",COUNTIFS(Planning!$XQ$6:$YU$200,A98))","v":""},{"$f":"IF(A98=\"\",\"\",COUNTIFS(Planning!$YV$6:$ZZ$200,A98))","v":""},{"$f":"IF(A98=\"\",\"\",COUNTIFS(Planning!$AAA$6:$ABD$200,A98))","v":""},{"$f":"IF(A98=\"\",\"\",COUNTIFS(Planning!$ABE$6:$ACI$200,A98))","v":""},{"$f":"IF(A98=\"\",\"\",COUNTIFS(Planning!$ACJ$6:$ADM$200,A98))","v":""},{"$f":"IF(A98=\"\",\"\",COUNTIFS(Planning!$ADN$6:$AER$200,A98))","v":""},{"$f":"IF(A98=\"\",\"\",COUNTIFS(Planning!$AES$6:$AFW$200,A98))","v":""},{"$f":"IF(A98=\"\",\"\",COUNTIFS(Planning!$AFX$6:$AGZ$200,A98))","v":""},{"$f":"IF(A98=\"\",\"\",COUNTIFS(Planning!$AHA$6:$AIE$200,A98))","v":""},{"$f":"IF(A98=\"\",\"\",COUNTIFS(Planning!$AIF$6:$AJI$200,A98))","v":""},{"$f":"IF(A98=\"\",\"\",COUNTIFS(Planning!$AJJ$6:$AKN$200,A98))","v":""},{"$f":"IF(A98=\"\",\"\",COUNTIFS(Planning!$AKO$6:$ALR$200,A98))","v":""},{"$f":"IF(A98=\"\",\"\",COUNTIFS(Planning!$ALS$6:$AMW$200,A98))","v":""},{"$f":"IF(A98=\"\",\"\",COUNTIFS(Planning!$AMX$6:$AOB$200,A98))","v":""},{"$f":"IF(A98=\"\",\"\",COUNTIFS(Planning!$AOC$6:$APF$200,A98))","v":""},{"$f":"IF(A98=\"\",\"\",COUNTIFS(Planning!$APG$6:$AQK$200,A98))","v":""},{"$f":"IF(A98=\"\",\"\",COUNTIFS(Planning!$AQL$6:$ARO$200,A98))","v":""},{"$f":"IF(A98=\"\",\"\",COUNTIFS(Planning!$ARP$6:$AST$200,A98))","v":""},{"$f":"IF(A98=\"\",\"\",COUNTIFS(Planning!$ASU$6:$ATY$200,A98))","v":""},{"$f":"IF(A98=\"\",\"\",COUNTIFS(Planning!$ATZ$6:$AVA$200,A98))","v":""},{"$f":"IF(A98=\"\",\"\",COUNTIFS(Planning!$AVB$6:$AWF$200,A98))","v":""},{"$f":"IF(A98=\"\",\"\",COUNTIFS(Planning!$AWG$6:$AXJ$200,A98))","v":""},{"$f":"IF(A98=\"\",\"\",COUNTIFS(Planning!$AXK$6:$AYO$200,A98))","v":""},{"$f":"IF(A98=\"\",\"\",COUNTIFS(Planning!$AYP$6:$AZS$200,A98))","v":""}]
[null,{"$f":"IF(A99=\"\",\"\",COUNTIFS(Planning!$C$6:$AG$200,A99))","v":""},{"$f":"IF(A99=\"\",\"\",COUNTIFS(Planning!$AH$6:$BK$200,A99))","v":""},{"$f":"IF(A99=\"\",\"\",COUNTIFS(Planning!$BL$6:$CP$200,A99))","v":""},{"$f":"IF(A99=\"\",\"\",COUNTIFS(Planning!$CQ$6:$DU$200,A99))","v":""},{"$f":"IF(A99=\"\",\"\",COUNTIFS(Planning!$DV$6:$EW$200,A99))","v":""},{"$f":"IF(A99=\"\",\"\",COUNTIFS(Planning!$EX$6:$GB$200,A99))","v":""},{"$f":"IF(A99=\"\",\"\",COUNTIFS(Planning!$GC$6:$HF$200,A99))","v":""},{"$f":"IF(A99=\"\",\"\",COUNTIFS(Planning!$HG$6:$IK$200,A99))","v":""},{"$f":"IF(A99=\"\",\"\",COUNTIFS(Planning!$IL$6:$JO$200,A99))","v":""},{"$f":"IF(A99=\"\",\"\",COUNTIFS(Planning!$JP$6:$KT$200,A99))","v":""},{"$f":"IF(A99=\"\",\"\",COUNTIFS(Planning!$KU$6:$LY$200,A99))","v":""},{"$f":"IF(A99=\"\",\"\",COUNTIFS(Planning!$LZ$6:$NC$200,A99))","v":""},{"$f":"IF(A99=\"\",\"\",COUNTIFS(Planning!$ND$6:$OH$200,A99))","v":""},{"$f":"IF(A99=\"\",\"\",COUNTIFS(Planning!$OI$6:$PL$200,A99))","v":""},{"$f":"IF(A99=\"\",\"\",COUNTIFS(Planning!$PM$6:$QQ$200,A99))","v":""},{"$f":"IF(A99=\"\",\"\",COUNTIFS(Planning!$QR$6:$RV$200,A99))","v":""},{"$f":"IF(A99=\"\",\"\",COUNTIFS(Planning!$RW$6:$SX$200,A99))","v":""},{"$f":"IF(A99=\"\",\"\",COUNTIFS(Planning!$SY$6:$UC$200,A99))","v":""},{"$f":"IF(A99=\"\",\"\",COUNTIFS(Planning!$UD$6:$VG$200,A99))","v":""},{"$f":"IF(A99=\"\",\"\",COUNTIFS(Planning!$VH$6:$WL$200,A99))","v":""},{"$f":"IF(A99=\"\",\"\",COUNTIFS(Planning!$WM$6:$XP$200,A99))","v":""},{"$f":"IF(A99=\"\",\"\",COUNTIFS(Planning!$XQ$6:$YU$200,A99))","v":""},{"$f":"IF(A99=\"\",\"\",COUNTIFS(Planning!$YV$6:$ZZ$200,A99))","v":""},{"$f":"IF(A99=\"\",\"\",COUNTIFS(Planning!$AAA$6:$ABD$200,A99))","v":""},{"$f":"IF(A99=\"\",\"\",COUNTIFS(Planning!$ABE$6:$ACI$200,A99))","v":""},{"$f":"IF(A99=\"\",\"\",COUNTIFS(Planning!$ACJ$6:$ADM$200,A99))","v":""},{"$f":"IF(A99=\"\",\"\",COUNTIFS(Planning!$ADN$6:$AER$200,A99))","v":""},{"$f":"IF(A99=\"\",\"\",COUNTIFS(Planning!$AES$6:$AFW$200,A99))","v":""},{"$f":"IF(A99=\"\",\"\",COUNTIFS(Planning!$AFX$6:$AGZ$200,A99))","v":""},{"$f":"IF(A99=\"\",\"\",COUNTIFS(Planning!$AHA$6:$AIE$200,A99))","v":""},{"$f":"IF(A99=\"\",\"\",COUNTIFS(Planning!$AIF$6:$AJI$200,A99))","v":""},{"$f":"IF(A99=\"\",\"\",COUNTIFS(Planning!$AJJ$6:$AKN$200,A99))","v":""},{"$f":"IF(A99=\"\",\"\",COUNTIFS(Planning!$AKO$6:$ALR$200,A99))","v":""},{"$f":"IF(A99=\"\",\"\",COUNTIFS(Planning!$ALS$6:$AMW$200,A99))","v":""},{"$f":"IF(A99=\"\",\"\",COUNTIFS(Planning!$AMX$6:$AOB$200,A99))","v":""},{"$f":"IF(A99=\"\",\"\",COUNTIFS(Planning!$AOC$6:$APF$200,A99))","v":""},{"$f":"IF(A99=\"\",\"\",COUNTIFS(Planning!$APG$6:$AQK$200,A99))","v":""},{"$f":"IF(A99=\"\",\"\",COUNTIFS(Planning!$AQL$6:$ARO$200,A99))","v":""},{"$f":"IF(A99=\"\",\"\",COUNTIFS(Planning!$ARP$6:$AST$200,A99))","v":""},{"$f":"IF(A99=\"\",\"\",COUNTIFS(Planning!$ASU$6:$ATY$200,A99))","v":""},{"$f":"IF(A99=\"\",\"\",COUNTIFS(Planning!$ATZ$6:$AVA$200,A99))","v":""},{"$f":"IF(A99=\"\",\"\",COUNTIFS(Planning!$AVB$6:$AWF$200,A99))","v":""},{"$f":"IF(A99=\"\",\"\",COUNTIFS(Planning!$AWG$6:$AXJ$200,A99))","v":""},{"$f":"IF(A99=\"\",\"\",COUNTIFS(Planning!$AXK$6:$AYO$200,A99))","v":""},{"$f":"IF(A99=\"\",\"\",COUNTIFS(Planning!$AYP$6:$AZS$200,A99))","v":""}]
[null,{"$f":"IF(A100=\"\",\"\",COUNTIFS(Planning!$C$6:$AG$200,A100))","v":""},{"$f":"IF(A100=\"\",\"\",COUNTIFS(Planning!$AH$6:$BK$200,A100))","v":""},{"$f":"IF(A100=\"\",\"\",COUNTIFS(Planning!$BL$6:$CP$200,A100))","v":""},{"$f":"IF(A100=\"\",\"\",COUNTIFS(Planning!$CQ$6:$DU$200,A100))","v":""},{"$f":"IF(A100=\"\",\"\",COUNTIFS(Planning!$DV$6:$EW$200,A100))","v":""},{"$f":"IF(A100=\"\",\"\",COUNTIFS(Planning!$EX$6:$GB$200,A100))","v":""},{"$f":"IF(A100=\"\",\"\",COUNTIFS(Planning!$GC$6:$HF$200,A100))","v":""},{"$f":"IF(A100=\"\",\"\",COUNTIFS(Planning!$HG$6:$IK$200,A100))","v":""},{"$f":"IF(A100=\"\",\"\",COUNTIFS(Planning!$IL$6:$JO$200,A100))","v":""},{"$f":"IF(A100=\"\",\"\",COUNTIFS(Planning!$JP$6:$KT$200,A100))","v":""},{"$f":"IF(A100=\"\",\"\",COUNTIFS(Planning!$KU$6:$LY$200,A100))","v":""},{"$f":"IF(A100=\"\",\"\",COUNTIFS(Planning!$LZ$6:$NC$200,A100))","v":""},{"$f":"IF(A100=\"\",\"\",COUNTIFS(Planning!$ND$6:$OH$200,A100))","v":""},{"$f":"IF(A100=\"\",\"\",COUNTIFS(Planning!$OI$6:$PL$200,A100))","v":""},{"$f":"IF(A100=\"\",\"\",COUNTIFS(Planning!$PM$6:$QQ$200,A100))","v":""},{"$f":"IF(A100=\"\",\"\",COUNTIFS(Planning!$QR$6:$RV$200,A100))","v":""},{"$f":"IF(A100=\"\",\"\",COUNTIFS(Planning!$RW$6:$SX$200,A100))","v":""},{"$f":"IF(A100=\"\",\"\",COUNTIFS(Planning!$SY$6:$UC$200,A100))","v":""},{"$f":"IF(A100=\"\",\"\",COUNTIFS(Planning!$UD$6:$VG$200,A100))","v":""},{"$f":"IF(A100=\"\",\"\",COUNTIFS(Planning!$VH$6:$WL$200,A100))","v":""},{"$f":"IF(A100=\"\",\"\",COUNTIFS(Planning!$WM$6:$XP$200,A100))","v":""},{"$f":"IF(A100=\"\",\"\",COUNTIFS(Planning!$XQ$6:$YU$200,A100))","v":""},{"$f":"IF(A100=\"\",\"\",COUNTIFS(Planning!$YV$6:$ZZ$200,A100))","v":""},{"$f":"IF(A100=\"\",\"\",COUNTIFS(Planning!$AAA$6:$ABD$200,A100))","v":""},{"$f":"IF(A100=\"\",\"\",COUNTIFS(Planning!$ABE$6:$ACI$200,A100))","v":""},{"$f":"IF(A100=\"\",\"\",COUNTIFS(Planning!$ACJ$6:$ADM$200,A100))","v":""},{"$f":"IF(A100=\"\",\"\",COUNTIFS(Planning!$ADN$6:$AER$200,A100))","v":""},{"$f":"IF(A100=\"\",\"\",COUNTIFS(Planning!$AES$6:$AFW$200,A100))","v":""},{"$f":"IF(A100=\"\",\"\",COUNTIFS(Planning!$AFX$6:$AGZ$200,A100))","v":""},{"$f":"IF(A100=\"\",\"\",COUNTIFS(Planning!$AHA$6:$AIE$200,A100))","v":""},{"$f":"IF(A100=\"\",\"\",COUNTIFS(Planning!$AIF$6:$AJI$200,A100))","v":""},{"$f":"IF(A100=\"\",\"\",COUNTIFS(Planning!$AJJ$6:$AKN$200,A100))","v":""},{"$f":"IF(A100=\"\",\"\",COUNTIFS(Planning!$AKO$6:$ALR$200,A100))","v":""},{"$f":"IF(A100=\"\",\"\",COUNTIFS(Planning!$ALS$6:$AMW$200,A100))","v":""},{"$f":"IF(A100=\"\",\"\",COUNTIFS(Planning!$AMX$6:$AOB$200,A100))","v":""},{"$f":"IF(A100=\"\",\"\",COUNTIFS(Planning!$AOC$6:$APF$200,A100))","v":""},{"$f":"IF(A100=\"\",\"\",COUNTIFS(Planning!$APG$6:$AQK$200,A100))","v":""},{"$f":"IF(A100=\"\",\"\",COUNTIFS(Planning!$AQL$6:$ARO$200,A100))","v":""},{"$f":"IF(A100=\"\",\"\",COUNTIFS(Planning!$ARP$6:$AST$200,A100))","v":""},{"$f":"IF(A100=\"\",\"\",COUNTIFS(Planning!$ASU$6:$ATY$200,A100))","v":""},{"$f":"IF(A100=\"\",\"\",COUNTIFS(Planning!$ATZ$6:$AVA$200,A100))","v":""},{"$f":"IF(A100=\"\",\"\",COUNTIFS(Planning!$AVB$6:$AWF$200,A100))","v":""},{"$f":"IF(A100=\"\",\"\",COUNTIFS(Planning!$AWG$6:$AXJ$200,A100))","v":""},{"$f":"IF(A100=\"\",\"\",COUNTIFS(Planning!$AXK$6:$AYO$200,A100))","v":""},{"$f":"IF(A100=\"\",\"\",COUNTIFS(Planning!$AYP$6:$AZS$200,A100))","v":""}]