{"text_format":"1","workbook":"xlsx","n_sheets":7,"sheets":["Home","Rapportage per leverancier","Rapportage per vraag","Informatie filteren","Leveranciersbeoordeling","Data leveranciersbeoordeling","Gegevens"],"not_rendered":{"charts":3,"images":1,"macros":1,"external_links":0,"defined_names":6,"comments":0,"pivot_tables":0},"unopened":[],"bounds":{"document_bytes":16777216,"sheet_cells":100000,"rows_first":2000,"rows_last":500,"rows_between":2000,"halvings":0,"cell_chars":16384,"cell_head_chars":4096},"cells_cut":0,"cells_raw":0,"read":"whole","date_system":"1900"}

{"sheet":"Home","index":0,"n_rows":10,"n_cols":19,"rows_kept":10,"cut":false,"hidden":false,"merged":[[22,0,23,16]]}
[null,null,null,null,null,null,null,null,null,null,null,null,null,null,null,null,null,"Datum start"]
[null,null,null,null,null,null,null,null,null,null,null,null,null,null,null,null,null,"Datum nu",{"$f":"TODAY()","v":"2018-07-26"}]
[null,null,null,null,null,null,null,null,null,null,null,null,null,null,null,null,null,"Verschil",{"$f":"S2-S1","v":"2018-07-26"}]
[null,null,null,null,null,null,null,null,null,null,null,null,null,null,null,null,null,"Check 1"]
[null,null,null,null,null,null,null,null,null,null,null,null,null,null,null,null,null,"Check 2"]
[null,null,null,null,null,null,null,null,null,null,null,null,null,null,null,null,null,"Check 3"]
[null,null,null,null,null,null,null,null,null,null,null,null,null,null,null,null,null,"Check 4"]
[null,null,null,null,null,null,null,null,null,null,null,null,"*","info@terzake-excel.nl",null,null,null,"Check 5"]
[null,null,null,null,null,null,null,null,null,null,null,null,"(","0317 200 009",null,null,null,"Check 6"]
[null,null,null,null,null,null,null,null,null,null,null,null,null,null,null,null,null,"Check 7"]

{"sheet":"Rapportage per leverancier","index":1,"n_rows":48,"n_cols":6,"rows_kept":48,"cut":false,"hidden":false,"merged":[]}
[]
[]
[null,"Rapportage per leverancier"]
[]
[]
[]
[]
[]
[]
[]
[]
[null,"Grafiek van leverancier","1111 aaaa"]
[null,"Jaar",2017]
[]
[null,null,"1ste kwartaal","2de kwartaal","3de kwartaal","4de kwartaal"]
[null,{"$f":"Leveranciersbeoordeling!D10","v":"Aantal orders dit kwartaal"},{"$f":"SUMIFS('Data leveranciersbeoordeling'!$F:$F,'Data leveranciersbeoordeling'!$B:$B,$C$12,'Data leveranciersbeoordeling'!$C:$C,$C$13,'Data leveranciersbeoordeling'!$D:$D,C$15)","v":0},{"$f":"SUMIFS('Data leveranciersbeoordeling'!$F:$F,'Data leveranciersbeoordeling'!$B:$B,$C$12,'Data leveranciersbeoordeling'!$C:$C,$C$13,'Data leveranciersbeoordeling'!$D:$D,D$15)","v":0},{"$f":"SUMIFS('Data leveranciersbeoordeling'!$F:$F,'Data leveranciersbeoordeling'!$B:$B,$C$12,'Data leveranciersbeoordeling'!$C:$C,$C$13,'Data leveranciersbeoordeling'!$D:$D,E$15)","v":0},{"$f":"SUMIFS('Data leveranciersbeoordeling'!$F:$F,'Data leveranciersbeoordeling'!$B:$B,$C$12,'Data leveranciersbeoordeling'!$C:$C,$C$13,'Data leveranciersbeoordeling'!$D:$D,F$15)","v":0}]
[null,{"$f":"Leveranciersbeoordeling!D11","v":"Kwaliteit van het product"},{"$f":"IFERROR(VLOOKUP(VLOOKUP(CONCATENATE($C$12,$C$13,C$15),'Data leveranciersbeoordeling'!$A:$O,7,FALSE),Leveranciersbeoordeling!$H$1:$I$5,2,FALSE),0)","v":0},{"$f":"IFERROR(VLOOKUP(VLOOKUP(CONCATENATE($C$12,$C$13,D$15),'Data leveranciersbeoordeling'!$A:$O,7,FALSE),Leveranciersbeoordeling!$H$1:$I$5,2,FALSE),0)","v":0},{"$f":"IFERROR(VLOOKUP(VLOOKUP(CONCATENATE($C$12,$C$13,E$15),'Data leveranciersbeoordeling'!$A:$O,7,FALSE),Leveranciersbeoordeling!$H$1:$I$5,2,FALSE),0)","v":0},{"$f":"IFERROR(VLOOKUP(VLOOKUP(CONCATENATE($C$12,$C$13,F$15),'Data leveranciersbeoordeling'!$A:$O,7,FALSE),Leveranciersbeoordeling!$H$1:$I$5,2,FALSE),0)","v":0}]
[null,{"$f":"Leveranciersbeoordeling!D12","v":"Levertijd"},{"$f":"SUMIFS('Data leveranciersbeoordeling'!$H:$H,'Data leveranciersbeoordeling'!$B:$B,$C$12,'Data leveranciersbeoordeling'!$C:$C,$C$13,'Data leveranciersbeoordeling'!$D:$D,C$15)","v":0},{"$f":"SUMIFS('Data leveranciersbeoordeling'!$H:$H,'Data leveranciersbeoordeling'!$B:$B,$C$12,'Data leveranciersbeoordeling'!$C:$C,$C$13,'Data leveranciersbeoordeling'!$D:$D,D$15)","v":0},{"$f":"SUMIFS('Data leveranciersbeoordeling'!$H:$H,'Data leveranciersbeoordeling'!$B:$B,$C$12,'Data leveranciersbeoordeling'!$C:$C,$C$13,'Data leveranciersbeoordeling'!$D:$D,E$15)","v":0},{"$f":"SUMIFS('Data leveranciersbeoordeling'!$H:$H,'Data leveranciersbeoordeling'!$B:$B,$C$12,'Data leveranciersbeoordeling'!$C:$C,$C$13,'Data leveranciersbeoordeling'!$D:$D,F$15)","v":0}]
[null,{"$f":"Leveranciersbeoordeling!D13","v":"Prijs / kwaliteit"},{"$f":"IFERROR(VLOOKUP(VLOOKUP(CONCATENATE($C$12,$C$13,C$15),'Data leveranciersbeoordeling'!$A:$O,9,FALSE),Leveranciersbeoordeling!$H$1:$I$5,2,FALSE),0)","v":0},{"$f":"IFERROR(VLOOKUP(VLOOKUP(CONCATENATE($C$12,$C$13,D$15),'Data leveranciersbeoordeling'!$A:$O,9,FALSE),Leveranciersbeoordeling!$H$1:$I$5,2,FALSE),0)","v":0},{"$f":"IFERROR(VLOOKUP(VLOOKUP(CONCATENATE($C$12,$C$13,E$15),'Data leveranciersbeoordeling'!$A:$O,9,FALSE),Leveranciersbeoordeling!$H$1:$I$5,2,FALSE),0)","v":0},{"$f":"IFERROR(VLOOKUP(VLOOKUP(CONCATENATE($C$12,$C$13,F$15),'Data leveranciersbeoordeling'!$A:$O,9,FALSE),Leveranciersbeoordeling!$H$1:$I$5,2,FALSE),0)","v":0}]
[]
[]
[]
[]
[]
[]
[]
[]
[]
[]
[]
[]
[]
[]
[]
[]
[]
[]
[]
[]
[]
[]
[]
[]
[null,{"$f":"Leveranciersbeoordeling!D15","v":"Wat vind je van de aanvullende vraag 1"},{"$f":"IFERROR(VLOOKUP(VLOOKUP(CONCATENATE($C$12,$C$13,C$15),'Data leveranciersbeoordeling'!$A:$O,10,FALSE),Leveranciersbeoordeling!$H$1:$I$5,2,FALSE),0)","v":0},{"$f":"IFERROR(VLOOKUP(VLOOKUP(CONCATENATE($C$12,$C$13,D$15),'Data leveranciersbeoordeling'!$A:$O,10,FALSE),Leveranciersbeoordeling!$H$1:$I$5,2,FALSE),0)","v":0},{"$f":"IFERROR(VLOOKUP(VLOOKUP(CONCATENATE($C$12,$C$13,E$15),'Data leveranciersbeoordeling'!$A:$O,10,FALSE),Leveranciersbeoordeling!$H$1:$I$5,2,FALSE),0)","v":0},{"$f":"IFERROR(VLOOKUP(VLOOKUP(CONCATENATE($C$12,$C$13,F$15),'Data leveranciersbeoordeling'!$A:$O,10,FALSE),Leveranciersbeoordeling!$H$1:$I$5,2,FALSE),0)","v":0}]
[null,{"$f":"Leveranciersbeoordeling!D16","v":"Wat vind je van de aanvullende vraag 2"},{"$f":"IFERROR(VLOOKUP(VLOOKUP(CONCATENATE($C$12,$C$13,C$15),'Data leveranciersbeoordeling'!$A:$O,11,FALSE),Leveranciersbeoordeling!$H$1:$I$5,2,FALSE),0)","v":0},{"$f":"IFERROR(VLOOKUP(VLOOKUP(CONCATENATE($C$12,$C$13,D$15),'Data leveranciersbeoordeling'!$A:$O,11,FALSE),Leveranciersbeoordeling!$H$1:$I$5,2,FALSE),0)","v":0},{"$f":"IFERROR(VLOOKUP(VLOOKUP(CONCATENATE($C$12,$C$13,E$15),'Data leveranciersbeoordeling'!$A:$O,11,FALSE),Leveranciersbeoordeling!$H$1:$I$5,2,FALSE),0)","v":0},{"$f":"IFERROR(VLOOKUP(VLOOKUP(CONCATENATE($C$12,$C$13,F$15),'Data leveranciersbeoordeling'!$A:$O,11,FALSE),Leveranciersbeoordeling!$H$1:$I$5,2,FALSE),0)","v":0}]
[null,{"$f":"Leveranciersbeoordeling!D17","v":"Wat vind je van de aanvullende vraag 3"},{"$f":"IFERROR(VLOOKUP(VLOOKUP(CONCATENATE($C$12,$C$13,C$15),'Data leveranciersbeoordeling'!$A:$O,12,FALSE),Leveranciersbeoordeling!$H$1:$I$5,2,FALSE),0)","v":0},{"$f":"IFERROR(VLOOKUP(VLOOKUP(CONCATENATE($C$12,$C$13,D$15),'Data leveranciersbeoordeling'!$A:$O,12,FALSE),Leveranciersbeoordeling!$H$1:$I$5,2,FALSE),0)","v":0},{"$f":"IFERROR(VLOOKUP(VLOOKUP(CONCATENATE($C$12,$C$13,E$15),'Data leveranciersbeoordeling'!$A:$O,12,FALSE),Leveranciersbeoordeling!$H$1:$I$5,2,FALSE),0)","v":0},{"$f":"IFERROR(VLOOKUP(VLOOKUP(CONCATENATE($C$12,$C$13,F$15),'Data leveranciersbeoordeling'!$A:$O,12,FALSE),Leveranciersbeoordeling!$H$1:$I$5,2,FALSE),0)","v":0}]
[null,{"$f":"Leveranciersbeoordeling!D18","v":"Wat vind je van de aanvullende vraag 4"},{"$f":"IFERROR(VLOOKUP(VLOOKUP(CONCATENATE($C$12,$C$13,C$15),'Data leveranciersbeoordeling'!$A:$O,13,FALSE),Leveranciersbeoordeling!$H$1:$I$5,2,FALSE),0)","v":0},{"$f":"IFERROR(VLOOKUP(VLOOKUP(CONCATENATE($C$12,$C$13,D$15),'Data leveranciersbeoordeling'!$A:$O,13,FALSE),Leveranciersbeoordeling!$H$1:$I$5,2,FALSE),0)","v":0},{"$f":"IFERROR(VLOOKUP(VLOOKUP(CONCATENATE($C$12,$C$13,E$15),'Data leveranciersbeoordeling'!$A:$O,13,FALSE),Leveranciersbeoordeling!$H$1:$I$5,2,FALSE),0)","v":0},{"$f":"IFERROR(VLOOKUP(VLOOKUP(CONCATENATE($C$12,$C$13,F$15),'Data leveranciersbeoordeling'!$A:$O,13,FALSE),Leveranciersbeoordeling!$H$1:$I$5,2,FALSE),0)","v":0}]
[null,{"$f":"Leveranciersbeoordeling!D19","v":"Wat vind je van de aanvullende vraag 5"},{"$f":"IFERROR(VLOOKUP(VLOOKUP(CONCATENATE($C$12,$C$13,C$15),'Data leveranciersbeoordeling'!$A:$O,14,FALSE),Leveranciersbeoordeling!$H$1:$I$5,2,FALSE),0)","v":0},{"$f":"IFERROR(VLOOKUP(VLOOKUP(CONCATENATE($C$12,$C$13,D$15),'Data leveranciersbeoordeling'!$A:$O,14,FALSE),Leveranciersbeoordeling!$H$1:$I$5,2,FALSE),0)","v":0},{"$f":"IFERROR(VLOOKUP(VLOOKUP(CONCATENATE($C$12,$C$13,E$15),'Data leveranciersbeoordeling'!$A:$O,14,FALSE),Leveranciersbeoordeling!$H$1:$I$5,2,FALSE),0)","v":0},{"$f":"IFERROR(VLOOKUP(VLOOKUP(CONCATENATE($C$12,$C$13,F$15),'Data leveranciersbeoordeling'!$A:$O,14,FALSE),Leveranciersbeoordeling!$H$1:$I$5,2,FALSE),0)","v":0}]

{"sheet":"Rapportage per vraag","index":2,"n_rows":16,"n_cols":23,"rows_kept":16,"cut":false,"hidden":false,"merged":[]}
[null,null,null,null,null,null,null,null,null,null,null,null,null,null,null,null,null,null,null,null,null,null,{"$f":"CONCATENATE(C12,\"  Jaar \",C13)","v":"Levertijd  Jaar 2017"}]
[]
[null,"Rapportage per vraag"]
[]
[]
[]
[]
[]
[]
[]
[]
[null,"Grafiek van vraag","Levertijd"]
[null,"Jaar",2017]
[]
[null,null,"Gemiddelde","Aantal","Som"]
[null,"Alle leveranciers",{"$f":"IFERROR(AVERAGEIFS('Data leveranciersbeoordeling'!$R:$R,'Data leveranciersbeoordeling'!$C:$C,$C$13),0)","v":0},{"$f":"COUNTIFS('Data leveranciersbeoordeling'!C:C,C13)","v":0},{"$f":"SUMIFS('Data leveranciersbeoordeling'!R:R,'Data leveranciersbeoordeling'!C:C,C13)","v":0}]

{"sheet":"Informatie filteren","index":3,"n_rows":3,"n_cols":14,"rows_kept":3,"cut":false,"hidden":false,"merged":[]}
[]
[]
["Leveranciersnummer en naam","Beoordeling jaar","Beoordeling kwartaal","Afwijkingen","Aantal orders dit kwartaal","Kwaliteit van het product","Levertijd","Prijs / kwaliteit","Wat vind je van de aanvullende vraag 1","Wat vind je van de aanvullende vraag 2","Wat vind je van de aanvullende vraag 3","Wat vind je van de aanvullende vraag 4","Wat vind je van de aanvullende vraag 5","Opmerkingen"]

{"sheet":"Leveranciersbeoordeling","index":4,"n_rows":101,"n_cols":30,"rows_kept":101,"cut":false,"hidden":true,"merged":[]}
["Invoer nieuwe leverancier",null,null,"Wijzigen beoordeling",null,2017,"1ste kwartaal","Zeer goed",5,{"$f":"D9","v":"Afwijkingen"},null,null,null,null,null,null,null,null,null,null,null,null,"Leveranciersnummer","Leverancier","Overige informatie",null,"Waarde uit combobox 1 bij wijzigen leverancier.","Leveranciersnummer","Leverancier","Overige informatie"]
[null,null,null,null,null,2018,"2de kwartaal","Goed",4,{"$f":"D10","v":"Aantal orders dit kwartaal"},null,null,null,null,null,null,null,null,null,null,null,{"$f":"IF(W2=\"\",\"\",CONCATENATE(W2,\" \",X2))","v":"2222 bbbb"},2222,"bbbb","\\cjcm,vuifh",null,"1111 aaaa",{"$f":"IFERROR(VLOOKUP($AA$2,$V:$Y,2,FALSE),\"\")","v":""},{"$f":"IFERROR(VLOOKUP($AA$2,$V:$Y,3,FALSE),\"\")","v":""},{"$f":"IFERROR(VLOOKUP($AA$2,$V:$Y,4,FALSE),\"\")","v":""}]
["Leveranciersnummer",null,null,"Leveranciersnummer en naam","2222 bbbb",2019,"3de kwartaal","Redelijk",3,"Kwaliteit van het product",null,null,null,null,null,null,null,null,null,null,null,""]
["Naam leverancier",null,null,null,null,2020,"4de kwartaal","Slecht",2,"Levertijd",null,null,null,null,null,null,null,null,null,null,null,""]
["Overige informatie",null,null,null,null,2021,null,"Zeer slecht",1,"Prijs / kwaliteit",null,null,null,null,null,null,null,null,null,null,null,""]
[null,null,null,"Beoordeling jaar",null,2022,null,null,null,{"$f":"D15","v":"Wat vind je van de aanvullende vraag 1"},null,null,null,null,null,null,null,null,null,null,null,""]
[null,null,null,"Beoordeling kwartaal",null,2023,null,null,null,{"$f":"D16","v":"Wat vind je van de aanvullende vraag 2"},null,null,null,null,null,null,null,{"$f":"COUNTIF(V2:V101,\"\")","v":99},null,null,null,""]
[null,null,null,"Zoekcode",{"$f":"CONCATENATE(E3,E6,E7)","v":"2222 bbbb"},2024,null,null,null,{"$f":"D17","v":"Wat vind je van de aanvullende vraag 3"},null,null,null,null,null,null,null,{"$f":"100-COUNTIF(V2:V101,\"\")","v":1},null,null,null,""]
[null,null,null,"Afwijkingen",{"$f":"IFERROR(VLOOKUP($E$8,'Data leveranciersbeoordeling'!$A:$O,5,FALSE),\"\")","v":""},2025,null,null,null,{"$f":"D18","v":"Wat vind je van de aanvullende vraag 4"},null,null,null,null,null,null,null,null,null,null,null,""]
[null,null,null,"Aantal orders dit kwartaal",{"$f":"IFERROR(VLOOKUP($E$8,'Data leveranciersbeoordeling'!$A:$O,6,FALSE),\"\")","v":""},2026,null,null,null,{"$f":"D19","v":"Wat vind je van de aanvullende vraag 5"},null,null,null,null,null,null,null,null,null,null,null,""]
[null,null,null,"Kwaliteit van het product",{"$f":"IFERROR(VLOOKUP($E$8,'Data leveranciersbeoordeling'!$A:$O,7,FALSE),\"\")","v":""},null,null,null,null,null,null,null,null,null,null,null,null,null,null,null,null,""]
[null,null,null,"Levertijd",{"$f":"IFERROR(VLOOKUP($E$8,'Data leveranciersbeoordeling'!$A:$O,8,FALSE),\"\")","v":""},null,null,null,null,null,null,null,null,null,null,null,null,null,null,null,null,""]
[null,null,null,"Prijs / kwaliteit",{"$f":"IFERROR(VLOOKUP($E$8,'Data leveranciersbeoordeling'!$A:$O,9,FALSE),\"\")","v":""},null,null,null,null,null,null,null,null,null,null,null,null,null,null,null,null,""]
[null,null,null,null,null,null,null,null,null,null,null,null,null,null,null,null,null,null,null,null,null,""]
[null,null,null,"Wat vind je van de aanvullende vraag 1",{"$f":"IFERROR(VLOOKUP($E$8,'Data leveranciersbeoordeling'!$A:$O,10,FALSE),\"\")","v":""},null,null,null,null,null,null,null,null,null,null,null,null,null,null,null,null,""]
[null,null,null,"Wat vind je van de aanvullende vraag 2",{"$f":"IFERROR(VLOOKUP($E$8,'Data leveranciersbeoordeling'!$A:$O,11,FALSE),\"\")","v":""},null,null,null,null,null,null,null,null,null,null,null,null,null,null,null,null,""]
[null,null,null,"Wat vind je van de aanvullende vraag 3",{"$f":"IFERROR(VLOOKUP($E$8,'Data leveranciersbeoordeling'!$A:$O,12,FALSE),\"\")","v":""},null,null,null,null,null,null,null,null,null,null,null,null,null,null,null,null,""]
[null,null,null,"Wat vind je van de aanvullende vraag 4",{"$f":"IFERROR(VLOOKUP($E$8,'Data leveranciersbeoordeling'!$A:$O,13,FALSE),\"\")","v":""},null,null,null,null,null,null,null,null,null,null,null,null,null,null,null,null,""]
[null,null,null,"Wat vind je van de aanvullende vraag 5",{"$f":"IFERROR(VLOOKUP($E$8,'Data leveranciersbeoordeling'!$A:$O,14,FALSE),\"\")","v":""},null,null,null,null,null,null,null,null,null,null,null,null,null,null,null,null,""]
[null,null,null,null,null,null,null,null,null,null,null,null,null,null,null,null,null,null,null,null,null,""]
[null,null,null,"Opmerkingen",{"$f":"IFERROR(VLOOKUP($E$8,'Data leveranciersbeoordeling'!$A:$O,15,FALSE),\"\")","v":""},null,null,null,null,null,null,null,null,null,null,null,null,null,null,null,null,""]
[null,null,null,null,null,null,null,null,null,null,null,null,null,null,null,null,null,null,null,null,null,""]
[null,null,null,null,null,null,null,null,null,null,null,null,null,null,null,null,null,null,null,null,null,""]
[null,null,null,null,null,null,null,null,null,null,null,null,null,null,null,null,null,null,null,null,null,""]
[null,null,null,null,null,null,null,null,null,null,null,null,null,null,null,null,null,null,null,null,null,""]
[null,null,null,null,null,null,null,null,null,null,null,null,null,null,null,null,null,null,null,null,null,""]
[null,null,null,null,null,null,null,null,null,null,null,null,null,null,null,null,null,null,null,null,null,""]
[null,null,null,null,null,null,null,null,null,null,null,null,null,null,null,null,null,null,null,null,null,""]
[null,null,null,null,null,null,null,null,null,null,null,null,null,null,null,null,null,null,null,null,null,""]
[null,null,null,null,null,null,null,null,null,null,null,null,null,null,null,null,null,null,null,null,null,""]
[null,null,null,null,null,null,null,null,null,null,null,null,null,null,null,null,null,null,null,null,null,""]
[null,null,null,null,null,null,null,null,null,null,null,null,null,null,null,null,null,null,null,null,null,""]
[null,null,null,null,null,null,null,null,null,null,null,null,null,null,null,null,null,null,null,null,null,""]
[null,null,null,null,null,null,null,null,null,null,null,null,null,null,null,null,null,null,null,null,null,""]
[null,null,null,null,null,null,null,null,null,null,null,null,null,null,null,null,null,null,null,null,null,""]
[null,null,null,null,null,null,null,null,null,null,null,null,null,null,null,null,null,null,null,null,null,""]
[null,null,null,null,null,null,null,null,null,null,null,null,null,null,null,null,null,null,null,null,null,""]
[null,null,null,null,null,null,null,null,null,null,null,null,null,null,null,null,null,null,null,null,null,""]
[null,null,null,null,null,null,null,null,null,null,null,null,null,null,null,null,null,null,null,null,null,""]
[null,null,null,null,null,null,null,null,null,null,null,null,null,null,null,null,null,null,null,null,null,""]
[null,null,null,null,null,null,null,null,null,null,null,null,null,null,null,null,null,null,null,null,null,""]
[null,null,null,null,null,null,null,null,null,null,null,null,null,null,null,null,null,null,null,null,null,""]
[null,null,null,null,null,null,null,null,null,null,null,null,null,null,null,null,null,null,null,null,null,""]
[null,null,null,null,null,null,null,null,null,null,null,null,null,null,null,null,null,null,null,null,null,""]
[null,null,null,null,null,null,null,null,null,null,null,null,null,null,null,null,null,null,null,null,null,""]
[null,null,null,null,null,null,null,null,null,null,null,null,null,null,null,null,null,null,null,null,null,""]
[null,null,null,null,null,null,null,null,null,null,null,null,null,null,null,null,null,null,null,null,null,""]
[null,null,null,null,null,null,null,null,null,null,null,null,null,null,null,null,null,null,null,null,null,""]
[null,null,null,null,null,null,null,null,null,null,null,null,null,null,null,null,null,null,null,null,null,""]
[null,null,null,null,null,null,null,null,null,null,null,null,null,null,null,null,null,null,null,null,null,""]
[null,null,null,null,null,null,null,null,null,null,null,null,null,null,null,null,null,null,null,null,null,""]
[null,null,null,null,null,null,null,null,null,null,null,null,null,null,null,null,null,null,null,null,null,""]
[null,null,null,null,null,null,null,null,null,null,null,null,null,null,null,null,null,null,null,null,null,""]
[null,null,null,null,null,null,null,null,null,null,null,null,null,null,null,null,null,null,null,null,null,""]
[null,null,null,null,null,null,null,null,null,null,null,null,null,null,null,null,null,null,null,null,null,""]
[null,null,null,null,null,null,null,null,null,null,null,null,null,null,null,null,null,null,null,null,null,""]
[null,null,null,null,null,null,null,null,null,null,null,null,null,null,null,null,null,null,null,null,null,""]
[null,null,null,null,null,null,null,null,null,null,null,null,null,null,null,null,null,null,null,null,null,""]
[null,null,null,null,null,null,null,null,null,null,null,null,null,null,null,null,null,null,null,null,null,""]
[null,null,null,null,null,null,null,null,null,null,null,null,null,null,null,null,null,null,null,null,null,""]
[null,null,null,null,null,null,null,null,null,null,null,null,null,null,null,null,null,null,null,null,null,""]
[null,null,null,null,null,null,null,null,null,null,null,null,null,null,null,null,null,null,null,null,null,""]
[null,null,null,null,null,null,null,null,null,null,null,null,null,null,null,null,null,null,null,null,null,""]
[null,null,null,null,null,null,null,null,null,null,null,null,null,null,null,null,null,null,null,null,null,""]
[null,null,null,null,null,null,null,null,null,null,null,null,null,null,null,null,null,null,null,null,null,""]
[null,null,null,null,null,null,null,null,null,null,null,null,null,null,null,null,null,null,null,null,null,""]
[null,null,null,null,null,null,null,null,null,null,null,null,null,null,null,null,null,null,null,null,null,{"$f":"IF(W67=\"\",\"\",CONCATENATE(W67,\" \",X67))","v":""}]
[null,null,null,null,null,null,null,null,null,null,null,null,null,null,null,null,null,null,null,null,null,""]
[null,null,null,null,null,null,null,null,null,null,null,null,null,null,null,null,null,null,null,null,null,""]
[null,null,null,null,null,null,null,null,null,null,null,null,null,null,null,null,null,null,null,null,null,""]
[null,null,null,null,null,null,null,null,null,null,null,null,null,null,null,null,null,null,null,null,null,""]
[null,null,null,null,null,null,null,null,null,null,null,null,null,null,null,null,null,null,null,null,null,""]
[null,null,null,null,null,null,null,null,null,null,null,null,null,null,null,null,null,null,null,null,null,""]
[null,null,null,null,null,null,null,null,null,null,null,null,null,null,null,null,null,null,null,null,null,""]
[null,null,null,null,null,null,null,null,null,null,null,null,null,null,null,null,null,null,null,null,null,""]
[null,null,null,null,null,null,null,null,null,null,null,null,null,null,null,null,null,null,null,null,null,""]
[null,null,null,null,null,null,null,null,null,null,null,null,null,null,null,null,null,null,null,null,null,""]
[null,null,null,null,null,null,null,null,null,null,null,null,null,null,null,null,null,null,null,null,null,""]
[null,null,null,null,null,null,null,null,null,null,null,null,null,null,null,null,null,null,null,null,null,""]
[null,null,null,null,null,null,null,null,null,null,null,null,null,null,null,null,null,null,null,null,null,""]
[null,null,null,null,null,null,null,null,null,null,null,null,null,null,null,null,null,null,null,null,null,""]
[null,null,null,null,null,null,null,null,null,null,null,null,null,null,null,null,null,null,null,null,null,""]
[null,null,null,null,null,null,null,null,null,null,null,null,null,null,null,null,null,null,null,null,null,""]
[null,null,null,null,null,null,null,null,null,null,null,null,null,null,null,null,null,null,null,null,null,""]
[null,null,null,null,null,null,null,null,null,null,null,null,null,null,null,null,null,null,null,null,null,""]
[null,null,null,null,null,null,null,null,null,null,null,null,null,null,null,null,null,null,null,null,null,""]
[null,null,null,null,null,null,null,null,null,null,null,null,null,null,null,null,null,null,null,null,null,""]
[null,null,null,null,null,null,null,null,null,null,null,null,null,null,null,null,null,null,null,null,null,""]
[null,null,null,null,null,null,null,null,null,null,null,null,null,null,null,null,null,null,null,null,null,""]
[null,null,null,null,null,null,null,null,null,null,null,null,null,null,null,null,null,null,null,null,null,""]
[null,null,null,null,null,null,null,null,null,null,null,null,null,null,null,null,null,null,null,null,null,""]
[null,null,null,null,null,null,null,null,null,null,null,null,null,null,null,null,null,null,null,null,null,""]
[null,null,null,null,null,null,null,null,null,null,null,null,null,null,null,null,null,null,null,null,null,""]
[null,null,null,null,null,null,null,null,null,null,null,null,null,null,null,null,null,null,null,null,null,""]
[null,null,null,null,null,null,null,null,null,null,null,null,null,null,null,null,null,null,null,null,null,""]
[null,null,null,null,null,null,null,null,null,null,null,null,null,null,null,null,null,null,null,null,null,""]
[null,null,null,null,null,null,null,null,null,null,null,null,null,null,null,null,null,null,null,null,null,""]
[null,null,null,null,null,null,null,null,null,null,null,null,null,null,null,null,null,null,null,null,null,""]
[null,null,null,null,null,null,null,null,null,null,null,null,null,null,null,null,null,null,null,null,null,""]
[null,null,null,null,null,null,null,null,null,null,null,null,null,null,null,null,null,null,null,null,null,""]
[null,null,null,null,null,null,null,null,null,null,null,null,null,null,null,null,null,null,null,null,null,""]

{"sheet":"Data leveranciersbeoordeling","index":5,"n_rows":10001,"n_cols":18,"rows_kept":4500,"cut":true,"hidden":true,"merged":[],"bounds":{"rows_first":2000,"rows_last":500,"rows_between":2000,"halvings":0}}
[null,"Leveranciersnummer en naam","Beoordeling jaar","Beoordeling kwartaal","Afwijkingen","Aantal orders dit kwartaal","Kwaliteit van het product","Levertijd","Prijs / kwaliteit",{"$f":"Leveranciersbeoordeling!D15","v":"Wat vind je van de aanvullende vraag 1"},{"$f":"Leveranciersbeoordeling!D16","v":"Wat vind je van de aanvullende vraag 2"},{"$f":"Leveranciersbeoordeling!D17","v":"Wat vind je van de aanvullende vraag 3"},{"$f":"Leveranciersbeoordeling!D18","v":"Wat vind je van de aanvullende vraag 4"},{"$f":"Leveranciersbeoordeling!D19","v":"Wat vind je van de aanvullende vraag 5"},"Opmerkingen"]
[{"$f":"CONCATENATE(B2,C2,D2)","v":""},null,null,null,null,null,null,null,null,null,null,null,null,null,null,{"$f":"INDEX($A:$O,ROW(),MATCH('Rapportage per vraag'!$C$12,'Data leveranciersbeoordeling'!$1:$1,0))","v":0},{"$f":"IFERROR(VLOOKUP(INDEX($A:$O,ROW(),MATCH('Rapportage per vraag'!$C$12,'Data leveranciersbeoordeling'!$1:$1,0)),Leveranciersbeoordeling!$H$1:$I$5,2,FALSE),0)","v":0},{"$f":"IF(T(P2)=P2,Q2,P2)","v":0}]
[{"$f":"CONCATENATE(B3,C3,D3)","v":""},null,null,null,null,null,null,null,null,null,null,null,null,null,null,{"$f":"INDEX($A:$O,ROW(),MATCH('Rapportage per vraag'!$C$12,'Data leveranciersbeoordeling'!$1:$1,0))","v":0},{"$f":"IFERROR(VLOOKUP(INDEX($A:$O,ROW(),MATCH('Rapportage per vraag'!$C$12,'Data leveranciersbeoordeling'!$1:$1,0)),Leveranciersbeoordeling!$H$1:$I$5,2,FALSE),0)","v":0},0]
["",null,null,null,null,null,null,null,null,null,null,null,null,null,null,{"$f":"INDEX($A:$O,ROW(),MATCH('Rapportage per vraag'!$C$12,'Data leveranciersbeoordeling'!$1:$1,0))","v":0},{"$f":"IFERROR(VLOOKUP(INDEX($A:$O,ROW(),MATCH('Rapportage per vraag'!$C$12,'Data leveranciersbeoordeling'!$1:$1,0)),Leveranciersbeoordeling!$H$1:$I$5,2,FALSE),0)","v":0},0]
["",null,null,null,null,null,null,null,null,null,null,null,null,null,null,{"$f":"INDEX($A:$O,ROW(),MATCH('Rapportage per vraag'!$C$12,'Data leveranciersbeoordeling'!$1:$1,0))","v":0},{"$f":"IFERROR(VLOOKUP(INDEX($A:$O,ROW(),MATCH('Rapportage per vraag'!$C$12,'Data leveranciersbeoordeling'!$1:$1,0)),Leveranciersbeoordeling!$H$1:$I$5,2,FALSE),0)","v":0},{"$f":"IF(T(P5)=P5,Q5,P5)","v":0}]
["",null,null,null,null,null,null,null,null,null,null,null,null,null,null,{"$f":"INDEX($A:$O,ROW(),MATCH('Rapportage per vraag'!$C$12,'Data leveranciersbeoordeling'!$1:$1,0))","v":0},{"$f":"IFERROR(VLOOKUP(INDEX($A:$O,ROW(),MATCH('Rapportage per vraag'!$C$12,'Data leveranciersbeoordeling'!$1:$1,0)),Leveranciersbeoordeling!$H$1:$I$5,2,FALSE),0)","v":0},{"$f":"IF(T(P6)=P6,Q6,P6)","v":0}]
["",null,null,null,null,null,null,null,null,null,null,null,null,null,null,{"$f":"INDEX($A:$O,ROW(),MATCH('Rapportage per vraag'!$C$12,'Data leveranciersbeoordeling'!$1:$1,0))","v":0},{"$f":"IFERROR(VLOOKUP(INDEX($A:$O,ROW(),MATCH('Rapportage per vraag'!$C$12,'Data leveranciersbeoordeling'!$1:$1,0)),Leveranciersbeoordeling!$H$1:$I$5,2,FALSE),0)","v":0},0]
["",null,null,null,null,null,null,null,null,null,null,null,null,null,null,{"$f":"INDEX($A:$O,ROW(),MATCH('Rapportage per vraag'!$C$12,'Data leveranciersbeoordeling'!$1:$1,0))","v":0},{"$f":"IFERROR(VLOOKUP(INDEX($A:$O,ROW(),MATCH('Rapportage per vraag'!$C$12,'Data leveranciersbeoordeling'!$1:$1,0)),Leveranciersbeoordeling!$H$1:$I$5,2,FALSE),0)","v":0},0]
["",null,null,null,null,null,null,null,null,null,null,null,null,null,null,{"$f":"INDEX($A:$O,ROW(),MATCH('Rapportage per vraag'!$C$12,'Data leveranciersbeoordeling'!$1:$1,0))","v":0},{"$f":"IFERROR(VLOOKUP(INDEX($A:$O,ROW(),MATCH('Rapportage per vraag'!$C$12,'Data leveranciersbeoordeling'!$1:$1,0)),Leveranciersbeoordeling!$H$1:$I$5,2,FALSE),0)","v":0},0]
["",null,null,null,null,null,null,null,null,null,null,null,null,null,null,{"$f":"INDEX($A:$O,ROW(),MATCH('Rapportage per vraag'!$C$12,'Data leveranciersbeoordeling'!$1:$1,0))","v":0},{"$f":"IFERROR(VLOOKUP(INDEX($A:$O,ROW(),MATCH('Rapportage per vraag'!$C$12,'Data leveranciersbeoordeling'!$1:$1,0)),Leveranciersbeoordeling!$H$1:$I$5,2,FALSE),0)","v":0},0]
["",null,null,null,null,null,null,null,null,null,null,null,null,null,null,{"$f":"INDEX($A:$O,ROW(),MATCH('Rapportage per vraag'!$C$12,'Data leveranciersbeoordeling'!$1:$1,0))","v":0},{"$f":"IFERROR(VLOOKUP(INDEX($A:$O,ROW(),MATCH('Rapportage per vraag'!$C$12,'Data leveranciersbeoordeling'!$1:$1,0)),Leveranciersbeoordeling!$H$1:$I$5,2,FALSE),0)","v":0},0]
["",null,null,null,null,null,null,null,null,null,null,null,null,null,null,{"$f":"INDEX($A:$O,ROW(),MATCH('Rapportage per vraag'!$C$12,'Data leveranciersbeoordeling'!$1:$1,0))","v":0},{"$f":"IFERROR(VLOOKUP(INDEX($A:$O,ROW(),MATCH('Rapportage per vraag'!$C$12,'Data leveranciersbeoordeling'!$1:$1,0)),Leveranciersbeoordeling!$H$1:$I$5,2,FALSE),0)","v":0},0]
["",null,null,null,null,null,null,null,null,null,null,null,null,null,null,{"$f":"INDEX($A:$O,ROW(),MATCH('Rapportage per vraag'!$C$12,'Data leveranciersbeoordeling'!$1:$1,0))","v":0},{"$f":"IFERROR(VLOOKUP(INDEX($A:$O,ROW(),MATCH('Rapportage per vraag'!$C$12,'Data leveranciersbeoordeling'!$1:$1,0)),Leveranciersbeoordeling!$H$1:$I$5,2,FALSE),0)","v":0},0]
["",null,null,null,null,null,null,null,null,null,null,null,null,null,null,{"$f":"INDEX($A:$O,ROW(),MATCH('Rapportage per vraag'!$C$12,'Data leveranciersbeoordeling'!$1:$1,0))","v":0},{"$f":"IFERROR(VLOOKUP(INDEX($A:$O,ROW(),MATCH('Rapportage per vraag'!$C$12,'Data leveranciersbeoordeling'!$1:$1,0)),Leveranciersbeoordeling!$H$1:$I$5,2,FALSE),0)","v":0},0]
["",null,null,null,null,null,null,null,null,null,null,null,null,null,null,{"$f":"INDEX($A:$O,ROW(),MATCH('Rapportage per vraag'!$C$12,'Data leveranciersbeoordeling'!$1:$1,0))","v":0},{"$f":"IFERROR(VLOOKUP(INDEX($A:$O,ROW(),MATCH('Rapportage per vraag'!$C$12,'Data leveranciersbeoordeling'!$1:$1,0)),Leveranciersbeoordeling!$H$1:$I$5,2,FALSE),0)","v":0},0]
["",null,null,null,null,null,null,null,null,null,null,null,null,null,null,{"$f":"INDEX($A:$O,ROW(),MATCH('Rapportage per vraag'!$C$12,'Data leveranciersbeoordeling'!$1:$1,0))","v":0},{"$f":"IFERROR(VLOOKUP(INDEX($A:$O,ROW(),MATCH('Rapportage per vraag'!$C$12,'Data leveranciersbeoordeling'!$1:$1,0)),Leveranciersbeoordeling!$H$1:$I$5,2,FALSE),0)","v":0},0]
["",null,null,null,null,null,null,null,null,null,null,null,null,null,null,{"$f":"INDEX($A:$O,ROW(),MATCH('Rapportage per vraag'!$C$12,'Data leveranciersbeoordeling'!$1:$1,0))","v":0},{"$f":"IFERROR(VLOOKUP(INDEX($A:$O,ROW(),MATCH('Rapportage per vraag'!$C$12,'Data leveranciersbeoordeling'!$1:$1,0)),Leveranciersbeoordeling!$H$1:$I$5,2,FALSE),0)","v":0},0]
["",null,null,null,null,null,null,null,null,null,null,null,null,null,null,{"$f":"INDEX($A:$O,ROW(),MATCH('Rapportage per vraag'!$C$12,'Data leveranciersbeoordeling'!$1:$1,0))","v":0},{"$f":"IFERROR(VLOOKUP(INDEX($A:$O,ROW(),MATCH('Rapportage per vraag'!$C$12,'Data leveranciersbeoordeling'!$1:$1,0)),Leveranciersbeoordeling!$H$1:$I$5,2,FALSE),0)","v":0},0]
["",null,null,null,null,null,null,null,null,null,null,null,null,null,null,{"$f":"INDEX($A:$O,ROW(),MATCH('Rapportage per vraag'!$C$12,'Data leveranciersbeoordeling'!$1:$1,0))","v":0},{"$f":"IFERROR(VLOOKUP(INDEX($A:$O,ROW(),MATCH('Rapportage per vraag'!$C$12,'Data leveranciersbeoordeling'!$1:$1,0)),Leveranciersbeoordeling!$H$1:$I$5,2,FALSE),0)","v":0},0]
["",null,null,null,null,null,null,null,null,null,null,null,null,null,null,{"$f":"INDEX($A:$O,ROW(),MATCH('Rapportage per vraag'!$C$12,'Data leveranciersbeoordeling'!$1:$1,0))","v":0},{"$f":"IFERROR(VLOOKUP(INDEX($A:$O,ROW(),MATCH('Rapportage per vraag'!$C$12,'Data leveranciersbeoordeling'!$1:$1,0)),Leveranciersbeoordeling!$H$1:$I$5,2,FALSE),0)","v":0},0]
["",null,null,null,null,null,null,null,null,null,null,null,null,null,null,{"$f":"INDEX($A:$O,ROW(),MATCH('Rapportage per vraag'!$C$12,'Data leveranciersbeoordeling'!$1:$1,0))","v":0},{"$f":"IFERROR(VLOOKUP(INDEX($A:$O,ROW(),MATCH('Rapportage per vraag'!$C$12,'Data leveranciersbeoordeling'!$1:$1,0)),Leveranciersbeoordeling!$H$1:$I$5,2,FALSE),0)","v":0},0]
["",null,null,null,null,null,null,null,null,null,null,null,null,null,null,{"$f":"INDEX($A:$O,ROW(),MATCH('Rapportage per vraag'!$C$12,'Data leveranciersbeoordeling'!$1:$1,0))","v":0},{"$f":"IFERROR(VLOOKUP(INDEX($A:$O,ROW(),MATCH('Rapportage per vraag'!$C$12,'Data leveranciersbeoordeling'!$1:$1,0)),Leveranciersbeoordeling!$H$1:$I$5,2,FALSE),0)","v":0},0]
["",null,null,null,null,null,null,null,null,null,null,null,null,null,null,{"$f":"INDEX($A:$O,ROW(),MATCH('Rapportage per vraag'!$C$12,'Data leveranciersbeoordeling'!$1:$1,0))","v":0},{"$f":"IFERROR(VLOOKUP(INDEX($A:$O,ROW(),MATCH('Rapportage per vraag'!$C$12,'Data leveranciersbeoordeling'!$1:$1,0)),Leveranciersbeoordeling!$H$1:$I$5,2,FALSE),0)","v":0},0]
["",null,null,null,null,null,null,null,null,null,null,null,null,null,null,{"$f":"INDEX($A:$O,ROW(),MATCH('Rapportage per vraag'!$C$12,'Data leveranciersbeoordeling'!$1:$1,0))","v":0},{"$f":"IFERROR(VLOOKUP(INDEX($A:$O,ROW(),MATCH('Rapportage per vraag'!$C$12,'Data leveranciersbeoordeling'!$1:$1,0)),Leveranciersbeoordeling!$H$1:$I$5,2,FALSE),0)","v":0},0]
["",null,null,null,null,null,null,null,null,null,null,null,null,null,null,{"$f":"INDEX($A:$O,ROW(),MATCH('Rapportage per vraag'!$C$12,'Data leveranciersbeoordeling'!$1:$1,0))","v":0},{"$f":"IFERROR(VLOOKUP(INDEX($A:$O,ROW(),MATCH('Rapportage per vraag'!$C$12,'Data leveranciersbeoordeling'!$1:$1,0)),Leveranciersbeoordeling!$H$1:$I$5,2,FALSE),0)","v":0},0]
["",null,null,null,null,null,null,null,null,null,null,null,null,null,null,{"$f":"INDEX($A:$O,ROW(),MATCH('Rapportage per vraag'!$C$12,'Data leveranciersbeoordeling'!$1:$1,0))","v":0},{"$f":"IFERROR(VLOOKUP(INDEX($A:$O,ROW(),MATCH('Rapportage per vraag'!$C$12,'Data leveranciersbeoordeling'!$1:$1,0)),Leveranciersbeoordeling!$H$1:$I$5,2,FALSE),0)","v":0},0]
["",null,null,null,null,null,null,null,null,null,null,null,null,null,null,{"$f":"INDEX($A:$O,ROW(),MATCH('Rapportage per vraag'!$C$12,'Data leveranciersbeoordeling'!$1:$1,0))","v":0},{"$f":"IFERROR(VLOOKUP(INDEX($A:$O,ROW(),MATCH('Rapportage per vraag'!$C$12,'Data leveranciersbeoordeling'!$1:$1,0)),Leveranciersbeoordeling!$H$1:$I$5,2,FALSE),0)","v":0},0]
["",null,null,null,null,null,null,null,null,null,null,null,null,null,null,{"$f":"INDEX($A:$O,ROW(),MATCH('Rapportage per vraag'!$C$12,'Data leveranciersbeoordeling'!$1:$1,0))","v":0},{"$f":"IFERROR(VLOOKUP(INDEX($A:$O,ROW(),MATCH('Rapportage per vraag'!$C$12,'Data leveranciersbeoordeling'!$1:$1,0)),Leveranciersbeoordeling!$H$1:$I$5,2,FALSE),0)","v":0},0]
["",null,null,null,null,null,null,null,null,null,null,null,null,null,null,{"$f":"INDEX($A:$O,ROW(),MATCH('Rapportage per vraag'!$C$12,'Data leveranciersbeoordeling'!$1:$1,0))","v":0},{"$f":"IFERROR(VLOOKUP(INDEX($A:$O,ROW(),MATCH('Rapportage per vraag'!$C$12,'Data leveranciersbeoordeling'!$1:$1,0)),Leveranciersbeoordeling!$H$1:$I$5,2,FALSE),0)","v":0},0]
["",null,null,null,null,null,null,null,null,null,null,null,null,null,null,{"$f":"INDEX($A:$O,ROW(),MATCH('Rapportage per vraag'!$C$12,'Data leveranciersbeoordeling'!$1:$1,0))","v":0},{"$f":"IFERROR(VLOOKUP(INDEX($A:$O,ROW(),MATCH('Rapportage per vraag'!$C$12,'Data leveranciersbeoordeling'!$1:$1,0)),Leveranciersbeoordeling!$H$1:$I$5,2,FALSE),0)","v":0},0]
["",null,null,null,null,null,null,null,null,null,null,null,null,null,null,{"$f":"INDEX($A:$O,ROW(),MATCH('Rapportage per vraag'!$C$12,'Data leveranciersbeoordeling'!$1:$1,0))","v":0},{"$f":"IFERROR(VLOOKUP(INDEX($A:$O,ROW(),MATCH('Rapportage per vraag'!$C$12,'Data leveranciersbeoordeling'!$1:$1,0)),Leveranciersbeoordeling!$H$1:$I$5,2,FALSE),0)","v":0},0]
["",null,null,null,null,null,null,null,null,null,null,null,null,null,null,{"$f":"INDEX($A:$O,ROW(),MATCH('Rapportage per vraag'!$C$12,'Data leveranciersbeoordeling'!$1:$1,0))","v":0},{"$f":"IFERROR(VLOOKUP(INDEX($A:$O,ROW(),MATCH('Rapportage per vraag'!$C$12,'Data leveranciersbeoordeling'!$1:$1,0)),Leveranciersbeoordeling!$H$1:$I$5,2,FALSE),0)","v":0},0]
["",null,null,null,null,null,null,null,null,null,null,null,null,null,null,{"$f":"INDEX($A:$O,ROW(),MATCH('Rapportage per vraag'!$C$12,'Data leveranciersbeoordeling'!$1:$1,0))","v":0},{"$f":"IFERROR(VLOOKUP(INDEX($A:$O,ROW(),MATCH('Rapportage per vraag'!$C$12,'Data leveranciersbeoordeling'!$1:$1,0)),Leveranciersbeoordeling!$H$1:$I$5,2,FALSE),0)","v":0},0]
["",null,null,null,null,null,null,null,null,null,null,null,null,null,null,{"$f":"INDEX($A:$O,ROW(),MATCH('Rapportage per vraag'!$C$12,'Data leveranciersbeoordeling'!$1:$1,0))","v":0},{"$f":"IFERROR(VLOOKUP(INDEX($A:$O,ROW(),MATCH('Rapportage per vraag'!$C$12,'Data leveranciersbeoordeling'!$1:$1,0)),Leveranciersbeoordeling!$H$1:$I$5,2,FALSE),0)","v":0},0]
["",null,null,null,null,null,null,null,null,null,null,null,null,null,null,{"$f":"INDEX($A:$O,ROW(),MATCH('Rapportage per vraag'!$C$12,'Data leveranciersbeoordeling'!$1:$1,0))","v":0},{"$f":"IFERROR(VLOOKUP(INDEX($A:$O,ROW(),MATCH('Rapportage per vraag'!$C$12,'Data leveranciersbeoordeling'!$1:$1,0)),Leveranciersbeoordeling!$H$1:$I$5,2,FALSE),0)","v":0},0]
["",null,null,null,null,null,null,null,null,null,null,null,null,null,null,{"$f":"INDEX($A:$O,ROW(),MATCH('Rapportage per vraag'!$C$12,'Data leveranciersbeoordeling'!$1:$1,0))","v":0},{"$f":"IFERROR(VLOOKUP(INDEX($A:$O,ROW(),MATCH('Rapportage per vraag'!$C$12,'Data leveranciersbeoordeling'!$1:$1,0)),Leveranciersbeoordeling!$H$1:$I$5,2,FALSE),0)","v":0},0]
["",null,null,null,null,null,null,null,null,null,null,null,null,null,null,{"$f":"INDEX($A:$O,ROW(),MATCH('Rapportage per vraag'!$C$12,'Data leveranciersbeoordeling'!$1:$1,0))","v":0},{"$f":"IFERROR(VLOOKUP(INDEX($A:$O,ROW(),MATCH('Rapportage per vraag'!$C$12,'Data leveranciersbeoordeling'!$1:$1,0)),Leveranciersbeoordeling!$H$1:$I$5,2,FALSE),0)","v":0},0]
["",null,null,null,null,null,null,null,null,null,null,null,null,null,null,{"$f":"INDEX($A:$O,ROW(),MATCH('Rapportage per vraag'!$C$12,'Data leveranciersbeoordeling'!$1:$1,0))","v":0},{"$f":"IFERROR(VLOOKUP(INDEX($A:$O,ROW(),MATCH('Rapportage per vraag'!$C$12,'Data leveranciersbeoordeling'!$1:$1,0)),Leveranciersbeoordeling!$H$1:$I$5,2,FALSE),0)","v":0},0]
["",null,null,null,null,null,null,null,null,null,null,null,null,null,null,{"$f":"INDEX($A:$O,ROW(),MATCH('Rapportage per vraag'!$C$12,'Data leveranciersbeoordeling'!$1:$1,0))","v":0},{"$f":"IFERROR(VLOOKUP(INDEX($A:$O,ROW(),MATCH('Rapportage per vraag'!$C$12,'Data leveranciersbeoordeling'!$1:$1,0)),Leveranciersbeoordeling!$H$1:$I$5,2,FALSE),0)","v":0},0]
["",null,null,null,null,null,null,null,null,null,null,null,null,null,null,{"$f":"INDEX($A:$O,ROW(),MATCH('Rapportage per vraag'!$C$12,'Data leveranciersbeoordeling'!$1:$1,0))","v":0},{"$f":"IFERROR(VLOOKUP(INDEX($A:$O,ROW(),MATCH('Rapportage per vraag'!$C$12,'Data leveranciersbeoordeling'!$1:$1,0)),Leveranciersbeoordeling!$H$1:$I$5,2,FALSE),0)","v":0},0]
["",null,null,null,null,null,null,null,null,null,null,null,null,null,null,{"$f":"INDEX($A:$O,ROW(),MATCH('Rapportage per vraag'!$C$12,'Data leveranciersbeoordeling'!$1:$1,0))","v":0},{"$f":"IFERROR(VLOOKUP(INDEX($A:$O,ROW(),MATCH('Rapportage per vraag'!$C$12,'Data leveranciersbeoordeling'!$1:$1,0)),Leveranciersbeoordeling!$H$1:$I$5,2,FALSE),0)","v":0},0]
["",null,null,null,null,null,null,null,null,null,null,null,null,null,null,{"$f":"INDEX($A:$O,ROW(),MATCH('Rapportage per vraag'!$C$12,'Data leveranciersbeoordeling'!$1:$1,0))","v":0},{"$f":"IFERROR(VLOOKUP(INDEX($A:$O,ROW(),MATCH('Rapportage per vraag'!$C$12,'Data leveranciersbeoordeling'!$1:$1,0)),Leveranciersbeoordeling!$H$1:$I$5,2,FALSE),0)","v":0},0]
["",null,null,null,null,null,null,null,null,null,null,null,null,null,null,{"$f":"INDEX($A:$O,ROW(),MATCH('Rapportage per vraag'!$C$12,'Data leveranciersbeoordeling'!$1:$1,0))","v":0},{"$f":"IFERROR(VLOOKUP(INDEX($A:$O,ROW(),MATCH('Rapportage per vraag'!$C$12,'Data leveranciersbeoordeling'!$1:$1,0)),Leveranciersbeoordeling!$H$1:$I$5,2,FALSE),0)","v":0},0]
["",null,null,null,null,null,null,null,null,null,null,null,null,null,null,{"$f":"INDEX($A:$O,ROW(),MATCH('Rapportage per vraag'!$C$12,'Data leveranciersbeoordeling'!$1:$1,0))","v":0},{"$f":"IFERROR(VLOOKUP(INDEX($A:$O,ROW(),MATCH('Rapportage per vraag'!$C$12,'Data leveranciersbeoordeling'!$1:$1,0)),Leveranciersbeoordeling!$H$1:$I$5,2,FALSE),0)","v":0},0]
["",null,null,null,null,null,null,null,null,null,null,null,null,null,null,{"$f":"INDEX($A:$O,ROW(),MATCH('Rapportage per vraag'!$C$12,'Data leveranciersbeoordeling'!$1:$1,0))","v":0},{"$f":"IFERROR(VLOOKUP(INDEX($A:$O,ROW(),MATCH('Rapportage per vraag'!$C$12,'Data leveranciersbeoordeling'!$1:$1,0)),Leveranciersbeoordeling!$H$1:$I$5,2,FALSE),0)","v":0},0]
["",null,null,null,null,null,null,null,null,null,null,null,null,null,null,{"$f":"INDEX($A:$O,ROW(),MATCH('Rapportage per vraag'!$C$12,'Data leveranciersbeoordeling'!$1:$1,0))","v":0},{"$f":"IFERROR(VLOOKUP(INDEX($A:$O,ROW(),MATCH('Rapportage per vraag'!$C$12,'Data leveranciersbeoordeling'!$1:$1,0)),Leveranciersbeoordeling!$H$1:$I$5,2,FALSE),0)","v":0},0]
["",null,null,null,null,null,null,null,null,null,null,null,null,null,null,{"$f":"INDEX($A:$O,ROW(),MATCH('Rapportage per vraag'!$C$12,'Data leveranciersbeoordeling'!$1:$1,0))","v":0},{"$f":"IFERROR(VLOOKUP(INDEX($A:$O,ROW(),MATCH('Rapportage per vraag'!$C$12,'Data leveranciersbeoordeling'!$1:$1,0)),Leveranciersbeoordeling!$H$1:$I$5,2,FALSE),0)","v":0},0]
["",null,null,null,null,null,null,null,null,null,null,null,null,null,null,{"$f":"INDEX($A:$O,ROW(),MATCH('Rapportage per vraag'!$C$12,'Data leveranciersbeoordeling'!$1:$1,0))","v":0},{"$f":"IFERROR(VLOOKUP(INDEX($A:$O,ROW(),MATCH('Rapportage per vraag'!$C$12,'Data leveranciersbeoordeling'!$1:$1,0)),Leveranciersbeoordeling!$H$1:$I$5,2,FALSE),0)","v":0},0]
["",null,null,null,null,null,null,null,null,null,null,null,null,null,null,{"$f":"INDEX($A:$O,ROW(),MATCH('Rapportage per vraag'!$C$12,'Data leveranciersbeoordeling'!$1:$1,0))","v":0},{"$f":"IFERROR(VLOOKUP(INDEX($A:$O,ROW(),MATCH('Rapportage per vraag'!$C$12,'Data leveranciersbeoordeling'!$1:$1,0)),Leveranciersbeoordeling!$H$1:$I$5,2,FALSE),0)","v":0},0]
["",null,null,null,null,null,null,null,null,null,null,null,null,null,null,{"$f":"INDEX($A:$O,ROW(),MATCH('Rapportage per vraag'!$C$12,'Data leveranciersbeoordeling'!$1:$1,0))","v":0},{"$f":"IFERROR(VLOOKUP(INDEX($A:$O,ROW(),MATCH('Rapportage per vraag'!$C$12,'Data leveranciersbeoordeling'!$1:$1,0)),Leveranciersbeoordeling!$H$1:$I$5,2,FALSE),0)","v":0},0]
["",null,null,null,null,null,null,null,null,null,null,null,null,null,null,{"$f":"INDEX($A:$O,ROW(),MATCH('Rapportage per vraag'!$C$12,'Data leveranciersbeoordeling'!$1:$1,0))","v":0},{"$f":"IFERROR(VLOOKUP(INDEX($A:$O,ROW(),MATCH('Rapportage per vraag'!$C$12,'Data leveranciersbeoordeling'!$1:$1,0)),Leveranciersbeoordeling!$H$1:$I$5,2,FALSE),0)","v":0},0]
["",null,null,null,null,null,null,null,null,null,null,null,null,null,null,{"$f":"INDEX($A:$O,ROW(),MATCH('Rapportage per vraag'!$C$12,'Data leveranciersbeoordeling'!$1:$1,0))","v":0},{"$f":"IFERROR(VLOOKUP(INDEX($A:$O,ROW(),MATCH('Rapportage per vraag'!$C$12,'Data leveranciersbeoordeling'!$1:$1,0)),Leveranciersbeoordeling!$H$1:$I$5,2,FALSE),0)","v":0},0]
["",null,null,null,null,null,null,null,null,null,null,null,null,null,null,{"$f":"INDEX($A:$O,ROW(),MATCH('Rapportage per vraag'!$C$12,'Data leveranciersbeoordeling'!$1:$1,0))","v":0},{"$f":"IFERROR(VLOOKUP(INDEX($A:$O,ROW(),MATCH('Rapportage per vraag'!$C$12,'Data leveranciersbeoordeling'!$1:$1,0)),Leveranciersbeoordeling!$H$1:$I$5,2,FALSE),0)","v":0},0]
["",null,null,null,null,null,null,null,null,null,null,null,null,null,null,{"$f":"INDEX($A:$O,ROW(),MATCH('Rapportage per vraag'!$C$12,'Data leveranciersbeoordeling'!$1:$1,0))","v":0},{"$f":"IFERROR(VLOOKUP(INDEX($A:$O,ROW(),MATCH('Rapportage per vraag'!$C$12,'Data leveranciersbeoordeling'!$1:$1,0)),Leveranciersbeoordeling!$H$1:$I$5,2,FALSE),0)","v":0},0]
["",null,null,null,null,null,null,null,null,null,null,null,null,null,null,{"$f":"INDEX($A:$O,ROW(),MATCH('Rapportage per vraag'!$C$12,'Data leveranciersbeoordeling'!$1:$1,0))","v":0},{"$f":"IFERROR(VLOOKUP(INDEX($A:$O,ROW(),MATCH('Rapportage per vraag'!$C$12,'Data leveranciersbeoordeling'!$1:$1,0)),Leveranciersbeoordeling!$H$1:$I$5,2,FALSE),0)","v":0},0]
["",null,null,null,null,null,null,null,null,null,null,null,null,null,null,{"$f":"INDEX($A:$O,ROW(),MATCH('Rapportage per vraag'!$C$12,'Data leveranciersbeoordeling'!$1:$1,0))","v":0},{"$f":"IFERROR(VLOOKUP(INDEX($A:$O,ROW(),MATCH('Rapportage per vraag'!$C$12,'Data leveranciersbeoordeling'!$1:$1,0)),Leveranciersbeoordeling!$H$1:$I$5,2,FALSE),0)","v":0},0]
["",null,null,null,null,null,null,null,null,null,null,null,null,null,null,{"$f":"INDEX($A:$O,ROW(),MATCH('Rapportage per vraag'!$C$12,'Data leveranciersbeoordeling'!$1:$1,0))","v":0},{"$f":"IFERROR(VLOOKUP(INDEX($A:$O,ROW(),MATCH('Rapportage per vraag'!$C$12,'Data leveranciersbeoordeling'!$1:$1,0)),Leveranciersbeoordeling!$H$1:$I$5,2,FALSE),0)","v":0},0]
["",null,null,null,null,null,null,null,null,null,null,null,null,null,null,{"$f":"INDEX($A:$O,ROW(),MATCH('Rapportage per vraag'!$C$12,'Data leveranciersbeoordeling'!$1:$1,0))","v":0},{"$f":"IFERROR(VLOOKUP(INDEX($A:$O,ROW(),MATCH('Rapportage per vraag'!$C$12,'Data leveranciersbeoordeling'!$1:$1,0)),Leveranciersbeoordeling!$H$1:$I$5,2,FALSE),0)","v":0},0]
["",null,null,null,null,null,null,null,null,null,null,null,null,null,null,{"$f":"INDEX($A:$O,ROW(),MATCH('Rapportage per vraag'!$C$12,'Data leveranciersbeoordeling'!$1:$1,0))","v":0},{"$f":"IFERROR(VLOOKUP(INDEX($A:$O,ROW(),MATCH('Rapportage per vraag'!$C$12,'Data leveranciersbeoordeling'!$1:$1,0)),Leveranciersbeoordeling!$H$1:$I$5,2,FALSE),0)","v":0},0]
["",null,null,null,null,null,null,null,null,null,null,null,null,null,null,{"$f":"INDEX($A:$O,ROW(),MATCH('Rapportage per vraag'!$C$12,'Data leveranciersbeoordeling'!$1:$1,0))","v":0},{"$f":"IFERROR(VLOOKUP(INDEX($A:$O,ROW(),MATCH('Rapportage per vraag'!$C$12,'Data leveranciersbeoordeling'!$1:$1,0)),Leveranciersbeoordeling!$H$1:$I$5,2,FALSE),0)","v":0},0]
["",null,null,null,null,null,null,null,null,null,null,null,null,null,null,{"$f":"INDEX($A:$O,ROW(),MATCH('Rapportage per vraag'!$C$12,'Data leveranciersbeoordeling'!$1:$1,0))","v":0},{"$f":"IFERROR(VLOOKUP(INDEX($A:$O,ROW(),MATCH('Rapportage per vraag'!$C$12,'Data leveranciersbeoordeling'!$1:$1,0)),Leveranciersbeoordeling!$H$1:$I$5,2,FALSE),0)","v":0},0]
["",null,null,null,null,null,null,null,null,null,null,null,null,null,null,{"$f":"INDEX($A:$O,ROW(),MATCH('Rapportage per vraag'!$C$12,'Data leveranciersbeoordeling'!$1:$1,0))","v":0},{"$f":"IFERROR(VLOOKUP(INDEX($A:$O,ROW(),MATCH('Rapportage per vraag'!$C$12,'Data leveranciersbeoordeling'!$1:$1,0)),Leveranciersbeoordeling!$H$1:$I$5,2,FALSE),0)","v":0},0]
["",null,null,null,null,null,null,null,null,null,null,null,null,null,null,{"$f":"INDEX($A:$O,ROW(),MATCH('Rapportage per vraag'!$C$12,'Data leveranciersbeoordeling'!$1:$1,0))","v":0},{"$f":"IFERROR(VLOOKUP(INDEX($A:$O,ROW(),MATCH('Rapportage per vraag'!$C$12,'Data leveranciersbeoordeling'!$1:$1,0)),Leveranciersbeoordeling!$H$1:$I$5,2,FALSE),0)","v":0},0]
["",null,null,null,null,null,null,null,null,null,null,null,null,null,null,{"$f":"INDEX($A:$O,ROW(),MATCH('Rapportage per vraag'!$C$12,'Data leveranciersbeoordeling'!$1:$1,0))","v":0},{"$f":"IFERROR(VLOOKUP(INDEX($A:$O,ROW(),MATCH('Rapportage per vraag'!$C$12,'Data leveranciersbeoordeling'!$1:$1,0)),Leveranciersbeoordeling!$H$1:$I$5,2,FALSE),0)","v":0},0]
["",null,null,null,null,null,null,null,null,null,null,null,null,null,null,{"$f":"INDEX($A:$O,ROW(),MATCH('Rapportage per vraag'!$C$12,'Data leveranciersbeoordeling'!$1:$1,0))","v":0},{"$f":"IFERROR(VLOOKUP(INDEX($A:$O,ROW(),MATCH('Rapportage per vraag'!$C$12,'Data leveranciersbeoordeling'!$1:$1,0)),Leveranciersbeoordeling!$H$1:$I$5,2,FALSE),0)","v":0},0]
["",null,null,null,null,null,null,null,null,null,null,null,null,null,null,{"$f":"INDEX($A:$O,ROW(),MATCH('Rapportage per vraag'!$C$12,'Data leveranciersbeoordeling'!$1:$1,0))","v":0},{"$f":"IFERROR(VLOOKUP(INDEX($A:$O,ROW(),MATCH('Rapportage per vraag'!$C$12,'Data leveranciersbeoordeling'!$1:$1,0)),Leveranciersbeoordeling!$H$1:$I$5,2,FALSE),0)","v":0},0]
[{"$f":"CONCATENATE(B67,C67,D67)","v":""},null,null,null,null,null,null,null,null,null,null,null,null,null,null,{"$f":"INDEX($A:$O,ROW(),MATCH('Rapportage per vraag'!$C$12,'Data leveranciersbeoordeling'!$1:$1,0))","v":0},{"$f":"IFERROR(VLOOKUP(INDEX($A:$O,ROW(),MATCH('Rapportage per vraag'!$C$12,'Data leveranciersbeoordeling'!$1:$1,0)),Leveranciersbeoordeling!$H$1:$I$5,2,FALSE),0)","v":0},0]
["",null,null,null,null,null,null,null,null,null,null,null,null,null,null,{"$f":"INDEX($A:$O,ROW(),MATCH('Rapportage per vraag'!$C$12,'Data leveranciersbeoordeling'!$1:$1,0))","v":0},{"$f":"IFERROR(VLOOKUP(INDEX($A:$O,ROW(),MATCH('Rapportage per vraag'!$C$12,'Data leveranciersbeoordeling'!$1:$1,0)),Leveranciersbeoordeling!$H$1:$I$5,2,FALSE),0)","v":0},0]
["",null,null,null,null,null,null,null,null,null,null,null,null,null,null,{"$f":"INDEX($A:$O,ROW(),MATCH('Rapportage per vraag'!$C$12,'Data leveranciersbeoordeling'!$1:$1,0))","v":0},{"$f":"IFERROR(VLOOKUP(INDEX($A:$O,ROW(),MATCH('Rapportage per vraag'!$C$12,'Data leveranciersbeoordeling'!$1:$1,0)),Leveranciersbeoordeling!$H$1:$I$5,2,FALSE),0)","v":0},0]
["",null,null,null,null,null,null,null,null,null,null,null,null,null,null,{"$f":"INDEX($A:$O,ROW(),MATCH('Rapportage per vraag'!$C$12,'Data leveranciersbeoordeling'!$1:$1,0))","v":0},{"$f":"IFERROR(VLOOKUP(INDEX($A:$O,ROW(),MATCH('Rapportage per vraag'!$C$12,'Data leveranciersbeoordeling'!$1:$1,0)),Leveranciersbeoordeling!$H$1:$I$5,2,FALSE),0)","v":0},{"$f":"IF(T(P70)=P70,Q70,P70)","v":0}]
["",null,null,null,null,null,null,null,null,null,null,null,null,null,null,{"$f":"INDEX($A:$O,ROW(),MATCH('Rapportage per vraag'!$C$12,'Data leveranciersbeoordeling'!$1:$1,0))","v":0},{"$f":"IFERROR(VLOOKUP(INDEX($A:$O,ROW(),MATCH('Rapportage per vraag'!$C$12,'Data leveranciersbeoordeling'!$1:$1,0)),Leveranciersbeoordeling!$H$1:$I$5,2,FALSE),0)","v":0},0]
["",null,null,null,null,null,null,null,null,null,null,null,null,null,null,{"$f":"INDEX($A:$O,ROW(),MATCH('Rapportage per vraag'!$C$12,'Data leveranciersbeoordeling'!$1:$1,0))","v":0},{"$f":"IFERROR(VLOOKUP(INDEX($A:$O,ROW(),MATCH('Rapportage per vraag'!$C$12,'Data leveranciersbeoordeling'!$1:$1,0)),Leveranciersbeoordeling!$H$1:$I$5,2,FALSE),0)","v":0},0]
["",null,null,null,null,null,null,null,null,null,null,null,null,null,null,{"$f":"INDEX($A:$O,ROW(),MATCH('Rapportage per vraag'!$C$12,'Data leveranciersbeoordeling'!$1:$1,0))","v":0},{"$f":"IFERROR(VLOOKUP(INDEX($A:$O,ROW(),MATCH('Rapportage per vraag'!$C$12,'Data leveranciersbeoordeling'!$1:$1,0)),Leveranciersbeoordeling!$H$1:$I$5,2,FALSE),0)","v":0},0]
["",null,null,null,null,null,null,null,null,null,null,null,null,null,null,{"$f":"INDEX($A:$O,ROW(),MATCH('Rapportage per vraag'!$C$12,'Data leveranciersbeoordeling'!$1:$1,0))","v":0},{"$f":"IFERROR(VLOOKUP(INDEX($A:$O,ROW(),MATCH('Rapportage per vraag'!$C$12,'Data leveranciersbeoordeling'!$1:$1,0)),Leveranciersbeoordeling!$H$1:$I$5,2,FALSE),0)","v":0},0]
["",null,null,null,null,null,null,null,null,null,null,null,null,null,null,{"$f":"INDEX($A:$O,ROW(),MATCH('Rapportage per vraag'!$C$12,'Data leveranciersbeoordeling'!$1:$1,0))","v":0},{"$f":"IFERROR(VLOOKUP(INDEX($A:$O,ROW(),MATCH('Rapportage per vraag'!$C$12,'Data leveranciersbeoordeling'!$1:$1,0)),Leveranciersbeoordeling!$H$1:$I$5,2,FALSE),0)","v":0},0]
["",null,null,null,null,null,null,null,null,null,null,null,null,null,null,{"$f":"INDEX($A:$O,ROW(),MATCH('Rapportage per vraag'!$C$12,'Data leveranciersbeoordeling'!$1:$1,0))","v":0},{"$f":"IFERROR(VLOOKUP(INDEX($A:$O,ROW(),MATCH('Rapportage per vraag'!$C$12,'Data leveranciersbeoordeling'!$1:$1,0)),Leveranciersbeoordeling!$H$1:$I$5,2,FALSE),0)","v":0},0]
["",null,null,null,null,null,null,null,null,null,null,null,null,null,null,{"$f":"INDEX($A:$O,ROW(),MATCH('Rapportage per vraag'!$C$12,'Data leveranciersbeoordeling'!$1:$1,0))","v":0},{"$f":"IFERROR(VLOOKUP(INDEX($A:$O,ROW(),MATCH('Rapportage per vraag'!$C$12,'Data leveranciersbeoordeling'!$1:$1,0)),Leveranciersbeoordeling!$H$1:$I$5,2,FALSE),0)","v":0},0]
["",null,null,null,null,null,null,null,null,null,null,null,null,null,null,{"$f":"INDEX($A:$O,ROW(),MATCH('Rapportage per vraag'!$C$12,'Data leveranciersbeoordeling'!$1:$1,0))","v":0},{"$f":"IFERROR(VLOOKUP(INDEX($A:$O,ROW(),MATCH('Rapportage per vraag'!$C$12,'Data leveranciersbeoordeling'!$1:$1,0)),Leveranciersbeoordeling!$H$1:$I$5,2,FALSE),0)","v":0},0]
["",null,null,null,null,null,null,null,null,null,null,null,null,null,null,{"$f":"INDEX($A:$O,ROW(),MATCH('Rapportage per vraag'!$C$12,'Data leveranciersbeoordeling'!$1:$1,0))","v":0},{"$f":"IFERROR(VLOOKUP(INDEX($A:$O,ROW(),MATCH('Rapportage per vraag'!$C$12,'Data leveranciersbeoordeling'!$1:$1,0)),Leveranciersbeoordeling!$H$1:$I$5,2,FALSE),0)","v":0},0]
["",null,null,null,null,null,null,null,null,null,null,null,null,null,null,{"$f":"INDEX($A:$O,ROW(),MATCH('Rapportage per vraag'!$C$12,'Data leveranciersbeoordeling'!$1:$1,0))","v":0},{"$f":"IFERROR(VLOOKUP(INDEX($A:$O,ROW(),MATCH('Rapportage per vraag'!$C$12,'Data leveranciersbeoordeling'!$1:$1,0)),Leveranciersbeoordeling!$H$1:$I$5,2,FALSE),0)","v":0},0]
["",null,null,null,null,null,null,null,null,null,null,null,null,null,null,{"$f":"INDEX($A:$O,ROW(),MATCH('Rapportage per vraag'!$C$12,'Data leveranciersbeoordeling'!$1:$1,0))","v":0},{"$f":"IFERROR(VLOOKUP(INDEX($A:$O,ROW(),MATCH('Rapportage per vraag'!$C$12,'Data leveranciersbeoordeling'!$1:$1,0)),Leveranciersbeoordeling!$H$1:$I$5,2,FALSE),0)","v":0},0]
["",null,null,null,null,null,null,null,null,null,null,null,null,null,null,{"$f":"INDEX($A:$O,ROW(),MATCH('Rapportage per vraag'!$C$12,'Data leveranciersbeoordeling'!$1:$1,0))","v":0},{"$f":"IFERROR(VLOOKUP(INDEX($A:$O,ROW(),MATCH('Rapportage per vraag'!$C$12,'Data leveranciersbeoordeling'!$1:$1,0)),Leveranciersbeoordeling!$H$1:$I$5,2,FALSE),0)","v":0},0]
["",null,null,null,null,null,null,null,null,null,null,null,null,null,null,{"$f":"INDEX($A:$O,ROW(),MATCH('Rapportage per vraag'!$C$12,'Data leveranciersbeoordeling'!$1:$1,0))","v":0},{"$f":"IFERROR(VLOOKUP(INDEX($A:$O,ROW(),MATCH('Rapportage per vraag'!$C$12,'Data leveranciersbeoordeling'!$1:$1,0)),Leveranciersbeoordeling!$H$1:$I$5,2,FALSE),0)","v":0},0]
["",null,null,null,null,null,null,null,null,null,null,null,null,null,null,{"$f":"INDEX($A:$O,ROW(),MATCH('Rapportage per vraag'!$C$12,'Data leveranciersbeoordeling'!$1:$1,0))","v":0},{"$f":"IFERROR(VLOOKUP(INDEX($A:$O,ROW(),MATCH('Rapportage per vraag'!$C$12,'Data leveranciersbeoordeling'!$1:$1,0)),Leveranciersbeoordeling!$H$1:$I$5,2,FALSE),0)","v":0},0]
["",null,null,null,null,null,null,null,null,null,null,null,null,null,null,{"$f":"INDEX($A:$O,ROW(),MATCH('Rapportage per vraag'!$C$12,'Data leveranciersbeoordeling'!$1:$1,0))","v":0},{"$f":"IFERROR(VLOOKUP(INDEX($A:$O,ROW(),MATCH('Rapportage per vraag'!$C$12,'Data leveranciersbeoordeling'!$1:$1,0)),Leveranciersbeoordeling!$H$1:$I$5,2,FALSE),0)","v":0},0]
["",null,null,null,null,null,null,null,null,null,null,null,null,null,null,{"$f":"INDEX($A:$O,ROW(),MATCH('Rapportage per vraag'!$C$12,'Data leveranciersbeoordeling'!$1:$1,0))","v":0},{"$f":"IFERROR(VLOOKUP(INDEX($A:$O,ROW(),MATCH('Rapportage per vraag'!$C$12,'Data leveranciersbeoordeling'!$1:$1,0)),Leveranciersbeoordeling!$H$1:$I$5,2,FALSE),0)","v":0},0]
["",null,null,null,null,null,null,null,null,null,null,null,null,null,null,{"$f":"INDEX($A:$O,ROW(),MATCH('Rapportage per vraag'!$C$12,'Data leveranciersbeoordeling'!$1:$1,0))","v":0},{"$f":"IFERROR(VLOOKUP(INDEX($A:$O,ROW(),MATCH('Rapportage per vraag'!$C$12,'Data leveranciersbeoordeling'!$1:$1,0)),Leveranciersbeoordeling!$H$1:$I$5,2,FALSE),0)","v":0},0]
["",null,null,null,null,null,null,null,null,null,null,null,null,null,null,{"$f":"INDEX($A:$O,ROW(),MATCH('Rapportage per vraag'!$C$12,'Data leveranciersbeoordeling'!$1:$1,0))","v":0},{"$f":"IFERROR(VLOOKUP(INDEX($A:$O,ROW(),MATCH('Rapportage per vraag'!$C$12,'Data leveranciersbeoordeling'!$1:$1,0)),Leveranciersbeoordeling!$H$1:$I$5,2,FALSE),0)","v":0},0]
["",null,null,null,null,null,null,null,null,null,null,null,null,null,null,{"$f":"INDEX($A:$O,ROW(),MATCH('Rapportage per vraag'!$C$12,'Data leveranciersbeoordeling'!$1:$1,0))","v":0},{"$f":"IFERROR(VLOOKUP(INDEX($A:$O,ROW(),MATCH('Rapportage per vraag'!$C$12,'Data leveranciersbeoordeling'!$1:$1,0)),Leveranciersbeoordeling!$H$1:$I$5,2,FALSE),0)","v":0},0]
["",null,null,null,null,null,null,null,null,null,null,null,null,null,null,{"$f":"INDEX($A:$O,ROW(),MATCH('Rapportage per vraag'!$C$12,'Data leveranciersbeoordeling'!$1:$1,0))","v":0},{"$f":"IFERROR(VLOOKUP(INDEX($A:$O,ROW(),MATCH('Rapportage per vraag'!$C$12,'Data leveranciersbeoordeling'!$1:$1,0)),Leveranciersbeoordeling!$H$1:$I$5,2,FALSE),0)","v":0},0]
["",null,null,null,null,null,null,null,null,null,null,null,null,null,null,{"$f":"INDEX($A:$O,ROW(),MATCH('Rapportage per vraag'!$C$12,'Data leveranciersbeoordeling'!$1:$1,0))","v":0},{"$f":"IFERROR(VLOOKUP(INDEX($A:$O,ROW(),MATCH('Rapportage per vraag'!$C$12,'Data leveranciersbeoordeling'!$1:$1,0)),Leveranciersbeoordeling!$H$1:$I$5,2,FALSE),0)","v":0},0]
["",null,null,null,null,null,null,null,null,null,null,null,null,null,null,{"$f":"INDEX($A:$O,ROW(),MATCH('Rapportage per vraag'!$C$12,'Data leveranciersbeoordeling'!$1:$1,0))","v":0},{"$f":"IFERROR(VLOOKUP(INDEX($A:$O,ROW(),MATCH('Rapportage per vraag'!$C$12,'Data leveranciersbeoordeling'!$1:$1,0)),Leveranciersbeoordeling!$H$1:$I$5,2,FALSE),0)","v":0},0]
["",null,null,null,null,null,null,null,null,null,null,null,null,null,null,{"$f":"INDEX($A:$O,ROW(),MATCH('Rapportage per vraag'!$C$12,'Data leveranciersbeoordeling'!$1:$1,0))","v":0},{"$f":"IFERROR(VLOOKUP(INDEX($A:$O,ROW(),MATCH('Rapportage per vraag'!$C$12,'Data leveranciersbeoordeling'!$1:$1,0)),Leveranciersbeoordeling!$H$1:$I$5,2,FALSE),0)","v":0},0]
["",null,null,null,null,null,null,null,null,null,null,null,null,null,null,{"$f":"INDEX($A:$O,ROW(),MATCH('Rapportage per vraag'!$C$12,'Data leveranciersbeoordeling'!$1:$1,0))","v":0},{"$f":"IFERROR(VLOOKUP(INDEX($A:$O,ROW(),MATCH('Rapportage per vraag'!$C$12,'Data leveranciersbeoordeling'!$1:$1,0)),Leveranciersbeoordeling!$H$1:$I$5,2,FALSE),0)","v":0},0]
["",null,null,null,null,null,null,null,null,null,null,null,null,null,null,{"$f":"INDEX($A:$O,ROW(),MATCH('Rapportage per vraag'!$C$12,'Data leveranciersbeoordeling'!$1:$1,0))","v":0},{"$f":"IFERROR(VLOOKUP(INDEX($A:$O,ROW(),MATCH('Rapportage per vraag'!$C$12,'Data leveranciersbeoordeling'!$1:$1,0)),Leveranciersbeoordeling!$H$1:$I$5,2,FALSE),0)","v":0},0]
["",null,null,null,null,null,null,null,null,null,null,null,null,null,null,{"$f":"INDEX($A:$O,ROW(),MATCH('Rapportage per vraag'!$C$12,'Data leveranciersbeoordeling'!$1:$1,0))","v":0},{"$f":"IFERROR(VLOOKUP(INDEX($A:$O,ROW(),MATCH('Rapportage per vraag'!$C$12,'Data leveranciersbeoordeling'!$1:$1,0)),Leveranciersbeoordeling!$H$1:$I$5,2,FALSE),0)","v":0},0]
["",null,null,null,null,null,null,null,null,null,null,null,null,null,null,{"$f":"INDEX($A:$O,ROW(),MATCH('Rapportage per vraag'!$C$12,'Data leveranciersbeoordeling'!$1:$1,0))","v":0},{"$f":"IFERROR(VLOOKUP(INDEX($A:$O,ROW(),MATCH('Rapportage per vraag'!$C$12,'Data leveranciersbeoordeling'!$1:$1,0)),Leveranciersbeoordeling!$H$1:$I$5,2,FALSE),0)","v":0},0]
["",null,null,null,null,null,null,null,null,null,null,null,null,null,null,{"$f":"INDEX($A:$O,ROW(),MATCH('Rapportage per vraag'!$C$12,'Data leveranciersbeoordeling'!$1:$1,0))","v":0},{"$f":"IFERROR(VLOOKUP(INDEX($A:$O,ROW(),MATCH('Rapportage per vraag'!$C$12,'Data leveranciersbeoordeling'!$1:$1,0)),Leveranciersbeoordeling!$H$1:$I$5,2,FALSE),0)","v":0},0]
["",null,null,null,null,null,null,null,null,null,null,null,null,null,null,{"$f":"INDEX($A:$O,ROW(),MATCH('Rapportage per vraag'!$C$12,'Data leveranciersbeoordeling'!$1:$1,0))","v":0},{"$f":"IFERROR(VLOOKUP(INDEX($A:$O,ROW(),MATCH('Rapportage per vraag'!$C$12,'Data leveranciersbeoordeling'!$1:$1,0)),Leveranciersbeoordeling!$H$1:$I$5,2,FALSE),0)","v":0},0]
["",null,null,null,null,null,null,null,null,null,null,null,null,null,null,{"$f":"INDEX($A:$O,ROW(),MATCH('Rapportage per vraag'!$C$12,'Data leveranciersbeoordeling'!$1:$1,0))","v":0},{"$f":"IFERROR(VLOOKUP(INDEX($A:$O,ROW(),MATCH('Rapportage per vraag'!$C$12,'Data leveranciersbeoordeling'!$1:$1,0)),Leveranciersbeoordeling!$H$1:$I$5,2,FALSE),0)","v":0},0]
["",null,null,null,null,null,null,null,null,null,null,null,null,null,null,{"$f":"INDEX($A:$O,ROW(),MATCH('Rapportage per vraag'!$C$12,'Data leveranciersbeoordeling'!$1:$1,0))","v":0},{"$f":"IFERROR(VLOOKUP(INDEX($A:$O,ROW(),MATCH('Rapportage per vraag'!$C$12,'Data leveranciersbeoordeling'!$1:$1,0)),Leveranciersbeoordeling!$H$1:$I$5,2,FALSE),0)","v":0},0]
["",null,null,null,null,null,null,null,null,null,null,null,null,null,null,{"$f":"INDEX($A:$O,ROW(),MATCH('Rapportage per vraag'!$C$12,'Data leveranciersbeoordeling'!$1:$1,0))","v":0},{"$f":"IFERROR(VLOOKUP(INDEX($A:$O,ROW(),MATCH('Rapportage per vraag'!$C$12,'Data leveranciersbeoordeling'!$1:$1,0)),Leveranciersbeoordeling!$H$1:$I$5,2,FALSE),0)","v":0},0]
["",null,null,null,null,null,null,null,null,null,null,null,null,null,null,{"$f":"INDEX($A:$O,ROW(),MATCH('Rapportage per vraag'!$C$12,'Data leveranciersbeoordeling'!$1:$1,0))","v":0},{"$f":"IFERROR(VLOOKUP(INDEX($A:$O,ROW(),MATCH('Rapportage per vraag'!$C$12,'Data leveranciersbeoordeling'!$1:$1,0)),Leveranciersbeoordeling!$H$1:$I$5,2,FALSE),0)","v":0},0]
["",null,null,null,null,null,null,null,null,null,null,null,null,null,null,{"$f":"INDEX($A:$O,ROW(),MATCH('Rapportage per vraag'!$C$12,'Data leveranciersbeoordeling'!$1:$1,0))","v":0},{"$f":"IFERROR(VLOOKUP(INDEX($A:$O,ROW(),MATCH('Rapportage per vraag'!$C$12,'Data leveranciersbeoordeling'!$1:$1,0)),Leveranciersbeoordeling!$H$1:$I$5,2,FALSE),0)","v":0},0]
["",null,null,null,null,null,null,null,null,null,null,null,null,null,null,{"$f":"INDEX($A:$O,ROW(),MATCH('Rapportage per vraag'!$C$12,'Data leveranciersbeoordeling'!$1:$1,0))","v":0},{"$f":"IFERROR(VLOOKUP(INDEX($A:$O,ROW(),MATCH('Rapportage per vraag'!$C$12,'Data leveranciersbeoordeling'!$1:$1,0)),Leveranciersbeoordeling!$H$1:$I$5,2,FALSE),0)","v":0},0]
["",null,null,null,null,null,null,null,null,null,null,null,null,null,null,{"$f":"INDEX($A:$O,ROW(),MATCH('Rapportage per vraag'!$C$12,'Data leveranciersbeoordeling'!$1:$1,0))","v":0},{"$f":"IFERROR(VLOOKUP(INDEX($A:$O,ROW(),MATCH('Rapportage per vraag'!$C$12,'Data leveranciersbeoordeling'!$1:$1,0)),Leveranciersbeoordeling!$H$1:$I$5,2,FALSE),0)","v":0},0]
["",null,null,null,null,null,null,null,null,null,null,null,null,null,null,{"$f":"INDEX($A:$O,ROW(),MATCH('Rapportage per vraag'!$C$12,'Data leveranciersbeoordeling'!$1:$1,0))","v":0},{"$f":"IFERROR(VLOOKUP(INDEX($A:$O,ROW(),MATCH('Rapportage per vraag'!$C$12,'Data leveranciersbeoordeling'!$1:$1,0)),Leveranciersbeoordeling!$H$1:$I$5,2,FALSE),0)","v":0},0]
["",null,null,null,null,null,null,null,null,null,null,null,null,null,null,{"$f":"INDEX($A:$O,ROW(),MATCH('Rapportage per vraag'!$C$12,'Data leveranciersbeoordeling'!$1:$1,0))","v":0},{"$f":"IFERROR(VLOOKUP(INDEX($A:$O,ROW(),MATCH('Rapportage per vraag'!$C$12,'Data leveranciersbeoordeling'!$1:$1,0)),Leveranciersbeoordeling!$H$1:$I$5,2,FALSE),0)","v":0},0]
["",null,null,null,null,null,null,null,null,null,null,null,null,null,null,{"$f":"INDEX($A:$O,ROW(),MATCH('Rapportage per vraag'!$C$12,'Data leveranciersbeoordeling'!$1:$1,0))","v":0},{"$f":"IFERROR(VLOOKUP(INDEX($A:$O,ROW(),MATCH('Rapportage per vraag'!$C$12,'Data leveranciersbeoordeling'!$1:$1,0)),Leveranciersbeoordeling!$H$1:$I$5,2,FALSE),0)","v":0},0]
["",null,null,null,null,null,null,null,null,null,null,null,null,null,null,{"$f":"INDEX($A:$O,ROW(),MATCH('Rapportage per vraag'!$C$12,'Data leveranciersbeoordeling'!$1:$1,0))","v":0},{"$f":"IFERROR(VLOOKUP(INDEX($A:$O,ROW(),MATCH('Rapportage per vraag'!$C$12,'Data leveranciersbeoordeling'!$1:$1,0)),Leveranciersbeoordeling!$H$1:$I$5,2,FALSE),0)","v":0},0]
["",null,null,null,null,null,null,null,null,null,null,null,null,null,null,{"$f":"INDEX($A:$O,ROW(),MATCH('Rapportage per vraag'!$C$12,'Data leveranciersbeoordeling'!$1:$1,0))","v":0},{"$f":"IFERROR(VLOOKUP(INDEX($A:$O,ROW(),MATCH('Rapportage per vraag'!$C$12,'Data leveranciersbeoordeling'!$1:$1,0)),Leveranciersbeoordeling!$H$1:$I$5,2,FALSE),0)","v":0},0]
["",null,null,null,null,null,null,null,null,null,null,null,null,null,null,{"$f":"INDEX($A:$O,ROW(),MATCH('Rapportage per vraag'!$C$12,'Data leveranciersbeoordeling'!$1:$1,0))","v":0},{"$f":"IFERROR(VLOOKUP(INDEX($A:$O,ROW(),MATCH('Rapportage per vraag'!$C$12,'Data leveranciersbeoordeling'!$1:$1,0)),Leveranciersbeoordeling!$H$1:$I$5,2,FALSE),0)","v":0},0]
["",null,null,null,null,null,null,null,null,null,null,null,null,null,null,{"$f":"INDEX($A:$O,ROW(),MATCH('Rapportage per vraag'!$C$12,'Data leveranciersbeoordeling'!$1:$1,0))","v":0},{"$f":"IFERROR(VLOOKUP(INDEX($A:$O,ROW(),MATCH('Rapportage per vraag'!$C$12,'Data leveranciersbeoordeling'!$1:$1,0)),Leveranciersbeoordeling!$H$1:$I$5,2,FALSE),0)","v":0},0]
["",null,null,null,null,null,null,null,null,null,null,null,null,null,null,{"$f":"INDEX($A:$O,ROW(),MATCH('Rapportage per vraag'!$C$12,'Data leveranciersbeoordeling'!$1:$1,0))","v":0},{"$f":"IFERROR(VLOOKUP(INDEX($A:$O,ROW(),MATCH('Rapportage per vraag'!$C$12,'Data leveranciersbeoordeling'!$1:$1,0)),Leveranciersbeoordeling!$H$1:$I$5,2,FALSE),0)","v":0},0]
["",null,null,null,null,null,null,null,null,null,null,null,null,null,null,{"$f":"INDEX($A:$O,ROW(),MATCH('Rapportage per vraag'!$C$12,'Data leveranciersbeoordeling'!$1:$1,0))","v":0},{"$f":"IFERROR(VLOOKUP(INDEX($A:$O,ROW(),MATCH('Rapportage per vraag'!$C$12,'Data leveranciersbeoordeling'!$1:$1,0)),Leveranciersbeoordeling!$H$1:$I$5,2,FALSE),0)","v":0},0]
["",null,null,null,null,null,null,null,null,null,null,null,null,null,null,{"$f":"INDEX($A:$O,ROW(),MATCH('Rapportage per vraag'!$C$12,'Data leveranciersbeoordeling'!$1:$1,0))","v":0},{"$f":"IFERROR(VLOOKUP(INDEX($A:$O,ROW(),MATCH('Rapportage per vraag'!$C$12,'Data leveranciersbeoordeling'!$1:$1,0)),Leveranciersbeoordeling!$H$1:$I$5,2,FALSE),0)","v":0},0]
["",null,null,null,null,null,null,null,null,null,null,null,null,null,null,{"$f":"INDEX($A:$O,ROW(),MATCH('Rapportage per vraag'!$C$12,'Data leveranciersbeoordeling'!$1:$1,0))","v":0},{"$f":"IFERROR(VLOOKUP(INDEX($A:$O,ROW(),MATCH('Rapportage per vraag'!$C$12,'Data leveranciersbeoordeling'!$1:$1,0)),Leveranciersbeoordeling!$H$1:$I$5,2,FALSE),0)","v":0},0]
["",null,null,null,null,null,null,null,null,null,null,null,null,null,null,{"$f":"INDEX($A:$O,ROW(),MATCH('Rapportage per vraag'!$C$12,'Data leveranciersbeoordeling'!$1:$1,0))","v":0},{"$f":"IFERROR(VLOOKUP(INDEX($A:$O,ROW(),MATCH('Rapportage per vraag'!$C$12,'Data leveranciersbeoordeling'!$1:$1,0)),Leveranciersbeoordeling!$H$1:$I$5,2,FALSE),0)","v":0},0]
["",null,null,null,null,null,null,null,null,null,null,null,null,null,null,{"$f":"INDEX($A:$O,ROW(),MATCH('Rapportage per vraag'!$C$12,'Data leveranciersbeoordeling'!$1:$1,0))","v":0},{"$f":"IFERROR(VLOOKUP(INDEX($A:$O,ROW(),MATCH('Rapportage per vraag'!$C$12,'Data leveranciersbeoordeling'!$1:$1,0)),Leveranciersbeoordeling!$H$1:$I$5,2,FALSE),0)","v":0},0]
["",null,null,null,null,null,null,null,null,null,null,null,null,null,null,{"$f":"INDEX($A:$O,ROW(),MATCH('Rapportage per vraag'!$C$12,'Data leveranciersbeoordeling'!$1:$1,0))","v":0},{"$f":"IFERROR(VLOOKUP(INDEX($A:$O,ROW(),MATCH('Rapportage per vraag'!$C$12,'Data leveranciersbeoordeling'!$1:$1,0)),Leveranciersbeoordeling!$H$1:$I$5,2,FALSE),0)","v":0},0]
["",null,null,null,null,null,null,null,null,null,null,null,null,null,null,{"$f":"INDEX($A:$O,ROW(),MATCH('Rapportage per vraag'!$C$12,'Data leveranciersbeoordeling'!$1:$1,0))","v":0},{"$f":"IFERROR(VLOOKUP(INDEX($A:$O,ROW(),MATCH('Rapportage per vraag'!$C$12,'Data leveranciersbeoordeling'!$1:$1,0)),Leveranciersbeoordeling!$H$1:$I$5,2,FALSE),0)","v":0},0]
["",null,null,null,null,null,null,null,null,null,null,null,null,null,null,{"$f":"INDEX($A:$O,ROW(),MATCH('Rapportage per vraag'!$C$12,'Data leveranciersbeoordeling'!$1:$1,0))","v":0},{"$f":"IFERROR(VLOOKUP(INDEX($A:$O,ROW(),MATCH('Rapportage per vraag'!$C$12,'Data leveranciersbeoordeling'!$1:$1,0)),Leveranciersbeoordeling!$H$1:$I$5,2,FALSE),0)","v":0},0]
["",null,null,null,null,null,null,null,null,null,null,null,null,null,null,{"$f":"INDEX($A:$O,ROW(),MATCH('Rapportage per vraag'!$C$12,'Data leveranciersbeoordeling'!$1:$1,0))","v":0},{"$f":"IFERROR(VLOOKUP(INDEX($A:$O,ROW(),MATCH('Rapportage per vraag'!$C$12,'Data leveranciersbeoordeling'!$1:$1,0)),Leveranciersbeoordeling!$H$1:$I$5,2,FALSE),0)","v":0},0]
["",null,null,null,null,null,null,null,null,null,null,null,null,null,null,{"$f":"INDEX($A:$O,ROW(),MATCH('Rapportage per vraag'!$C$12,'Data leveranciersbeoordeling'!$1:$1,0))","v":0},{"$f":"IFERROR(VLOOKUP(INDEX($A:$O,ROW(),MATCH('Rapportage per vraag'!$C$12,'Data leveranciersbeoordeling'!$1:$1,0)),Leveranciersbeoordeling!$H$1:$I$5,2,FALSE),0)","v":0},0]
["",null,null,null,null,null,null,null,null,null,null,null,null,null,null,{"$f":"INDEX($A:$O,ROW(),MATCH('Rapportage per vraag'!$C$12,'Data leveranciersbeoordeling'!$1:$1,0))","v":0},{"$f":"IFERROR(VLOOKUP(INDEX($A:$O,ROW(),MATCH('Rapportage per vraag'!$C$12,'Data leveranciersbeoordeling'!$1:$1,0)),Leveranciersbeoordeling!$H$1:$I$5,2,FALSE),0)","v":0},0]
["",null,null,null,null,null,null,null,null,null,null,null,null,null,null,{"$f":"INDEX($A:$O,ROW(),MATCH('Rapportage per vraag'!$C$12,'Data leveranciersbeoordeling'!$1:$1,0))","v":0},{"$f":"IFERROR(VLOOKUP(INDEX($A:$O,ROW(),MATCH('Rapportage per vraag'!$C$12,'Data leveranciersbeoordeling'!$1:$1,0)),Leveranciersbeoordeling!$H$1:$I$5,2,FALSE),0)","v":0},0]
["",null,null,null,null,null,null,null,null,null,null,null,null,null,null,{"$f":"INDEX($A:$O,ROW(),MATCH('Rapportage per vraag'!$C$12,'Data leveranciersbeoordeling'!$1:$1,0))","v":0},{"$f":"IFERROR(VLOOKUP(INDEX($A:$O,ROW(),MATCH('Rapportage per vraag'!$C$12,'Data leveranciersbeoordeling'!$1:$1,0)),Leveranciersbeoordeling!$H$1:$I$5,2,FALSE),0)","v":0},0]
["",null,null,null,null,null,null,null,null,null,null,null,null,null,null,{"$f":"INDEX($A:$O,ROW(),MATCH('Rapportage per vraag'!$C$12,'Data leveranciersbeoordeling'!$1:$1,0))","v":0},{"$f":"IFERROR(VLOOKUP(INDEX($A:$O,ROW(),MATCH('Rapportage per vraag'!$C$12,'Data leveranciersbeoordeling'!$1:$1,0)),Leveranciersbeoordeling!$H$1:$I$5,2,FALSE),0)","v":0},0]
["",null,null,null,null,null,null,null,null,null,null,null,null,null,null,{"$f":"INDEX($A:$O,ROW(),MATCH('Rapportage per vraag'!$C$12,'Data leveranciersbeoordeling'!$1:$1,0))","v":0},{"$f":"IFERROR(VLOOKUP(INDEX($A:$O,ROW(),MATCH('Rapportage per vraag'!$C$12,'Data leveranciersbeoordeling'!$1:$1,0)),Leveranciersbeoordeling!$H$1:$I$5,2,FALSE),0)","v":0},0]
["",null,null,null,null,null,null,null,null,null,null,null,null,null,null,{"$f":"INDEX($A:$O,ROW(),MATCH('Rapportage per vraag'!$C$12,'Data leveranciersbeoordeling'!$1:$1,0))","v":0},{"$f":"IFERROR(VLOOKUP(INDEX($A:$O,ROW(),MATCH('Rapportage per vraag'!$C$12,'Data leveranciersbeoordeling'!$1:$1,0)),Leveranciersbeoordeling!$H$1:$I$5,2,FALSE),0)","v":0},0]
[{"$f":"CONCATENATE(B131,C131,D131)","v":""},null,null,null,null,null,null,null,null,null,null,null,null,null,null,{"$f":"INDEX($A:$O,ROW(),MATCH('Rapportage per vraag'!$C$12,'Data leveranciersbeoordeling'!$1:$1,0))","v":0},{"$f":"IFERROR(VLOOKUP(INDEX($A:$O,ROW(),MATCH('Rapportage per vraag'!$C$12,'Data leveranciersbeoordeling'!$1:$1,0)),Leveranciersbeoordeling!$H$1:$I$5,2,FALSE),0)","v":0},0]
["",null,null,null,null,null,null,null,null,null,null,null,null,null,null,{"$f":"INDEX($A:$O,ROW(),MATCH('Rapportage per vraag'!$C$12,'Data leveranciersbeoordeling'!$1:$1,0))","v":0},{"$f":"IFERROR(VLOOKUP(INDEX($A:$O,ROW(),MATCH('Rapportage per vraag'!$C$12,'Data leveranciersbeoordeling'!$1:$1,0)),Leveranciersbeoordeling!$H$1:$I$5,2,FALSE),0)","v":0},0]
["",null,null,null,null,null,null,null,null,null,null,null,null,null,null,{"$f":"INDEX($A:$O,ROW(),MATCH('Rapportage per vraag'!$C$12,'Data leveranciersbeoordeling'!$1:$1,0))","v":0},{"$f":"IFERROR(VLOOKUP(INDEX($A:$O,ROW(),MATCH('Rapportage per vraag'!$C$12,'Data leveranciersbeoordeling'!$1:$1,0)),Leveranciersbeoordeling!$H$1:$I$5,2,FALSE),0)","v":0},0]
["",null,null,null,null,null,null,null,null,null,null,null,null,null,null,{"$f":"INDEX($A:$O,ROW(),MATCH('Rapportage per vraag'!$C$12,'Data leveranciersbeoordeling'!$1:$1,0))","v":0},{"$f":"IFERROR(VLOOKUP(INDEX($A:$O,ROW(),MATCH('Rapportage per vraag'!$C$12,'Data leveranciersbeoordeling'!$1:$1,0)),Leveranciersbeoordeling!$H$1:$I$5,2,FALSE),0)","v":0},{"$f":"IF(T(P134)=P134,Q134,P134)","v":0}]
["",null,null,null,null,null,null,null,null,null,null,null,null,null,null,{"$f":"INDEX($A:$O,ROW(),MATCH('Rapportage per vraag'!$C$12,'Data leveranciersbeoordeling'!$1:$1,0))","v":0},{"$f":"IFERROR(VLOOKUP(INDEX($A:$O,ROW(),MATCH('Rapportage per vraag'!$C$12,'Data leveranciersbeoordeling'!$1:$1,0)),Leveranciersbeoordeling!$H$1:$I$5,2,FALSE),0)","v":0},0]
["",null,null,null,null,null,null,null,null,null,null,null,null,null,null,{"$f":"INDEX($A:$O,ROW(),MATCH('Rapportage per vraag'!$C$12,'Data leveranciersbeoordeling'!$1:$1,0))","v":0},{"$f":"IFERROR(VLOOKUP(INDEX($A:$O,ROW(),MATCH('Rapportage per vraag'!$C$12,'Data leveranciersbeoordeling'!$1:$1,0)),Leveranciersbeoordeling!$H$1:$I$5,2,FALSE),0)","v":0},0]
["",null,null,null,null,null,null,null,null,null,null,null,null,null,null,{"$f":"INDEX($A:$O,ROW(),MATCH('Rapportage per vraag'!$C$12,'Data leveranciersbeoordeling'!$1:$1,0))","v":0},{"$f":"IFERROR(VLOOKUP(INDEX($A:$O,ROW(),MATCH('Rapportage per vraag'!$C$12,'Data leveranciersbeoordeling'!$1:$1,0)),Leveranciersbeoordeling!$H$1:$I$5,2,FALSE),0)","v":0},0]
["",null,null,null,null,null,null,null,null,null,null,null,null,null,null,{"$f":"INDEX($A:$O,ROW(),MATCH('Rapportage per vraag'!$C$12,'Data leveranciersbeoordeling'!$1:$1,0))","v":0},{"$f":"IFERROR(VLOOKUP(INDEX($A:$O,ROW(),MATCH('Rapportage per vraag'!$C$12,'Data leveranciersbeoordeling'!$1:$1,0)),Leveranciersbeoordeling!$H$1:$I$5,2,FALSE),0)","v":0},0]
["",null,null,null,null,null,null,null,null,null,null,null,null,null,null,{"$f":"INDEX($A:$O,ROW(),MATCH('Rapportage per vraag'!$C$12,'Data leveranciersbeoordeling'!$1:$1,0))","v":0},{"$f":"IFERROR(VLOOKUP(INDEX($A:$O,ROW(),MATCH('Rapportage per vraag'!$C$12,'Data leveranciersbeoordeling'!$1:$1,0)),Leveranciersbeoordeling!$H$1:$I$5,2,FALSE),0)","v":0},0]
["",null,null,null,null,null,null,null,null,null,null,null,null,null,null,{"$f":"INDEX($A:$O,ROW(),MATCH('Rapportage per vraag'!$C$12,'Data leveranciersbeoordeling'!$1:$1,0))","v":0},{"$f":"IFERROR(VLOOKUP(INDEX($A:$O,ROW(),MATCH('Rapportage per vraag'!$C$12,'Data leveranciersbeoordeling'!$1:$1,0)),Leveranciersbeoordeling!$H$1:$I$5,2,FALSE),0)","v":0},0]
["",null,null,null,null,null,null,null,null,null,null,null,null,null,null,{"$f":"INDEX($A:$O,ROW(),MATCH('Rapportage per vraag'!$C$12,'Data leveranciersbeoordeling'!$1:$1,0))","v":0},{"$f":"IFERROR(VLOOKUP(INDEX($A:$O,ROW(),MATCH('Rapportage per vraag'!$C$12,'Data leveranciersbeoordeling'!$1:$1,0)),Leveranciersbeoordeling!$H$1:$I$5,2,FALSE),0)","v":0},0]
["",null,null,null,null,null,null,null,null,null,null,null,null,null,null,{"$f":"INDEX($A:$O,ROW(),MATCH('Rapportage per vraag'!$C$12,'Data leveranciersbeoordeling'!$1:$1,0))","v":0},{"$f":"IFERROR(VLOOKUP(INDEX($A:$O,ROW(),MATCH('Rapportage per vraag'!$C$12,'Data leveranciersbeoordeling'!$1:$1,0)),Leveranciersbeoordeling!$H$1:$I$5,2,FALSE),0)","v":0},0]
["",null,null,null,null,null,null,null,null,null,null,null,null,null,null,{"$f":"INDEX($A:$O,ROW(),MATCH('Rapportage per vraag'!$C$12,'Data leveranciersbeoordeling'!$1:$1,0))","v":0},{"$f":"IFERROR(VLOOKUP(INDEX($A:$O,ROW(),MATCH('Rapportage per vraag'!$C$12,'Data leveranciersbeoordeling'!$1:$1,0)),Leveranciersbeoordeling!$H$1:$I$5,2,FALSE),0)","v":0},0]
["",null,null,null,null,null,null,null,null,null,null,null,null,null,null,{"$f":"INDEX($A:$O,ROW(),MATCH('Rapportage per vraag'!$C$12,'Data leveranciersbeoordeling'!$1:$1,0))","v":0},{"$f":"IFERROR(VLOOKUP(INDEX($A:$O,ROW(),MATCH('Rapportage per vraag'!$C$12,'Data leveranciersbeoordeling'!$1:$1,0)),Leveranciersbeoordeling!$H$1:$I$5,2,FALSE),0)","v":0},0]
["",null,null,null,null,null,null,null,null,null,null,null,null,null,null,{"$f":"INDEX($A:$O,ROW(),MATCH('Rapportage per vraag'!$C$12,'Data leveranciersbeoordeling'!$1:$1,0))","v":0},{"$f":"IFERROR(VLOOKUP(INDEX($A:$O,ROW(),MATCH('Rapportage per vraag'!$C$12,'Data leveranciersbeoordeling'!$1:$1,0)),Leveranciersbeoordeling!$H$1:$I$5,2,FALSE),0)","v":0},0]
["",null,null,null,null,null,null,null,null,null,null,null,null,null,null,{"$f":"INDEX($A:$O,ROW(),MATCH('Rapportage per vraag'!$C$12,'Data leveranciersbeoordeling'!$1:$1,0))","v":0},{"$f":"IFERROR(VLOOKUP(INDEX($A:$O,ROW(),MATCH('Rapportage per vraag'!$C$12,'Data leveranciersbeoordeling'!$1:$1,0)),Leveranciersbeoordeling!$H$1:$I$5,2,FALSE),0)","v":0},0]
["",null,null,null,null,null,null,null,null,null,null,null,null,null,null,{"$f":"INDEX($A:$O,ROW(),MATCH('Rapportage per vraag'!$C$12,'Data leveranciersbeoordeling'!$1:$1,0))","v":0},{"$f":"IFERROR(VLOOKUP(INDEX($A:$O,ROW(),MATCH('Rapportage per vraag'!$C$12,'Data leveranciersbeoordeling'!$1:$1,0)),Leveranciersbeoordeling!$H$1:$I$5,2,FALSE),0)","v":0},0]
["",null,null,null,null,null,null,null,null,null,null,null,null,null,null,{"$f":"INDEX($A:$O,ROW(),MATCH('Rapportage per vraag'!$C$12,'Data leveranciersbeoordeling'!$1:$1,0))","v":0},{"$f":"IFERROR(VLOOKUP(INDEX($A:$O,ROW(),MATCH('Rapportage per vraag'!$C$12,'Data leveranciersbeoordeling'!$1:$1,0)),Leveranciersbeoordeling!$H$1:$I$5,2,FALSE),0)","v":0},0]
["",null,null,null,null,null,null,null,null,null,null,null,null,null,null,{"$f":"INDEX($A:$O,ROW(),MATCH('Rapportage per vraag'!$C$12,'Data leveranciersbeoordeling'!$1:$1,0))","v":0},{"$f":"IFERROR(VLOOKUP(INDEX($A:$O,ROW(),MATCH('Rapportage per vraag'!$C$12,'Data leveranciersbeoordeling'!$1:$1,0)),Leveranciersbeoordeling!$H$1:$I$5,2,FALSE),0)","v":0},0]
["",null,null,null,null,null,null,null,null,null,null,null,null,null,null,{"$f":"INDEX($A:$O,ROW(),MATCH('Rapportage per vraag'!$C$12,'Data leveranciersbeoordeling'!$1:$1,0))","v":0},{"$f":"IFERROR(VLOOKUP(INDEX($A:$O,ROW(),MATCH('Rapportage per vraag'!$C$12,'Data leveranciersbeoordeling'!$1:$1,0)),Leveranciersbeoordeling!$H$1:$I$5,2,FALSE),0)","v":0},0]
["",null,null,null,null,null,null,null,null,null,null,null,null,null,null,{"$f":"INDEX($A:$O,ROW(),MATCH('Rapportage per vraag'!$C$12,'Data leveranciersbeoordeling'!$1:$1,0))","v":0},{"$f":"IFERROR(VLOOKUP(INDEX($A:$O,ROW(),MATCH('Rapportage per vraag'!$C$12,'Data leveranciersbeoordeling'!$1:$1,0)),Leveranciersbeoordeling!$H$1:$I$5,2,FALSE),0)","v":0},0]
["",null,null,null,null,null,null,null,null,null,null,null,null,null,null,{"$f":"INDEX($A:$O,ROW(),MATCH('Rapportage per vraag'!$C$12,'Data leveranciersbeoordeling'!$1:$1,0))","v":0},{"$f":"IFERROR(VLOOKUP(INDEX($A:$O,ROW(),MATCH('Rapportage per vraag'!$C$12,'Data leveranciersbeoordeling'!$1:$1,0)),Leveranciersbeoordeling!$H$1:$I$5,2,FALSE),0)","v":0},0]
["",null,null,null,null,null,null,null,null,null,null,null,null,null,null,{"$f":"INDEX($A:$O,ROW(),MATCH('Rapportage per vraag'!$C$12,'Data leveranciersbeoordeling'!$1:$1,0))","v":0},{"$f":"IFERROR(VLOOKUP(INDEX($A:$O,ROW(),MATCH('Rapportage per vraag'!$C$12,'Data leveranciersbeoordeling'!$1:$1,0)),Leveranciersbeoordeling!$H$1:$I$5,2,FALSE),0)","v":0},0]
["",null,null,null,null,null,null,null,null,null,null,null,null,null,null,{"$f":"INDEX($A:$O,ROW(),MATCH('Rapportage per vraag'!$C$12,'Data leveranciersbeoordeling'!$1:$1,0))","v":0},{"$f":"IFERROR(VLOOKUP(INDEX($A:$O,ROW(),MATCH('Rapportage per vraag'!$C$12,'Data leveranciersbeoordeling'!$1:$1,0)),Leveranciersbeoordeling!$H$1:$I$5,2,FALSE),0)","v":0},0]
["",null,null,null,null,null,null,null,null,null,null,null,null,null,null,{"$f":"INDEX($A:$O,ROW(),MATCH('Rapportage per vraag'!$C$12,'Data leveranciersbeoordeling'!$1:$1,0))","v":0},{"$f":"IFERROR(VLOOKUP(INDEX($A:$O,ROW(),MATCH('Rapportage per vraag'!$C$12,'Data leveranciersbeoordeling'!$1:$1,0)),Leveranciersbeoordeling!$H$1:$I$5,2,FALSE),0)","v":0},0]
["",null,null,null,null,null,null,null,null,null,null,null,null,null,null,{"$f":"INDEX($A:$O,ROW(),MATCH('Rapportage per vraag'!$C$12,'Data leveranciersbeoordeling'!$1:$1,0))","v":0},{"$f":"IFERROR(VLOOKUP(INDEX($A:$O,ROW(),MATCH('Rapportage per vraag'!$C$12,'Data leveranciersbeoordeling'!$1:$1,0)),Leveranciersbeoordeling!$H$1:$I$5,2,FALSE),0)","v":0},0]
["",null,null,null,null,null,null,null,null,null,null,null,null,null,null,{"$f":"INDEX($A:$O,ROW(),MATCH('Rapportage per vraag'!$C$12,'Data leveranciersbeoordeling'!$1:$1,0))","v":0},{"$f":"IFERROR(VLOOKUP(INDEX($A:$O,ROW(),MATCH('Rapportage per vraag'!$C$12,'Data leveranciersbeoordeling'!$1:$1,0)),Leveranciersbeoordeling!$H$1:$I$5,2,FALSE),0)","v":0},0]
["",null,null,null,null,null,null,null,null,null,null,null,null,null,null,{"$f":"INDEX($A:$O,ROW(),MATCH('Rapportage per vraag'!$C$12,'Data leveranciersbeoordeling'!$1:$1,0))","v":0},{"$f":"IFERROR(VLOOKUP(INDEX($A:$O,ROW(),MATCH('Rapportage per vraag'!$C$12,'Data leveranciersbeoordeling'!$1:$1,0)),Leveranciersbeoordeling!$H$1:$I$5,2,FALSE),0)","v":0},0]
["",null,null,null,null,null,null,null,null,null,null,null,null,null,null,{"$f":"INDEX($A:$O,ROW(),MATCH('Rapportage per vraag'!$C$12,'Data leveranciersbeoordeling'!$1:$1,0))","v":0},{"$f":"IFERROR(VLOOKUP(INDEX($A:$O,ROW(),MATCH('Rapportage per vraag'!$C$12,'Data leveranciersbeoordeling'!$1:$1,0)),Leveranciersbeoordeling!$H$1:$I$5,2,FALSE),0)","v":0},0]
["",null,null,null,null,null,null,null,null,null,null,null,null,null,null,{"$f":"INDEX($A:$O,ROW(),MATCH('Rapportage per vraag'!$C$12,'Data leveranciersbeoordeling'!$1:$1,0))","v":0},{"$f":"IFERROR(VLOOKUP(INDEX($A:$O,ROW(),MATCH('Rapportage per vraag'!$C$12,'Data leveranciersbeoordeling'!$1:$1,0)),Leveranciersbeoordeling!$H$1:$I$5,2,FALSE),0)","v":0},0]
["",null,null,null,null,null,null,null,null,null,null,null,null,null,null,{"$f":"INDEX($A:$O,ROW(),MATCH('Rapportage per vraag'!$C$12,'Data leveranciersbeoordeling'!$1:$1,0))","v":0},{"$f":"IFERROR(VLOOKUP(INDEX($A:$O,ROW(),MATCH('Rapportage per vraag'!$C$12,'Data leveranciersbeoordeling'!$1:$1,0)),Leveranciersbeoordeling!$H$1:$I$5,2,FALSE),0)","v":0},0]
["",null,null,null,null,null,null,null,null,null,null,null,null,null,null,{"$f":"INDEX($A:$O,ROW(),MATCH('Rapportage per vraag'!$C$12,'Data leveranciersbeoordeling'!$1:$1,0))","v":0},{"$f":"IFERROR(VLOOKUP(INDEX($A:$O,ROW(),MATCH('Rapportage per vraag'!$C$12,'Data leveranciersbeoordeling'!$1:$1,0)),Leveranciersbeoordeling!$H$1:$I$5,2,FALSE),0)","v":0},0]
["",null,null,null,null,null,null,null,null,null,null,null,null,null,null,{"$f":"INDEX($A:$O,ROW(),MATCH('Rapportage per vraag'!$C$12,'Data leveranciersbeoordeling'!$1:$1,0))","v":0},{"$f":"IFERROR(VLOOKUP(INDEX($A:$O,ROW(),MATCH('Rapportage per vraag'!$C$12,'Data leveranciersbeoordeling'!$1:$1,0)),Leveranciersbeoordeling!$H$1:$I$5,2,FALSE),0)","v":0},0]
["",null,null,null,null,null,null,null,null,null,null,null,null,null,null,{"$f":"INDEX($A:$O,ROW(),MATCH('Rapportage per vraag'!$C$12,'Data leveranciersbeoordeling'!$1:$1,0))","v":0},{"$f":"IFERROR(VLOOKUP(INDEX($A:$O,ROW(),MATCH('Rapportage per vraag'!$C$12,'Data leveranciersbeoordeling'!$1:$1,0)),Leveranciersbeoordeling!$H$1:$I$5,2,FALSE),0)","v":0},0]
["",null,null,null,null,null,null,null,null,null,null,null,null,null,null,{"$f":"INDEX($A:$O,ROW(),MATCH('Rapportage per vraag'!$C$12,'Data leveranciersbeoordeling'!$1:$1,0))","v":0},{"$f":"IFERROR(VLOOKUP(INDEX($A:$O,ROW(),MATCH('Rapportage per vraag'!$C$12,'Data leveranciersbeoordeling'!$1:$1,0)),Leveranciersbeoordeling!$H$1:$I$5,2,FALSE),0)","v":0},0]
["",null,null,null,null,null,null,null,null,null,null,null,null,null,null,{"$f":"INDEX($A:$O,ROW(),MATCH('Rapportage per vraag'!$C$12,'Data leveranciersbeoordeling'!$1:$1,0))","v":0},{"$f":"IFERROR(VLOOKUP(INDEX($A:$O,ROW(),MATCH('Rapportage per vraag'!$C$12,'Data leveranciersbeoordeling'!$1:$1,0)),Leveranciersbeoordeling!$H$1:$I$5,2,FALSE),0)","v":0},0]
["",null,null,null,null,null,null,null,null,null,null,null,null,null,null,{"$f":"INDEX($A:$O,ROW(),MATCH('Rapportage per vraag'!$C$12,'Data leveranciersbeoordeling'!$1:$1,0))","v":0},{"$f":"IFERROR(VLOOKUP(INDEX($A:$O,ROW(),MATCH('Rapportage per vraag'!$C$12,'Data leveranciersbeoordeling'!$1:$1,0)),Leveranciersbeoordeling!$H$1:$I$5,2,FALSE),0)","v":0},0]
["",null,null,null,null,null,null,null,null,null,null,null,null,null,null,{"$f":"INDEX($A:$O,ROW(),MATCH('Rapportage per vraag'!$C$12,'Data leveranciersbeoordeling'!$1:$1,0))","v":0},{"$f":"IFERROR(VLOOKUP(INDEX($A:$O,ROW(),MATCH('Rapportage per vraag'!$C$12,'Data leveranciersbeoordeling'!$1:$1,0)),Leveranciersbeoordeling!$H$1:$I$5,2,FALSE),0)","v":0},0]
["",null,null,null,null,null,null,null,null,null,null,null,null,null,null,{"$f":"INDEX($A:$O,ROW(),MATCH('Rapportage per vraag'!$C$12,'Data leveranciersbeoordeling'!$1:$1,0))","v":0},{"$f":"IFERROR(VLOOKUP(INDEX($A:$O,ROW(),MATCH('Rapportage per vraag'!$C$12,'Data leveranciersbeoordeling'!$1:$1,0)),Leveranciersbeoordeling!$H$1:$I$5,2,FALSE),0)","v":0},0]
["",null,null,null,null,null,null,null,null,null,null,null,null,null,null,{"$f":"INDEX($A:$O,ROW(),MATCH('Rapportage per vraag'!$C$12,'Data leveranciersbeoordeling'!$1:$1,0))","v":0},{"$f":"IFERROR(VLOOKUP(INDEX($A:$O,ROW(),MATCH('Rapportage per vraag'!$C$12,'Data leveranciersbeoordeling'!$1:$1,0)),Leveranciersbeoordeling!$H$1:$I$5,2,FALSE),0)","v":0},0]
["",null,null,null,null,null,null,null,null,null,null,null,null,null,null,{"$f":"INDEX($A:$O,ROW(),MATCH('Rapportage per vraag'!$C$12,'Data leveranciersbeoordeling'!$1:$1,0))","v":0},{"$f":"IFERROR(VLOOKUP(INDEX($A:$O,ROW(),MATCH('Rapportage per vraag'!$C$12,'Data leveranciersbeoordeling'!$1:$1,0)),Leveranciersbeoordeling!$H$1:$I$5,2,FALSE),0)","v":0},0]
["",null,null,null,null,null,null,null,null,null,null,null,null,null,null,{"$f":"INDEX($A:$O,ROW(),MATCH('Rapportage per vraag'!$C$12,'Data leveranciersbeoordeling'!$1:$1,0))","v":0},{"$f":"IFERROR(VLOOKUP(INDEX($A:$O,ROW(),MATCH('Rapportage per vraag'!$C$12,'Data leveranciersbeoordeling'!$1:$1,0)),Leveranciersbeoordeling!$H$1:$I$5,2,FALSE),0)","v":0},0]
["",null,null,null,null,null,null,null,null,null,null,null,null,null,null,{"$f":"INDEX($A:$O,ROW(),MATCH('Rapportage per vraag'!$C$12,'Data leveranciersbeoordeling'!$1:$1,0))","v":0},{"$f":"IFERROR(VLOOKUP(INDEX($A:$O,ROW(),MATCH('Rapportage per vraag'!$C$12,'Data leveranciersbeoordeling'!$1:$1,0)),Leveranciersbeoordeling!$H$1:$I$5,2,FALSE),0)","v":0},0]
["",null,null,null,null,null,null,null,null,null,null,null,null,null,null,{"$f":"INDEX($A:$O,ROW(),MATCH('Rapportage per vraag'!$C$12,'Data leveranciersbeoordeling'!$1:$1,0))","v":0},{"$f":"IFERROR(VLOOKUP(INDEX($A:$O,ROW(),MATCH('Rapportage per vraag'!$C$12,'Data leveranciersbeoordeling'!$1:$1,0)),Leveranciersbeoordeling!$H$1:$I$5,2,FALSE),0)","v":0},0]
["",null,null,null,null,null,null,null,null,null,null,null,null,null,null,{"$f":"INDEX($A:$O,ROW(),MATCH('Rapportage per vraag'!$C$12,'Data leveranciersbeoordeling'!$1:$1,0))","v":0},{"$f":"IFERROR(VLOOKUP(INDEX($A:$O,ROW(),MATCH('Rapportage per vraag'!$C$12,'Data leveranciersbeoordeling'!$1:$1,0)),Leveranciersbeoordeling!$H$1:$I$5,2,FALSE),0)","v":0},0]
["",null,null,null,null,null,null,null,null,null,null,null,null,null,null,{"$f":"INDEX($A:$O,ROW(),MATCH('Rapportage per vraag'!$C$12,'Data leveranciersbeoordeling'!$1:$1,0))","v":0},{"$f":"IFERROR(VLOOKUP(INDEX($A:$O,ROW(),MATCH('Rapportage per vraag'!$C$12,'Data leveranciersbeoordeling'!$1:$1,0)),Leveranciersbeoordeling!$H$1:$I$5,2,FALSE),0)","v":0},0]
["",null,null,null,null,null,null,null,null,null,null,null,null,null,null,{"$f":"INDEX($A:$O,ROW(),MATCH('Rapportage per vraag'!$C$12,'Data leveranciersbeoordeling'!$1:$1,0))","v":0},{"$f":"IFERROR(VLOOKUP(INDEX($A:$O,ROW(),MATCH('Rapportage per vraag'!$C$12,'Data leveranciersbeoordeling'!$1:$1,0)),Leveranciersbeoordeling!$H$1:$I$5,2,FALSE),0)","v":0},0]
["",null,null,null,null,null,null,null,null,null,null,null,null,null,null,{"$f":"INDEX($A:$O,ROW(),MATCH('Rapportage per vraag'!$C$12,'Data leveranciersbeoordeling'!$1:$1,0))","v":0},{"$f":"IFERROR(VLOOKUP(INDEX($A:$O,ROW(),MATCH('Rapportage per vraag'!$C$12,'Data leveranciersbeoordeling'!$1:$1,0)),Leveranciersbeoordeling!$H$1:$I$5,2,FALSE),0)","v":0},0]
["",null,null,null,null,null,null,null,null,null,null,null,null,null,null,{"$f":"INDEX($A:$O,ROW(),MATCH('Rapportage per vraag'!$C$12,'Data leveranciersbeoordeling'!$1:$1,0))","v":0},{"$f":"IFERROR(VLOOKUP(INDEX($A:$O,ROW(),MATCH('Rapportage per vraag'!$C$12,'Data leveranciersbeoordeling'!$1:$1,0)),Leveranciersbeoordeling!$H$1:$I$5,2,FALSE),0)","v":0},0]
["",null,null,null,null,null,null,null,null,null,null,null,null,null,null,{"$f":"INDEX($A:$O,ROW(),MATCH('Rapportage per vraag'!$C$12,'Data leveranciersbeoordeling'!$1:$1,0))","v":0},{"$f":"IFERROR(VLOOKUP(INDEX($A:$O,ROW(),MATCH('Rapportage per vraag'!$C$12,'Data leveranciersbeoordeling'!$1:$1,0)),Leveranciersbeoordeling!$H$1:$I$5,2,FALSE),0)","v":0},0]
["",null,null,null,null,null,null,null,null,null,null,null,null,null,null,{"$f":"INDEX($A:$O,ROW(),MATCH('Rapportage per vraag'!$C$12,'Data leveranciersbeoordeling'!$1:$1,0))","v":0},{"$f":"IFERROR(VLOOKUP(INDEX($A:$O,ROW(),MATCH('Rapportage per vraag'!$C$12,'Data leveranciersbeoordeling'!$1:$1,0)),Leveranciersbeoordeling!$H$1:$I$5,2,FALSE),0)","v":0},0]
["",null,null,null,null,null,null,null,null,null,null,null,null,null,null,{"$f":"INDEX($A:$O,ROW(),MATCH('Rapportage per vraag'!$C$12,'Data leveranciersbeoordeling'!$1:$1,0))","v":0},{"$f":"IFERROR(VLOOKUP(INDEX($A:$O,ROW(),MATCH('Rapportage per vraag'!$C$12,'Data leveranciersbeoordeling'!$1:$1,0)),Leveranciersbeoordeling!$H$1:$I$5,2,FALSE),0)","v":0},0]
["",null,null,null,null,null,null,null,null,null,null,null,null,null,null,{"$f":"INDEX($A:$O,ROW(),MATCH('Rapportage per vraag'!$C$12,'Data leveranciersbeoordeling'!$1:$1,0))","v":0},{"$f":"IFERROR(VLOOKUP(INDEX($A:$O,ROW(),MATCH('Rapportage per vraag'!$C$12,'Data leveranciersbeoordeling'!$1:$1,0)),Leveranciersbeoordeling!$H$1:$I$5,2,FALSE),0)","v":0},0]
["",null,null,null,null,null,null,null,null,null,null,null,null,null,null,{"$f":"INDEX($A:$O,ROW(),MATCH('Rapportage per vraag'!$C$12,'Data leveranciersbeoordeling'!$1:$1,0))","v":0},{"$f":"IFERROR(VLOOKUP(INDEX($A:$O,ROW(),MATCH('Rapportage per vraag'!$C$12,'Data leveranciersbeoordeling'!$1:$1,0)),Leveranciersbeoordeling!$H$1:$I$5,2,FALSE),0)","v":0},0]
["",null,null,null,null,null,null,null,null,null,null,null,null,null,null,{"$f":"INDEX($A:$O,ROW(),MATCH('Rapportage per vraag'!$C$12,'Data leveranciersbeoordeling'!$1:$1,0))","v":0},{"$f":"IFERROR(VLOOKUP(INDEX($A:$O,ROW(),MATCH('Rapportage per vraag'!$C$12,'Data leveranciersbeoordeling'!$1:$1,0)),Leveranciersbeoordeling!$H$1:$I$5,2,FALSE),0)","v":0},0]
["",null,null,null,null,null,null,null,null,null,null,null,null,null,null,{"$f":"INDEX($A:$O,ROW(),MATCH('Rapportage per vraag'!$C$12,'Data leveranciersbeoordeling'!$1:$1,0))","v":0},{"$f":"IFERROR(VLOOKUP(INDEX($A:$O,ROW(),MATCH('Rapportage per vraag'!$C$12,'Data leveranciersbeoordeling'!$1:$1,0)),Leveranciersbeoordeling!$H$1:$I$5,2,FALSE),0)","v":0},0]
["",null,null,null,null,null,null,null,null,null,null,null,null,null,null,{"$f":"INDEX($A:$O,ROW(),MATCH('Rapportage per vraag'!$C$12,'Data leveranciersbeoordeling'!$1:$1,0))","v":0},{"$f":"IFERROR(VLOOKUP(INDEX($A:$O,ROW(),MATCH('Rapportage per vraag'!$C$12,'Data leveranciersbeoordeling'!$1:$1,0)),Leveranciersbeoordeling!$H$1:$I$5,2,FALSE),0)","v":0},0]
["",null,null,null,null,null,null,null,null,null,null,null,null,null,null,{"$f":"INDEX($A:$O,ROW(),MATCH('Rapportage per vraag'!$C$12,'Data leveranciersbeoordeling'!$1:$1,0))","v":0},{"$f":"IFERROR(VLOOKUP(INDEX($A:$O,ROW(),MATCH('Rapportage per vraag'!$C$12,'Data leveranciersbeoordeling'!$1:$1,0)),Leveranciersbeoordeling!$H$1:$I$5,2,FALSE),0)","v":0},0]
["",null,null,null,null,null,null,null,null,null,null,null,null,null,null,{"$f":"INDEX($A:$O,ROW(),MATCH('Rapportage per vraag'!$C$12,'Data leveranciersbeoordeling'!$1:$1,0))","v":0},{"$f":"IFERROR(VLOOKUP(INDEX($A:$O,ROW(),MATCH('Rapportage per vraag'!$C$12,'Data leveranciersbeoordeling'!$1:$1,0)),Leveranciersbeoordeling!$H$1:$I$5,2,FALSE),0)","v":0},0]
["",null,null,null,null,null,null,null,null,null,null,null,null,null,null,{"$f":"INDEX($A:$O,ROW(),MATCH('Rapportage per vraag'!$C$12,'Data leveranciersbeoordeling'!$1:$1,0))","v":0},{"$f":"IFERROR(VLOOKUP(INDEX($A:$O,ROW(),MATCH('Rapportage per vraag'!$C$12,'Data leveranciersbeoordeling'!$1:$1,0)),Leveranciersbeoordeling!$H$1:$I$5,2,FALSE),0)","v":0},0]
["",null,null,null,null,null,null,null,null,null,null,null,null,null,null,{"$f":"INDEX($A:$O,ROW(),MATCH('Rapportage per vraag'!$C$12,'Data leveranciersbeoordeling'!$1:$1,0))","v":0},{"$f":"IFERROR(VLOOKUP(INDEX($A:$O,ROW(),MATCH('Rapportage per vraag'!$C$12,'Data leveranciersbeoordeling'!$1:$1,0)),Leveranciersbeoordeling!$H$1:$I$5,2,FALSE),0)","v":0},0]
["",null,null,null,null,null,null,null,null,null,null,null,null,null,null,{"$f":"INDEX($A:$O,ROW(),MATCH('Rapportage per vraag'!$C$12,'Data leveranciersbeoordeling'!$1:$1,0))","v":0},{"$f":"IFERROR(VLOOKUP(INDEX($A:$O,ROW(),MATCH('Rapportage per vraag'!$C$12,'Data leveranciersbeoordeling'!$1:$1,0)),Leveranciersbeoordeling!$H$1:$I$5,2,FALSE),0)","v":0},0]
["",null,null,null,null,null,null,null,null,null,null,null,null,null,null,{"$f":"INDEX($A:$O,ROW(),MATCH('Rapportage per vraag'!$C$12,'Data leveranciersbeoordeling'!$1:$1,0))","v":0},{"$f":"IFERROR(VLOOKUP(INDEX($A:$O,ROW(),MATCH('Rapportage per vraag'!$C$12,'Data leveranciersbeoordeling'!$1:$1,0)),Leveranciersbeoordeling!$H$1:$I$5,2,FALSE),0)","v":0},0]
["",null,null,null,null,null,null,null,null,null,null,null,null,null,null,{"$f":"INDEX($A:$O,ROW(),MATCH('Rapportage per vraag'!$C$12,'Data leveranciersbeoordeling'!$1:$1,0))","v":0},{"$f":"IFERROR(VLOOKUP(INDEX($A:$O,ROW(),MATCH('Rapportage per vraag'!$C$12,'Data leveranciersbeoordeling'!$1:$1,0)),Leveranciersbeoordeling!$H$1:$I$5,2,FALSE),0)","v":0},0]
[{"$f":"CONCATENATE(B195,C195,D195)","v":""},null,null,null,null,null,null,null,null,null,null,null,null,null,null,{"$f":"INDEX($A:$O,ROW(),MATCH('Rapportage per vraag'!$C$12,'Data leveranciersbeoordeling'!$1:$1,0))","v":0},{"$f":"IFERROR(VLOOKUP(INDEX($A:$O,ROW(),MATCH('Rapportage per vraag'!$C$12,'Data leveranciersbeoordeling'!$1:$1,0)),Leveranciersbeoordeling!$H$1:$I$5,2,FALSE),0)","v":0},0]
["",null,null,null,null,null,null,null,null,null,null,null,null,null,null,{"$f":"INDEX($A:$O,ROW(),MATCH('Rapportage per vraag'!$C$12,'Data leveranciersbeoordeling'!$1:$1,0))","v":0},{"$f":"IFERROR(VLOOKUP(INDEX($A:$O,ROW(),MATCH('Rapportage per vraag'!$C$12,'Data leveranciersbeoordeling'!$1:$1,0)),Leveranciersbeoordeling!$H$1:$I$5,2,FALSE),0)","v":0},0]
["",null,null,null,null,null,null,null,null,null,null,null,null,null,null,{"$f":"INDEX($A:$O,ROW(),MATCH('Rapportage per vraag'!$C$12,'Data leveranciersbeoordeling'!$1:$1,0))","v":0},{"$f":"IFERROR(VLOOKUP(INDEX($A:$O,ROW(),MATCH('Rapportage per vraag'!$C$12,'Data leveranciersbeoordeling'!$1:$1,0)),Leveranciersbeoordeling!$H$1:$I$5,2,FALSE),0)","v":0},0]
["",null,null,null,null,null,null,null,null,null,null,null,null,null,null,{"$f":"INDEX($A:$O,ROW(),MATCH('Rapportage per vraag'!$C$12,'Data leveranciersbeoordeling'!$1:$1,0))","v":0},{"$f":"IFERROR(VLOOKUP(INDEX($A:$O,ROW(),MATCH('Rapportage per vraag'!$C$12,'Data leveranciersbeoordeling'!$1:$1,0)),Leveranciersbeoordeling!$H$1:$I$5,2,FALSE),0)","v":0},{"$f":"IF(T(P198)=P198,Q198,P198)","v":0}]
["",null,null,null,null,null,null,null,null,null,null,null,null,null,null,{"$f":"INDEX($A:$O,ROW(),MATCH('Rapportage per vraag'!$C$12,'Data leveranciersbeoordeling'!$1:$1,0))","v":0},{"$f":"IFERROR(VLOOKUP(INDEX($A:$O,ROW(),MATCH('Rapportage per vraag'!$C$12,'Data leveranciersbeoordeling'!$1:$1,0)),Leveranciersbeoordeling!$H$1:$I$5,2,FALSE),0)","v":0},0]
["",null,null,null,null,null,null,null,null,null,null,null,null,null,null,{"$f":"INDEX($A:$O,ROW(),MATCH('Rapportage per vraag'!$C$12,'Data leveranciersbeoordeling'!$1:$1,0))","v":0},{"$f":"IFERROR(VLOOKUP(INDEX($A:$O,ROW(),MATCH('Rapportage per vraag'!$C$12,'Data leveranciersbeoordeling'!$1:$1,0)),Leveranciersbeoordeling!$H$1:$I$5,2,FALSE),0)","v":0},0]
["",null,null,null,null,null,null,null,null,null,null,null,null,null,null,{"$f":"INDEX($A:$O,ROW(),MATCH('Rapportage per vraag'!$C$12,'Data leveranciersbeoordeling'!$1:$1,0))","v":0},{"$f":"IFERROR(VLOOKUP(INDEX($A:$O,ROW(),MATCH('Rapportage per vraag'!$C$12,'Data leveranciersbeoordeling'!$1:$1,0)),Leveranciersbeoordeling!$H$1:$I$5,2,FALSE),0)","v":0},0]
["",null,null,null,null,null,null,null,null,null,null,null,null,null,null,{"$f":"INDEX($A:$O,ROW(),MATCH('Rapportage per vraag'!$C$12,'Data leveranciersbeoordeling'!$1:$1,0))","v":0},{"$f":"IFERROR(VLOOKUP(INDEX($A:$O,ROW(),MATCH('Rapportage per vraag'!$C$12,'Data leveranciersbeoordeling'!$1:$1,0)),Leveranciersbeoordeling!$H$1:$I$5,2,FALSE),0)","v":0},0]
["",null,null,null,null,null,null,null,null,null,null,null,null,null,null,{"$f":"INDEX($A:$O,ROW(),MATCH('Rapportage per vraag'!$C$12,'Data leveranciersbeoordeling'!$1:$1,0))","v":0},{"$f":"IFERROR(VLOOKUP(INDEX($A:$O,ROW(),MATCH('Rapportage per vraag'!$C$12,'Data leveranciersbeoordeling'!$1:$1,0)),Leveranciersbeoordeling!$H$1:$I$5,2,FALSE),0)","v":0},0]
["",null,null,null,null,null,null,null,null,null,null,null,null,null,null,{"$f":"INDEX($A:$O,ROW(),MATCH('Rapportage per vraag'!$C$12,'Data leveranciersbeoordeling'!$1:$1,0))","v":0},{"$f":"IFERROR(VLOOKUP(INDEX($A:$O,ROW(),MATCH('Rapportage per vraag'!$C$12,'Data leveranciersbeoordeling'!$1:$1,0)),Leveranciersbeoordeling!$H$1:$I$5,2,FALSE),0)","v":0},0]
["",null,null,null,null,null,null,null,null,null,null,null,null,null,null,{"$f":"INDEX($A:$O,ROW(),MATCH('Rapportage per vraag'!$C$12,'Data leveranciersbeoordeling'!$1:$1,0))","v":0},{"$f":"IFERROR(VLOOKUP(INDEX($A:$O,ROW(),MATCH('Rapportage per vraag'!$C$12,'Data leveranciersbeoordeling'!$1:$1,0)),Leveranciersbeoordeling!$H$1:$I$5,2,FALSE),0)","v":0},0]
["",null,null,null,null,null,null,null,null,null,null,null,null,null,null,{"$f":"INDEX($A:$O,ROW(),MATCH('Rapportage per vraag'!$C$12,'Data leveranciersbeoordeling'!$1:$1,0))","v":0},{"$f":"IFERROR(VLOOKUP(INDEX($A:$O,ROW(),MATCH('Rapportage per vraag'!$C$12,'Data leveranciersbeoordeling'!$1:$1,0)),Leveranciersbeoordeling!$H$1:$I$5,2,FALSE),0)","v":0},0]
["",null,null,null,null,null,null,null,null,null,null,null,null,null,null,{"$f":"INDEX($A:$O,ROW(),MATCH('Rapportage per vraag'!$C$12,'Data leveranciersbeoordeling'!$1:$1,0))","v":0},{"$f":"IFERROR(VLOOKUP(INDEX($A:$O,ROW(),MATCH('Rapportage per vraag'!$C$12,'Data leveranciersbeoordeling'!$1:$1,0)),Leveranciersbeoordeling!$H$1:$I$5,2,FALSE),0)","v":0},0]
["",null,null,null,null,null,null,null,null,null,null,null,null,null,null,{"$f":"INDEX($A:$O,ROW(),MATCH('Rapportage per vraag'!$C$12,'Data leveranciersbeoordeling'!$1:$1,0))","v":0},{"$f":"IFERROR(VLOOKUP(INDEX($A:$O,ROW(),MATCH('Rapportage per vraag'!$C$12,'Data leveranciersbeoordeling'!$1:$1,0)),Leveranciersbeoordeling!$H$1:$I$5,2,FALSE),0)","v":0},0]
["",null,null,null,null,null,null,null,null,null,null,null,null,null,null,{"$f":"INDEX($A:$O,ROW(),MATCH('Rapportage per vraag'!$C$12,'Data leveranciersbeoordeling'!$1:$1,0))","v":0},{"$f":"IFERROR(VLOOKUP(INDEX($A:$O,ROW(),MATCH('Rapportage per vraag'!$C$12,'Data leveranciersbeoordeling'!$1:$1,0)),Leveranciersbeoordeling!$H$1:$I$5,2,FALSE),0)","v":0},0]
["",null,null,null,null,null,null,null,null,null,null,null,null,null,null,{"$f":"INDEX($A:$O,ROW(),MATCH('Rapportage per vraag'!$C$12,'Data leveranciersbeoordeling'!$1:$1,0))","v":0},{"$f":"IFERROR(VLOOKUP(INDEX($A:$O,ROW(),MATCH('Rapportage per vraag'!$C$12,'Data leveranciersbeoordeling'!$1:$1,0)),Leveranciersbeoordeling!$H$1:$I$5,2,FALSE),0)","v":0},0]
["",null,null,null,null,null,null,null,null,null,null,null,null,null,null,{"$f":"INDEX($A:$O,ROW(),MATCH('Rapportage per vraag'!$C$12,'Data leveranciersbeoordeling'!$1:$1,0))","v":0},{"$f":"IFERROR(VLOOKUP(INDEX($A:$O,ROW(),MATCH('Rapportage per vraag'!$C$12,'Data leveranciersbeoordeling'!$1:$1,0)),Leveranciersbeoordeling!$H$1:$I$5,2,FALSE),0)","v":0},0]
["",null,null,null,null,null,null,null,null,null,null,null,null,null,null,{"$f":"INDEX($A:$O,ROW(),MATCH('Rapportage per vraag'!$C$12,'Data leveranciersbeoordeling'!$1:$1,0))","v":0},{"$f":"IFERROR(VLOOKUP(INDEX($A:$O,ROW(),MATCH('Rapportage per vraag'!$C$12,'Data leveranciersbeoordeling'!$1:$1,0)),Leveranciersbeoordeling!$H$1:$I$5,2,FALSE),0)","v":0},0]
["",null,null,null,null,null,null,null,null,null,null,null,null,null,null,{"$f":"INDEX($A:$O,ROW(),MATCH('Rapportage per vraag'!$C$12,'Data leveranciersbeoordeling'!$1:$1,0))","v":0},{"$f":"IFERROR(VLOOKUP(INDEX($A:$O,ROW(),MATCH('Rapportage per vraag'!$C$12,'Data leveranciersbeoordeling'!$1:$1,0)),Leveranciersbeoordeling!$H$1:$I$5,2,FALSE),0)","v":0},0]
["",null,null,null,null,null,null,null,null,null,null,null,null,null,null,{"$f":"INDEX($A:$O,ROW(),MATCH('Rapportage per vraag'!$C$12,'Data leveranciersbeoordeling'!$1:$1,0))","v":0},{"$f":"IFERROR(VLOOKUP(INDEX($A:$O,ROW(),MATCH('Rapportage per vraag'!$C$12,'Data leveranciersbeoordeling'!$1:$1,0)),Leveranciersbeoordeling!$H$1:$I$5,2,FALSE),0)","v":0},0]
["",null,null,null,null,null,null,null,null,null,null,null,null,null,null,{"$f":"INDEX($A:$O,ROW(),MATCH('Rapportage per vraag'!$C$12,'Data leveranciersbeoordeling'!$1:$1,0))","v":0},{"$f":"IFERROR(VLOOKUP(INDEX($A:$O,ROW(),MATCH('Rapportage per vraag'!$C$12,'Data leveranciersbeoordeling'!$1:$1,0)),Leveranciersbeoordeling!$H$1:$I$5,2,FALSE),0)","v":0},0]
["",null,null,null,null,null,null,null,null,null,null,null,null,null,null,{"$f":"INDEX($A:$O,ROW(),MATCH('Rapportage per vraag'!$C$12,'Data leveranciersbeoordeling'!$1:$1,0))","v":0},{"$f":"IFERROR(VLOOKUP(INDEX($A:$O,ROW(),MATCH('Rapportage per vraag'!$C$12,'Data leveranciersbeoordeling'!$1:$1,0)),Leveranciersbeoordeling!$H$1:$I$5,2,FALSE),0)","v":0},0]
["",null,null,null,null,null,null,null,null,null,null,null,null,null,null,{"$f":"INDEX($A:$O,ROW(),MATCH('Rapportage per vraag'!$C$12,'Data leveranciersbeoordeling'!$1:$1,0))","v":0},{"$f":"IFERROR(VLOOKUP(INDEX($A:$O,ROW(),MATCH('Rapportage per vraag'!$C$12,'Data leveranciersbeoordeling'!$1:$1,0)),Leveranciersbeoordeling!$H$1:$I$5,2,FALSE),0)","v":0},0]
["",null,null,null,null,null,null,null,null,null,null,null,null,null,null,{"$f":"INDEX($A:$O,ROW(),MATCH('Rapportage per vraag'!$C$12,'Data leveranciersbeoordeling'!$1:$1,0))","v":0},{"$f":"IFERROR(VLOOKUP(INDEX($A:$O,ROW(),MATCH('Rapportage per vraag'!$C$12,'Data leveranciersbeoordeling'!$1:$1,0)),Leveranciersbeoordeling!$H$1:$I$5,2,FALSE),0)","v":0},0]
["",null,null,null,null,null,null,null,null,null,null,null,null,null,null,{"$f":"INDEX($A:$O,ROW(),MATCH('Rapportage per vraag'!$C$12,'Data leveranciersbeoordeling'!$1:$1,0))","v":0},{"$f":"IFERROR(VLOOKUP(INDEX($A:$O,ROW(),MATCH('Rapportage per vraag'!$C$12,'Data leveranciersbeoordeling'!$1:$1,0)),Leveranciersbeoordeling!$H$1:$I$5,2,FALSE),0)","v":0},0]
["",null,null,null,null,null,null,null,null,null,null,null,null,null,null,{"$f":"INDEX($A:$O,ROW(),MATCH('Rapportage per vraag'!$C$12,'Data leveranciersbeoordeling'!$1:$1,0))","v":0},{"$f":"IFERROR(VLOOKUP(INDEX($A:$O,ROW(),MATCH('Rapportage per vraag'!$C$12,'Data leveranciersbeoordeling'!$1:$1,0)),Leveranciersbeoordeling!$H$1:$I$5,2,FALSE),0)","v":0},0]
["",null,null,null,null,null,null,null,null,null,null,null,null,null,null,{"$f":"INDEX($A:$O,ROW(),MATCH('Rapportage per vraag'!$C$12,'Data leveranciersbeoordeling'!$1:$1,0))","v":0},{"$f":"IFERROR(VLOOKUP(INDEX($A:$O,ROW(),MATCH('Rapportage per vraag'!$C$12,'Data leveranciersbeoordeling'!$1:$1,0)),Leveranciersbeoordeling!$H$1:$I$5,2,FALSE),0)","v":0},0]
["",null,null,null,null,null,null,null,null,null,null,null,null,null,null,{"$f":"INDEX($A:$O,ROW(),MATCH('Rapportage per vraag'!$C$12,'Data leveranciersbeoordeling'!$1:$1,0))","v":0},{"$f":"IFERROR(VLOOKUP(INDEX($A:$O,ROW(),MATCH('Rapportage per vraag'!$C$12,'Data leveranciersbeoordeling'!$1:$1,0)),Leveranciersbeoordeling!$H$1:$I$5,2,FALSE),0)","v":0},0]
["",null,null,null,null,null,null,null,null,null,null,null,null,null,null,{"$f":"INDEX($A:$O,ROW(),MATCH('Rapportage per vraag'!$C$12,'Data leveranciersbeoordeling'!$1:$1,0))","v":0},{"$f":"IFERROR(VLOOKUP(INDEX($A:$O,ROW(),MATCH('Rapportage per vraag'!$C$12,'Data leveranciersbeoordeling'!$1:$1,0)),Leveranciersbeoordeling!$H$1:$I$5,2,FALSE),0)","v":0},0]
["",null,null,null,null,null,null,null,null,null,null,null,null,null,null,{"$f":"INDEX($A:$O,ROW(),MATCH('Rapportage per vraag'!$C$12,'Data leveranciersbeoordeling'!$1:$1,0))","v":0},{"$f":"IFERROR(VLOOKUP(INDEX($A:$O,ROW(),MATCH('Rapportage per vraag'!$C$12,'Data leveranciersbeoordeling'!$1:$1,0)),Leveranciersbeoordeling!$H$1:$I$5,2,FALSE),0)","v":0},0]
["",null,null,null,null,null,null,null,null,null,null,null,null,null,null,{"$f":"INDEX($A:$O,ROW(),MATCH('Rapportage per vraag'!$C$12,'Data leveranciersbeoordeling'!$1:$1,0))","v":0},{"$f":"IFERROR(VLOOKUP(INDEX($A:$O,ROW(),MATCH('Rapportage per vraag'!$C$12,'Data leveranciersbeoordeling'!$1:$1,0)),Leveranciersbeoordeling!$H$1:$I$5,2,FALSE),0)","v":0},0]
["",null,null,null,null,null,null,null,null,null,null,null,null,null,null,{"$f":"INDEX($A:$O,ROW(),MATCH('Rapportage per vraag'!$C$12,'Data leveranciersbeoordeling'!$1:$1,0))","v":0},{"$f":"IFERROR(VLOOKUP(INDEX($A:$O,ROW(),MATCH('Rapportage per vraag'!$C$12,'Data leveranciersbeoordeling'!$1:$1,0)),Leveranciersbeoordeling!$H$1:$I$5,2,FALSE),0)","v":0},0]
["",null,null,null,null,null,null,null,null,null,null,null,null,null,null,{"$f":"INDEX($A:$O,ROW(),MATCH('Rapportage per vraag'!$C$12,'Data leveranciersbeoordeling'!$1:$1,0))","v":0},{"$f":"IFERROR(VLOOKUP(INDEX($A:$O,ROW(),MATCH('Rapportage per vraag'!$C$12,'Data leveranciersbeoordeling'!$1:$1,0)),Leveranciersbeoordeling!$H$1:$I$5,2,FALSE),0)","v":0},0]
["",null,null,null,null,null,null,null,null,null,null,null,null,null,null,{"$f":"INDEX($A:$O,ROW(),MATCH('Rapportage per vraag'!$C$12,'Data leveranciersbeoordeling'!$1:$1,0))","v":0},{"$f":"IFERROR(VLOOKUP(INDEX($A:$O,ROW(),MATCH('Rapportage per vraag'!$C$12,'Data leveranciersbeoordeling'!$1:$1,0)),Leveranciersbeoordeling!$H$1:$I$5,2,FALSE),0)","v":0},0]
["",null,null,null,null,null,null,null,null,null,null,null,null,null,null,{"$f":"INDEX($A:$O,ROW(),MATCH('Rapportage per vraag'!$C$12,'Data leveranciersbeoordeling'!$1:$1,0))","v":0},{"$f":"IFERROR(VLOOKUP(INDEX($A:$O,ROW(),MATCH('Rapportage per vraag'!$C$12,'Data leveranciersbeoordeling'!$1:$1,0)),Leveranciersbeoordeling!$H$1:$I$5,2,FALSE),0)","v":0},0]
["",null,null,null,null,null,null,null,null,null,null,null,null,null,null,{"$f":"INDEX($A:$O,ROW(),MATCH('Rapportage per vraag'!$C$12,'Data leveranciersbeoordeling'!$1:$1,0))","v":0},{"$f":"IFERROR(VLOOKUP(INDEX($A:$O,ROW(),MATCH('Rapportage per vraag'!$C$12,'Data leveranciersbeoordeling'!$1:$1,0)),Leveranciersbeoordeling!$H$1:$I$5,2,FALSE),0)","v":0},0]
["",null,null,null,null,null,null,null,null,null,null,null,null,null,null,{"$f":"INDEX($A:$O,ROW(),MATCH('Rapportage per vraag'!$C$12,'Data leveranciersbeoordeling'!$1:$1,0))","v":0},{"$f":"IFERROR(VLOOKUP(INDEX($A:$O,ROW(),MATCH('Rapportage per vraag'!$C$12,'Data leveranciersbeoordeling'!$1:$1,0)),Leveranciersbeoordeling!$H$1:$I$5,2,FALSE),0)","v":0},0]
["",null,null,null,null,null,null,null,null,null,null,null,null,null,null,{"$f":"INDEX($A:$O,ROW(),MATCH('Rapportage per vraag'!$C$12,'Data leveranciersbeoordeling'!$1:$1,0))","v":0},{"$f":"IFERROR(VLOOKUP(INDEX($A:$O,ROW(),MATCH('Rapportage per vraag'!$C$12,'Data leveranciersbeoordeling'!$1:$1,0)),Leveranciersbeoordeling!$H$1:$I$5,2,FALSE),0)","v":0},0]
["",null,null,null,null,null,null,null,null,null,null,null,null,null,null,{"$f":"INDEX($A:$O,ROW(),MATCH('Rapportage per vraag'!$C$12,'Data leveranciersbeoordeling'!$1:$1,0))","v":0},{"$f":"IFERROR(VLOOKUP(INDEX($A:$O,ROW(),MATCH('Rapportage per vraag'!$C$12,'Data leveranciersbeoordeling'!$1:$1,0)),Leveranciersbeoordeling!$H$1:$I$5,2,FALSE),0)","v":0},0]
["",null,null,null,null,null,null,null,null,null,null,null,null,null,null,{"$f":"INDEX($A:$O,ROW(),MATCH('Rapportage per vraag'!$C$12,'Data leveranciersbeoordeling'!$1:$1,0))","v":0},{"$f":"IFERROR(VLOOKUP(INDEX($A:$O,ROW(),MATCH('Rapportage per vraag'!$C$12,'Data leveranciersbeoordeling'!$1:$1,0)),Leveranciersbeoordeling!$H$1:$I$5,2,FALSE),0)","v":0},0]
["",null,null,null,null,null,null,null,null,null,null,null,null,null,null,{"$f":"INDEX($A:$O,ROW(),MATCH('Rapportage per vraag'!$C$12,'Data leveranciersbeoordeling'!$1:$1,0))","v":0},{"$f":"IFERROR(VLOOKUP(INDEX($A:$O,ROW(),MATCH('Rapportage per vraag'!$C$12,'Data leveranciersbeoordeling'!$1:$1,0)),Leveranciersbeoordeling!$H$1:$I$5,2,FALSE),0)","v":0},0]
["",null,null,null,null,null,null,null,null,null,null,null,null,null,null,{"$f":"INDEX($A:$O,ROW(),MATCH('Rapportage per vraag'!$C$12,'Data leveranciersbeoordeling'!$1:$1,0))","v":0},{"$f":"IFERROR(VLOOKUP(INDEX($A:$O,ROW(),MATCH('Rapportage per vraag'!$C$12,'Data leveranciersbeoordeling'!$1:$1,0)),Leveranciersbeoordeling!$H$1:$I$5,2,FALSE),0)","v":0},0]
["",null,null,null,null,null,null,null,null,null,null,null,null,null,null,{"$f":"INDEX($A:$O,ROW(),MATCH('Rapportage per vraag'!$C$12,'Data leveranciersbeoordeling'!$1:$1,0))","v":0},{"$f":"IFERROR(VLOOKUP(INDEX($A:$O,ROW(),MATCH('Rapportage per vraag'!$C$12,'Data leveranciersbeoordeling'!$1:$1,0)),Leveranciersbeoordeling!$H$1:$I$5,2,FALSE),0)","v":0},0]
["",null,null,null,null,null,null,null,null,null,null,null,null,null,null,{"$f":"INDEX($A:$O,ROW(),MATCH('Rapportage per vraag'!$C$12,'Data leveranciersbeoordeling'!$1:$1,0))","v":0},{"$f":"IFERROR(VLOOKUP(INDEX($A:$O,ROW(),MATCH('Rapportage per vraag'!$C$12,'Data leveranciersbeoordeling'!$1:$1,0)),Leveranciersbeoordeling!$H$1:$I$5,2,FALSE),0)","v":0},0]
["",null,null,null,null,null,null,null,null,null,null,null,null,null,null,{"$f":"INDEX($A:$O,ROW(),MATCH('Rapportage per vraag'!$C$12,'Data leveranciersbeoordeling'!$1:$1,0))","v":0},{"$f":"IFERROR(VLOOKUP(INDEX($A:$O,ROW(),MATCH('Rapportage per vraag'!$C$12,'Data leveranciersbeoordeling'!$1:$1,0)),Leveranciersbeoordeling!$H$1:$I$5,2,FALSE),0)","v":0},0]
["",null,null,null,null,null,null,null,null,null,null,null,null,null,null,{"$f":"INDEX($A:$O,ROW(),MATCH('Rapportage per vraag'!$C$12,'Data leveranciersbeoordeling'!$1:$1,0))","v":0},{"$f":"IFERROR(VLOOKUP(INDEX($A:$O,ROW(),MATCH('Rapportage per vraag'!$C$12,'Data leveranciersbeoordeling'!$1:$1,0)),Leveranciersbeoordeling!$H$1:$I$5,2,FALSE),0)","v":0},0]
["",null,null,null,null,null,null,null,null,null,null,null,null,null,null,{"$f":"INDEX($A:$O,ROW(),MATCH('Rapportage per vraag'!$C$12,'Data leveranciersbeoordeling'!$1:$1,0))","v":0},{"$f":"IFERROR(VLOOKUP(INDEX($A:$O,ROW(),MATCH('Rapportage per vraag'!$C$12,'Data leveranciersbeoordeling'!$1:$1,0)),Leveranciersbeoordeling!$H$1:$I$5,2,FALSE),0)","v":0},0]
["",null,null,null,null,null,null,null,null,null,null,null,null,null,null,{"$f":"INDEX($A:$O,ROW(),MATCH('Rapportage per vraag'!$C$12,'Data leveranciersbeoordeling'!$1:$1,0))","v":0},{"$f":"IFERROR(VLOOKUP(INDEX($A:$O,ROW(),MATCH('Rapportage per vraag'!$C$12,'Data leveranciersbeoordeling'!$1:$1,0)),Leveranciersbeoordeling!$H$1:$I$5,2,FALSE),0)","v":0},0]
["",null,null,null,null,null,null,null,null,null,null,null,null,null,null,{"$f":"INDEX($A:$O,ROW(),MATCH('Rapportage per vraag'!$C$12,'Data leveranciersbeoordeling'!$1:$1,0))","v":0},{"$f":"IFERROR(VLOOKUP(INDEX($A:$O,ROW(),MATCH('Rapportage per vraag'!$C$12,'Data leveranciersbeoordeling'!$1:$1,0)),Leveranciersbeoordeling!$H$1:$I$5,2,FALSE),0)","v":0},0]
["",null,null,null,null,null,null,null,null,null,null,null,null,null,null,{"$f":"INDEX($A:$O,ROW(),MATCH('Rapportage per vraag'!$C$12,'Data leveranciersbeoordeling'!$1:$1,0))","v":0},{"$f":"IFERROR(VLOOKUP(INDEX($A:$O,ROW(),MATCH('Rapportage per vraag'!$C$12,'Data leveranciersbeoordeling'!$1:$1,0)),Leveranciersbeoordeling!$H$1:$I$5,2,FALSE),0)","v":0},0]
["",null,null,null,null,null,null,null,null,null,null,null,null,null,null,{"$f":"INDEX($A:$O,ROW(),MATCH('Rapportage per vraag'!$C$12,'Data leveranciersbeoordeling'!$1:$1,0))","v":0},{"$f":"IFERROR(VLOOKUP(INDEX($A:$O,ROW(),MATCH('Rapportage per vraag'!$C$12,'Data leveranciersbeoordeling'!$1:$1,0)),Leveranciersbeoordeling!$H$1:$I$5,2,FALSE),0)","v":0},0]
["",null,null,null,null,null,null,null,null,null,null,null,null,null,null,{"$f":"INDEX($A:$O,ROW(),MATCH('Rapportage per vraag'!$C$12,'Data leveranciersbeoordeling'!$1:$1,0))","v":0},{"$f":"IFERROR(VLOOKUP(INDEX($A:$O,ROW(),MATCH('Rapportage per vraag'!$C$12,'Data leveranciersbeoordeling'!$1:$1,0)),Leveranciersbeoordeling!$H$1:$I$5,2,FALSE),0)","v":0},0]
["",null,null,null,null,null,null,null,null,null,null,null,null,null,null,{"$f":"INDEX($A:$O,ROW(),MATCH('Rapportage per vraag'!$C$12,'Data leveranciersbeoordeling'!$1:$1,0))","v":0},{"$f":"IFERROR(VLOOKUP(INDEX($A:$O,ROW(),MATCH('Rapportage per vraag'!$C$12,'Data leveranciersbeoordeling'!$1:$1,0)),Leveranciersbeoordeling!$H$1:$I$5,2,FALSE),0)","v":0},0]
["",null,null,null,null,null,null,null,null,null,null,null,null,null,null,{"$f":"INDEX($A:$O,ROW(),MATCH('Rapportage per vraag'!$C$12,'Data leveranciersbeoordeling'!$1:$1,0))","v":0},{"$f":"IFERROR(VLOOKUP(INDEX($A:$O,ROW(),MATCH('Rapportage per vraag'!$C$12,'Data leveranciersbeoordeling'!$1:$1,0)),Leveranciersbeoordeling!$H$1:$I$5,2,FALSE),0)","v":0},0]
["",null,null,null,null,null,null,null,null,null,null,null,null,null,null,{"$f":"INDEX($A:$O,ROW(),MATCH('Rapportage per vraag'!$C$12,'Data leveranciersbeoordeling'!$1:$1,0))","v":0},{"$f":"IFERROR(VLOOKUP(INDEX($A:$O,ROW(),MATCH('Rapportage per vraag'!$C$12,'Data leveranciersbeoordeling'!$1:$1,0)),Leveranciersbeoordeling!$H$1:$I$5,2,FALSE),0)","v":0},0]
["",null,null,null,null,null,null,null,null,null,null,null,null,null,null,{"$f":"INDEX($A:$O,ROW(),MATCH('Rapportage per vraag'!$C$12,'Data leveranciersbeoordeling'!$1:$1,0))","v":0},{"$f":"IFERROR(VLOOKUP(INDEX($A:$O,ROW(),MATCH('Rapportage per vraag'!$C$12,'Data leveranciersbeoordeling'!$1:$1,0)),Leveranciersbeoordeling!$H$1:$I$5,2,FALSE),0)","v":0},0]
["",null,null,null,null,null,null,null,null,null,null,null,null,null,null,{"$f":"INDEX($A:$O,ROW(),MATCH('Rapportage per vraag'!$C$12,'Data leveranciersbeoordeling'!$1:$1,0))","v":0},{"$f":"IFERROR(VLOOKUP(INDEX($A:$O,ROW(),MATCH('Rapportage per vraag'!$C$12,'Data leveranciersbeoordeling'!$1:$1,0)),Leveranciersbeoordeling!$H$1:$I$5,2,FALSE),0)","v":0},0]
["",null,null,null,null,null,null,null,null,null,null,null,null,null,null,{"$f":"INDEX($A:$O,ROW(),MATCH('Rapportage per vraag'!$C$12,'Data leveranciersbeoordeling'!$1:$1,0))","v":0},{"$f":"IFERROR(VLOOKUP(INDEX($A:$O,ROW(),MATCH('Rapportage per vraag'!$C$12,'Data leveranciersbeoordeling'!$1:$1,0)),Leveranciersbeoordeling!$H$1:$I$5,2,FALSE),0)","v":0},0]
["",null,null,null,null,null,null,null,null,null,null,null,null,null,null,{"$f":"INDEX($A:$O,ROW(),MATCH('Rapportage per vraag'!$C$12,'Data leveranciersbeoordeling'!$1:$1,0))","v":0},{"$f":"IFERROR(VLOOKUP(INDEX($A:$O,ROW(),MATCH('Rapportage per vraag'!$C$12,'Data leveranciersbeoordeling'!$1:$1,0)),Leveranciersbeoordeling!$H$1:$I$5,2,FALSE),0)","v":0},0]
["",null,null,null,null,null,null,null,null,null,null,null,null,null,null,{"$f":"INDEX($A:$O,ROW(),MATCH('Rapportage per vraag'!$C$12,'Data leveranciersbeoordeling'!$1:$1,0))","v":0},{"$f":"IFERROR(VLOOKUP(INDEX($A:$O,ROW(),MATCH('Rapportage per vraag'!$C$12,'Data leveranciersbeoordeling'!$1:$1,0)),Leveranciersbeoordeling!$H$1:$I$5,2,FALSE),0)","v":0},0]
["",null,null,null,null,null,null,null,null,null,null,null,null,null,null,{"$f":"INDEX($A:$O,ROW(),MATCH('Rapportage per vraag'!$C$12,'Data leveranciersbeoordeling'!$1:$1,0))","v":0},{"$f":"IFERROR(VLOOKUP(INDEX($A:$O,ROW(),MATCH('Rapportage per vraag'!$C$12,'Data leveranciersbeoordeling'!$1:$1,0)),Leveranciersbeoordeling!$H$1:$I$5,2,FALSE),0)","v":0},0]
["",null,null,null,null,null,null,null,null,null,null,null,null,null,null,{"$f":"INDEX($A:$O,ROW(),MATCH('Rapportage per vraag'!$C$12,'Data leveranciersbeoordeling'!$1:$1,0))","v":0},{"$f":"IFERROR(VLOOKUP(INDEX($A:$O,ROW(),MATCH('Rapportage per vraag'!$C$12,'Data leveranciersbeoordeling'!$1:$1,0)),Leveranciersbeoordeling!$H$1:$I$5,2,FALSE),0)","v":0},0]
["",null,null,null,null,null,null,null,null,null,null,null,null,null,null,{"$f":"INDEX($A:$O,ROW(),MATCH('Rapportage per vraag'!$C$12,'Data leveranciersbeoordeling'!$1:$1,0))","v":0},{"$f":"IFERROR(VLOOKUP(INDEX($A:$O,ROW(),MATCH('Rapportage per vraag'!$C$12,'Data leveranciersbeoordeling'!$1:$1,0)),Leveranciersbeoordeling!$H$1:$I$5,2,FALSE),0)","v":0},0]
["",null,null,null,null,null,null,null,null,null,null,null,null,null,null,{"$f":"INDEX($A:$O,ROW(),MATCH('Rapportage per vraag'!$C$12,'Data leveranciersbeoordeling'!$1:$1,0))","v":0},{"$f":"IFERROR(VLOOKUP(INDEX($A:$O,ROW(),MATCH('Rapportage per vraag'!$C$12,'Data leveranciersbeoordeling'!$1:$1,0)),Leveranciersbeoordeling!$H$1:$I$5,2,FALSE),0)","v":0},0]
[{"$f":"CONCATENATE(B259,C259,D259)","v":""},null,null,null,null,null,null,null,null,null,null,null,null,null,null,{"$f":"INDEX($A:$O,ROW(),MATCH('Rapportage per vraag'!$C$12,'Data leveranciersbeoordeling'!$1:$1,0))","v":0},{"$f":"IFERROR(VLOOKUP(INDEX($A:$O,ROW(),MATCH('Rapportage per vraag'!$C$12,'Data leveranciersbeoordeling'!$1:$1,0)),Leveranciersbeoordeling!$H$1:$I$5,2,FALSE),0)","v":0},0]
["",null,null,null,null,null,null,null,null,null,null,null,null,null,null,{"$f":"INDEX($A:$O,ROW(),MATCH('Rapportage per vraag'!$C$12,'Data leveranciersbeoordeling'!$1:$1,0))","v":0},{"$f":"IFERROR(VLOOKUP(INDEX($A:$O,ROW(),MATCH('Rapportage per vraag'!$C$12,'Data leveranciersbeoordeling'!$1:$1,0)),Leveranciersbeoordeling!$H$1:$I$5,2,FALSE),0)","v":0},0]
["",null,null,null,null,null,null,null,null,null,null,null,null,null,null,{"$f":"INDEX($A:$O,ROW(),MATCH('Rapportage per vraag'!$C$12,'Data leveranciersbeoordeling'!$1:$1,0))","v":0},{"$f":"IFERROR(VLOOKUP(INDEX($A:$O,ROW(),MATCH('Rapportage per vraag'!$C$12,'Data leveranciersbeoordeling'!$1:$1,0)),Leveranciersbeoordeling!$H$1:$I$5,2,FALSE),0)","v":0},0]
["",null,null,null,null,null,null,null,null,null,null,null,null,null,null,{"$f":"INDEX($A:$O,ROW(),MATCH('Rapportage per vraag'!$C$12,'Data leveranciersbeoordeling'!$1:$1,0))","v":0},{"$f":"IFERROR(VLOOKUP(INDEX($A:$O,ROW(),MATCH('Rapportage per vraag'!$C$12,'Data leveranciersbeoordeling'!$1:$1,0)),Leveranciersbeoordeling!$H$1:$I$5,2,FALSE),0)","v":0},{"$f":"IF(T(P262)=P262,Q262,P262)","v":0}]
["",null,null,null,null,null,null,null,null,null,null,null,null,null,null,{"$f":"INDEX($A:$O,ROW(),MATCH('Rapportage per vraag'!$C$12,'Data leveranciersbeoordeling'!$1:$1,0))","v":0},{"$f":"IFERROR(VLOOKUP(INDEX($A:$O,ROW(),MATCH('Rapportage per vraag'!$C$12,'Data leveranciersbeoordeling'!$1:$1,0)),Leveranciersbeoordeling!$H$1:$I$5,2,FALSE),0)","v":0},0]
["",null,null,null,null,null,null,null,null,null,null,null,null,null,null,{"$f":"INDEX($A:$O,ROW(),MATCH('Rapportage per vraag'!$C$12,'Data leveranciersbeoordeling'!$1:$1,0))","v":0},{"$f":"IFERROR(VLOOKUP(INDEX($A:$O,ROW(),MATCH('Rapportage per vraag'!$C$12,'Data leveranciersbeoordeling'!$1:$1,0)),Leveranciersbeoordeling!$H$1:$I$5,2,FALSE),0)","v":0},0]
["",null,null,null,null,null,null,null,null,null,null,null,null,null,null,{"$f":"INDEX($A:$O,ROW(),MATCH('Rapportage per vraag'!$C$12,'Data leveranciersbeoordeling'!$1:$1,0))","v":0},{"$f":"IFERROR(VLOOKUP(INDEX($A:$O,ROW(),MATCH('Rapportage per vraag'!$C$12,'Data leveranciersbeoordeling'!$1:$1,0)),Leveranciersbeoordeling!$H$1:$I$5,2,FALSE),0)","v":0},0]
["",null,null,null,null,null,null,null,null,null,null,null,null,null,null,{"$f":"INDEX($A:$O,ROW(),MATCH('Rapportage per vraag'!$C$12,'Data leveranciersbeoordeling'!$1:$1,0))","v":0},{"$f":"IFERROR(VLOOKUP(INDEX($A:$O,ROW(),MATCH('Rapportage per vraag'!$C$12,'Data leveranciersbeoordeling'!$1:$1,0)),Leveranciersbeoordeling!$H$1:$I$5,2,FALSE),0)","v":0},0]
["",null,null,null,null,null,null,null,null,null,null,null,null,null,null,{"$f":"INDEX($A:$O,ROW(),MATCH('Rapportage per vraag'!$C$12,'Data leveranciersbeoordeling'!$1:$1,0))","v":0},{"$f":"IFERROR(VLOOKUP(INDEX($A:$O,ROW(),MATCH('Rapportage per vraag'!$C$12,'Data leveranciersbeoordeling'!$1:$1,0)),Leveranciersbeoordeling!$H$1:$I$5,2,FALSE),0)","v":0},0]
["",null,null,null,null,null,null,null,null,null,null,null,null,null,null,{"$f":"INDEX($A:$O,ROW(),MATCH('Rapportage per vraag'!$C$12,'Data leveranciersbeoordeling'!$1:$1,0))","v":0},{"$f":"IFERROR(VLOOKUP(INDEX($A:$O,ROW(),MATCH('Rapportage per vraag'!$C$12,'Data leveranciersbeoordeling'!$1:$1,0)),Leveranciersbeoordeling!$H$1:$I$5,2,FALSE),0)","v":0},0]
["",null,null,null,null,null,null,null,null,null,null,null,null,null,null,{"$f":"INDEX($A:$O,ROW(),MATCH('Rapportage per vraag'!$C$12,'Data leveranciersbeoordeling'!$1:$1,0))","v":0},{"$f":"IFERROR(VLOOKUP(INDEX($A:$O,ROW(),MATCH('Rapportage per vraag'!$C$12,'Data leveranciersbeoordeling'!$1:$1,0)),Leveranciersbeoordeling!$H$1:$I$5,2,FALSE),0)","v":0},0]
["",null,null,null,null,null,null,null,null,null,null,null,null,null,null,{"$f":"INDEX($A:$O,ROW(),MATCH('Rapportage per vraag'!$C$12,'Data leveranciersbeoordeling'!$1:$1,0))","v":0},{"$f":"IFERROR(VLOOKUP(INDEX($A:$O,ROW(),MATCH('Rapportage per vraag'!$C$12,'Data leveranciersbeoordeling'!$1:$1,0)),Leveranciersbeoordeling!$H$1:$I$5,2,FALSE),0)","v":0},0]
["",null,null,null,null,null,null,null,null,null,null,null,null,null,null,{"$f":"INDEX($A:$O,ROW(),MATCH('Rapportage per vraag'!$C$12,'Data leveranciersbeoordeling'!$1:$1,0))","v":0},{"$f":"IFERROR(VLOOKUP(INDEX($A:$O,ROW(),MATCH('Rapportage per vraag'!$C$12,'Data leveranciersbeoordeling'!$1:$1,0)),Leveranciersbeoordeling!$H$1:$I$5,2,FALSE),0)","v":0},0]
["",null,null,null,null,null,null,null,null,null,null,null,null,null,null,{"$f":"INDEX($A:$O,ROW(),MATCH('Rapportage per vraag'!$C$12,'Data leveranciersbeoordeling'!$1:$1,0))","v":0},{"$f":"IFERROR(VLOOKUP(INDEX($A:$O,ROW(),MATCH('Rapportage per vraag'!$C$12,'Data leveranciersbeoordeling'!$1:$1,0)),Leveranciersbeoordeling!$H$1:$I$5,2,FALSE),0)","v":0},0]
["",null,null,null,null,null,null,null,null,null,null,null,null,null,null,{"$f":"INDEX($A:$O,ROW(),MATCH('Rapportage per vraag'!$C$12,'Data leveranciersbeoordeling'!$1:$1,0))","v":0},{"$f":"IFERROR(VLOOKUP(INDEX($A:$O,ROW(),MATCH('Rapportage per vraag'!$C$12,'Data leveranciersbeoordeling'!$1:$1,0)),Leveranciersbeoordeling!$H$1:$I$5,2,FALSE),0)","v":0},0]
["",null,null,null,null,null,null,null,null,null,null,null,null,null,null,{"$f":"INDEX($A:$O,ROW(),MATCH('Rapportage per vraag'!$C$12,'Data leveranciersbeoordeling'!$1:$1,0))","v":0},{"$f":"IFERROR(VLOOKUP(INDEX($A:$O,ROW(),MATCH('Rapportage per vraag'!$C$12,'Data leveranciersbeoordeling'!$1:$1,0)),Leveranciersbeoordeling!$H$1:$I$5,2,FALSE),0)","v":0},0]
["",null,null,null,null,null,null,null,null,null,null,null,null,null,null,{"$f":"INDEX($A:$O,ROW(),MATCH('Rapportage per vraag'!$C$12,'Data leveranciersbeoordeling'!$1:$1,0))","v":0},{"$f":"IFERROR(VLOOKUP(INDEX($A:$O,ROW(),MATCH('Rapportage per vraag'!$C$12,'Data leveranciersbeoordeling'!$1:$1,0)),Leveranciersbeoordeling!$H$1:$I$5,2,FALSE),0)","v":0},0]
["",null,null,null,null,null,null,null,null,null,null,null,null,null,null,{"$f":"INDEX($A:$O,ROW(),MATCH('Rapportage per vraag'!$C$12,'Data leveranciersbeoordeling'!$1:$1,0))","v":0},{"$f":"IFERROR(VLOOKUP(INDEX($A:$O,ROW(),MATCH('Rapportage per vraag'!$C$12,'Data leveranciersbeoordeling'!$1:$1,0)),Leveranciersbeoordeling!$H$1:$I$5,2,FALSE),0)","v":0},0]
["",null,null,null,null,null,null,null,null,null,null,null,null,null,null,{"$f":"INDEX($A:$O,ROW(),MATCH('Rapportage per vraag'!$C$12,'Data leveranciersbeoordeling'!$1:$1,0))","v":0},{"$f":"IFERROR(VLOOKUP(INDEX($A:$O,ROW(),MATCH('Rapportage per vraag'!$C$12,'Data leveranciersbeoordeling'!$1:$1,0)),Leveranciersbeoordeling!$H$1:$I$5,2,FALSE),0)","v":0},0]
["",null,null,null,null,null,null,null,null,null,null,null,null,null,null,{"$f":"INDEX($A:$O,ROW(),MATCH('Rapportage per vraag'!$C$12,'Data leveranciersbeoordeling'!$1:$1,0))","v":0},{"$f":"IFERROR(VLOOKUP(INDEX($A:$O,ROW(),MATCH('Rapportage per vraag'!$C$12,'Data leveranciersbeoordeling'!$1:$1,0)),Leveranciersbeoordeling!$H$1:$I$5,2,FALSE),0)","v":0},0]
["",null,null,null,null,null,null,null,null,null,null,null,null,null,null,{"$f":"INDEX($A:$O,ROW(),MATCH('Rapportage per vraag'!$C$12,'Data leveranciersbeoordeling'!$1:$1,0))","v":0},{"$f":"IFERROR(VLOOKUP(INDEX($A:$O,ROW(),MATCH('Rapportage per vraag'!$C$12,'Data leveranciersbeoordeling'!$1:$1,0)),Leveranciersbeoordeling!$H$1:$I$5,2,FALSE),0)","v":0},0]
["",null,null,null,null,null,null,null,null,null,null,null,null,null,null,{"$f":"INDEX($A:$O,ROW(),MATCH('Rapportage per vraag'!$C$12,'Data leveranciersbeoordeling'!$1:$1,0))","v":0},{"$f":"IFERROR(VLOOKUP(INDEX($A:$O,ROW(),MATCH('Rapportage per vraag'!$C$12,'Data leveranciersbeoordeling'!$1:$1,0)),Leveranciersbeoordeling!$H$1:$I$5,2,FALSE),0)","v":0},0]
["",null,null,null,null,null,null,null,null,null,null,null,null,null,null,{"$f":"INDEX($A:$O,ROW(),MATCH('Rapportage per vraag'!$C$12,'Data leveranciersbeoordeling'!$1:$1,0))","v":0},{"$f":"IFERROR(VLOOKUP(INDEX($A:$O,ROW(),MATCH('Rapportage per vraag'!$C$12,'Data leveranciersbeoordeling'!$1:$1,0)),Leveranciersbeoordeling!$H$1:$I$5,2,FALSE),0)","v":0},0]
["",null,null,null,null,null,null,null,null,null,null,null,null,null,null,{"$f":"INDEX($A:$O,ROW(),MATCH('Rapportage per vraag'!$C$12,'Data leveranciersbeoordeling'!$1:$1,0))","v":0},{"$f":"IFERROR(VLOOKUP(INDEX($A:$O,ROW(),MATCH('Rapportage per vraag'!$C$12,'Data leveranciersbeoordeling'!$1:$1,0)),Leveranciersbeoordeling!$H$1:$I$5,2,FALSE),0)","v":0},0]
["",null,null,null,null,null,null,null,null,null,null,null,null,null,null,{"$f":"INDEX($A:$O,ROW(),MATCH('Rapportage per vraag'!$C$12,'Data leveranciersbeoordeling'!$1:$1,0))","v":0},{"$f":"IFERROR(VLOOKUP(INDEX($A:$O,ROW(),MATCH('Rapportage per vraag'!$C$12,'Data leveranciersbeoordeling'!$1:$1,0)),Leveranciersbeoordeling!$H$1:$I$5,2,FALSE),0)","v":0},0]
["",null,null,null,null,null,null,null,null,null,null,null,null,null,null,{"$f":"INDEX($A:$O,ROW(),MATCH('Rapportage per vraag'!$C$12,'Data leveranciersbeoordeling'!$1:$1,0))","v":0},{"$f":"IFERROR(VLOOKUP(INDEX($A:$O,ROW(),MATCH('Rapportage per vraag'!$C$12,'Data leveranciersbeoordeling'!$1:$1,0)),Leveranciersbeoordeling!$H$1:$I$5,2,FALSE),0)","v":0},0]
["",null,null,null,null,null,null,null,null,null,null,null,null,null,null,{"$f":"INDEX($A:$O,ROW(),MATCH('Rapportage per vraag'!$C$12,'Data leveranciersbeoordeling'!$1:$1,0))","v":0},{"$f":"IFERROR(VLOOKUP(INDEX($A:$O,ROW(),MATCH('Rapportage per vraag'!$C$12,'Data leveranciersbeoordeling'!$1:$1,0)),Leveranciersbeoordeling!$H$1:$I$5,2,FALSE),0)","v":0},0]
["",null,null,null,null,null,null,null,null,null,null,null,null,null,null,{"$f":"INDEX($A:$O,ROW(),MATCH('Rapportage per vraag'!$C$12,'Data leveranciersbeoordeling'!$1:$1,0))","v":0},{"$f":"IFERROR(VLOOKUP(INDEX($A:$O,ROW(),MATCH('Rapportage per vraag'!$C$12,'Data leveranciersbeoordeling'!$1:$1,0)),Leveranciersbeoordeling!$H$1:$I$5,2,FALSE),0)","v":0},0]
["",null,null,null,null,null,null,null,null,null,null,null,null,null,null,{"$f":"INDEX($A:$O,ROW(),MATCH('Rapportage per vraag'!$C$12,'Data leveranciersbeoordeling'!$1:$1,0))","v":0},{"$f":"IFERROR(VLOOKUP(INDEX($A:$O,ROW(),MATCH('Rapportage per vraag'!$C$12,'Data leveranciersbeoordeling'!$1:$1,0)),Leveranciersbeoordeling!$H$1:$I$5,2,FALSE),0)","v":0},0]
["",null,null,null,null,null,null,null,null,null,null,null,null,null,null,{"$f":"INDEX($A:$O,ROW(),MATCH('Rapportage per vraag'!$C$12,'Data leveranciersbeoordeling'!$1:$1,0))","v":0},{"$f":"IFERROR(VLOOKUP(INDEX($A:$O,ROW(),MATCH('Rapportage per vraag'!$C$12,'Data leveranciersbeoordeling'!$1:$1,0)),Leveranciersbeoordeling!$H$1:$I$5,2,FALSE),0)","v":0},0]
["",null,null,null,null,null,null,null,null,null,null,null,null,null,null,{"$f":"INDEX($A:$O,ROW(),MATCH('Rapportage per vraag'!$C$12,'Data leveranciersbeoordeling'!$1:$1,0))","v":0},{"$f":"IFERROR(VLOOKUP(INDEX($A:$O,ROW(),MATCH('Rapportage per vraag'!$C$12,'Data leveranciersbeoordeling'!$1:$1,0)),Leveranciersbeoordeling!$H$1:$I$5,2,FALSE),0)","v":0},0]
["",null,null,null,null,null,null,null,null,null,null,null,null,null,null,{"$f":"INDEX($A:$O,ROW(),MATCH('Rapportage per vraag'!$C$12,'Data leveranciersbeoordeling'!$1:$1,0))","v":0},{"$f":"IFERROR(VLOOKUP(INDEX($A:$O,ROW(),MATCH('Rapportage per vraag'!$C$12,'Data leveranciersbeoordeling'!$1:$1,0)),Leveranciersbeoordeling!$H$1:$I$5,2,FALSE),0)","v":0},0]
["",null,null,null,null,null,null,null,null,null,null,null,null,null,null,{"$f":"INDEX($A:$O,ROW(),MATCH('Rapportage per vraag'!$C$12,'Data leveranciersbeoordeling'!$1:$1,0))","v":0},{"$f":"IFERROR(VLOOKUP(INDEX($A:$O,ROW(),MATCH('Rapportage per vraag'!$C$12,'Data leveranciersbeoordeling'!$1:$1,0)),Leveranciersbeoordeling!$H$1:$I$5,2,FALSE),0)","v":0},0]
["",null,null,null,null,null,null,null,null,null,null,null,null,null,null,{"$f":"INDEX($A:$O,ROW(),MATCH('Rapportage per vraag'!$C$12,'Data leveranciersbeoordeling'!$1:$1,0))","v":0},{"$f":"IFERROR(VLOOKUP(INDEX($A:$O,ROW(),MATCH('Rapportage per vraag'!$C$12,'Data leveranciersbeoordeling'!$1:$1,0)),Leveranciersbeoordeling!$H$1:$I$5,2,FALSE),0)","v":0},0]
["",null,null,null,null,null,null,null,null,null,null,null,null,null,null,{"$f":"INDEX($A:$O,ROW(),MATCH('Rapportage per vraag'!$C$12,'Data leveranciersbeoordeling'!$1:$1,0))","v":0},{"$f":"IFERROR(VLOOKUP(INDEX($A:$O,ROW(),MATCH('Rapportage per vraag'!$C$12,'Data leveranciersbeoordeling'!$1:$1,0)),Leveranciersbeoordeling!$H$1:$I$5,2,FALSE),0)","v":0},0]
["",null,null,null,null,null,null,null,null,null,null,null,null,null,null,{"$f":"INDEX($A:$O,ROW(),MATCH('Rapportage per vraag'!$C$12,'Data leveranciersbeoordeling'!$1:$1,0))","v":0},{"$f":"IFERROR(VLOOKUP(INDEX($A:$O,ROW(),MATCH('Rapportage per vraag'!$C$12,'Data leveranciersbeoordeling'!$1:$1,0)),Leveranciersbeoordeling!$H$1:$I$5,2,FALSE),0)","v":0},0]
["",null,null,null,null,null,null,null,null,null,null,null,null,null,null,{"$f":"INDEX($A:$O,ROW(),MATCH('Rapportage per vraag'!$C$12,'Data leveranciersbeoordeling'!$1:$1,0))","v":0},{"$f":"IFERROR(VLOOKUP(INDEX($A:$O,ROW(),MATCH('Rapportage per vraag'!$C$12,'Data leveranciersbeoordeling'!$1:$1,0)),Leveranciersbeoordeling!$H$1:$I$5,2,FALSE),0)","v":0},0]
["",null,null,null,null,null,null,null,null,null,null,null,null,null,null,{"$f":"INDEX($A:$O,ROW(),MATCH('Rapportage per vraag'!$C$12,'Data leveranciersbeoordeling'!$1:$1,0))","v":0},{"$f":"IFERROR(VLOOKUP(INDEX($A:$O,ROW(),MATCH('Rapportage per vraag'!$C$12,'Data leveranciersbeoordeling'!$1:$1,0)),Leveranciersbeoordeling!$H$1:$I$5,2,FALSE),0)","v":0},0]
["",null,null,null,null,null,null,null,null,null,null,null,null,null,null,{"$f":"INDEX($A:$O,ROW(),MATCH('Rapportage per vraag'!$C$12,'Data leveranciersbeoordeling'!$1:$1,0))","v":0},{"$f":"IFERROR(VLOOKUP(INDEX($A:$O,ROW(),MATCH('Rapportage per vraag'!$C$12,'Data leveranciersbeoordeling'!$1:$1,0)),Leveranciersbeoordeling!$H$1:$I$5,2,FALSE),0)","v":0},0]
["",null,null,null,null,null,null,null,null,null,null,null,null,null,null,{"$f":"INDEX($A:$O,ROW(),MATCH('Rapportage per vraag'!$C$12,'Data leveranciersbeoordeling'!$1:$1,0))","v":0},{"$f":"IFERROR(VLOOKUP(INDEX($A:$O,ROW(),MATCH('Rapportage per vraag'!$C$12,'Data leveranciersbeoordeling'!$1:$1,0)),Leveranciersbeoordeling!$H$1:$I$5,2,FALSE),0)","v":0},0]
["",null,null,null,null,null,null,null,null,null,null,null,null,null,null,{"$f":"INDEX($A:$O,ROW(),MATCH('Rapportage per vraag'!$C$12,'Data leveranciersbeoordeling'!$1:$1,0))","v":0},{"$f":"IFERROR(VLOOKUP(INDEX($A:$O,ROW(),MATCH('Rapportage per vraag'!$C$12,'Data leveranciersbeoordeling'!$1:$1,0)),Leveranciersbeoordeling!$H$1:$I$5,2,FALSE),0)","v":0},0]
["",null,null,null,null,null,null,null,null,null,null,null,null,null,null,{"$f":"INDEX($A:$O,ROW(),MATCH('Rapportage per vraag'!$C$12,'Data leveranciersbeoordeling'!$1:$1,0))","v":0},{"$f":"IFERROR(VLOOKUP(INDEX($A:$O,ROW(),MATCH('Rapportage per vraag'!$C$12,'Data leveranciersbeoordeling'!$1:$1,0)),Leveranciersbeoordeling!$H$1:$I$5,2,FALSE),0)","v":0},0]
["",null,null,null,null,null,null,null,null,null,null,null,null,null,null,{"$f":"INDEX($A:$O,ROW(),MATCH('Rapportage per vraag'!$C$12,'Data leveranciersbeoordeling'!$1:$1,0))","v":0},{"$f":"IFERROR(VLOOKUP(INDEX($A:$O,ROW(),MATCH('Rapportage per vraag'!$C$12,'Data leveranciersbeoordeling'!$1:$1,0)),Leveranciersbeoordeling!$H$1:$I$5,2,FALSE),0)","v":0},0]
["",null,null,null,null,null,null,null,null,null,null,null,null,null,null,{"$f":"INDEX($A:$O,ROW(),MATCH('Rapportage per vraag'!$C$12,'Data leveranciersbeoordeling'!$1:$1,0))","v":0},{"$f":"IFERROR(VLOOKUP(INDEX($A:$O,ROW(),MATCH('Rapportage per vraag'!$C$12,'Data leveranciersbeoordeling'!$1:$1,0)),Leveranciersbeoordeling!$H$1:$I$5,2,FALSE),0)","v":0},0]
["",null,null,null,null,null,null,null,null,null,null,null,null,null,null,{"$f":"INDEX($A:$O,ROW(),MATCH('Rapportage per vraag'!$C$12,'Data leveranciersbeoordeling'!$1:$1,0))","v":0},{"$f":"IFERROR(VLOOKUP(INDEX($A:$O,ROW(),MATCH('Rapportage per vraag'!$C$12,'Data leveranciersbeoordeling'!$1:$1,0)),Leveranciersbeoordeling!$H$1:$I$5,2,FALSE),0)","v":0},0]
["",null,null,null,null,null,null,null,null,null,null,null,null,null,null,{"$f":"INDEX($A:$O,ROW(),MATCH('Rapportage per vraag'!$C$12,'Data leveranciersbeoordeling'!$1:$1,0))","v":0},{"$f":"IFERROR(VLOOKUP(INDEX($A:$O,ROW(),MATCH('Rapportage per vraag'!$C$12,'Data leveranciersbeoordeling'!$1:$1,0)),Leveranciersbeoordeling!$H$1:$I$5,2,FALSE),0)","v":0},0]
["",null,null,null,null,null,null,null,null,null,null,null,null,null,null,{"$f":"INDEX($A:$O,ROW(),MATCH('Rapportage per vraag'!$C$12,'Data leveranciersbeoordeling'!$1:$1,0))","v":0},{"$f":"IFERROR(VLOOKUP(INDEX($A:$O,ROW(),MATCH('Rapportage per vraag'!$C$12,'Data leveranciersbeoordeling'!$1:$1,0)),Leveranciersbeoordeling!$H$1:$I$5,2,FALSE),0)","v":0},0]
["",null,null,null,null,null,null,null,null,null,null,null,null,null,null,{"$f":"INDEX($A:$O,ROW(),MATCH('Rapportage per vraag'!$C$12,'Data leveranciersbeoordeling'!$1:$1,0))","v":0},{"$f":"IFERROR(VLOOKUP(INDEX($A:$O,ROW(),MATCH('Rapportage per vraag'!$C$12,'Data leveranciersbeoordeling'!$1:$1,0)),Leveranciersbeoordeling!$H$1:$I$5,2,FALSE),0)","v":0},0]
["",null,null,null,null,null,null,null,null,null,null,null,null,null,null,{"$f":"INDEX($A:$O,ROW(),MATCH('Rapportage per vraag'!$C$12,'Data leveranciersbeoordeling'!$1:$1,0))","v":0},{"$f":"IFERROR(VLOOKUP(INDEX($A:$O,ROW(),MATCH('Rapportage per vraag'!$C$12,'Data leveranciersbeoordeling'!$1:$1,0)),Leveranciersbeoordeling!$H$1:$I$5,2,FALSE),0)","v":0},0]
["",null,null,null,null,null,null,null,null,null,null,null,null,null,null,{"$f":"INDEX($A:$O,ROW(),MATCH('Rapportage per vraag'!$C$12,'Data leveranciersbeoordeling'!$1:$1,0))","v":0},{"$f":"IFERROR(VLOOKUP(INDEX($A:$O,ROW(),MATCH('Rapportage per vraag'!$C$12,'Data leveranciersbeoordeling'!$1:$1,0)),Leveranciersbeoordeling!$H$1:$I$5,2,FALSE),0)","v":0},0]
["",null,null,null,null,null,null,null,null,null,null,null,null,null,null,{"$f":"INDEX($A:$O,ROW(),MATCH('Rapportage per vraag'!$C$12,'Data leveranciersbeoordeling'!$1:$1,0))","v":0},{"$f":"IFERROR(VLOOKUP(INDEX($A:$O,ROW(),MATCH('Rapportage per vraag'!$C$12,'Data leveranciersbeoordeling'!$1:$1,0)),Leveranciersbeoordeling!$H$1:$I$5,2,FALSE),0)","v":0},0]
["",null,null,null,null,null,null,null,null,null,null,null,null,null,null,{"$f":"INDEX($A:$O,ROW(),MATCH('Rapportage per vraag'!$C$12,'Data leveranciersbeoordeling'!$1:$1,0))","v":0},{"$f":"IFERROR(VLOOKUP(INDEX($A:$O,ROW(),MATCH('Rapportage per vraag'!$C$12,'Data leveranciersbeoordeling'!$1:$1,0)),Leveranciersbeoordeling!$H$1:$I$5,2,FALSE),0)","v":0},0]
["",null,null,null,null,null,null,null,null,null,null,null,null,null,null,{"$f":"INDEX($A:$O,ROW(),MATCH('Rapportage per vraag'!$C$12,'Data leveranciersbeoordeling'!$1:$1,0))","v":0},{"$f":"IFERROR(VLOOKUP(INDEX($A:$O,ROW(),MATCH('Rapportage per vraag'!$C$12,'Data leveranciersbeoordeling'!$1:$1,0)),Leveranciersbeoordeling!$H$1:$I$5,2,FALSE),0)","v":0},0]
["",null,null,null,null,null,null,null,null,null,null,null,null,null,null,{"$f":"INDEX($A:$O,ROW(),MATCH('Rapportage per vraag'!$C$12,'Data leveranciersbeoordeling'!$1:$1,0))","v":0},{"$f":"IFERROR(VLOOKUP(INDEX($A:$O,ROW(),MATCH('Rapportage per vraag'!$C$12,'Data leveranciersbeoordeling'!$1:$1,0)),Leveranciersbeoordeling!$H$1:$I$5,2,FALSE),0)","v":0},0]
["",null,null,null,null,null,null,null,null,null,null,null,null,null,null,{"$f":"INDEX($A:$O,ROW(),MATCH('Rapportage per vraag'!$C$12,'Data leveranciersbeoordeling'!$1:$1,0))","v":0},{"$f":"IFERROR(VLOOKUP(INDEX($A:$O,ROW(),MATCH('Rapportage per vraag'!$C$12,'Data leveranciersbeoordeling'!$1:$1,0)),Leveranciersbeoordeling!$H$1:$I$5,2,FALSE),0)","v":0},0]
["",null,null,null,null,null,null,null,null,null,null,null,null,null,null,{"$f":"INDEX($A:$O,ROW(),MATCH('Rapportage per vraag'!$C$12,'Data leveranciersbeoordeling'!$1:$1,0))","v":0},{"$f":"IFERROR(VLOOKUP(INDEX($A:$O,ROW(),MATCH('Rapportage per vraag'!$C$12,'Data leveranciersbeoordeling'!$1:$1,0)),Leveranciersbeoordeling!$H$1:$I$5,2,FALSE),0)","v":0},0]
["",null,null,null,null,null,null,null,null,null,null,null,null,null,null,{"$f":"INDEX($A:$O,ROW(),MATCH('Rapportage per vraag'!$C$12,'Data leveranciersbeoordeling'!$1:$1,0))","v":0},{"$f":"IFERROR(VLOOKUP(INDEX($A:$O,ROW(),MATCH('Rapportage per vraag'!$C$12,'Data leveranciersbeoordeling'!$1:$1,0)),Leveranciersbeoordeling!$H$1:$I$5,2,FALSE),0)","v":0},0]
["",null,null,null,null,null,null,null,null,null,null,null,null,null,null,{"$f":"INDEX($A:$O,ROW(),MATCH('Rapportage per vraag'!$C$12,'Data leveranciersbeoordeling'!$1:$1,0))","v":0},{"$f":"IFERROR(VLOOKUP(INDEX($A:$O,ROW(),MATCH('Rapportage per vraag'!$C$12,'Data leveranciersbeoordeling'!$1:$1,0)),Leveranciersbeoordeling!$H$1:$I$5,2,FALSE),0)","v":0},0]
["",null,null,null,null,null,null,null,null,null,null,null,null,null,null,{"$f":"INDEX($A:$O,ROW(),MATCH('Rapportage per vraag'!$C$12,'Data leveranciersbeoordeling'!$1:$1,0))","v":0},{"$f":"IFERROR(VLOOKUP(INDEX($A:$O,ROW(),MATCH('Rapportage per vraag'!$C$12,'Data leveranciersbeoordeling'!$1:$1,0)),Leveranciersbeoordeling!$H$1:$I$5,2,FALSE),0)","v":0},0]
["",null,null,null,null,null,null,null,null,null,null,null,null,null,null,{"$f":"INDEX($A:$O,ROW(),MATCH('Rapportage per vraag'!$C$12,'Data leveranciersbeoordeling'!$1:$1,0))","v":0},{"$f":"IFERROR(VLOOKUP(INDEX($A:$O,ROW(),MATCH('Rapportage per vraag'!$C$12,'Data leveranciersbeoordeling'!$1:$1,0)),Leveranciersbeoordeling!$H$1:$I$5,2,FALSE),0)","v":0},0]
["",null,null,null,null,null,null,null,null,null,null,null,null,null,null,{"$f":"INDEX($A:$O,ROW(),MATCH('Rapportage per vraag'!$C$12,'Data leveranciersbeoordeling'!$1:$1,0))","v":0},{"$f":"IFERROR(VLOOKUP(INDEX($A:$O,ROW(),MATCH('Rapportage per vraag'!$C$12,'Data leveranciersbeoordeling'!$1:$1,0)),Leveranciersbeoordeling!$H$1:$I$5,2,FALSE),0)","v":0},0]
["",null,null,null,null,null,null,null,null,null,null,null,null,null,null,{"$f":"INDEX($A:$O,ROW(),MATCH('Rapportage per vraag'!$C$12,'Data leveranciersbeoordeling'!$1:$1,0))","v":0},{"$f":"IFERROR(VLOOKUP(INDEX($A:$O,ROW(),MATCH('Rapportage per vraag'!$C$12,'Data leveranciersbeoordeling'!$1:$1,0)),Leveranciersbeoordeling!$H$1:$I$5,2,FALSE),0)","v":0},0]
["",null,null,null,null,null,null,null,null,null,null,null,null,null,null,{"$f":"INDEX($A:$O,ROW(),MATCH('Rapportage per vraag'!$C$12,'Data leveranciersbeoordeling'!$1:$1,0))","v":0},{"$f":"IFERROR(VLOOKUP(INDEX($A:$O,ROW(),MATCH('Rapportage per vraag'!$C$12,'Data leveranciersbeoordeling'!$1:$1,0)),Leveranciersbeoordeling!$H$1:$I$5,2,FALSE),0)","v":0},0]
["",null,null,null,null,null,null,null,null,null,null,null,null,null,null,{"$f":"INDEX($A:$O,ROW(),MATCH('Rapportage per vraag'!$C$12,'Data leveranciersbeoordeling'!$1:$1,0))","v":0},{"$f":"IFERROR(VLOOKUP(INDEX($A:$O,ROW(),MATCH('Rapportage per vraag'!$C$12,'Data leveranciersbeoordeling'!$1:$1,0)),Leveranciersbeoordeling!$H$1:$I$5,2,FALSE),0)","v":0},0]
[{"$f":"CONCATENATE(B323,C323,D323)","v":""},null,null,null,null,null,null,null,null,null,null,null,null,null,null,{"$f":"INDEX($A:$O,ROW(),MATCH('Rapportage per vraag'!$C$12,'Data leveranciersbeoordeling'!$1:$1,0))","v":0},{"$f":"IFERROR(VLOOKUP(INDEX($A:$O,ROW(),MATCH('Rapportage per vraag'!$C$12,'Data leveranciersbeoordeling'!$1:$1,0)),Leveranciersbeoordeling!$H$1:$I$5,2,FALSE),0)","v":0},0]
["",null,null,null,null,null,null,null,null,null,null,null,null,null,null,{"$f":"INDEX($A:$O,ROW(),MATCH('Rapportage per vraag'!$C$12,'Data leveranciersbeoordeling'!$1:$1,0))","v":0},{"$f":"IFERROR(VLOOKUP(INDEX($A:$O,ROW(),MATCH('Rapportage per vraag'!$C$12,'Data leveranciersbeoordeling'!$1:$1,0)),Leveranciersbeoordeling!$H$1:$I$5,2,FALSE),0)","v":0},0]
["",null,null,null,null,null,null,null,null,null,null,null,null,null,null,{"$f":"INDEX($A:$O,ROW(),MATCH('Rapportage per vraag'!$C$12,'Data leveranciersbeoordeling'!$1:$1,0))","v":0},{"$f":"IFERROR(VLOOKUP(INDEX($A:$O,ROW(),MATCH('Rapportage per vraag'!$C$12,'Data leveranciersbeoordeling'!$1:$1,0)),Leveranciersbeoordeling!$H$1:$I$5,2,FALSE),0)","v":0},0]
["",null,null,null,null,null,null,null,null,null,null,null,null,null,null,{"$f":"INDEX($A:$O,ROW(),MATCH('Rapportage per vraag'!$C$12,'Data leveranciersbeoordeling'!$1:$1,0))","v":0},{"$f":"IFERROR(VLOOKUP(INDEX($A:$O,ROW(),MATCH('Rapportage per vraag'!$C$12,'Data leveranciersbeoordeling'!$1:$1,0)),Leveranciersbeoordeling!$H$1:$I$5,2,FALSE),0)","v":0},{"$f":"IF(T(P326)=P326,Q326,P326)","v":0}]
["",null,null,null,null,null,null,null,null,null,null,null,null,null,null,{"$f":"INDEX($A:$O,ROW(),MATCH('Rapportage per vraag'!$C$12,'Data leveranciersbeoordeling'!$1:$1,0))","v":0},{"$f":"IFERROR(VLOOKUP(INDEX($A:$O,ROW(),MATCH('Rapportage per vraag'!$C$12,'Data leveranciersbeoordeling'!$1:$1,0)),Leveranciersbeoordeling!$H$1:$I$5,2,FALSE),0)","v":0},0]
["",null,null,null,null,null,null,null,null,null,null,null,null,null,null,{"$f":"INDEX($A:$O,ROW(),MATCH('Rapportage per vraag'!$C$12,'Data leveranciersbeoordeling'!$1:$1,0))","v":0},{"$f":"IFERROR(VLOOKUP(INDEX($A:$O,ROW(),MATCH('Rapportage per vraag'!$C$12,'Data leveranciersbeoordeling'!$1:$1,0)),Leveranciersbeoordeling!$H$1:$I$5,2,FALSE),0)","v":0},0]
["",null,null,null,null,null,null,null,null,null,null,null,null,null,null,{"$f":"INDEX($A:$O,ROW(),MATCH('Rapportage per vraag'!$C$12,'Data leveranciersbeoordeling'!$1:$1,0))","v":0},{"$f":"IFERROR(VLOOKUP(INDEX($A:$O,ROW(),MATCH('Rapportage per vraag'!$C$12,'Data leveranciersbeoordeling'!$1:$1,0)),Leveranciersbeoordeling!$H$1:$I$5,2,FALSE),0)","v":0},0]
["",null,null,null,null,null,null,null,null,null,null,null,null,null,null,{"$f":"INDEX($A:$O,ROW(),MATCH('Rapportage per vraag'!$C$12,'Data leveranciersbeoordeling'!$1:$1,0))","v":0},{"$f":"IFERROR(VLOOKUP(INDEX($A:$O,ROW(),MATCH('Rapportage per vraag'!$C$12,'Data leveranciersbeoordeling'!$1:$1,0)),Leveranciersbeoordeling!$H$1:$I$5,2,FALSE),0)","v":0},0]
["",null,null,null,null,null,null,null,null,null,null,null,null,null,null,{"$f":"INDEX($A:$O,ROW(),MATCH('Rapportage per vraag'!$C$12,'Data leveranciersbeoordeling'!$1:$1,0))","v":0},{"$f":"IFERROR(VLOOKUP(INDEX($A:$O,ROW(),MATCH('Rapportage per vraag'!$C$12,'Data leveranciersbeoordeling'!$1:$1,0)),Leveranciersbeoordeling!$H$1:$I$5,2,FALSE),0)","v":0},0]
["",null,null,null,null,null,null,null,null,null,null,null,null,null,null,{"$f":"INDEX($A:$O,ROW(),MATCH('Rapportage per vraag'!$C$12,'Data leveranciersbeoordeling'!$1:$1,0))","v":0},{"$f":"IFERROR(VLOOKUP(INDEX($A:$O,ROW(),MATCH('Rapportage per vraag'!$C$12,'Data leveranciersbeoordeling'!$1:$1,0)),Leveranciersbeoordeling!$H$1:$I$5,2,FALSE),0)","v":0},0]
["",null,null,null,null,null,null,null,null,null,null,null,null,null,null,{"$f":"INDEX($A:$O,ROW(),MATCH('Rapportage per vraag'!$C$12,'Data leveranciersbeoordeling'!$1:$1,0))","v":0},{"$f":"IFERROR(VLOOKUP(INDEX($A:$O,ROW(),MATCH('Rapportage per vraag'!$C$12,'Data leveranciersbeoordeling'!$1:$1,0)),Leveranciersbeoordeling!$H$1:$I$5,2,FALSE),0)","v":0},0]
["",null,null,null,null,null,null,null,null,null,null,null,null,null,null,{"$f":"INDEX($A:$O,ROW(),MATCH('Rapportage per vraag'!$C$12,'Data leveranciersbeoordeling'!$1:$1,0))","v":0},{"$f":"IFERROR(VLOOKUP(INDEX($A:$O,ROW(),MATCH('Rapportage per vraag'!$C$12,'Data leveranciersbeoordeling'!$1:$1,0)),Leveranciersbeoordeling!$H$1:$I$5,2,FALSE),0)","v":0},0]
["",null,null,null,null,null,null,null,null,null,null,null,null,null,null,{"$f":"INDEX($A:$O,ROW(),MATCH('Rapportage per vraag'!$C$12,'Data leveranciersbeoordeling'!$1:$1,0))","v":0},{"$f":"IFERROR(VLOOKUP(INDEX($A:$O,ROW(),MATCH('Rapportage per vraag'!$C$12,'Data leveranciersbeoordeling'!$1:$1,0)),Leveranciersbeoordeling!$H$1:$I$5,2,FALSE),0)","v":0},0]
["",null,null,null,null,null,null,null,null,null,null,null,null,null,null,{"$f":"INDEX($A:$O,ROW(),MATCH('Rapportage per vraag'!$C$12,'Data leveranciersbeoordeling'!$1:$1,0))","v":0},{"$f":"IFERROR(VLOOKUP(INDEX($A:$O,ROW(),MATCH('Rapportage per vraag'!$C$12,'Data leveranciersbeoordeling'!$1:$1,0)),Leveranciersbeoordeling!$H$1:$I$5,2,FALSE),0)","v":0},0]
["",null,null,null,null,null,null,null,null,null,null,null,null,null,null,{"$f":"INDEX($A:$O,ROW(),MATCH('Rapportage per vraag'!$C$12,'Data leveranciersbeoordeling'!$1:$1,0))","v":0},{"$f":"IFERROR(VLOOKUP(INDEX($A:$O,ROW(),MATCH('Rapportage per vraag'!$C$12,'Data leveranciersbeoordeling'!$1:$1,0)),Leveranciersbeoordeling!$H$1:$I$5,2,FALSE),0)","v":0},0]
["",null,null,null,null,null,null,null,null,null,null,null,null,null,null,{"$f":"INDEX($A:$O,ROW(),MATCH('Rapportage per vraag'!$C$12,'Data leveranciersbeoordeling'!$1:$1,0))","v":0},{"$f":"IFERROR(VLOOKUP(INDEX($A:$O,ROW(),MATCH('Rapportage per vraag'!$C$12,'Data leveranciersbeoordeling'!$1:$1,0)),Leveranciersbeoordeling!$H$1:$I$5,2,FALSE),0)","v":0},0]
["",null,null,null,null,null,null,null,null,null,null,null,null,null,null,{"$f":"INDEX($A:$O,ROW(),MATCH('Rapportage per vraag'!$C$12,'Data leveranciersbeoordeling'!$1:$1,0))","v":0},{"$f":"IFERROR(VLOOKUP(INDEX($A:$O,ROW(),MATCH('Rapportage per vraag'!$C$12,'Data leveranciersbeoordeling'!$1:$1,0)),Leveranciersbeoordeling!$H$1:$I$5,2,FALSE),0)","v":0},0]
["",null,null,null,null,null,null,null,null,null,null,null,null,null,null,{"$f":"INDEX($A:$O,ROW(),MATCH('Rapportage per vraag'!$C$12,'Data leveranciersbeoordeling'!$1:$1,0))","v":0},{"$f":"IFERROR(VLOOKUP(INDEX($A:$O,ROW(),MATCH('Rapportage per vraag'!$C$12,'Data leveranciersbeoordeling'!$1:$1,0)),Leveranciersbeoordeling!$H$1:$I$5,2,FALSE),0)","v":0},0]
["",null,null,null,null,null,null,null,null,null,null,null,null,null,null,{"$f":"INDEX($A:$O,ROW(),MATCH('Rapportage per vraag'!$C$12,'Data leveranciersbeoordeling'!$1:$1,0))","v":0},{"$f":"IFERROR(VLOOKUP(INDEX($A:$O,ROW(),MATCH('Rapportage per vraag'!$C$12,'Data leveranciersbeoordeling'!$1:$1,0)),Leveranciersbeoordeling!$H$1:$I$5,2,FALSE),0)","v":0},0]
["",null,null,null,null,null,null,null,null,null,null,null,null,null,null,{"$f":"INDEX($A:$O,ROW(),MATCH('Rapportage per vraag'!$C$12,'Data leveranciersbeoordeling'!$1:$1,0))","v":0},{"$f":"IFERROR(VLOOKUP(INDEX($A:$O,ROW(),MATCH('Rapportage per vraag'!$C$12,'Data leveranciersbeoordeling'!$1:$1,0)),Leveranciersbeoordeling!$H$1:$I$5,2,FALSE),0)","v":0},0]
["",null,null,null,null,null,null,null,null,null,null,null,null,null,null,{"$f":"INDEX($A:$O,ROW(),MATCH('Rapportage per vraag'!$C$12,'Data leveranciersbeoordeling'!$1:$1,0))","v":0},{"$f":"IFERROR(VLOOKUP(INDEX($A:$O,ROW(),MATCH('Rapportage per vraag'!$C$12,'Data leveranciersbeoordeling'!$1:$1,0)),Leveranciersbeoordeling!$H$1:$I$5,2,FALSE),0)","v":0},0]
["",null,null,null,null,null,null,null,null,null,null,null,null,null,null,{"$f":"INDEX($A:$O,ROW(),MATCH('Rapportage per vraag'!$C$12,'Data leveranciersbeoordeling'!$1:$1,0))","v":0},{"$f":"IFERROR(VLOOKUP(INDEX($A:$O,ROW(),MATCH('Rapportage per vraag'!$C$12,'Data leveranciersbeoordeling'!$1:$1,0)),Leveranciersbeoordeling!$H$1:$I$5,2,FALSE),0)","v":0},0]
["",null,null,null,null,null,null,null,null,null,null,null,null,null,null,{"$f":"INDEX($A:$O,ROW(),MATCH('Rapportage per vraag'!$C$12,'Data leveranciersbeoordeling'!$1:$1,0))","v":0},{"$f":"IFERROR(VLOOKUP(INDEX($A:$O,ROW(),MATCH('Rapportage per vraag'!$C$12,'Data leveranciersbeoordeling'!$1:$1,0)),Leveranciersbeoordeling!$H$1:$I$5,2,FALSE),0)","v":0},0]
["",null,null,null,null,null,null,null,null,null,null,null,null,null,null,{"$f":"INDEX($A:$O,ROW(),MATCH('Rapportage per vraag'!$C$12,'Data leveranciersbeoordeling'!$1:$1,0))","v":0},{"$f":"IFERROR(VLOOKUP(INDEX($A:$O,ROW(),MATCH('Rapportage per vraag'!$C$12,'Data leveranciersbeoordeling'!$1:$1,0)),Leveranciersbeoordeling!$H$1:$I$5,2,FALSE),0)","v":0},0]
["",null,null,null,null,null,null,null,null,null,null,null,null,null,null,{"$f":"INDEX($A:$O,ROW(),MATCH('Rapportage per vraag'!$C$12,'Data leveranciersbeoordeling'!$1:$1,0))","v":0},{"$f":"IFERROR(VLOOKUP(INDEX($A:$O,ROW(),MATCH('Rapportage per vraag'!$C$12,'Data leveranciersbeoordeling'!$1:$1,0)),Leveranciersbeoordeling!$H$1:$I$5,2,FALSE),0)","v":0},0]
["",null,null,null,null,null,null,null,null,null,null,null,null,null,null,{"$f":"INDEX($A:$O,ROW(),MATCH('Rapportage per vraag'!$C$12,'Data leveranciersbeoordeling'!$1:$1,0))","v":0},{"$f":"IFERROR(VLOOKUP(INDEX($A:$O,ROW(),MATCH('Rapportage per vraag'!$C$12,'Data leveranciersbeoordeling'!$1:$1,0)),Leveranciersbeoordeling!$H$1:$I$5,2,FALSE),0)","v":0},0]
["",null,null,null,null,null,null,null,null,null,null,null,null,null,null,{"$f":"INDEX($A:$O,ROW(),MATCH('Rapportage per vraag'!$C$12,'Data leveranciersbeoordeling'!$1:$1,0))","v":0},{"$f":"IFERROR(VLOOKUP(INDEX($A:$O,ROW(),MATCH('Rapportage per vraag'!$C$12,'Data leveranciersbeoordeling'!$1:$1,0)),Leveranciersbeoordeling!$H$1:$I$5,2,FALSE),0)","v":0},0]
["",null,null,null,null,null,null,null,null,null,null,null,null,null,null,{"$f":"INDEX($A:$O,ROW(),MATCH('Rapportage per vraag'!$C$12,'Data leveranciersbeoordeling'!$1:$1,0))","v":0},{"$f":"IFERROR(VLOOKUP(INDEX($A:$O,ROW(),MATCH('Rapportage per vraag'!$C$12,'Data leveranciersbeoordeling'!$1:$1,0)),Leveranciersbeoordeling!$H$1:$I$5,2,FALSE),0)","v":0},0]
["",null,null,null,null,null,null,null,null,null,null,null,null,null,null,{"$f":"INDEX($A:$O,ROW(),MATCH('Rapportage per vraag'!$C$12,'Data leveranciersbeoordeling'!$1:$1,0))","v":0},{"$f":"IFERROR(VLOOKUP(INDEX($A:$O,ROW(),MATCH('Rapportage per vraag'!$C$12,'Data leveranciersbeoordeling'!$1:$1,0)),Leveranciersbeoordeling!$H$1:$I$5,2,FALSE),0)","v":0},0]
["",null,null,null,null,null,null,null,null,null,null,null,null,null,null,{"$f":"INDEX($A:$O,ROW(),MATCH('Rapportage per vraag'!$C$12,'Data leveranciersbeoordeling'!$1:$1,0))","v":0},{"$f":"IFERROR(VLOOKUP(INDEX($A:$O,ROW(),MATCH('Rapportage per vraag'!$C$12,'Data leveranciersbeoordeling'!$1:$1,0)),Leveranciersbeoordeling!$H$1:$I$5,2,FALSE),0)","v":0},0]
["",null,null,null,null,null,null,null,null,null,null,null,null,null,null,{"$f":"INDEX($A:$O,ROW(),MATCH('Rapportage per vraag'!$C$12,'Data leveranciersbeoordeling'!$1:$1,0))","v":0},{"$f":"IFERROR(VLOOKUP(INDEX($A:$O,ROW(),MATCH('Rapportage per vraag'!$C$12,'Data leveranciersbeoordeling'!$1:$1,0)),Leveranciersbeoordeling!$H$1:$I$5,2,FALSE),0)","v":0},0]
["",null,null,null,null,null,null,null,null,null,null,null,null,null,null,{"$f":"INDEX($A:$O,ROW(),MATCH('Rapportage per vraag'!$C$12,'Data leveranciersbeoordeling'!$1:$1,0))","v":0},{"$f":"IFERROR(VLOOKUP(INDEX($A:$O,ROW(),MATCH('Rapportage per vraag'!$C$12,'Data leveranciersbeoordeling'!$1:$1,0)),Leveranciersbeoordeling!$H$1:$I$5,2,FALSE),0)","v":0},0]
["",null,null,null,null,null,null,null,null,null,null,null,null,null,null,{"$f":"INDEX($A:$O,ROW(),MATCH('Rapportage per vraag'!$C$12,'Data leveranciersbeoordeling'!$1:$1,0))","v":0},{"$f":"IFERROR(VLOOKUP(INDEX($A:$O,ROW(),MATCH('Rapportage per vraag'!$C$12,'Data leveranciersbeoordeling'!$1:$1,0)),Leveranciersbeoordeling!$H$1:$I$5,2,FALSE),0)","v":0},0]
["",null,null,null,null,null,null,null,null,null,null,null,null,null,null,{"$f":"INDEX($A:$O,ROW(),MATCH('Rapportage per vraag'!$C$12,'Data leveranciersbeoordeling'!$1:$1,0))","v":0},{"$f":"IFERROR(VLOOKUP(INDEX($A:$O,ROW(),MATCH('Rapportage per vraag'!$C$12,'Data leveranciersbeoordeling'!$1:$1,0)),Leveranciersbeoordeling!$H$1:$I$5,2,FALSE),0)","v":0},0]
["",null,null,null,null,null,null,null,null,null,null,null,null,null,null,{"$f":"INDEX($A:$O,ROW(),MATCH('Rapportage per vraag'!$C$12,'Data leveranciersbeoordeling'!$1:$1,0))","v":0},{"$f":"IFERROR(VLOOKUP(INDEX($A:$O,ROW(),MATCH('Rapportage per vraag'!$C$12,'Data leveranciersbeoordeling'!$1:$1,0)),Leveranciersbeoordeling!$H$1:$I$5,2,FALSE),0)","v":0},0]
["",null,null,null,null,null,null,null,null,null,null,null,null,null,null,{"$f":"INDEX($A:$O,ROW(),MATCH('Rapportage per vraag'!$C$12,'Data leveranciersbeoordeling'!$1:$1,0))","v":0},{"$f":"IFERROR(VLOOKUP(INDEX($A:$O,ROW(),MATCH('Rapportage per vraag'!$C$12,'Data leveranciersbeoordeling'!$1:$1,0)),Leveranciersbeoordeling!$H$1:$I$5,2,FALSE),0)","v":0},0]
["",null,null,null,null,null,null,null,null,null,null,null,null,null,null,{"$f":"INDEX($A:$O,ROW(),MATCH('Rapportage per vraag'!$C$12,'Data leveranciersbeoordeling'!$1:$1,0))","v":0},{"$f":"IFERROR(VLOOKUP(INDEX($A:$O,ROW(),MATCH('Rapportage per vraag'!$C$12,'Data leveranciersbeoordeling'!$1:$1,0)),Leveranciersbeoordeling!$H$1:$I$5,2,FALSE),0)","v":0},0]
["",null,null,null,null,null,null,null,null,null,null,null,null,null,null,{"$f":"INDEX($A:$O,ROW(),MATCH('Rapportage per vraag'!$C$12,'Data leveranciersbeoordeling'!$1:$1,0))","v":0},{"$f":"IFERROR(VLOOKUP(INDEX($A:$O,ROW(),MATCH('Rapportage per vraag'!$C$12,'Data leveranciersbeoordeling'!$1:$1,0)),Leveranciersbeoordeling!$H$1:$I$5,2,FALSE),0)","v":0},0]
["",null,null,null,null,null,null,null,null,null,null,null,null,null,null,{"$f":"INDEX($A:$O,ROW(),MATCH('Rapportage per vraag'!$C$12,'Data leveranciersbeoordeling'!$1:$1,0))","v":0},{"$f":"IFERROR(VLOOKUP(INDEX($A:$O,ROW(),MATCH('Rapportage per vraag'!$C$12,'Data leveranciersbeoordeling'!$1:$1,0)),Leveranciersbeoordeling!$H$1:$I$5,2,FALSE),0)","v":0},0]
["",null,null,null,null,null,null,null,null,null,null,null,null,null,null,{"$f":"INDEX($A:$O,ROW(),MATCH('Rapportage per vraag'!$C$12,'Data leveranciersbeoordeling'!$1:$1,0))","v":0},{"$f":"IFERROR(VLOOKUP(INDEX($A:$O,ROW(),MATCH('Rapportage per vraag'!$C$12,'Data leveranciersbeoordeling'!$1:$1,0)),Leveranciersbeoordeling!$H$1:$I$5,2,FALSE),0)","v":0},0]
["",null,null,null,null,null,null,null,null,null,null,null,null,null,null,{"$f":"INDEX($A:$O,ROW(),MATCH('Rapportage per vraag'!$C$12,'Data leveranciersbeoordeling'!$1:$1,0))","v":0},{"$f":"IFERROR(VLOOKUP(INDEX($A:$O,ROW(),MATCH('Rapportage per vraag'!$C$12,'Data leveranciersbeoordeling'!$1:$1,0)),Leveranciersbeoordeling!$H$1:$I$5,2,FALSE),0)","v":0},0]
["",null,null,null,null,null,null,null,null,null,null,null,null,null,null,{"$f":"INDEX($A:$O,ROW(),MATCH('Rapportage per vraag'!$C$12,'Data leveranciersbeoordeling'!$1:$1,0))","v":0},{"$f":"IFERROR(VLOOKUP(INDEX($A:$O,ROW(),MATCH('Rapportage per vraag'!$C$12,'Data leveranciersbeoordeling'!$1:$1,0)),Leveranciersbeoordeling!$H$1:$I$5,2,FALSE),0)","v":0},0]
["",null,null,null,null,null,null,null,null,null,null,null,null,null,null,{"$f":"INDEX($A:$O,ROW(),MATCH('Rapportage per vraag'!$C$12,'Data leveranciersbeoordeling'!$1:$1,0))","v":0},{"$f":"IFERROR(VLOOKUP(INDEX($A:$O,ROW(),MATCH('Rapportage per vraag'!$C$12,'Data leveranciersbeoordeling'!$1:$1,0)),Leveranciersbeoordeling!$H$1:$I$5,2,FALSE),0)","v":0},0]
["",null,null,null,null,null,null,null,null,null,null,null,null,null,null,{"$f":"INDEX($A:$O,ROW(),MATCH('Rapportage per vraag'!$C$12,'Data leveranciersbeoordeling'!$1:$1,0))","v":0},{"$f":"IFERROR(VLOOKUP(INDEX($A:$O,ROW(),MATCH('Rapportage per vraag'!$C$12,'Data leveranciersbeoordeling'!$1:$1,0)),Leveranciersbeoordeling!$H$1:$I$5,2,FALSE),0)","v":0},0]
["",null,null,null,null,null,null,null,null,null,null,null,null,null,null,{"$f":"INDEX($A:$O,ROW(),MATCH('Rapportage per vraag'!$C$12,'Data leveranciersbeoordeling'!$1:$1,0))","v":0},{"$f":"IFERROR(VLOOKUP(INDEX($A:$O,ROW(),MATCH('Rapportage per vraag'!$C$12,'Data leveranciersbeoordeling'!$1:$1,0)),Leveranciersbeoordeling!$H$1:$I$5,2,FALSE),0)","v":0},0]
["",null,null,null,null,null,null,null,null,null,null,null,null,null,null,{"$f":"INDEX($A:$O,ROW(),MATCH('Rapportage per vraag'!$C$12,'Data leveranciersbeoordeling'!$1:$1,0))","v":0},{"$f":"IFERROR(VLOOKUP(INDEX($A:$O,ROW(),MATCH('Rapportage per vraag'!$C$12,'Data leveranciersbeoordeling'!$1:$1,0)),Leveranciersbeoordeling!$H$1:$I$5,2,FALSE),0)","v":0},0]
["",null,null,null,null,null,null,null,null,null,null,null,null,null,null,{"$f":"INDEX($A:$O,ROW(),MATCH('Rapportage per vraag'!$C$12,'Data leveranciersbeoordeling'!$1:$1,0))","v":0},{"$f":"IFERROR(VLOOKUP(INDEX($A:$O,ROW(),MATCH('Rapportage per vraag'!$C$12,'Data leveranciersbeoordeling'!$1:$1,0)),Leveranciersbeoordeling!$H$1:$I$5,2,FALSE),0)","v":0},0]
["",null,null,null,null,null,null,null,null,null,null,null,null,null,null,{"$f":"INDEX($A:$O,ROW(),MATCH('Rapportage per vraag'!$C$12,'Data leveranciersbeoordeling'!$1:$1,0))","v":0},{"$f":"IFERROR(VLOOKUP(INDEX($A:$O,ROW(),MATCH('Rapportage per vraag'!$C$12,'Data leveranciersbeoordeling'!$1:$1,0)),Leveranciersbeoordeling!$H$1:$I$5,2,FALSE),0)","v":0},0]
["",null,null,null,null,null,null,null,null,null,null,null,null,null,null,{"$f":"INDEX($A:$O,ROW(),MATCH('Rapportage per vraag'!$C$12,'Data leveranciersbeoordeling'!$1:$1,0))","v":0},{"$f":"IFERROR(VLOOKUP(INDEX($A:$O,ROW(),MATCH('Rapportage per vraag'!$C$12,'Data leveranciersbeoordeling'!$1:$1,0)),Leveranciersbeoordeling!$H$1:$I$5,2,FALSE),0)","v":0},0]
["",null,null,null,null,null,null,null,null,null,null,null,null,null,null,{"$f":"INDEX($A:$O,ROW(),MATCH('Rapportage per vraag'!$C$12,'Data leveranciersbeoordeling'!$1:$1,0))","v":0},{"$f":"IFERROR(VLOOKUP(INDEX($A:$O,ROW(),MATCH('Rapportage per vraag'!$C$12,'Data leveranciersbeoordeling'!$1:$1,0)),Leveranciersbeoordeling!$H$1:$I$5,2,FALSE),0)","v":0},0]
["",null,null,null,null,null,null,null,null,null,null,null,null,null,null,{"$f":"INDEX($A:$O,ROW(),MATCH('Rapportage per vraag'!$C$12,'Data leveranciersbeoordeling'!$1:$1,0))","v":0},{"$f":"IFERROR(VLOOKUP(INDEX($A:$O,ROW(),MATCH('Rapportage per vraag'!$C$12,'Data leveranciersbeoordeling'!$1:$1,0)),Leveranciersbeoordeling!$H$1:$I$5,2,FALSE),0)","v":0},0]
["",null,null,null,null,null,null,null,null,null,null,null,null,null,null,{"$f":"INDEX($A:$O,ROW(),MATCH('Rapportage per vraag'!$C$12,'Data leveranciersbeoordeling'!$1:$1,0))","v":0},{"$f":"IFERROR(VLOOKUP(INDEX($A:$O,ROW(),MATCH('Rapportage per vraag'!$C$12,'Data leveranciersbeoordeling'!$1:$1,0)),Leveranciersbeoordeling!$H$1:$I$5,2,FALSE),0)","v":0},0]
["",null,null,null,null,null,null,null,null,null,null,null,null,null,null,{"$f":"INDEX($A:$O,ROW(),MATCH('Rapportage per vraag'!$C$12,'Data leveranciersbeoordeling'!$1:$1,0))","v":0},{"$f":"IFERROR(VLOOKUP(INDEX($A:$O,ROW(),MATCH('Rapportage per vraag'!$C$12,'Data leveranciersbeoordeling'!$1:$1,0)),Leveranciersbeoordeling!$H$1:$I$5,2,FALSE),0)","v":0},0]
["",null,null,null,null,null,null,null,null,null,null,null,null,null,null,{"$f":"INDEX($A:$O,ROW(),MATCH('Rapportage per vraag'!$C$12,'Data leveranciersbeoordeling'!$1:$1,0))","v":0},{"$f":"IFERROR(VLOOKUP(INDEX($A:$O,ROW(),MATCH('Rapportage per vraag'!$C$12,'Data leveranciersbeoordeling'!$1:$1,0)),Leveranciersbeoordeling!$H$1:$I$5,2,FALSE),0)","v":0},0]
["",null,null,null,null,null,null,null,null,null,null,null,null,null,null,{"$f":"INDEX($A:$O,ROW(),MATCH('Rapportage per vraag'!$C$12,'Data leveranciersbeoordeling'!$1:$1,0))","v":0},{"$f":"IFERROR(VLOOKUP(INDEX($A:$O,ROW(),MATCH('Rapportage per vraag'!$C$12,'Data leveranciersbeoordeling'!$1:$1,0)),Leveranciersbeoordeling!$H$1:$I$5,2,FALSE),0)","v":0},0]
["",null,null,null,null,null,null,null,null,null,null,null,null,null,null,{"$f":"INDEX($A:$O,ROW(),MATCH('Rapportage per vraag'!$C$12,'Data leveranciersbeoordeling'!$1:$1,0))","v":0},{"$f":"IFERROR(VLOOKUP(INDEX($A:$O,ROW(),MATCH('Rapportage per vraag'!$C$12,'Data leveranciersbeoordeling'!$1:$1,0)),Leveranciersbeoordeling!$H$1:$I$5,2,FALSE),0)","v":0},0]
["",null,null,null,null,null,null,null,null,null,null,null,null,null,null,{"$f":"INDEX($A:$O,ROW(),MATCH('Rapportage per vraag'!$C$12,'Data leveranciersbeoordeling'!$1:$1,0))","v":0},{"$f":"IFERROR(VLOOKUP(INDEX($A:$O,ROW(),MATCH('Rapportage per vraag'!$C$12,'Data leveranciersbeoordeling'!$1:$1,0)),Leveranciersbeoordeling!$H$1:$I$5,2,FALSE),0)","v":0},0]
["",null,null,null,null,null,null,null,null,null,null,null,null,null,null,{"$f":"INDEX($A:$O,ROW(),MATCH('Rapportage per vraag'!$C$12,'Data leveranciersbeoordeling'!$1:$1,0))","v":0},{"$f":"IFERROR(VLOOKUP(INDEX($A:$O,ROW(),MATCH('Rapportage per vraag'!$C$12,'Data leveranciersbeoordeling'!$1:$1,0)),Leveranciersbeoordeling!$H$1:$I$5,2,FALSE),0)","v":0},0]
["",null,null,null,null,null,null,null,null,null,null,null,null,null,null,{"$f":"INDEX($A:$O,ROW(),MATCH('Rapportage per vraag'!$C$12,'Data leveranciersbeoordeling'!$1:$1,0))","v":0},{"$f":"IFERROR(VLOOKUP(INDEX($A:$O,ROW(),MATCH('Rapportage per vraag'!$C$12,'Data leveranciersbeoordeling'!$1:$1,0)),Leveranciersbeoordeling!$H$1:$I$5,2,FALSE),0)","v":0},0]
["",null,null,null,null,null,null,null,null,null,null,null,null,null,null,{"$f":"INDEX($A:$O,ROW(),MATCH('Rapportage per vraag'!$C$12,'Data leveranciersbeoordeling'!$1:$1,0))","v":0},{"$f":"IFERROR(VLOOKUP(INDEX($A:$O,ROW(),MATCH('Rapportage per vraag'!$C$12,'Data leveranciersbeoordeling'!$1:$1,0)),Leveranciersbeoordeling!$H$1:$I$5,2,FALSE),0)","v":0},0]
["",null,null,null,null,null,null,null,null,null,null,null,null,null,null,{"$f":"INDEX($A:$O,ROW(),MATCH('Rapportage per vraag'!$C$12,'Data leveranciersbeoordeling'!$1:$1,0))","v":0},{"$f":"IFERROR(VLOOKUP(INDEX($A:$O,ROW(),MATCH('Rapportage per vraag'!$C$12,'Data leveranciersbeoordeling'!$1:$1,0)),Leveranciersbeoordeling!$H$1:$I$5,2,FALSE),0)","v":0},0]
["",null,null,null,null,null,null,null,null,null,null,null,null,null,null,{"$f":"INDEX($A:$O,ROW(),MATCH('Rapportage per vraag'!$C$12,'Data leveranciersbeoordeling'!$1:$1,0))","v":0},{"$f":"IFERROR(VLOOKUP(INDEX($A:$O,ROW(),MATCH('Rapportage per vraag'!$C$12,'Data leveranciersbeoordeling'!$1:$1,0)),Leveranciersbeoordeling!$H$1:$I$5,2,FALSE),0)","v":0},0]
["",null,null,null,null,null,null,null,null,null,null,null,null,null,null,{"$f":"INDEX($A:$O,ROW(),MATCH('Rapportage per vraag'!$C$12,'Data leveranciersbeoordeling'!$1:$1,0))","v":0},{"$f":"IFERROR(VLOOKUP(INDEX($A:$O,ROW(),MATCH('Rapportage per vraag'!$C$12,'Data leveranciersbeoordeling'!$1:$1,0)),Leveranciersbeoordeling!$H$1:$I$5,2,FALSE),0)","v":0},0]
["",null,null,null,null,null,null,null,null,null,null,null,null,null,null,{"$f":"INDEX($A:$O,ROW(),MATCH('Rapportage per vraag'!$C$12,'Data leveranciersbeoordeling'!$1:$1,0))","v":0},{"$f":"IFERROR(VLOOKUP(INDEX($A:$O,ROW(),MATCH('Rapportage per vraag'!$C$12,'Data leveranciersbeoordeling'!$1:$1,0)),Leveranciersbeoordeling!$H$1:$I$5,2,FALSE),0)","v":0},0]
[{"$f":"CONCATENATE(B387,C387,D387)","v":""},null,null,null,null,null,null,null,null,null,null,null,null,null,null,{"$f":"INDEX($A:$O,ROW(),MATCH('Rapportage per vraag'!$C$12,'Data leveranciersbeoordeling'!$1:$1,0))","v":0},{"$f":"IFERROR(VLOOKUP(INDEX($A:$O,ROW(),MATCH('Rapportage per vraag'!$C$12,'Data leveranciersbeoordeling'!$1:$1,0)),Leveranciersbeoordeling!$H$1:$I$5,2,FALSE),0)","v":0},0]
["",null,null,null,null,null,null,null,null,null,null,null,null,null,null,{"$f":"INDEX($A:$O,ROW(),MATCH('Rapportage per vraag'!$C$12,'Data leveranciersbeoordeling'!$1:$1,0))","v":0},{"$f":"IFERROR(VLOOKUP(INDEX($A:$O,ROW(),MATCH('Rapportage per vraag'!$C$12,'Data leveranciersbeoordeling'!$1:$1,0)),Leveranciersbeoordeling!$H$1:$I$5,2,FALSE),0)","v":0},0]
["",null,null,null,null,null,null,null,null,null,null,null,null,null,null,{"$f":"INDEX($A:$O,ROW(),MATCH('Rapportage per vraag'!$C$12,'Data leveranciersbeoordeling'!$1:$1,0))","v":0},{"$f":"IFERROR(VLOOKUP(INDEX($A:$O,ROW(),MATCH('Rapportage per vraag'!$C$12,'Data leveranciersbeoordeling'!$1:$1,0)),Leveranciersbeoordeling!$H$1:$I$5,2,FALSE),0)","v":0},0]
["",null,null,null,null,null,null,null,null,null,null,null,null,null,null,{"$f":"INDEX($A:$O,ROW(),MATCH('Rapportage per vraag'!$C$12,'Data leveranciersbeoordeling'!$1:$1,0))","v":0},{"$f":"IFERROR(VLOOKUP(INDEX($A:$O,ROW(),MATCH('Rapportage per vraag'!$C$12,'Data leveranciersbeoordeling'!$1:$1,0)),Leveranciersbeoordeling!$H$1:$I$5,2,FALSE),0)","v":0},{"$f":"IF(T(P390)=P390,Q390,P390)","v":0}]
["",null,null,null,null,null,null,null,null,null,null,null,null,null,null,{"$f":"INDEX($A:$O,ROW(),MATCH('Rapportage per vraag'!$C$12,'Data leveranciersbeoordeling'!$1:$1,0))","v":0},{"$f":"IFERROR(VLOOKUP(INDEX($A:$O,ROW(),MATCH('Rapportage per vraag'!$C$12,'Data leveranciersbeoordeling'!$1:$1,0)),Leveranciersbeoordeling!$H$1:$I$5,2,FALSE),0)","v":0},0]
["",null,null,null,null,null,null,null,null,null,null,null,null,null,null,{"$f":"INDEX($A:$O,ROW(),MATCH('Rapportage per vraag'!$C$12,'Data leveranciersbeoordeling'!$1:$1,0))","v":0},{"$f":"IFERROR(VLOOKUP(INDEX($A:$O,ROW(),MATCH('Rapportage per vraag'!$C$12,'Data leveranciersbeoordeling'!$1:$1,0)),Leveranciersbeoordeling!$H$1:$I$5,2,FALSE),0)","v":0},0]
["",null,null,null,null,null,null,null,null,null,null,null,null,null,null,{"$f":"INDEX($A:$O,ROW(),MATCH('Rapportage per vraag'!$C$12,'Data leveranciersbeoordeling'!$1:$1,0))","v":0},{"$f":"IFERROR(VLOOKUP(INDEX($A:$O,ROW(),MATCH('Rapportage per vraag'!$C$12,'Data leveranciersbeoordeling'!$1:$1,0)),Leveranciersbeoordeling!$H$1:$I$5,2,FALSE),0)","v":0},0]
["",null,null,null,null,null,null,null,null,null,null,null,null,null,null,{"$f":"INDEX($A:$O,ROW(),MATCH('Rapportage per vraag'!$C$12,'Data leveranciersbeoordeling'!$1:$1,0))","v":0},{"$f":"IFERROR(VLOOKUP(INDEX($A:$O,ROW(),MATCH('Rapportage per vraag'!$C$12,'Data leveranciersbeoordeling'!$1:$1,0)),Leveranciersbeoordeling!$H$1:$I$5,2,FALSE),0)","v":0},0]
["",null,null,null,null,null,null,null,null,null,null,null,null,null,null,{"$f":"INDEX($A:$O,ROW(),MATCH('Rapportage per vraag'!$C$12,'Data leveranciersbeoordeling'!$1:$1,0))","v":0},{"$f":"IFERROR(VLOOKUP(INDEX($A:$O,ROW(),MATCH('Rapportage per vraag'!$C$12,'Data leveranciersbeoordeling'!$1:$1,0)),Leveranciersbeoordeling!$H$1:$I$5,2,FALSE),0)","v":0},0]
["",null,null,null,null,null,null,null,null,null,null,null,null,null,null,{"$f":"INDEX($A:$O,ROW(),MATCH('Rapportage per vraag'!$C$12,'Data leveranciersbeoordeling'!$1:$1,0))","v":0},{"$f":"IFERROR(VLOOKUP(INDEX($A:$O,ROW(),MATCH('Rapportage per vraag'!$C$12,'Data leveranciersbeoordeling'!$1:$1,0)),Leveranciersbeoordeling!$H$1:$I$5,2,FALSE),0)","v":0},0]
["",null,null,null,null,null,null,null,null,null,null,null,null,null,null,{"$f":"INDEX($A:$O,ROW(),MATCH('Rapportage per vraag'!$C$12,'Data leveranciersbeoordeling'!$1:$1,0))","v":0},{"$f":"IFERROR(VLOOKUP(INDEX($A:$O,ROW(),MATCH('Rapportage per vraag'!$C$12,'Data leveranciersbeoordeling'!$1:$1,0)),Leveranciersbeoordeling!$H$1:$I$5,2,FALSE),0)","v":0},0]
["",null,null,null,null,null,null,null,null,null,null,null,null,null,null,{"$f":"INDEX($A:$O,ROW(),MATCH('Rapportage per vraag'!$C$12,'Data leveranciersbeoordeling'!$1:$1,0))","v":0},{"$f":"IFERROR(VLOOKUP(INDEX($A:$O,ROW(),MATCH('Rapportage per vraag'!$C$12,'Data leveranciersbeoordeling'!$1:$1,0)),Leveranciersbeoordeling!$H$1:$I$5,2,FALSE),0)","v":0},0]
["",null,null,null,null,null,null,null,null,null,null,null,null,null,null,{"$f":"INDEX($A:$O,ROW(),MATCH('Rapportage per vraag'!$C$12,'Data leveranciersbeoordeling'!$1:$1,0))","v":0},{"$f":"IFERROR(VLOOKUP(INDEX($A:$O,ROW(),MATCH('Rapportage per vraag'!$C$12,'Data leveranciersbeoordeling'!$1:$1,0)),Leveranciersbeoordeling!$H$1:$I$5,2,FALSE),0)","v":0},0]
["",null,null,null,null,null,null,null,null,null,null,null,null,null,null,{"$f":"INDEX($A:$O,ROW(),MATCH('Rapportage per vraag'!$C$12,'Data leveranciersbeoordeling'!$1:$1,0))","v":0},{"$f":"IFERROR(VLOOKUP(INDEX($A:$O,ROW(),MATCH('Rapportage per vraag'!$C$12,'Data leveranciersbeoordeling'!$1:$1,0)),Leveranciersbeoordeling!$H$1:$I$5,2,FALSE),0)","v":0},0]
["",null,null,null,null,null,null,null,null,null,null,null,null,null,null,{"$f":"INDEX($A:$O,ROW(),MATCH('Rapportage per vraag'!$C$12,'Data leveranciersbeoordeling'!$1:$1,0))","v":0},{"$f":"IFERROR(VLOOKUP(INDEX($A:$O,ROW(),MATCH('Rapportage per vraag'!$C$12,'Data leveranciersbeoordeling'!$1:$1,0)),Leveranciersbeoordeling!$H$1:$I$5,2,FALSE),0)","v":0},0]
["",null,null,null,null,null,null,null,null,null,null,null,null,null,null,{"$f":"INDEX($A:$O,ROW(),MATCH('Rapportage per vraag'!$C$12,'Data leveranciersbeoordeling'!$1:$1,0))","v":0},{"$f":"IFERROR(VLOOKUP(INDEX($A:$O,ROW(),MATCH('Rapportage per vraag'!$C$12,'Data leveranciersbeoordeling'!$1:$1,0)),Leveranciersbeoordeling!$H$1:$I$5,2,FALSE),0)","v":0},0]
["",null,null,null,null,null,null,null,null,null,null,null,null,null,null,{"$f":"INDEX($A:$O,ROW(),MATCH('Rapportage per vraag'!$C$12,'Data leveranciersbeoordeling'!$1:$1,0))","v":0},{"$f":"IFERROR(VLOOKUP(INDEX($A:$O,ROW(),MATCH('Rapportage per vraag'!$C$12,'Data leveranciersbeoordeling'!$1:$1,0)),Leveranciersbeoordeling!$H$1:$I$5,2,FALSE),0)","v":0},0]
["",null,null,null,null,null,null,null,null,null,null,null,null,null,null,{"$f":"INDEX($A:$O,ROW(),MATCH('Rapportage per vraag'!$C$12,'Data leveranciersbeoordeling'!$1:$1,0))","v":0},{"$f":"IFERROR(VLOOKUP(INDEX($A:$O,ROW(),MATCH('Rapportage per vraag'!$C$12,'Data leveranciersbeoordeling'!$1:$1,0)),Leveranciersbeoordeling!$H$1:$I$5,2,FALSE),0)","v":0},0]
["",null,null,null,null,null,null,null,null,null,null,null,null,null,null,{"$f":"INDEX($A:$O,ROW(),MATCH('Rapportage per vraag'!$C$12,'Data leveranciersbeoordeling'!$1:$1,0))","v":0},{"$f":"IFERROR(VLOOKUP(INDEX($A:$O,ROW(),MATCH('Rapportage per vraag'!$C$12,'Data leveranciersbeoordeling'!$1:$1,0)),Leveranciersbeoordeling!$H$1:$I$5,2,FALSE),0)","v":0},0]
["",null,null,null,null,null,null,null,null,null,null,null,null,null,null,{"$f":"INDEX($A:$O,ROW(),MATCH('Rapportage per vraag'!$C$12,'Data leveranciersbeoordeling'!$1:$1,0))","v":0},{"$f":"IFERROR(VLOOKUP(INDEX($A:$O,ROW(),MATCH('Rapportage per vraag'!$C$12,'Data leveranciersbeoordeling'!$1:$1,0)),Leveranciersbeoordeling!$H$1:$I$5,2,FALSE),0)","v":0},0]
["",null,null,null,null,null,null,null,null,null,null,null,null,null,null,{"$f":"INDEX($A:$O,ROW(),MATCH('Rapportage per vraag'!$C$12,'Data leveranciersbeoordeling'!$1:$1,0))","v":0},{"$f":"IFERROR(VLOOKUP(INDEX($A:$O,ROW(),MATCH('Rapportage per vraag'!$C$12,'Data leveranciersbeoordeling'!$1:$1,0)),Leveranciersbeoordeling!$H$1:$I$5,2,FALSE),0)","v":0},0]
["",null,null,null,null,null,null,null,null,null,null,null,null,null,null,{"$f":"INDEX($A:$O,ROW(),MATCH('Rapportage per vraag'!$C$12,'Data leveranciersbeoordeling'!$1:$1,0))","v":0},{"$f":"IFERROR(VLOOKUP(INDEX($A:$O,ROW(),MATCH('Rapportage per vraag'!$C$12,'Data leveranciersbeoordeling'!$1:$1,0)),Leveranciersbeoordeling!$H$1:$I$5,2,FALSE),0)","v":0},0]
["",null,null,null,null,null,null,null,null,null,null,null,null,null,null,{"$f":"INDEX($A:$O,ROW(),MATCH('Rapportage per vraag'!$C$12,'Data leveranciersbeoordeling'!$1:$1,0))","v":0},{"$f":"IFERROR(VLOOKUP(INDEX($A:$O,ROW(),MATCH('Rapportage per vraag'!$C$12,'Data leveranciersbeoordeling'!$1:$1,0)),Leveranciersbeoordeling!$H$1:$I$5,2,FALSE),0)","v":0},0]
["",null,null,null,null,null,null,null,null,null,null,null,null,null,null,{"$f":"INDEX($A:$O,ROW(),MATCH('Rapportage per vraag'!$C$12,'Data leveranciersbeoordeling'!$1:$1,0))","v":0},{"$f":"IFERROR(VLOOKUP(INDEX($A:$O,ROW(),MATCH('Rapportage per vraag'!$C$12,'Data leveranciersbeoordeling'!$1:$1,0)),Leveranciersbeoordeling!$H$1:$I$5,2,FALSE),0)","v":0},0]
["",null,null,null,null,null,null,null,null,null,null,null,null,null,null,{"$f":"INDEX($A:$O,ROW(),MATCH('Rapportage per vraag'!$C$12,'Data leveranciersbeoordeling'!$1:$1,0))","v":0},{"$f":"IFERROR(VLOOKUP(INDEX($A:$O,ROW(),MATCH('Rapportage per vraag'!$C$12,'Data leveranciersbeoordeling'!$1:$1,0)),Leveranciersbeoordeling!$H$1:$I$5,2,FALSE),0)","v":0},0]
["",null,null,null,null,null,null,null,null,null,null,null,null,null,null,{"$f":"INDEX($A:$O,ROW(),MATCH('Rapportage per vraag'!$C$12,'Data leveranciersbeoordeling'!$1:$1,0))","v":0},{"$f":"IFERROR(VLOOKUP(INDEX($A:$O,ROW(),MATCH('Rapportage per vraag'!$C$12,'Data leveranciersbeoordeling'!$1:$1,0)),Leveranciersbeoordeling!$H$1:$I$5,2,FALSE),0)","v":0},0]
["",null,null,null,null,null,null,null,null,null,null,null,null,null,null,{"$f":"INDEX($A:$O,ROW(),MATCH('Rapportage per vraag'!$C$12,'Data leveranciersbeoordeling'!$1:$1,0))","v":0},{"$f":"IFERROR(VLOOKUP(INDEX($A:$O,ROW(),MATCH('Rapportage per vraag'!$C$12,'Data leveranciersbeoordeling'!$1:$1,0)),Leveranciersbeoordeling!$H$1:$I$5,2,FALSE),0)","v":0},0]
["",null,null,null,null,null,null,null,null,null,null,null,null,null,null,{"$f":"INDEX($A:$O,ROW(),MATCH('Rapportage per vraag'!$C$12,'Data leveranciersbeoordeling'!$1:$1,0))","v":0},{"$f":"IFERROR(VLOOKUP(INDEX($A:$O,ROW(),MATCH('Rapportage per vraag'!$C$12,'Data leveranciersbeoordeling'!$1:$1,0)),Leveranciersbeoordeling!$H$1:$I$5,2,FALSE),0)","v":0},0]
["",null,null,null,null,null,null,null,null,null,null,null,null,null,null,{"$f":"INDEX($A:$O,ROW(),MATCH('Rapportage per vraag'!$C$12,'Data leveranciersbeoordeling'!$1:$1,0))","v":0},{"$f":"IFERROR(VLOOKUP(INDEX($A:$O,ROW(),MATCH('Rapportage per vraag'!$C$12,'Data leveranciersbeoordeling'!$1:$1,0)),Leveranciersbeoordeling!$H$1:$I$5,2,FALSE),0)","v":0},0]
["",null,null,null,null,null,null,null,null,null,null,null,null,null,null,{"$f":"INDEX($A:$O,ROW(),MATCH('Rapportage per vraag'!$C$12,'Data leveranciersbeoordeling'!$1:$1,0))","v":0},{"$f":"IFERROR(VLOOKUP(INDEX($A:$O,ROW(),MATCH('Rapportage per vraag'!$C$12,'Data leveranciersbeoordeling'!$1:$1,0)),Leveranciersbeoordeling!$H$1:$I$5,2,FALSE),0)","v":0},0]
["",null,null,null,null,null,null,null,null,null,null,null,null,null,null,{"$f":"INDEX($A:$O,ROW(),MATCH('Rapportage per vraag'!$C$12,'Data leveranciersbeoordeling'!$1:$1,0))","v":0},{"$f":"IFERROR(VLOOKUP(INDEX($A:$O,ROW(),MATCH('Rapportage per vraag'!$C$12,'Data leveranciersbeoordeling'!$1:$1,0)),Leveranciersbeoordeling!$H$1:$I$5,2,FALSE),0)","v":0},0]
["",null,null,null,null,null,null,null,null,null,null,null,null,null,null,{"$f":"INDEX($A:$O,ROW(),MATCH('Rapportage per vraag'!$C$12,'Data leveranciersbeoordeling'!$1:$1,0))","v":0},{"$f":"IFERROR(VLOOKUP(INDEX($A:$O,ROW(),MATCH('Rapportage per vraag'!$C$12,'Data leveranciersbeoordeling'!$1:$1,0)),Leveranciersbeoordeling!$H$1:$I$5,2,FALSE),0)","v":0},0]
["",null,null,null,null,null,null,null,null,null,null,null,null,null,null,{"$f":"INDEX($A:$O,ROW(),MATCH('Rapportage per vraag'!$C$12,'Data leveranciersbeoordeling'!$1:$1,0))","v":0},{"$f":"IFERROR(VLOOKUP(INDEX($A:$O,ROW(),MATCH('Rapportage per vraag'!$C$12,'Data leveranciersbeoordeling'!$1:$1,0)),Leveranciersbeoordeling!$H$1:$I$5,2,FALSE),0)","v":0},0]
["",null,null,null,null,null,null,null,null,null,null,null,null,null,null,{"$f":"INDEX($A:$O,ROW(),MATCH('Rapportage per vraag'!$C$12,'Data leveranciersbeoordeling'!$1:$1,0))","v":0},{"$f":"IFERROR(VLOOKUP(INDEX($A:$O,ROW(),MATCH('Rapportage per vraag'!$C$12,'Data leveranciersbeoordeling'!$1:$1,0)),Leveranciersbeoordeling!$H$1:$I$5,2,FALSE),0)","v":0},0]
["",null,null,null,null,null,null,null,null,null,null,null,null,null,null,{"$f":"INDEX($A:$O,ROW(),MATCH('Rapportage per vraag'!$C$12,'Data leveranciersbeoordeling'!$1:$1,0))","v":0},{"$f":"IFERROR(VLOOKUP(INDEX($A:$O,ROW(),MATCH('Rapportage per vraag'!$C$12,'Data leveranciersbeoordeling'!$1:$1,0)),Leveranciersbeoordeling!$H$1:$I$5,2,FALSE),0)","v":0},0]
["",null,null,null,null,null,null,null,null,null,null,null,null,null,null,{"$f":"INDEX($A:$O,ROW(),MATCH('Rapportage per vraag'!$C$12,'Data leveranciersbeoordeling'!$1:$1,0))","v":0},{"$f":"IFERROR(VLOOKUP(INDEX($A:$O,ROW(),MATCH('Rapportage per vraag'!$C$12,'Data leveranciersbeoordeling'!$1:$1,0)),Leveranciersbeoordeling!$H$1:$I$5,2,FALSE),0)","v":0},0]
["",null,null,null,null,null,null,null,null,null,null,null,null,null,null,{"$f":"INDEX($A:$O,ROW(),MATCH('Rapportage per vraag'!$C$12,'Data leveranciersbeoordeling'!$1:$1,0))","v":0},{"$f":"IFERROR(VLOOKUP(INDEX($A:$O,ROW(),MATCH('Rapportage per vraag'!$C$12,'Data leveranciersbeoordeling'!$1:$1,0)),Leveranciersbeoordeling!$H$1:$I$5,2,FALSE),0)","v":0},0]
["",null,null,null,null,null,null,null,null,null,null,null,null,null,null,{"$f":"INDEX($A:$O,ROW(),MATCH('Rapportage per vraag'!$C$12,'Data leveranciersbeoordeling'!$1:$1,0))","v":0},{"$f":"IFERROR(VLOOKUP(INDEX($A:$O,ROW(),MATCH('Rapportage per vraag'!$C$12,'Data leveranciersbeoordeling'!$1:$1,0)),Leveranciersbeoordeling!$H$1:$I$5,2,FALSE),0)","v":0},0]
["",null,null,null,null,null,null,null,null,null,null,null,null,null,null,{"$f":"INDEX($A:$O,ROW(),MATCH('Rapportage per vraag'!$C$12,'Data leveranciersbeoordeling'!$1:$1,0))","v":0},{"$f":"IFERROR(VLOOKUP(INDEX($A:$O,ROW(),MATCH('Rapportage per vraag'!$C$12,'Data leveranciersbeoordeling'!$1:$1,0)),Leveranciersbeoordeling!$H$1:$I$5,2,FALSE),0)","v":0},0]
["",null,null,null,null,null,null,null,null,null,null,null,null,null,null,{"$f":"INDEX($A:$O,ROW(),MATCH('Rapportage per vraag'!$C$12,'Data leveranciersbeoordeling'!$1:$1,0))","v":0},{"$f":"IFERROR(VLOOKUP(INDEX($A:$O,ROW(),MATCH('Rapportage per vraag'!$C$12,'Data leveranciersbeoordeling'!$1:$1,0)),Leveranciersbeoordeling!$H$1:$I$5,2,FALSE),0)","v":0},0]
["",null,null,null,null,null,null,null,null,null,null,null,null,null,null,{"$f":"INDEX($A:$O,ROW(),MATCH('Rapportage per vraag'!$C$12,'Data leveranciersbeoordeling'!$1:$1,0))","v":0},{"$f":"IFERROR(VLOOKUP(INDEX($A:$O,ROW(),MATCH('Rapportage per vraag'!$C$12,'Data leveranciersbeoordeling'!$1:$1,0)),Leveranciersbeoordeling!$H$1:$I$5,2,FALSE),0)","v":0},0]
["",null,null,null,null,null,null,null,null,null,null,null,null,null,null,{"$f":"INDEX($A:$O,ROW(),MATCH('Rapportage per vraag'!$C$12,'Data leveranciersbeoordeling'!$1:$1,0))","v":0},{"$f":"IFERROR(VLOOKUP(INDEX($A:$O,ROW(),MATCH('Rapportage per vraag'!$C$12,'Data leveranciersbeoordeling'!$1:$1,0)),Leveranciersbeoordeling!$H$1:$I$5,2,FALSE),0)","v":0},0]
["",null,null,null,null,null,null,null,null,null,null,null,null,null,null,{"$f":"INDEX($A:$O,ROW(),MATCH('Rapportage per vraag'!$C$12,'Data leveranciersbeoordeling'!$1:$1,0))","v":0},{"$f":"IFERROR(VLOOKUP(INDEX($A:$O,ROW(),MATCH('Rapportage per vraag'!$C$12,'Data leveranciersbeoordeling'!$1:$1,0)),Leveranciersbeoordeling!$H$1:$I$5,2,FALSE),0)","v":0},0]
["",null,null,null,null,null,null,null,null,null,null,null,null,null,null,{"$f":"INDEX($A:$O,ROW(),MATCH('Rapportage per vraag'!$C$12,'Data leveranciersbeoordeling'!$1:$1,0))","v":0},{"$f":"IFERROR(VLOOKUP(INDEX($A:$O,ROW(),MATCH('Rapportage per vraag'!$C$12,'Data leveranciersbeoordeling'!$1:$1,0)),Leveranciersbeoordeling!$H$1:$I$5,2,FALSE),0)","v":0},0]
["",null,null,null,null,null,null,null,null,null,null,null,null,null,null,{"$f":"INDEX($A:$O,ROW(),MATCH('Rapportage per vraag'!$C$12,'Data leveranciersbeoordeling'!$1:$1,0))","v":0},{"$f":"IFERROR(VLOOKUP(INDEX($A:$O,ROW(),MATCH('Rapportage per vraag'!$C$12,'Data leveranciersbeoordeling'!$1:$1,0)),Leveranciersbeoordeling!$H$1:$I$5,2,FALSE),0)","v":0},0]
["",null,null,null,null,null,null,null,null,null,null,null,null,null,null,{"$f":"INDEX($A:$O,ROW(),MATCH('Rapportage per vraag'!$C$12,'Data leveranciersbeoordeling'!$1:$1,0))","v":0},{"$f":"IFERROR(VLOOKUP(INDEX($A:$O,ROW(),MATCH('Rapportage per vraag'!$C$12,'Data leveranciersbeoordeling'!$1:$1,0)),Leveranciersbeoordeling!$H$1:$I$5,2,FALSE),0)","v":0},0]
["",null,null,null,null,null,null,null,null,null,null,null,null,null,null,{"$f":"INDEX($A:$O,ROW(),MATCH('Rapportage per vraag'!$C$12,'Data leveranciersbeoordeling'!$1:$1,0))","v":0},{"$f":"IFERROR(VLOOKUP(INDEX($A:$O,ROW(),MATCH('Rapportage per vraag'!$C$12,'Data leveranciersbeoordeling'!$1:$1,0)),Leveranciersbeoordeling!$H$1:$I$5,2,FALSE),0)","v":0},0]
["",null,null,null,null,null,null,null,null,null,null,null,null,null,null,{"$f":"INDEX($A:$O,ROW(),MATCH('Rapportage per vraag'!$C$12,'Data leveranciersbeoordeling'!$1:$1,0))","v":0},{"$f":"IFERROR(VLOOKUP(INDEX($A:$O,ROW(),MATCH('Rapportage per vraag'!$C$12,'Data leveranciersbeoordeling'!$1:$1,0)),Leveranciersbeoordeling!$H$1:$I$5,2,FALSE),0)","v":0},0]
["",null,null,null,null,null,null,null,null,null,null,null,null,null,null,{"$f":"INDEX($A:$O,ROW(),MATCH('Rapportage per vraag'!$C$12,'Data leveranciersbeoordeling'!$1:$1,0))","v":0},{"$f":"IFERROR(VLOOKUP(INDEX($A:$O,ROW(),MATCH('Rapportage per vraag'!$C$12,'Data leveranciersbeoordeling'!$1:$1,0)),Leveranciersbeoordeling!$H$1:$I$5,2,FALSE),0)","v":0},0]
["",null,null,null,null,null,null,null,null,null,null,null,null,null,null,{"$f":"INDEX($A:$O,ROW(),MATCH('Rapportage per vraag'!$C$12,'Data leveranciersbeoordeling'!$1:$1,0))","v":0},{"$f":"IFERROR(VLOOKUP(INDEX($A:$O,ROW(),MATCH('Rapportage per vraag'!$C$12,'Data leveranciersbeoordeling'!$1:$1,0)),Leveranciersbeoordeling!$H$1:$I$5,2,FALSE),0)","v":0},0]
["",null,null,null,null,null,null,null,null,null,null,null,null,null,null,{"$f":"INDEX($A:$O,ROW(),MATCH('Rapportage per vraag'!$C$12,'Data leveranciersbeoordeling'!$1:$1,0))","v":0},{"$f":"IFERROR(VLOOKUP(INDEX($A:$O,ROW(),MATCH('Rapportage per vraag'!$C$12,'Data leveranciersbeoordeling'!$1:$1,0)),Leveranciersbeoordeling!$H$1:$I$5,2,FALSE),0)","v":0},0]
["",null,null,null,null,null,null,null,null,null,null,null,null,null,null,{"$f":"INDEX($A:$O,ROW(),MATCH('Rapportage per vraag'!$C$12,'Data leveranciersbeoordeling'!$1:$1,0))","v":0},{"$f":"IFERROR(VLOOKUP(INDEX($A:$O,ROW(),MATCH('Rapportage per vraag'!$C$12,'Data leveranciersbeoordeling'!$1:$1,0)),Leveranciersbeoordeling!$H$1:$I$5,2,FALSE),0)","v":0},0]
["",null,null,null,null,null,null,null,null,null,null,null,null,null,null,{"$f":"INDEX($A:$O,ROW(),MATCH('Rapportage per vraag'!$C$12,'Data leveranciersbeoordeling'!$1:$1,0))","v":0},{"$f":"IFERROR(VLOOKUP(INDEX($A:$O,ROW(),MATCH('Rapportage per vraag'!$C$12,'Data leveranciersbeoordeling'!$1:$1,0)),Leveranciersbeoordeling!$H$1:$I$5,2,FALSE),0)","v":0},0]
["",null,null,null,null,null,null,null,null,null,null,null,null,null,null,{"$f":"INDEX($A:$O,ROW(),MATCH('Rapportage per vraag'!$C$12,'Data leveranciersbeoordeling'!$1:$1,0))","v":0},{"$f":"IFERROR(VLOOKUP(INDEX($A:$O,ROW(),MATCH('Rapportage per vraag'!$C$12,'Data leveranciersbeoordeling'!$1:$1,0)),Leveranciersbeoordeling!$H$1:$I$5,2,FALSE),0)","v":0},0]
["",null,null,null,null,null,null,null,null,null,null,null,null,null,null,{"$f":"INDEX($A:$O,ROW(),MATCH('Rapportage per vraag'!$C$12,'Data leveranciersbeoordeling'!$1:$1,0))","v":0},{"$f":"IFERROR(VLOOKUP(INDEX($A:$O,ROW(),MATCH('Rapportage per vraag'!$C$12,'Data leveranciersbeoordeling'!$1:$1,0)),Leveranciersbeoordeling!$H$1:$I$5,2,FALSE),0)","v":0},0]
["",null,null,null,null,null,null,null,null,null,null,null,null,null,null,{"$f":"INDEX($A:$O,ROW(),MATCH('Rapportage per vraag'!$C$12,'Data leveranciersbeoordeling'!$1:$1,0))","v":0},{"$f":"IFERROR(VLOOKUP(INDEX($A:$O,ROW(),MATCH('Rapportage per vraag'!$C$12,'Data leveranciersbeoordeling'!$1:$1,0)),Leveranciersbeoordeling!$H$1:$I$5,2,FALSE),0)","v":0},0]
["",null,null,null,null,null,null,null,null,null,null,null,null,null,null,{"$f":"INDEX($A:$O,ROW(),MATCH('Rapportage per vraag'!$C$12,'Data leveranciersbeoordeling'!$1:$1,0))","v":0},{"$f":"IFERROR(VLOOKUP(INDEX($A:$O,ROW(),MATCH('Rapportage per vraag'!$C$12,'Data leveranciersbeoordeling'!$1:$1,0)),Leveranciersbeoordeling!$H$1:$I$5,2,FALSE),0)","v":0},0]
["",null,null,null,null,null,null,null,null,null,null,null,null,null,null,{"$f":"INDEX($A:$O,ROW(),MATCH('Rapportage per vraag'!$C$12,'Data leveranciersbeoordeling'!$1:$1,0))","v":0},{"$f":"IFERROR(VLOOKUP(INDEX($A:$O,ROW(),MATCH('Rapportage per vraag'!$C$12,'Data leveranciersbeoordeling'!$1:$1,0)),Leveranciersbeoordeling!$H$1:$I$5,2,FALSE),0)","v":0},0]
["",null,null,null,null,null,null,null,null,null,null,null,null,null,null,{"$f":"INDEX($A:$O,ROW(),MATCH('Rapportage per vraag'!$C$12,'Data leveranciersbeoordeling'!$1:$1,0))","v":0},{"$f":"IFERROR(VLOOKUP(INDEX($A:$O,ROW(),MATCH('Rapportage per vraag'!$C$12,'Data leveranciersbeoordeling'!$1:$1,0)),Leveranciersbeoordeling!$H$1:$I$5,2,FALSE),0)","v":0},0]
["",null,null,null,null,null,null,null,null,null,null,null,null,null,null,{"$f":"INDEX($A:$O,ROW(),MATCH('Rapportage per vraag'!$C$12,'Data leveranciersbeoordeling'!$1:$1,0))","v":0},{"$f":"IFERROR(VLOOKUP(INDEX($A:$O,ROW(),MATCH('Rapportage per vraag'!$C$12,'Data leveranciersbeoordeling'!$1:$1,0)),Leveranciersbeoordeling!$H$1:$I$5,2,FALSE),0)","v":0},0]
["",null,null,null,null,null,null,null,null,null,null,null,null,null,null,{"$f":"INDEX($A:$O,ROW(),MATCH('Rapportage per vraag'!$C$12,'Data leveranciersbeoordeling'!$1:$1,0))","v":0},{"$f":"IFERROR(VLOOKUP(INDEX($A:$O,ROW(),MATCH('Rapportage per vraag'!$C$12,'Data leveranciersbeoordeling'!$1:$1,0)),Leveranciersbeoordeling!$H$1:$I$5,2,FALSE),0)","v":0},0]
["",null,null,null,null,null,null,null,null,null,null,null,null,null,null,{"$f":"INDEX($A:$O,ROW(),MATCH('Rapportage per vraag'!$C$12,'Data leveranciersbeoordeling'!$1:$1,0))","v":0},{"$f":"IFERROR(VLOOKUP(INDEX($A:$O,ROW(),MATCH('Rapportage per vraag'!$C$12,'Data leveranciersbeoordeling'!$1:$1,0)),Leveranciersbeoordeling!$H$1:$I$5,2,FALSE),0)","v":0},0]
["",null,null,null,null,null,null,null,null,null,null,null,null,null,null,{"$f":"INDEX($A:$O,ROW(),MATCH('Rapportage per vraag'!$C$12,'Data leveranciersbeoordeling'!$1:$1,0))","v":0},{"$f":"IFERROR(VLOOKUP(INDEX($A:$O,ROW(),MATCH('Rapportage per vraag'!$C$12,'Data leveranciersbeoordeling'!$1:$1,0)),Leveranciersbeoordeling!$H$1:$I$5,2,FALSE),0)","v":0},0]
["",null,null,null,null,null,null,null,null,null,null,null,null,null,null,{"$f":"INDEX($A:$O,ROW(),MATCH('Rapportage per vraag'!$C$12,'Data leveranciersbeoordeling'!$1:$1,0))","v":0},{"$f":"IFERROR(VLOOKUP(INDEX($A:$O,ROW(),MATCH('Rapportage per vraag'!$C$12,'Data leveranciersbeoordeling'!$1:$1,0)),Leveranciersbeoordeling!$H$1:$I$5,2,FALSE),0)","v":0},0]
[{"$f":"CONCATENATE(B451,C451,D451)","v":""},null,null,null,null,null,null,null,null,null,null,null,null,null,null,{"$f":"INDEX($A:$O,ROW(),MATCH('Rapportage per vraag'!$C$12,'Data leveranciersbeoordeling'!$1:$1,0))","v":0},{"$f":"IFERROR(VLOOKUP(INDEX($A:$O,ROW(),MATCH('Rapportage per vraag'!$C$12,'Data leveranciersbeoordeling'!$1:$1,0)),Leveranciersbeoordeling!$H$1:$I$5,2,FALSE),0)","v":0},0]
["",null,null,null,null,null,null,null,null,null,null,null,null,null,null,{"$f":"INDEX($A:$O,ROW(),MATCH('Rapportage per vraag'!$C$12,'Data leveranciersbeoordeling'!$1:$1,0))","v":0},{"$f":"IFERROR(VLOOKUP(INDEX($A:$O,ROW(),MATCH('Rapportage per vraag'!$C$12,'Data leveranciersbeoordeling'!$1:$1,0)),Leveranciersbeoordeling!$H$1:$I$5,2,FALSE),0)","v":0},0]
["",null,null,null,null,null,null,null,null,null,null,null,null,null,null,{"$f":"INDEX($A:$O,ROW(),MATCH('Rapportage per vraag'!$C$12,'Data leveranciersbeoordeling'!$1:$1,0))","v":0},{"$f":"IFERROR(VLOOKUP(INDEX($A:$O,ROW(),MATCH('Rapportage per vraag'!$C$12,'Data leveranciersbeoordeling'!$1:$1,0)),Leveranciersbeoordeling!$H$1:$I$5,2,FALSE),0)","v":0},0]
["",null,null,null,null,null,null,null,null,null,null,null,null,null,null,{"$f":"INDEX($A:$O,ROW(),MATCH('Rapportage per vraag'!$C$12,'Data leveranciersbeoordeling'!$1:$1,0))","v":0},{"$f":"IFERROR(VLOOKUP(INDEX($A:$O,ROW(),MATCH('Rapportage per vraag'!$C$12,'Data leveranciersbeoordeling'!$1:$1,0)),Leveranciersbeoordeling!$H$1:$I$5,2,FALSE),0)","v":0},{"$f":"IF(T(P454)=P454,Q454,P454)","v":0}]
["",null,null,null,null,null,null,null,null,null,null,null,null,null,null,{"$f":"INDEX($A:$O,ROW(),MATCH('Rapportage per vraag'!$C$12,'Data leveranciersbeoordeling'!$1:$1,0))","v":0},{"$f":"IFERROR(VLOOKUP(INDEX($A:$O,ROW(),MATCH('Rapportage per vraag'!$C$12,'Data leveranciersbeoordeling'!$1:$1,0)),Leveranciersbeoordeling!$H$1:$I$5,2,FALSE),0)","v":0},0]
["",null,null,null,null,null,null,null,null,null,null,null,null,null,null,{"$f":"INDEX($A:$O,ROW(),MATCH('Rapportage per vraag'!$C$12,'Data leveranciersbeoordeling'!$1:$1,0))","v":0},{"$f":"IFERROR(VLOOKUP(INDEX($A:$O,ROW(),MATCH('Rapportage per vraag'!$C$12,'Data leveranciersbeoordeling'!$1:$1,0)),Leveranciersbeoordeling!$H$1:$I$5,2,FALSE),0)","v":0},0]
["",null,null,null,null,null,null,null,null,null,null,null,null,null,null,{"$f":"INDEX($A:$O,ROW(),MATCH('Rapportage per vraag'!$C$12,'Data leveranciersbeoordeling'!$1:$1,0))","v":0},{"$f":"IFERROR(VLOOKUP(INDEX($A:$O,ROW(),MATCH('Rapportage per vraag'!$C$12,'Data leveranciersbeoordeling'!$1:$1,0)),Leveranciersbeoordeling!$H$1:$I$5,2,FALSE),0)","v":0},0]
["",null,null,null,null,null,null,null,null,null,null,null,null,null,null,{"$f":"INDEX($A:$O,ROW(),MATCH('Rapportage per vraag'!$C$12,'Data leveranciersbeoordeling'!$1:$1,0))","v":0},{"$f":"IFERROR(VLOOKUP(INDEX($A:$O,ROW(),MATCH('Rapportage per vraag'!$C$12,'Data leveranciersbeoordeling'!$1:$1,0)),Leveranciersbeoordeling!$H$1:$I$5,2,FALSE),0)","v":0},0]
["",null,null,null,null,null,null,null,null,null,null,null,null,null,null,{"$f":"INDEX($A:$O,ROW(),MATCH('Rapportage per vraag'!$C$12,'Data leveranciersbeoordeling'!$1:$1,0))","v":0},{"$f":"IFERROR(VLOOKUP(INDEX($A:$O,ROW(),MATCH('Rapportage per vraag'!$C$12,'Data leveranciersbeoordeling'!$1:$1,0)),Leveranciersbeoordeling!$H$1:$I$5,2,FALSE),0)","v":0},0]
["",null,null,null,null,null,null,null,null,null,null,null,null,null,null,{"$f":"INDEX($A:$O,ROW(),MATCH('Rapportage per vraag'!$C$12,'Data leveranciersbeoordeling'!$1:$1,0))","v":0},{"$f":"IFERROR(VLOOKUP(INDEX($A:$O,ROW(),MATCH('Rapportage per vraag'!$C$12,'Data leveranciersbeoordeling'!$1:$1,0)),Leveranciersbeoordeling!$H$1:$I$5,2,FALSE),0)","v":0},0]
["",null,null,null,null,null,null,null,null,null,null,null,null,null,null,{"$f":"INDEX($A:$O,ROW(),MATCH('Rapportage per vraag'!$C$12,'Data leveranciersbeoordeling'!$1:$1,0))","v":0},{"$f":"IFERROR(VLOOKUP(INDEX($A:$O,ROW(),MATCH('Rapportage per vraag'!$C$12,'Data leveranciersbeoordeling'!$1:$1,0)),Leveranciersbeoordeling!$H$1:$I$5,2,FALSE),0)","v":0},0]
["",null,null,null,null,null,null,null,null,null,null,null,null,null,null,{"$f":"INDEX($A:$O,ROW(),MATCH('Rapportage per vraag'!$C$12,'Data leveranciersbeoordeling'!$1:$1,0))","v":0},{"$f":"IFERROR(VLOOKUP(INDEX($A:$O,ROW(),MATCH('Rapportage per vraag'!$C$12,'Data leveranciersbeoordeling'!$1:$1,0)),Leveranciersbeoordeling!$H$1:$I$5,2,FALSE),0)","v":0},0]
["",null,null,null,null,null,null,null,null,null,null,null,null,null,null,{"$f":"INDEX($A:$O,ROW(),MATCH('Rapportage per vraag'!$C$12,'Data leveranciersbeoordeling'!$1:$1,0))","v":0},{"$f":"IFERROR(VLOOKUP(INDEX($A:$O,ROW(),MATCH('Rapportage per vraag'!$C$12,'Data leveranciersbeoordeling'!$1:$1,0)),Leveranciersbeoordeling!$H$1:$I$5,2,FALSE),0)","v":0},0]
["",null,null,null,null,null,null,null,null,null,null,null,null,null,null,{"$f":"INDEX($A:$O,ROW(),MATCH('Rapportage per vraag'!$C$12,'Data leveranciersbeoordeling'!$1:$1,0))","v":0},{"$f":"IFERROR(VLOOKUP(INDEX($A:$O,ROW(),MATCH('Rapportage per vraag'!$C$12,'Data leveranciersbeoordeling'!$1:$1,0)),Leveranciersbeoordeling!$H$1:$I$5,2,FALSE),0)","v":0},0]
["",null,null,null,null,null,null,null,null,null,null,null,null,null,null,{"$f":"INDEX($A:$O,ROW(),MATCH('Rapportage per vraag'!$C$12,'Data leveranciersbeoordeling'!$1:$1,0))","v":0},{"$f":"IFERROR(VLOOKUP(INDEX($A:$O,ROW(),MATCH('Rapportage per vraag'!$C$12,'Data leveranciersbeoordeling'!$1:$1,0)),Leveranciersbeoordeling!$H$1:$I$5,2,FALSE),0)","v":0},0]
["",null,null,null,null,null,null,null,null,null,null,null,null,null,null,{"$f":"INDEX($A:$O,ROW(),MATCH('Rapportage per vraag'!$C$12,'Data leveranciersbeoordeling'!$1:$1,0))","v":0},{"$f":"IFERROR(VLOOKUP(INDEX($A:$O,ROW(),MATCH('Rapportage per vraag'!$C$12,'Data leveranciersbeoordeling'!$1:$1,0)),Leveranciersbeoordeling!$H$1:$I$5,2,FALSE),0)","v":0},0]
["",null,null,null,null,null,null,null,null,null,null,null,null,null,null,{"$f":"INDEX($A:$O,ROW(),MATCH('Rapportage per vraag'!$C$12,'Data leveranciersbeoordeling'!$1:$1,0))","v":0},{"$f":"IFERROR(VLOOKUP(INDEX($A:$O,ROW(),MATCH('Rapportage per vraag'!$C$12,'Data leveranciersbeoordeling'!$1:$1,0)),Leveranciersbeoordeling!$H$1:$I$5,2,FALSE),0)","v":0},0]
["",null,null,null,null,null,null,null,null,null,null,null,null,null,null,{"$f":"INDEX($A:$O,ROW(),MATCH('Rapportage per vraag'!$C$12,'Data leveranciersbeoordeling'!$1:$1,0))","v":0},{"$f":"IFERROR(VLOOKUP(INDEX($A:$O,ROW(),MATCH('Rapportage per vraag'!$C$12,'Data leveranciersbeoordeling'!$1:$1,0)),Leveranciersbeoordeling!$H$1:$I$5,2,FALSE),0)","v":0},0]
["",null,null,null,null,null,null,null,null,null,null,null,null,null,null,{"$f":"INDEX($A:$O,ROW(),MATCH('Rapportage per vraag'!$C$12,'Data leveranciersbeoordeling'!$1:$1,0))","v":0},{"$f":"IFERROR(VLOOKUP(INDEX($A:$O,ROW(),MATCH('Rapportage per vraag'!$C$12,'Data leveranciersbeoordeling'!$1:$1,0)),Leveranciersbeoordeling!$H$1:$I$5,2,FALSE),0)","v":0},0]
["",null,null,null,null,null,null,null,null,null,null,null,null,null,null,{"$f":"INDEX($A:$O,ROW(),MATCH('Rapportage per vraag'!$C$12,'Data leveranciersbeoordeling'!$1:$1,0))","v":0},{"$f":"IFERROR(VLOOKUP(INDEX($A:$O,ROW(),MATCH('Rapportage per vraag'!$C$12,'Data leveranciersbeoordeling'!$1:$1,0)),Leveranciersbeoordeling!$H$1:$I$5,2,FALSE),0)","v":0},0]
["",null,null,null,null,null,null,null,null,null,null,null,null,null,null,{"$f":"INDEX($A:$O,ROW(),MATCH('Rapportage per vraag'!$C$12,'Data leveranciersbeoordeling'!$1:$1,0))","v":0},{"$f":"IFERROR(VLOOKUP(INDEX($A:$O,ROW(),MATCH('Rapportage per vraag'!$C$12,'Data leveranciersbeoordeling'!$1:$1,0)),Leveranciersbeoordeling!$H$1:$I$5,2,FALSE),0)","v":0},0]
["",null,null,null,null,null,null,null,null,null,null,null,null,null,null,{"$f":"INDEX($A:$O,ROW(),MATCH('Rapportage per vraag'!$C$12,'Data leveranciersbeoordeling'!$1:$1,0))","v":0},{"$f":"IFERROR(VLOOKUP(INDEX($A:$O,ROW(),MATCH('Rapportage per vraag'!$C$12,'Data leveranciersbeoordeling'!$1:$1,0)),Leveranciersbeoordeling!$H$1:$I$5,2,FALSE),0)","v":0},0]
["",null,null,null,null,null,null,null,null,null,null,null,null,null,null,{"$f":"INDEX($A:$O,ROW(),MATCH('Rapportage per vraag'!$C$12,'Data leveranciersbeoordeling'!$1:$1,0))","v":0},{"$f":"IFERROR(VLOOKUP(INDEX($A:$O,ROW(),MATCH('Rapportage per vraag'!$C$12,'Data leveranciersbeoordeling'!$1:$1,0)),Leveranciersbeoordeling!$H$1:$I$5,2,FALSE),0)","v":0},0]
["",null,null,null,null,null,null,null,null,null,null,null,null,null,null,{"$f":"INDEX($A:$O,ROW(),MATCH('Rapportage per vraag'!$C$12,'Data leveranciersbeoordeling'!$1:$1,0))","v":0},{"$f":"IFERROR(VLOOKUP(INDEX($A:$O,ROW(),MATCH('Rapportage per vraag'!$C$12,'Data leveranciersbeoordeling'!$1:$1,0)),Leveranciersbeoordeling!$H$1:$I$5,2,FALSE),0)","v":0},0]
["",null,null,null,null,null,null,null,null,null,null,null,null,null,null,{"$f":"INDEX($A:$O,ROW(),MATCH('Rapportage per vraag'!$C$12,'Data leveranciersbeoordeling'!$1:$1,0))","v":0},{"$f":"IFERROR(VLOOKUP(INDEX($A:$O,ROW(),MATCH('Rapportage per vraag'!$C$12,'Data leveranciersbeoordeling'!$1:$1,0)),Leveranciersbeoordeling!$H$1:$I$5,2,FALSE),0)","v":0},0]
["",null,null,null,null,null,null,null,null,null,null,null,null,null,null,{"$f":"INDEX($A:$O,ROW(),MATCH('Rapportage per vraag'!$C$12,'Data leveranciersbeoordeling'!$1:$1,0))","v":0},{"$f":"IFERROR(VLOOKUP(INDEX($A:$O,ROW(),MATCH('Rapportage per vraag'!$C$12,'Data leveranciersbeoordeling'!$1:$1,0)),Leveranciersbeoordeling!$H$1:$I$5,2,FALSE),0)","v":0},0]
["",null,null,null,null,null,null,null,null,null,null,null,null,null,null,{"$f":"INDEX($A:$O,ROW(),MATCH('Rapportage per vraag'!$C$12,'Data leveranciersbeoordeling'!$1:$1,0))","v":0},{"$f":"IFERROR(VLOOKUP(INDEX($A:$O,ROW(),MATCH('Rapportage per vraag'!$C$12,'Data leveranciersbeoordeling'!$1:$1,0)),Leveranciersbeoordeling!$H$1:$I$5,2,FALSE),0)","v":0},0]
["",null,null,null,null,null,null,null,null,null,null,null,null,null,null,{"$f":"INDEX($A:$O,ROW(),MATCH('Rapportage per vraag'!$C$12,'Data leveranciersbeoordeling'!$1:$1,0))","v":0},{"$f":"IFERROR(VLOOKUP(INDEX($A:$O,ROW(),MATCH('Rapportage per vraag'!$C$12,'Data leveranciersbeoordeling'!$1:$1,0)),Leveranciersbeoordeling!$H$1:$I$5,2,FALSE),0)","v":0},0]
["",null,null,null,null,null,null,null,null,null,null,null,null,null,null,{"$f":"INDEX($A:$O,ROW(),MATCH('Rapportage per vraag'!$C$12,'Data leveranciersbeoordeling'!$1:$1,0))","v":0},{"$f":"IFERROR(VLOOKUP(INDEX($A:$O,ROW(),MATCH('Rapportage per vraag'!$C$12,'Data leveranciersbeoordeling'!$1:$1,0)),Leveranciersbeoordeling!$H$1:$I$5,2,FALSE),0)","v":0},0]
["",null,null,null,null,null,null,null,null,null,null,null,null,null,null,{"$f":"INDEX($A:$O,ROW(),MATCH('Rapportage per vraag'!$C$12,'Data leveranciersbeoordeling'!$1:$1,0))","v":0},{"$f":"IFERROR(VLOOKUP(INDEX($A:$O,ROW(),MATCH('Rapportage per vraag'!$C$12,'Data leveranciersbeoordeling'!$1:$1,0)),Leveranciersbeoordeling!$H$1:$I$5,2,FALSE),0)","v":0},0]
["",null,null,null,null,null,null,null,null,null,null,null,null,null,null,{"$f":"INDEX($A:$O,ROW(),MATCH('Rapportage per vraag'!$C$12,'Data leveranciersbeoordeling'!$1:$1,0))","v":0},{"$f":"IFERROR(VLOOKUP(INDEX($A:$O,ROW(),MATCH('Rapportage per vraag'!$C$12,'Data leveranciersbeoordeling'!$1:$1,0)),Leveranciersbeoordeling!$H$1:$I$5,2,FALSE),0)","v":0},0]
["",null,null,null,null,null,null,null,null,null,null,null,null,null,null,{"$f":"INDEX($A:$O,ROW(),MATCH('Rapportage per vraag'!$C$12,'Data leveranciersbeoordeling'!$1:$1,0))","v":0},{"$f":"IFERROR(VLOOKUP(INDEX($A:$O,ROW(),MATCH('Rapportage per vraag'!$C$12,'Data leveranciersbeoordeling'!$1:$1,0)),Leveranciersbeoordeling!$H$1:$I$5,2,FALSE),0)","v":0},0]
["",null,null,null,null,null,null,null,null,null,null,null,null,null,null,{"$f":"INDEX($A:$O,ROW(),MATCH('Rapportage per vraag'!$C$12,'Data leveranciersbeoordeling'!$1:$1,0))","v":0},{"$f":"IFERROR(VLOOKUP(INDEX($A:$O,ROW(),MATCH('Rapportage per vraag'!$C$12,'Data leveranciersbeoordeling'!$1:$1,0)),Leveranciersbeoordeling!$H$1:$I$5,2,FALSE),0)","v":0},0]
["",null,null,null,null,null,null,null,null,null,null,null,null,null,null,{"$f":"INDEX($A:$O,ROW(),MATCH('Rapportage per vraag'!$C$12,'Data leveranciersbeoordeling'!$1:$1,0))","v":0},{"$f":"IFERROR(VLOOKUP(INDEX($A:$O,ROW(),MATCH('Rapportage per vraag'!$C$12,'Data leveranciersbeoordeling'!$1:$1,0)),Leveranciersbeoordeling!$H$1:$I$5,2,FALSE),0)","v":0},0]
["",null,null,null,null,null,null,null,null,null,null,null,null,null,null,{"$f":"INDEX($A:$O,ROW(),MATCH('Rapportage per vraag'!$C$12,'Data leveranciersbeoordeling'!$1:$1,0))","v":0},{"$f":"IFERROR(VLOOKUP(INDEX($A:$O,ROW(),MATCH('Rapportage per vraag'!$C$12,'Data leveranciersbeoordeling'!$1:$1,0)),Leveranciersbeoordeling!$H$1:$I$5,2,FALSE),0)","v":0},0]
["",null,null,null,null,null,null,null,null,null,null,null,null,null,null,{"$f":"INDEX($A:$O,ROW(),MATCH('Rapportage per vraag'!$C$12,'Data leveranciersbeoordeling'!$1:$1,0))","v":0},{"$f":"IFERROR(VLOOKUP(INDEX($A:$O,ROW(),MATCH('Rapportage per vraag'!$C$12,'Data leveranciersbeoordeling'!$1:$1,0)),Leveranciersbeoordeling!$H$1:$I$5,2,FALSE),0)","v":0},0]
["",null,null,null,null,null,null,null,null,null,null,null,null,null,null,{"$f":"INDEX($A:$O,ROW(),MATCH('Rapportage per vraag'!$C$12,'Data leveranciersbeoordeling'!$1:$1,0))","v":0},{"$f":"IFERROR(VLOOKUP(INDEX($A:$O,ROW(),MATCH('Rapportage per vraag'!$C$12,'Data leveranciersbeoordeling'!$1:$1,0)),Leveranciersbeoordeling!$H$1:$I$5,2,FALSE),0)","v":0},0]
["",null,null,null,null,null,null,null,null,null,null,null,null,null,null,{"$f":"INDEX($A:$O,ROW(),MATCH('Rapportage per vraag'!$C$12,'Data leveranciersbeoordeling'!$1:$1,0))","v":0},{"$f":"IFERROR(VLOOKUP(INDEX($A:$O,ROW(),MATCH('Rapportage per vraag'!$C$12,'Data leveranciersbeoordeling'!$1:$1,0)),Leveranciersbeoordeling!$H$1:$I$5,2,FALSE),0)","v":0},0]
["",null,null,null,null,null,null,null,null,null,null,null,null,null,null,{"$f":"INDEX($A:$O,ROW(),MATCH('Rapportage per vraag'!$C$12,'Data leveranciersbeoordeling'!$1:$1,0))","v":0},{"$f":"IFERROR(VLOOKUP(INDEX($A:$O,ROW(),MATCH('Rapportage per vraag'!$C$12,'Data leveranciersbeoordeling'!$1:$1,0)),Leveranciersbeoordeling!$H$1:$I$5,2,FALSE),0)","v":0},0]
["",null,null,null,null,null,null,null,null,null,null,null,null,null,null,{"$f":"INDEX($A:$O,ROW(),MATCH('Rapportage per vraag'!$C$12,'Data leveranciersbeoordeling'!$1:$1,0))","v":0},{"$f":"IFERROR(VLOOKUP(INDEX($A:$O,ROW(),MATCH('Rapportage per vraag'!$C$12,'Data leveranciersbeoordeling'!$1:$1,0)),Leveranciersbeoordeling!$H$1:$I$5,2,FALSE),0)","v":0},0]
["",null,null,null,null,null,null,null,null,null,null,null,null,null,null,{"$f":"INDEX($A:$O,ROW(),MATCH('Rapportage per vraag'!$C$12,'Data leveranciersbeoordeling'!$1:$1,0))","v":0},{"$f":"IFERROR(VLOOKUP(INDEX($A:$O,ROW(),MATCH('Rapportage per vraag'!$C$12,'Data leveranciersbeoordeling'!$1:$1,0)),Leveranciersbeoordeling!$H$1:$I$5,2,FALSE),0)","v":0},0]
["",null,null,null,null,null,null,null,null,null,null,null,null,null,null,{"$f":"INDEX($A:$O,ROW(),MATCH('Rapportage per vraag'!$C$12,'Data leveranciersbeoordeling'!$1:$1,0))","v":0},{"$f":"IFERROR(VLOOKUP(INDEX($A:$O,ROW(),MATCH('Rapportage per vraag'!$C$12,'Data leveranciersbeoordeling'!$1:$1,0)),Leveranciersbeoordeling!$H$1:$I$5,2,FALSE),0)","v":0},0]
["",null,null,null,null,null,null,null,null,null,null,null,null,null,null,{"$f":"INDEX($A:$O,ROW(),MATCH('Rapportage per vraag'!$C$12,'Data leveranciersbeoordeling'!$1:$1,0))","v":0},{"$f":"IFERROR(VLOOKUP(INDEX($A:$O,ROW(),MATCH('Rapportage per vraag'!$C$12,'Data leveranciersbeoordeling'!$1:$1,0)),Leveranciersbeoordeling!$H$1:$I$5,2,FALSE),0)","v":0},0]
["",null,null,null,null,null,null,null,null,null,null,null,null,null,null,{"$f":"INDEX($A:$O,ROW(),MATCH('Rapportage per vraag'!$C$12,'Data leveranciersbeoordeling'!$1:$1,0))","v":0},{"$f":"IFERROR(VLOOKUP(INDEX($A:$O,ROW(),MATCH('Rapportage per vraag'!$C$12,'Data leveranciersbeoordeling'!$1:$1,0)),Leveranciersbeoordeling!$H$1:$I$5,2,FALSE),0)","v":0},0]
["",null,null,null,null,null,null,null,null,null,null,null,null,null,null,{"$f":"INDEX($A:$O,ROW(),MATCH('Rapportage per vraag'!$C$12,'Data leveranciersbeoordeling'!$1:$1,0))","v":0},{"$f":"IFERROR(VLOOKUP(INDEX($A:$O,ROW(),MATCH('Rapportage per vraag'!$C$12,'Data leveranciersbeoordeling'!$1:$1,0)),Leveranciersbeoordeling!$H$1:$I$5,2,FALSE),0)","v":0},0]
["",null,null,null,null,null,null,null,null,null,null,null,null,null,null,{"$f":"INDEX($A:$O,ROW(),MATCH('Rapportage per vraag'!$C$12,'Data leveranciersbeoordeling'!$1:$1,0))","v":0},{"$f":"IFERROR(VLOOKUP(INDEX($A:$O,ROW(),MATCH('Rapportage per vraag'!$C$12,'Data leveranciersbeoordeling'!$1:$1,0)),Leveranciersbeoordeling!$H$1:$I$5,2,FALSE),0)","v":0},0]
["",null,null,null,null,null,null,null,null,null,null,null,null,null,null,{"$f":"INDEX($A:$O,ROW(),MATCH('Rapportage per vraag'!$C$12,'Data leveranciersbeoordeling'!$1:$1,0))","v":0},{"$f":"IFERROR(VLOOKUP(INDEX($A:$O,ROW(),MATCH('Rapportage per vraag'!$C$12,'Data leveranciersbeoordeling'!$1:$1,0)),Leveranciersbeoordeling!$H$1:$I$5,2,FALSE),0)","v":0},0]
["",null,null,null,null,null,null,null,null,null,null,null,null,null,null,{"$f":"INDEX($A:$O,ROW(),MATCH('Rapportage per vraag'!$C$12,'Data leveranciersbeoordeling'!$1:$1,0))","v":0},{"$f":"IFERROR(VLOOKUP(INDEX($A:$O,ROW(),MATCH('Rapportage per vraag'!$C$12,'Data leveranciersbeoordeling'!$1:$1,0)),Leveranciersbeoordeling!$H$1:$I$5,2,FALSE),0)","v":0},0]
["",null,null,null,null,null,null,null,null,null,null,null,null,null,null,{"$f":"INDEX($A:$O,ROW(),MATCH('Rapportage per vraag'!$C$12,'Data leveranciersbeoordeling'!$1:$1,0))","v":0},{"$f":"IFERROR(VLOOKUP(INDEX($A:$O,ROW(),MATCH('Rapportage per vraag'!$C$12,'Data leveranciersbeoordeling'!$1:$1,0)),Leveranciersbeoordeling!$H$1:$I$5,2,FALSE),0)","v":0},0]
["",null,null,null,null,null,null,null,null,null,null,null,null,null,null,{"$f":"INDEX($A:$O,ROW(),MATCH('Rapportage per vraag'!$C$12,'Data leveranciersbeoordeling'!$1:$1,0))","v":0},{"$f":"IFERROR(VLOOKUP(INDEX($A:$O,ROW(),MATCH('Rapportage per vraag'!$C$12,'Data leveranciersbeoordeling'!$1:$1,0)),Leveranciersbeoordeling!$H$1:$I$5,2,FALSE),0)","v":0},0]
["",null,null,null,null,null,null,null,null,null,null,null,null,null,null,{"$f":"INDEX($A:$O,ROW(),MATCH('Rapportage per vraag'!$C$12,'Data leveranciersbeoordeling'!$1:$1,0))","v":0},{"$f":"IFERROR(VLOOKUP(INDEX($A:$O,ROW(),MATCH('Rapportage per vraag'!$C$12,'Data leveranciersbeoordeling'!$1:$1,0)),Leveranciersbeoordeling!$H$1:$I$5,2,FALSE),0)","v":0},0]
["",null,null,null,null,null,null,null,null,null,null,null,null,null,null,{"$f":"INDEX($A:$O,ROW(),MATCH('Rapportage per vraag'!$C$12,'Data leveranciersbeoordeling'!$1:$1,0))","v":0},{"$f":"IFERROR(VLOOKUP(INDEX($A:$O,ROW(),MATCH('Rapportage per vraag'!$C$12,'Data leveranciersbeoordeling'!$1:$1,0)),Leveranciersbeoordeling!$H$1:$I$5,2,FALSE),0)","v":0},0]
["",null,null,null,null,null,null,null,null,null,null,null,null,null,null,{"$f":"INDEX($A:$O,ROW(),MATCH('Rapportage per vraag'!$C$12,'Data leveranciersbeoordeling'!$1:$1,0))","v":0},{"$f":"IFERROR(VLOOKUP(INDEX($A:$O,ROW(),MATCH('Rapportage per vraag'!$C$12,'Data leveranciersbeoordeling'!$1:$1,0)),Leveranciersbeoordeling!$H$1:$I$5,2,FALSE),0)","v":0},0]
["",null,null,null,null,null,null,null,null,null,null,null,null,null,null,{"$f":"INDEX($A:$O,ROW(),MATCH('Rapportage per vraag'!$C$12,'Data leveranciersbeoordeling'!$1:$1,0))","v":0},{"$f":"IFERROR(VLOOKUP(INDEX($A:$O,ROW(),MATCH('Rapportage per vraag'!$C$12,'Data leveranciersbeoordeling'!$1:$1,0)),Leveranciersbeoordeling!$H$1:$I$5,2,FALSE),0)","v":0},0]
["",null,null,null,null,null,null,null,null,null,null,null,null,null,null,{"$f":"INDEX($A:$O,ROW(),MATCH('Rapportage per vraag'!$C$12,'Data leveranciersbeoordeling'!$1:$1,0))","v":0},{"$f":"IFERROR(VLOOKUP(INDEX($A:$O,ROW(),MATCH('Rapportage per vraag'!$C$12,'Data leveranciersbeoordeling'!$1:$1,0)),Leveranciersbeoordeling!$H$1:$I$5,2,FALSE),0)","v":0},0]
["",null,null,null,null,null,null,null,null,null,null,null,null,null,null,{"$f":"INDEX($A:$O,ROW(),MATCH('Rapportage per vraag'!$C$12,'Data leveranciersbeoordeling'!$1:$1,0))","v":0},{"$f":"IFERROR(VLOOKUP(INDEX($A:$O,ROW(),MATCH('Rapportage per vraag'!$C$12,'Data leveranciersbeoordeling'!$1:$1,0)),Leveranciersbeoordeling!$H$1:$I$5,2,FALSE),0)","v":0},0]
["",null,null,null,null,null,null,null,null,null,null,null,null,null,null,{"$f":"INDEX($A:$O,ROW(),MATCH('Rapportage per vraag'!$C$12,'Data leveranciersbeoordeling'!$1:$1,0))","v":0},{"$f":"IFERROR(VLOOKUP(INDEX($A:$O,ROW(),MATCH('Rapportage per vraag'!$C$12,'Data leveranciersbeoordeling'!$1:$1,0)),Leveranciersbeoordeling!$H$1:$I$5,2,FALSE),0)","v":0},0]
["",null,null,null,null,null,null,null,null,null,null,null,null,null,null,{"$f":"INDEX($A:$O,ROW(),MATCH('Rapportage per vraag'!$C$12,'Data leveranciersbeoordeling'!$1:$1,0))","v":0},{"$f":"IFERROR(VLOOKUP(INDEX($A:$O,ROW(),MATCH('Rapportage per vraag'!$C$12,'Data leveranciersbeoordeling'!$1:$1,0)),Leveranciersbeoordeling!$H$1:$I$5,2,FALSE),0)","v":0},0]
["",null,null,null,null,null,null,null,null,null,null,null,null,null,null,{"$f":"INDEX($A:$O,ROW(),MATCH('Rapportage per vraag'!$C$12,'Data leveranciersbeoordeling'!$1:$1,0))","v":0},{"$f":"IFERROR(VLOOKUP(INDEX($A:$O,ROW(),MATCH('Rapportage per vraag'!$C$12,'Data leveranciersbeoordeling'!$1:$1,0)),Leveranciersbeoordeling!$H$1:$I$5,2,FALSE),0)","v":0},0]
["",null,null,null,null,null,null,null,null,null,null,null,null,null,null,{"$f":"INDEX($A:$O,ROW(),MATCH('Rapportage per vraag'!$C$12,'Data leveranciersbeoordeling'!$1:$1,0))","v":0},{"$f":"IFERROR(VLOOKUP(INDEX($A:$O,ROW(),MATCH('Rapportage per vraag'!$C$12,'Data leveranciersbeoordeling'!$1:$1,0)),Leveranciersbeoordeling!$H$1:$I$5,2,FALSE),0)","v":0},0]
["",null,null,null,null,null,null,null,null,null,null,null,null,null,null,{"$f":"INDEX($A:$O,ROW(),MATCH('Rapportage per vraag'!$C$12,'Data leveranciersbeoordeling'!$1:$1,0))","v":0},{"$f":"IFERROR(VLOOKUP(INDEX($A:$O,ROW(),MATCH('Rapportage per vraag'!$C$12,'Data leveranciersbeoordeling'!$1:$1,0)),Leveranciersbeoordeling!$H$1:$I$5,2,FALSE),0)","v":0},0]
["",null,null,null,null,null,null,null,null,null,null,null,null,null,null,{"$f":"INDEX($A:$O,ROW(),MATCH('Rapportage per vraag'!$C$12,'Data leveranciersbeoordeling'!$1:$1,0))","v":0},{"$f":"IFERROR(VLOOKUP(INDEX($A:$O,ROW(),MATCH('Rapportage per vraag'!$C$12,'Data leveranciersbeoordeling'!$1:$1,0)),Leveranciersbeoordeling!$H$1:$I$5,2,FALSE),0)","v":0},0]
["",null,null,null,null,null,null,null,null,null,null,null,null,null,null,{"$f":"INDEX($A:$O,ROW(),MATCH('Rapportage per vraag'!$C$12,'Data leveranciersbeoordeling'!$1:$1,0))","v":0},{"$f":"IFERROR(VLOOKUP(INDEX($A:$O,ROW(),MATCH('Rapportage per vraag'!$C$12,'Data leveranciersbeoordeling'!$1:$1,0)),Leveranciersbeoordeling!$H$1:$I$5,2,FALSE),0)","v":0},0]
["",null,null,null,null,null,null,null,null,null,null,null,null,null,null,{"$f":"INDEX($A:$O,ROW(),MATCH('Rapportage per vraag'!$C$12,'Data leveranciersbeoordeling'!$1:$1,0))","v":0},{"$f":"IFERROR(VLOOKUP(INDEX($A:$O,ROW(),MATCH('Rapportage per vraag'!$C$12,'Data leveranciersbeoordeling'!$1:$1,0)),Leveranciersbeoordeling!$H$1:$I$5,2,FALSE),0)","v":0},0]
[{"$f":"CONCATENATE(B515,C515,D515)","v":""},null,null,null,null,null,null,null,null,null,null,null,null,null,null,{"$f":"INDEX($A:$O,ROW(),MATCH('Rapportage per vraag'!$C$12,'Data leveranciersbeoordeling'!$1:$1,0))","v":0},{"$f":"IFERROR(VLOOKUP(INDEX($A:$O,ROW(),MATCH('Rapportage per vraag'!$C$12,'Data leveranciersbeoordeling'!$1:$1,0)),Leveranciersbeoordeling!$H$1:$I$5,2,FALSE),0)","v":0},0]
["",null,null,null,null,null,null,null,null,null,null,null,null,null,null,{"$f":"INDEX($A:$O,ROW(),MATCH('Rapportage per vraag'!$C$12,'Data leveranciersbeoordeling'!$1:$1,0))","v":0},{"$f":"IFERROR(VLOOKUP(INDEX($A:$O,ROW(),MATCH('Rapportage per vraag'!$C$12,'Data leveranciersbeoordeling'!$1:$1,0)),Leveranciersbeoordeling!$H$1:$I$5,2,FALSE),0)","v":0},0]
["",null,null,null,null,null,null,null,null,null,null,null,null,null,null,{"$f":"INDEX($A:$O,ROW(),MATCH('Rapportage per vraag'!$C$12,'Data leveranciersbeoordeling'!$1:$1,0))","v":0},{"$f":"IFERROR(VLOOKUP(INDEX($A:$O,ROW(),MATCH('Rapportage per vraag'!$C$12,'Data leveranciersbeoordeling'!$1:$1,0)),Leveranciersbeoordeling!$H$1:$I$5,2,FALSE),0)","v":0},0]
["",null,null,null,null,null,null,null,null,null,null,null,null,null,null,{"$f":"INDEX($A:$O,ROW(),MATCH('Rapportage per vraag'!$C$12,'Data leveranciersbeoordeling'!$1:$1,0))","v":0},{"$f":"IFERROR(VLOOKUP(INDEX($A:$O,ROW(),MATCH('Rapportage per vraag'!$C$12,'Data leveranciersbeoordeling'!$1:$1,0)),Leveranciersbeoordeling!$H$1:$I$5,2,FALSE),0)","v":0},{"$f":"IF(T(P518)=P518,Q518,P518)","v":0}]
["",null,null,null,null,null,null,null,null,null,null,null,null,null,null,{"$f":"INDEX($A:$O,ROW(),MATCH('Rapportage per vraag'!$C$12,'Data leveranciersbeoordeling'!$1:$1,0))","v":0},{"$f":"IFERROR(VLOOKUP(INDEX($A:$O,ROW(),MATCH('Rapportage per vraag'!$C$12,'Data leveranciersbeoordeling'!$1:$1,0)),Leveranciersbeoordeling!$H$1:$I$5,2,FALSE),0)","v":0},0]
["",null,null,null,null,null,null,null,null,null,null,null,null,null,null,{"$f":"INDEX($A:$O,ROW(),MATCH('Rapportage per vraag'!$C$12,'Data leveranciersbeoordeling'!$1:$1,0))","v":0},{"$f":"IFERROR(VLOOKUP(INDEX($A:$O,ROW(),MATCH('Rapportage per vraag'!$C$12,'Data leveranciersbeoordeling'!$1:$1,0)),Leveranciersbeoordeling!$H$1:$I$5,2,FALSE),0)","v":0},0]
["",null,null,null,null,null,null,null,null,null,null,null,null,null,null,{"$f":"INDEX($A:$O,ROW(),MATCH('Rapportage per vraag'!$C$12,'Data leveranciersbeoordeling'!$1:$1,0))","v":0},{"$f":"IFERROR(VLOOKUP(INDEX($A:$O,ROW(),MATCH('Rapportage per vraag'!$C$12,'Data leveranciersbeoordeling'!$1:$1,0)),Leveranciersbeoordeling!$H$1:$I$5,2,FALSE),0)","v":0},0]
["",null,null,null,null,null,null,null,null,null,null,null,null,null,null,{"$f":"INDEX($A:$O,ROW(),MATCH('Rapportage per vraag'!$C$12,'Data leveranciersbeoordeling'!$1:$1,0))","v":0},{"$f":"IFERROR(VLOOKUP(INDEX($A:$O,ROW(),MATCH('Rapportage per vraag'!$C$12,'Data leveranciersbeoordeling'!$1:$1,0)),Leveranciersbeoordeling!$H$1:$I$5,2,FALSE),0)","v":0},0]
["",null,null,null,null,null,null,null,null,null,null,null,null,null,null,{"$f":"INDEX($A:$O,ROW(),MATCH('Rapportage per vraag'!$C$12,'Data leveranciersbeoordeling'!$1:$1,0))","v":0},{"$f":"IFERROR(VLOOKUP(INDEX($A:$O,ROW(),MATCH('Rapportage per vraag'!$C$12,'Data leveranciersbeoordeling'!$1:$1,0)),Leveranciersbeoordeling!$H$1:$I$5,2,FALSE),0)","v":0},0]
["",null,null,null,null,null,null,null,null,null,null,null,null,null,null,{"$f":"INDEX($A:$O,ROW(),MATCH('Rapportage per vraag'!$C$12,'Data leveranciersbeoordeling'!$1:$1,0))","v":0},{"$f":"IFERROR(VLOOKUP(INDEX($A:$O,ROW(),MATCH('Rapportage per vraag'!$C$12,'Data leveranciersbeoordeling'!$1:$1,0)),Leveranciersbeoordeling!$H$1:$I$5,2,FALSE),0)","v":0},0]
["",null,null,null,null,null,null,null,null,null,null,null,null,null,null,{"$f":"INDEX($A:$O,ROW(),MATCH('Rapportage per vraag'!$C$12,'Data leveranciersbeoordeling'!$1:$1,0))","v":0},{"$f":"IFERROR(VLOOKUP(INDEX($A:$O,ROW(),MATCH('Rapportage per vraag'!$C$12,'Data leveranciersbeoordeling'!$1:$1,0)),Leveranciersbeoordeling!$H$1:$I$5,2,FALSE),0)","v":0},0]
["",null,null,null,null,null,null,null,null,null,null,null,null,null,null,{"$f":"INDEX($A:$O,ROW(),MATCH('Rapportage per vraag'!$C$12,'Data leveranciersbeoordeling'!$1:$1,0))","v":0},{"$f":"IFERROR(VLOOKUP(INDEX($A:$O,ROW(),MATCH('Rapportage per vraag'!$C$12,'Data leveranciersbeoordeling'!$1:$1,0)),Leveranciersbeoordeling!$H$1:$I$5,2,FALSE),0)","v":0},0]
["",null,null,null,null,null,null,null,null,null,null,null,null,null,null,{"$f":"INDEX($A:$O,ROW(),MATCH('Rapportage per vraag'!$C$12,'Data leveranciersbeoordeling'!$1:$1,0))","v":0},{"$f":"IFERROR(VLOOKUP(INDEX($A:$O,ROW(),MATCH('Rapportage per vraag'!$C$12,'Data leveranciersbeoordeling'!$1:$1,0)),Leveranciersbeoordeling!$H$1:$I$5,2,FALSE),0)","v":0},0]
["",null,null,null,null,null,null,null,null,null,null,null,null,null,null,{"$f":"INDEX($A:$O,ROW(),MATCH('Rapportage per vraag'!$C$12,'Data leveranciersbeoordeling'!$1:$1,0))","v":0},{"$f":"IFERROR(VLOOKUP(INDEX($A:$O,ROW(),MATCH('Rapportage per vraag'!$C$12,'Data leveranciersbeoordeling'!$1:$1,0)),Leveranciersbeoordeling!$H$1:$I$5,2,FALSE),0)","v":0},0]
["",null,null,null,null,null,null,null,null,null,null,null,null,null,null,{"$f":"INDEX($A:$O,ROW(),MATCH('Rapportage per vraag'!$C$12,'Data leveranciersbeoordeling'!$1:$1,0))","v":0},{"$f":"IFERROR(VLOOKUP(INDEX($A:$O,ROW(),MATCH('Rapportage per vraag'!$C$12,'Data leveranciersbeoordeling'!$1:$1,0)),Leveranciersbeoordeling!$H$1:$I$5,2,FALSE),0)","v":0},0]
["",null,null,null,null,null,null,null,null,null,null,null,null,null,null,{"$f":"INDEX($A:$O,ROW(),MATCH('Rapportage per vraag'!$C$12,'Data leveranciersbeoordeling'!$1:$1,0))","v":0},{"$f":"IFERROR(VLOOKUP(INDEX($A:$O,ROW(),MATCH('Rapportage per vraag'!$C$12,'Data leveranciersbeoordeling'!$1:$1,0)),Leveranciersbeoordeling!$H$1:$I$5,2,FALSE),0)","v":0},0]
["",null,null,null,null,null,null,null,null,null,null,null,null,null,null,{"$f":"INDEX($A:$O,ROW(),MATCH('Rapportage per vraag'!$C$12,'Data leveranciersbeoordeling'!$1:$1,0))","v":0},{"$f":"IFERROR(VLOOKUP(INDEX($A:$O,ROW(),MATCH('Rapportage per vraag'!$C$12,'Data leveranciersbeoordeling'!$1:$1,0)),Leveranciersbeoordeling!$H$1:$I$5,2,FALSE),0)","v":0},0]
["",null,null,null,null,null,null,null,null,null,null,null,null,null,null,{"$f":"INDEX($A:$O,ROW(),MATCH('Rapportage per vraag'!$C$12,'Data leveranciersbeoordeling'!$1:$1,0))","v":0},{"$f":"IFERROR(VLOOKUP(INDEX($A:$O,ROW(),MATCH('Rapportage per vraag'!$C$12,'Data leveranciersbeoordeling'!$1:$1,0)),Leveranciersbeoordeling!$H$1:$I$5,2,FALSE),0)","v":0},0]
["",null,null,null,null,null,null,null,null,null,null,null,null,null,null,{"$f":"INDEX($A:$O,ROW(),MATCH('Rapportage per vraag'!$C$12,'Data leveranciersbeoordeling'!$1:$1,0))","v":0},{"$f":"IFERROR(VLOOKUP(INDEX($A:$O,ROW(),MATCH('Rapportage per vraag'!$C$12,'Data leveranciersbeoordeling'!$1:$1,0)),Leveranciersbeoordeling!$H$1:$I$5,2,FALSE),0)","v":0},0]
["",null,null,null,null,null,null,null,null,null,null,null,null,null,null,{"$f":"INDEX($A:$O,ROW(),MATCH('Rapportage per vraag'!$C$12,'Data leveranciersbeoordeling'!$1:$1,0))","v":0},{"$f":"IFERROR(VLOOKUP(INDEX($A:$O,ROW(),MATCH('Rapportage per vraag'!$C$12,'Data leveranciersbeoordeling'!$1:$1,0)),Leveranciersbeoordeling!$H$1:$I$5,2,FALSE),0)","v":0},0]
["",null,null,null,null,null,null,null,null,null,null,null,null,null,null,{"$f":"INDEX($A:$O,ROW(),MATCH('Rapportage per vraag'!$C$12,'Data leveranciersbeoordeling'!$1:$1,0))","v":0},{"$f":"IFERROR(VLOOKUP(INDEX($A:$O,ROW(),MATCH('Rapportage per vraag'!$C$12,'Data leveranciersbeoordeling'!$1:$1,0)),Leveranciersbeoordeling!$H$1:$I$5,2,FALSE),0)","v":0},0]
["",null,null,null,null,null,null,null,null,null,null,null,null,null,null,{"$f":"INDEX($A:$O,ROW(),MATCH('Rapportage per vraag'!$C$12,'Data leveranciersbeoordeling'!$1:$1,0))","v":0},{"$f":"IFERROR(VLOOKUP(INDEX($A:$O,ROW(),MATCH('Rapportage per vraag'!$C$12,'Data leveranciersbeoordeling'!$1:$1,0)),Leveranciersbeoordeling!$H$1:$I$5,2,FALSE),0)","v":0},0]
["",null,null,null,null,null,null,null,null,null,null,null,null,null,null,{"$f":"INDEX($A:$O,ROW(),MATCH('Rapportage per vraag'!$C$12,'Data leveranciersbeoordeling'!$1:$1,0))","v":0},{"$f":"IFERROR(VLOOKUP(INDEX($A:$O,ROW(),MATCH('Rapportage per vraag'!$C$12,'Data leveranciersbeoordeling'!$1:$1,0)),Leveranciersbeoordeling!$H$1:$I$5,2,FALSE),0)","v":0},0]
["",null,null,null,null,null,null,null,null,null,null,null,null,null,null,{"$f":"INDEX($A:$O,ROW(),MATCH('Rapportage per vraag'!$C$12,'Data leveranciersbeoordeling'!$1:$1,0))","v":0},{"$f":"IFERROR(VLOOKUP(INDEX($A:$O,ROW(),MATCH('Rapportage per vraag'!$C$12,'Data leveranciersbeoordeling'!$1:$1,0)),Leveranciersbeoordeling!$H$1:$I$5,2,FALSE),0)","v":0},0]
["",null,null,null,null,null,null,null,null,null,null,null,null,null,null,{"$f":"INDEX($A:$O,ROW(),MATCH('Rapportage per vraag'!$C$12,'Data leveranciersbeoordeling'!$1:$1,0))","v":0},{"$f":"IFERROR(VLOOKUP(INDEX($A:$O,ROW(),MATCH('Rapportage per vraag'!$C$12,'Data leveranciersbeoordeling'!$1:$1,0)),Leveranciersbeoordeling!$H$1:$I$5,2,FALSE),0)","v":0},0]
["",null,null,null,null,null,null,null,null,null,null,null,null,null,null,{"$f":"INDEX($A:$O,ROW(),MATCH('Rapportage per vraag'!$C$12,'Data leveranciersbeoordeling'!$1:$1,0))","v":0},{"$f":"IFERROR(VLOOKUP(INDEX($A:$O,ROW(),MATCH('Rapportage per vraag'!$C$12,'Data leveranciersbeoordeling'!$1:$1,0)),Leveranciersbeoordeling!$H$1:$I$5,2,FALSE),0)","v":0},0]
["",null,null,null,null,null,null,null,null,null,null,null,null,null,null,{"$f":"INDEX($A:$O,ROW(),MATCH('Rapportage per vraag'!$C$12,'Data leveranciersbeoordeling'!$1:$1,0))","v":0},{"$f":"IFERROR(VLOOKUP(INDEX($A:$O,ROW(),MATCH('Rapportage per vraag'!$C$12,'Data leveranciersbeoordeling'!$1:$1,0)),Leveranciersbeoordeling!$H$1:$I$5,2,FALSE),0)","v":0},0]
["",null,null,null,null,null,null,null,null,null,null,null,null,null,null,{"$f":"INDEX($A:$O,ROW(),MATCH('Rapportage per vraag'!$C$12,'Data leveranciersbeoordeling'!$1:$1,0))","v":0},{"$f":"IFERROR(VLOOKUP(INDEX($A:$O,ROW(),MATCH('Rapportage per vraag'!$C$12,'Data leveranciersbeoordeling'!$1:$1,0)),Leveranciersbeoordeling!$H$1:$I$5,2,FALSE),0)","v":0},0]
["",null,null,null,null,null,null,null,null,null,null,null,null,null,null,{"$f":"INDEX($A:$O,ROW(),MATCH('Rapportage per vraag'!$C$12,'Data leveranciersbeoordeling'!$1:$1,0))","v":0},{"$f":"IFERROR(VLOOKUP(INDEX($A:$O,ROW(),MATCH('Rapportage per vraag'!$C$12,'Data leveranciersbeoordeling'!$1:$1,0)),Leveranciersbeoordeling!$H$1:$I$5,2,FALSE),0)","v":0},0]
["",null,null,null,null,null,null,null,null,null,null,null,null,null,null,{"$f":"INDEX($A:$O,ROW(),MATCH('Rapportage per vraag'!$C$12,'Data leveranciersbeoordeling'!$1:$1,0))","v":0},{"$f":"IFERROR(VLOOKUP(INDEX($A:$O,ROW(),MATCH('Rapportage per vraag'!$C$12,'Data leveranciersbeoordeling'!$1:$1,0)),Leveranciersbeoordeling!$H$1:$I$5,2,FALSE),0)","v":0},0]
["",null,null,null,null,null,null,null,null,null,null,null,null,null,null,{"$f":"INDEX($A:$O,ROW(),MATCH('Rapportage per vraag'!$C$12,'Data leveranciersbeoordeling'!$1:$1,0))","v":0},{"$f":"IFERROR(VLOOKUP(INDEX($A:$O,ROW(),MATCH('Rapportage per vraag'!$C$12,'Data leveranciersbeoordeling'!$1:$1,0)),Leveranciersbeoordeling!$H$1:$I$5,2,FALSE),0)","v":0},0]
["",null,null,null,null,null,null,null,null,null,null,null,null,null,null,{"$f":"INDEX($A:$O,ROW(),MATCH('Rapportage per vraag'!$C$12,'Data leveranciersbeoordeling'!$1:$1,0))","v":0},{"$f":"IFERROR(VLOOKUP(INDEX($A:$O,ROW(),MATCH('Rapportage per vraag'!$C$12,'Data leveranciersbeoordeling'!$1:$1,0)),Leveranciersbeoordeling!$H$1:$I$5,2,FALSE),0)","v":0},0]
["",null,null,null,null,null,null,null,null,null,null,null,null,null,null,{"$f":"INDEX($A:$O,ROW(),MATCH('Rapportage per vraag'!$C$12,'Data leveranciersbeoordeling'!$1:$1,0))","v":0},{"$f":"IFERROR(VLOOKUP(INDEX($A:$O,ROW(),MATCH('Rapportage per vraag'!$C$12,'Data leveranciersbeoordeling'!$1:$1,0)),Leveranciersbeoordeling!$H$1:$I$5,2,FALSE),0)","v":0},0]
["",null,null,null,null,null,null,null,null,null,null,null,null,null,null,{"$f":"INDEX($A:$O,ROW(),MATCH('Rapportage per vraag'!$C$12,'Data leveranciersbeoordeling'!$1:$1,0))","v":0},{"$f":"IFERROR(VLOOKUP(INDEX($A:$O,ROW(),MATCH('Rapportage per vraag'!$C$12,'Data leveranciersbeoordeling'!$1:$1,0)),Leveranciersbeoordeling!$H$1:$I$5,2,FALSE),0)","v":0},0]
["",null,null,null,null,null,null,null,null,null,null,null,null,null,null,{"$f":"INDEX($A:$O,ROW(),MATCH('Rapportage per vraag'!$C$12,'Data leveranciersbeoordeling'!$1:$1,0))","v":0},{"$f":"IFERROR(VLOOKUP(INDEX($A:$O,ROW(),MATCH('Rapportage per vraag'!$C$12,'Data leveranciersbeoordeling'!$1:$1,0)),Leveranciersbeoordeling!$H$1:$I$5,2,FALSE),0)","v":0},0]
["",null,null,null,null,null,null,null,null,null,null,null,null,null,null,{"$f":"INDEX($A:$O,ROW(),MATCH('Rapportage per vraag'!$C$12,'Data leveranciersbeoordeling'!$1:$1,0))","v":0},{"$f":"IFERROR(VLOOKUP(INDEX($A:$O,ROW(),MATCH('Rapportage per vraag'!$C$12,'Data leveranciersbeoordeling'!$1:$1,0)),Leveranciersbeoordeling!$H$1:$I$5,2,FALSE),0)","v":0},0]
["",null,null,null,null,null,null,null,null,null,null,null,null,null,null,{"$f":"INDEX($A:$O,ROW(),MATCH('Rapportage per vraag'!$C$12,'Data leveranciersbeoordeling'!$1:$1,0))","v":0},{"$f":"IFERROR(VLOOKUP(INDEX($A:$O,ROW(),MATCH('Rapportage per vraag'!$C$12,'Data leveranciersbeoordeling'!$1:$1,0)),Leveranciersbeoordeling!$H$1:$I$5,2,FALSE),0)","v":0},0]
["",null,null,null,null,null,null,null,null,null,null,null,null,null,null,{"$f":"INDEX($A:$O,ROW(),MATCH('Rapportage per vraag'!$C$12,'Data leveranciersbeoordeling'!$1:$1,0))","v":0},{"$f":"IFERROR(VLOOKUP(INDEX($A:$O,ROW(),MATCH('Rapportage per vraag'!$C$12,'Data leveranciersbeoordeling'!$1:$1,0)),Leveranciersbeoordeling!$H$1:$I$5,2,FALSE),0)","v":0},0]
["",null,null,null,null,null,null,null,null,null,null,null,null,null,null,{"$f":"INDEX($A:$O,ROW(),MATCH('Rapportage per vraag'!$C$12,'Data leveranciersbeoordeling'!$1:$1,0))","v":0},{"$f":"IFERROR(VLOOKUP(INDEX($A:$O,ROW(),MATCH('Rapportage per vraag'!$C$12,'Data leveranciersbeoordeling'!$1:$1,0)),Leveranciersbeoordeling!$H$1:$I$5,2,FALSE),0)","v":0},0]
["",null,null,null,null,null,null,null,null,null,null,null,null,null,null,{"$f":"INDEX($A:$O,ROW(),MATCH('Rapportage per vraag'!$C$12,'Data leveranciersbeoordeling'!$1:$1,0))","v":0},{"$f":"IFERROR(VLOOKUP(INDEX($A:$O,ROW(),MATCH('Rapportage per vraag'!$C$12,'Data leveranciersbeoordeling'!$1:$1,0)),Leveranciersbeoordeling!$H$1:$I$5,2,FALSE),0)","v":0},0]
["",null,null,null,null,null,null,null,null,null,null,null,null,null,null,{"$f":"INDEX($A:$O,ROW(),MATCH('Rapportage per vraag'!$C$12,'Data leveranciersbeoordeling'!$1:$1,0))","v":0},{"$f":"IFERROR(VLOOKUP(INDEX($A:$O,ROW(),MATCH('Rapportage per vraag'!$C$12,'Data leveranciersbeoordeling'!$1:$1,0)),Leveranciersbeoordeling!$H$1:$I$5,2,FALSE),0)","v":0},0]
["",null,null,null,null,null,null,null,null,null,null,null,null,null,null,{"$f":"INDEX($A:$O,ROW(),MATCH('Rapportage per vraag'!$C$12,'Data leveranciersbeoordeling'!$1:$1,0))","v":0},{"$f":"IFERROR(VLOOKUP(INDEX($A:$O,ROW(),MATCH('Rapportage per vraag'!$C$12,'Data leveranciersbeoordeling'!$1:$1,0)),Leveranciersbeoordeling!$H$1:$I$5,2,FALSE),0)","v":0},0]
["",null,null,null,null,null,null,null,null,null,null,null,null,null,null,{"$f":"INDEX($A:$O,ROW(),MATCH('Rapportage per vraag'!$C$12,'Data leveranciersbeoordeling'!$1:$1,0))","v":0},{"$f":"IFERROR(VLOOKUP(INDEX($A:$O,ROW(),MATCH('Rapportage per vraag'!$C$12,'Data leveranciersbeoordeling'!$1:$1,0)),Leveranciersbeoordeling!$H$1:$I$5,2,FALSE),0)","v":0},0]
["",null,null,null,null,null,null,null,null,null,null,null,null,null,null,{"$f":"INDEX($A:$O,ROW(),MATCH('Rapportage per vraag'!$C$12,'Data leveranciersbeoordeling'!$1:$1,0))","v":0},{"$f":"IFERROR(VLOOKUP(INDEX($A:$O,ROW(),MATCH('Rapportage per vraag'!$C$12,'Data leveranciersbeoordeling'!$1:$1,0)),Leveranciersbeoordeling!$H$1:$I$5,2,FALSE),0)","v":0},0]
["",null,null,null,null,null,null,null,null,null,null,null,null,null,null,{"$f":"INDEX($A:$O,ROW(),MATCH('Rapportage per vraag'!$C$12,'Data leveranciersbeoordeling'!$1:$1,0))","v":0},{"$f":"IFERROR(VLOOKUP(INDEX($A:$O,ROW(),MATCH('Rapportage per vraag'!$C$12,'Data leveranciersbeoordeling'!$1:$1,0)),Leveranciersbeoordeling!$H$1:$I$5,2,FALSE),0)","v":0},0]
["",null,null,null,null,null,null,null,null,null,null,null,null,null,null,{"$f":"INDEX($A:$O,ROW(),MATCH('Rapportage per vraag'!$C$12,'Data leveranciersbeoordeling'!$1:$1,0))","v":0},{"$f":"IFERROR(VLOOKUP(INDEX($A:$O,ROW(),MATCH('Rapportage per vraag'!$C$12,'Data leveranciersbeoordeling'!$1:$1,0)),Leveranciersbeoordeling!$H$1:$I$5,2,FALSE),0)","v":0},0]
["",null,null,null,null,null,null,null,null,null,null,null,null,null,null,{"$f":"INDEX($A:$O,ROW(),MATCH('Rapportage per vraag'!$C$12,'Data leveranciersbeoordeling'!$1:$1,0))","v":0},{"$f":"IFERROR(VLOOKUP(INDEX($A:$O,ROW(),MATCH('Rapportage per vraag'!$C$12,'Data leveranciersbeoordeling'!$1:$1,0)),Leveranciersbeoordeling!$H$1:$I$5,2,FALSE),0)","v":0},0]
["",null,null,null,null,null,null,null,null,null,null,null,null,null,null,{"$f":"INDEX($A:$O,ROW(),MATCH('Rapportage per vraag'!$C$12,'Data leveranciersbeoordeling'!$1:$1,0))","v":0},{"$f":"IFERROR(VLOOKUP(INDEX($A:$O,ROW(),MATCH('Rapportage per vraag'!$C$12,'Data leveranciersbeoordeling'!$1:$1,0)),Leveranciersbeoordeling!$H$1:$I$5,2,FALSE),0)","v":0},0]
["",null,null,null,null,null,null,null,null,null,null,null,null,null,null,{"$f":"INDEX($A:$O,ROW(),MATCH('Rapportage per vraag'!$C$12,'Data leveranciersbeoordeling'!$1:$1,0))","v":0},{"$f":"IFERROR(VLOOKUP(INDEX($A:$O,ROW(),MATCH('Rapportage per vraag'!$C$12,'Data leveranciersbeoordeling'!$1:$1,0)),Leveranciersbeoordeling!$H$1:$I$5,2,FALSE),0)","v":0},0]
["",null,null,null,null,null,null,null,null,null,null,null,null,null,null,{"$f":"INDEX($A:$O,ROW(),MATCH('Rapportage per vraag'!$C$12,'Data leveranciersbeoordeling'!$1:$1,0))","v":0},{"$f":"IFERROR(VLOOKUP(INDEX($A:$O,ROW(),MATCH('Rapportage per vraag'!$C$12,'Data leveranciersbeoordeling'!$1:$1,0)),Leveranciersbeoordeling!$H$1:$I$5,2,FALSE),0)","v":0},0]
["",null,null,null,null,null,null,null,null,null,null,null,null,null,null,{"$f":"INDEX($A:$O,ROW(),MATCH('Rapportage per vraag'!$C$12,'Data leveranciersbeoordeling'!$1:$1,0))","v":0},{"$f":"IFERROR(VLOOKUP(INDEX($A:$O,ROW(),MATCH('Rapportage per vraag'!$C$12,'Data leveranciersbeoordeling'!$1:$1,0)),Leveranciersbeoordeling!$H$1:$I$5,2,FALSE),0)","v":0},0]
["",null,null,null,null,null,null,null,null,null,null,null,null,null,null,{"$f":"INDEX($A:$O,ROW(),MATCH('Rapportage per vraag'!$C$12,'Data leveranciersbeoordeling'!$1:$1,0))","v":0},{"$f":"IFERROR(VLOOKUP(INDEX($A:$O,ROW(),MATCH('Rapportage per vraag'!$C$12,'Data leveranciersbeoordeling'!$1:$1,0)),Leveranciersbeoordeling!$H$1:$I$5,2,FALSE),0)","v":0},0]
["",null,null,null,null,null,null,null,null,null,null,null,null,null,null,{"$f":"INDEX($A:$O,ROW(),MATCH('Rapportage per vraag'!$C$12,'Data leveranciersbeoordeling'!$1:$1,0))","v":0},{"$f":"IFERROR(VLOOKUP(INDEX($A:$O,ROW(),MATCH('Rapportage per vraag'!$C$12,'Data leveranciersbeoordeling'!$1:$1,0)),Leveranciersbeoordeling!$H$1:$I$5,2,FALSE),0)","v":0},0]
["",null,null,null,null,null,null,null,null,null,null,null,null,null,null,{"$f":"INDEX($A:$O,ROW(),MATCH('Rapportage per vraag'!$C$12,'Data leveranciersbeoordeling'!$1:$1,0))","v":0},{"$f":"IFERROR(VLOOKUP(INDEX($A:$O,ROW(),MATCH('Rapportage per vraag'!$C$12,'Data leveranciersbeoordeling'!$1:$1,0)),Leveranciersbeoordeling!$H$1:$I$5,2,FALSE),0)","v":0},0]
["",null,null,null,null,null,null,null,null,null,null,null,null,null,null,{"$f":"INDEX($A:$O,ROW(),MATCH('Rapportage per vraag'!$C$12,'Data leveranciersbeoordeling'!$1:$1,0))","v":0},{"$f":"IFERROR(VLOOKUP(INDEX($A:$O,ROW(),MATCH('Rapportage per vraag'!$C$12,'Data leveranciersbeoordeling'!$1:$1,0)),Leveranciersbeoordeling!$H$1:$I$5,2,FALSE),0)","v":0},0]
["",null,null,null,null,null,null,null,null,null,null,null,null,null,null,{"$f":"INDEX($A:$O,ROW(),MATCH('Rapportage per vraag'!$C$12,'Data leveranciersbeoordeling'!$1:$1,0))","v":0},{"$f":"IFERROR(VLOOKUP(INDEX($A:$O,ROW(),MATCH('Rapportage per vraag'!$C$12,'Data leveranciersbeoordeling'!$1:$1,0)),Leveranciersbeoordeling!$H$1:$I$5,2,FALSE),0)","v":0},0]
["",null,null,null,null,null,null,null,null,null,null,null,null,null,null,{"$f":"INDEX($A:$O,ROW(),MATCH('Rapportage per vraag'!$C$12,'Data leveranciersbeoordeling'!$1:$1,0))","v":0},{"$f":"IFERROR(VLOOKUP(INDEX($A:$O,ROW(),MATCH('Rapportage per vraag'!$C$12,'Data leveranciersbeoordeling'!$1:$1,0)),Leveranciersbeoordeling!$H$1:$I$5,2,FALSE),0)","v":0},0]
["",null,null,null,null,null,null,null,null,null,null,null,null,null,null,{"$f":"INDEX($A:$O,ROW(),MATCH('Rapportage per vraag'!$C$12,'Data leveranciersbeoordeling'!$1:$1,0))","v":0},{"$f":"IFERROR(VLOOKUP(INDEX($A:$O,ROW(),MATCH('Rapportage per vraag'!$C$12,'Data leveranciersbeoordeling'!$1:$1,0)),Leveranciersbeoordeling!$H$1:$I$5,2,FALSE),0)","v":0},0]
["",null,null,null,null,null,null,null,null,null,null,null,null,null,null,{"$f":"INDEX($A:$O,ROW(),MATCH('Rapportage per vraag'!$C$12,'Data leveranciersbeoordeling'!$1:$1,0))","v":0},{"$f":"IFERROR(VLOOKUP(INDEX($A:$O,ROW(),MATCH('Rapportage per vraag'!$C$12,'Data leveranciersbeoordeling'!$1:$1,0)),Leveranciersbeoordeling!$H$1:$I$5,2,FALSE),0)","v":0},0]
["",null,null,null,null,null,null,null,null,null,null,null,null,null,null,{"$f":"INDEX($A:$O,ROW(),MATCH('Rapportage per vraag'!$C$12,'Data leveranciersbeoordeling'!$1:$1,0))","v":0},{"$f":"IFERROR(VLOOKUP(INDEX($A:$O,ROW(),MATCH('Rapportage per vraag'!$C$12,'Data leveranciersbeoordeling'!$1:$1,0)),Leveranciersbeoordeling!$H$1:$I$5,2,FALSE),0)","v":0},0]
["",null,null,null,null,null,null,null,null,null,null,null,null,null,null,{"$f":"INDEX($A:$O,ROW(),MATCH('Rapportage per vraag'!$C$12,'Data leveranciersbeoordeling'!$1:$1,0))","v":0},{"$f":"IFERROR(VLOOKUP(INDEX($A:$O,ROW(),MATCH('Rapportage per vraag'!$C$12,'Data leveranciersbeoordeling'!$1:$1,0)),Leveranciersbeoordeling!$H$1:$I$5,2,FALSE),0)","v":0},0]
["",null,null,null,null,null,null,null,null,null,null,null,null,null,null,{"$f":"INDEX($A:$O,ROW(),MATCH('Rapportage per vraag'!$C$12,'Data leveranciersbeoordeling'!$1:$1,0))","v":0},{"$f":"IFERROR(VLOOKUP(INDEX($A:$O,ROW(),MATCH('Rapportage per vraag'!$C$12,'Data leveranciersbeoordeling'!$1:$1,0)),Leveranciersbeoordeling!$H$1:$I$5,2,FALSE),0)","v":0},0]
["",null,null,null,null,null,null,null,null,null,null,null,null,null,null,{"$f":"INDEX($A:$O,ROW(),MATCH('Rapportage per vraag'!$C$12,'Data leveranciersbeoordeling'!$1:$1,0))","v":0},{"$f":"IFERROR(VLOOKUP(INDEX($A:$O,ROW(),MATCH('Rapportage per vraag'!$C$12,'Data leveranciersbeoordeling'!$1:$1,0)),Leveranciersbeoordeling!$H$1:$I$5,2,FALSE),0)","v":0},0]
["",null,null,null,null,null,null,null,null,null,null,null,null,null,null,{"$f":"INDEX($A:$O,ROW(),MATCH('Rapportage per vraag'!$C$12,'Data leveranciersbeoordeling'!$1:$1,0))","v":0},{"$f":"IFERROR(VLOOKUP(INDEX($A:$O,ROW(),MATCH('Rapportage per vraag'!$C$12,'Data leveranciersbeoordeling'!$1:$1,0)),Leveranciersbeoordeling!$H$1:$I$5,2,FALSE),0)","v":0},0]
[{"$f":"CONCATENATE(B579,C579,D579)","v":""},null,null,null,null,null,null,null,null,null,null,null,null,null,null,{"$f":"INDEX($A:$O,ROW(),MATCH('Rapportage per vraag'!$C$12,'Data leveranciersbeoordeling'!$1:$1,0))","v":0},{"$f":"IFERROR(VLOOKUP(INDEX($A:$O,ROW(),MATCH('Rapportage per vraag'!$C$12,'Data leveranciersbeoordeling'!$1:$1,0)),Leveranciersbeoordeling!$H$1:$I$5,2,FALSE),0)","v":0},0]
["",null,null,null,null,null,null,null,null,null,null,null,null,null,null,{"$f":"INDEX($A:$O,ROW(),MATCH('Rapportage per vraag'!$C$12,'Data leveranciersbeoordeling'!$1:$1,0))","v":0},{"$f":"IFERROR(VLOOKUP(INDEX($A:$O,ROW(),MATCH('Rapportage per vraag'!$C$12,'Data leveranciersbeoordeling'!$1:$1,0)),Leveranciersbeoordeling!$H$1:$I$5,2,FALSE),0)","v":0},0]
["",null,null,null,null,null,null,null,null,null,null,null,null,null,null,{"$f":"INDEX($A:$O,ROW(),MATCH('Rapportage per vraag'!$C$12,'Data leveranciersbeoordeling'!$1:$1,0))","v":0},{"$f":"IFERROR(VLOOKUP(INDEX($A:$O,ROW(),MATCH('Rapportage per vraag'!$C$12,'Data leveranciersbeoordeling'!$1:$1,0)),Leveranciersbeoordeling!$H$1:$I$5,2,FALSE),0)","v":0},0]
["",null,null,null,null,null,null,null,null,null,null,null,null,null,null,{"$f":"INDEX($A:$O,ROW(),MATCH('Rapportage per vraag'!$C$12,'Data leveranciersbeoordeling'!$1:$1,0))","v":0},{"$f":"IFERROR(VLOOKUP(INDEX($A:$O,ROW(),MATCH('Rapportage per vraag'!$C$12,'Data leveranciersbeoordeling'!$1:$1,0)),Leveranciersbeoordeling!$H$1:$I$5,2,FALSE),0)","v":0},{"$f":"IF(T(P582)=P582,Q582,P582)","v":0}]
["",null,null,null,null,null,null,null,null,null,null,null,null,null,null,{"$f":"INDEX($A:$O,ROW(),MATCH('Rapportage per vraag'!$C$12,'Data leveranciersbeoordeling'!$1:$1,0))","v":0},{"$f":"IFERROR(VLOOKUP(INDEX($A:$O,ROW(),MATCH('Rapportage per vraag'!$C$12,'Data leveranciersbeoordeling'!$1:$1,0)),Leveranciersbeoordeling!$H$1:$I$5,2,FALSE),0)","v":0},0]
["",null,null,null,null,null,null,null,null,null,null,null,null,null,null,{"$f":"INDEX($A:$O,ROW(),MATCH('Rapportage per vraag'!$C$12,'Data leveranciersbeoordeling'!$1:$1,0))","v":0},{"$f":"IFERROR(VLOOKUP(INDEX($A:$O,ROW(),MATCH('Rapportage per vraag'!$C$12,'Data leveranciersbeoordeling'!$1:$1,0)),Leveranciersbeoordeling!$H$1:$I$5,2,FALSE),0)","v":0},0]
["",null,null,null,null,null,null,null,null,null,null,null,null,null,null,{"$f":"INDEX($A:$O,ROW(),MATCH('Rapportage per vraag'!$C$12,'Data leveranciersbeoordeling'!$1:$1,0))","v":0},{"$f":"IFERROR(VLOOKUP(INDEX($A:$O,ROW(),MATCH('Rapportage per vraag'!$C$12,'Data leveranciersbeoordeling'!$1:$1,0)),Leveranciersbeoordeling!$H$1:$I$5,2,FALSE),0)","v":0},0]
["",null,null,null,null,null,null,null,null,null,null,null,null,null,null,{"$f":"INDEX($A:$O,ROW(),MATCH('Rapportage per vraag'!$C$12,'Data leveranciersbeoordeling'!$1:$1,0))","v":0},{"$f":"IFERROR(VLOOKUP(INDEX($A:$O,ROW(),MATCH('Rapportage per vraag'!$C$12,'Data leveranciersbeoordeling'!$1:$1,0)),Leveranciersbeoordeling!$H$1:$I$5,2,FALSE),0)","v":0},0]
["",null,null,null,null,null,null,null,null,null,null,null,null,null,null,{"$f":"INDEX($A:$O,ROW(),MATCH('Rapportage per vraag'!$C$12,'Data leveranciersbeoordeling'!$1:$1,0))","v":0},{"$f":"IFERROR(VLOOKUP(INDEX($A:$O,ROW(),MATCH('Rapportage per vraag'!$C$12,'Data leveranciersbeoordeling'!$1:$1,0)),Leveranciersbeoordeling!$H$1:$I$5,2,FALSE),0)","v":0},0]
["",null,null,null,null,null,null,null,null,null,null,null,null,null,null,{"$f":"INDEX($A:$O,ROW(),MATCH('Rapportage per vraag'!$C$12,'Data leveranciersbeoordeling'!$1:$1,0))","v":0},{"$f":"IFERROR(VLOOKUP(INDEX($A:$O,ROW(),MATCH('Rapportage per vraag'!$C$12,'Data leveranciersbeoordeling'!$1:$1,0)),Leveranciersbeoordeling!$H$1:$I$5,2,FALSE),0)","v":0},0]
["",null,null,null,null,null,null,null,null,null,null,null,null,null,null,{"$f":"INDEX($A:$O,ROW(),MATCH('Rapportage per vraag'!$C$12,'Data leveranciersbeoordeling'!$1:$1,0))","v":0},{"$f":"IFERROR(VLOOKUP(INDEX($A:$O,ROW(),MATCH('Rapportage per vraag'!$C$12,'Data leveranciersbeoordeling'!$1:$1,0)),Leveranciersbeoordeling!$H$1:$I$5,2,FALSE),0)","v":0},0]
["",null,null,null,null,null,null,null,null,null,null,null,null,null,null,{"$f":"INDEX($A:$O,ROW(),MATCH('Rapportage per vraag'!$C$12,'Data leveranciersbeoordeling'!$1:$1,0))","v":0},{"$f":"IFERROR(VLOOKUP(INDEX($A:$O,ROW(),MATCH('Rapportage per vraag'!$C$12,'Data leveranciersbeoordeling'!$1:$1,0)),Leveranciersbeoordeling!$H$1:$I$5,2,FALSE),0)","v":0},0]
["",null,null,null,null,null,null,null,null,null,null,null,null,null,null,{"$f":"INDEX($A:$O,ROW(),MATCH('Rapportage per vraag'!$C$12,'Data leveranciersbeoordeling'!$1:$1,0))","v":0},{"$f":"IFERROR(VLOOKUP(INDEX($A:$O,ROW(),MATCH('Rapportage per vraag'!$C$12,'Data leveranciersbeoordeling'!$1:$1,0)),Leveranciersbeoordeling!$H$1:$I$5,2,FALSE),0)","v":0},0]
["",null,null,null,null,null,null,null,null,null,null,null,null,null,null,{"$f":"INDEX($A:$O,ROW(),MATCH('Rapportage per vraag'!$C$12,'Data leveranciersbeoordeling'!$1:$1,0))","v":0},{"$f":"IFERROR(VLOOKUP(INDEX($A:$O,ROW(),MATCH('Rapportage per vraag'!$C$12,'Data leveranciersbeoordeling'!$1:$1,0)),Leveranciersbeoordeling!$H$1:$I$5,2,FALSE),0)","v":0},0]
["",null,null,null,null,null,null,null,null,null,null,null,null,null,null,{"$f":"INDEX($A:$O,ROW(),MATCH('Rapportage per vraag'!$C$12,'Data leveranciersbeoordeling'!$1:$1,0))","v":0},{"$f":"IFERROR(VLOOKUP(INDEX($A:$O,ROW(),MATCH('Rapportage per vraag'!$C$12,'Data leveranciersbeoordeling'!$1:$1,0)),Leveranciersbeoordeling!$H$1:$I$5,2,FALSE),0)","v":0},0]
["",null,null,null,null,null,null,null,null,null,null,null,null,null,null,{"$f":"INDEX($A:$O,ROW(),MATCH('Rapportage per vraag'!$C$12,'Data leveranciersbeoordeling'!$1:$1,0))","v":0},{"$f":"IFERROR(VLOOKUP(INDEX($A:$O,ROW(),MATCH('Rapportage per vraag'!$C$12,'Data leveranciersbeoordeling'!$1:$1,0)),Leveranciersbeoordeling!$H$1:$I$5,2,FALSE),0)","v":0},0]
["",null,null,null,null,null,null,null,null,null,null,null,null,null,null,{"$f":"INDEX($A:$O,ROW(),MATCH('Rapportage per vraag'!$C$12,'Data leveranciersbeoordeling'!$1:$1,0))","v":0},{"$f":"IFERROR(VLOOKUP(INDEX($A:$O,ROW(),MATCH('Rapportage per vraag'!$C$12,'Data leveranciersbeoordeling'!$1:$1,0)),Leveranciersbeoordeling!$H$1:$I$5,2,FALSE),0)","v":0},0]
["",null,null,null,null,null,null,null,null,null,null,null,null,null,null,{"$f":"INDEX($A:$O,ROW(),MATCH('Rapportage per vraag'!$C$12,'Data leveranciersbeoordeling'!$1:$1,0))","v":0},{"$f":"IFERROR(VLOOKUP(INDEX($A:$O,ROW(),MATCH('Rapportage per vraag'!$C$12,'Data leveranciersbeoordeling'!$1:$1,0)),Leveranciersbeoordeling!$H$1:$I$5,2,FALSE),0)","v":0},0]
["",null,null,null,null,null,null,null,null,null,null,null,null,null,null,{"$f":"INDEX($A:$O,ROW(),MATCH('Rapportage per vraag'!$C$12,'Data leveranciersbeoordeling'!$1:$1,0))","v":0},{"$f":"IFERROR(VLOOKUP(INDEX($A:$O,ROW(),MATCH('Rapportage per vraag'!$C$12,'Data leveranciersbeoordeling'!$1:$1,0)),Leveranciersbeoordeling!$H$1:$I$5,2,FALSE),0)","v":0},0]
["",null,null,null,null,null,null,null,null,null,null,null,null,null,null,{"$f":"INDEX($A:$O,ROW(),MATCH('Rapportage per vraag'!$C$12,'Data leveranciersbeoordeling'!$1:$1,0))","v":0},{"$f":"IFERROR(VLOOKUP(INDEX($A:$O,ROW(),MATCH('Rapportage per vraag'!$C$12,'Data leveranciersbeoordeling'!$1:$1,0)),Leveranciersbeoordeling!$H$1:$I$5,2,FALSE),0)","v":0},0]
["",null,null,null,null,null,null,null,null,null,null,null,null,null,null,{"$f":"INDEX($A:$O,ROW(),MATCH('Rapportage per vraag'!$C$12,'Data leveranciersbeoordeling'!$1:$1,0))","v":0},{"$f":"IFERROR(VLOOKUP(INDEX($A:$O,ROW(),MATCH('Rapportage per vraag'!$C$12,'Data leveranciersbeoordeling'!$1:$1,0)),Leveranciersbeoordeling!$H$1:$I$5,2,FALSE),0)","v":0},0]
["",null,null,null,null,null,null,null,null,null,null,null,null,null,null,{"$f":"INDEX($A:$O,ROW(),MATCH('Rapportage per vraag'!$C$12,'Data leveranciersbeoordeling'!$1:$1,0))","v":0},{"$f":"IFERROR(VLOOKUP(INDEX($A:$O,ROW(),MATCH('Rapportage per vraag'!$C$12,'Data leveranciersbeoordeling'!$1:$1,0)),Leveranciersbeoordeling!$H$1:$I$5,2,FALSE),0)","v":0},0]
["",null,null,null,null,null,null,null,null,null,null,null,null,null,null,{"$f":"INDEX($A:$O,ROW(),MATCH('Rapportage per vraag'!$C$12,'Data leveranciersbeoordeling'!$1:$1,0))","v":0},{"$f":"IFERROR(VLOOKUP(INDEX($A:$O,ROW(),MATCH('Rapportage per vraag'!$C$12,'Data leveranciersbeoordeling'!$1:$1,0)),Leveranciersbeoordeling!$H$1:$I$5,2,FALSE),0)","v":0},0]
["",null,null,null,null,null,null,null,null,null,null,null,null,null,null,{"$f":"INDEX($A:$O,ROW(),MATCH('Rapportage per vraag'!$C$12,'Data leveranciersbeoordeling'!$1:$1,0))","v":0},{"$f":"IFERROR(VLOOKUP(INDEX($A:$O,ROW(),MATCH('Rapportage per vraag'!$C$12,'Data leveranciersbeoordeling'!$1:$1,0)),Leveranciersbeoordeling!$H$1:$I$5,2,FALSE),0)","v":0},0]
["",null,null,null,null,null,null,null,null,null,null,null,null,null,null,{"$f":"INDEX($A:$O,ROW(),MATCH('Rapportage per vraag'!$C$12,'Data leveranciersbeoordeling'!$1:$1,0))","v":0},{"$f":"IFERROR(VLOOKUP(INDEX($A:$O,ROW(),MATCH('Rapportage per vraag'!$C$12,'Data leveranciersbeoordeling'!$1:$1,0)),Leveranciersbeoordeling!$H$1:$I$5,2,FALSE),0)","v":0},0]
["",null,null,null,null,null,null,null,null,null,null,null,null,null,null,{"$f":"INDEX($A:$O,ROW(),MATCH('Rapportage per vraag'!$C$12,'Data leveranciersbeoordeling'!$1:$1,0))","v":0},{"$f":"IFERROR(VLOOKUP(INDEX($A:$O,ROW(),MATCH('Rapportage per vraag'!$C$12,'Data leveranciersbeoordeling'!$1:$1,0)),Leveranciersbeoordeling!$H$1:$I$5,2,FALSE),0)","v":0},0]
["",null,null,null,null,null,null,null,null,null,null,null,null,null,null,{"$f":"INDEX($A:$O,ROW(),MATCH('Rapportage per vraag'!$C$12,'Data leveranciersbeoordeling'!$1:$1,0))","v":0},{"$f":"IFERROR(VLOOKUP(INDEX($A:$O,ROW(),MATCH('Rapportage per vraag'!$C$12,'Data leveranciersbeoordeling'!$1:$1,0)),Leveranciersbeoordeling!$H$1:$I$5,2,FALSE),0)","v":0},0]
["",null,null,null,null,null,null,null,null,null,null,null,null,null,null,{"$f":"INDEX($A:$O,ROW(),MATCH('Rapportage per vraag'!$C$12,'Data leveranciersbeoordeling'!$1:$1,0))","v":0},{"$f":"IFERROR(VLOOKUP(INDEX($A:$O,ROW(),MATCH('Rapportage per vraag'!$C$12,'Data leveranciersbeoordeling'!$1:$1,0)),Leveranciersbeoordeling!$H$1:$I$5,2,FALSE),0)","v":0},0]
["",null,null,null,null,null,null,null,null,null,null,null,null,null,null,{"$f":"INDEX($A:$O,ROW(),MATCH('Rapportage per vraag'!$C$12,'Data leveranciersbeoordeling'!$1:$1,0))","v":0},{"$f":"IFERROR(VLOOKUP(INDEX($A:$O,ROW(),MATCH('Rapportage per vraag'!$C$12,'Data leveranciersbeoordeling'!$1:$1,0)),Leveranciersbeoordeling!$H$1:$I$5,2,FALSE),0)","v":0},0]
["",null,null,null,null,null,null,null,null,null,null,null,null,null,null,{"$f":"INDEX($A:$O,ROW(),MATCH('Rapportage per vraag'!$C$12,'Data leveranciersbeoordeling'!$1:$1,0))","v":0},{"$f":"IFERROR(VLOOKUP(INDEX($A:$O,ROW(),MATCH('Rapportage per vraag'!$C$12,'Data leveranciersbeoordeling'!$1:$1,0)),Leveranciersbeoordeling!$H$1:$I$5,2,FALSE),0)","v":0},0]
["",null,null,null,null,null,null,null,null,null,null,null,null,null,null,{"$f":"INDEX($A:$O,ROW(),MATCH('Rapportage per vraag'!$C$12,'Data leveranciersbeoordeling'!$1:$1,0))","v":0},{"$f":"IFERROR(VLOOKUP(INDEX($A:$O,ROW(),MATCH('Rapportage per vraag'!$C$12,'Data leveranciersbeoordeling'!$1:$1,0)),Leveranciersbeoordeling!$H$1:$I$5,2,FALSE),0)","v":0},0]
["",null,null,null,null,null,null,null,null,null,null,null,null,null,null,{"$f":"INDEX($A:$O,ROW(),MATCH('Rapportage per vraag'!$C$12,'Data leveranciersbeoordeling'!$1:$1,0))","v":0},{"$f":"IFERROR(VLOOKUP(INDEX($A:$O,ROW(),MATCH('Rapportage per vraag'!$C$12,'Data leveranciersbeoordeling'!$1:$1,0)),Leveranciersbeoordeling!$H$1:$I$5,2,FALSE),0)","v":0},0]
["",null,null,null,null,null,null,null,null,null,null,null,null,null,null,{"$f":"INDEX($A:$O,ROW(),MATCH('Rapportage per vraag'!$C$12,'Data leveranciersbeoordeling'!$1:$1,0))","v":0},{"$f":"IFERROR(VLOOKUP(INDEX($A:$O,ROW(),MATCH('Rapportage per vraag'!$C$12,'Data leveranciersbeoordeling'!$1:$1,0)),Leveranciersbeoordeling!$H$1:$I$5,2,FALSE),0)","v":0},0]
["",null,null,null,null,null,null,null,null,null,null,null,null,null,null,{"$f":"INDEX($A:$O,ROW(),MATCH('Rapportage per vraag'!$C$12,'Data leveranciersbeoordeling'!$1:$1,0))","v":0},{"$f":"IFERROR(VLOOKUP(INDEX($A:$O,ROW(),MATCH('Rapportage per vraag'!$C$12,'Data leveranciersbeoordeling'!$1:$1,0)),Leveranciersbeoordeling!$H$1:$I$5,2,FALSE),0)","v":0},0]
["",null,null,null,null,null,null,null,null,null,null,null,null,null,null,{"$f":"INDEX($A:$O,ROW(),MATCH('Rapportage per vraag'!$C$12,'Data leveranciersbeoordeling'!$1:$1,0))","v":0},{"$f":"IFERROR(VLOOKUP(INDEX($A:$O,ROW(),MATCH('Rapportage per vraag'!$C$12,'Data leveranciersbeoordeling'!$1:$1,0)),Leveranciersbeoordeling!$H$1:$I$5,2,FALSE),0)","v":0},0]
["",null,null,null,null,null,null,null,null,null,null,null,null,null,null,{"$f":"INDEX($A:$O,ROW(),MATCH('Rapportage per vraag'!$C$12,'Data leveranciersbeoordeling'!$1:$1,0))","v":0},{"$f":"IFERROR(VLOOKUP(INDEX($A:$O,ROW(),MATCH('Rapportage per vraag'!$C$12,'Data leveranciersbeoordeling'!$1:$1,0)),Leveranciersbeoordeling!$H$1:$I$5,2,FALSE),0)","v":0},0]
["",null,null,null,null,null,null,null,null,null,null,null,null,null,null,{"$f":"INDEX($A:$O,ROW(),MATCH('Rapportage per vraag'!$C$12,'Data leveranciersbeoordeling'!$1:$1,0))","v":0},{"$f":"IFERROR(VLOOKUP(INDEX($A:$O,ROW(),MATCH('Rapportage per vraag'!$C$12,'Data leveranciersbeoordeling'!$1:$1,0)),Leveranciersbeoordeling!$H$1:$I$5,2,FALSE),0)","v":0},0]
["",null,null,null,null,null,null,null,null,null,null,null,null,null,null,{"$f":"INDEX($A:$O,ROW(),MATCH('Rapportage per vraag'!$C$12,'Data leveranciersbeoordeling'!$1:$1,0))","v":0},{"$f":"IFERROR(VLOOKUP(INDEX($A:$O,ROW(),MATCH('Rapportage per vraag'!$C$12,'Data leveranciersbeoordeling'!$1:$1,0)),Leveranciersbeoordeling!$H$1:$I$5,2,FALSE),0)","v":0},0]
["",null,null,null,null,null,null,null,null,null,null,null,null,null,null,{"$f":"INDEX($A:$O,ROW(),MATCH('Rapportage per vraag'!$C$12,'Data leveranciersbeoordeling'!$1:$1,0))","v":0},{"$f":"IFERROR(VLOOKUP(INDEX($A:$O,ROW(),MATCH('Rapportage per vraag'!$C$12,'Data leveranciersbeoordeling'!$1:$1,0)),Leveranciersbeoordeling!$H$1:$I$5,2,FALSE),0)","v":0},0]
["",null,null,null,null,null,null,null,null,null,null,null,null,null,null,{"$f":"INDEX($A:$O,ROW(),MATCH('Rapportage per vraag'!$C$12,'Data leveranciersbeoordeling'!$1:$1,0))","v":0},{"$f":"IFERROR(VLOOKUP(INDEX($A:$O,ROW(),MATCH('Rapportage per vraag'!$C$12,'Data leveranciersbeoordeling'!$1:$1,0)),Leveranciersbeoordeling!$H$1:$I$5,2,FALSE),0)","v":0},0]
["",null,null,null,null,null,null,null,null,null,null,null,null,null,null,{"$f":"INDEX($A:$O,ROW(),MATCH('Rapportage per vraag'!$C$12,'Data leveranciersbeoordeling'!$1:$1,0))","v":0},{"$f":"IFERROR(VLOOKUP(INDEX($A:$O,ROW(),MATCH('Rapportage per vraag'!$C$12,'Data leveranciersbeoordeling'!$1:$1,0)),Leveranciersbeoordeling!$H$1:$I$5,2,FALSE),0)","v":0},0]
["",null,null,null,null,null,null,null,null,null,null,null,null,null,null,{"$f":"INDEX($A:$O,ROW(),MATCH('Rapportage per vraag'!$C$12,'Data leveranciersbeoordeling'!$1:$1,0))","v":0},{"$f":"IFERROR(VLOOKUP(INDEX($A:$O,ROW(),MATCH('Rapportage per vraag'!$C$12,'Data leveranciersbeoordeling'!$1:$1,0)),Leveranciersbeoordeling!$H$1:$I$5,2,FALSE),0)","v":0},0]
["",null,null,null,null,null,null,null,null,null,null,null,null,null,null,{"$f":"INDEX($A:$O,ROW(),MATCH('Rapportage per vraag'!$C$12,'Data leveranciersbeoordeling'!$1:$1,0))","v":0},{"$f":"IFERROR(VLOOKUP(INDEX($A:$O,ROW(),MATCH('Rapportage per vraag'!$C$12,'Data leveranciersbeoordeling'!$1:$1,0)),Leveranciersbeoordeling!$H$1:$I$5,2,FALSE),0)","v":0},0]
["",null,null,null,null,null,null,null,null,null,null,null,null,null,null,{"$f":"INDEX($A:$O,ROW(),MATCH('Rapportage per vraag'!$C$12,'Data leveranciersbeoordeling'!$1:$1,0))","v":0},{"$f":"IFERROR(VLOOKUP(INDEX($A:$O,ROW(),MATCH('Rapportage per vraag'!$C$12,'Data leveranciersbeoordeling'!$1:$1,0)),Leveranciersbeoordeling!$H$1:$I$5,2,FALSE),0)","v":0},0]
["",null,null,null,null,null,null,null,null,null,null,null,null,null,null,{"$f":"INDEX($A:$O,ROW(),MATCH('Rapportage per vraag'!$C$12,'Data leveranciersbeoordeling'!$1:$1,0))","v":0},{"$f":"IFERROR(VLOOKUP(INDEX($A:$O,ROW(),MATCH('Rapportage per vraag'!$C$12,'Data leveranciersbeoordeling'!$1:$1,0)),Leveranciersbeoordeling!$H$1:$I$5,2,FALSE),0)","v":0},0]
["",null,null,null,null,null,null,null,null,null,null,null,null,null,null,{"$f":"INDEX($A:$O,ROW(),MATCH('Rapportage per vraag'!$C$12,'Data leveranciersbeoordeling'!$1:$1,0))","v":0},{"$f":"IFERROR(VLOOKUP(INDEX($A:$O,ROW(),MATCH('Rapportage per vraag'!$C$12,'Data leveranciersbeoordeling'!$1:$1,0)),Leveranciersbeoordeling!$H$1:$I$5,2,FALSE),0)","v":0},0]
["",null,null,null,null,null,null,null,null,null,null,null,null,null,null,{"$f":"INDEX($A:$O,ROW(),MATCH('Rapportage per vraag'!$C$12,'Data leveranciersbeoordeling'!$1:$1,0))","v":0},{"$f":"IFERROR(VLOOKUP(INDEX($A:$O,ROW(),MATCH('Rapportage per vraag'!$C$12,'Data leveranciersbeoordeling'!$1:$1,0)),Leveranciersbeoordeling!$H$1:$I$5,2,FALSE),0)","v":0},0]
["",null,null,null,null,null,null,null,null,null,null,null,null,null,null,{"$f":"INDEX($A:$O,ROW(),MATCH('Rapportage per vraag'!$C$12,'Data leveranciersbeoordeling'!$1:$1,0))","v":0},{"$f":"IFERROR(VLOOKUP(INDEX($A:$O,ROW(),MATCH('Rapportage per vraag'!$C$12,'Data leveranciersbeoordeling'!$1:$1,0)),Leveranciersbeoordeling!$H$1:$I$5,2,FALSE),0)","v":0},0]
["",null,null,null,null,null,null,null,null,null,null,null,null,null,null,{"$f":"INDEX($A:$O,ROW(),MATCH('Rapportage per vraag'!$C$12,'Data leveranciersbeoordeling'!$1:$1,0))","v":0},{"$f":"IFERROR(VLOOKUP(INDEX($A:$O,ROW(),MATCH('Rapportage per vraag'!$C$12,'Data leveranciersbeoordeling'!$1:$1,0)),Leveranciersbeoordeling!$H$1:$I$5,2,FALSE),0)","v":0},0]
["",null,null,null,null,null,null,null,null,null,null,null,null,null,null,{"$f":"INDEX($A:$O,ROW(),MATCH('Rapportage per vraag'!$C$12,'Data leveranciersbeoordeling'!$1:$1,0))","v":0},{"$f":"IFERROR(VLOOKUP(INDEX($A:$O,ROW(),MATCH('Rapportage per vraag'!$C$12,'Data leveranciersbeoordeling'!$1:$1,0)),Leveranciersbeoordeling!$H$1:$I$5,2,FALSE),0)","v":0},0]
["",null,null,null,null,null,null,null,null,null,null,null,null,null,null,{"$f":"INDEX($A:$O,ROW(),MATCH('Rapportage per vraag'!$C$12,'Data leveranciersbeoordeling'!$1:$1,0))","v":0},{"$f":"IFERROR(VLOOKUP(INDEX($A:$O,ROW(),MATCH('Rapportage per vraag'!$C$12,'Data leveranciersbeoordeling'!$1:$1,0)),Leveranciersbeoordeling!$H$1:$I$5,2,FALSE),0)","v":0},0]
["",null,null,null,null,null,null,null,null,null,null,null,null,null,null,{"$f":"INDEX($A:$O,ROW(),MATCH('Rapportage per vraag'!$C$12,'Data leveranciersbeoordeling'!$1:$1,0))","v":0},{"$f":"IFERROR(VLOOKUP(INDEX($A:$O,ROW(),MATCH('Rapportage per vraag'!$C$12,'Data leveranciersbeoordeling'!$1:$1,0)),Leveranciersbeoordeling!$H$1:$I$5,2,FALSE),0)","v":0},0]
["",null,null,null,null,null,null,null,null,null,null,null,null,null,null,{"$f":"INDEX($A:$O,ROW(),MATCH('Rapportage per vraag'!$C$12,'Data leveranciersbeoordeling'!$1:$1,0))","v":0},{"$f":"IFERROR(VLOOKUP(INDEX($A:$O,ROW(),MATCH('Rapportage per vraag'!$C$12,'Data leveranciersbeoordeling'!$1:$1,0)),Leveranciersbeoordeling!$H$1:$I$5,2,FALSE),0)","v":0},0]
["",null,null,null,null,null,null,null,null,null,null,null,null,null,null,{"$f":"INDEX($A:$O,ROW(),MATCH('Rapportage per vraag'!$C$12,'Data leveranciersbeoordeling'!$1:$1,0))","v":0},{"$f":"IFERROR(VLOOKUP(INDEX($A:$O,ROW(),MATCH('Rapportage per vraag'!$C$12,'Data leveranciersbeoordeling'!$1:$1,0)),Leveranciersbeoordeling!$H$1:$I$5,2,FALSE),0)","v":0},0]
["",null,null,null,null,null,null,null,null,null,null,null,null,null,null,{"$f":"INDEX($A:$O,ROW(),MATCH('Rapportage per vraag'!$C$12,'Data leveranciersbeoordeling'!$1:$1,0))","v":0},{"$f":"IFERROR(VLOOKUP(INDEX($A:$O,ROW(),MATCH('Rapportage per vraag'!$C$12,'Data leveranciersbeoordeling'!$1:$1,0)),Leveranciersbeoordeling!$H$1:$I$5,2,FALSE),0)","v":0},0]
["",null,null,null,null,null,null,null,null,null,null,null,null,null,null,{"$f":"INDEX($A:$O,ROW(),MATCH('Rapportage per vraag'!$C$12,'Data leveranciersbeoordeling'!$1:$1,0))","v":0},{"$f":"IFERROR(VLOOKUP(INDEX($A:$O,ROW(),MATCH('Rapportage per vraag'!$C$12,'Data leveranciersbeoordeling'!$1:$1,0)),Leveranciersbeoordeling!$H$1:$I$5,2,FALSE),0)","v":0},0]
["",null,null,null,null,null,null,null,null,null,null,null,null,null,null,{"$f":"INDEX($A:$O,ROW(),MATCH('Rapportage per vraag'!$C$12,'Data leveranciersbeoordeling'!$1:$1,0))","v":0},{"$f":"IFERROR(VLOOKUP(INDEX($A:$O,ROW(),MATCH('Rapportage per vraag'!$C$12,'Data leveranciersbeoordeling'!$1:$1,0)),Leveranciersbeoordeling!$H$1:$I$5,2,FALSE),0)","v":0},0]
["",null,null,null,null,null,null,null,null,null,null,null,null,null,null,{"$f":"INDEX($A:$O,ROW(),MATCH('Rapportage per vraag'!$C$12,'Data leveranciersbeoordeling'!$1:$1,0))","v":0},{"$f":"IFERROR(VLOOKUP(INDEX($A:$O,ROW(),MATCH('Rapportage per vraag'!$C$12,'Data leveranciersbeoordeling'!$1:$1,0)),Leveranciersbeoordeling!$H$1:$I$5,2,FALSE),0)","v":0},0]
["",null,null,null,null,null,null,null,null,null,null,null,null,null,null,{"$f":"INDEX($A:$O,ROW(),MATCH('Rapportage per vraag'!$C$12,'Data leveranciersbeoordeling'!$1:$1,0))","v":0},{"$f":"IFERROR(VLOOKUP(INDEX($A:$O,ROW(),MATCH('Rapportage per vraag'!$C$12,'Data leveranciersbeoordeling'!$1:$1,0)),Leveranciersbeoordeling!$H$1:$I$5,2,FALSE),0)","v":0},0]
["",null,null,null,null,null,null,null,null,null,null,null,null,null,null,{"$f":"INDEX($A:$O,ROW(),MATCH('Rapportage per vraag'!$C$12,'Data leveranciersbeoordeling'!$1:$1,0))","v":0},{"$f":"IFERROR(VLOOKUP(INDEX($A:$O,ROW(),MATCH('Rapportage per vraag'!$C$12,'Data leveranciersbeoordeling'!$1:$1,0)),Leveranciersbeoordeling!$H$1:$I$5,2,FALSE),0)","v":0},0]
["",null,null,null,null,null,null,null,null,null,null,null,null,null,null,{"$f":"INDEX($A:$O,ROW(),MATCH('Rapportage per vraag'!$C$12,'Data leveranciersbeoordeling'!$1:$1,0))","v":0},{"$f":"IFERROR(VLOOKUP(INDEX($A:$O,ROW(),MATCH('Rapportage per vraag'!$C$12,'Data leveranciersbeoordeling'!$1:$1,0)),Leveranciersbeoordeling!$H$1:$I$5,2,FALSE),0)","v":0},0]
["",null,null,null,null,null,null,null,null,null,null,null,null,null,null,{"$f":"INDEX($A:$O,ROW(),MATCH('Rapportage per vraag'!$C$12,'Data leveranciersbeoordeling'!$1:$1,0))","v":0},{"$f":"IFERROR(VLOOKUP(INDEX($A:$O,ROW(),MATCH('Rapportage per vraag'!$C$12,'Data leveranciersbeoordeling'!$1:$1,0)),Leveranciersbeoordeling!$H$1:$I$5,2,FALSE),0)","v":0},0]
["",null,null,null,null,null,null,null,null,null,null,null,null,null,null,{"$f":"INDEX($A:$O,ROW(),MATCH('Rapportage per vraag'!$C$12,'Data leveranciersbeoordeling'!$1:$1,0))","v":0},{"$f":"IFERROR(VLOOKUP(INDEX($A:$O,ROW(),MATCH('Rapportage per vraag'!$C$12,'Data leveranciersbeoordeling'!$1:$1,0)),Leveranciersbeoordeling!$H$1:$I$5,2,FALSE),0)","v":0},0]
["",null,null,null,null,null,null,null,null,null,null,null,null,null,null,{"$f":"INDEX($A:$O,ROW(),MATCH('Rapportage per vraag'!$C$12,'Data leveranciersbeoordeling'!$1:$1,0))","v":0},{"$f":"IFERROR(VLOOKUP(INDEX($A:$O,ROW(),MATCH('Rapportage per vraag'!$C$12,'Data leveranciersbeoordeling'!$1:$1,0)),Leveranciersbeoordeling!$H$1:$I$5,2,FALSE),0)","v":0},0]
[{"$f":"CONCATENATE(B643,C643,D643)","v":""},null,null,null,null,null,null,null,null,null,null,null,null,null,null,{"$f":"INDEX($A:$O,ROW(),MATCH('Rapportage per vraag'!$C$12,'Data leveranciersbeoordeling'!$1:$1,0))","v":0},{"$f":"IFERROR(VLOOKUP(INDEX($A:$O,ROW(),MATCH('Rapportage per vraag'!$C$12,'Data leveranciersbeoordeling'!$1:$1,0)),Leveranciersbeoordeling!$H$1:$I$5,2,FALSE),0)","v":0},0]
["",null,null,null,null,null,null,null,null,null,null,null,null,null,null,{"$f":"INDEX($A:$O,ROW(),MATCH('Rapportage per vraag'!$C$12,'Data leveranciersbeoordeling'!$1:$1,0))","v":0},{"$f":"IFERROR(VLOOKUP(INDEX($A:$O,ROW(),MATCH('Rapportage per vraag'!$C$12,'Data leveranciersbeoordeling'!$1:$1,0)),Leveranciersbeoordeling!$H$1:$I$5,2,FALSE),0)","v":0},0]
["",null,null,null,null,null,null,null,null,null,null,null,null,null,null,{"$f":"INDEX($A:$O,ROW(),MATCH('Rapportage per vraag'!$C$12,'Data leveranciersbeoordeling'!$1:$1,0))","v":0},{"$f":"IFERROR(VLOOKUP(INDEX($A:$O,ROW(),MATCH('Rapportage per vraag'!$C$12,'Data leveranciersbeoordeling'!$1:$1,0)),Leveranciersbeoordeling!$H$1:$I$5,2,FALSE),0)","v":0},0]
["",null,null,null,null,null,null,null,null,null,null,null,null,null,null,{"$f":"INDEX($A:$O,ROW(),MATCH('Rapportage per vraag'!$C$12,'Data leveranciersbeoordeling'!$1:$1,0))","v":0},{"$f":"IFERROR(VLOOKUP(INDEX($A:$O,ROW(),MATCH('Rapportage per vraag'!$C$12,'Data leveranciersbeoordeling'!$1:$1,0)),Leveranciersbeoordeling!$H$1:$I$5,2,FALSE),0)","v":0},{"$f":"IF(T(P646)=P646,Q646,P646)","v":0}]
["",null,null,null,null,null,null,null,null,null,null,null,null,null,null,{"$f":"INDEX($A:$O,ROW(),MATCH('Rapportage per vraag'!$C$12,'Data leveranciersbeoordeling'!$1:$1,0))","v":0},{"$f":"IFERROR(VLOOKUP(INDEX($A:$O,ROW(),MATCH('Rapportage per vraag'!$C$12,'Data leveranciersbeoordeling'!$1:$1,0)),Leveranciersbeoordeling!$H$1:$I$5,2,FALSE),0)","v":0},0]
["",null,null,null,null,null,null,null,null,null,null,null,null,null,null,{"$f":"INDEX($A:$O,ROW(),MATCH('Rapportage per vraag'!$C$12,'Data leveranciersbeoordeling'!$1:$1,0))","v":0},{"$f":"IFERROR(VLOOKUP(INDEX($A:$O,ROW(),MATCH('Rapportage per vraag'!$C$12,'Data leveranciersbeoordeling'!$1:$1,0)),Leveranciersbeoordeling!$H$1:$I$5,2,FALSE),0)","v":0},0]
["",null,null,null,null,null,null,null,null,null,null,null,null,null,null,{"$f":"INDEX($A:$O,ROW(),MATCH('Rapportage per vraag'!$C$12,'Data leveranciersbeoordeling'!$1:$1,0))","v":0},{"$f":"IFERROR(VLOOKUP(INDEX($A:$O,ROW(),MATCH('Rapportage per vraag'!$C$12,'Data leveranciersbeoordeling'!$1:$1,0)),Leveranciersbeoordeling!$H$1:$I$5,2,FALSE),0)","v":0},0]
["",null,null,null,null,null,null,null,null,null,null,null,null,null,null,{"$f":"INDEX($A:$O,ROW(),MATCH('Rapportage per vraag'!$C$12,'Data leveranciersbeoordeling'!$1:$1,0))","v":0},{"$f":"IFERROR(VLOOKUP(INDEX($A:$O,ROW(),MATCH('Rapportage per vraag'!$C$12,'Data leveranciersbeoordeling'!$1:$1,0)),Leveranciersbeoordeling!$H$1:$I$5,2,FALSE),0)","v":0},0]
["",null,null,null,null,null,null,null,null,null,null,null,null,null,null,{"$f":"INDEX($A:$O,ROW(),MATCH('Rapportage per vraag'!$C$12,'Data leveranciersbeoordeling'!$1:$1,0))","v":0},{"$f":"IFERROR(VLOOKUP(INDEX($A:$O,ROW(),MATCH('Rapportage per vraag'!$C$12,'Data leveranciersbeoordeling'!$1:$1,0)),Leveranciersbeoordeling!$H$1:$I$5,2,FALSE),0)","v":0},0]
["",null,null,null,null,null,null,null,null,null,null,null,null,null,null,{"$f":"INDEX($A:$O,ROW(),MATCH('Rapportage per vraag'!$C$12,'Data leveranciersbeoordeling'!$1:$1,0))","v":0},{"$f":"IFERROR(VLOOKUP(INDEX($A:$O,ROW(),MATCH('Rapportage per vraag'!$C$12,'Data leveranciersbeoordeling'!$1:$1,0)),Leveranciersbeoordeling!$H$1:$I$5,2,FALSE),0)","v":0},0]
["",null,null,null,null,null,null,null,null,null,null,null,null,null,null,{"$f":"INDEX($A:$O,ROW(),MATCH('Rapportage per vraag'!$C$12,'Data leveranciersbeoordeling'!$1:$1,0))","v":0},{"$f":"IFERROR(VLOOKUP(INDEX($A:$O,ROW(),MATCH('Rapportage per vraag'!$C$12,'Data leveranciersbeoordeling'!$1:$1,0)),Leveranciersbeoordeling!$H$1:$I$5,2,FALSE),0)","v":0},0]
["",null,null,null,null,null,null,null,null,null,null,null,null,null,null,{"$f":"INDEX($A:$O,ROW(),MATCH('Rapportage per vraag'!$C$12,'Data leveranciersbeoordeling'!$1:$1,0))","v":0},{"$f":"IFERROR(VLOOKUP(INDEX($A:$O,ROW(),MATCH('Rapportage per vraag'!$C$12,'Data leveranciersbeoordeling'!$1:$1,0)),Leveranciersbeoordeling!$H$1:$I$5,2,FALSE),0)","v":0},0]
["",null,null,null,null,null,null,null,null,null,null,null,null,null,null,{"$f":"INDEX($A:$O,ROW(),MATCH('Rapportage per vraag'!$C$12,'Data leveranciersbeoordeling'!$1:$1,0))","v":0},{"$f":"IFERROR(VLOOKUP(INDEX($A:$O,ROW(),MATCH('Rapportage per vraag'!$C$12,'Data leveranciersbeoordeling'!$1:$1,0)),Leveranciersbeoordeling!$H$1:$I$5,2,FALSE),0)","v":0},0]
["",null,null,null,null,null,null,null,null,null,null,null,null,null,null,{"$f":"INDEX($A:$O,ROW(),MATCH('Rapportage per vraag'!$C$12,'Data leveranciersbeoordeling'!$1:$1,0))","v":0},{"$f":"IFERROR(VLOOKUP(INDEX($A:$O,ROW(),MATCH('Rapportage per vraag'!$C$12,'Data leveranciersbeoordeling'!$1:$1,0)),Leveranciersbeoordeling!$H$1:$I$5,2,FALSE),0)","v":0},0]
["",null,null,null,null,null,null,null,null,null,null,null,null,null,null,{"$f":"INDEX($A:$O,ROW(),MATCH('Rapportage per vraag'!$C$12,'Data leveranciersbeoordeling'!$1:$1,0))","v":0},{"$f":"IFERROR(VLOOKUP(INDEX($A:$O,ROW(),MATCH('Rapportage per vraag'!$C$12,'Data leveranciersbeoordeling'!$1:$1,0)),Leveranciersbeoordeling!$H$1:$I$5,2,FALSE),0)","v":0},0]
["",null,null,null,null,null,null,null,null,null,null,null,null,null,null,{"$f":"INDEX($A:$O,ROW(),MATCH('Rapportage per vraag'!$C$12,'Data leveranciersbeoordeling'!$1:$1,0))","v":0},{"$f":"IFERROR(VLOOKUP(INDEX($A:$O,ROW(),MATCH('Rapportage per vraag'!$C$12,'Data leveranciersbeoordeling'!$1:$1,0)),Leveranciersbeoordeling!$H$1:$I$5,2,FALSE),0)","v":0},0]
["",null,null,null,null,null,null,null,null,null,null,null,null,null,null,{"$f":"INDEX($A:$O,ROW(),MATCH('Rapportage per vraag'!$C$12,'Data leveranciersbeoordeling'!$1:$1,0))","v":0},{"$f":"IFERROR(VLOOKUP(INDEX($A:$O,ROW(),MATCH('Rapportage per vraag'!$C$12,'Data leveranciersbeoordeling'!$1:$1,0)),Leveranciersbeoordeling!$H$1:$I$5,2,FALSE),0)","v":0},0]
["",null,null,null,null,null,null,null,null,null,null,null,null,null,null,{"$f":"INDEX($A:$O,ROW(),MATCH('Rapportage per vraag'!$C$12,'Data leveranciersbeoordeling'!$1:$1,0))","v":0},{"$f":"IFERROR(VLOOKUP(INDEX($A:$O,ROW(),MATCH('Rapportage per vraag'!$C$12,'Data leveranciersbeoordeling'!$1:$1,0)),Leveranciersbeoordeling!$H$1:$I$5,2,FALSE),0)","v":0},0]
["",null,null,null,null,null,null,null,null,null,null,null,null,null,null,{"$f":"INDEX($A:$O,ROW(),MATCH('Rapportage per vraag'!$C$12,'Data leveranciersbeoordeling'!$1:$1,0))","v":0},{"$f":"IFERROR(VLOOKUP(INDEX($A:$O,ROW(),MATCH('Rapportage per vraag'!$C$12,'Data leveranciersbeoordeling'!$1:$1,0)),Leveranciersbeoordeling!$H$1:$I$5,2,FALSE),0)","v":0},0]
["",null,null,null,null,null,null,null,null,null,null,null,null,null,null,{"$f":"INDEX($A:$O,ROW(),MATCH('Rapportage per vraag'!$C$12,'Data leveranciersbeoordeling'!$1:$1,0))","v":0},{"$f":"IFERROR(VLOOKUP(INDEX($A:$O,ROW(),MATCH('Rapportage per vraag'!$C$12,'Data leveranciersbeoordeling'!$1:$1,0)),Leveranciersbeoordeling!$H$1:$I$5,2,FALSE),0)","v":0},0]
["",null,null,null,null,null,null,null,null,null,null,null,null,null,null,{"$f":"INDEX($A:$O,ROW(),MATCH('Rapportage per vraag'!$C$12,'Data leveranciersbeoordeling'!$1:$1,0))","v":0},{"$f":"IFERROR(VLOOKUP(INDEX($A:$O,ROW(),MATCH('Rapportage per vraag'!$C$12,'Data leveranciersbeoordeling'!$1:$1,0)),Leveranciersbeoordeling!$H$1:$I$5,2,FALSE),0)","v":0},0]
["",null,null,null,null,null,null,null,null,null,null,null,null,null,null,{"$f":"INDEX($A:$O,ROW(),MATCH('Rapportage per vraag'!$C$12,'Data leveranciersbeoordeling'!$1:$1,0))","v":0},{"$f":"IFERROR(VLOOKUP(INDEX($A:$O,ROW(),MATCH('Rapportage per vraag'!$C$12,'Data leveranciersbeoordeling'!$1:$1,0)),Leveranciersbeoordeling!$H$1:$I$5,2,FALSE),0)","v":0},0]
["",null,null,null,null,null,null,null,null,null,null,null,null,null,null,{"$f":"INDEX($A:$O,ROW(),MATCH('Rapportage per vraag'!$C$12,'Data leveranciersbeoordeling'!$1:$1,0))","v":0},{"$f":"IFERROR(VLOOKUP(INDEX($A:$O,ROW(),MATCH('Rapportage per vraag'!$C$12,'Data leveranciersbeoordeling'!$1:$1,0)),Leveranciersbeoordeling!$H$1:$I$5,2,FALSE),0)","v":0},0]
["",null,null,null,null,null,null,null,null,null,null,null,null,null,null,{"$f":"INDEX($A:$O,ROW(),MATCH('Rapportage per vraag'!$C$12,'Data leveranciersbeoordeling'!$1:$1,0))","v":0},{"$f":"IFERROR(VLOOKUP(INDEX($A:$O,ROW(),MATCH('Rapportage per vraag'!$C$12,'Data leveranciersbeoordeling'!$1:$1,0)),Leveranciersbeoordeling!$H$1:$I$5,2,FALSE),0)","v":0},0]
["",null,null,null,null,null,null,null,null,null,null,null,null,null,null,{"$f":"INDEX($A:$O,ROW(),MATCH('Rapportage per vraag'!$C$12,'Data leveranciersbeoordeling'!$1:$1,0))","v":0},{"$f":"IFERROR(VLOOKUP(INDEX($A:$O,ROW(),MATCH('Rapportage per vraag'!$C$12,'Data leveranciersbeoordeling'!$1:$1,0)),Leveranciersbeoordeling!$H$1:$I$5,2,FALSE),0)","v":0},0]
["",null,null,null,null,null,null,null,null,null,null,null,null,null,null,{"$f":"INDEX($A:$O,ROW(),MATCH('Rapportage per vraag'!$C$12,'Data leveranciersbeoordeling'!$1:$1,0))","v":0},{"$f":"IFERROR(VLOOKUP(INDEX($A:$O,ROW(),MATCH('Rapportage per vraag'!$C$12,'Data leveranciersbeoordeling'!$1:$1,0)),Leveranciersbeoordeling!$H$1:$I$5,2,FALSE),0)","v":0},0]
["",null,null,null,null,null,null,null,null,null,null,null,null,null,null,{"$f":"INDEX($A:$O,ROW(),MATCH('Rapportage per vraag'!$C$12,'Data leveranciersbeoordeling'!$1:$1,0))","v":0},{"$f":"IFERROR(VLOOKUP(INDEX($A:$O,ROW(),MATCH('Rapportage per vraag'!$C$12,'Data leveranciersbeoordeling'!$1:$1,0)),Leveranciersbeoordeling!$H$1:$I$5,2,FALSE),0)","v":0},0]
["",null,null,null,null,null,null,null,null,null,null,null,null,null,null,{"$f":"INDEX($A:$O,ROW(),MATCH('Rapportage per vraag'!$C$12,'Data leveranciersbeoordeling'!$1:$1,0))","v":0},{"$f":"IFERROR(VLOOKUP(INDEX($A:$O,ROW(),MATCH('Rapportage per vraag'!$C$12,'Data leveranciersbeoordeling'!$1:$1,0)),Leveranciersbeoordeling!$H$1:$I$5,2,FALSE),0)","v":0},0]
["",null,null,null,null,null,null,null,null,null,null,null,null,null,null,{"$f":"INDEX($A:$O,ROW(),MATCH('Rapportage per vraag'!$C$12,'Data leveranciersbeoordeling'!$1:$1,0))","v":0},{"$f":"IFERROR(VLOOKUP(INDEX($A:$O,ROW(),MATCH('Rapportage per vraag'!$C$12,'Data leveranciersbeoordeling'!$1:$1,0)),Leveranciersbeoordeling!$H$1:$I$5,2,FALSE),0)","v":0},0]
["",null,null,null,null,null,null,null,null,null,null,null,null,null,null,{"$f":"INDEX($A:$O,ROW(),MATCH('Rapportage per vraag'!$C$12,'Data leveranciersbeoordeling'!$1:$1,0))","v":0},{"$f":"IFERROR(VLOOKUP(INDEX($A:$O,ROW(),MATCH('Rapportage per vraag'!$C$12,'Data leveranciersbeoordeling'!$1:$1,0)),Leveranciersbeoordeling!$H$1:$I$5,2,FALSE),0)","v":0},0]
["",null,null,null,null,null,null,null,null,null,null,null,null,null,null,{"$f":"INDEX($A:$O,ROW(),MATCH('Rapportage per vraag'!$C$12,'Data leveranciersbeoordeling'!$1:$1,0))","v":0},{"$f":"IFERROR(VLOOKUP(INDEX($A:$O,ROW(),MATCH('Rapportage per vraag'!$C$12,'Data leveranciersbeoordeling'!$1:$1,0)),Leveranciersbeoordeling!$H$1:$I$5,2,FALSE),0)","v":0},0]
["",null,null,null,null,null,null,null,null,null,null,null,null,null,null,{"$f":"INDEX($A:$O,ROW(),MATCH('Rapportage per vraag'!$C$12,'Data leveranciersbeoordeling'!$1:$1,0))","v":0},{"$f":"IFERROR(VLOOKUP(INDEX($A:$O,ROW(),MATCH('Rapportage per vraag'!$C$12,'Data leveranciersbeoordeling'!$1:$1,0)),Leveranciersbeoordeling!$H$1:$I$5,2,FALSE),0)","v":0},0]
["",null,null,null,null,null,null,null,null,null,null,null,null,null,null,{"$f":"INDEX($A:$O,ROW(),MATCH('Rapportage per vraag'!$C$12,'Data leveranciersbeoordeling'!$1:$1,0))","v":0},{"$f":"IFERROR(VLOOKUP(INDEX($A:$O,ROW(),MATCH('Rapportage per vraag'!$C$12,'Data leveranciersbeoordeling'!$1:$1,0)),Leveranciersbeoordeling!$H$1:$I$5,2,FALSE),0)","v":0},0]
["",null,null,null,null,null,null,null,null,null,null,null,null,null,null,{"$f":"INDEX($A:$O,ROW(),MATCH('Rapportage per vraag'!$C$12,'Data leveranciersbeoordeling'!$1:$1,0))","v":0},{"$f":"IFERROR(VLOOKUP(INDEX($A:$O,ROW(),MATCH('Rapportage per vraag'!$C$12,'Data leveranciersbeoordeling'!$1:$1,0)),Leveranciersbeoordeling!$H$1:$I$5,2,FALSE),0)","v":0},0]
["",null,null,null,null,null,null,null,null,null,null,null,null,null,null,{"$f":"INDEX($A:$O,ROW(),MATCH('Rapportage per vraag'!$C$12,'Data leveranciersbeoordeling'!$1:$1,0))","v":0},{"$f":"IFERROR(VLOOKUP(INDEX($A:$O,ROW(),MATCH('Rapportage per vraag'!$C$12,'Data leveranciersbeoordeling'!$1:$1,0)),Leveranciersbeoordeling!$H$1:$I$5,2,FALSE),0)","v":0},0]
["",null,null,null,null,null,null,null,null,null,null,null,null,null,null,{"$f":"INDEX($A:$O,ROW(),MATCH('Rapportage per vraag'!$C$12,'Data leveranciersbeoordeling'!$1:$1,0))","v":0},{"$f":"IFERROR(VLOOKUP(INDEX($A:$O,ROW(),MATCH('Rapportage per vraag'!$C$12,'Data leveranciersbeoordeling'!$1:$1,0)),Leveranciersbeoordeling!$H$1:$I$5,2,FALSE),0)","v":0},0]
["",null,null,null,null,null,null,null,null,null,null,null,null,null,null,{"$f":"INDEX($A:$O,ROW(),MATCH('Rapportage per vraag'!$C$12,'Data leveranciersbeoordeling'!$1:$1,0))","v":0},{"$f":"IFERROR(VLOOKUP(INDEX($A:$O,ROW(),MATCH('Rapportage per vraag'!$C$12,'Data leveranciersbeoordeling'!$1:$1,0)),Leveranciersbeoordeling!$H$1:$I$5,2,FALSE),0)","v":0},0]
["",null,null,null,null,null,null,null,null,null,null,null,null,null,null,{"$f":"INDEX($A:$O,ROW(),MATCH('Rapportage per vraag'!$C$12,'Data leveranciersbeoordeling'!$1:$1,0))","v":0},{"$f":"IFERROR(VLOOKUP(INDEX($A:$O,ROW(),MATCH('Rapportage per vraag'!$C$12,'Data leveranciersbeoordeling'!$1:$1,0)),Leveranciersbeoordeling!$H$1:$I$5,2,FALSE),0)","v":0},0]
["",null,null,null,null,null,null,null,null,null,null,null,null,null,null,{"$f":"INDEX($A:$O,ROW(),MATCH('Rapportage per vraag'!$C$12,'Data leveranciersbeoordeling'!$1:$1,0))","v":0},{"$f":"IFERROR(VLOOKUP(INDEX($A:$O,ROW(),MATCH('Rapportage per vraag'!$C$12,'Data leveranciersbeoordeling'!$1:$1,0)),Leveranciersbeoordeling!$H$1:$I$5,2,FALSE),0)","v":0},0]
["",null,null,null,null,null,null,null,null,null,null,null,null,null,null,{"$f":"INDEX($A:$O,ROW(),MATCH('Rapportage per vraag'!$C$12,'Data leveranciersbeoordeling'!$1:$1,0))","v":0},{"$f":"IFERROR(VLOOKUP(INDEX($A:$O,ROW(),MATCH('Rapportage per vraag'!$C$12,'Data leveranciersbeoordeling'!$1:$1,0)),Leveranciersbeoordeling!$H$1:$I$5,2,FALSE),0)","v":0},0]
["",null,null,null,null,null,null,null,null,null,null,null,null,null,null,{"$f":"INDEX($A:$O,ROW(),MATCH('Rapportage per vraag'!$C$12,'Data leveranciersbeoordeling'!$1:$1,0))","v":0},{"$f":"IFERROR(VLOOKUP(INDEX($A:$O,ROW(),MATCH('Rapportage per vraag'!$C$12,'Data leveranciersbeoordeling'!$1:$1,0)),Leveranciersbeoordeling!$H$1:$I$5,2,FALSE),0)","v":0},0]
["",null,null,null,null,null,null,null,null,null,null,null,null,null,null,{"$f":"INDEX($A:$O,ROW(),MATCH('Rapportage per vraag'!$C$12,'Data leveranciersbeoordeling'!$1:$1,0))","v":0},{"$f":"IFERROR(VLOOKUP(INDEX($A:$O,ROW(),MATCH('Rapportage per vraag'!$C$12,'Data leveranciersbeoordeling'!$1:$1,0)),Leveranciersbeoordeling!$H$1:$I$5,2,FALSE),0)","v":0},0]
["",null,null,null,null,null,null,null,null,null,null,null,null,null,null,{"$f":"INDEX($A:$O,ROW(),MATCH('Rapportage per vraag'!$C$12,'Data leveranciersbeoordeling'!$1:$1,0))","v":0},{"$f":"IFERROR(VLOOKUP(INDEX($A:$O,ROW(),MATCH('Rapportage per vraag'!$C$12,'Data leveranciersbeoordeling'!$1:$1,0)),Leveranciersbeoordeling!$H$1:$I$5,2,FALSE),0)","v":0},0]
["",null,null,null,null,null,null,null,null,null,null,null,null,null,null,{"$f":"INDEX($A:$O,ROW(),MATCH('Rapportage per vraag'!$C$12,'Data leveranciersbeoordeling'!$1:$1,0))","v":0},{"$f":"IFERROR(VLOOKUP(INDEX($A:$O,ROW(),MATCH('Rapportage per vraag'!$C$12,'Data leveranciersbeoordeling'!$1:$1,0)),Leveranciersbeoordeling!$H$1:$I$5,2,FALSE),0)","v":0},0]
["",null,null,null,null,null,null,null,null,null,null,null,null,null,null,{"$f":"INDEX($A:$O,ROW(),MATCH('Rapportage per vraag'!$C$12,'Data leveranciersbeoordeling'!$1:$1,0))","v":0},{"$f":"IFERROR(VLOOKUP(INDEX($A:$O,ROW(),MATCH('Rapportage per vraag'!$C$12,'Data leveranciersbeoordeling'!$1:$1,0)),Leveranciersbeoordeling!$H$1:$I$5,2,FALSE),0)","v":0},0]
["",null,null,null,null,null,null,null,null,null,null,null,null,null,null,{"$f":"INDEX($A:$O,ROW(),MATCH('Rapportage per vraag'!$C$12,'Data leveranciersbeoordeling'!$1:$1,0))","v":0},{"$f":"IFERROR(VLOOKUP(INDEX($A:$O,ROW(),MATCH('Rapportage per vraag'!$C$12,'Data leveranciersbeoordeling'!$1:$1,0)),Leveranciersbeoordeling!$H$1:$I$5,2,FALSE),0)","v":0},0]
["",null,null,null,null,null,null,null,null,null,null,null,null,null,null,{"$f":"INDEX($A:$O,ROW(),MATCH('Rapportage per vraag'!$C$12,'Data leveranciersbeoordeling'!$1:$1,0))","v":0},{"$f":"IFERROR(VLOOKUP(INDEX($A:$O,ROW(),MATCH('Rapportage per vraag'!$C$12,'Data leveranciersbeoordeling'!$1:$1,0)),Leveranciersbeoordeling!$H$1:$I$5,2,FALSE),0)","v":0},0]
["",null,null,null,null,null,null,null,null,null,null,null,null,null,null,{"$f":"INDEX($A:$O,ROW(),MATCH('Rapportage per vraag'!$C$12,'Data leveranciersbeoordeling'!$1:$1,0))","v":0},{"$f":"IFERROR(VLOOKUP(INDEX($A:$O,ROW(),MATCH('Rapportage per vraag'!$C$12,'Data leveranciersbeoordeling'!$1:$1,0)),Leveranciersbeoordeling!$H$1:$I$5,2,FALSE),0)","v":0},0]
["",null,null,null,null,null,null,null,null,null,null,null,null,null,null,{"$f":"INDEX($A:$O,ROW(),MATCH('Rapportage per vraag'!$C$12,'Data leveranciersbeoordeling'!$1:$1,0))","v":0},{"$f":"IFERROR(VLOOKUP(INDEX($A:$O,ROW(),MATCH('Rapportage per vraag'!$C$12,'Data leveranciersbeoordeling'!$1:$1,0)),Leveranciersbeoordeling!$H$1:$I$5,2,FALSE),0)","v":0},0]
["",null,null,null,null,null,null,null,null,null,null,null,null,null,null,{"$f":"INDEX($A:$O,ROW(),MATCH('Rapportage per vraag'!$C$12,'Data leveranciersbeoordeling'!$1:$1,0))","v":0},{"$f":"IFERROR(VLOOKUP(INDEX($A:$O,ROW(),MATCH('Rapportage per vraag'!$C$12,'Data leveranciersbeoordeling'!$1:$1,0)),Leveranciersbeoordeling!$H$1:$I$5,2,FALSE),0)","v":0},0]
["",null,null,null,null,null,null,null,null,null,null,null,null,null,null,{"$f":"INDEX($A:$O,ROW(),MATCH('Rapportage per vraag'!$C$12,'Data leveranciersbeoordeling'!$1:$1,0))","v":0},{"$f":"IFERROR(VLOOKUP(INDEX($A:$O,ROW(),MATCH('Rapportage per vraag'!$C$12,'Data leveranciersbeoordeling'!$1:$1,0)),Leveranciersbeoordeling!$H$1:$I$5,2,FALSE),0)","v":0},0]
["",null,null,null,null,null,null,null,null,null,null,null,null,null,null,{"$f":"INDEX($A:$O,ROW(),MATCH('Rapportage per vraag'!$C$12,'Data leveranciersbeoordeling'!$1:$1,0))","v":0},{"$f":"IFERROR(VLOOKUP(INDEX($A:$O,ROW(),MATCH('Rapportage per vraag'!$C$12,'Data leveranciersbeoordeling'!$1:$1,0)),Leveranciersbeoordeling!$H$1:$I$5,2,FALSE),0)","v":0},0]
["",null,null,null,null,null,null,null,null,null,null,null,null,null,null,{"$f":"INDEX($A:$O,ROW(),MATCH('Rapportage per vraag'!$C$12,'Data leveranciersbeoordeling'!$1:$1,0))","v":0},{"$f":"IFERROR(VLOOKUP(INDEX($A:$O,ROW(),MATCH('Rapportage per vraag'!$C$12,'Data leveranciersbeoordeling'!$1:$1,0)),Leveranciersbeoordeling!$H$1:$I$5,2,FALSE),0)","v":0},0]
["",null,null,null,null,null,null,null,null,null,null,null,null,null,null,{"$f":"INDEX($A:$O,ROW(),MATCH('Rapportage per vraag'!$C$12,'Data leveranciersbeoordeling'!$1:$1,0))","v":0},{"$f":"IFERROR(VLOOKUP(INDEX($A:$O,ROW(),MATCH('Rapportage per vraag'!$C$12,'Data leveranciersbeoordeling'!$1:$1,0)),Leveranciersbeoordeling!$H$1:$I$5,2,FALSE),0)","v":0},0]
["",null,null,null,null,null,null,null,null,null,null,null,null,null,null,{"$f":"INDEX($A:$O,ROW(),MATCH('Rapportage per vraag'!$C$12,'Data leveranciersbeoordeling'!$1:$1,0))","v":0},{"$f":"IFERROR(VLOOKUP(INDEX($A:$O,ROW(),MATCH('Rapportage per vraag'!$C$12,'Data leveranciersbeoordeling'!$1:$1,0)),Leveranciersbeoordeling!$H$1:$I$5,2,FALSE),0)","v":0},0]
["",null,null,null,null,null,null,null,null,null,null,null,null,null,null,{"$f":"INDEX($A:$O,ROW(),MATCH('Rapportage per vraag'!$C$12,'Data leveranciersbeoordeling'!$1:$1,0))","v":0},{"$f":"IFERROR(VLOOKUP(INDEX($A:$O,ROW(),MATCH('Rapportage per vraag'!$C$12,'Data leveranciersbeoordeling'!$1:$1,0)),Leveranciersbeoordeling!$H$1:$I$5,2,FALSE),0)","v":0},0]
["",null,null,null,null,null,null,null,null,null,null,null,null,null,null,{"$f":"INDEX($A:$O,ROW(),MATCH('Rapportage per vraag'!$C$12,'Data leveranciersbeoordeling'!$1:$1,0))","v":0},{"$f":"IFERROR(VLOOKUP(INDEX($A:$O,ROW(),MATCH('Rapportage per vraag'!$C$12,'Data leveranciersbeoordeling'!$1:$1,0)),Leveranciersbeoordeling!$H$1:$I$5,2,FALSE),0)","v":0},0]
["",null,null,null,null,null,null,null,null,null,null,null,null,null,null,{"$f":"INDEX($A:$O,ROW(),MATCH('Rapportage per vraag'!$C$12,'Data leveranciersbeoordeling'!$1:$1,0))","v":0},{"$f":"IFERROR(VLOOKUP(INDEX($A:$O,ROW(),MATCH('Rapportage per vraag'!$C$12,'Data leveranciersbeoordeling'!$1:$1,0)),Leveranciersbeoordeling!$H$1:$I$5,2,FALSE),0)","v":0},0]
["",null,null,null,null,null,null,null,null,null,null,null,null,null,null,{"$f":"INDEX($A:$O,ROW(),MATCH('Rapportage per vraag'!$C$12,'Data leveranciersbeoordeling'!$1:$1,0))","v":0},{"$f":"IFERROR(VLOOKUP(INDEX($A:$O,ROW(),MATCH('Rapportage per vraag'!$C$12,'Data leveranciersbeoordeling'!$1:$1,0)),Leveranciersbeoordeling!$H$1:$I$5,2,FALSE),0)","v":0},0]
["",null,null,null,null,null,null,null,null,null,null,null,null,null,null,{"$f":"INDEX($A:$O,ROW(),MATCH('Rapportage per vraag'!$C$12,'Data leveranciersbeoordeling'!$1:$1,0))","v":0},{"$f":"IFERROR(VLOOKUP(INDEX($A:$O,ROW(),MATCH('Rapportage per vraag'!$C$12,'Data leveranciersbeoordeling'!$1:$1,0)),Leveranciersbeoordeling!$H$1:$I$5,2,FALSE),0)","v":0},0]
["",null,null,null,null,null,null,null,null,null,null,null,null,null,null,{"$f":"INDEX($A:$O,ROW(),MATCH('Rapportage per vraag'!$C$12,'Data leveranciersbeoordeling'!$1:$1,0))","v":0},{"$f":"IFERROR(VLOOKUP(INDEX($A:$O,ROW(),MATCH('Rapportage per vraag'!$C$12,'Data leveranciersbeoordeling'!$1:$1,0)),Leveranciersbeoordeling!$H$1:$I$5,2,FALSE),0)","v":0},0]
["",null,null,null,null,null,null,null,null,null,null,null,null,null,null,{"$f":"INDEX($A:$O,ROW(),MATCH('Rapportage per vraag'!$C$12,'Data leveranciersbeoordeling'!$1:$1,0))","v":0},{"$f":"IFERROR(VLOOKUP(INDEX($A:$O,ROW(),MATCH('Rapportage per vraag'!$C$12,'Data leveranciersbeoordeling'!$1:$1,0)),Leveranciersbeoordeling!$H$1:$I$5,2,FALSE),0)","v":0},0]
["",null,null,null,null,null,null,null,null,null,null,null,null,null,null,{"$f":"INDEX($A:$O,ROW(),MATCH('Rapportage per vraag'!$C$12,'Data leveranciersbeoordeling'!$1:$1,0))","v":0},{"$f":"IFERROR(VLOOKUP(INDEX($A:$O,ROW(),MATCH('Rapportage per vraag'!$C$12,'Data leveranciersbeoordeling'!$1:$1,0)),Leveranciersbeoordeling!$H$1:$I$5,2,FALSE),0)","v":0},0]
["",null,null,null,null,null,null,null,null,null,null,null,null,null,null,{"$f":"INDEX($A:$O,ROW(),MATCH('Rapportage per vraag'!$C$12,'Data leveranciersbeoordeling'!$1:$1,0))","v":0},{"$f":"IFERROR(VLOOKUP(INDEX($A:$O,ROW(),MATCH('Rapportage per vraag'!$C$12,'Data leveranciersbeoordeling'!$1:$1,0)),Leveranciersbeoordeling!$H$1:$I$5,2,FALSE),0)","v":0},0]
[{"$f":"CONCATENATE(B707,C707,D707)","v":""},null,null,null,null,null,null,null,null,null,null,null,null,null,null,{"$f":"INDEX($A:$O,ROW(),MATCH('Rapportage per vraag'!$C$12,'Data leveranciersbeoordeling'!$1:$1,0))","v":0},{"$f":"IFERROR(VLOOKUP(INDEX($A:$O,ROW(),MATCH('Rapportage per vraag'!$C$12,'Data leveranciersbeoordeling'!$1:$1,0)),Leveranciersbeoordeling!$H$1:$I$5,2,FALSE),0)","v":0},0]
["",null,null,null,null,null,null,null,null,null,null,null,null,null,null,{"$f":"INDEX($A:$O,ROW(),MATCH('Rapportage per vraag'!$C$12,'Data leveranciersbeoordeling'!$1:$1,0))","v":0},{"$f":"IFERROR(VLOOKUP(INDEX($A:$O,ROW(),MATCH('Rapportage per vraag'!$C$12,'Data leveranciersbeoordeling'!$1:$1,0)),Leveranciersbeoordeling!$H$1:$I$5,2,FALSE),0)","v":0},0]
["",null,null,null,null,null,null,null,null,null,null,null,null,null,null,{"$f":"INDEX($A:$O,ROW(),MATCH('Rapportage per vraag'!$C$12,'Data leveranciersbeoordeling'!$1:$1,0))","v":0},{"$f":"IFERROR(VLOOKUP(INDEX($A:$O,ROW(),MATCH('Rapportage per vraag'!$C$12,'Data leveranciersbeoordeling'!$1:$1,0)),Leveranciersbeoordeling!$H$1:$I$5,2,FALSE),0)","v":0},0]
["",null,null,null,null,null,null,null,null,null,null,null,null,null,null,{"$f":"INDEX($A:$O,ROW(),MATCH('Rapportage per vraag'!$C$12,'Data leveranciersbeoordeling'!$1:$1,0))","v":0},{"$f":"IFERROR(VLOOKUP(INDEX($A:$O,ROW(),MATCH('Rapportage per vraag'!$C$12,'Data leveranciersbeoordeling'!$1:$1,0)),Leveranciersbeoordeling!$H$1:$I$5,2,FALSE),0)","v":0},{"$f":"IF(T(P710)=P710,Q710,P710)","v":0}]
["",null,null,null,null,null,null,null,null,null,null,null,null,null,null,{"$f":"INDEX($A:$O,ROW(),MATCH('Rapportage per vraag'!$C$12,'Data leveranciersbeoordeling'!$1:$1,0))","v":0},{"$f":"IFERROR(VLOOKUP(INDEX($A:$O,ROW(),MATCH('Rapportage per vraag'!$C$12,'Data leveranciersbeoordeling'!$1:$1,0)),Leveranciersbeoordeling!$H$1:$I$5,2,FALSE),0)","v":0},0]
["",null,null,null,null,null,null,null,null,null,null,null,null,null,null,{"$f":"INDEX($A:$O,ROW(),MATCH('Rapportage per vraag'!$C$12,'Data leveranciersbeoordeling'!$1:$1,0))","v":0},{"$f":"IFERROR(VLOOKUP(INDEX($A:$O,ROW(),MATCH('Rapportage per vraag'!$C$12,'Data leveranciersbeoordeling'!$1:$1,0)),Leveranciersbeoordeling!$H$1:$I$5,2,FALSE),0)","v":0},0]
["",null,null,null,null,null,null,null,null,null,null,null,null,null,null,{"$f":"INDEX($A:$O,ROW(),MATCH('Rapportage per vraag'!$C$12,'Data leveranciersbeoordeling'!$1:$1,0))","v":0},{"$f":"IFERROR(VLOOKUP(INDEX($A:$O,ROW(),MATCH('Rapportage per vraag'!$C$12,'Data leveranciersbeoordeling'!$1:$1,0)),Leveranciersbeoordeling!$H$1:$I$5,2,FALSE),0)","v":0},0]
["",null,null,null,null,null,null,null,null,null,null,null,null,null,null,{"$f":"INDEX($A:$O,ROW(),MATCH('Rapportage per vraag'!$C$12,'Data leveranciersbeoordeling'!$1:$1,0))","v":0},{"$f":"IFERROR(VLOOKUP(INDEX($A:$O,ROW(),MATCH('Rapportage per vraag'!$C$12,'Data leveranciersbeoordeling'!$1:$1,0)),Leveranciersbeoordeling!$H$1:$I$5,2,FALSE),0)","v":0},0]
["",null,null,null,null,null,null,null,null,null,null,null,null,null,null,{"$f":"INDEX($A:$O,ROW(),MATCH('Rapportage per vraag'!$C$12,'Data leveranciersbeoordeling'!$1:$1,0))","v":0},{"$f":"IFERROR(VLOOKUP(INDEX($A:$O,ROW(),MATCH('Rapportage per vraag'!$C$12,'Data leveranciersbeoordeling'!$1:$1,0)),Leveranciersbeoordeling!$H$1:$I$5,2,FALSE),0)","v":0},0]
["",null,null,null,null,null,null,null,null,null,null,null,null,null,null,{"$f":"INDEX($A:$O,ROW(),MATCH('Rapportage per vraag'!$C$12,'Data leveranciersbeoordeling'!$1:$1,0))","v":0},{"$f":"IFERROR(VLOOKUP(INDEX($A:$O,ROW(),MATCH('Rapportage per vraag'!$C$12,'Data leveranciersbeoordeling'!$1:$1,0)),Leveranciersbeoordeling!$H$1:$I$5,2,FALSE),0)","v":0},0]
["",null,null,null,null,null,null,null,null,null,null,null,null,null,null,{"$f":"INDEX($A:$O,ROW(),MATCH('Rapportage per vraag'!$C$12,'Data leveranciersbeoordeling'!$1:$1,0))","v":0},{"$f":"IFERROR(VLOOKUP(INDEX($A:$O,ROW(),MATCH('Rapportage per vraag'!$C$12,'Data leveranciersbeoordeling'!$1:$1,0)),Leveranciersbeoordeling!$H$1:$I$5,2,FALSE),0)","v":0},0]
["",null,null,null,null,null,null,null,null,null,null,null,null,null,null,{"$f":"INDEX($A:$O,ROW(),MATCH('Rapportage per vraag'!$C$12,'Data leveranciersbeoordeling'!$1:$1,0))","v":0},{"$f":"IFERROR(VLOOKUP(INDEX($A:$O,ROW(),MATCH('Rapportage per vraag'!$C$12,'Data leveranciersbeoordeling'!$1:$1,0)),Leveranciersbeoordeling!$H$1:$I$5,2,FALSE),0)","v":0},0]
["",null,null,null,null,null,null,null,null,null,null,null,null,null,null,{"$f":"INDEX($A:$O,ROW(),MATCH('Rapportage per vraag'!$C$12,'Data leveranciersbeoordeling'!$1:$1,0))","v":0},{"$f":"IFERROR(VLOOKUP(INDEX($A:$O,ROW(),MATCH('Rapportage per vraag'!$C$12,'Data leveranciersbeoordeling'!$1:$1,0)),Leveranciersbeoordeling!$H$1:$I$5,2,FALSE),0)","v":0},0]
["",null,null,null,null,null,null,null,null,null,null,null,null,null,null,{"$f":"INDEX($A:$O,ROW(),MATCH('Rapportage per vraag'!$C$12,'Data leveranciersbeoordeling'!$1:$1,0))","v":0},{"$f":"IFERROR(VLOOKUP(INDEX($A:$O,ROW(),MATCH('Rapportage per vraag'!$C$12,'Data leveranciersbeoordeling'!$1:$1,0)),Leveranciersbeoordeling!$H$1:$I$5,2,FALSE),0)","v":0},0]
["",null,null,null,null,null,null,null,null,null,null,null,null,null,null,{"$f":"INDEX($A:$O,ROW(),MATCH('Rapportage per vraag'!$C$12,'Data leveranciersbeoordeling'!$1:$1,0))","v":0},{"$f":"IFERROR(VLOOKUP(INDEX($A:$O,ROW(),MATCH('Rapportage per vraag'!$C$12,'Data leveranciersbeoordeling'!$1:$1,0)),Leveranciersbeoordeling!$H$1:$I$5,2,FALSE),0)","v":0},0]
["",null,null,null,null,null,null,null,null,null,null,null,null,null,null,{"$f":"INDEX($A:$O,ROW(),MATCH('Rapportage per vraag'!$C$12,'Data leveranciersbeoordeling'!$1:$1,0))","v":0},{"$f":"IFERROR(VLOOKUP(INDEX($A:$O,ROW(),MATCH('Rapportage per vraag'!$C$12,'Data leveranciersbeoordeling'!$1:$1,0)),Leveranciersbeoordeling!$H$1:$I$5,2,FALSE),0)","v":0},0]
["",null,null,null,null,null,null,null,null,null,null,null,null,null,null,{"$f":"INDEX($A:$O,ROW(),MATCH('Rapportage per vraag'!$C$12,'Data leveranciersbeoordeling'!$1:$1,0))","v":0},{"$f":"IFERROR(VLOOKUP(INDEX($A:$O,ROW(),MATCH('Rapportage per vraag'!$C$12,'Data leveranciersbeoordeling'!$1:$1,0)),Leveranciersbeoordeling!$H$1:$I$5,2,FALSE),0)","v":0},0]
["",null,null,null,null,null,null,null,null,null,null,null,null,null,null,{"$f":"INDEX($A:$O,ROW(),MATCH('Rapportage per vraag'!$C$12,'Data leveranciersbeoordeling'!$1:$1,0))","v":0},{"$f":"IFERROR(VLOOKUP(INDEX($A:$O,ROW(),MATCH('Rapportage per vraag'!$C$12,'Data leveranciersbeoordeling'!$1:$1,0)),Leveranciersbeoordeling!$H$1:$I$5,2,FALSE),0)","v":0},0]
["",null,null,null,null,null,null,null,null,null,null,null,null,null,null,{"$f":"INDEX($A:$O,ROW(),MATCH('Rapportage per vraag'!$C$12,'Data leveranciersbeoordeling'!$1:$1,0))","v":0},{"$f":"IFERROR(VLOOKUP(INDEX($A:$O,ROW(),MATCH('Rapportage per vraag'!$C$12,'Data leveranciersbeoordeling'!$1:$1,0)),Leveranciersbeoordeling!$H$1:$I$5,2,FALSE),0)","v":0},0]
["",null,null,null,null,null,null,null,null,null,null,null,null,null,null,{"$f":"INDEX($A:$O,ROW(),MATCH('Rapportage per vraag'!$C$12,'Data leveranciersbeoordeling'!$1:$1,0))","v":0},{"$f":"IFERROR(VLOOKUP(INDEX($A:$O,ROW(),MATCH('Rapportage per vraag'!$C$12,'Data leveranciersbeoordeling'!$1:$1,0)),Leveranciersbeoordeling!$H$1:$I$5,2,FALSE),0)","v":0},0]
["",null,null,null,null,null,null,null,null,null,null,null,null,null,null,{"$f":"INDEX($A:$O,ROW(),MATCH('Rapportage per vraag'!$C$12,'Data leveranciersbeoordeling'!$1:$1,0))","v":0},{"$f":"IFERROR(VLOOKUP(INDEX($A:$O,ROW(),MATCH('Rapportage per vraag'!$C$12,'Data leveranciersbeoordeling'!$1:$1,0)),Leveranciersbeoordeling!$H$1:$I$5,2,FALSE),0)","v":0},0]
["",null,null,null,null,null,null,null,null,null,null,null,null,null,null,{"$f":"INDEX($A:$O,ROW(),MATCH('Rapportage per vraag'!$C$12,'Data leveranciersbeoordeling'!$1:$1,0))","v":0},{"$f":"IFERROR(VLOOKUP(INDEX($A:$O,ROW(),MATCH('Rapportage per vraag'!$C$12,'Data leveranciersbeoordeling'!$1:$1,0)),Leveranciersbeoordeling!$H$1:$I$5,2,FALSE),0)","v":0},0]
["",null,null,null,null,null,null,null,null,null,null,null,null,null,null,{"$f":"INDEX($A:$O,ROW(),MATCH('Rapportage per vraag'!$C$12,'Data leveranciersbeoordeling'!$1:$1,0))","v":0},{"$f":"IFERROR(VLOOKUP(INDEX($A:$O,ROW(),MATCH('Rapportage per vraag'!$C$12,'Data leveranciersbeoordeling'!$1:$1,0)),Leveranciersbeoordeling!$H$1:$I$5,2,FALSE),0)","v":0},0]
["",null,null,null,null,null,null,null,null,null,null,null,null,null,null,{"$f":"INDEX($A:$O,ROW(),MATCH('Rapportage per vraag'!$C$12,'Data leveranciersbeoordeling'!$1:$1,0))","v":0},{"$f":"IFERROR(VLOOKUP(INDEX($A:$O,ROW(),MATCH('Rapportage per vraag'!$C$12,'Data leveranciersbeoordeling'!$1:$1,0)),Leveranciersbeoordeling!$H$1:$I$5,2,FALSE),0)","v":0},0]
["",null,null,null,null,null,null,null,null,null,null,null,null,null,null,{"$f":"INDEX($A:$O,ROW(),MATCH('Rapportage per vraag'!$C$12,'Data leveranciersbeoordeling'!$1:$1,0))","v":0},{"$f":"IFERROR(VLOOKUP(INDEX($A:$O,ROW(),MATCH('Rapportage per vraag'!$C$12,'Data leveranciersbeoordeling'!$1:$1,0)),Leveranciersbeoordeling!$H$1:$I$5,2,FALSE),0)","v":0},0]
["",null,null,null,null,null,null,null,null,null,null,null,null,null,null,{"$f":"INDEX($A:$O,ROW(),MATCH('Rapportage per vraag'!$C$12,'Data leveranciersbeoordeling'!$1:$1,0))","v":0},{"$f":"IFERROR(VLOOKUP(INDEX($A:$O,ROW(),MATCH('Rapportage per vraag'!$C$12,'Data leveranciersbeoordeling'!$1:$1,0)),Leveranciersbeoordeling!$H$1:$I$5,2,FALSE),0)","v":0},0]
["",null,null,null,null,null,null,null,null,null,null,null,null,null,null,{"$f":"INDEX($A:$O,ROW(),MATCH('Rapportage per vraag'!$C$12,'Data leveranciersbeoordeling'!$1:$1,0))","v":0},{"$f":"IFERROR(VLOOKUP(INDEX($A:$O,ROW(),MATCH('Rapportage per vraag'!$C$12,'Data leveranciersbeoordeling'!$1:$1,0)),Leveranciersbeoordeling!$H$1:$I$5,2,FALSE),0)","v":0},0]
["",null,null,null,null,null,null,null,null,null,null,null,null,null,null,{"$f":"INDEX($A:$O,ROW(),MATCH('Rapportage per vraag'!$C$12,'Data leveranciersbeoordeling'!$1:$1,0))","v":0},{"$f":"IFERROR(VLOOKUP(INDEX($A:$O,ROW(),MATCH('Rapportage per vraag'!$C$12,'Data leveranciersbeoordeling'!$1:$1,0)),Leveranciersbeoordeling!$H$1:$I$5,2,FALSE),0)","v":0},0]
["",null,null,null,null,null,null,null,null,null,null,null,null,null,null,{"$f":"INDEX($A:$O,ROW(),MATCH('Rapportage per vraag'!$C$12,'Data leveranciersbeoordeling'!$1:$1,0))","v":0},{"$f":"IFERROR(VLOOKUP(INDEX($A:$O,ROW(),MATCH('Rapportage per vraag'!$C$12,'Data leveranciersbeoordeling'!$1:$1,0)),Leveranciersbeoordeling!$H$1:$I$5,2,FALSE),0)","v":0},0]
["",null,null,null,null,null,null,null,null,null,null,null,null,null,null,{"$f":"INDEX($A:$O,ROW(),MATCH('Rapportage per vraag'!$C$12,'Data leveranciersbeoordeling'!$1:$1,0))","v":0},{"$f":"IFERROR(VLOOKUP(INDEX($A:$O,ROW(),MATCH('Rapportage per vraag'!$C$12,'Data leveranciersbeoordeling'!$1:$1,0)),Leveranciersbeoordeling!$H$1:$I$5,2,FALSE),0)","v":0},0]
["",null,null,null,null,null,null,null,null,null,null,null,null,null,null,{"$f":"INDEX($A:$O,ROW(),MATCH('Rapportage per vraag'!$C$12,'Data leveranciersbeoordeling'!$1:$1,0))","v":0},{"$f":"IFERROR(VLOOKUP(INDEX($A:$O,ROW(),MATCH('Rapportage per vraag'!$C$12,'Data leveranciersbeoordeling'!$1:$1,0)),Leveranciersbeoordeling!$H$1:$I$5,2,FALSE),0)","v":0},0]
["",null,null,null,null,null,null,null,null,null,null,null,null,null,null,{"$f":"INDEX($A:$O,ROW(),MATCH('Rapportage per vraag'!$C$12,'Data leveranciersbeoordeling'!$1:$1,0))","v":0},{"$f":"IFERROR(VLOOKUP(INDEX($A:$O,ROW(),MATCH('Rapportage per vraag'!$C$12,'Data leveranciersbeoordeling'!$1:$1,0)),Leveranciersbeoordeling!$H$1:$I$5,2,FALSE),0)","v":0},0]
["",null,null,null,null,null,null,null,null,null,null,null,null,null,null,{"$f":"INDEX($A:$O,ROW(),MATCH('Rapportage per vraag'!$C$12,'Data leveranciersbeoordeling'!$1:$1,0))","v":0},{"$f":"IFERROR(VLOOKUP(INDEX($A:$O,ROW(),MATCH('Rapportage per vraag'!$C$12,'Data leveranciersbeoordeling'!$1:$1,0)),Leveranciersbeoordeling!$H$1:$I$5,2,FALSE),0)","v":0},0]
["",null,null,null,null,null,null,null,null,null,null,null,null,null,null,{"$f":"INDEX($A:$O,ROW(),MATCH('Rapportage per vraag'!$C$12,'Data leveranciersbeoordeling'!$1:$1,0))","v":0},{"$f":"IFERROR(VLOOKUP(INDEX($A:$O,ROW(),MATCH('Rapportage per vraag'!$C$12,'Data leveranciersbeoordeling'!$1:$1,0)),Leveranciersbeoordeling!$H$1:$I$5,2,FALSE),0)","v":0},0]
["",null,null,null,null,null,null,null,null,null,null,null,null,null,null,{"$f":"INDEX($A:$O,ROW(),MATCH('Rapportage per vraag'!$C$12,'Data leveranciersbeoordeling'!$1:$1,0))","v":0},{"$f":"IFERROR(VLOOKUP(INDEX($A:$O,ROW(),MATCH('Rapportage per vraag'!$C$12,'Data leveranciersbeoordeling'!$1:$1,0)),Leveranciersbeoordeling!$H$1:$I$5,2,FALSE),0)","v":0},0]
["",null,null,null,null,null,null,null,null,null,null,null,null,null,null,{"$f":"INDEX($A:$O,ROW(),MATCH('Rapportage per vraag'!$C$12,'Data leveranciersbeoordeling'!$1:$1,0))","v":0},{"$f":"IFERROR(VLOOKUP(INDEX($A:$O,ROW(),MATCH('Rapportage per vraag'!$C$12,'Data leveranciersbeoordeling'!$1:$1,0)),Leveranciersbeoordeling!$H$1:$I$5,2,FALSE),0)","v":0},0]
["",null,null,null,null,null,null,null,null,null,null,null,null,null,null,{"$f":"INDEX($A:$O,ROW(),MATCH('Rapportage per vraag'!$C$12,'Data leveranciersbeoordeling'!$1:$1,0))","v":0},{"$f":"IFERROR(VLOOKUP(INDEX($A:$O,ROW(),MATCH('Rapportage per vraag'!$C$12,'Data leveranciersbeoordeling'!$1:$1,0)),Leveranciersbeoordeling!$H$1:$I$5,2,FALSE),0)","v":0},0]
["",null,null,null,null,null,null,null,null,null,null,null,null,null,null,{"$f":"INDEX($A:$O,ROW(),MATCH('Rapportage per vraag'!$C$12,'Data leveranciersbeoordeling'!$1:$1,0))","v":0},{"$f":"IFERROR(VLOOKUP(INDEX($A:$O,ROW(),MATCH('Rapportage per vraag'!$C$12,'Data leveranciersbeoordeling'!$1:$1,0)),Leveranciersbeoordeling!$H$1:$I$5,2,FALSE),0)","v":0},0]
["",null,null,null,null,null,null,null,null,null,null,null,null,null,null,{"$f":"INDEX($A:$O,ROW(),MATCH('Rapportage per vraag'!$C$12,'Data leveranciersbeoordeling'!$1:$1,0))","v":0},{"$f":"IFERROR(VLOOKUP(INDEX($A:$O,ROW(),MATCH('Rapportage per vraag'!$C$12,'Data leveranciersbeoordeling'!$1:$1,0)),Leveranciersbeoordeling!$H$1:$I$5,2,FALSE),0)","v":0},0]
["",null,null,null,null,null,null,null,null,null,null,null,null,null,null,{"$f":"INDEX($A:$O,ROW(),MATCH('Rapportage per vraag'!$C$12,'Data leveranciersbeoordeling'!$1:$1,0))","v":0},{"$f":"IFERROR(VLOOKUP(INDEX($A:$O,ROW(),MATCH('Rapportage per vraag'!$C$12,'Data leveranciersbeoordeling'!$1:$1,0)),Leveranciersbeoordeling!$H$1:$I$5,2,FALSE),0)","v":0},0]
["",null,null,null,null,null,null,null,null,null,null,null,null,null,null,{"$f":"INDEX($A:$O,ROW(),MATCH('Rapportage per vraag'!$C$12,'Data leveranciersbeoordeling'!$1:$1,0))","v":0},{"$f":"IFERROR(VLOOKUP(INDEX($A:$O,ROW(),MATCH('Rapportage per vraag'!$C$12,'Data leveranciersbeoordeling'!$1:$1,0)),Leveranciersbeoordeling!$H$1:$I$5,2,FALSE),0)","v":0},0]
["",null,null,null,null,null,null,null,null,null,null,null,null,null,null,{"$f":"INDEX($A:$O,ROW(),MATCH('Rapportage per vraag'!$C$12,'Data leveranciersbeoordeling'!$1:$1,0))","v":0},{"$f":"IFERROR(VLOOKUP(INDEX($A:$O,ROW(),MATCH('Rapportage per vraag'!$C$12,'Data leveranciersbeoordeling'!$1:$1,0)),Leveranciersbeoordeling!$H$1:$I$5,2,FALSE),0)","v":0},0]
["",null,null,null,null,null,null,null,null,null,null,null,null,null,null,{"$f":"INDEX($A:$O,ROW(),MATCH('Rapportage per vraag'!$C$12,'Data leveranciersbeoordeling'!$1:$1,0))","v":0},{"$f":"IFERROR(VLOOKUP(INDEX($A:$O,ROW(),MATCH('Rapportage per vraag'!$C$12,'Data leveranciersbeoordeling'!$1:$1,0)),Leveranciersbeoordeling!$H$1:$I$5,2,FALSE),0)","v":0},0]
["",null,null,null,null,null,null,null,null,null,null,null,null,null,null,{"$f":"INDEX($A:$O,ROW(),MATCH('Rapportage per vraag'!$C$12,'Data leveranciersbeoordeling'!$1:$1,0))","v":0},{"$f":"IFERROR(VLOOKUP(INDEX($A:$O,ROW(),MATCH('Rapportage per vraag'!$C$12,'Data leveranciersbeoordeling'!$1:$1,0)),Leveranciersbeoordeling!$H$1:$I$5,2,FALSE),0)","v":0},0]
["",null,null,null,null,null,null,null,null,null,null,null,null,null,null,{"$f":"INDEX($A:$O,ROW(),MATCH('Rapportage per vraag'!$C$12,'Data leveranciersbeoordeling'!$1:$1,0))","v":0},{"$f":"IFERROR(VLOOKUP(INDEX($A:$O,ROW(),MATCH('Rapportage per vraag'!$C$12,'Data leveranciersbeoordeling'!$1:$1,0)),Leveranciersbeoordeling!$H$1:$I$5,2,FALSE),0)","v":0},0]
["",null,null,null,null,null,null,null,null,null,null,null,null,null,null,{"$f":"INDEX($A:$O,ROW(),MATCH('Rapportage per vraag'!$C$12,'Data leveranciersbeoordeling'!$1:$1,0))","v":0},{"$f":"IFERROR(VLOOKUP(INDEX($A:$O,ROW(),MATCH('Rapportage per vraag'!$C$12,'Data leveranciersbeoordeling'!$1:$1,0)),Leveranciersbeoordeling!$H$1:$I$5,2,FALSE),0)","v":0},0]
["",null,null,null,null,null,null,null,null,null,null,null,null,null,null,{"$f":"INDEX($A:$O,ROW(),MATCH('Rapportage per vraag'!$C$12,'Data leveranciersbeoordeling'!$1:$1,0))","v":0},{"$f":"IFERROR(VLOOKUP(INDEX($A:$O,ROW(),MATCH('Rapportage per vraag'!$C$12,'Data leveranciersbeoordeling'!$1:$1,0)),Leveranciersbeoordeling!$H$1:$I$5,2,FALSE),0)","v":0},0]
["",null,null,null,null,null,null,null,null,null,null,null,null,null,null,{"$f":"INDEX($A:$O,ROW(),MATCH('Rapportage per vraag'!$C$12,'Data leveranciersbeoordeling'!$1:$1,0))","v":0},{"$f":"IFERROR(VLOOKUP(INDEX($A:$O,ROW(),MATCH('Rapportage per vraag'!$C$12,'Data leveranciersbeoordeling'!$1:$1,0)),Leveranciersbeoordeling!$H$1:$I$5,2,FALSE),0)","v":0},0]
["",null,null,null,null,null,null,null,null,null,null,null,null,null,null,{"$f":"INDEX($A:$O,ROW(),MATCH('Rapportage per vraag'!$C$12,'Data leveranciersbeoordeling'!$1:$1,0))","v":0},{"$f":"IFERROR(VLOOKUP(INDEX($A:$O,ROW(),MATCH('Rapportage per vraag'!$C$12,'Data leveranciersbeoordeling'!$1:$1,0)),Leveranciersbeoordeling!$H$1:$I$5,2,FALSE),0)","v":0},0]
["",null,null,null,null,null,null,null,null,null,null,null,null,null,null,{"$f":"INDEX($A:$O,ROW(),MATCH('Rapportage per vraag'!$C$12,'Data leveranciersbeoordeling'!$1:$1,0))","v":0},{"$f":"IFERROR(VLOOKUP(INDEX($A:$O,ROW(),MATCH('Rapportage per vraag'!$C$12,'Data leveranciersbeoordeling'!$1:$1,0)),Leveranciersbeoordeling!$H$1:$I$5,2,FALSE),0)","v":0},0]
["",null,null,null,null,null,null,null,null,null,null,null,null,null,null,{"$f":"INDEX($A:$O,ROW(),MATCH('Rapportage per vraag'!$C$12,'Data leveranciersbeoordeling'!$1:$1,0))","v":0},{"$f":"IFERROR(VLOOKUP(INDEX($A:$O,ROW(),MATCH('Rapportage per vraag'!$C$12,'Data leveranciersbeoordeling'!$1:$1,0)),Leveranciersbeoordeling!$H$1:$I$5,2,FALSE),0)","v":0},0]
["",null,null,null,null,null,null,null,null,null,null,null,null,null,null,{"$f":"INDEX($A:$O,ROW(),MATCH('Rapportage per vraag'!$C$12,'Data leveranciersbeoordeling'!$1:$1,0))","v":0},{"$f":"IFERROR(VLOOKUP(INDEX($A:$O,ROW(),MATCH('Rapportage per vraag'!$C$12,'Data leveranciersbeoordeling'!$1:$1,0)),Leveranciersbeoordeling!$H$1:$I$5,2,FALSE),0)","v":0},0]
["",null,null,null,null,null,null,null,null,null,null,null,null,null,null,{"$f":"INDEX($A:$O,ROW(),MATCH('Rapportage per vraag'!$C$12,'Data leveranciersbeoordeling'!$1:$1,0))","v":0},{"$f":"IFERROR(VLOOKUP(INDEX($A:$O,ROW(),MATCH('Rapportage per vraag'!$C$12,'Data leveranciersbeoordeling'!$1:$1,0)),Leveranciersbeoordeling!$H$1:$I$5,2,FALSE),0)","v":0},0]
["",null,null,null,null,null,null,null,null,null,null,null,null,null,null,{"$f":"INDEX($A:$O,ROW(),MATCH('Rapportage per vraag'!$C$12,'Data leveranciersbeoordeling'!$1:$1,0))","v":0},{"$f":"IFERROR(VLOOKUP(INDEX($A:$O,ROW(),MATCH('Rapportage per vraag'!$C$12,'Data leveranciersbeoordeling'!$1:$1,0)),Leveranciersbeoordeling!$H$1:$I$5,2,FALSE),0)","v":0},0]
["",null,null,null,null,null,null,null,null,null,null,null,null,null,null,{"$f":"INDEX($A:$O,ROW(),MATCH('Rapportage per vraag'!$C$12,'Data leveranciersbeoordeling'!$1:$1,0))","v":0},{"$f":"IFERROR(VLOOKUP(INDEX($A:$O,ROW(),MATCH('Rapportage per vraag'!$C$12,'Data leveranciersbeoordeling'!$1:$1,0)),Leveranciersbeoordeling!$H$1:$I$5,2,FALSE),0)","v":0},0]
["",null,null,null,null,null,null,null,null,null,null,null,null,null,null,{"$f":"INDEX($A:$O,ROW(),MATCH('Rapportage per vraag'!$C$12,'Data leveranciersbeoordeling'!$1:$1,0))","v":0},{"$f":"IFERROR(VLOOKUP(INDEX($A:$O,ROW(),MATCH('Rapportage per vraag'!$C$12,'Data leveranciersbeoordeling'!$1:$1,0)),Leveranciersbeoordeling!$H$1:$I$5,2,FALSE),0)","v":0},0]
["",null,null,null,null,null,null,null,null,null,null,null,null,null,null,{"$f":"INDEX($A:$O,ROW(),MATCH('Rapportage per vraag'!$C$12,'Data leveranciersbeoordeling'!$1:$1,0))","v":0},{"$f":"IFERROR(VLOOKUP(INDEX($A:$O,ROW(),MATCH('Rapportage per vraag'!$C$12,'Data leveranciersbeoordeling'!$1:$1,0)),Leveranciersbeoordeling!$H$1:$I$5,2,FALSE),0)","v":0},0]
["",null,null,null,null,null,null,null,null,null,null,null,null,null,null,{"$f":"INDEX($A:$O,ROW(),MATCH('Rapportage per vraag'!$C$12,'Data leveranciersbeoordeling'!$1:$1,0))","v":0},{"$f":"IFERROR(VLOOKUP(INDEX($A:$O,ROW(),MATCH('Rapportage per vraag'!$C$12,'Data leveranciersbeoordeling'!$1:$1,0)),Leveranciersbeoordeling!$H$1:$I$5,2,FALSE),0)","v":0},0]
["",null,null,null,null,null,null,null,null,null,null,null,null,null,null,{"$f":"INDEX($A:$O,ROW(),MATCH('Rapportage per vraag'!$C$12,'Data leveranciersbeoordeling'!$1:$1,0))","v":0},{"$f":"IFERROR(VLOOKUP(INDEX($A:$O,ROW(),MATCH('Rapportage per vraag'!$C$12,'Data leveranciersbeoordeling'!$1:$1,0)),Leveranciersbeoordeling!$H$1:$I$5,2,FALSE),0)","v":0},0]
["",null,null,null,null,null,null,null,null,null,null,null,null,null,null,{"$f":"INDEX($A:$O,ROW(),MATCH('Rapportage per vraag'!$C$12,'Data leveranciersbeoordeling'!$1:$1,0))","v":0},{"$f":"IFERROR(VLOOKUP(INDEX($A:$O,ROW(),MATCH('Rapportage per vraag'!$C$12,'Data leveranciersbeoordeling'!$1:$1,0)),Leveranciersbeoordeling!$H$1:$I$5,2,FALSE),0)","v":0},0]
["",null,null,null,null,null,null,null,null,null,null,null,null,null,null,{"$f":"INDEX($A:$O,ROW(),MATCH('Rapportage per vraag'!$C$12,'Data leveranciersbeoordeling'!$1:$1,0))","v":0},{"$f":"IFERROR(VLOOKUP(INDEX($A:$O,ROW(),MATCH('Rapportage per vraag'!$C$12,'Data leveranciersbeoordeling'!$1:$1,0)),Leveranciersbeoordeling!$H$1:$I$5,2,FALSE),0)","v":0},0]
["",null,null,null,null,null,null,null,null,null,null,null,null,null,null,{"$f":"INDEX($A:$O,ROW(),MATCH('Rapportage per vraag'!$C$12,'Data leveranciersbeoordeling'!$1:$1,0))","v":0},{"$f":"IFERROR(VLOOKUP(INDEX($A:$O,ROW(),MATCH('Rapportage per vraag'!$C$12,'Data leveranciersbeoordeling'!$1:$1,0)),Leveranciersbeoordeling!$H$1:$I$5,2,FALSE),0)","v":0},0]
["",null,null,null,null,null,null,null,null,null,null,null,null,null,null,{"$f":"INDEX($A:$O,ROW(),MATCH('Rapportage per vraag'!$C$12,'Data leveranciersbeoordeling'!$1:$1,0))","v":0},{"$f":"IFERROR(VLOOKUP(INDEX($A:$O,ROW(),MATCH('Rapportage per vraag'!$C$12,'Data leveranciersbeoordeling'!$1:$1,0)),Leveranciersbeoordeling!$H$1:$I$5,2,FALSE),0)","v":0},0]
["",null,null,null,null,null,null,null,null,null,null,null,null,null,null,{"$f":"INDEX($A:$O,ROW(),MATCH('Rapportage per vraag'!$C$12,'Data leveranciersbeoordeling'!$1:$1,0))","v":0},{"$f":"IFERROR(VLOOKUP(INDEX($A:$O,ROW(),MATCH('Rapportage per vraag'!$C$12,'Data leveranciersbeoordeling'!$1:$1,0)),Leveranciersbeoordeling!$H$1:$I$5,2,FALSE),0)","v":0},0]
[{"$f":"CONCATENATE(B771,C771,D771)","v":""},null,null,null,null,null,null,null,null,null,null,null,null,null,null,{"$f":"INDEX($A:$O,ROW(),MATCH('Rapportage per vraag'!$C$12,'Data leveranciersbeoordeling'!$1:$1,0))","v":0},{"$f":"IFERROR(VLOOKUP(INDEX($A:$O,ROW(),MATCH('Rapportage per vraag'!$C$12,'Data leveranciersbeoordeling'!$1:$1,0)),Leveranciersbeoordeling!$H$1:$I$5,2,FALSE),0)","v":0},0]
["",null,null,null,null,null,null,null,null,null,null,null,null,null,null,{"$f":"INDEX($A:$O,ROW(),MATCH('Rapportage per vraag'!$C$12,'Data leveranciersbeoordeling'!$1:$1,0))","v":0},{"$f":"IFERROR(VLOOKUP(INDEX($A:$O,ROW(),MATCH('Rapportage per vraag'!$C$12,'Data leveranciersbeoordeling'!$1:$1,0)),Leveranciersbeoordeling!$H$1:$I$5,2,FALSE),0)","v":0},0]
["",null,null,null,null,null,null,null,null,null,null,null,null,null,null,{"$f":"INDEX($A:$O,ROW(),MATCH('Rapportage per vraag'!$C$12,'Data leveranciersbeoordeling'!$1:$1,0))","v":0},{"$f":"IFERROR(VLOOKUP(INDEX($A:$O,ROW(),MATCH('Rapportage per vraag'!$C$12,'Data leveranciersbeoordeling'!$1:$1,0)),Leveranciersbeoordeling!$H$1:$I$5,2,FALSE),0)","v":0},0]
["",null,null,null,null,null,null,null,null,null,null,null,null,null,null,{"$f":"INDEX($A:$O,ROW(),MATCH('Rapportage per vraag'!$C$12,'Data leveranciersbeoordeling'!$1:$1,0))","v":0},{"$f":"IFERROR(VLOOKUP(INDEX($A:$O,ROW(),MATCH('Rapportage per vraag'!$C$12,'Data leveranciersbeoordeling'!$1:$1,0)),Leveranciersbeoordeling!$H$1:$I$5,2,FALSE),0)","v":0},{"$f":"IF(T(P774)=P774,Q774,P774)","v":0}]
["",null,null,null,null,null,null,null,null,null,null,null,null,null,null,{"$f":"INDEX($A:$O,ROW(),MATCH('Rapportage per vraag'!$C$12,'Data leveranciersbeoordeling'!$1:$1,0))","v":0},{"$f":"IFERROR(VLOOKUP(INDEX($A:$O,ROW(),MATCH('Rapportage per vraag'!$C$12,'Data leveranciersbeoordeling'!$1:$1,0)),Leveranciersbeoordeling!$H$1:$I$5,2,FALSE),0)","v":0},0]
["",null,null,null,null,null,null,null,null,null,null,null,null,null,null,{"$f":"INDEX($A:$O,ROW(),MATCH('Rapportage per vraag'!$C$12,'Data leveranciersbeoordeling'!$1:$1,0))","v":0},{"$f":"IFERROR(VLOOKUP(INDEX($A:$O,ROW(),MATCH('Rapportage per vraag'!$C$12,'Data leveranciersbeoordeling'!$1:$1,0)),Leveranciersbeoordeling!$H$1:$I$5,2,FALSE),0)","v":0},0]
["",null,null,null,null,null,null,null,null,null,null,null,null,null,null,{"$f":"INDEX($A:$O,ROW(),MATCH('Rapportage per vraag'!$C$12,'Data leveranciersbeoordeling'!$1:$1,0))","v":0},{"$f":"IFERROR(VLOOKUP(INDEX($A:$O,ROW(),MATCH('Rapportage per vraag'!$C$12,'Data leveranciersbeoordeling'!$1:$1,0)),Leveranciersbeoordeling!$H$1:$I$5,2,FALSE),0)","v":0},0]
["",null,null,null,null,null,null,null,null,null,null,null,null,null,null,{"$f":"INDEX($A:$O,ROW(),MATCH('Rapportage per vraag'!$C$12,'Data leveranciersbeoordeling'!$1:$1,0))","v":0},{"$f":"IFERROR(VLOOKUP(INDEX($A:$O,ROW(),MATCH('Rapportage per vraag'!$C$12,'Data leveranciersbeoordeling'!$1:$1,0)),Leveranciersbeoordeling!$H$1:$I$5,2,FALSE),0)","v":0},0]
["",null,null,null,null,null,null,null,null,null,null,null,null,null,null,{"$f":"INDEX($A:$O,ROW(),MATCH('Rapportage per vraag'!$C$12,'Data leveranciersbeoordeling'!$1:$1,0))","v":0},{"$f":"IFERROR(VLOOKUP(INDEX($A:$O,ROW(),MATCH('Rapportage per vraag'!$C$12,'Data leveranciersbeoordeling'!$1:$1,0)),Leveranciersbeoordeling!$H$1:$I$5,2,FALSE),0)","v":0},0]
["",null,null,null,null,null,null,null,null,null,null,null,null,null,null,{"$f":"INDEX($A:$O,ROW(),MATCH('Rapportage per vraag'!$C$12,'Data leveranciersbeoordeling'!$1:$1,0))","v":0},{"$f":"IFERROR(VLOOKUP(INDEX($A:$O,ROW(),MATCH('Rapportage per vraag'!$C$12,'Data leveranciersbeoordeling'!$1:$1,0)),Leveranciersbeoordeling!$H$1:$I$5,2,FALSE),0)","v":0},0]
["",null,null,null,null,null,null,null,null,null,null,null,null,null,null,{"$f":"INDEX($A:$O,ROW(),MATCH('Rapportage per vraag'!$C$12,'Data leveranciersbeoordeling'!$1:$1,0))","v":0},{"$f":"IFERROR(VLOOKUP(INDEX($A:$O,ROW(),MATCH('Rapportage per vraag'!$C$12,'Data leveranciersbeoordeling'!$1:$1,0)),Leveranciersbeoordeling!$H$1:$I$5,2,FALSE),0)","v":0},0]
["",null,null,null,null,null,null,null,null,null,null,null,null,null,null,{"$f":"INDEX($A:$O,ROW(),MATCH('Rapportage per vraag'!$C$12,'Data leveranciersbeoordeling'!$1:$1,0))","v":0},{"$f":"IFERROR(VLOOKUP(INDEX($A:$O,ROW(),MATCH('Rapportage per vraag'!$C$12,'Data leveranciersbeoordeling'!$1:$1,0)),Leveranciersbeoordeling!$H$1:$I$5,2,FALSE),0)","v":0},0]
["",null,null,null,null,null,null,null,null,null,null,null,null,null,null,{"$f":"INDEX($A:$O,ROW(),MATCH('Rapportage per vraag'!$C$12,'Data leveranciersbeoordeling'!$1:$1,0))","v":0},{"$f":"IFERROR(VLOOKUP(INDEX($A:$O,ROW(),MATCH('Rapportage per vraag'!$C$12,'Data leveranciersbeoordeling'!$1:$1,0)),Leveranciersbeoordeling!$H$1:$I$5,2,FALSE),0)","v":0},0]
["",null,null,null,null,null,null,null,null,null,null,null,null,null,null,{"$f":"INDEX($A:$O,ROW(),MATCH('Rapportage per vraag'!$C$12,'Data leveranciersbeoordeling'!$1:$1,0))","v":0},{"$f":"IFERROR(VLOOKUP(INDEX($A:$O,ROW(),MATCH('Rapportage per vraag'!$C$12,'Data leveranciersbeoordeling'!$1:$1,0)),Leveranciersbeoordeling!$H$1:$I$5,2,FALSE),0)","v":0},0]
["",null,null,null,null,null,null,null,null,null,null,null,null,null,null,{"$f":"INDEX($A:$O,ROW(),MATCH('Rapportage per vraag'!$C$12,'Data leveranciersbeoordeling'!$1:$1,0))","v":0},{"$f":"IFERROR(VLOOKUP(INDEX($A:$O,ROW(),MATCH('Rapportage per vraag'!$C$12,'Data leveranciersbeoordeling'!$1:$1,0)),Leveranciersbeoordeling!$H$1:$I$5,2,FALSE),0)","v":0},0]
["",null,null,null,null,null,null,null,null,null,null,null,null,null,null,{"$f":"INDEX($A:$O,ROW(),MATCH('Rapportage per vraag'!$C$12,'Data leveranciersbeoordeling'!$1:$1,0))","v":0},{"$f":"IFERROR(VLOOKUP(INDEX($A:$O,ROW(),MATCH('Rapportage per vraag'!$C$12,'Data leveranciersbeoordeling'!$1:$1,0)),Leveranciersbeoordeling!$H$1:$I$5,2,FALSE),0)","v":0},0]
["",null,null,null,null,null,null,null,null,null,null,null,null,null,null,{"$f":"INDEX($A:$O,ROW(),MATCH('Rapportage per vraag'!$C$12,'Data leveranciersbeoordeling'!$1:$1,0))","v":0},{"$f":"IFERROR(VLOOKUP(INDEX($A:$O,ROW(),MATCH('Rapportage per vraag'!$C$12,'Data leveranciersbeoordeling'!$1:$1,0)),Leveranciersbeoordeling!$H$1:$I$5,2,FALSE),0)","v":0},0]
["",null,null,null,null,null,null,null,null,null,null,null,null,null,null,{"$f":"INDEX($A:$O,ROW(),MATCH('Rapportage per vraag'!$C$12,'Data leveranciersbeoordeling'!$1:$1,0))","v":0},{"$f":"IFERROR(VLOOKUP(INDEX($A:$O,ROW(),MATCH('Rapportage per vraag'!$C$12,'Data leveranciersbeoordeling'!$1:$1,0)),Leveranciersbeoordeling!$H$1:$I$5,2,FALSE),0)","v":0},0]
["",null,null,null,null,null,null,null,null,null,null,null,null,null,null,{"$f":"INDEX($A:$O,ROW(),MATCH('Rapportage per vraag'!$C$12,'Data leveranciersbeoordeling'!$1:$1,0))","v":0},{"$f":"IFERROR(VLOOKUP(INDEX($A:$O,ROW(),MATCH('Rapportage per vraag'!$C$12,'Data leveranciersbeoordeling'!$1:$1,0)),Leveranciersbeoordeling!$H$1:$I$5,2,FALSE),0)","v":0},0]
["",null,null,null,null,null,null,null,null,null,null,null,null,null,null,{"$f":"INDEX($A:$O,ROW(),MATCH('Rapportage per vraag'!$C$12,'Data leveranciersbeoordeling'!$1:$1,0))","v":0},{"$f":"IFERROR(VLOOKUP(INDEX($A:$O,ROW(),MATCH('Rapportage per vraag'!$C$12,'Data leveranciersbeoordeling'!$1:$1,0)),Leveranciersbeoordeling!$H$1:$I$5,2,FALSE),0)","v":0},0]
["",null,null,null,null,null,null,null,null,null,null,null,null,null,null,{"$f":"INDEX($A:$O,ROW(),MATCH('Rapportage per vraag'!$C$12,'Data leveranciersbeoordeling'!$1:$1,0))","v":0},{"$f":"IFERROR(VLOOKUP(INDEX($A:$O,ROW(),MATCH('Rapportage per vraag'!$C$12,'Data leveranciersbeoordeling'!$1:$1,0)),Leveranciersbeoordeling!$H$1:$I$5,2,FALSE),0)","v":0},0]
["",null,null,null,null,null,null,null,null,null,null,null,null,null,null,{"$f":"INDEX($A:$O,ROW(),MATCH('Rapportage per vraag'!$C$12,'Data leveranciersbeoordeling'!$1:$1,0))","v":0},{"$f":"IFERROR(VLOOKUP(INDEX($A:$O,ROW(),MATCH('Rapportage per vraag'!$C$12,'Data leveranciersbeoordeling'!$1:$1,0)),Leveranciersbeoordeling!$H$1:$I$5,2,FALSE),0)","v":0},0]
["",null,null,null,null,null,null,null,null,null,null,null,null,null,null,{"$f":"INDEX($A:$O,ROW(),MATCH('Rapportage per vraag'!$C$12,'Data leveranciersbeoordeling'!$1:$1,0))","v":0},{"$f":"IFERROR(VLOOKUP(INDEX($A:$O,ROW(),MATCH('Rapportage per vraag'!$C$12,'Data leveranciersbeoordeling'!$1:$1,0)),Leveranciersbeoordeling!$H$1:$I$5,2,FALSE),0)","v":0},0]
["",null,null,null,null,null,null,null,null,null,null,null,null,null,null,{"$f":"INDEX($A:$O,ROW(),MATCH('Rapportage per vraag'!$C$12,'Data leveranciersbeoordeling'!$1:$1,0))","v":0},{"$f":"IFERROR(VLOOKUP(INDEX($A:$O,ROW(),MATCH('Rapportage per vraag'!$C$12,'Data leveranciersbeoordeling'!$1:$1,0)),Leveranciersbeoordeling!$H$1:$I$5,2,FALSE),0)","v":0},0]
["",null,null,null,null,null,null,null,null,null,null,null,null,null,null,{"$f":"INDEX($A:$O,ROW(),MATCH('Rapportage per vraag'!$C$12,'Data leveranciersbeoordeling'!$1:$1,0))","v":0},{"$f":"IFERROR(VLOOKUP(INDEX($A:$O,ROW(),MATCH('Rapportage per vraag'!$C$12,'Data leveranciersbeoordeling'!$1:$1,0)),Leveranciersbeoordeling!$H$1:$I$5,2,FALSE),0)","v":0},0]
["",null,null,null,null,null,null,null,null,null,null,null,null,null,null,{"$f":"INDEX($A:$O,ROW(),MATCH('Rapportage per vraag'!$C$12,'Data leveranciersbeoordeling'!$1:$1,0))","v":0},{"$f":"IFERROR(VLOOKUP(INDEX($A:$O,ROW(),MATCH('Rapportage per vraag'!$C$12,'Data leveranciersbeoordeling'!$1:$1,0)),Leveranciersbeoordeling!$H$1:$I$5,2,FALSE),0)","v":0},0]
["",null,null,null,null,null,null,null,null,null,null,null,null,null,null,{"$f":"INDEX($A:$O,ROW(),MATCH('Rapportage per vraag'!$C$12,'Data leveranciersbeoordeling'!$1:$1,0))","v":0},{"$f":"IFERROR(VLOOKUP(INDEX($A:$O,ROW(),MATCH('Rapportage per vraag'!$C$12,'Data leveranciersbeoordeling'!$1:$1,0)),Leveranciersbeoordeling!$H$1:$I$5,2,FALSE),0)","v":0},0]
["",null,null,null,null,null,null,null,null,null,null,null,null,null,null,{"$f":"INDEX($A:$O,ROW(),MATCH('Rapportage per vraag'!$C$12,'Data leveranciersbeoordeling'!$1:$1,0))","v":0},{"$f":"IFERROR(VLOOKUP(INDEX($A:$O,ROW(),MATCH('Rapportage per vraag'!$C$12,'Data leveranciersbeoordeling'!$1:$1,0)),Leveranciersbeoordeling!$H$1:$I$5,2,FALSE),0)","v":0},0]
["",null,null,null,null,null,null,null,null,null,null,null,null,null,null,{"$f":"INDEX($A:$O,ROW(),MATCH('Rapportage per vraag'!$C$12,'Data leveranciersbeoordeling'!$1:$1,0))","v":0},{"$f":"IFERROR(VLOOKUP(INDEX($A:$O,ROW(),MATCH('Rapportage per vraag'!$C$12,'Data leveranciersbeoordeling'!$1:$1,0)),Leveranciersbeoordeling!$H$1:$I$5,2,FALSE),0)","v":0},0]
["",null,null,null,null,null,null,null,null,null,null,null,null,null,null,{"$f":"INDEX($A:$O,ROW(),MATCH('Rapportage per vraag'!$C$12,'Data leveranciersbeoordeling'!$1:$1,0))","v":0},{"$f":"IFERROR(VLOOKUP(INDEX($A:$O,ROW(),MATCH('Rapportage per vraag'!$C$12,'Data leveranciersbeoordeling'!$1:$1,0)),Leveranciersbeoordeling!$H$1:$I$5,2,FALSE),0)","v":0},0]
["",null,null,null,null,null,null,null,null,null,null,null,null,null,null,{"$f":"INDEX($A:$O,ROW(),MATCH('Rapportage per vraag'!$C$12,'Data leveranciersbeoordeling'!$1:$1,0))","v":0},{"$f":"IFERROR(VLOOKUP(INDEX($A:$O,ROW(),MATCH('Rapportage per vraag'!$C$12,'Data leveranciersbeoordeling'!$1:$1,0)),Leveranciersbeoordeling!$H$1:$I$5,2,FALSE),0)","v":0},0]
["",null,null,null,null,null,null,null,null,null,null,null,null,null,null,{"$f":"INDEX($A:$O,ROW(),MATCH('Rapportage per vraag'!$C$12,'Data leveranciersbeoordeling'!$1:$1,0))","v":0},{"$f":"IFERROR(VLOOKUP(INDEX($A:$O,ROW(),MATCH('Rapportage per vraag'!$C$12,'Data leveranciersbeoordeling'!$1:$1,0)),Leveranciersbeoordeling!$H$1:$I$5,2,FALSE),0)","v":0},0]
["",null,null,null,null,null,null,null,null,null,null,null,null,null,null,{"$f":"INDEX($A:$O,ROW(),MATCH('Rapportage per vraag'!$C$12,'Data leveranciersbeoordeling'!$1:$1,0))","v":0},{"$f":"IFERROR(VLOOKUP(INDEX($A:$O,ROW(),MATCH('Rapportage per vraag'!$C$12,'Data leveranciersbeoordeling'!$1:$1,0)),Leveranciersbeoordeling!$H$1:$I$5,2,FALSE),0)","v":0},0]
["",null,null,null,null,null,null,null,null,null,null,null,null,null,null,{"$f":"INDEX($A:$O,ROW(),MATCH('Rapportage per vraag'!$C$12,'Data leveranciersbeoordeling'!$1:$1,0))","v":0},{"$f":"IFERROR(VLOOKUP(INDEX($A:$O,ROW(),MATCH('Rapportage per vraag'!$C$12,'Data leveranciersbeoordeling'!$1:$1,0)),Leveranciersbeoordeling!$H$1:$I$5,2,FALSE),0)","v":0},0]
["",null,null,null,null,null,null,null,null,null,null,null,null,null,null,{"$f":"INDEX($A:$O,ROW(),MATCH('Rapportage per vraag'!$C$12,'Data leveranciersbeoordeling'!$1:$1,0))","v":0},{"$f":"IFERROR(VLOOKUP(INDEX($A:$O,ROW(),MATCH('Rapportage per vraag'!$C$12,'Data leveranciersbeoordeling'!$1:$1,0)),Leveranciersbeoordeling!$H$1:$I$5,2,FALSE),0)","v":0},0]
["",null,null,null,null,null,null,null,null,null,null,null,null,null,null,{"$f":"INDEX($A:$O,ROW(),MATCH('Rapportage per vraag'!$C$12,'Data leveranciersbeoordeling'!$1:$1,0))","v":0},{"$f":"IFERROR(VLOOKUP(INDEX($A:$O,ROW(),MATCH('Rapportage per vraag'!$C$12,'Data leveranciersbeoordeling'!$1:$1,0)),Leveranciersbeoordeling!$H$1:$I$5,2,FALSE),0)","v":0},0]
["",null,null,null,null,null,null,null,null,null,null,null,null,null,null,{"$f":"INDEX($A:$O,ROW(),MATCH('Rapportage per vraag'!$C$12,'Data leveranciersbeoordeling'!$1:$1,0))","v":0},{"$f":"IFERROR(VLOOKUP(INDEX($A:$O,ROW(),MATCH('Rapportage per vraag'!$C$12,'Data leveranciersbeoordeling'!$1:$1,0)),Leveranciersbeoordeling!$H$1:$I$5,2,FALSE),0)","v":0},0]
["",null,null,null,null,null,null,null,null,null,null,null,null,null,null,{"$f":"INDEX($A:$O,ROW(),MATCH('Rapportage per vraag'!$C$12,'Data leveranciersbeoordeling'!$1:$1,0))","v":0},{"$f":"IFERROR(VLOOKUP(INDEX($A:$O,ROW(),MATCH('Rapportage per vraag'!$C$12,'Data leveranciersbeoordeling'!$1:$1,0)),Leveranciersbeoordeling!$H$1:$I$5,2,FALSE),0)","v":0},0]
["",null,null,null,null,null,null,null,null,null,null,null,null,null,null,{"$f":"INDEX($A:$O,ROW(),MATCH('Rapportage per vraag'!$C$12,'Data leveranciersbeoordeling'!$1:$1,0))","v":0},{"$f":"IFERROR(VLOOKUP(INDEX($A:$O,ROW(),MATCH('Rapportage per vraag'!$C$12,'Data leveranciersbeoordeling'!$1:$1,0)),Leveranciersbeoordeling!$H$1:$I$5,2,FALSE),0)","v":0},0]
["",null,null,null,null,null,null,null,null,null,null,null,null,null,null,{"$f":"INDEX($A:$O,ROW(),MATCH('Rapportage per vraag'!$C$12,'Data leveranciersbeoordeling'!$1:$1,0))","v":0},{"$f":"IFERROR(VLOOKUP(INDEX($A:$O,ROW(),MATCH('Rapportage per vraag'!$C$12,'Data leveranciersbeoordeling'!$1:$1,0)),Leveranciersbeoordeling!$H$1:$I$5,2,FALSE),0)","v":0},0]
["",null,null,null,null,null,null,null,null,null,null,null,null,null,null,{"$f":"INDEX($A:$O,ROW(),MATCH('Rapportage per vraag'!$C$12,'Data leveranciersbeoordeling'!$1:$1,0))","v":0},{"$f":"IFERROR(VLOOKUP(INDEX($A:$O,ROW(),MATCH('Rapportage per vraag'!$C$12,'Data leveranciersbeoordeling'!$1:$1,0)),Leveranciersbeoordeling!$H$1:$I$5,2,FALSE),0)","v":0},0]
["",null,null,null,null,null,null,null,null,null,null,null,null,null,null,{"$f":"INDEX($A:$O,ROW(),MATCH('Rapportage per vraag'!$C$12,'Data leveranciersbeoordeling'!$1:$1,0))","v":0},{"$f":"IFERROR(VLOOKUP(INDEX($A:$O,ROW(),MATCH('Rapportage per vraag'!$C$12,'Data leveranciersbeoordeling'!$1:$1,0)),Leveranciersbeoordeling!$H$1:$I$5,2,FALSE),0)","v":0},0]
["",null,null,null,null,null,null,null,null,null,null,null,null,null,null,{"$f":"INDEX($A:$O,ROW(),MATCH('Rapportage per vraag'!$C$12,'Data leveranciersbeoordeling'!$1:$1,0))","v":0},{"$f":"IFERROR(VLOOKUP(INDEX($A:$O,ROW(),MATCH('Rapportage per vraag'!$C$12,'Data leveranciersbeoordeling'!$1:$1,0)),Leveranciersbeoordeling!$H$1:$I$5,2,FALSE),0)","v":0},0]
["",null,null,null,null,null,null,null,null,null,null,null,null,null,null,{"$f":"INDEX($A:$O,ROW(),MATCH('Rapportage per vraag'!$C$12,'Data leveranciersbeoordeling'!$1:$1,0))","v":0},{"$f":"IFERROR(VLOOKUP(INDEX($A:$O,ROW(),MATCH('Rapportage per vraag'!$C$12,'Data leveranciersbeoordeling'!$1:$1,0)),Leveranciersbeoordeling!$H$1:$I$5,2,FALSE),0)","v":0},0]
["",null,null,null,null,null,null,null,null,null,null,null,null,null,null,{"$f":"INDEX($A:$O,ROW(),MATCH('Rapportage per vraag'!$C$12,'Data leveranciersbeoordeling'!$1:$1,0))","v":0},{"$f":"IFERROR(VLOOKUP(INDEX($A:$O,ROW(),MATCH('Rapportage per vraag'!$C$12,'Data leveranciersbeoordeling'!$1:$1,0)),Leveranciersbeoordeling!$H$1:$I$5,2,FALSE),0)","v":0},0]
["",null,null,null,null,null,null,null,null,null,null,null,null,null,null,{"$f":"INDEX($A:$O,ROW(),MATCH('Rapportage per vraag'!$C$12,'Data leveranciersbeoordeling'!$1:$1,0))","v":0},{"$f":"IFERROR(VLOOKUP(INDEX($A:$O,ROW(),MATCH('Rapportage per vraag'!$C$12,'Data leveranciersbeoordeling'!$1:$1,0)),Leveranciersbeoordeling!$H$1:$I$5,2,FALSE),0)","v":0},0]
["",null,null,null,null,null,null,null,null,null,null,null,null,null,null,{"$f":"INDEX($A:$O,ROW(),MATCH('Rapportage per vraag'!$C$12,'Data leveranciersbeoordeling'!$1:$1,0))","v":0},{"$f":"IFERROR(VLOOKUP(INDEX($A:$O,ROW(),MATCH('Rapportage per vraag'!$C$12,'Data leveranciersbeoordeling'!$1:$1,0)),Leveranciersbeoordeling!$H$1:$I$5,2,FALSE),0)","v":0},0]
["",null,null,null,null,null,null,null,null,null,null,null,null,null,null,{"$f":"INDEX($A:$O,ROW(),MATCH('Rapportage per vraag'!$C$12,'Data leveranciersbeoordeling'!$1:$1,0))","v":0},{"$f":"IFERROR(VLOOKUP(INDEX($A:$O,ROW(),MATCH('Rapportage per vraag'!$C$12,'Data leveranciersbeoordeling'!$1:$1,0)),Leveranciersbeoordeling!$H$1:$I$5,2,FALSE),0)","v":0},0]
["",null,null,null,null,null,null,null,null,null,null,null,null,null,null,{"$f":"INDEX($A:$O,ROW(),MATCH('Rapportage per vraag'!$C$12,'Data leveranciersbeoordeling'!$1:$1,0))","v":0},{"$f":"IFERROR(VLOOKUP(INDEX($A:$O,ROW(),MATCH('Rapportage per vraag'!$C$12,'Data leveranciersbeoordeling'!$1:$1,0)),Leveranciersbeoordeling!$H$1:$I$5,2,FALSE),0)","v":0},0]
["",null,null,null,null,null,null,null,null,null,null,null,null,null,null,{"$f":"INDEX($A:$O,ROW(),MATCH('Rapportage per vraag'!$C$12,'Data leveranciersbeoordeling'!$1:$1,0))","v":0},{"$f":"IFERROR(VLOOKUP(INDEX($A:$O,ROW(),MATCH('Rapportage per vraag'!$C$12,'Data leveranciersbeoordeling'!$1:$1,0)),Leveranciersbeoordeling!$H$1:$I$5,2,FALSE),0)","v":0},0]
["",null,null,null,null,null,null,null,null,null,null,null,null,null,null,{"$f":"INDEX($A:$O,ROW(),MATCH('Rapportage per vraag'!$C$12,'Data leveranciersbeoordeling'!$1:$1,0))","v":0},{"$f":"IFERROR(VLOOKUP(INDEX($A:$O,ROW(),MATCH('Rapportage per vraag'!$C$12,'Data leveranciersbeoordeling'!$1:$1,0)),Leveranciersbeoordeling!$H$1:$I$5,2,FALSE),0)","v":0},0]
["",null,null,null,null,null,null,null,null,null,null,null,null,null,null,{"$f":"INDEX($A:$O,ROW(),MATCH('Rapportage per vraag'!$C$12,'Data leveranciersbeoordeling'!$1:$1,0))","v":0},{"$f":"IFERROR(VLOOKUP(INDEX($A:$O,ROW(),MATCH('Rapportage per vraag'!$C$12,'Data leveranciersbeoordeling'!$1:$1,0)),Leveranciersbeoordeling!$H$1:$I$5,2,FALSE),0)","v":0},0]
["",null,null,null,null,null,null,null,null,null,null,null,null,null,null,{"$f":"INDEX($A:$O,ROW(),MATCH('Rapportage per vraag'!$C$12,'Data leveranciersbeoordeling'!$1:$1,0))","v":0},{"$f":"IFERROR(VLOOKUP(INDEX($A:$O,ROW(),MATCH('Rapportage per vraag'!$C$12,'Data leveranciersbeoordeling'!$1:$1,0)),Leveranciersbeoordeling!$H$1:$I$5,2,FALSE),0)","v":0},0]
["",null,null,null,null,null,null,null,null,null,null,null,null,null,null,{"$f":"INDEX($A:$O,ROW(),MATCH('Rapportage per vraag'!$C$12,'Data leveranciersbeoordeling'!$1:$1,0))","v":0},{"$f":"IFERROR(VLOOKUP(INDEX($A:$O,ROW(),MATCH('Rapportage per vraag'!$C$12,'Data leveranciersbeoordeling'!$1:$1,0)),Leveranciersbeoordeling!$H$1:$I$5,2,FALSE),0)","v":0},0]
["",null,null,null,null,null,null,null,null,null,null,null,null,null,null,{"$f":"INDEX($A:$O,ROW(),MATCH('Rapportage per vraag'!$C$12,'Data leveranciersbeoordeling'!$1:$1,0))","v":0},{"$f":"IFERROR(VLOOKUP(INDEX($A:$O,ROW(),MATCH('Rapportage per vraag'!$C$12,'Data leveranciersbeoordeling'!$1:$1,0)),Leveranciersbeoordeling!$H$1:$I$5,2,FALSE),0)","v":0},0]
["",null,null,null,null,null,null,null,null,null,null,null,null,null,null,{"$f":"INDEX($A:$O,ROW(),MATCH('Rapportage per vraag'!$C$12,'Data leveranciersbeoordeling'!$1:$1,0))","v":0},{"$f":"IFERROR(VLOOKUP(INDEX($A:$O,ROW(),MATCH('Rapportage per vraag'!$C$12,'Data leveranciersbeoordeling'!$1:$1,0)),Leveranciersbeoordeling!$H$1:$I$5,2,FALSE),0)","v":0},0]
["",null,null,null,null,null,null,null,null,null,null,null,null,null,null,{"$f":"INDEX($A:$O,ROW(),MATCH('Rapportage per vraag'!$C$12,'Data leveranciersbeoordeling'!$1:$1,0))","v":0},{"$f":"IFERROR(VLOOKUP(INDEX($A:$O,ROW(),MATCH('Rapportage per vraag'!$C$12,'Data leveranciersbeoordeling'!$1:$1,0)),Leveranciersbeoordeling!$H$1:$I$5,2,FALSE),0)","v":0},0]
["",null,null,null,null,null,null,null,null,null,null,null,null,null,null,{"$f":"INDEX($A:$O,ROW(),MATCH('Rapportage per vraag'!$C$12,'Data leveranciersbeoordeling'!$1:$1,0))","v":0},{"$f":"IFERROR(VLOOKUP(INDEX($A:$O,ROW(),MATCH('Rapportage per vraag'!$C$12,'Data leveranciersbeoordeling'!$1:$1,0)),Leveranciersbeoordeling!$H$1:$I$5,2,FALSE),0)","v":0},0]
["",null,null,null,null,null,null,null,null,null,null,null,null,null,null,{"$f":"INDEX($A:$O,ROW(),MATCH('Rapportage per vraag'!$C$12,'Data leveranciersbeoordeling'!$1:$1,0))","v":0},{"$f":"IFERROR(VLOOKUP(INDEX($A:$O,ROW(),MATCH('Rapportage per vraag'!$C$12,'Data leveranciersbeoordeling'!$1:$1,0)),Leveranciersbeoordeling!$H$1:$I$5,2,FALSE),0)","v":0},0]
["",null,null,null,null,null,null,null,null,null,null,null,null,null,null,{"$f":"INDEX($A:$O,ROW(),MATCH('Rapportage per vraag'!$C$12,'Data leveranciersbeoordeling'!$1:$1,0))","v":0},{"$f":"IFERROR(VLOOKUP(INDEX($A:$O,ROW(),MATCH('Rapportage per vraag'!$C$12,'Data leveranciersbeoordeling'!$1:$1,0)),Leveranciersbeoordeling!$H$1:$I$5,2,FALSE),0)","v":0},0]
["",null,null,null,null,null,null,null,null,null,null,null,null,null,null,{"$f":"INDEX($A:$O,ROW(),MATCH('Rapportage per vraag'!$C$12,'Data leveranciersbeoordeling'!$1:$1,0))","v":0},{"$f":"IFERROR(VLOOKUP(INDEX($A:$O,ROW(),MATCH('Rapportage per vraag'!$C$12,'Data leveranciersbeoordeling'!$1:$1,0)),Leveranciersbeoordeling!$H$1:$I$5,2,FALSE),0)","v":0},0]
["",null,null,null,null,null,null,null,null,null,null,null,null,null,null,{"$f":"INDEX($A:$O,ROW(),MATCH('Rapportage per vraag'!$C$12,'Data leveranciersbeoordeling'!$1:$1,0))","v":0},{"$f":"IFERROR(VLOOKUP(INDEX($A:$O,ROW(),MATCH('Rapportage per vraag'!$C$12,'Data leveranciersbeoordeling'!$1:$1,0)),Leveranciersbeoordeling!$H$1:$I$5,2,FALSE),0)","v":0},0]
["",null,null,null,null,null,null,null,null,null,null,null,null,null,null,{"$f":"INDEX($A:$O,ROW(),MATCH('Rapportage per vraag'!$C$12,'Data leveranciersbeoordeling'!$1:$1,0))","v":0},{"$f":"IFERROR(VLOOKUP(INDEX($A:$O,ROW(),MATCH('Rapportage per vraag'!$C$12,'Data leveranciersbeoordeling'!$1:$1,0)),Leveranciersbeoordeling!$H$1:$I$5,2,FALSE),0)","v":0},0]
["",null,null,null,null,null,null,null,null,null,null,null,null,null,null,{"$f":"INDEX($A:$O,ROW(),MATCH('Rapportage per vraag'!$C$12,'Data leveranciersbeoordeling'!$1:$1,0))","v":0},{"$f":"IFERROR(VLOOKUP(INDEX($A:$O,ROW(),MATCH('Rapportage per vraag'!$C$12,'Data leveranciersbeoordeling'!$1:$1,0)),Leveranciersbeoordeling!$H$1:$I$5,2,FALSE),0)","v":0},0]
[{"$f":"CONCATENATE(B835,C835,D835)","v":""},null,null,null,null,null,null,null,null,null,null,null,null,null,null,{"$f":"INDEX($A:$O,ROW(),MATCH('Rapportage per vraag'!$C$12,'Data leveranciersbeoordeling'!$1:$1,0))","v":0},{"$f":"IFERROR(VLOOKUP(INDEX($A:$O,ROW(),MATCH('Rapportage per vraag'!$C$12,'Data leveranciersbeoordeling'!$1:$1,0)),Leveranciersbeoordeling!$H$1:$I$5,2,FALSE),0)","v":0},0]
["",null,null,null,null,null,null,null,null,null,null,null,null,null,null,{"$f":"INDEX($A:$O,ROW(),MATCH('Rapportage per vraag'!$C$12,'Data leveranciersbeoordeling'!$1:$1,0))","v":0},{"$f":"IFERROR(VLOOKUP(INDEX($A:$O,ROW(),MATCH('Rapportage per vraag'!$C$12,'Data leveranciersbeoordeling'!$1:$1,0)),Leveranciersbeoordeling!$H$1:$I$5,2,FALSE),0)","v":0},0]
["",null,null,null,null,null,null,null,null,null,null,null,null,null,null,{"$f":"INDEX($A:$O,ROW(),MATCH('Rapportage per vraag'!$C$12,'Data leveranciersbeoordeling'!$1:$1,0))","v":0},{"$f":"IFERROR(VLOOKUP(INDEX($A:$O,ROW(),MATCH('Rapportage per vraag'!$C$12,'Data leveranciersbeoordeling'!$1:$1,0)),Leveranciersbeoordeling!$H$1:$I$5,2,FALSE),0)","v":0},0]
["",null,null,null,null,null,null,null,null,null,null,null,null,null,null,{"$f":"INDEX($A:$O,ROW(),MATCH('Rapportage per vraag'!$C$12,'Data leveranciersbeoordeling'!$1:$1,0))","v":0},{"$f":"IFERROR(VLOOKUP(INDEX($A:$O,ROW(),MATCH('Rapportage per vraag'!$C$12,'Data leveranciersbeoordeling'!$1:$1,0)),Leveranciersbeoordeling!$H$1:$I$5,2,FALSE),0)","v":0},{"$f":"IF(T(P838)=P838,Q838,P838)","v":0}]
["",null,null,null,null,null,null,null,null,null,null,null,null,null,null,{"$f":"INDEX($A:$O,ROW(),MATCH('Rapportage per vraag'!$C$12,'Data leveranciersbeoordeling'!$1:$1,0))","v":0},{"$f":"IFERROR(VLOOKUP(INDEX($A:$O,ROW(),MATCH('Rapportage per vraag'!$C$12,'Data leveranciersbeoordeling'!$1:$1,0)),Leveranciersbeoordeling!$H$1:$I$5,2,FALSE),0)","v":0},0]
["",null,null,null,null,null,null,null,null,null,null,null,null,null,null,{"$f":"INDEX($A:$O,ROW(),MATCH('Rapportage per vraag'!$C$12,'Data leveranciersbeoordeling'!$1:$1,0))","v":0},{"$f":"IFERROR(VLOOKUP(INDEX($A:$O,ROW(),MATCH('Rapportage per vraag'!$C$12,'Data leveranciersbeoordeling'!$1:$1,0)),Leveranciersbeoordeling!$H$1:$I$5,2,FALSE),0)","v":0},0]
["",null,null,null,null,null,null,null,null,null,null,null,null,null,null,{"$f":"INDEX($A:$O,ROW(),MATCH('Rapportage per vraag'!$C$12,'Data leveranciersbeoordeling'!$1:$1,0))","v":0},{"$f":"IFERROR(VLOOKUP(INDEX($A:$O,ROW(),MATCH('Rapportage per vraag'!$C$12,'Data leveranciersbeoordeling'!$1:$1,0)),Leveranciersbeoordeling!$H$1:$I$5,2,FALSE),0)","v":0},0]
["",null,null,null,null,null,null,null,null,null,null,null,null,null,null,{"$f":"INDEX($A:$O,ROW(),MATCH('Rapportage per vraag'!$C$12,'Data leveranciersbeoordeling'!$1:$1,0))","v":0},{"$f":"IFERROR(VLOOKUP(INDEX($A:$O,ROW(),MATCH('Rapportage per vraag'!$C$12,'Data leveranciersbeoordeling'!$1:$1,0)),Leveranciersbeoordeling!$H$1:$I$5,2,FALSE),0)","v":0},0]
["",null,null,null,null,null,null,null,null,null,null,null,null,null,null,{"$f":"INDEX($A:$O,ROW(),MATCH('Rapportage per vraag'!$C$12,'Data leveranciersbeoordeling'!$1:$1,0))","v":0},{"$f":"IFERROR(VLOOKUP(INDEX($A:$O,ROW(),MATCH('Rapportage per vraag'!$C$12,'Data leveranciersbeoordeling'!$1:$1,0)),Leveranciersbeoordeling!$H$1:$I$5,2,FALSE),0)","v":0},0]
["",null,null,null,null,null,null,null,null,null,null,null,null,null,null,{"$f":"INDEX($A:$O,ROW(),MATCH('Rapportage per vraag'!$C$12,'Data leveranciersbeoordeling'!$1:$1,0))","v":0},{"$f":"IFERROR(VLOOKUP(INDEX($A:$O,ROW(),MATCH('Rapportage per vraag'!$C$12,'Data leveranciersbeoordeling'!$1:$1,0)),Leveranciersbeoordeling!$H$1:$I$5,2,FALSE),0)","v":0},0]
["",null,null,null,null,null,null,null,null,null,null,null,null,null,null,{"$f":"INDEX($A:$O,ROW(),MATCH('Rapportage per vraag'!$C$12,'Data leveranciersbeoordeling'!$1:$1,0))","v":0},{"$f":"IFERROR(VLOOKUP(INDEX($A:$O,ROW(),MATCH('Rapportage per vraag'!$C$12,'Data leveranciersbeoordeling'!$1:$1,0)),Leveranciersbeoordeling!$H$1:$I$5,2,FALSE),0)","v":0},0]
["",null,null,null,null,null,null,null,null,null,null,null,null,null,null,{"$f":"INDEX($A:$O,ROW(),MATCH('Rapportage per vraag'!$C$12,'Data leveranciersbeoordeling'!$1:$1,0))","v":0},{"$f":"IFERROR(VLOOKUP(INDEX($A:$O,ROW(),MATCH('Rapportage per vraag'!$C$12,'Data leveranciersbeoordeling'!$1:$1,0)),Leveranciersbeoordeling!$H$1:$I$5,2,FALSE),0)","v":0},0]
["",null,null,null,null,null,null,null,null,null,null,null,null,null,null,{"$f":"INDEX($A:$O,ROW(),MATCH('Rapportage per vraag'!$C$12,'Data leveranciersbeoordeling'!$1:$1,0))","v":0},{"$f":"IFERROR(VLOOKUP(INDEX($A:$O,ROW(),MATCH('Rapportage per vraag'!$C$12,'Data leveranciersbeoordeling'!$1:$1,0)),Leveranciersbeoordeling!$H$1:$I$5,2,FALSE),0)","v":0},0]
["",null,null,null,null,null,null,null,null,null,null,null,null,null,null,{"$f":"INDEX($A:$O,ROW(),MATCH('Rapportage per vraag'!$C$12,'Data leveranciersbeoordeling'!$1:$1,0))","v":0},{"$f":"IFERROR(VLOOKUP(INDEX($A:$O,ROW(),MATCH('Rapportage per vraag'!$C$12,'Data leveranciersbeoordeling'!$1:$1,0)),Leveranciersbeoordeling!$H$1:$I$5,2,FALSE),0)","v":0},0]
["",null,null,null,null,null,null,null,null,null,null,null,null,null,null,{"$f":"INDEX($A:$O,ROW(),MATCH('Rapportage per vraag'!$C$12,'Data leveranciersbeoordeling'!$1:$1,0))","v":0},{"$f":"IFERROR(VLOOKUP(INDEX($A:$O,ROW(),MATCH('Rapportage per vraag'!$C$12,'Data leveranciersbeoordeling'!$1:$1,0)),Leveranciersbeoordeling!$H$1:$I$5,2,FALSE),0)","v":0},0]
["",null,null,null,null,null,null,null,null,null,null,null,null,null,null,{"$f":"INDEX($A:$O,ROW(),MATCH('Rapportage per vraag'!$C$12,'Data leveranciersbeoordeling'!$1:$1,0))","v":0},{"$f":"IFERROR(VLOOKUP(INDEX($A:$O,ROW(),MATCH('Rapportage per vraag'!$C$12,'Data leveranciersbeoordeling'!$1:$1,0)),Leveranciersbeoordeling!$H$1:$I$5,2,FALSE),0)","v":0},0]
["",null,null,null,null,null,null,null,null,null,null,null,null,null,null,{"$f":"INDEX($A:$O,ROW(),MATCH('Rapportage per vraag'!$C$12,'Data leveranciersbeoordeling'!$1:$1,0))","v":0},{"$f":"IFERROR(VLOOKUP(INDEX($A:$O,ROW(),MATCH('Rapportage per vraag'!$C$12,'Data leveranciersbeoordeling'!$1:$1,0)),Leveranciersbeoordeling!$H$1:$I$5,2,FALSE),0)","v":0},0]
["",null,null,null,null,null,null,null,null,null,null,null,null,null,null,{"$f":"INDEX($A:$O,ROW(),MATCH('Rapportage per vraag'!$C$12,'Data leveranciersbeoordeling'!$1:$1,0))","v":0},{"$f":"IFERROR(VLOOKUP(INDEX($A:$O,ROW(),MATCH('Rapportage per vraag'!$C$12,'Data leveranciersbeoordeling'!$1:$1,0)),Leveranciersbeoordeling!$H$1:$I$5,2,FALSE),0)","v":0},0]
["",null,null,null,null,null,null,null,null,null,null,null,null,null,null,{"$f":"INDEX($A:$O,ROW(),MATCH('Rapportage per vraag'!$C$12,'Data leveranciersbeoordeling'!$1:$1,0))","v":0},{"$f":"IFERROR(VLOOKUP(INDEX($A:$O,ROW(),MATCH('Rapportage per vraag'!$C$12,'Data leveranciersbeoordeling'!$1:$1,0)),Leveranciersbeoordeling!$H$1:$I$5,2,FALSE),0)","v":0},0]
["",null,null,null,null,null,null,null,null,null,null,null,null,null,null,{"$f":"INDEX($A:$O,ROW(),MATCH('Rapportage per vraag'!$C$12,'Data leveranciersbeoordeling'!$1:$1,0))","v":0},{"$f":"IFERROR(VLOOKUP(INDEX($A:$O,ROW(),MATCH('Rapportage per vraag'!$C$12,'Data leveranciersbeoordeling'!$1:$1,0)),Leveranciersbeoordeling!$H$1:$I$5,2,FALSE),0)","v":0},0]
["",null,null,null,null,null,null,null,null,null,null,null,null,null,null,{"$f":"INDEX($A:$O,ROW(),MATCH('Rapportage per vraag'!$C$12,'Data leveranciersbeoordeling'!$1:$1,0))","v":0},{"$f":"IFERROR(VLOOKUP(INDEX($A:$O,ROW(),MATCH('Rapportage per vraag'!$C$12,'Data leveranciersbeoordeling'!$1:$1,0)),Leveranciersbeoordeling!$H$1:$I$5,2,FALSE),0)","v":0},0]
["",null,null,null,null,null,null,null,null,null,null,null,null,null,null,{"$f":"INDEX($A:$O,ROW(),MATCH('Rapportage per vraag'!$C$12,'Data leveranciersbeoordeling'!$1:$1,0))","v":0},{"$f":"IFERROR(VLOOKUP(INDEX($A:$O,ROW(),MATCH('Rapportage per vraag'!$C$12,'Data leveranciersbeoordeling'!$1:$1,0)),Leveranciersbeoordeling!$H$1:$I$5,2,FALSE),0)","v":0},0]
["",null,null,null,null,null,null,null,null,null,null,null,null,null,null,{"$f":"INDEX($A:$O,ROW(),MATCH('Rapportage per vraag'!$C$12,'Data leveranciersbeoordeling'!$1:$1,0))","v":0},{"$f":"IFERROR(VLOOKUP(INDEX($A:$O,ROW(),MATCH('Rapportage per vraag'!$C$12,'Data leveranciersbeoordeling'!$1:$1,0)),Leveranciersbeoordeling!$H$1:$I$5,2,FALSE),0)","v":0},0]
["",null,null,null,null,null,null,null,null,null,null,null,null,null,null,{"$f":"INDEX($A:$O,ROW(),MATCH('Rapportage per vraag'!$C$12,'Data leveranciersbeoordeling'!$1:$1,0))","v":0},{"$f":"IFERROR(VLOOKUP(INDEX($A:$O,ROW(),MATCH('Rapportage per vraag'!$C$12,'Data leveranciersbeoordeling'!$1:$1,0)),Leveranciersbeoordeling!$H$1:$I$5,2,FALSE),0)","v":0},0]
["",null,null,null,null,null,null,null,null,null,null,null,null,null,null,{"$f":"INDEX($A:$O,ROW(),MATCH('Rapportage per vraag'!$C$12,'Data leveranciersbeoordeling'!$1:$1,0))","v":0},{"$f":"IFERROR(VLOOKUP(INDEX($A:$O,ROW(),MATCH('Rapportage per vraag'!$C$12,'Data leveranciersbeoordeling'!$1:$1,0)),Leveranciersbeoordeling!$H$1:$I$5,2,FALSE),0)","v":0},0]
["",null,null,null,null,null,null,null,null,null,null,null,null,null,null,{"$f":"INDEX($A:$O,ROW(),MATCH('Rapportage per vraag'!$C$12,'Data leveranciersbeoordeling'!$1:$1,0))","v":0},{"$f":"IFERROR(VLOOKUP(INDEX($A:$O,ROW(),MATCH('Rapportage per vraag'!$C$12,'Data leveranciersbeoordeling'!$1:$1,0)),Leveranciersbeoordeling!$H$1:$I$5,2,FALSE),0)","v":0},0]
["",null,null,null,null,null,null,null,null,null,null,null,null,null,null,{"$f":"INDEX($A:$O,ROW(),MATCH('Rapportage per vraag'!$C$12,'Data leveranciersbeoordeling'!$1:$1,0))","v":0},{"$f":"IFERROR(VLOOKUP(INDEX($A:$O,ROW(),MATCH('Rapportage per vraag'!$C$12,'Data leveranciersbeoordeling'!$1:$1,0)),Leveranciersbeoordeling!$H$1:$I$5,2,FALSE),0)","v":0},0]
["",null,null,null,null,null,null,null,null,null,null,null,null,null,null,{"$f":"INDEX($A:$O,ROW(),MATCH('Rapportage per vraag'!$C$12,'Data leveranciersbeoordeling'!$1:$1,0))","v":0},{"$f":"IFERROR(VLOOKUP(INDEX($A:$O,ROW(),MATCH('Rapportage per vraag'!$C$12,'Data leveranciersbeoordeling'!$1:$1,0)),Leveranciersbeoordeling!$H$1:$I$5,2,FALSE),0)","v":0},0]
["",null,null,null,null,null,null,null,null,null,null,null,null,null,null,{"$f":"INDEX($A:$O,ROW(),MATCH('Rapportage per vraag'!$C$12,'Data leveranciersbeoordeling'!$1:$1,0))","v":0},{"$f":"IFERROR(VLOOKUP(INDEX($A:$O,ROW(),MATCH('Rapportage per vraag'!$C$12,'Data leveranciersbeoordeling'!$1:$1,0)),Leveranciersbeoordeling!$H$1:$I$5,2,FALSE),0)","v":0},0]
["",null,null,null,null,null,null,null,null,null,null,null,null,null,null,{"$f":"INDEX($A:$O,ROW(),MATCH('Rapportage per vraag'!$C$12,'Data leveranciersbeoordeling'!$1:$1,0))","v":0},{"$f":"IFERROR(VLOOKUP(INDEX($A:$O,ROW(),MATCH('Rapportage per vraag'!$C$12,'Data leveranciersbeoordeling'!$1:$1,0)),Leveranciersbeoordeling!$H$1:$I$5,2,FALSE),0)","v":0},0]
["",null,null,null,null,null,null,null,null,null,null,null,null,null,null,{"$f":"INDEX($A:$O,ROW(),MATCH('Rapportage per vraag'!$C$12,'Data leveranciersbeoordeling'!$1:$1,0))","v":0},{"$f":"IFERROR(VLOOKUP(INDEX($A:$O,ROW(),MATCH('Rapportage per vraag'!$C$12,'Data leveranciersbeoordeling'!$1:$1,0)),Leveranciersbeoordeling!$H$1:$I$5,2,FALSE),0)","v":0},0]
["",null,null,null,null,null,null,null,null,null,null,null,null,null,null,{"$f":"INDEX($A:$O,ROW(),MATCH('Rapportage per vraag'!$C$12,'Data leveranciersbeoordeling'!$1:$1,0))","v":0},{"$f":"IFERROR(VLOOKUP(INDEX($A:$O,ROW(),MATCH('Rapportage per vraag'!$C$12,'Data leveranciersbeoordeling'!$1:$1,0)),Leveranciersbeoordeling!$H$1:$I$5,2,FALSE),0)","v":0},0]
["",null,null,null,null,null,null,null,null,null,null,null,null,null,null,{"$f":"INDEX($A:$O,ROW(),MATCH('Rapportage per vraag'!$C$12,'Data leveranciersbeoordeling'!$1:$1,0))","v":0},{"$f":"IFERROR(VLOOKUP(INDEX($A:$O,ROW(),MATCH('Rapportage per vraag'!$C$12,'Data leveranciersbeoordeling'!$1:$1,0)),Leveranciersbeoordeling!$H$1:$I$5,2,FALSE),0)","v":0},0]
["",null,null,null,null,null,null,null,null,null,null,null,null,null,null,{"$f":"INDEX($A:$O,ROW(),MATCH('Rapportage per vraag'!$C$12,'Data leveranciersbeoordeling'!$1:$1,0))","v":0},{"$f":"IFERROR(VLOOKUP(INDEX($A:$O,ROW(),MATCH('Rapportage per vraag'!$C$12,'Data leveranciersbeoordeling'!$1:$1,0)),Leveranciersbeoordeling!$H$1:$I$5,2,FALSE),0)","v":0},0]
["",null,null,null,null,null,null,null,null,null,null,null,null,null,null,{"$f":"INDEX($A:$O,ROW(),MATCH('Rapportage per vraag'!$C$12,'Data leveranciersbeoordeling'!$1:$1,0))","v":0},{"$f":"IFERROR(VLOOKUP(INDEX($A:$O,ROW(),MATCH('Rapportage per vraag'!$C$12,'Data leveranciersbeoordeling'!$1:$1,0)),Leveranciersbeoordeling!$H$1:$I$5,2,FALSE),0)","v":0},0]
["",null,null,null,null,null,null,null,null,null,null,null,null,null,null,{"$f":"INDEX($A:$O,ROW(),MATCH('Rapportage per vraag'!$C$12,'Data leveranciersbeoordeling'!$1:$1,0))","v":0},{"$f":"IFERROR(VLOOKUP(INDEX($A:$O,ROW(),MATCH('Rapportage per vraag'!$C$12,'Data leveranciersbeoordeling'!$1:$1,0)),Leveranciersbeoordeling!$H$1:$I$5,2,FALSE),0)","v":0},0]
["",null,null,null,null,null,null,null,null,null,null,null,null,null,null,{"$f":"INDEX($A:$O,ROW(),MATCH('Rapportage per vraag'!$C$12,'Data leveranciersbeoordeling'!$1:$1,0))","v":0},{"$f":"IFERROR(VLOOKUP(INDEX($A:$O,ROW(),MATCH('Rapportage per vraag'!$C$12,'Data leveranciersbeoordeling'!$1:$1,0)),Leveranciersbeoordeling!$H$1:$I$5,2,FALSE),0)","v":0},0]
["",null,null,null,null,null,null,null,null,null,null,null,null,null,null,{"$f":"INDEX($A:$O,ROW(),MATCH('Rapportage per vraag'!$C$12,'Data leveranciersbeoordeling'!$1:$1,0))","v":0},{"$f":"IFERROR(VLOOKUP(INDEX($A:$O,ROW(),MATCH('Rapportage per vraag'!$C$12,'Data leveranciersbeoordeling'!$1:$1,0)),Leveranciersbeoordeling!$H$1:$I$5,2,FALSE),0)","v":0},0]
["",null,null,null,null,null,null,null,null,null,null,null,null,null,null,{"$f":"INDEX($A:$O,ROW(),MATCH('Rapportage per vraag'!$C$12,'Data leveranciersbeoordeling'!$1:$1,0))","v":0},{"$f":"IFERROR(VLOOKUP(INDEX($A:$O,ROW(),MATCH('Rapportage per vraag'!$C$12,'Data leveranciersbeoordeling'!$1:$1,0)),Leveranciersbeoordeling!$H$1:$I$5,2,FALSE),0)","v":0},0]
["",null,null,null,null,null,null,null,null,null,null,null,null,null,null,{"$f":"INDEX($A:$O,ROW(),MATCH('Rapportage per vraag'!$C$12,'Data leveranciersbeoordeling'!$1:$1,0))","v":0},{"$f":"IFERROR(VLOOKUP(INDEX($A:$O,ROW(),MATCH('Rapportage per vraag'!$C$12,'Data leveranciersbeoordeling'!$1:$1,0)),Leveranciersbeoordeling!$H$1:$I$5,2,FALSE),0)","v":0},0]
["",null,null,null,null,null,null,null,null,null,null,null,null,null,null,{"$f":"INDEX($A:$O,ROW(),MATCH('Rapportage per vraag'!$C$12,'Data leveranciersbeoordeling'!$1:$1,0))","v":0},{"$f":"IFERROR(VLOOKUP(INDEX($A:$O,ROW(),MATCH('Rapportage per vraag'!$C$12,'Data leveranciersbeoordeling'!$1:$1,0)),Leveranciersbeoordeling!$H$1:$I$5,2,FALSE),0)","v":0},0]
["",null,null,null,null,null,null,null,null,null,null,null,null,null,null,{"$f":"INDEX($A:$O,ROW(),MATCH('Rapportage per vraag'!$C$12,'Data leveranciersbeoordeling'!$1:$1,0))","v":0},{"$f":"IFERROR(VLOOKUP(INDEX($A:$O,ROW(),MATCH('Rapportage per vraag'!$C$12,'Data leveranciersbeoordeling'!$1:$1,0)),Leveranciersbeoordeling!$H$1:$I$5,2,FALSE),0)","v":0},0]
["",null,null,null,null,null,null,null,null,null,null,null,null,null,null,{"$f":"INDEX($A:$O,ROW(),MATCH('Rapportage per vraag'!$C$12,'Data leveranciersbeoordeling'!$1:$1,0))","v":0},{"$f":"IFERROR(VLOOKUP(INDEX($A:$O,ROW(),MATCH('Rapportage per vraag'!$C$12,'Data leveranciersbeoordeling'!$1:$1,0)),Leveranciersbeoordeling!$H$1:$I$5,2,FALSE),0)","v":0},0]
["",null,null,null,null,null,null,null,null,null,null,null,null,null,null,{"$f":"INDEX($A:$O,ROW(),MATCH('Rapportage per vraag'!$C$12,'Data leveranciersbeoordeling'!$1:$1,0))","v":0},{"$f":"IFERROR(VLOOKUP(INDEX($A:$O,ROW(),MATCH('Rapportage per vraag'!$C$12,'Data leveranciersbeoordeling'!$1:$1,0)),Leveranciersbeoordeling!$H$1:$I$5,2,FALSE),0)","v":0},0]
["",null,null,null,null,null,null,null,null,null,null,null,null,null,null,{"$f":"INDEX($A:$O,ROW(),MATCH('Rapportage per vraag'!$C$12,'Data leveranciersbeoordeling'!$1:$1,0))","v":0},{"$f":"IFERROR(VLOOKUP(INDEX($A:$O,ROW(),MATCH('Rapportage per vraag'!$C$12,'Data leveranciersbeoordeling'!$1:$1,0)),Leveranciersbeoordeling!$H$1:$I$5,2,FALSE),0)","v":0},0]
["",null,null,null,null,null,null,null,null,null,null,null,null,null,null,{"$f":"INDEX($A:$O,ROW(),MATCH('Rapportage per vraag'!$C$12,'Data leveranciersbeoordeling'!$1:$1,0))","v":0},{"$f":"IFERROR(VLOOKUP(INDEX($A:$O,ROW(),MATCH('Rapportage per vraag'!$C$12,'Data leveranciersbeoordeling'!$1:$1,0)),Leveranciersbeoordeling!$H$1:$I$5,2,FALSE),0)","v":0},0]
["",null,null,null,null,null,null,null,null,null,null,null,null,null,null,{"$f":"INDEX($A:$O,ROW(),MATCH('Rapportage per vraag'!$C$12,'Data leveranciersbeoordeling'!$1:$1,0))","v":0},{"$f":"IFERROR(VLOOKUP(INDEX($A:$O,ROW(),MATCH('Rapportage per vraag'!$C$12,'Data leveranciersbeoordeling'!$1:$1,0)),Leveranciersbeoordeling!$H$1:$I$5,2,FALSE),0)","v":0},0]
["",null,null,null,null,null,null,null,null,null,null,null,null,null,null,{"$f":"INDEX($A:$O,ROW(),MATCH('Rapportage per vraag'!$C$12,'Data leveranciersbeoordeling'!$1:$1,0))","v":0},{"$f":"IFERROR(VLOOKUP(INDEX($A:$O,ROW(),MATCH('Rapportage per vraag'!$C$12,'Data leveranciersbeoordeling'!$1:$1,0)),Leveranciersbeoordeling!$H$1:$I$5,2,FALSE),0)","v":0},0]
["",null,null,null,null,null,null,null,null,null,null,null,null,null,null,{"$f":"INDEX($A:$O,ROW(),MATCH('Rapportage per vraag'!$C$12,'Data leveranciersbeoordeling'!$1:$1,0))","v":0},{"$f":"IFERROR(VLOOKUP(INDEX($A:$O,ROW(),MATCH('Rapportage per vraag'!$C$12,'Data leveranciersbeoordeling'!$1:$1,0)),Leveranciersbeoordeling!$H$1:$I$5,2,FALSE),0)","v":0},0]
["",null,null,null,null,null,null,null,null,null,null,null,null,null,null,{"$f":"INDEX($A:$O,ROW(),MATCH('Rapportage per vraag'!$C$12,'Data leveranciersbeoordeling'!$1:$1,0))","v":0},{"$f":"IFERROR(VLOOKUP(INDEX($A:$O,ROW(),MATCH('Rapportage per vraag'!$C$12,'Data leveranciersbeoordeling'!$1:$1,0)),Leveranciersbeoordeling!$H$1:$I$5,2,FALSE),0)","v":0},0]
["",null,null,null,null,null,null,null,null,null,null,null,null,null,null,{"$f":"INDEX($A:$O,ROW(),MATCH('Rapportage per vraag'!$C$12,'Data leveranciersbeoordeling'!$1:$1,0))","v":0},{"$f":"IFERROR(VLOOKUP(INDEX($A:$O,ROW(),MATCH('Rapportage per vraag'!$C$12,'Data leveranciersbeoordeling'!$1:$1,0)),Leveranciersbeoordeling!$H$1:$I$5,2,FALSE),0)","v":0},0]
["",null,null,null,null,null,null,null,null,null,null,null,null,null,null,{"$f":"INDEX($A:$O,ROW(),MATCH('Rapportage per vraag'!$C$12,'Data leveranciersbeoordeling'!$1:$1,0))","v":0},{"$f":"IFERROR(VLOOKUP(INDEX($A:$O,ROW(),MATCH('Rapportage per vraag'!$C$12,'Data leveranciersbeoordeling'!$1:$1,0)),Leveranciersbeoordeling!$H$1:$I$5,2,FALSE),0)","v":0},0]
["",null,null,null,null,null,null,null,null,null,null,null,null,null,null,{"$f":"INDEX($A:$O,ROW(),MATCH('Rapportage per vraag'!$C$12,'Data leveranciersbeoordeling'!$1:$1,0))","v":0},{"$f":"IFERROR(VLOOKUP(INDEX($A:$O,ROW(),MATCH('Rapportage per vraag'!$C$12,'Data leveranciersbeoordeling'!$1:$1,0)),Leveranciersbeoordeling!$H$1:$I$5,2,FALSE),0)","v":0},0]
["",null,null,null,null,null,null,null,null,null,null,null,null,null,null,{"$f":"INDEX($A:$O,ROW(),MATCH('Rapportage per vraag'!$C$12,'Data leveranciersbeoordeling'!$1:$1,0))","v":0},{"$f":"IFERROR(VLOOKUP(INDEX($A:$O,ROW(),MATCH('Rapportage per vraag'!$C$12,'Data leveranciersbeoordeling'!$1:$1,0)),Leveranciersbeoordeling!$H$1:$I$5,2,FALSE),0)","v":0},0]
["",null,null,null,null,null,null,null,null,null,null,null,null,null,null,{"$f":"INDEX($A:$O,ROW(),MATCH('Rapportage per vraag'!$C$12,'Data leveranciersbeoordeling'!$1:$1,0))","v":0},{"$f":"IFERROR(VLOOKUP(INDEX($A:$O,ROW(),MATCH('Rapportage per vraag'!$C$12,'Data leveranciersbeoordeling'!$1:$1,0)),Leveranciersbeoordeling!$H$1:$I$5,2,FALSE),0)","v":0},0]
["",null,null,null,null,null,null,null,null,null,null,null,null,null,null,{"$f":"INDEX($A:$O,ROW(),MATCH('Rapportage per vraag'!$C$12,'Data leveranciersbeoordeling'!$1:$1,0))","v":0},{"$f":"IFERROR(VLOOKUP(INDEX($A:$O,ROW(),MATCH('Rapportage per vraag'!$C$12,'Data leveranciersbeoordeling'!$1:$1,0)),Leveranciersbeoordeling!$H$1:$I$5,2,FALSE),0)","v":0},0]
["",null,null,null,null,null,null,null,null,null,null,null,null,null,null,{"$f":"INDEX($A:$O,ROW(),MATCH('Rapportage per vraag'!$C$12,'Data leveranciersbeoordeling'!$1:$1,0))","v":0},{"$f":"IFERROR(VLOOKUP(INDEX($A:$O,ROW(),MATCH('Rapportage per vraag'!$C$12,'Data leveranciersbeoordeling'!$1:$1,0)),Leveranciersbeoordeling!$H$1:$I$5,2,FALSE),0)","v":0},0]
["",null,null,null,null,null,null,null,null,null,null,null,null,null,null,{"$f":"INDEX($A:$O,ROW(),MATCH('Rapportage per vraag'!$C$12,'Data leveranciersbeoordeling'!$1:$1,0))","v":0},{"$f":"IFERROR(VLOOKUP(INDEX($A:$O,ROW(),MATCH('Rapportage per vraag'!$C$12,'Data leveranciersbeoordeling'!$1:$1,0)),Leveranciersbeoordeling!$H$1:$I$5,2,FALSE),0)","v":0},0]
["",null,null,null,null,null,null,null,null,null,null,null,null,null,null,{"$f":"INDEX($A:$O,ROW(),MATCH('Rapportage per vraag'!$C$12,'Data leveranciersbeoordeling'!$1:$1,0))","v":0},{"$f":"IFERROR(VLOOKUP(INDEX($A:$O,ROW(),MATCH('Rapportage per vraag'!$C$12,'Data leveranciersbeoordeling'!$1:$1,0)),Leveranciersbeoordeling!$H$1:$I$5,2,FALSE),0)","v":0},0]
["",null,null,null,null,null,null,null,null,null,null,null,null,null,null,{"$f":"INDEX($A:$O,ROW(),MATCH('Rapportage per vraag'!$C$12,'Data leveranciersbeoordeling'!$1:$1,0))","v":0},{"$f":"IFERROR(VLOOKUP(INDEX($A:$O,ROW(),MATCH('Rapportage per vraag'!$C$12,'Data leveranciersbeoordeling'!$1:$1,0)),Leveranciersbeoordeling!$H$1:$I$5,2,FALSE),0)","v":0},0]
["",null,null,null,null,null,null,null,null,null,null,null,null,null,null,{"$f":"INDEX($A:$O,ROW(),MATCH('Rapportage per vraag'!$C$12,'Data leveranciersbeoordeling'!$1:$1,0))","v":0},{"$f":"IFERROR(VLOOKUP(INDEX($A:$O,ROW(),MATCH('Rapportage per vraag'!$C$12,'Data leveranciersbeoordeling'!$1:$1,0)),Leveranciersbeoordeling!$H$1:$I$5,2,FALSE),0)","v":0},0]
["",null,null,null,null,null,null,null,null,null,null,null,null,null,null,{"$f":"INDEX($A:$O,ROW(),MATCH('Rapportage per vraag'!$C$12,'Data leveranciersbeoordeling'!$1:$1,0))","v":0},{"$f":"IFERROR(VLOOKUP(INDEX($A:$O,ROW(),MATCH('Rapportage per vraag'!$C$12,'Data leveranciersbeoordeling'!$1:$1,0)),Leveranciersbeoordeling!$H$1:$I$5,2,FALSE),0)","v":0},0]
["",null,null,null,null,null,null,null,null,null,null,null,null,null,null,{"$f":"INDEX($A:$O,ROW(),MATCH('Rapportage per vraag'!$C$12,'Data leveranciersbeoordeling'!$1:$1,0))","v":0},{"$f":"IFERROR(VLOOKUP(INDEX($A:$O,ROW(),MATCH('Rapportage per vraag'!$C$12,'Data leveranciersbeoordeling'!$1:$1,0)),Leveranciersbeoordeling!$H$1:$I$5,2,FALSE),0)","v":0},0]
["",null,null,null,null,null,null,null,null,null,null,null,null,null,null,{"$f":"INDEX($A:$O,ROW(),MATCH('Rapportage per vraag'!$C$12,'Data leveranciersbeoordeling'!$1:$1,0))","v":0},{"$f":"IFERROR(VLOOKUP(INDEX($A:$O,ROW(),MATCH('Rapportage per vraag'!$C$12,'Data leveranciersbeoordeling'!$1:$1,0)),Leveranciersbeoordeling!$H$1:$I$5,2,FALSE),0)","v":0},0]
[{"$f":"CONCATENATE(B899,C899,D899)","v":""},null,null,null,null,null,null,null,null,null,null,null,null,null,null,{"$f":"INDEX($A:$O,ROW(),MATCH('Rapportage per vraag'!$C$12,'Data leveranciersbeoordeling'!$1:$1,0))","v":0},{"$f":"IFERROR(VLOOKUP(INDEX($A:$O,ROW(),MATCH('Rapportage per vraag'!$C$12,'Data leveranciersbeoordeling'!$1:$1,0)),Leveranciersbeoordeling!$H$1:$I$5,2,FALSE),0)","v":0},0]
["",null,null,null,null,null,null,null,null,null,null,null,null,null,null,{"$f":"INDEX($A:$O,ROW(),MATCH('Rapportage per vraag'!$C$12,'Data leveranciersbeoordeling'!$1:$1,0))","v":0},{"$f":"IFERROR(VLOOKUP(INDEX($A:$O,ROW(),MATCH('Rapportage per vraag'!$C$12,'Data leveranciersbeoordeling'!$1:$1,0)),Leveranciersbeoordeling!$H$1:$I$5,2,FALSE),0)","v":0},0]
["",null,null,null,null,null,null,null,null,null,null,null,null,null,null,{"$f":"INDEX($A:$O,ROW(),MATCH('Rapportage per vraag'!$C$12,'Data leveranciersbeoordeling'!$1:$1,0))","v":0},{"$f":"IFERROR(VLOOKUP(INDEX($A:$O,ROW(),MATCH('Rapportage per vraag'!$C$12,'Data leveranciersbeoordeling'!$1:$1,0)),Leveranciersbeoordeling!$H$1:$I$5,2,FALSE),0)","v":0},0]
["",null,null,null,null,null,null,null,null,null,null,null,null,null,null,{"$f":"INDEX($A:$O,ROW(),MATCH('Rapportage per vraag'!$C$12,'Data leveranciersbeoordeling'!$1:$1,0))","v":0},{"$f":"IFERROR(VLOOKUP(INDEX($A:$O,ROW(),MATCH('Rapportage per vraag'!$C$12,'Data leveranciersbeoordeling'!$1:$1,0)),Leveranciersbeoordeling!$H$1:$I$5,2,FALSE),0)","v":0},{"$f":"IF(T(P902)=P902,Q902,P902)","v":0}]
["",null,null,null,null,null,null,null,null,null,null,null,null,null,null,{"$f":"INDEX($A:$O,ROW(),MATCH('Rapportage per vraag'!$C$12,'Data leveranciersbeoordeling'!$1:$1,0))","v":0},{"$f":"IFERROR(VLOOKUP(INDEX($A:$O,ROW(),MATCH('Rapportage per vraag'!$C$12,'Data leveranciersbeoordeling'!$1:$1,0)),Leveranciersbeoordeling!$H$1:$I$5,2,FALSE),0)","v":0},0]
["",null,null,null,null,null,null,null,null,null,null,null,null,null,null,{"$f":"INDEX($A:$O,ROW(),MATCH('Rapportage per vraag'!$C$12,'Data leveranciersbeoordeling'!$1:$1,0))","v":0},{"$f":"IFERROR(VLOOKUP(INDEX($A:$O,ROW(),MATCH('Rapportage per vraag'!$C$12,'Data leveranciersbeoordeling'!$1:$1,0)),Leveranciersbeoordeling!$H$1:$I$5,2,FALSE),0)","v":0},0]
["",null,null,null,null,null,null,null,null,null,null,null,null,null,null,{"$f":"INDEX($A:$O,ROW(),MATCH('Rapportage per vraag'!$C$12,'Data leveranciersbeoordeling'!$1:$1,0))","v":0},{"$f":"IFERROR(VLOOKUP(INDEX($A:$O,ROW(),MATCH('Rapportage per vraag'!$C$12,'Data leveranciersbeoordeling'!$1:$1,0)),Leveranciersbeoordeling!$H$1:$I$5,2,FALSE),0)","v":0},0]
["",null,null,null,null,null,null,null,null,null,null,null,null,null,null,{"$f":"INDEX($A:$O,ROW(),MATCH('Rapportage per vraag'!$C$12,'Data leveranciersbeoordeling'!$1:$1,0))","v":0},{"$f":"IFERROR(VLOOKUP(INDEX($A:$O,ROW(),MATCH('Rapportage per vraag'!$C$12,'Data leveranciersbeoordeling'!$1:$1,0)),Leveranciersbeoordeling!$H$1:$I$5,2,FALSE),0)","v":0},0]
["",null,null,null,null,null,null,null,null,null,null,null,null,null,null,{"$f":"INDEX($A:$O,ROW(),MATCH('Rapportage per vraag'!$C$12,'Data leveranciersbeoordeling'!$1:$1,0))","v":0},{"$f":"IFERROR(VLOOKUP(INDEX($A:$O,ROW(),MATCH('Rapportage per vraag'!$C$12,'Data leveranciersbeoordeling'!$1:$1,0)),Leveranciersbeoordeling!$H$1:$I$5,2,FALSE),0)","v":0},0]
["",null,null,null,null,null,null,null,null,null,null,null,null,null,null,{"$f":"INDEX($A:$O,ROW(),MATCH('Rapportage per vraag'!$C$12,'Data leveranciersbeoordeling'!$1:$1,0))","v":0},{"$f":"IFERROR(VLOOKUP(INDEX($A:$O,ROW(),MATCH('Rapportage per vraag'!$C$12,'Data leveranciersbeoordeling'!$1:$1,0)),Leveranciersbeoordeling!$H$1:$I$5,2,FALSE),0)","v":0},0]
["",null,null,null,null,null,null,null,null,null,null,null,null,null,null,{"$f":"INDEX($A:$O,ROW(),MATCH('Rapportage per vraag'!$C$12,'Data leveranciersbeoordeling'!$1:$1,0))","v":0},{"$f":"IFERROR(VLOOKUP(INDEX($A:$O,ROW(),MATCH('Rapportage per vraag'!$C$12,'Data leveranciersbeoordeling'!$1:$1,0)),Leveranciersbeoordeling!$H$1:$I$5,2,FALSE),0)","v":0},0]
["",null,null,null,null,null,null,null,null,null,null,null,null,null,null,{"$f":"INDEX($A:$O,ROW(),MATCH('Rapportage per vraag'!$C$12,'Data leveranciersbeoordeling'!$1:$1,0))","v":0},{"$f":"IFERROR(VLOOKUP(INDEX($A:$O,ROW(),MATCH('Rapportage per vraag'!$C$12,'Data leveranciersbeoordeling'!$1:$1,0)),Leveranciersbeoordeling!$H$1:$I$5,2,FALSE),0)","v":0},0]
["",null,null,null,null,null,null,null,null,null,null,null,null,null,null,{"$f":"INDEX($A:$O,ROW(),MATCH('Rapportage per vraag'!$C$12,'Data leveranciersbeoordeling'!$1:$1,0))","v":0},{"$f":"IFERROR(VLOOKUP(INDEX($A:$O,ROW(),MATCH('Rapportage per vraag'!$C$12,'Data leveranciersbeoordeling'!$1:$1,0)),Leveranciersbeoordeling!$H$1:$I$5,2,FALSE),0)","v":0},0]
["",null,null,null,null,null,null,null,null,null,null,null,null,null,null,{"$f":"INDEX($A:$O,ROW(),MATCH('Rapportage per vraag'!$C$12,'Data leveranciersbeoordeling'!$1:$1,0))","v":0},{"$f":"IFERROR(VLOOKUP(INDEX($A:$O,ROW(),MATCH('Rapportage per vraag'!$C$12,'Data leveranciersbeoordeling'!$1:$1,0)),Leveranciersbeoordeling!$H$1:$I$5,2,FALSE),0)","v":0},0]
["",null,null,null,null,null,null,null,null,null,null,null,null,null,null,{"$f":"INDEX($A:$O,ROW(),MATCH('Rapportage per vraag'!$C$12,'Data leveranciersbeoordeling'!$1:$1,0))","v":0},{"$f":"IFERROR(VLOOKUP(INDEX($A:$O,ROW(),MATCH('Rapportage per vraag'!$C$12,'Data leveranciersbeoordeling'!$1:$1,0)),Leveranciersbeoordeling!$H$1:$I$5,2,FALSE),0)","v":0},0]
["",null,null,null,null,null,null,null,null,null,null,null,null,null,null,{"$f":"INDEX($A:$O,ROW(),MATCH('Rapportage per vraag'!$C$12,'Data leveranciersbeoordeling'!$1:$1,0))","v":0},{"$f":"IFERROR(VLOOKUP(INDEX($A:$O,ROW(),MATCH('Rapportage per vraag'!$C$12,'Data leveranciersbeoordeling'!$1:$1,0)),Leveranciersbeoordeling!$H$1:$I$5,2,FALSE),0)","v":0},0]
["",null,null,null,null,null,null,null,null,null,null,null,null,null,null,{"$f":"INDEX($A:$O,ROW(),MATCH('Rapportage per vraag'!$C$12,'Data leveranciersbeoordeling'!$1:$1,0))","v":0},{"$f":"IFERROR(VLOOKUP(INDEX($A:$O,ROW(),MATCH('Rapportage per vraag'!$C$12,'Data leveranciersbeoordeling'!$1:$1,0)),Leveranciersbeoordeling!$H$1:$I$5,2,FALSE),0)","v":0},0]
["",null,null,null,null,null,null,null,null,null,null,null,null,null,null,{"$f":"INDEX($A:$O,ROW(),MATCH('Rapportage per vraag'!$C$12,'Data leveranciersbeoordeling'!$1:$1,0))","v":0},{"$f":"IFERROR(VLOOKUP(INDEX($A:$O,ROW(),MATCH('Rapportage per vraag'!$C$12,'Data leveranciersbeoordeling'!$1:$1,0)),Leveranciersbeoordeling!$H$1:$I$5,2,FALSE),0)","v":0},0]
["",null,null,null,null,null,null,null,null,null,null,null,null,null,null,{"$f":"INDEX($A:$O,ROW(),MATCH('Rapportage per vraag'!$C$12,'Data leveranciersbeoordeling'!$1:$1,0))","v":0},{"$f":"IFERROR(VLOOKUP(INDEX($A:$O,ROW(),MATCH('Rapportage per vraag'!$C$12,'Data leveranciersbeoordeling'!$1:$1,0)),Leveranciersbeoordeling!$H$1:$I$5,2,FALSE),0)","v":0},0]
["",null,null,null,null,null,null,null,null,null,null,null,null,null,null,{"$f":"INDEX($A:$O,ROW(),MATCH('Rapportage per vraag'!$C$12,'Data leveranciersbeoordeling'!$1:$1,0))","v":0},{"$f":"IFERROR(VLOOKUP(INDEX($A:$O,ROW(),MATCH('Rapportage per vraag'!$C$12,'Data leveranciersbeoordeling'!$1:$1,0)),Leveranciersbeoordeling!$H$1:$I$5,2,FALSE),0)","v":0},0]
["",null,null,null,null,null,null,null,null,null,null,null,null,null,null,{"$f":"INDEX($A:$O,ROW(),MATCH('Rapportage per vraag'!$C$12,'Data leveranciersbeoordeling'!$1:$1,0))","v":0},{"$f":"IFERROR(VLOOKUP(INDEX($A:$O,ROW(),MATCH('Rapportage per vraag'!$C$12,'Data leveranciersbeoordeling'!$1:$1,0)),Leveranciersbeoordeling!$H$1:$I$5,2,FALSE),0)","v":0},0]
["",null,null,null,null,null,null,null,null,null,null,null,null,null,null,{"$f":"INDEX($A:$O,ROW(),MATCH('Rapportage per vraag'!$C$12,'Data leveranciersbeoordeling'!$1:$1,0))","v":0},{"$f":"IFERROR(VLOOKUP(INDEX($A:$O,ROW(),MATCH('Rapportage per vraag'!$C$12,'Data leveranciersbeoordeling'!$1:$1,0)),Leveranciersbeoordeling!$H$1:$I$5,2,FALSE),0)","v":0},0]
["",null,null,null,null,null,null,null,null,null,null,null,null,null,null,{"$f":"INDEX($A:$O,ROW(),MATCH('Rapportage per vraag'!$C$12,'Data leveranciersbeoordeling'!$1:$1,0))","v":0},{"$f":"IFERROR(VLOOKUP(INDEX($A:$O,ROW(),MATCH('Rapportage per vraag'!$C$12,'Data leveranciersbeoordeling'!$1:$1,0)),Leveranciersbeoordeling!$H$1:$I$5,2,FALSE),0)","v":0},0]
["",null,null,null,null,null,null,null,null,null,null,null,null,null,null,{"$f":"INDEX($A:$O,ROW(),MATCH('Rapportage per vraag'!$C$12,'Data leveranciersbeoordeling'!$1:$1,0))","v":0},{"$f":"IFERROR(VLOOKUP(INDEX($A:$O,ROW(),MATCH('Rapportage per vraag'!$C$12,'Data leveranciersbeoordeling'!$1:$1,0)),Leveranciersbeoordeling!$H$1:$I$5,2,FALSE),0)","v":0},0]
["",null,null,null,null,null,null,null,null,null,null,null,null,null,null,{"$f":"INDEX($A:$O,ROW(),MATCH('Rapportage per vraag'!$C$12,'Data leveranciersbeoordeling'!$1:$1,0))","v":0},{"$f":"IFERROR(VLOOKUP(INDEX($A:$O,ROW(),MATCH('Rapportage per vraag'!$C$12,'Data leveranciersbeoordeling'!$1:$1,0)),Leveranciersbeoordeling!$H$1:$I$5,2,FALSE),0)","v":0},0]
["",null,null,null,null,null,null,null,null,null,null,null,null,null,null,{"$f":"INDEX($A:$O,ROW(),MATCH('Rapportage per vraag'!$C$12,'Data leveranciersbeoordeling'!$1:$1,0))","v":0},{"$f":"IFERROR(VLOOKUP(INDEX($A:$O,ROW(),MATCH('Rapportage per vraag'!$C$12,'Data leveranciersbeoordeling'!$1:$1,0)),Leveranciersbeoordeling!$H$1:$I$5,2,FALSE),0)","v":0},0]
["",null,null,null,null,null,null,null,null,null,null,null,null,null,null,{"$f":"INDEX($A:$O,ROW(),MATCH('Rapportage per vraag'!$C$12,'Data leveranciersbeoordeling'!$1:$1,0))","v":0},{"$f":"IFERROR(VLOOKUP(INDEX($A:$O,ROW(),MATCH('Rapportage per vraag'!$C$12,'Data leveranciersbeoordeling'!$1:$1,0)),Leveranciersbeoordeling!$H$1:$I$5,2,FALSE),0)","v":0},0]
["",null,null,null,null,null,null,null,null,null,null,null,null,null,null,{"$f":"INDEX($A:$O,ROW(),MATCH('Rapportage per vraag'!$C$12,'Data leveranciersbeoordeling'!$1:$1,0))","v":0},{"$f":"IFERROR(VLOOKUP(INDEX($A:$O,ROW(),MATCH('Rapportage per vraag'!$C$12,'Data leveranciersbeoordeling'!$1:$1,0)),Leveranciersbeoordeling!$H$1:$I$5,2,FALSE),0)","v":0},0]
["",null,null,null,null,null,null,null,null,null,null,null,null,null,null,{"$f":"INDEX($A:$O,ROW(),MATCH('Rapportage per vraag'!$C$12,'Data leveranciersbeoordeling'!$1:$1,0))","v":0},{"$f":"IFERROR(VLOOKUP(INDEX($A:$O,ROW(),MATCH('Rapportage per vraag'!$C$12,'Data leveranciersbeoordeling'!$1:$1,0)),Leveranciersbeoordeling!$H$1:$I$5,2,FALSE),0)","v":0},0]
["",null,null,null,null,null,null,null,null,null,null,null,null,null,null,{"$f":"INDEX($A:$O,ROW(),MATCH('Rapportage per vraag'!$C$12,'Data leveranciersbeoordeling'!$1:$1,0))","v":0},{"$f":"IFERROR(VLOOKUP(INDEX($A:$O,ROW(),MATCH('Rapportage per vraag'!$C$12,'Data leveranciersbeoordeling'!$1:$1,0)),Leveranciersbeoordeling!$H$1:$I$5,2,FALSE),0)","v":0},0]
["",null,null,null,null,null,null,null,null,null,null,null,null,null,null,{"$f":"INDEX($A:$O,ROW(),MATCH('Rapportage per vraag'!$C$12,'Data leveranciersbeoordeling'!$1:$1,0))","v":0},{"$f":"IFERROR(VLOOKUP(INDEX($A:$O,ROW(),MATCH('Rapportage per vraag'!$C$12,'Data leveranciersbeoordeling'!$1:$1,0)),Leveranciersbeoordeling!$H$1:$I$5,2,FALSE),0)","v":0},0]
["",null,null,null,null,null,null,null,null,null,null,null,null,null,null,{"$f":"INDEX($A:$O,ROW(),MATCH('Rapportage per vraag'!$C$12,'Data leveranciersbeoordeling'!$1:$1,0))","v":0},{"$f":"IFERROR(VLOOKUP(INDEX($A:$O,ROW(),MATCH('Rapportage per vraag'!$C$12,'Data leveranciersbeoordeling'!$1:$1,0)),Leveranciersbeoordeling!$H$1:$I$5,2,FALSE),0)","v":0},0]
["",null,null,null,null,null,null,null,null,null,null,null,null,null,null,{"$f":"INDEX($A:$O,ROW(),MATCH('Rapportage per vraag'!$C$12,'Data leveranciersbeoordeling'!$1:$1,0))","v":0},{"$f":"IFERROR(VLOOKUP(INDEX($A:$O,ROW(),MATCH('Rapportage per vraag'!$C$12,'Data leveranciersbeoordeling'!$1:$1,0)),Leveranciersbeoordeling!$H$1:$I$5,2,FALSE),0)","v":0},0]
["",null,null,null,null,null,null,null,null,null,null,null,null,null,null,{"$f":"INDEX($A:$O,ROW(),MATCH('Rapportage per vraag'!$C$12,'Data leveranciersbeoordeling'!$1:$1,0))","v":0},{"$f":"IFERROR(VLOOKUP(INDEX($A:$O,ROW(),MATCH('Rapportage per vraag'!$C$12,'Data leveranciersbeoordeling'!$1:$1,0)),Leveranciersbeoordeling!$H$1:$I$5,2,FALSE),0)","v":0},0]
["",null,null,null,null,null,null,null,null,null,null,null,null,null,null,{"$f":"INDEX($A:$O,ROW(),MATCH('Rapportage per vraag'!$C$12,'Data leveranciersbeoordeling'!$1:$1,0))","v":0},{"$f":"IFERROR(VLOOKUP(INDEX($A:$O,ROW(),MATCH('Rapportage per vraag'!$C$12,'Data leveranciersbeoordeling'!$1:$1,0)),Leveranciersbeoordeling!$H$1:$I$5,2,FALSE),0)","v":0},0]
["",null,null,null,null,null,null,null,null,null,null,null,null,null,null,{"$f":"INDEX($A:$O,ROW(),MATCH('Rapportage per vraag'!$C$12,'Data leveranciersbeoordeling'!$1:$1,0))","v":0},{"$f":"IFERROR(VLOOKUP(INDEX($A:$O,ROW(),MATCH('Rapportage per vraag'!$C$12,'Data leveranciersbeoordeling'!$1:$1,0)),Leveranciersbeoordeling!$H$1:$I$5,2,FALSE),0)","v":0},0]
["",null,null,null,null,null,null,null,null,null,null,null,null,null,null,{"$f":"INDEX($A:$O,ROW(),MATCH('Rapportage per vraag'!$C$12,'Data leveranciersbeoordeling'!$1:$1,0))","v":0},{"$f":"IFERROR(VLOOKUP(INDEX($A:$O,ROW(),MATCH('Rapportage per vraag'!$C$12,'Data leveranciersbeoordeling'!$1:$1,0)),Leveranciersbeoordeling!$H$1:$I$5,2,FALSE),0)","v":0},0]
["",null,null,null,null,null,null,null,null,null,null,null,null,null,null,{"$f":"INDEX($A:$O,ROW(),MATCH('Rapportage per vraag'!$C$12,'Data leveranciersbeoordeling'!$1:$1,0))","v":0},{"$f":"IFERROR(VLOOKUP(INDEX($A:$O,ROW(),MATCH('Rapportage per vraag'!$C$12,'Data leveranciersbeoordeling'!$1:$1,0)),Leveranciersbeoordeling!$H$1:$I$5,2,FALSE),0)","v":0},0]
["",null,null,null,null,null,null,null,null,null,null,null,null,null,null,{"$f":"INDEX($A:$O,ROW(),MATCH('Rapportage per vraag'!$C$12,'Data leveranciersbeoordeling'!$1:$1,0))","v":0},{"$f":"IFERROR(VLOOKUP(INDEX($A:$O,ROW(),MATCH('Rapportage per vraag'!$C$12,'Data leveranciersbeoordeling'!$1:$1,0)),Leveranciersbeoordeling!$H$1:$I$5,2,FALSE),0)","v":0},0]
["",null,null,null,null,null,null,null,null,null,null,null,null,null,null,{"$f":"INDEX($A:$O,ROW(),MATCH('Rapportage per vraag'!$C$12,'Data leveranciersbeoordeling'!$1:$1,0))","v":0},{"$f":"IFERROR(VLOOKUP(INDEX($A:$O,ROW(),MATCH('Rapportage per vraag'!$C$12,'Data leveranciersbeoordeling'!$1:$1,0)),Leveranciersbeoordeling!$H$1:$I$5,2,FALSE),0)","v":0},0]
["",null,null,null,null,null,null,null,null,null,null,null,null,null,null,{"$f":"INDEX($A:$O,ROW(),MATCH('Rapportage per vraag'!$C$12,'Data leveranciersbeoordeling'!$1:$1,0))","v":0},{"$f":"IFERROR(VLOOKUP(INDEX($A:$O,ROW(),MATCH('Rapportage per vraag'!$C$12,'Data leveranciersbeoordeling'!$1:$1,0)),Leveranciersbeoordeling!$H$1:$I$5,2,FALSE),0)","v":0},0]
["",null,null,null,null,null,null,null,null,null,null,null,null,null,null,{"$f":"INDEX($A:$O,ROW(),MATCH('Rapportage per vraag'!$C$12,'Data leveranciersbeoordeling'!$1:$1,0))","v":0},{"$f":"IFERROR(VLOOKUP(INDEX($A:$O,ROW(),MATCH('Rapportage per vraag'!$C$12,'Data leveranciersbeoordeling'!$1:$1,0)),Leveranciersbeoordeling!$H$1:$I$5,2,FALSE),0)","v":0},0]
["",null,null,null,null,null,null,null,null,null,null,null,null,null,null,{"$f":"INDEX($A:$O,ROW(),MATCH('Rapportage per vraag'!$C$12,'Data leveranciersbeoordeling'!$1:$1,0))","v":0},{"$f":"IFERROR(VLOOKUP(INDEX($A:$O,ROW(),MATCH('Rapportage per vraag'!$C$12,'Data leveranciersbeoordeling'!$1:$1,0)),Leveranciersbeoordeling!$H$1:$I$5,2,FALSE),0)","v":0},0]
["",null,null,null,null,null,null,null,null,null,null,null,null,null,null,{"$f":"INDEX($A:$O,ROW(),MATCH('Rapportage per vraag'!$C$12,'Data leveranciersbeoordeling'!$1:$1,0))","v":0},{"$f":"IFERROR(VLOOKUP(INDEX($A:$O,ROW(),MATCH('Rapportage per vraag'!$C$12,'Data leveranciersbeoordeling'!$1:$1,0)),Leveranciersbeoordeling!$H$1:$I$5,2,FALSE),0)","v":0},0]
["",null,null,null,null,null,null,null,null,null,null,null,null,null,null,{"$f":"INDEX($A:$O,ROW(),MATCH('Rapportage per vraag'!$C$12,'Data leveranciersbeoordeling'!$1:$1,0))","v":0},{"$f":"IFERROR(VLOOKUP(INDEX($A:$O,ROW(),MATCH('Rapportage per vraag'!$C$12,'Data leveranciersbeoordeling'!$1:$1,0)),Leveranciersbeoordeling!$H$1:$I$5,2,FALSE),0)","v":0},0]
["",null,null,null,null,null,null,null,null,null,null,null,null,null,null,{"$f":"INDEX($A:$O,ROW(),MATCH('Rapportage per vraag'!$C$12,'Data leveranciersbeoordeling'!$1:$1,0))","v":0},{"$f":"IFERROR(VLOOKUP(INDEX($A:$O,ROW(),MATCH('Rapportage per vraag'!$C$12,'Data leveranciersbeoordeling'!$1:$1,0)),Leveranciersbeoordeling!$H$1:$I$5,2,FALSE),0)","v":0},0]
["",null,null,null,null,null,null,null,null,null,null,null,null,null,null,{"$f":"INDEX($A:$O,ROW(),MATCH('Rapportage per vraag'!$C$12,'Data leveranciersbeoordeling'!$1:$1,0))","v":0},{"$f":"IFERROR(VLOOKUP(INDEX($A:$O,ROW(),MATCH('Rapportage per vraag'!$C$12,'Data leveranciersbeoordeling'!$1:$1,0)),Leveranciersbeoordeling!$H$1:$I$5,2,FALSE),0)","v":0},0]
["",null,null,null,null,null,null,null,null,null,null,null,null,null,null,{"$f":"INDEX($A:$O,ROW(),MATCH('Rapportage per vraag'!$C$12,'Data leveranciersbeoordeling'!$1:$1,0))","v":0},{"$f":"IFERROR(VLOOKUP(INDEX($A:$O,ROW(),MATCH('Rapportage per vraag'!$C$12,'Data leveranciersbeoordeling'!$1:$1,0)),Leveranciersbeoordeling!$H$1:$I$5,2,FALSE),0)","v":0},0]
["",null,null,null,null,null,null,null,null,null,null,null,null,null,null,{"$f":"INDEX($A:$O,ROW(),MATCH('Rapportage per vraag'!$C$12,'Data leveranciersbeoordeling'!$1:$1,0))","v":0},{"$f":"IFERROR(VLOOKUP(INDEX($A:$O,ROW(),MATCH('Rapportage per vraag'!$C$12,'Data leveranciersbeoordeling'!$1:$1,0)),Leveranciersbeoordeling!$H$1:$I$5,2,FALSE),0)","v":0},0]
["",null,null,null,null,null,null,null,null,null,null,null,null,null,null,{"$f":"INDEX($A:$O,ROW(),MATCH('Rapportage per vraag'!$C$12,'Data leveranciersbeoordeling'!$1:$1,0))","v":0},{"$f":"IFERROR(VLOOKUP(INDEX($A:$O,ROW(),MATCH('Rapportage per vraag'!$C$12,'Data leveranciersbeoordeling'!$1:$1,0)),Leveranciersbeoordeling!$H$1:$I$5,2,FALSE),0)","v":0},0]
["",null,null,null,null,null,null,null,null,null,null,null,null,null,null,{"$f":"INDEX($A:$O,ROW(),MATCH('Rapportage per vraag'!$C$12,'Data leveranciersbeoordeling'!$1:$1,0))","v":0},{"$f":"IFERROR(VLOOKUP(INDEX($A:$O,ROW(),MATCH('Rapportage per vraag'!$C$12,'Data leveranciersbeoordeling'!$1:$1,0)),Leveranciersbeoordeling!$H$1:$I$5,2,FALSE),0)","v":0},0]
["",null,null,null,null,null,null,null,null,null,null,null,null,null,null,{"$f":"INDEX($A:$O,ROW(),MATCH('Rapportage per vraag'!$C$12,'Data leveranciersbeoordeling'!$1:$1,0))","v":0},{"$f":"IFERROR(VLOOKUP(INDEX($A:$O,ROW(),MATCH('Rapportage per vraag'!$C$12,'Data leveranciersbeoordeling'!$1:$1,0)),Leveranciersbeoordeling!$H$1:$I$5,2,FALSE),0)","v":0},0]
["",null,null,null,null,null,null,null,null,null,null,null,null,null,null,{"$f":"INDEX($A:$O,ROW(),MATCH('Rapportage per vraag'!$C$12,'Data leveranciersbeoordeling'!$1:$1,0))","v":0},{"$f":"IFERROR(VLOOKUP(INDEX($A:$O,ROW(),MATCH('Rapportage per vraag'!$C$12,'Data leveranciersbeoordeling'!$1:$1,0)),Leveranciersbeoordeling!$H$1:$I$5,2,FALSE),0)","v":0},0]
["",null,null,null,null,null,null,null,null,null,null,null,null,null,null,{"$f":"INDEX($A:$O,ROW(),MATCH('Rapportage per vraag'!$C$12,'Data leveranciersbeoordeling'!$1:$1,0))","v":0},{"$f":"IFERROR(VLOOKUP(INDEX($A:$O,ROW(),MATCH('Rapportage per vraag'!$C$12,'Data leveranciersbeoordeling'!$1:$1,0)),Leveranciersbeoordeling!$H$1:$I$5,2,FALSE),0)","v":0},0]
["",null,null,null,null,null,null,null,null,null,null,null,null,null,null,{"$f":"INDEX($A:$O,ROW(),MATCH('Rapportage per vraag'!$C$12,'Data leveranciersbeoordeling'!$1:$1,0))","v":0},{"$f":"IFERROR(VLOOKUP(INDEX($A:$O,ROW(),MATCH('Rapportage per vraag'!$C$12,'Data leveranciersbeoordeling'!$1:$1,0)),Leveranciersbeoordeling!$H$1:$I$5,2,FALSE),0)","v":0},0]
["",null,null,null,null,null,null,null,null,null,null,null,null,null,null,{"$f":"INDEX($A:$O,ROW(),MATCH('Rapportage per vraag'!$C$12,'Data leveranciersbeoordeling'!$1:$1,0))","v":0},{"$f":"IFERROR(VLOOKUP(INDEX($A:$O,ROW(),MATCH('Rapportage per vraag'!$C$12,'Data leveranciersbeoordeling'!$1:$1,0)),Leveranciersbeoordeling!$H$1:$I$5,2,FALSE),0)","v":0},0]
["",null,null,null,null,null,null,null,null,null,null,null,null,null,null,{"$f":"INDEX($A:$O,ROW(),MATCH('Rapportage per vraag'!$C$12,'Data leveranciersbeoordeling'!$1:$1,0))","v":0},{"$f":"IFERROR(VLOOKUP(INDEX($A:$O,ROW(),MATCH('Rapportage per vraag'!$C$12,'Data leveranciersbeoordeling'!$1:$1,0)),Leveranciersbeoordeling!$H$1:$I$5,2,FALSE),0)","v":0},0]
["",null,null,null,null,null,null,null,null,null,null,null,null,null,null,{"$f":"INDEX($A:$O,ROW(),MATCH('Rapportage per vraag'!$C$12,'Data leveranciersbeoordeling'!$1:$1,0))","v":0},{"$f":"IFERROR(VLOOKUP(INDEX($A:$O,ROW(),MATCH('Rapportage per vraag'!$C$12,'Data leveranciersbeoordeling'!$1:$1,0)),Leveranciersbeoordeling!$H$1:$I$5,2,FALSE),0)","v":0},0]
["",null,null,null,null,null,null,null,null,null,null,null,null,null,null,{"$f":"INDEX($A:$O,ROW(),MATCH('Rapportage per vraag'!$C$12,'Data leveranciersbeoordeling'!$1:$1,0))","v":0},{"$f":"IFERROR(VLOOKUP(INDEX($A:$O,ROW(),MATCH('Rapportage per vraag'!$C$12,'Data leveranciersbeoordeling'!$1:$1,0)),Leveranciersbeoordeling!$H$1:$I$5,2,FALSE),0)","v":0},0]
["",null,null,null,null,null,null,null,null,null,null,null,null,null,null,{"$f":"INDEX($A:$O,ROW(),MATCH('Rapportage per vraag'!$C$12,'Data leveranciersbeoordeling'!$1:$1,0))","v":0},{"$f":"IFERROR(VLOOKUP(INDEX($A:$O,ROW(),MATCH('Rapportage per vraag'!$C$12,'Data leveranciersbeoordeling'!$1:$1,0)),Leveranciersbeoordeling!$H$1:$I$5,2,FALSE),0)","v":0},0]
["",null,null,null,null,null,null,null,null,null,null,null,null,null,null,{"$f":"INDEX($A:$O,ROW(),MATCH('Rapportage per vraag'!$C$12,'Data leveranciersbeoordeling'!$1:$1,0))","v":0},{"$f":"IFERROR(VLOOKUP(INDEX($A:$O,ROW(),MATCH('Rapportage per vraag'!$C$12,'Data leveranciersbeoordeling'!$1:$1,0)),Leveranciersbeoordeling!$H$1:$I$5,2,FALSE),0)","v":0},0]
["",null,null,null,null,null,null,null,null,null,null,null,null,null,null,{"$f":"INDEX($A:$O,ROW(),MATCH('Rapportage per vraag'!$C$12,'Data leveranciersbeoordeling'!$1:$1,0))","v":0},{"$f":"IFERROR(VLOOKUP(INDEX($A:$O,ROW(),MATCH('Rapportage per vraag'!$C$12,'Data leveranciersbeoordeling'!$1:$1,0)),Leveranciersbeoordeling!$H$1:$I$5,2,FALSE),0)","v":0},0]
["",null,null,null,null,null,null,null,null,null,null,null,null,null,null,{"$f":"INDEX($A:$O,ROW(),MATCH('Rapportage per vraag'!$C$12,'Data leveranciersbeoordeling'!$1:$1,0))","v":0},{"$f":"IFERROR(VLOOKUP(INDEX($A:$O,ROW(),MATCH('Rapportage per vraag'!$C$12,'Data leveranciersbeoordeling'!$1:$1,0)),Leveranciersbeoordeling!$H$1:$I$5,2,FALSE),0)","v":0},0]
["",null,null,null,null,null,null,null,null,null,null,null,null,null,null,{"$f":"INDEX($A:$O,ROW(),MATCH('Rapportage per vraag'!$C$12,'Data leveranciersbeoordeling'!$1:$1,0))","v":0},{"$f":"IFERROR(VLOOKUP(INDEX($A:$O,ROW(),MATCH('Rapportage per vraag'!$C$12,'Data leveranciersbeoordeling'!$1:$1,0)),Leveranciersbeoordeling!$H$1:$I$5,2,FALSE),0)","v":0},0]
[{"$f":"CONCATENATE(B963,C963,D963)","v":""},null,null,null,null,null,null,null,null,null,null,null,null,null,null,{"$f":"INDEX($A:$O,ROW(),MATCH('Rapportage per vraag'!$C$12,'Data leveranciersbeoordeling'!$1:$1,0))","v":0},{"$f":"IFERROR(VLOOKUP(INDEX($A:$O,ROW(),MATCH('Rapportage per vraag'!$C$12,'Data leveranciersbeoordeling'!$1:$1,0)),Leveranciersbeoordeling!$H$1:$I$5,2,FALSE),0)","v":0},0]
["",null,null,null,null,null,null,null,null,null,null,null,null,null,null,{"$f":"INDEX($A:$O,ROW(),MATCH('Rapportage per vraag'!$C$12,'Data leveranciersbeoordeling'!$1:$1,0))","v":0},{"$f":"IFERROR(VLOOKUP(INDEX($A:$O,ROW(),MATCH('Rapportage per vraag'!$C$12,'Data leveranciersbeoordeling'!$1:$1,0)),Leveranciersbeoordeling!$H$1:$I$5,2,FALSE),0)","v":0},0]
["",null,null,null,null,null,null,null,null,null,null,null,null,null,null,{"$f":"INDEX($A:$O,ROW(),MATCH('Rapportage per vraag'!$C$12,'Data leveranciersbeoordeling'!$1:$1,0))","v":0},{"$f":"IFERROR(VLOOKUP(INDEX($A:$O,ROW(),MATCH('Rapportage per vraag'!$C$12,'Data leveranciersbeoordeling'!$1:$1,0)),Leveranciersbeoordeling!$H$1:$I$5,2,FALSE),0)","v":0},0]
["",null,null,null,null,null,null,null,null,null,null,null,null,null,null,{"$f":"INDEX($A:$O,ROW(),MATCH('Rapportage per vraag'!$C$12,'Data leveranciersbeoordeling'!$1:$1,0))","v":0},{"$f":"IFERROR(VLOOKUP(INDEX($A:$O,ROW(),MATCH('Rapportage per vraag'!$C$12,'Data leveranciersbeoordeling'!$1:$1,0)),Leveranciersbeoordeling!$H$1:$I$5,2,FALSE),0)","v":0},{"$f":"IF(T(P966)=P966,Q966,P966)","v":0}]
["",null,null,null,null,null,null,null,null,null,null,null,null,null,null,{"$f":"INDEX($A:$O,ROW(),MATCH('Rapportage per vraag'!$C$12,'Data leveranciersbeoordeling'!$1:$1,0))","v":0},{"$f":"IFERROR(VLOOKUP(INDEX($A:$O,ROW(),MATCH('Rapportage per vraag'!$C$12,'Data leveranciersbeoordeling'!$1:$1,0)),Leveranciersbeoordeling!$H$1:$I$5,2,FALSE),0)","v":0},0]
["",null,null,null,null,null,null,null,null,null,null,null,null,null,null,{"$f":"INDEX($A:$O,ROW(),MATCH('Rapportage per vraag'!$C$12,'Data leveranciersbeoordeling'!$1:$1,0))","v":0},{"$f":"IFERROR(VLOOKUP(INDEX($A:$O,ROW(),MATCH('Rapportage per vraag'!$C$12,'Data leveranciersbeoordeling'!$1:$1,0)),Leveranciersbeoordeling!$H$1:$I$5,2,FALSE),0)","v":0},0]
["",null,null,null,null,null,null,null,null,null,null,null,null,null,null,{"$f":"INDEX($A:$O,ROW(),MATCH('Rapportage per vraag'!$C$12,'Data leveranciersbeoordeling'!$1:$1,0))","v":0},{"$f":"IFERROR(VLOOKUP(INDEX($A:$O,ROW(),MATCH('Rapportage per vraag'!$C$12,'Data leveranciersbeoordeling'!$1:$1,0)),Leveranciersbeoordeling!$H$1:$I$5,2,FALSE),0)","v":0},0]
["",null,null,null,null,null,null,null,null,null,null,null,null,null,null,{"$f":"INDEX($A:$O,ROW(),MATCH('Rapportage per vraag'!$C$12,'Data leveranciersbeoordeling'!$1:$1,0))","v":0},{"$f":"IFERROR(VLOOKUP(INDEX($A:$O,ROW(),MATCH('Rapportage per vraag'!$C$12,'Data leveranciersbeoordeling'!$1:$1,0)),Leveranciersbeoordeling!$H$1:$I$5,2,FALSE),0)","v":0},0]
["",null,null,null,null,null,null,null,null,null,null,null,null,null,null,{"$f":"INDEX($A:$O,ROW(),MATCH('Rapportage per vraag'!$C$12,'Data leveranciersbeoordeling'!$1:$1,0))","v":0},{"$f":"IFERROR(VLOOKUP(INDEX($A:$O,ROW(),MATCH('Rapportage per vraag'!$C$12,'Data leveranciersbeoordeling'!$1:$1,0)),Leveranciersbeoordeling!$H$1:$I$5,2,FALSE),0)","v":0},0]
["",null,null,null,null,null,null,null,null,null,null,null,null,null,null,{"$f":"INDEX($A:$O,ROW(),MATCH('Rapportage per vraag'!$C$12,'Data leveranciersbeoordeling'!$1:$1,0))","v":0},{"$f":"IFERROR(VLOOKUP(INDEX($A:$O,ROW(),MATCH('Rapportage per vraag'!$C$12,'Data leveranciersbeoordeling'!$1:$1,0)),Leveranciersbeoordeling!$H$1:$I$5,2,FALSE),0)","v":0},0]
["",null,null,null,null,null,null,null,null,null,null,null,null,null,null,{"$f":"INDEX($A:$O,ROW(),MATCH('Rapportage per vraag'!$C$12,'Data leveranciersbeoordeling'!$1:$1,0))","v":0},{"$f":"IFERROR(VLOOKUP(INDEX($A:$O,ROW(),MATCH('Rapportage per vraag'!$C$12,'Data leveranciersbeoordeling'!$1:$1,0)),Leveranciersbeoordeling!$H$1:$I$5,2,FALSE),0)","v":0},0]
["",null,null,null,null,null,null,null,null,null,null,null,null,null,null,{"$f":"INDEX($A:$O,ROW(),MATCH('Rapportage per vraag'!$C$12,'Data leveranciersbeoordeling'!$1:$1,0))","v":0},{"$f":"IFERROR(VLOOKUP(INDEX($A:$O,ROW(),MATCH('Rapportage per vraag'!$C$12,'Data leveranciersbeoordeling'!$1:$1,0)),Leveranciersbeoordeling!$H$1:$I$5,2,FALSE),0)","v":0},0]
["",null,null,null,null,null,null,null,null,null,null,null,null,null,null,{"$f":"INDEX($A:$O,ROW(),MATCH('Rapportage per vraag'!$C$12,'Data leveranciersbeoordeling'!$1:$1,0))","v":0},{"$f":"IFERROR(VLOOKUP(INDEX($A:$O,ROW(),MATCH('Rapportage per vraag'!$C$12,'Data leveranciersbeoordeling'!$1:$1,0)),Leveranciersbeoordeling!$H$1:$I$5,2,FALSE),0)","v":0},0]
["",null,null,null,null,null,null,null,null,null,null,null,null,null,null,{"$f":"INDEX($A:$O,ROW(),MATCH('Rapportage per vraag'!$C$12,'Data leveranciersbeoordeling'!$1:$1,0))","v":0},{"$f":"IFERROR(VLOOKUP(INDEX($A:$O,ROW(),MATCH('Rapportage per vraag'!$C$12,'Data leveranciersbeoordeling'!$1:$1,0)),Leveranciersbeoordeling!$H$1:$I$5,2,FALSE),0)","v":0},0]
["",null,null,null,null,null,null,null,null,null,null,null,null,null,null,{"$f":"INDEX($A:$O,ROW(),MATCH('Rapportage per vraag'!$C$12,'Data leveranciersbeoordeling'!$1:$1,0))","v":0},{"$f":"IFERROR(VLOOKUP(INDEX($A:$O,ROW(),MATCH('Rapportage per vraag'!$C$12,'Data leveranciersbeoordeling'!$1:$1,0)),Leveranciersbeoordeling!$H$1:$I$5,2,FALSE),0)","v":0},0]
["",null,null,null,null,null,null,null,null,null,null,null,null,null,null,{"$f":"INDEX($A:$O,ROW(),MATCH('Rapportage per vraag'!$C$12,'Data leveranciersbeoordeling'!$1:$1,0))","v":0},{"$f":"IFERROR(VLOOKUP(INDEX($A:$O,ROW(),MATCH('Rapportage per vraag'!$C$12,'Data leveranciersbeoordeling'!$1:$1,0)),Leveranciersbeoordeling!$H$1:$I$5,2,FALSE),0)","v":0},0]
["",null,null,null,null,null,null,null,null,null,null,null,null,null,null,{"$f":"INDEX($A:$O,ROW(),MATCH('Rapportage per vraag'!$C$12,'Data leveranciersbeoordeling'!$1:$1,0))","v":0},{"$f":"IFERROR(VLOOKUP(INDEX($A:$O,ROW(),MATCH('Rapportage per vraag'!$C$12,'Data leveranciersbeoordeling'!$1:$1,0)),Leveranciersbeoordeling!$H$1:$I$5,2,FALSE),0)","v":0},0]
["",null,null,null,null,null,null,null,null,null,null,null,null,null,null,{"$f":"INDEX($A:$O,ROW(),MATCH('Rapportage per vraag'!$C$12,'Data leveranciersbeoordeling'!$1:$1,0))","v":0},{"$f":"IFERROR(VLOOKUP(INDEX($A:$O,ROW(),MATCH('Rapportage per vraag'!$C$12,'Data leveranciersbeoordeling'!$1:$1,0)),Leveranciersbeoordeling!$H$1:$I$5,2,FALSE),0)","v":0},0]
["",null,null,null,null,null,null,null,null,null,null,null,null,null,null,{"$f":"INDEX($A:$O,ROW(),MATCH('Rapportage per vraag'!$C$12,'Data leveranciersbeoordeling'!$1:$1,0))","v":0},{"$f":"IFERROR(VLOOKUP(INDEX($A:$O,ROW(),MATCH('Rapportage per vraag'!$C$12,'Data leveranciersbeoordeling'!$1:$1,0)),Leveranciersbeoordeling!$H$1:$I$5,2,FALSE),0)","v":0},0]
["",null,null,null,null,null,null,null,null,null,null,null,null,null,null,{"$f":"INDEX($A:$O,ROW(),MATCH('Rapportage per vraag'!$C$12,'Data leveranciersbeoordeling'!$1:$1,0))","v":0},{"$f":"IFERROR(VLOOKUP(INDEX($A:$O,ROW(),MATCH('Rapportage per vraag'!$C$12,'Data leveranciersbeoordeling'!$1:$1,0)),Leveranciersbeoordeling!$H$1:$I$5,2,FALSE),0)","v":0},0]
["",null,null,null,null,null,null,null,null,null,null,null,null,null,null,{"$f":"INDEX($A:$O,ROW(),MATCH('Rapportage per vraag'!$C$12,'Data leveranciersbeoordeling'!$1:$1,0))","v":0},{"$f":"IFERROR(VLOOKUP(INDEX($A:$O,ROW(),MATCH('Rapportage per vraag'!$C$12,'Data leveranciersbeoordeling'!$1:$1,0)),Leveranciersbeoordeling!$H$1:$I$5,2,FALSE),0)","v":0},0]
["",null,null,null,null,null,null,null,null,null,null,null,null,null,null,{"$f":"INDEX($A:$O,ROW(),MATCH('Rapportage per vraag'!$C$12,'Data leveranciersbeoordeling'!$1:$1,0))","v":0},{"$f":"IFERROR(VLOOKUP(INDEX($A:$O,ROW(),MATCH('Rapportage per vraag'!$C$12,'Data leveranciersbeoordeling'!$1:$1,0)),Leveranciersbeoordeling!$H$1:$I$5,2,FALSE),0)","v":0},0]
["",null,null,null,null,null,null,null,null,null,null,null,null,null,null,{"$f":"INDEX($A:$O,ROW(),MATCH('Rapportage per vraag'!$C$12,'Data leveranciersbeoordeling'!$1:$1,0))","v":0},{"$f":"IFERROR(VLOOKUP(INDEX($A:$O,ROW(),MATCH('Rapportage per vraag'!$C$12,'Data leveranciersbeoordeling'!$1:$1,0)),Leveranciersbeoordeling!$H$1:$I$5,2,FALSE),0)","v":0},0]
["",null,null,null,null,null,null,null,null,null,null,null,null,null,null,{"$f":"INDEX($A:$O,ROW(),MATCH('Rapportage per vraag'!$C$12,'Data leveranciersbeoordeling'!$1:$1,0))","v":0},{"$f":"IFERROR(VLOOKUP(INDEX($A:$O,ROW(),MATCH('Rapportage per vraag'!$C$12,'Data leveranciersbeoordeling'!$1:$1,0)),Leveranciersbeoordeling!$H$1:$I$5,2,FALSE),0)","v":0},0]
["",null,null,null,null,null,null,null,null,null,null,null,null,null,null,{"$f":"INDEX($A:$O,ROW(),MATCH('Rapportage per vraag'!$C$12,'Data leveranciersbeoordeling'!$1:$1,0))","v":0},{"$f":"IFERROR(VLOOKUP(INDEX($A:$O,ROW(),MATCH('Rapportage per vraag'!$C$12,'Data leveranciersbeoordeling'!$1:$1,0)),Leveranciersbeoordeling!$H$1:$I$5,2,FALSE),0)","v":0},0]
["",null,null,null,null,null,null,null,null,null,null,null,null,null,null,{"$f":"INDEX($A:$O,ROW(),MATCH('Rapportage per vraag'!$C$12,'Data leveranciersbeoordeling'!$1:$1,0))","v":0},{"$f":"IFERROR(VLOOKUP(INDEX($A:$O,ROW(),MATCH('Rapportage per vraag'!$C$12,'Data leveranciersbeoordeling'!$1:$1,0)),Leveranciersbeoordeling!$H$1:$I$5,2,FALSE),0)","v":0},0]
["",null,null,null,null,null,null,null,null,null,null,null,null,null,null,{"$f":"INDEX($A:$O,ROW(),MATCH('Rapportage per vraag'!$C$12,'Data leveranciersbeoordeling'!$1:$1,0))","v":0},{"$f":"IFERROR(VLOOKUP(INDEX($A:$O,ROW(),MATCH('Rapportage per vraag'!$C$12,'Data leveranciersbeoordeling'!$1:$1,0)),Leveranciersbeoordeling!$H$1:$I$5,2,FALSE),0)","v":0},0]
["",null,null,null,null,null,null,null,null,null,null,null,null,null,null,{"$f":"INDEX($A:$O,ROW(),MATCH('Rapportage per vraag'!$C$12,'Data leveranciersbeoordeling'!$1:$1,0))","v":0},{"$f":"IFERROR(VLOOKUP(INDEX($A:$O,ROW(),MATCH('Rapportage per vraag'!$C$12,'Data leveranciersbeoordeling'!$1:$1,0)),Leveranciersbeoordeling!$H$1:$I$5,2,FALSE),0)","v":0},0]
["",null,null,null,null,null,null,null,null,null,null,null,null,null,null,{"$f":"INDEX($A:$O,ROW(),MATCH('Rapportage per vraag'!$C$12,'Data leveranciersbeoordeling'!$1:$1,0))","v":0},{"$f":"IFERROR(VLOOKUP(INDEX($A:$O,ROW(),MATCH('Rapportage per vraag'!$C$12,'Data leveranciersbeoordeling'!$1:$1,0)),Leveranciersbeoordeling!$H$1:$I$5,2,FALSE),0)","v":0},0]
["",null,null,null,null,null,null,null,null,null,null,null,null,null,null,{"$f":"INDEX($A:$O,ROW(),MATCH('Rapportage per vraag'!$C$12,'Data leveranciersbeoordeling'!$1:$1,0))","v":0},{"$f":"IFERROR(VLOOKUP(INDEX($A:$O,ROW(),MATCH('Rapportage per vraag'!$C$12,'Data leveranciersbeoordeling'!$1:$1,0)),Leveranciersbeoordeling!$H$1:$I$5,2,FALSE),0)","v":0},0]
["",null,null,null,null,null,null,null,null,null,null,null,null,null,null,{"$f":"INDEX($A:$O,ROW(),MATCH('Rapportage per vraag'!$C$12,'Data leveranciersbeoordeling'!$1:$1,0))","v":0},{"$f":"IFERROR(VLOOKUP(INDEX($A:$O,ROW(),MATCH('Rapportage per vraag'!$C$12,'Data leveranciersbeoordeling'!$1:$1,0)),Leveranciersbeoordeling!$H$1:$I$5,2,FALSE),0)","v":0},0]
["",null,null,null,null,null,null,null,null,null,null,null,null,null,null,{"$f":"INDEX($A:$O,ROW(),MATCH('Rapportage per vraag'!$C$12,'Data leveranciersbeoordeling'!$1:$1,0))","v":0},{"$f":"IFERROR(VLOOKUP(INDEX($A:$O,ROW(),MATCH('Rapportage per vraag'!$C$12,'Data leveranciersbeoordeling'!$1:$1,0)),Leveranciersbeoordeling!$H$1:$I$5,2,FALSE),0)","v":0},0]
["",null,null,null,null,null,null,null,null,null,null,null,null,null,null,{"$f":"INDEX($A:$O,ROW(),MATCH('Rapportage per vraag'!$C$12,'Data leveranciersbeoordeling'!$1:$1,0))","v":0},{"$f":"IFERROR(VLOOKUP(INDEX($A:$O,ROW(),MATCH('Rapportage per vraag'!$C$12,'Data leveranciersbeoordeling'!$1:$1,0)),Leveranciersbeoordeling!$H$1:$I$5,2,FALSE),0)","v":0},0]
["",null,null,null,null,null,null,null,null,null,null,null,null,null,null,{"$f":"INDEX($A:$O,ROW(),MATCH('Rapportage per vraag'!$C$12,'Data leveranciersbeoordeling'!$1:$1,0))","v":0},{"$f":"IFERROR(VLOOKUP(INDEX($A:$O,ROW(),MATCH('Rapportage per vraag'!$C$12,'Data leveranciersbeoordeling'!$1:$1,0)),Leveranciersbeoordeling!$H$1:$I$5,2,FALSE),0)","v":0},0]
["",null,null,null,null,null,null,null,null,null,null,null,null,null,null,{"$f":"INDEX($A:$O,ROW(),MATCH('Rapportage per vraag'!$C$12,'Data leveranciersbeoordeling'!$1:$1,0))","v":0},{"$f":"IFERROR(VLOOKUP(INDEX($A:$O,ROW(),MATCH('Rapportage per vraag'!$C$12,'Data leveranciersbeoordeling'!$1:$1,0)),Leveranciersbeoordeling!$H$1:$I$5,2,FALSE),0)","v":0},0]
["",null,null,null,null,null,null,null,null,null,null,null,null,null,null,{"$f":"INDEX($A:$O,ROW(),MATCH('Rapportage per vraag'!$C$12,'Data leveranciersbeoordeling'!$1:$1,0))","v":0},{"$f":"IFERROR(VLOOKUP(INDEX($A:$O,ROW(),MATCH('Rapportage per vraag'!$C$12,'Data leveranciersbeoordeling'!$1:$1,0)),Leveranciersbeoordeling!$H$1:$I$5,2,FALSE),0)","v":0},0]
["",null,null,null,null,null,null,null,null,null,null,null,null,null,null,{"$f":"INDEX($A:$O,ROW(),MATCH('Rapportage per vraag'!$C$12,'Data leveranciersbeoordeling'!$1:$1,0))","v":0},{"$f":"IFERROR(VLOOKUP(INDEX($A:$O,ROW(),MATCH('Rapportage per vraag'!$C$12,'Data leveranciersbeoordeling'!$1:$1,0)),Leveranciersbeoordeling!$H$1:$I$5,2,FALSE),0)","v":0},0]
["",null,null,null,null,null,null,null,null,null,null,null,null,null,null,{"$f":"INDEX($A:$O,ROW(),MATCH('Rapportage per vraag'!$C$12,'Data leveranciersbeoordeling'!$1:$1,0))","v":0},{"$f":"IFERROR(VLOOKUP(INDEX($A:$O,ROW(),MATCH('Rapportage per vraag'!$C$12,'Data leveranciersbeoordeling'!$1:$1,0)),Leveranciersbeoordeling!$H$1:$I$5,2,FALSE),0)","v":0},0]
["",null,null,null,null,null,null,null,null,null,null,null,null,null,null,{"$f":"INDEX($A:$O,ROW(),MATCH('Rapportage per vraag'!$C$12,'Data leveranciersbeoordeling'!$1:$1,0))","v":0},{"$f":"IFERROR(VLOOKUP(INDEX($A:$O,ROW(),MATCH('Rapportage per vraag'!$C$12,'Data leveranciersbeoordeling'!$1:$1,0)),Leveranciersbeoordeling!$H$1:$I$5,2,FALSE),0)","v":0},0]
["",null,null,null,null,null,null,null,null,null,null,null,null,null,null,{"$f":"INDEX($A:$O,ROW(),MATCH('Rapportage per vraag'!$C$12,'Data leveranciersbeoordeling'!$1:$1,0))","v":0},{"$f":"IFERROR(VLOOKUP(INDEX($A:$O,ROW(),MATCH('Rapportage per vraag'!$C$12,'Data leveranciersbeoordeling'!$1:$1,0)),Leveranciersbeoordeling!$H$1:$I$5,2,FALSE),0)","v":0},0]
["",null,null,null,null,null,null,null,null,null,null,null,null,null,null,{"$f":"INDEX($A:$O,ROW(),MATCH('Rapportage per vraag'!$C$12,'Data leveranciersbeoordeling'!$1:$1,0))","v":0},{"$f":"IFERROR(VLOOKUP(INDEX($A:$O,ROW(),MATCH('Rapportage per vraag'!$C$12,'Data leveranciersbeoordeling'!$1:$1,0)),Leveranciersbeoordeling!$H$1:$I$5,2,FALSE),0)","v":0},0]
["",null,null,null,null,null,null,null,null,null,null,null,null,null,null,{"$f":"INDEX($A:$O,ROW(),MATCH('Rapportage per vraag'!$C$12,'Data leveranciersbeoordeling'!$1:$1,0))","v":0},{"$f":"IFERROR(VLOOKUP(INDEX($A:$O,ROW(),MATCH('Rapportage per vraag'!$C$12,'Data leveranciersbeoordeling'!$1:$1,0)),Leveranciersbeoordeling!$H$1:$I$5,2,FALSE),0)","v":0},0]
["",null,null,null,null,null,null,null,null,null,null,null,null,null,null,{"$f":"INDEX($A:$O,ROW(),MATCH('Rapportage per vraag'!$C$12,'Data leveranciersbeoordeling'!$1:$1,0))","v":0},{"$f":"IFERROR(VLOOKUP(INDEX($A:$O,ROW(),MATCH('Rapportage per vraag'!$C$12,'Data leveranciersbeoordeling'!$1:$1,0)),Leveranciersbeoordeling!$H$1:$I$5,2,FALSE),0)","v":0},0]
["",null,null,null,null,null,null,null,null,null,null,null,null,null,null,{"$f":"INDEX($A:$O,ROW(),MATCH('Rapportage per vraag'!$C$12,'Data leveranciersbeoordeling'!$1:$1,0))","v":0},{"$f":"IFERROR(VLOOKUP(INDEX($A:$O,ROW(),MATCH('Rapportage per vraag'!$C$12,'Data leveranciersbeoordeling'!$1:$1,0)),Leveranciersbeoordeling!$H$1:$I$5,2,FALSE),0)","v":0},0]
["",null,null,null,null,null,null,null,null,null,null,null,null,null,null,{"$f":"INDEX($A:$O,ROW(),MATCH('Rapportage per vraag'!$C$12,'Data leveranciersbeoordeling'!$1:$1,0))","v":0},{"$f":"IFERROR(VLOOKUP(INDEX($A:$O,ROW(),MATCH('Rapportage per vraag'!$C$12,'Data leveranciersbeoordeling'!$1:$1,0)),Leveranciersbeoordeling!$H$1:$I$5,2,FALSE),0)","v":0},0]
["",null,null,null,null,null,null,null,null,null,null,null,null,null,null,{"$f":"INDEX($A:$O,ROW(),MATCH('Rapportage per vraag'!$C$12,'Data leveranciersbeoordeling'!$1:$1,0))","v":0},{"$f":"IFERROR(VLOOKUP(INDEX($A:$O,ROW(),MATCH('Rapportage per vraag'!$C$12,'Data leveranciersbeoordeling'!$1:$1,0)),Leveranciersbeoordeling!$H$1:$I$5,2,FALSE),0)","v":0},0]
["",null,null,null,null,null,null,null,null,null,null,null,null,null,null,{"$f":"INDEX($A:$O,ROW(),MATCH('Rapportage per vraag'!$C$12,'Data leveranciersbeoordeling'!$1:$1,0))","v":0},{"$f":"IFERROR(VLOOKUP(INDEX($A:$O,ROW(),MATCH('Rapportage per vraag'!$C$12,'Data leveranciersbeoordeling'!$1:$1,0)),Leveranciersbeoordeling!$H$1:$I$5,2,FALSE),0)","v":0},0]
["",null,null,null,null,null,null,null,null,null,null,null,null,null,null,{"$f":"INDEX($A:$O,ROW(),MATCH('Rapportage per vraag'!$C$12,'Data leveranciersbeoordeling'!$1:$1,0))","v":0},{"$f":"IFERROR(VLOOKUP(INDEX($A:$O,ROW(),MATCH('Rapportage per vraag'!$C$12,'Data leveranciersbeoordeling'!$1:$1,0)),Leveranciersbeoordeling!$H$1:$I$5,2,FALSE),0)","v":0},0]
["",null,null,null,null,null,null,null,null,null,null,null,null,null,null,{"$f":"INDEX($A:$O,ROW(),MATCH('Rapportage per vraag'!$C$12,'Data leveranciersbeoordeling'!$1:$1,0))","v":0},{"$f":"IFERROR(VLOOKUP(INDEX($A:$O,ROW(),MATCH('Rapportage per vraag'!$C$12,'Data leveranciersbeoordeling'!$1:$1,0)),Leveranciersbeoordeling!$H$1:$I$5,2,FALSE),0)","v":0},0]
["",null,null,null,null,null,null,null,null,null,null,null,null,null,null,{"$f":"INDEX($A:$O,ROW(),MATCH('Rapportage per vraag'!$C$12,'Data leveranciersbeoordeling'!$1:$1,0))","v":0},{"$f":"IFERROR(VLOOKUP(INDEX($A:$O,ROW(),MATCH('Rapportage per vraag'!$C$12,'Data leveranciersbeoordeling'!$1:$1,0)),Leveranciersbeoordeling!$H$1:$I$5,2,FALSE),0)","v":0},0]
["",null,null,null,null,null,null,null,null,null,null,null,null,null,null,{"$f":"INDEX($A:$O,ROW(),MATCH('Rapportage per vraag'!$C$12,'Data leveranciersbeoordeling'!$1:$1,0))","v":0},{"$f":"IFERROR(VLOOKUP(INDEX($A:$O,ROW(),MATCH('Rapportage per vraag'!$C$12,'Data leveranciersbeoordeling'!$1:$1,0)),Leveranciersbeoordeling!$H$1:$I$5,2,FALSE),0)","v":0},0]
["",null,null,null,null,null,null,null,null,null,null,null,null,null,null,{"$f":"INDEX($A:$O,ROW(),MATCH('Rapportage per vraag'!$C$12,'Data leveranciersbeoordeling'!$1:$1,0))","v":0},{"$f":"IFERROR(VLOOKUP(INDEX($A:$O,ROW(),MATCH('Rapportage per vraag'!$C$12,'Data leveranciersbeoordeling'!$1:$1,0)),Leveranciersbeoordeling!$H$1:$I$5,2,FALSE),0)","v":0},0]
["",null,null,null,null,null,null,null,null,null,null,null,null,null,null,{"$f":"INDEX($A:$O,ROW(),MATCH('Rapportage per vraag'!$C$12,'Data leveranciersbeoordeling'!$1:$1,0))","v":0},{"$f":"IFERROR(VLOOKUP(INDEX($A:$O,ROW(),MATCH('Rapportage per vraag'!$C$12,'Data leveranciersbeoordeling'!$1:$1,0)),Leveranciersbeoordeling!$H$1:$I$5,2,FALSE),0)","v":0},0]
["",null,null,null,null,null,null,null,null,null,null,null,null,null,null,{"$f":"INDEX($A:$O,ROW(),MATCH('Rapportage per vraag'!$C$12,'Data leveranciersbeoordeling'!$1:$1,0))","v":0},{"$f":"IFERROR(VLOOKUP(INDEX($A:$O,ROW(),MATCH('Rapportage per vraag'!$C$12,'Data leveranciersbeoordeling'!$1:$1,0)),Leveranciersbeoordeling!$H$1:$I$5,2,FALSE),0)","v":0},0]
["",null,null,null,null,null,null,null,null,null,null,null,null,null,null,{"$f":"INDEX($A:$O,ROW(),MATCH('Rapportage per vraag'!$C$12,'Data leveranciersbeoordeling'!$1:$1,0))","v":0},{"$f":"IFERROR(VLOOKUP(INDEX($A:$O,ROW(),MATCH('Rapportage per vraag'!$C$12,'Data leveranciersbeoordeling'!$1:$1,0)),Leveranciersbeoordeling!$H$1:$I$5,2,FALSE),0)","v":0},0]
["",null,null,null,null,null,null,null,null,null,null,null,null,null,null,{"$f":"INDEX($A:$O,ROW(),MATCH('Rapportage per vraag'!$C$12,'Data leveranciersbeoordeling'!$1:$1,0))","v":0},{"$f":"IFERROR(VLOOKUP(INDEX($A:$O,ROW(),MATCH('Rapportage per vraag'!$C$12,'Data leveranciersbeoordeling'!$1:$1,0)),Leveranciersbeoordeling!$H$1:$I$5,2,FALSE),0)","v":0},0]
["",null,null,null,null,null,null,null,null,null,null,null,null,null,null,{"$f":"INDEX($A:$O,ROW(),MATCH('Rapportage per vraag'!$C$12,'Data leveranciersbeoordeling'!$1:$1,0))","v":0},{"$f":"IFERROR(VLOOKUP(INDEX($A:$O,ROW(),MATCH('Rapportage per vraag'!$C$12,'Data leveranciersbeoordeling'!$1:$1,0)),Leveranciersbeoordeling!$H$1:$I$5,2,FALSE),0)","v":0},0]
["",null,null,null,null,null,null,null,null,null,null,null,null,null,null,{"$f":"INDEX($A:$O,ROW(),MATCH('Rapportage per vraag'!$C$12,'Data leveranciersbeoordeling'!$1:$1,0))","v":0},{"$f":"IFERROR(VLOOKUP(INDEX($A:$O,ROW(),MATCH('Rapportage per vraag'!$C$12,'Data leveranciersbeoordeling'!$1:$1,0)),Leveranciersbeoordeling!$H$1:$I$5,2,FALSE),0)","v":0},0]
["",null,null,null,null,null,null,null,null,null,null,null,null,null,null,{"$f":"INDEX($A:$O,ROW(),MATCH('Rapportage per vraag'!$C$12,'Data leveranciersbeoordeling'!$1:$1,0))","v":0},{"$f":"IFERROR(VLOOKUP(INDEX($A:$O,ROW(),MATCH('Rapportage per vraag'!$C$12,'Data leveranciersbeoordeling'!$1:$1,0)),Leveranciersbeoordeling!$H$1:$I$5,2,FALSE),0)","v":0},0]
["",null,null,null,null,null,null,null,null,null,null,null,null,null,null,{"$f":"INDEX($A:$O,ROW(),MATCH('Rapportage per vraag'!$C$12,'Data leveranciersbeoordeling'!$1:$1,0))","v":0},{"$f":"IFERROR(VLOOKUP(INDEX($A:$O,ROW(),MATCH('Rapportage per vraag'!$C$12,'Data leveranciersbeoordeling'!$1:$1,0)),Leveranciersbeoordeling!$H$1:$I$5,2,FALSE),0)","v":0},0]
["",null,null,null,null,null,null,null,null,null,null,null,null,null,null,{"$f":"INDEX($A:$O,ROW(),MATCH('Rapportage per vraag'!$C$12,'Data leveranciersbeoordeling'!$1:$1,0))","v":0},{"$f":"IFERROR(VLOOKUP(INDEX($A:$O,ROW(),MATCH('Rapportage per vraag'!$C$12,'Data leveranciersbeoordeling'!$1:$1,0)),Leveranciersbeoordeling!$H$1:$I$5,2,FALSE),0)","v":0},0]
["",null,null,null,null,null,null,null,null,null,null,null,null,null,null,{"$f":"INDEX($A:$O,ROW(),MATCH('Rapportage per vraag'!$C$12,'Data leveranciersbeoordeling'!$1:$1,0))","v":0},{"$f":"IFERROR(VLOOKUP(INDEX($A:$O,ROW(),MATCH('Rapportage per vraag'!$C$12,'Data leveranciersbeoordeling'!$1:$1,0)),Leveranciersbeoordeling!$H$1:$I$5,2,FALSE),0)","v":0},0]
["",null,null,null,null,null,null,null,null,null,null,null,null,null,null,{"$f":"INDEX($A:$O,ROW(),MATCH('Rapportage per vraag'!$C$12,'Data leveranciersbeoordeling'!$1:$1,0))","v":0},{"$f":"IFERROR(VLOOKUP(INDEX($A:$O,ROW(),MATCH('Rapportage per vraag'!$C$12,'Data leveranciersbeoordeling'!$1:$1,0)),Leveranciersbeoordeling!$H$1:$I$5,2,FALSE),0)","v":0},0]
["",null,null,null,null,null,null,null,null,null,null,null,null,null,null,{"$f":"INDEX($A:$O,ROW(),MATCH('Rapportage per vraag'!$C$12,'Data leveranciersbeoordeling'!$1:$1,0))","v":0},{"$f":"IFERROR(VLOOKUP(INDEX($A:$O,ROW(),MATCH('Rapportage per vraag'!$C$12,'Data leveranciersbeoordeling'!$1:$1,0)),Leveranciersbeoordeling!$H$1:$I$5,2,FALSE),0)","v":0},0]
[{"$f":"CONCATENATE(B1027,C1027,D1027)","v":""},null,null,null,null,null,null,null,null,null,null,null,null,null,null,{"$f":"INDEX($A:$O,ROW(),MATCH('Rapportage per vraag'!$C$12,'Data leveranciersbeoordeling'!$1:$1,0))","v":0},{"$f":"IFERROR(VLOOKUP(INDEX($A:$O,ROW(),MATCH('Rapportage per vraag'!$C$12,'Data leveranciersbeoordeling'!$1:$1,0)),Leveranciersbeoordeling!$H$1:$I$5,2,FALSE),0)","v":0},0]
["",null,null,null,null,null,null,null,null,null,null,null,null,null,null,{"$f":"INDEX($A:$O,ROW(),MATCH('Rapportage per vraag'!$C$12,'Data leveranciersbeoordeling'!$1:$1,0))","v":0},{"$f":"IFERROR(VLOOKUP(INDEX($A:$O,ROW(),MATCH('Rapportage per vraag'!$C$12,'Data leveranciersbeoordeling'!$1:$1,0)),Leveranciersbeoordeling!$H$1:$I$5,2,FALSE),0)","v":0},0]
["",null,null,null,null,null,null,null,null,null,null,null,null,null,null,{"$f":"INDEX($A:$O,ROW(),MATCH('Rapportage per vraag'!$C$12,'Data leveranciersbeoordeling'!$1:$1,0))","v":0},{"$f":"IFERROR(VLOOKUP(INDEX($A:$O,ROW(),MATCH('Rapportage per vraag'!$C$12,'Data leveranciersbeoordeling'!$1:$1,0)),Leveranciersbeoordeling!$H$1:$I$5,2,FALSE),0)","v":0},0]
["",null,null,null,null,null,null,null,null,null,null,null,null,null,null,{"$f":"INDEX($A:$O,ROW(),MATCH('Rapportage per vraag'!$C$12,'Data leveranciersbeoordeling'!$1:$1,0))","v":0},{"$f":"IFERROR(VLOOKUP(INDEX($A:$O,ROW(),MATCH('Rapportage per vraag'!$C$12,'Data leveranciersbeoordeling'!$1:$1,0)),Leveranciersbeoordeling!$H$1:$I$5,2,FALSE),0)","v":0},{"$f":"IF(T(P1030)=P1030,Q1030,P1030)","v":0}]
["",null,null,null,null,null,null,null,null,null,null,null,null,null,null,{"$f":"INDEX($A:$O,ROW(),MATCH('Rapportage per vraag'!$C$12,'Data leveranciersbeoordeling'!$1:$1,0))","v":0},{"$f":"IFERROR(VLOOKUP(INDEX($A:$O,ROW(),MATCH('Rapportage per vraag'!$C$12,'Data leveranciersbeoordeling'!$1:$1,0)),Leveranciersbeoordeling!$H$1:$I$5,2,FALSE),0)","v":0},0]
["",null,null,null,null,null,null,null,null,null,null,null,null,null,null,{"$f":"INDEX($A:$O,ROW(),MATCH('Rapportage per vraag'!$C$12,'Data leveranciersbeoordeling'!$1:$1,0))","v":0},{"$f":"IFERROR(VLOOKUP(INDEX($A:$O,ROW(),MATCH('Rapportage per vraag'!$C$12,'Data leveranciersbeoordeling'!$1:$1,0)),Leveranciersbeoordeling!$H$1:$I$5,2,FALSE),0)","v":0},0]
["",null,null,null,null,null,null,null,null,null,null,null,null,null,null,{"$f":"INDEX($A:$O,ROW(),MATCH('Rapportage per vraag'!$C$12,'Data leveranciersbeoordeling'!$1:$1,0))","v":0},{"$f":"IFERROR(VLOOKUP(INDEX($A:$O,ROW(),MATCH('Rapportage per vraag'!$C$12,'Data leveranciersbeoordeling'!$1:$1,0)),Leveranciersbeoordeling!$H$1:$I$5,2,FALSE),0)","v":0},0]
["",null,null,null,null,null,null,null,null,null,null,null,null,null,null,{"$f":"INDEX($A:$O,ROW(),MATCH('Rapportage per vraag'!$C$12,'Data leveranciersbeoordeling'!$1:$1,0))","v":0},{"$f":"IFERROR(VLOOKUP(INDEX($A:$O,ROW(),MATCH('Rapportage per vraag'!$C$12,'Data leveranciersbeoordeling'!$1:$1,0)),Leveranciersbeoordeling!$H$1:$I$5,2,FALSE),0)","v":0},0]
["",null,null,null,null,null,null,null,null,null,null,null,null,null,null,{"$f":"INDEX($A:$O,ROW(),MATCH('Rapportage per vraag'!$C$12,'Data leveranciersbeoordeling'!$1:$1,0))","v":0},{"$f":"IFERROR(VLOOKUP(INDEX($A:$O,ROW(),MATCH('Rapportage per vraag'!$C$12,'Data leveranciersbeoordeling'!$1:$1,0)),Leveranciersbeoordeling!$H$1:$I$5,2,FALSE),0)","v":0},0]
["",null,null,null,null,null,null,null,null,null,null,null,null,null,null,{"$f":"INDEX($A:$O,ROW(),MATCH('Rapportage per vraag'!$C$12,'Data leveranciersbeoordeling'!$1:$1,0))","v":0},{"$f":"IFERROR(VLOOKUP(INDEX($A:$O,ROW(),MATCH('Rapportage per vraag'!$C$12,'Data leveranciersbeoordeling'!$1:$1,0)),Leveranciersbeoordeling!$H$1:$I$5,2,FALSE),0)","v":0},0]
["",null,null,null,null,null,null,null,null,null,null,null,null,null,null,{"$f":"INDEX($A:$O,ROW(),MATCH('Rapportage per vraag'!$C$12,'Data leveranciersbeoordeling'!$1:$1,0))","v":0},{"$f":"IFERROR(VLOOKUP(INDEX($A:$O,ROW(),MATCH('Rapportage per vraag'!$C$12,'Data leveranciersbeoordeling'!$1:$1,0)),Leveranciersbeoordeling!$H$1:$I$5,2,FALSE),0)","v":0},0]
["",null,null,null,null,null,null,null,null,null,null,null,null,null,null,{"$f":"INDEX($A:$O,ROW(),MATCH('Rapportage per vraag'!$C$12,'Data leveranciersbeoordeling'!$1:$1,0))","v":0},{"$f":"IFERROR(VLOOKUP(INDEX($A:$O,ROW(),MATCH('Rapportage per vraag'!$C$12,'Data leveranciersbeoordeling'!$1:$1,0)),Leveranciersbeoordeling!$H$1:$I$5,2,FALSE),0)","v":0},0]
["",null,null,null,null,null,null,null,null,null,null,null,null,null,null,{"$f":"INDEX($A:$O,ROW(),MATCH('Rapportage per vraag'!$C$12,'Data leveranciersbeoordeling'!$1:$1,0))","v":0},{"$f":"IFERROR(VLOOKUP(INDEX($A:$O,ROW(),MATCH('Rapportage per vraag'!$C$12,'Data leveranciersbeoordeling'!$1:$1,0)),Leveranciersbeoordeling!$H$1:$I$5,2,FALSE),0)","v":0},0]
["",null,null,null,null,null,null,null,null,null,null,null,null,null,null,{"$f":"INDEX($A:$O,ROW(),MATCH('Rapportage per vraag'!$C$12,'Data leveranciersbeoordeling'!$1:$1,0))","v":0},{"$f":"IFERROR(VLOOKUP(INDEX($A:$O,ROW(),MATCH('Rapportage per vraag'!$C$12,'Data leveranciersbeoordeling'!$1:$1,0)),Leveranciersbeoordeling!$H$1:$I$5,2,FALSE),0)","v":0},0]
["",null,null,null,null,null,null,null,null,null,null,null,null,null,null,{"$f":"INDEX($A:$O,ROW(),MATCH('Rapportage per vraag'!$C$12,'Data leveranciersbeoordeling'!$1:$1,0))","v":0},{"$f":"IFERROR(VLOOKUP(INDEX($A:$O,ROW(),MATCH('Rapportage per vraag'!$C$12,'Data leveranciersbeoordeling'!$1:$1,0)),Leveranciersbeoordeling!$H$1:$I$5,2,FALSE),0)","v":0},0]
["",null,null,null,null,null,null,null,null,null,null,null,null,null,null,{"$f":"INDEX($A:$O,ROW(),MATCH('Rapportage per vraag'!$C$12,'Data leveranciersbeoordeling'!$1:$1,0))","v":0},{"$f":"IFERROR(VLOOKUP(INDEX($A:$O,ROW(),MATCH('Rapportage per vraag'!$C$12,'Data leveranciersbeoordeling'!$1:$1,0)),Leveranciersbeoordeling!$H$1:$I$5,2,FALSE),0)","v":0},0]
["",null,null,null,null,null,null,null,null,null,null,null,null,null,null,{"$f":"INDEX($A:$O,ROW(),MATCH('Rapportage per vraag'!$C$12,'Data leveranciersbeoordeling'!$1:$1,0))","v":0},{"$f":"IFERROR(VLOOKUP(INDEX($A:$O,ROW(),MATCH('Rapportage per vraag'!$C$12,'Data leveranciersbeoordeling'!$1:$1,0)),Leveranciersbeoordeling!$H$1:$I$5,2,FALSE),0)","v":0},0]
["",null,null,null,null,null,null,null,null,null,null,null,null,null,null,{"$f":"INDEX($A:$O,ROW(),MATCH('Rapportage per vraag'!$C$12,'Data leveranciersbeoordeling'!$1:$1,0))","v":0},{"$f":"IFERROR(VLOOKUP(INDEX($A:$O,ROW(),MATCH('Rapportage per vraag'!$C$12,'Data leveranciersbeoordeling'!$1:$1,0)),Leveranciersbeoordeling!$H$1:$I$5,2,FALSE),0)","v":0},0]
["",null,null,null,null,null,null,null,null,null,null,null,null,null,null,{"$f":"INDEX($A:$O,ROW(),MATCH('Rapportage per vraag'!$C$12,'Data leveranciersbeoordeling'!$1:$1,0))","v":0},{"$f":"IFERROR(VLOOKUP(INDEX($A:$O,ROW(),MATCH('Rapportage per vraag'!$C$12,'Data leveranciersbeoordeling'!$1:$1,0)),Leveranciersbeoordeling!$H$1:$I$5,2,FALSE),0)","v":0},0]
["",null,null,null,null,null,null,null,null,null,null,null,null,null,null,{"$f":"INDEX($A:$O,ROW(),MATCH('Rapportage per vraag'!$C$12,'Data leveranciersbeoordeling'!$1:$1,0))","v":0},{"$f":"IFERROR(VLOOKUP(INDEX($A:$O,ROW(),MATCH('Rapportage per vraag'!$C$12,'Data leveranciersbeoordeling'!$1:$1,0)),Leveranciersbeoordeling!$H$1:$I$5,2,FALSE),0)","v":0},0]
["",null,null,null,null,null,null,null,null,null,null,null,null,null,null,{"$f":"INDEX($A:$O,ROW(),MATCH('Rapportage per vraag'!$C$12,'Data leveranciersbeoordeling'!$1:$1,0))","v":0},{"$f":"IFERROR(VLOOKUP(INDEX($A:$O,ROW(),MATCH('Rapportage per vraag'!$C$12,'Data leveranciersbeoordeling'!$1:$1,0)),Leveranciersbeoordeling!$H$1:$I$5,2,FALSE),0)","v":0},0]
["",null,null,null,null,null,null,null,null,null,null,null,null,null,null,{"$f":"INDEX($A:$O,ROW(),MATCH('Rapportage per vraag'!$C$12,'Data leveranciersbeoordeling'!$1:$1,0))","v":0},{"$f":"IFERROR(VLOOKUP(INDEX($A:$O,ROW(),MATCH('Rapportage per vraag'!$C$12,'Data leveranciersbeoordeling'!$1:$1,0)),Leveranciersbeoordeling!$H$1:$I$5,2,FALSE),0)","v":0},0]
["",null,null,null,null,null,null,null,null,null,null,null,null,null,null,{"$f":"INDEX($A:$O,ROW(),MATCH('Rapportage per vraag'!$C$12,'Data leveranciersbeoordeling'!$1:$1,0))","v":0},{"$f":"IFERROR(VLOOKUP(INDEX($A:$O,ROW(),MATCH('Rapportage per vraag'!$C$12,'Data leveranciersbeoordeling'!$1:$1,0)),Leveranciersbeoordeling!$H$1:$I$5,2,FALSE),0)","v":0},0]
["",null,null,null,null,null,null,null,null,null,null,null,null,null,null,{"$f":"INDEX($A:$O,ROW(),MATCH('Rapportage per vraag'!$C$12,'Data leveranciersbeoordeling'!$1:$1,0))","v":0},{"$f":"IFERROR(VLOOKUP(INDEX($A:$O,ROW(),MATCH('Rapportage per vraag'!$C$12,'Data leveranciersbeoordeling'!$1:$1,0)),Leveranciersbeoordeling!$H$1:$I$5,2,FALSE),0)","v":0},0]
["",null,null,null,null,null,null,null,null,null,null,null,null,null,null,{"$f":"INDEX($A:$O,ROW(),MATCH('Rapportage per vraag'!$C$12,'Data leveranciersbeoordeling'!$1:$1,0))","v":0},{"$f":"IFERROR(VLOOKUP(INDEX($A:$O,ROW(),MATCH('Rapportage per vraag'!$C$12,'Data leveranciersbeoordeling'!$1:$1,0)),Leveranciersbeoordeling!$H$1:$I$5,2,FALSE),0)","v":0},0]
["",null,null,null,null,null,null,null,null,null,null,null,null,null,null,{"$f":"INDEX($A:$O,ROW(),MATCH('Rapportage per vraag'!$C$12,'Data leveranciersbeoordeling'!$1:$1,0))","v":0},{"$f":"IFERROR(VLOOKUP(INDEX($A:$O,ROW(),MATCH('Rapportage per vraag'!$C$12,'Data leveranciersbeoordeling'!$1:$1,0)),Leveranciersbeoordeling!$H$1:$I$5,2,FALSE),0)","v":0},0]
["",null,null,null,null,null,null,null,null,null,null,null,null,null,null,{"$f":"INDEX($A:$O,ROW(),MATCH('Rapportage per vraag'!$C$12,'Data leveranciersbeoordeling'!$1:$1,0))","v":0},{"$f":"IFERROR(VLOOKUP(INDEX($A:$O,ROW(),MATCH('Rapportage per vraag'!$C$12,'Data leveranciersbeoordeling'!$1:$1,0)),Leveranciersbeoordeling!$H$1:$I$5,2,FALSE),0)","v":0},0]
["",null,null,null,null,null,null,null,null,null,null,null,null,null,null,{"$f":"INDEX($A:$O,ROW(),MATCH('Rapportage per vraag'!$C$12,'Data leveranciersbeoordeling'!$1:$1,0))","v":0},{"$f":"IFERROR(VLOOKUP(INDEX($A:$O,ROW(),MATCH('Rapportage per vraag'!$C$12,'Data leveranciersbeoordeling'!$1:$1,0)),Leveranciersbeoordeling!$H$1:$I$5,2,FALSE),0)","v":0},0]
["",null,null,null,null,null,null,null,null,null,null,null,null,null,null,{"$f":"INDEX($A:$O,ROW(),MATCH('Rapportage per vraag'!$C$12,'Data leveranciersbeoordeling'!$1:$1,0))","v":0},{"$f":"IFERROR(VLOOKUP(INDEX($A:$O,ROW(),MATCH('Rapportage per vraag'!$C$12,'Data leveranciersbeoordeling'!$1:$1,0)),Leveranciersbeoordeling!$H$1:$I$5,2,FALSE),0)","v":0},0]
["",null,null,null,null,null,null,null,null,null,null,null,null,null,null,{"$f":"INDEX($A:$O,ROW(),MATCH('Rapportage per vraag'!$C$12,'Data leveranciersbeoordeling'!$1:$1,0))","v":0},{"$f":"IFERROR(VLOOKUP(INDEX($A:$O,ROW(),MATCH('Rapportage per vraag'!$C$12,'Data leveranciersbeoordeling'!$1:$1,0)),Leveranciersbeoordeling!$H$1:$I$5,2,FALSE),0)","v":0},0]
["",null,null,null,null,null,null,null,null,null,null,null,null,null,null,{"$f":"INDEX($A:$O,ROW(),MATCH('Rapportage per vraag'!$C$12,'Data leveranciersbeoordeling'!$1:$1,0))","v":0},{"$f":"IFERROR(VLOOKUP(INDEX($A:$O,ROW(),MATCH('Rapportage per vraag'!$C$12,'Data leveranciersbeoordeling'!$1:$1,0)),Leveranciersbeoordeling!$H$1:$I$5,2,FALSE),0)","v":0},0]
["",null,null,null,null,null,null,null,null,null,null,null,null,null,null,{"$f":"INDEX($A:$O,ROW(),MATCH('Rapportage per vraag'!$C$12,'Data leveranciersbeoordeling'!$1:$1,0))","v":0},{"$f":"IFERROR(VLOOKUP(INDEX($A:$O,ROW(),MATCH('Rapportage per vraag'!$C$12,'Data leveranciersbeoordeling'!$1:$1,0)),Leveranciersbeoordeling!$H$1:$I$5,2,FALSE),0)","v":0},0]
["",null,null,null,null,null,null,null,null,null,null,null,null,null,null,{"$f":"INDEX($A:$O,ROW(),MATCH('Rapportage per vraag'!$C$12,'Data leveranciersbeoordeling'!$1:$1,0))","v":0},{"$f":"IFERROR(VLOOKUP(INDEX($A:$O,ROW(),MATCH('Rapportage per vraag'!$C$12,'Data leveranciersbeoordeling'!$1:$1,0)),Leveranciersbeoordeling!$H$1:$I$5,2,FALSE),0)","v":0},0]
["",null,null,null,null,null,null,null,null,null,null,null,null,null,null,{"$f":"INDEX($A:$O,ROW(),MATCH('Rapportage per vraag'!$C$12,'Data leveranciersbeoordeling'!$1:$1,0))","v":0},{"$f":"IFERROR(VLOOKUP(INDEX($A:$O,ROW(),MATCH('Rapportage per vraag'!$C$12,'Data leveranciersbeoordeling'!$1:$1,0)),Leveranciersbeoordeling!$H$1:$I$5,2,FALSE),0)","v":0},0]
["",null,null,null,null,null,null,null,null,null,null,null,null,null,null,{"$f":"INDEX($A:$O,ROW(),MATCH('Rapportage per vraag'!$C$12,'Data leveranciersbeoordeling'!$1:$1,0))","v":0},{"$f":"IFERROR(VLOOKUP(INDEX($A:$O,ROW(),MATCH('Rapportage per vraag'!$C$12,'Data leveranciersbeoordeling'!$1:$1,0)),Leveranciersbeoordeling!$H$1:$I$5,2,FALSE),0)","v":0},0]
["",null,null,null,null,null,null,null,null,null,null,null,null,null,null,{"$f":"INDEX($A:$O,ROW(),MATCH('Rapportage per vraag'!$C$12,'Data leveranciersbeoordeling'!$1:$1,0))","v":0},{"$f":"IFERROR(VLOOKUP(INDEX($A:$O,ROW(),MATCH('Rapportage per vraag'!$C$12,'Data leveranciersbeoordeling'!$1:$1,0)),Leveranciersbeoordeling!$H$1:$I$5,2,FALSE),0)","v":0},0]
["",null,null,null,null,null,null,null,null,null,null,null,null,null,null,{"$f":"INDEX($A:$O,ROW(),MATCH('Rapportage per vraag'!$C$12,'Data leveranciersbeoordeling'!$1:$1,0))","v":0},{"$f":"IFERROR(VLOOKUP(INDEX($A:$O,ROW(),MATCH('Rapportage per vraag'!$C$12,'Data leveranciersbeoordeling'!$1:$1,0)),Leveranciersbeoordeling!$H$1:$I$5,2,FALSE),0)","v":0},0]
["",null,null,null,null,null,null,null,null,null,null,null,null,null,null,{"$f":"INDEX($A:$O,ROW(),MATCH('Rapportage per vraag'!$C$12,'Data leveranciersbeoordeling'!$1:$1,0))","v":0},{"$f":"IFERROR(VLOOKUP(INDEX($A:$O,ROW(),MATCH('Rapportage per vraag'!$C$12,'Data leveranciersbeoordeling'!$1:$1,0)),Leveranciersbeoordeling!$H$1:$I$5,2,FALSE),0)","v":0},0]
["",null,null,null,null,null,null,null,null,null,null,null,null,null,null,{"$f":"INDEX($A:$O,ROW(),MATCH('Rapportage per vraag'!$C$12,'Data leveranciersbeoordeling'!$1:$1,0))","v":0},{"$f":"IFERROR(VLOOKUP(INDEX($A:$O,ROW(),MATCH('Rapportage per vraag'!$C$12,'Data leveranciersbeoordeling'!$1:$1,0)),Leveranciersbeoordeling!$H$1:$I$5,2,FALSE),0)","v":0},0]
["",null,null,null,null,null,null,null,null,null,null,null,null,null,null,{"$f":"INDEX($A:$O,ROW(),MATCH('Rapportage per vraag'!$C$12,'Data leveranciersbeoordeling'!$1:$1,0))","v":0},{"$f":"IFERROR(VLOOKUP(INDEX($A:$O,ROW(),MATCH('Rapportage per vraag'!$C$12,'Data leveranciersbeoordeling'!$1:$1,0)),Leveranciersbeoordeling!$H$1:$I$5,2,FALSE),0)","v":0},0]
["",null,null,null,null,null,null,null,null,null,null,null,null,null,null,{"$f":"INDEX($A:$O,ROW(),MATCH('Rapportage per vraag'!$C$12,'Data leveranciersbeoordeling'!$1:$1,0))","v":0},{"$f":"IFERROR(VLOOKUP(INDEX($A:$O,ROW(),MATCH('Rapportage per vraag'!$C$12,'Data leveranciersbeoordeling'!$1:$1,0)),Leveranciersbeoordeling!$H$1:$I$5,2,FALSE),0)","v":0},0]
["",null,null,null,null,null,null,null,null,null,null,null,null,null,null,{"$f":"INDEX($A:$O,ROW(),MATCH('Rapportage per vraag'!$C$12,'Data leveranciersbeoordeling'!$1:$1,0))","v":0},{"$f":"IFERROR(VLOOKUP(INDEX($A:$O,ROW(),MATCH('Rapportage per vraag'!$C$12,'Data leveranciersbeoordeling'!$1:$1,0)),Leveranciersbeoordeling!$H$1:$I$5,2,FALSE),0)","v":0},0]
["",null,null,null,null,null,null,null,null,null,null,null,null,null,null,{"$f":"INDEX($A:$O,ROW(),MATCH('Rapportage per vraag'!$C$12,'Data leveranciersbeoordeling'!$1:$1,0))","v":0},{"$f":"IFERROR(VLOOKUP(INDEX($A:$O,ROW(),MATCH('Rapportage per vraag'!$C$12,'Data leveranciersbeoordeling'!$1:$1,0)),Leveranciersbeoordeling!$H$1:$I$5,2,FALSE),0)","v":0},0]
["",null,null,null,null,null,null,null,null,null,null,null,null,null,null,{"$f":"INDEX($A:$O,ROW(),MATCH('Rapportage per vraag'!$C$12,'Data leveranciersbeoordeling'!$1:$1,0))","v":0},{"$f":"IFERROR(VLOOKUP(INDEX($A:$O,ROW(),MATCH('Rapportage per vraag'!$C$12,'Data leveranciersbeoordeling'!$1:$1,0)),Leveranciersbeoordeling!$H$1:$I$5,2,FALSE),0)","v":0},0]
["",null,null,null,null,null,null,null,null,null,null,null,null,null,null,{"$f":"INDEX($A:$O,ROW(),MATCH('Rapportage per vraag'!$C$12,'Data leveranciersbeoordeling'!$1:$1,0))","v":0},{"$f":"IFERROR(VLOOKUP(INDEX($A:$O,ROW(),MATCH('Rapportage per vraag'!$C$12,'Data leveranciersbeoordeling'!$1:$1,0)),Leveranciersbeoordeling!$H$1:$I$5,2,FALSE),0)","v":0},0]
["",null,null,null,null,null,null,null,null,null,null,null,null,null,null,{"$f":"INDEX($A:$O,ROW(),MATCH('Rapportage per vraag'!$C$12,'Data leveranciersbeoordeling'!$1:$1,0))","v":0},{"$f":"IFERROR(VLOOKUP(INDEX($A:$O,ROW(),MATCH('Rapportage per vraag'!$C$12,'Data leveranciersbeoordeling'!$1:$1,0)),Leveranciersbeoordeling!$H$1:$I$5,2,FALSE),0)","v":0},0]
["",null,null,null,null,null,null,null,null,null,null,null,null,null,null,{"$f":"INDEX($A:$O,ROW(),MATCH('Rapportage per vraag'!$C$12,'Data leveranciersbeoordeling'!$1:$1,0))","v":0},{"$f":"IFERROR(VLOOKUP(INDEX($A:$O,ROW(),MATCH('Rapportage per vraag'!$C$12,'Data leveranciersbeoordeling'!$1:$1,0)),Leveranciersbeoordeling!$H$1:$I$5,2,FALSE),0)","v":0},0]
["",null,null,null,null,null,null,null,null,null,null,null,null,null,null,{"$f":"INDEX($A:$O,ROW(),MATCH('Rapportage per vraag'!$C$12,'Data leveranciersbeoordeling'!$1:$1,0))","v":0},{"$f":"IFERROR(VLOOKUP(INDEX($A:$O,ROW(),MATCH('Rapportage per vraag'!$C$12,'Data leveranciersbeoordeling'!$1:$1,0)),Leveranciersbeoordeling!$H$1:$I$5,2,FALSE),0)","v":0},0]
["",null,null,null,null,null,null,null,null,null,null,null,null,null,null,{"$f":"INDEX($A:$O,ROW(),MATCH('Rapportage per vraag'!$C$12,'Data leveranciersbeoordeling'!$1:$1,0))","v":0},{"$f":"IFERROR(VLOOKUP(INDEX($A:$O,ROW(),MATCH('Rapportage per vraag'!$C$12,'Data leveranciersbeoordeling'!$1:$1,0)),Leveranciersbeoordeling!$H$1:$I$5,2,FALSE),0)","v":0},0]
["",null,null,null,null,null,null,null,null,null,null,null,null,null,null,{"$f":"INDEX($A:$O,ROW(),MATCH('Rapportage per vraag'!$C$12,'Data leveranciersbeoordeling'!$1:$1,0))","v":0},{"$f":"IFERROR(VLOOKUP(INDEX($A:$O,ROW(),MATCH('Rapportage per vraag'!$C$12,'Data leveranciersbeoordeling'!$1:$1,0)),Leveranciersbeoordeling!$H$1:$I$5,2,FALSE),0)","v":0},0]
["",null,null,null,null,null,null,null,null,null,null,null,null,null,null,{"$f":"INDEX($A:$O,ROW(),MATCH('Rapportage per vraag'!$C$12,'Data leveranciersbeoordeling'!$1:$1,0))","v":0},{"$f":"IFERROR(VLOOKUP(INDEX($A:$O,ROW(),MATCH('Rapportage per vraag'!$C$12,'Data leveranciersbeoordeling'!$1:$1,0)),Leveranciersbeoordeling!$H$1:$I$5,2,FALSE),0)","v":0},0]
["",null,null,null,null,null,null,null,null,null,null,null,null,null,null,{"$f":"INDEX($A:$O,ROW(),MATCH('Rapportage per vraag'!$C$12,'Data leveranciersbeoordeling'!$1:$1,0))","v":0},{"$f":"IFERROR(VLOOKUP(INDEX($A:$O,ROW(),MATCH('Rapportage per vraag'!$C$12,'Data leveranciersbeoordeling'!$1:$1,0)),Leveranciersbeoordeling!$H$1:$I$5,2,FALSE),0)","v":0},0]
["",null,null,null,null,null,null,null,null,null,null,null,null,null,null,{"$f":"INDEX($A:$O,ROW(),MATCH('Rapportage per vraag'!$C$12,'Data leveranciersbeoordeling'!$1:$1,0))","v":0},{"$f":"IFERROR(VLOOKUP(INDEX($A:$O,ROW(),MATCH('Rapportage per vraag'!$C$12,'Data leveranciersbeoordeling'!$1:$1,0)),Leveranciersbeoordeling!$H$1:$I$5,2,FALSE),0)","v":0},0]
["",null,null,null,null,null,null,null,null,null,null,null,null,null,null,{"$f":"INDEX($A:$O,ROW(),MATCH('Rapportage per vraag'!$C$12,'Data leveranciersbeoordeling'!$1:$1,0))","v":0},{"$f":"IFERROR(VLOOKUP(INDEX($A:$O,ROW(),MATCH('Rapportage per vraag'!$C$12,'Data leveranciersbeoordeling'!$1:$1,0)),Leveranciersbeoordeling!$H$1:$I$5,2,FALSE),0)","v":0},0]
["",null,null,null,null,null,null,null,null,null,null,null,null,null,null,{"$f":"INDEX($A:$O,ROW(),MATCH('Rapportage per vraag'!$C$12,'Data leveranciersbeoordeling'!$1:$1,0))","v":0},{"$f":"IFERROR(VLOOKUP(INDEX($A:$O,ROW(),MATCH('Rapportage per vraag'!$C$12,'Data leveranciersbeoordeling'!$1:$1,0)),Leveranciersbeoordeling!$H$1:$I$5,2,FALSE),0)","v":0},0]
["",null,null,null,null,null,null,null,null,null,null,null,null,null,null,{"$f":"INDEX($A:$O,ROW(),MATCH('Rapportage per vraag'!$C$12,'Data leveranciersbeoordeling'!$1:$1,0))","v":0},{"$f":"IFERROR(VLOOKUP(INDEX($A:$O,ROW(),MATCH('Rapportage per vraag'!$C$12,'Data leveranciersbeoordeling'!$1:$1,0)),Leveranciersbeoordeling!$H$1:$I$5,2,FALSE),0)","v":0},0]
["",null,null,null,null,null,null,null,null,null,null,null,null,null,null,{"$f":"INDEX($A:$O,ROW(),MATCH('Rapportage per vraag'!$C$12,'Data leveranciersbeoordeling'!$1:$1,0))","v":0},{"$f":"IFERROR(VLOOKUP(INDEX($A:$O,ROW(),MATCH('Rapportage per vraag'!$C$12,'Data leveranciersbeoordeling'!$1:$1,0)),Leveranciersbeoordeling!$H$1:$I$5,2,FALSE),0)","v":0},0]
["",null,null,null,null,null,null,null,null,null,null,null,null,null,null,{"$f":"INDEX($A:$O,ROW(),MATCH('Rapportage per vraag'!$C$12,'Data leveranciersbeoordeling'!$1:$1,0))","v":0},{"$f":"IFERROR(VLOOKUP(INDEX($A:$O,ROW(),MATCH('Rapportage per vraag'!$C$12,'Data leveranciersbeoordeling'!$1:$1,0)),Leveranciersbeoordeling!$H$1:$I$5,2,FALSE),0)","v":0},0]
["",null,null,null,null,null,null,null,null,null,null,null,null,null,null,{"$f":"INDEX($A:$O,ROW(),MATCH('Rapportage per vraag'!$C$12,'Data leveranciersbeoordeling'!$1:$1,0))","v":0},{"$f":"IFERROR(VLOOKUP(INDEX($A:$O,ROW(),MATCH('Rapportage per vraag'!$C$12,'Data leveranciersbeoordeling'!$1:$1,0)),Leveranciersbeoordeling!$H$1:$I$5,2,FALSE),0)","v":0},0]
["",null,null,null,null,null,null,null,null,null,null,null,null,null,null,{"$f":"INDEX($A:$O,ROW(),MATCH('Rapportage per vraag'!$C$12,'Data leveranciersbeoordeling'!$1:$1,0))","v":0},{"$f":"IFERROR(VLOOKUP(INDEX($A:$O,ROW(),MATCH('Rapportage per vraag'!$C$12,'Data leveranciersbeoordeling'!$1:$1,0)),Leveranciersbeoordeling!$H$1:$I$5,2,FALSE),0)","v":0},0]
["",null,null,null,null,null,null,null,null,null,null,null,null,null,null,{"$f":"INDEX($A:$O,ROW(),MATCH('Rapportage per vraag'!$C$12,'Data leveranciersbeoordeling'!$1:$1,0))","v":0},{"$f":"IFERROR(VLOOKUP(INDEX($A:$O,ROW(),MATCH('Rapportage per vraag'!$C$12,'Data leveranciersbeoordeling'!$1:$1,0)),Leveranciersbeoordeling!$H$1:$I$5,2,FALSE),0)","v":0},0]
["",null,null,null,null,null,null,null,null,null,null,null,null,null,null,{"$f":"INDEX($A:$O,ROW(),MATCH('Rapportage per vraag'!$C$12,'Data leveranciersbeoordeling'!$1:$1,0))","v":0},{"$f":"IFERROR(VLOOKUP(INDEX($A:$O,ROW(),MATCH('Rapportage per vraag'!$C$12,'Data leveranciersbeoordeling'!$1:$1,0)),Leveranciersbeoordeling!$H$1:$I$5,2,FALSE),0)","v":0},0]
["",null,null,null,null,null,null,null,null,null,null,null,null,null,null,{"$f":"INDEX($A:$O,ROW(),MATCH('Rapportage per vraag'!$C$12,'Data leveranciersbeoordeling'!$1:$1,0))","v":0},{"$f":"IFERROR(VLOOKUP(INDEX($A:$O,ROW(),MATCH('Rapportage per vraag'!$C$12,'Data leveranciersbeoordeling'!$1:$1,0)),Leveranciersbeoordeling!$H$1:$I$5,2,FALSE),0)","v":0},0]
["",null,null,null,null,null,null,null,null,null,null,null,null,null,null,{"$f":"INDEX($A:$O,ROW(),MATCH('Rapportage per vraag'!$C$12,'Data leveranciersbeoordeling'!$1:$1,0))","v":0},{"$f":"IFERROR(VLOOKUP(INDEX($A:$O,ROW(),MATCH('Rapportage per vraag'!$C$12,'Data leveranciersbeoordeling'!$1:$1,0)),Leveranciersbeoordeling!$H$1:$I$5,2,FALSE),0)","v":0},0]
[{"$f":"CONCATENATE(B1091,C1091,D1091)","v":""},null,null,null,null,null,null,null,null,null,null,null,null,null,null,{"$f":"INDEX($A:$O,ROW(),MATCH('Rapportage per vraag'!$C$12,'Data leveranciersbeoordeling'!$1:$1,0))","v":0},{"$f":"IFERROR(VLOOKUP(INDEX($A:$O,ROW(),MATCH('Rapportage per vraag'!$C$12,'Data leveranciersbeoordeling'!$1:$1,0)),Leveranciersbeoordeling!$H$1:$I$5,2,FALSE),0)","v":0},0]
["",null,null,null,null,null,null,null,null,null,null,null,null,null,null,{"$f":"INDEX($A:$O,ROW(),MATCH('Rapportage per vraag'!$C$12,'Data leveranciersbeoordeling'!$1:$1,0))","v":0},{"$f":"IFERROR(VLOOKUP(INDEX($A:$O,ROW(),MATCH('Rapportage per vraag'!$C$12,'Data leveranciersbeoordeling'!$1:$1,0)),Leveranciersbeoordeling!$H$1:$I$5,2,FALSE),0)","v":0},0]
["",null,null,null,null,null,null,null,null,null,null,null,null,null,null,{"$f":"INDEX($A:$O,ROW(),MATCH('Rapportage per vraag'!$C$12,'Data leveranciersbeoordeling'!$1:$1,0))","v":0},{"$f":"IFERROR(VLOOKUP(INDEX($A:$O,ROW(),MATCH('Rapportage per vraag'!$C$12,'Data leveranciersbeoordeling'!$1:$1,0)),Leveranciersbeoordeling!$H$1:$I$5,2,FALSE),0)","v":0},0]
["",null,null,null,null,null,null,null,null,null,null,null,null,null,null,{"$f":"INDEX($A:$O,ROW(),MATCH('Rapportage per vraag'!$C$12,'Data leveranciersbeoordeling'!$1:$1,0))","v":0},{"$f":"IFERROR(VLOOKUP(INDEX($A:$O,ROW(),MATCH('Rapportage per vraag'!$C$12,'Data leveranciersbeoordeling'!$1:$1,0)),Leveranciersbeoordeling!$H$1:$I$5,2,FALSE),0)","v":0},{"$f":"IF(T(P1094)=P1094,Q1094,P1094)","v":0}]
["",null,null,null,null,null,null,null,null,null,null,null,null,null,null,{"$f":"INDEX($A:$O,ROW(),MATCH('Rapportage per vraag'!$C$12,'Data leveranciersbeoordeling'!$1:$1,0))","v":0},{"$f":"IFERROR(VLOOKUP(INDEX($A:$O,ROW(),MATCH('Rapportage per vraag'!$C$12,'Data leveranciersbeoordeling'!$1:$1,0)),Leveranciersbeoordeling!$H$1:$I$5,2,FALSE),0)","v":0},0]
["",null,null,null,null,null,null,null,null,null,null,null,null,null,null,{"$f":"INDEX($A:$O,ROW(),MATCH('Rapportage per vraag'!$C$12,'Data leveranciersbeoordeling'!$1:$1,0))","v":0},{"$f":"IFERROR(VLOOKUP(INDEX($A:$O,ROW(),MATCH('Rapportage per vraag'!$C$12,'Data leveranciersbeoordeling'!$1:$1,0)),Leveranciersbeoordeling!$H$1:$I$5,2,FALSE),0)","v":0},0]
["",null,null,null,null,null,null,null,null,null,null,null,null,null,null,{"$f":"INDEX($A:$O,ROW(),MATCH('Rapportage per vraag'!$C$12,'Data leveranciersbeoordeling'!$1:$1,0))","v":0},{"$f":"IFERROR(VLOOKUP(INDEX($A:$O,ROW(),MATCH('Rapportage per vraag'!$C$12,'Data leveranciersbeoordeling'!$1:$1,0)),Leveranciersbeoordeling!$H$1:$I$5,2,FALSE),0)","v":0},0]
["",null,null,null,null,null,null,null,null,null,null,null,null,null,null,{"$f":"INDEX($A:$O,ROW(),MATCH('Rapportage per vraag'!$C$12,'Data leveranciersbeoordeling'!$1:$1,0))","v":0},{"$f":"IFERROR(VLOOKUP(INDEX($A:$O,ROW(),MATCH('Rapportage per vraag'!$C$12,'Data leveranciersbeoordeling'!$1:$1,0)),Leveranciersbeoordeling!$H$1:$I$5,2,FALSE),0)","v":0},0]
["",null,null,null,null,null,null,null,null,null,null,null,null,null,null,{"$f":"INDEX($A:$O,ROW(),MATCH('Rapportage per vraag'!$C$12,'Data leveranciersbeoordeling'!$1:$1,0))","v":0},{"$f":"IFERROR(VLOOKUP(INDEX($A:$O,ROW(),MATCH('Rapportage per vraag'!$C$12,'Data leveranciersbeoordeling'!$1:$1,0)),Leveranciersbeoordeling!$H$1:$I$5,2,FALSE),0)","v":0},0]
["",null,null,null,null,null,null,null,null,null,null,null,null,null,null,{"$f":"INDEX($A:$O,ROW(),MATCH('Rapportage per vraag'!$C$12,'Data leveranciersbeoordeling'!$1:$1,0))","v":0},{"$f":"IFERROR(VLOOKUP(INDEX($A:$O,ROW(),MATCH('Rapportage per vraag'!$C$12,'Data leveranciersbeoordeling'!$1:$1,0)),Leveranciersbeoordeling!$H$1:$I$5,2,FALSE),0)","v":0},0]
["",null,null,null,null,null,null,null,null,null,null,null,null,null,null,{"$f":"INDEX($A:$O,ROW(),MATCH('Rapportage per vraag'!$C$12,'Data leveranciersbeoordeling'!$1:$1,0))","v":0},{"$f":"IFERROR(VLOOKUP(INDEX($A:$O,ROW(),MATCH('Rapportage per vraag'!$C$12,'Data leveranciersbeoordeling'!$1:$1,0)),Leveranciersbeoordeling!$H$1:$I$5,2,FALSE),0)","v":0},0]
["",null,null,null,null,null,null,null,null,null,null,null,null,null,null,{"$f":"INDEX($A:$O,ROW(),MATCH('Rapportage per vraag'!$C$12,'Data leveranciersbeoordeling'!$1:$1,0))","v":0},{"$f":"IFERROR(VLOOKUP(INDEX($A:$O,ROW(),MATCH('Rapportage per vraag'!$C$12,'Data leveranciersbeoordeling'!$1:$1,0)),Leveranciersbeoordeling!$H$1:$I$5,2,FALSE),0)","v":0},0]
["",null,null,null,null,null,null,null,null,null,null,null,null,null,null,{"$f":"INDEX($A:$O,ROW(),MATCH('Rapportage per vraag'!$C$12,'Data leveranciersbeoordeling'!$1:$1,0))","v":0},{"$f":"IFERROR(VLOOKUP(INDEX($A:$O,ROW(),MATCH('Rapportage per vraag'!$C$12,'Data leveranciersbeoordeling'!$1:$1,0)),Leveranciersbeoordeling!$H$1:$I$5,2,FALSE),0)","v":0},0]
["",null,null,null,null,null,null,null,null,null,null,null,null,null,null,{"$f":"INDEX($A:$O,ROW(),MATCH('Rapportage per vraag'!$C$12,'Data leveranciersbeoordeling'!$1:$1,0))","v":0},{"$f":"IFERROR(VLOOKUP(INDEX($A:$O,ROW(),MATCH('Rapportage per vraag'!$C$12,'Data leveranciersbeoordeling'!$1:$1,0)),Leveranciersbeoordeling!$H$1:$I$5,2,FALSE),0)","v":0},0]
["",null,null,null,null,null,null,null,null,null,null,null,null,null,null,{"$f":"INDEX($A:$O,ROW(),MATCH('Rapportage per vraag'!$C$12,'Data leveranciersbeoordeling'!$1:$1,0))","v":0},{"$f":"IFERROR(VLOOKUP(INDEX($A:$O,ROW(),MATCH('Rapportage per vraag'!$C$12,'Data leveranciersbeoordeling'!$1:$1,0)),Leveranciersbeoordeling!$H$1:$I$5,2,FALSE),0)","v":0},0]
["",null,null,null,null,null,null,null,null,null,null,null,null,null,null,{"$f":"INDEX($A:$O,ROW(),MATCH('Rapportage per vraag'!$C$12,'Data leveranciersbeoordeling'!$1:$1,0))","v":0},{"$f":"IFERROR(VLOOKUP(INDEX($A:$O,ROW(),MATCH('Rapportage per vraag'!$C$12,'Data leveranciersbeoordeling'!$1:$1,0)),Leveranciersbeoordeling!$H$1:$I$5,2,FALSE),0)","v":0},0]
["",null,null,null,null,null,null,null,null,null,null,null,null,null,null,{"$f":"INDEX($A:$O,ROW(),MATCH('Rapportage per vraag'!$C$12,'Data leveranciersbeoordeling'!$1:$1,0))","v":0},{"$f":"IFERROR(VLOOKUP(INDEX($A:$O,ROW(),MATCH('Rapportage per vraag'!$C$12,'Data leveranciersbeoordeling'!$1:$1,0)),Leveranciersbeoordeling!$H$1:$I$5,2,FALSE),0)","v":0},0]
["",null,null,null,null,null,null,null,null,null,null,null,null,null,null,{"$f":"INDEX($A:$O,ROW(),MATCH('Rapportage per vraag'!$C$12,'Data leveranciersbeoordeling'!$1:$1,0))","v":0},{"$f":"IFERROR(VLOOKUP(INDEX($A:$O,ROW(),MATCH('Rapportage per vraag'!$C$12,'Data leveranciersbeoordeling'!$1:$1,0)),Leveranciersbeoordeling!$H$1:$I$5,2,FALSE),0)","v":0},0]
["",null,null,null,null,null,null,null,null,null,null,null,null,null,null,{"$f":"INDEX($A:$O,ROW(),MATCH('Rapportage per vraag'!$C$12,'Data leveranciersbeoordeling'!$1:$1,0))","v":0},{"$f":"IFERROR(VLOOKUP(INDEX($A:$O,ROW(),MATCH('Rapportage per vraag'!$C$12,'Data leveranciersbeoordeling'!$1:$1,0)),Leveranciersbeoordeling!$H$1:$I$5,2,FALSE),0)","v":0},0]
["",null,null,null,null,null,null,null,null,null,null,null,null,null,null,{"$f":"INDEX($A:$O,ROW(),MATCH('Rapportage per vraag'!$C$12,'Data leveranciersbeoordeling'!$1:$1,0))","v":0},{"$f":"IFERROR(VLOOKUP(INDEX($A:$O,ROW(),MATCH('Rapportage per vraag'!$C$12,'Data leveranciersbeoordeling'!$1:$1,0)),Leveranciersbeoordeling!$H$1:$I$5,2,FALSE),0)","v":0},0]
["",null,null,null,null,null,null,null,null,null,null,null,null,null,null,{"$f":"INDEX($A:$O,ROW(),MATCH('Rapportage per vraag'!$C$12,'Data leveranciersbeoordeling'!$1:$1,0))","v":0},{"$f":"IFERROR(VLOOKUP(INDEX($A:$O,ROW(),MATCH('Rapportage per vraag'!$C$12,'Data leveranciersbeoordeling'!$1:$1,0)),Leveranciersbeoordeling!$H$1:$I$5,2,FALSE),0)","v":0},0]
["",null,null,null,null,null,null,null,null,null,null,null,null,null,null,{"$f":"INDEX($A:$O,ROW(),MATCH('Rapportage per vraag'!$C$12,'Data leveranciersbeoordeling'!$1:$1,0))","v":0},{"$f":"IFERROR(VLOOKUP(INDEX($A:$O,ROW(),MATCH('Rapportage per vraag'!$C$12,'Data leveranciersbeoordeling'!$1:$1,0)),Leveranciersbeoordeling!$H$1:$I$5,2,FALSE),0)","v":0},0]
["",null,null,null,null,null,null,null,null,null,null,null,null,null,null,{"$f":"INDEX($A:$O,ROW(),MATCH('Rapportage per vraag'!$C$12,'Data leveranciersbeoordeling'!$1:$1,0))","v":0},{"$f":"IFERROR(VLOOKUP(INDEX($A:$O,ROW(),MATCH('Rapportage per vraag'!$C$12,'Data leveranciersbeoordeling'!$1:$1,0)),Leveranciersbeoordeling!$H$1:$I$5,2,FALSE),0)","v":0},0]
["",null,null,null,null,null,null,null,null,null,null,null,null,null,null,{"$f":"INDEX($A:$O,ROW(),MATCH('Rapportage per vraag'!$C$12,'Data leveranciersbeoordeling'!$1:$1,0))","v":0},{"$f":"IFERROR(VLOOKUP(INDEX($A:$O,ROW(),MATCH('Rapportage per vraag'!$C$12,'Data leveranciersbeoordeling'!$1:$1,0)),Leveranciersbeoordeling!$H$1:$I$5,2,FALSE),0)","v":0},0]
["",null,null,null,null,null,null,null,null,null,null,null,null,null,null,{"$f":"INDEX($A:$O,ROW(),MATCH('Rapportage per vraag'!$C$12,'Data leveranciersbeoordeling'!$1:$1,0))","v":0},{"$f":"IFERROR(VLOOKUP(INDEX($A:$O,ROW(),MATCH('Rapportage per vraag'!$C$12,'Data leveranciersbeoordeling'!$1:$1,0)),Leveranciersbeoordeling!$H$1:$I$5,2,FALSE),0)","v":0},0]
["",null,null,null,null,null,null,null,null,null,null,null,null,null,null,{"$f":"INDEX($A:$O,ROW(),MATCH('Rapportage per vraag'!$C$12,'Data leveranciersbeoordeling'!$1:$1,0))","v":0},{"$f":"IFERROR(VLOOKUP(INDEX($A:$O,ROW(),MATCH('Rapportage per vraag'!$C$12,'Data leveranciersbeoordeling'!$1:$1,0)),Leveranciersbeoordeling!$H$1:$I$5,2,FALSE),0)","v":0},0]
["",null,null,null,null,null,null,null,null,null,null,null,null,null,null,{"$f":"INDEX($A:$O,ROW(),MATCH('Rapportage per vraag'!$C$12,'Data leveranciersbeoordeling'!$1:$1,0))","v":0},{"$f":"IFERROR(VLOOKUP(INDEX($A:$O,ROW(),MATCH('Rapportage per vraag'!$C$12,'Data leveranciersbeoordeling'!$1:$1,0)),Leveranciersbeoordeling!$H$1:$I$5,2,FALSE),0)","v":0},0]
["",null,null,null,null,null,null,null,null,null,null,null,null,null,null,{"$f":"INDEX($A:$O,ROW(),MATCH('Rapportage per vraag'!$C$12,'Data leveranciersbeoordeling'!$1:$1,0))","v":0},{"$f":"IFERROR(VLOOKUP(INDEX($A:$O,ROW(),MATCH('Rapportage per vraag'!$C$12,'Data leveranciersbeoordeling'!$1:$1,0)),Leveranciersbeoordeling!$H$1:$I$5,2,FALSE),0)","v":0},0]
["",null,null,null,null,null,null,null,null,null,null,null,null,null,null,{"$f":"INDEX($A:$O,ROW(),MATCH('Rapportage per vraag'!$C$12,'Data leveranciersbeoordeling'!$1:$1,0))","v":0},{"$f":"IFERROR(VLOOKUP(INDEX($A:$O,ROW(),MATCH('Rapportage per vraag'!$C$12,'Data leveranciersbeoordeling'!$1:$1,0)),Leveranciersbeoordeling!$H$1:$I$5,2,FALSE),0)","v":0},0]
["",null,null,null,null,null,null,null,null,null,null,null,null,null,null,{"$f":"INDEX($A:$O,ROW(),MATCH('Rapportage per vraag'!$C$12,'Data leveranciersbeoordeling'!$1:$1,0))","v":0},{"$f":"IFERROR(VLOOKUP(INDEX($A:$O,ROW(),MATCH('Rapportage per vraag'!$C$12,'Data leveranciersbeoordeling'!$1:$1,0)),Leveranciersbeoordeling!$H$1:$I$5,2,FALSE),0)","v":0},0]
["",null,null,null,null,null,null,null,null,null,null,null,null,null,null,{"$f":"INDEX($A:$O,ROW(),MATCH('Rapportage per vraag'!$C$12,'Data leveranciersbeoordeling'!$1:$1,0))","v":0},{"$f":"IFERROR(VLOOKUP(INDEX($A:$O,ROW(),MATCH('Rapportage per vraag'!$C$12,'Data leveranciersbeoordeling'!$1:$1,0)),Leveranciersbeoordeling!$H$1:$I$5,2,FALSE),0)","v":0},0]
["",null,null,null,null,null,null,null,null,null,null,null,null,null,null,{"$f":"INDEX($A:$O,ROW(),MATCH('Rapportage per vraag'!$C$12,'Data leveranciersbeoordeling'!$1:$1,0))","v":0},{"$f":"IFERROR(VLOOKUP(INDEX($A:$O,ROW(),MATCH('Rapportage per vraag'!$C$12,'Data leveranciersbeoordeling'!$1:$1,0)),Leveranciersbeoordeling!$H$1:$I$5,2,FALSE),0)","v":0},0]
["",null,null,null,null,null,null,null,null,null,null,null,null,null,null,{"$f":"INDEX($A:$O,ROW(),MATCH('Rapportage per vraag'!$C$12,'Data leveranciersbeoordeling'!$1:$1,0))","v":0},{"$f":"IFERROR(VLOOKUP(INDEX($A:$O,ROW(),MATCH('Rapportage per vraag'!$C$12,'Data leveranciersbeoordeling'!$1:$1,0)),Leveranciersbeoordeling!$H$1:$I$5,2,FALSE),0)","v":0},0]
["",null,null,null,null,null,null,null,null,null,null,null,null,null,null,{"$f":"INDEX($A:$O,ROW(),MATCH('Rapportage per vraag'!$C$12,'Data leveranciersbeoordeling'!$1:$1,0))","v":0},{"$f":"IFERROR(VLOOKUP(INDEX($A:$O,ROW(),MATCH('Rapportage per vraag'!$C$12,'Data leveranciersbeoordeling'!$1:$1,0)),Leveranciersbeoordeling!$H$1:$I$5,2,FALSE),0)","v":0},0]
["",null,null,null,null,null,null,null,null,null,null,null,null,null,null,{"$f":"INDEX($A:$O,ROW(),MATCH('Rapportage per vraag'!$C$12,'Data leveranciersbeoordeling'!$1:$1,0))","v":0},{"$f":"IFERROR(VLOOKUP(INDEX($A:$O,ROW(),MATCH('Rapportage per vraag'!$C$12,'Data leveranciersbeoordeling'!$1:$1,0)),Leveranciersbeoordeling!$H$1:$I$5,2,FALSE),0)","v":0},0]
["",null,null,null,null,null,null,null,null,null,null,null,null,null,null,{"$f":"INDEX($A:$O,ROW(),MATCH('Rapportage per vraag'!$C$12,'Data leveranciersbeoordeling'!$1:$1,0))","v":0},{"$f":"IFERROR(VLOOKUP(INDEX($A:$O,ROW(),MATCH('Rapportage per vraag'!$C$12,'Data leveranciersbeoordeling'!$1:$1,0)),Leveranciersbeoordeling!$H$1:$I$5,2,FALSE),0)","v":0},0]
["",null,null,null,null,null,null,null,null,null,null,null,null,null,null,{"$f":"INDEX($A:$O,ROW(),MATCH('Rapportage per vraag'!$C$12,'Data leveranciersbeoordeling'!$1:$1,0))","v":0},{"$f":"IFERROR(VLOOKUP(INDEX($A:$O,ROW(),MATCH('Rapportage per vraag'!$C$12,'Data leveranciersbeoordeling'!$1:$1,0)),Leveranciersbeoordeling!$H$1:$I$5,2,FALSE),0)","v":0},0]
["",null,null,null,null,null,null,null,null,null,null,null,null,null,null,{"$f":"INDEX($A:$O,ROW(),MATCH('Rapportage per vraag'!$C$12,'Data leveranciersbeoordeling'!$1:$1,0))","v":0},{"$f":"IFERROR(VLOOKUP(INDEX($A:$O,ROW(),MATCH('Rapportage per vraag'!$C$12,'Data leveranciersbeoordeling'!$1:$1,0)),Leveranciersbeoordeling!$H$1:$I$5,2,FALSE),0)","v":0},0]
["",null,null,null,null,null,null,null,null,null,null,null,null,null,null,{"$f":"INDEX($A:$O,ROW(),MATCH('Rapportage per vraag'!$C$12,'Data leveranciersbeoordeling'!$1:$1,0))","v":0},{"$f":"IFERROR(VLOOKUP(INDEX($A:$O,ROW(),MATCH('Rapportage per vraag'!$C$12,'Data leveranciersbeoordeling'!$1:$1,0)),Leveranciersbeoordeling!$H$1:$I$5,2,FALSE),0)","v":0},0]
["",null,null,null,null,null,null,null,null,null,null,null,null,null,null,{"$f":"INDEX($A:$O,ROW(),MATCH('Rapportage per vraag'!$C$12,'Data leveranciersbeoordeling'!$1:$1,0))","v":0},{"$f":"IFERROR(VLOOKUP(INDEX($A:$O,ROW(),MATCH('Rapportage per vraag'!$C$12,'Data leveranciersbeoordeling'!$1:$1,0)),Leveranciersbeoordeling!$H$1:$I$5,2,FALSE),0)","v":0},0]
["",null,null,null,null,null,null,null,null,null,null,null,null,null,null,{"$f":"INDEX($A:$O,ROW(),MATCH('Rapportage per vraag'!$C$12,'Data leveranciersbeoordeling'!$1:$1,0))","v":0},{"$f":"IFERROR(VLOOKUP(INDEX($A:$O,ROW(),MATCH('Rapportage per vraag'!$C$12,'Data leveranciersbeoordeling'!$1:$1,0)),Leveranciersbeoordeling!$H$1:$I$5,2,FALSE),0)","v":0},0]
["",null,null,null,null,null,null,null,null,null,null,null,null,null,null,{"$f":"INDEX($A:$O,ROW(),MATCH('Rapportage per vraag'!$C$12,'Data leveranciersbeoordeling'!$1:$1,0))","v":0},{"$f":"IFERROR(VLOOKUP(INDEX($A:$O,ROW(),MATCH('Rapportage per vraag'!$C$12,'Data leveranciersbeoordeling'!$1:$1,0)),Leveranciersbeoordeling!$H$1:$I$5,2,FALSE),0)","v":0},0]
["",null,null,null,null,null,null,null,null,null,null,null,null,null,null,{"$f":"INDEX($A:$O,ROW(),MATCH('Rapportage per vraag'!$C$12,'Data leveranciersbeoordeling'!$1:$1,0))","v":0},{"$f":"IFERROR(VLOOKUP(INDEX($A:$O,ROW(),MATCH('Rapportage per vraag'!$C$12,'Data leveranciersbeoordeling'!$1:$1,0)),Leveranciersbeoordeling!$H$1:$I$5,2,FALSE),0)","v":0},0]
["",null,null,null,null,null,null,null,null,null,null,null,null,null,null,{"$f":"INDEX($A:$O,ROW(),MATCH('Rapportage per vraag'!$C$12,'Data leveranciersbeoordeling'!$1:$1,0))","v":0},{"$f":"IFERROR(VLOOKUP(INDEX($A:$O,ROW(),MATCH('Rapportage per vraag'!$C$12,'Data leveranciersbeoordeling'!$1:$1,0)),Leveranciersbeoordeling!$H$1:$I$5,2,FALSE),0)","v":0},0]
["",null,null,null,null,null,null,null,null,null,null,null,null,null,null,{"$f":"INDEX($A:$O,ROW(),MATCH('Rapportage per vraag'!$C$12,'Data leveranciersbeoordeling'!$1:$1,0))","v":0},{"$f":"IFERROR(VLOOKUP(INDEX($A:$O,ROW(),MATCH('Rapportage per vraag'!$C$12,'Data leveranciersbeoordeling'!$1:$1,0)),Leveranciersbeoordeling!$H$1:$I$5,2,FALSE),0)","v":0},0]
["",null,null,null,null,null,null,null,null,null,null,null,null,null,null,{"$f":"INDEX($A:$O,ROW(),MATCH('Rapportage per vraag'!$C$12,'Data leveranciersbeoordeling'!$1:$1,0))","v":0},{"$f":"IFERROR(VLOOKUP(INDEX($A:$O,ROW(),MATCH('Rapportage per vraag'!$C$12,'Data leveranciersbeoordeling'!$1:$1,0)),Leveranciersbeoordeling!$H$1:$I$5,2,FALSE),0)","v":0},0]
["",null,null,null,null,null,null,null,null,null,null,null,null,null,null,{"$f":"INDEX($A:$O,ROW(),MATCH('Rapportage per vraag'!$C$12,'Data leveranciersbeoordeling'!$1:$1,0))","v":0},{"$f":"IFERROR(VLOOKUP(INDEX($A:$O,ROW(),MATCH('Rapportage per vraag'!$C$12,'Data leveranciersbeoordeling'!$1:$1,0)),Leveranciersbeoordeling!$H$1:$I$5,2,FALSE),0)","v":0},0]
["",null,null,null,null,null,null,null,null,null,null,null,null,null,null,{"$f":"INDEX($A:$O,ROW(),MATCH('Rapportage per vraag'!$C$12,'Data leveranciersbeoordeling'!$1:$1,0))","v":0},{"$f":"IFERROR(VLOOKUP(INDEX($A:$O,ROW(),MATCH('Rapportage per vraag'!$C$12,'Data leveranciersbeoordeling'!$1:$1,0)),Leveranciersbeoordeling!$H$1:$I$5,2,FALSE),0)","v":0},0]
["",null,null,null,null,null,null,null,null,null,null,null,null,null,null,{"$f":"INDEX($A:$O,ROW(),MATCH('Rapportage per vraag'!$C$12,'Data leveranciersbeoordeling'!$1:$1,0))","v":0},{"$f":"IFERROR(VLOOKUP(INDEX($A:$O,ROW(),MATCH('Rapportage per vraag'!$C$12,'Data leveranciersbeoordeling'!$1:$1,0)),Leveranciersbeoordeling!$H$1:$I$5,2,FALSE),0)","v":0},0]
["",null,null,null,null,null,null,null,null,null,null,null,null,null,null,{"$f":"INDEX($A:$O,ROW(),MATCH('Rapportage per vraag'!$C$12,'Data leveranciersbeoordeling'!$1:$1,0))","v":0},{"$f":"IFERROR(VLOOKUP(INDEX($A:$O,ROW(),MATCH('Rapportage per vraag'!$C$12,'Data leveranciersbeoordeling'!$1:$1,0)),Leveranciersbeoordeling!$H$1:$I$5,2,FALSE),0)","v":0},0]
["",null,null,null,null,null,null,null,null,null,null,null,null,null,null,{"$f":"INDEX($A:$O,ROW(),MATCH('Rapportage per vraag'!$C$12,'Data leveranciersbeoordeling'!$1:$1,0))","v":0},{"$f":"IFERROR(VLOOKUP(INDEX($A:$O,ROW(),MATCH('Rapportage per vraag'!$C$12,'Data leveranciersbeoordeling'!$1:$1,0)),Leveranciersbeoordeling!$H$1:$I$5,2,FALSE),0)","v":0},0]
["",null,null,null,null,null,null,null,null,null,null,null,null,null,null,{"$f":"INDEX($A:$O,ROW(),MATCH('Rapportage per vraag'!$C$12,'Data leveranciersbeoordeling'!$1:$1,0))","v":0},{"$f":"IFERROR(VLOOKUP(INDEX($A:$O,ROW(),MATCH('Rapportage per vraag'!$C$12,'Data leveranciersbeoordeling'!$1:$1,0)),Leveranciersbeoordeling!$H$1:$I$5,2,FALSE),0)","v":0},0]
["",null,null,null,null,null,null,null,null,null,null,null,null,null,null,{"$f":"INDEX($A:$O,ROW(),MATCH('Rapportage per vraag'!$C$12,'Data leveranciersbeoordeling'!$1:$1,0))","v":0},{"$f":"IFERROR(VLOOKUP(INDEX($A:$O,ROW(),MATCH('Rapportage per vraag'!$C$12,'Data leveranciersbeoordeling'!$1:$1,0)),Leveranciersbeoordeling!$H$1:$I$5,2,FALSE),0)","v":0},0]
["",null,null,null,null,null,null,null,null,null,null,null,null,null,null,{"$f":"INDEX($A:$O,ROW(),MATCH('Rapportage per vraag'!$C$12,'Data leveranciersbeoordeling'!$1:$1,0))","v":0},{"$f":"IFERROR(VLOOKUP(INDEX($A:$O,ROW(),MATCH('Rapportage per vraag'!$C$12,'Data leveranciersbeoordeling'!$1:$1,0)),Leveranciersbeoordeling!$H$1:$I$5,2,FALSE),0)","v":0},0]
["",null,null,null,null,null,null,null,null,null,null,null,null,null,null,{"$f":"INDEX($A:$O,ROW(),MATCH('Rapportage per vraag'!$C$12,'Data leveranciersbeoordeling'!$1:$1,0))","v":0},{"$f":"IFERROR(VLOOKUP(INDEX($A:$O,ROW(),MATCH('Rapportage per vraag'!$C$12,'Data leveranciersbeoordeling'!$1:$1,0)),Leveranciersbeoordeling!$H$1:$I$5,2,FALSE),0)","v":0},0]
["",null,null,null,null,null,null,null,null,null,null,null,null,null,null,{"$f":"INDEX($A:$O,ROW(),MATCH('Rapportage per vraag'!$C$12,'Data leveranciersbeoordeling'!$1:$1,0))","v":0},{"$f":"IFERROR(VLOOKUP(INDEX($A:$O,ROW(),MATCH('Rapportage per vraag'!$C$12,'Data leveranciersbeoordeling'!$1:$1,0)),Leveranciersbeoordeling!$H$1:$I$5,2,FALSE),0)","v":0},0]
["",null,null,null,null,null,null,null,null,null,null,null,null,null,null,{"$f":"INDEX($A:$O,ROW(),MATCH('Rapportage per vraag'!$C$12,'Data leveranciersbeoordeling'!$1:$1,0))","v":0},{"$f":"IFERROR(VLOOKUP(INDEX($A:$O,ROW(),MATCH('Rapportage per vraag'!$C$12,'Data leveranciersbeoordeling'!$1:$1,0)),Leveranciersbeoordeling!$H$1:$I$5,2,FALSE),0)","v":0},0]
["",null,null,null,null,null,null,null,null,null,null,null,null,null,null,{"$f":"INDEX($A:$O,ROW(),MATCH('Rapportage per vraag'!$C$12,'Data leveranciersbeoordeling'!$1:$1,0))","v":0},{"$f":"IFERROR(VLOOKUP(INDEX($A:$O,ROW(),MATCH('Rapportage per vraag'!$C$12,'Data leveranciersbeoordeling'!$1:$1,0)),Leveranciersbeoordeling!$H$1:$I$5,2,FALSE),0)","v":0},0]
["",null,null,null,null,null,null,null,null,null,null,null,null,null,null,{"$f":"INDEX($A:$O,ROW(),MATCH('Rapportage per vraag'!$C$12,'Data leveranciersbeoordeling'!$1:$1,0))","v":0},{"$f":"IFERROR(VLOOKUP(INDEX($A:$O,ROW(),MATCH('Rapportage per vraag'!$C$12,'Data leveranciersbeoordeling'!$1:$1,0)),Leveranciersbeoordeling!$H$1:$I$5,2,FALSE),0)","v":0},0]
["",null,null,null,null,null,null,null,null,null,null,null,null,null,null,{"$f":"INDEX($A:$O,ROW(),MATCH('Rapportage per vraag'!$C$12,'Data leveranciersbeoordeling'!$1:$1,0))","v":0},{"$f":"IFERROR(VLOOKUP(INDEX($A:$O,ROW(),MATCH('Rapportage per vraag'!$C$12,'Data leveranciersbeoordeling'!$1:$1,0)),Leveranciersbeoordeling!$H$1:$I$5,2,FALSE),0)","v":0},0]
["",null,null,null,null,null,null,null,null,null,null,null,null,null,null,{"$f":"INDEX($A:$O,ROW(),MATCH('Rapportage per vraag'!$C$12,'Data leveranciersbeoordeling'!$1:$1,0))","v":0},{"$f":"IFERROR(VLOOKUP(INDEX($A:$O,ROW(),MATCH('Rapportage per vraag'!$C$12,'Data leveranciersbeoordeling'!$1:$1,0)),Leveranciersbeoordeling!$H$1:$I$5,2,FALSE),0)","v":0},0]
["",null,null,null,null,null,null,null,null,null,null,null,null,null,null,{"$f":"INDEX($A:$O,ROW(),MATCH('Rapportage per vraag'!$C$12,'Data leveranciersbeoordeling'!$1:$1,0))","v":0},{"$f":"IFERROR(VLOOKUP(INDEX($A:$O,ROW(),MATCH('Rapportage per vraag'!$C$12,'Data leveranciersbeoordeling'!$1:$1,0)),Leveranciersbeoordeling!$H$1:$I$5,2,FALSE),0)","v":0},0]
["",null,null,null,null,null,null,null,null,null,null,null,null,null,null,{"$f":"INDEX($A:$O,ROW(),MATCH('Rapportage per vraag'!$C$12,'Data leveranciersbeoordeling'!$1:$1,0))","v":0},{"$f":"IFERROR(VLOOKUP(INDEX($A:$O,ROW(),MATCH('Rapportage per vraag'!$C$12,'Data leveranciersbeoordeling'!$1:$1,0)),Leveranciersbeoordeling!$H$1:$I$5,2,FALSE),0)","v":0},0]
["",null,null,null,null,null,null,null,null,null,null,null,null,null,null,{"$f":"INDEX($A:$O,ROW(),MATCH('Rapportage per vraag'!$C$12,'Data leveranciersbeoordeling'!$1:$1,0))","v":0},{"$f":"IFERROR(VLOOKUP(INDEX($A:$O,ROW(),MATCH('Rapportage per vraag'!$C$12,'Data leveranciersbeoordeling'!$1:$1,0)),Leveranciersbeoordeling!$H$1:$I$5,2,FALSE),0)","v":0},0]
[{"$f":"CONCATENATE(B1155,C1155,D1155)","v":""},null,null,null,null,null,null,null,null,null,null,null,null,null,null,{"$f":"INDEX($A:$O,ROW(),MATCH('Rapportage per vraag'!$C$12,'Data leveranciersbeoordeling'!$1:$1,0))","v":0},{"$f":"IFERROR(VLOOKUP(INDEX($A:$O,ROW(),MATCH('Rapportage per vraag'!$C$12,'Data leveranciersbeoordeling'!$1:$1,0)),Leveranciersbeoordeling!$H$1:$I$5,2,FALSE),0)","v":0},0]
["",null,null,null,null,null,null,null,null,null,null,null,null,null,null,{"$f":"INDEX($A:$O,ROW(),MATCH('Rapportage per vraag'!$C$12,'Data leveranciersbeoordeling'!$1:$1,0))","v":0},{"$f":"IFERROR(VLOOKUP(INDEX($A:$O,ROW(),MATCH('Rapportage per vraag'!$C$12,'Data leveranciersbeoordeling'!$1:$1,0)),Leveranciersbeoordeling!$H$1:$I$5,2,FALSE),0)","v":0},0]
["",null,null,null,null,null,null,null,null,null,null,null,null,null,null,{"$f":"INDEX($A:$O,ROW(),MATCH('Rapportage per vraag'!$C$12,'Data leveranciersbeoordeling'!$1:$1,0))","v":0},{"$f":"IFERROR(VLOOKUP(INDEX($A:$O,ROW(),MATCH('Rapportage per vraag'!$C$12,'Data leveranciersbeoordeling'!$1:$1,0)),Leveranciersbeoordeling!$H$1:$I$5,2,FALSE),0)","v":0},0]
["",null,null,null,null,null,null,null,null,null,null,null,null,null,null,{"$f":"INDEX($A:$O,ROW(),MATCH('Rapportage per vraag'!$C$12,'Data leveranciersbeoordeling'!$1:$1,0))","v":0},{"$f":"IFERROR(VLOOKUP(INDEX($A:$O,ROW(),MATCH('Rapportage per vraag'!$C$12,'Data leveranciersbeoordeling'!$1:$1,0)),Leveranciersbeoordeling!$H$1:$I$5,2,FALSE),0)","v":0},{"$f":"IF(T(P1158)=P1158,Q1158,P1158)","v":0}]
["",null,null,null,null,null,null,null,null,null,null,null,null,null,null,{"$f":"INDEX($A:$O,ROW(),MATCH('Rapportage per vraag'!$C$12,'Data leveranciersbeoordeling'!$1:$1,0))","v":0},{"$f":"IFERROR(VLOOKUP(INDEX($A:$O,ROW(),MATCH('Rapportage per vraag'!$C$12,'Data leveranciersbeoordeling'!$1:$1,0)),Leveranciersbeoordeling!$H$1:$I$5,2,FALSE),0)","v":0},0]
["",null,null,null,null,null,null,null,null,null,null,null,null,null,null,{"$f":"INDEX($A:$O,ROW(),MATCH('Rapportage per vraag'!$C$12,'Data leveranciersbeoordeling'!$1:$1,0))","v":0},{"$f":"IFERROR(VLOOKUP(INDEX($A:$O,ROW(),MATCH('Rapportage per vraag'!$C$12,'Data leveranciersbeoordeling'!$1:$1,0)),Leveranciersbeoordeling!$H$1:$I$5,2,FALSE),0)","v":0},0]
["",null,null,null,null,null,null,null,null,null,null,null,null,null,null,{"$f":"INDEX($A:$O,ROW(),MATCH('Rapportage per vraag'!$C$12,'Data leveranciersbeoordeling'!$1:$1,0))","v":0},{"$f":"IFERROR(VLOOKUP(INDEX($A:$O,ROW(),MATCH('Rapportage per vraag'!$C$12,'Data leveranciersbeoordeling'!$1:$1,0)),Leveranciersbeoordeling!$H$1:$I$5,2,FALSE),0)","v":0},0]
["",null,null,null,null,null,null,null,null,null,null,null,null,null,null,{"$f":"INDEX($A:$O,ROW(),MATCH('Rapportage per vraag'!$C$12,'Data leveranciersbeoordeling'!$1:$1,0))","v":0},{"$f":"IFERROR(VLOOKUP(INDEX($A:$O,ROW(),MATCH('Rapportage per vraag'!$C$12,'Data leveranciersbeoordeling'!$1:$1,0)),Leveranciersbeoordeling!$H$1:$I$5,2,FALSE),0)","v":0},0]
["",null,null,null,null,null,null,null,null,null,null,null,null,null,null,{"$f":"INDEX($A:$O,ROW(),MATCH('Rapportage per vraag'!$C$12,'Data leveranciersbeoordeling'!$1:$1,0))","v":0},{"$f":"IFERROR(VLOOKUP(INDEX($A:$O,ROW(),MATCH('Rapportage per vraag'!$C$12,'Data leveranciersbeoordeling'!$1:$1,0)),Leveranciersbeoordeling!$H$1:$I$5,2,FALSE),0)","v":0},0]
["",null,null,null,null,null,null,null,null,null,null,null,null,null,null,{"$f":"INDEX($A:$O,ROW(),MATCH('Rapportage per vraag'!$C$12,'Data leveranciersbeoordeling'!$1:$1,0))","v":0},{"$f":"IFERROR(VLOOKUP(INDEX($A:$O,ROW(),MATCH('Rapportage per vraag'!$C$12,'Data leveranciersbeoordeling'!$1:$1,0)),Leveranciersbeoordeling!$H$1:$I$5,2,FALSE),0)","v":0},0]
["",null,null,null,null,null,null,null,null,null,null,null,null,null,null,{"$f":"INDEX($A:$O,ROW(),MATCH('Rapportage per vraag'!$C$12,'Data leveranciersbeoordeling'!$1:$1,0))","v":0},{"$f":"IFERROR(VLOOKUP(INDEX($A:$O,ROW(),MATCH('Rapportage per vraag'!$C$12,'Data leveranciersbeoordeling'!$1:$1,0)),Leveranciersbeoordeling!$H$1:$I$5,2,FALSE),0)","v":0},0]
["",null,null,null,null,null,null,null,null,null,null,null,null,null,null,{"$f":"INDEX($A:$O,ROW(),MATCH('Rapportage per vraag'!$C$12,'Data leveranciersbeoordeling'!$1:$1,0))","v":0},{"$f":"IFERROR(VLOOKUP(INDEX($A:$O,ROW(),MATCH('Rapportage per vraag'!$C$12,'Data leveranciersbeoordeling'!$1:$1,0)),Leveranciersbeoordeling!$H$1:$I$5,2,FALSE),0)","v":0},0]
["",null,null,null,null,null,null,null,null,null,null,null,null,null,null,{"$f":"INDEX($A:$O,ROW(),MATCH('Rapportage per vraag'!$C$12,'Data leveranciersbeoordeling'!$1:$1,0))","v":0},{"$f":"IFERROR(VLOOKUP(INDEX($A:$O,ROW(),MATCH('Rapportage per vraag'!$C$12,'Data leveranciersbeoordeling'!$1:$1,0)),Leveranciersbeoordeling!$H$1:$I$5,2,FALSE),0)","v":0},0]
["",null,null,null,null,null,null,null,null,null,null,null,null,null,null,{"$f":"INDEX($A:$O,ROW(),MATCH('Rapportage per vraag'!$C$12,'Data leveranciersbeoordeling'!$1:$1,0))","v":0},{"$f":"IFERROR(VLOOKUP(INDEX($A:$O,ROW(),MATCH('Rapportage per vraag'!$C$12,'Data leveranciersbeoordeling'!$1:$1,0)),Leveranciersbeoordeling!$H$1:$I$5,2,FALSE),0)","v":0},0]
["",null,null,null,null,null,null,null,null,null,null,null,null,null,null,{"$f":"INDEX($A:$O,ROW(),MATCH('Rapportage per vraag'!$C$12,'Data leveranciersbeoordeling'!$1:$1,0))","v":0},{"$f":"IFERROR(VLOOKUP(INDEX($A:$O,ROW(),MATCH('Rapportage per vraag'!$C$12,'Data leveranciersbeoordeling'!$1:$1,0)),Leveranciersbeoordeling!$H$1:$I$5,2,FALSE),0)","v":0},0]
["",null,null,null,null,null,null,null,null,null,null,null,null,null,null,{"$f":"INDEX($A:$O,ROW(),MATCH('Rapportage per vraag'!$C$12,'Data leveranciersbeoordeling'!$1:$1,0))","v":0},{"$f":"IFERROR(VLOOKUP(INDEX($A:$O,ROW(),MATCH('Rapportage per vraag'!$C$12,'Data leveranciersbeoordeling'!$1:$1,0)),Leveranciersbeoordeling!$H$1:$I$5,2,FALSE),0)","v":0},0]
["",null,null,null,null,null,null,null,null,null,null,null,null,null,null,{"$f":"INDEX($A:$O,ROW(),MATCH('Rapportage per vraag'!$C$12,'Data leveranciersbeoordeling'!$1:$1,0))","v":0},{"$f":"IFERROR(VLOOKUP(INDEX($A:$O,ROW(),MATCH('Rapportage per vraag'!$C$12,'Data leveranciersbeoordeling'!$1:$1,0)),Leveranciersbeoordeling!$H$1:$I$5,2,FALSE),0)","v":0},0]
["",null,null,null,null,null,null,null,null,null,null,null,null,null,null,{"$f":"INDEX($A:$O,ROW(),MATCH('Rapportage per vraag'!$C$12,'Data leveranciersbeoordeling'!$1:$1,0))","v":0},{"$f":"IFERROR(VLOOKUP(INDEX($A:$O,ROW(),MATCH('Rapportage per vraag'!$C$12,'Data leveranciersbeoordeling'!$1:$1,0)),Leveranciersbeoordeling!$H$1:$I$5,2,FALSE),0)","v":0},0]
["",null,null,null,null,null,null,null,null,null,null,null,null,null,null,{"$f":"INDEX($A:$O,ROW(),MATCH('Rapportage per vraag'!$C$12,'Data leveranciersbeoordeling'!$1:$1,0))","v":0},{"$f":"IFERROR(VLOOKUP(INDEX($A:$O,ROW(),MATCH('Rapportage per vraag'!$C$12,'Data leveranciersbeoordeling'!$1:$1,0)),Leveranciersbeoordeling!$H$1:$I$5,2,FALSE),0)","v":0},0]
["",null,null,null,null,null,null,null,null,null,null,null,null,null,null,{"$f":"INDEX($A:$O,ROW(),MATCH('Rapportage per vraag'!$C$12,'Data leveranciersbeoordeling'!$1:$1,0))","v":0},{"$f":"IFERROR(VLOOKUP(INDEX($A:$O,ROW(),MATCH('Rapportage per vraag'!$C$12,'Data leveranciersbeoordeling'!$1:$1,0)),Leveranciersbeoordeling!$H$1:$I$5,2,FALSE),0)","v":0},0]
["",null,null,null,null,null,null,null,null,null,null,null,null,null,null,{"$f":"INDEX($A:$O,ROW(),MATCH('Rapportage per vraag'!$C$12,'Data leveranciersbeoordeling'!$1:$1,0))","v":0},{"$f":"IFERROR(VLOOKUP(INDEX($A:$O,ROW(),MATCH('Rapportage per vraag'!$C$12,'Data leveranciersbeoordeling'!$1:$1,0)),Leveranciersbeoordeling!$H$1:$I$5,2,FALSE),0)","v":0},0]
["",null,null,null,null,null,null,null,null,null,null,null,null,null,null,{"$f":"INDEX($A:$O,ROW(),MATCH('Rapportage per vraag'!$C$12,'Data leveranciersbeoordeling'!$1:$1,0))","v":0},{"$f":"IFERROR(VLOOKUP(INDEX($A:$O,ROW(),MATCH('Rapportage per vraag'!$C$12,'Data leveranciersbeoordeling'!$1:$1,0)),Leveranciersbeoordeling!$H$1:$I$5,2,FALSE),0)","v":0},0]
["",null,null,null,null,null,null,null,null,null,null,null,null,null,null,{"$f":"INDEX($A:$O,ROW(),MATCH('Rapportage per vraag'!$C$12,'Data leveranciersbeoordeling'!$1:$1,0))","v":0},{"$f":"IFERROR(VLOOKUP(INDEX($A:$O,ROW(),MATCH('Rapportage per vraag'!$C$12,'Data leveranciersbeoordeling'!$1:$1,0)),Leveranciersbeoordeling!$H$1:$I$5,2,FALSE),0)","v":0},0]
["",null,null,null,null,null,null,null,null,null,null,null,null,null,null,{"$f":"INDEX($A:$O,ROW(),MATCH('Rapportage per vraag'!$C$12,'Data leveranciersbeoordeling'!$1:$1,0))","v":0},{"$f":"IFERROR(VLOOKUP(INDEX($A:$O,ROW(),MATCH('Rapportage per vraag'!$C$12,'Data leveranciersbeoordeling'!$1:$1,0)),Leveranciersbeoordeling!$H$1:$I$5,2,FALSE),0)","v":0},0]
["",null,null,null,null,null,null,null,null,null,null,null,null,null,null,{"$f":"INDEX($A:$O,ROW(),MATCH('Rapportage per vraag'!$C$12,'Data leveranciersbeoordeling'!$1:$1,0))","v":0},{"$f":"IFERROR(VLOOKUP(INDEX($A:$O,ROW(),MATCH('Rapportage per vraag'!$C$12,'Data leveranciersbeoordeling'!$1:$1,0)),Leveranciersbeoordeling!$H$1:$I$5,2,FALSE),0)","v":0},0]
["",null,null,null,null,null,null,null,null,null,null,null,null,null,null,{"$f":"INDEX($A:$O,ROW(),MATCH('Rapportage per vraag'!$C$12,'Data leveranciersbeoordeling'!$1:$1,0))","v":0},{"$f":"IFERROR(VLOOKUP(INDEX($A:$O,ROW(),MATCH('Rapportage per vraag'!$C$12,'Data leveranciersbeoordeling'!$1:$1,0)),Leveranciersbeoordeling!$H$1:$I$5,2,FALSE),0)","v":0},0]
["",null,null,null,null,null,null,null,null,null,null,null,null,null,null,{"$f":"INDEX($A:$O,ROW(),MATCH('Rapportage per vraag'!$C$12,'Data leveranciersbeoordeling'!$1:$1,0))","v":0},{"$f":"IFERROR(VLOOKUP(INDEX($A:$O,ROW(),MATCH('Rapportage per vraag'!$C$12,'Data leveranciersbeoordeling'!$1:$1,0)),Leveranciersbeoordeling!$H$1:$I$5,2,FALSE),0)","v":0},0]
["",null,null,null,null,null,null,null,null,null,null,null,null,null,null,{"$f":"INDEX($A:$O,ROW(),MATCH('Rapportage per vraag'!$C$12,'Data leveranciersbeoordeling'!$1:$1,0))","v":0},{"$f":"IFERROR(VLOOKUP(INDEX($A:$O,ROW(),MATCH('Rapportage per vraag'!$C$12,'Data leveranciersbeoordeling'!$1:$1,0)),Leveranciersbeoordeling!$H$1:$I$5,2,FALSE),0)","v":0},0]
["",null,null,null,null,null,null,null,null,null,null,null,null,null,null,{"$f":"INDEX($A:$O,ROW(),MATCH('Rapportage per vraag'!$C$12,'Data leveranciersbeoordeling'!$1:$1,0))","v":0},{"$f":"IFERROR(VLOOKUP(INDEX($A:$O,ROW(),MATCH('Rapportage per vraag'!$C$12,'Data leveranciersbeoordeling'!$1:$1,0)),Leveranciersbeoordeling!$H$1:$I$5,2,FALSE),0)","v":0},0]
["",null,null,null,null,null,null,null,null,null,null,null,null,null,null,{"$f":"INDEX($A:$O,ROW(),MATCH('Rapportage per vraag'!$C$12,'Data leveranciersbeoordeling'!$1:$1,0))","v":0},{"$f":"IFERROR(VLOOKUP(INDEX($A:$O,ROW(),MATCH('Rapportage per vraag'!$C$12,'Data leveranciersbeoordeling'!$1:$1,0)),Leveranciersbeoordeling!$H$1:$I$5,2,FALSE),0)","v":0},0]
["",null,null,null,null,null,null,null,null,null,null,null,null,null,null,{"$f":"INDEX($A:$O,ROW(),MATCH('Rapportage per vraag'!$C$12,'Data leveranciersbeoordeling'!$1:$1,0))","v":0},{"$f":"IFERROR(VLOOKUP(INDEX($A:$O,ROW(),MATCH('Rapportage per vraag'!$C$12,'Data leveranciersbeoordeling'!$1:$1,0)),Leveranciersbeoordeling!$H$1:$I$5,2,FALSE),0)","v":0},0]
["",null,null,null,null,null,null,null,null,null,null,null,null,null,null,{"$f":"INDEX($A:$O,ROW(),MATCH('Rapportage per vraag'!$C$12,'Data leveranciersbeoordeling'!$1:$1,0))","v":0},{"$f":"IFERROR(VLOOKUP(INDEX($A:$O,ROW(),MATCH('Rapportage per vraag'!$C$12,'Data leveranciersbeoordeling'!$1:$1,0)),Leveranciersbeoordeling!$H$1:$I$5,2,FALSE),0)","v":0},0]
["",null,null,null,null,null,null,null,null,null,null,null,null,null,null,{"$f":"INDEX($A:$O,ROW(),MATCH('Rapportage per vraag'!$C$12,'Data leveranciersbeoordeling'!$1:$1,0))","v":0},{"$f":"IFERROR(VLOOKUP(INDEX($A:$O,ROW(),MATCH('Rapportage per vraag'!$C$12,'Data leveranciersbeoordeling'!$1:$1,0)),Leveranciersbeoordeling!$H$1:$I$5,2,FALSE),0)","v":0},0]
["",null,null,null,null,null,null,null,null,null,null,null,null,null,null,{"$f":"INDEX($A:$O,ROW(),MATCH('Rapportage per vraag'!$C$12,'Data leveranciersbeoordeling'!$1:$1,0))","v":0},{"$f":"IFERROR(VLOOKUP(INDEX($A:$O,ROW(),MATCH('Rapportage per vraag'!$C$12,'Data leveranciersbeoordeling'!$1:$1,0)),Leveranciersbeoordeling!$H$1:$I$5,2,FALSE),0)","v":0},0]
["",null,null,null,null,null,null,null,null,null,null,null,null,null,null,{"$f":"INDEX($A:$O,ROW(),MATCH('Rapportage per vraag'!$C$12,'Data leveranciersbeoordeling'!$1:$1,0))","v":0},{"$f":"IFERROR(VLOOKUP(INDEX($A:$O,ROW(),MATCH('Rapportage per vraag'!$C$12,'Data leveranciersbeoordeling'!$1:$1,0)),Leveranciersbeoordeling!$H$1:$I$5,2,FALSE),0)","v":0},0]
["",null,null,null,null,null,null,null,null,null,null,null,null,null,null,{"$f":"INDEX($A:$O,ROW(),MATCH('Rapportage per vraag'!$C$12,'Data leveranciersbeoordeling'!$1:$1,0))","v":0},{"$f":"IFERROR(VLOOKUP(INDEX($A:$O,ROW(),MATCH('Rapportage per vraag'!$C$12,'Data leveranciersbeoordeling'!$1:$1,0)),Leveranciersbeoordeling!$H$1:$I$5,2,FALSE),0)","v":0},0]
["",null,null,null,null,null,null,null,null,null,null,null,null,null,null,{"$f":"INDEX($A:$O,ROW(),MATCH('Rapportage per vraag'!$C$12,'Data leveranciersbeoordeling'!$1:$1,0))","v":0},{"$f":"IFERROR(VLOOKUP(INDEX($A:$O,ROW(),MATCH('Rapportage per vraag'!$C$12,'Data leveranciersbeoordeling'!$1:$1,0)),Leveranciersbeoordeling!$H$1:$I$5,2,FALSE),0)","v":0},0]
["",null,null,null,null,null,null,null,null,null,null,null,null,null,null,{"$f":"INDEX($A:$O,ROW(),MATCH('Rapportage per vraag'!$C$12,'Data leveranciersbeoordeling'!$1:$1,0))","v":0},{"$f":"IFERROR(VLOOKUP(INDEX($A:$O,ROW(),MATCH('Rapportage per vraag'!$C$12,'Data leveranciersbeoordeling'!$1:$1,0)),Leveranciersbeoordeling!$H$1:$I$5,2,FALSE),0)","v":0},0]
["",null,null,null,null,null,null,null,null,null,null,null,null,null,null,{"$f":"INDEX($A:$O,ROW(),MATCH('Rapportage per vraag'!$C$12,'Data leveranciersbeoordeling'!$1:$1,0))","v":0},{"$f":"IFERROR(VLOOKUP(INDEX($A:$O,ROW(),MATCH('Rapportage per vraag'!$C$12,'Data leveranciersbeoordeling'!$1:$1,0)),Leveranciersbeoordeling!$H$1:$I$5,2,FALSE),0)","v":0},0]
["",null,null,null,null,null,null,null,null,null,null,null,null,null,null,{"$f":"INDEX($A:$O,ROW(),MATCH('Rapportage per vraag'!$C$12,'Data leveranciersbeoordeling'!$1:$1,0))","v":0},{"$f":"IFERROR(VLOOKUP(INDEX($A:$O,ROW(),MATCH('Rapportage per vraag'!$C$12,'Data leveranciersbeoordeling'!$1:$1,0)),Leveranciersbeoordeling!$H$1:$I$5,2,FALSE),0)","v":0},0]
["",null,null,null,null,null,null,null,null,null,null,null,null,null,null,{"$f":"INDEX($A:$O,ROW(),MATCH('Rapportage per vraag'!$C$12,'Data leveranciersbeoordeling'!$1:$1,0))","v":0},{"$f":"IFERROR(VLOOKUP(INDEX($A:$O,ROW(),MATCH('Rapportage per vraag'!$C$12,'Data leveranciersbeoordeling'!$1:$1,0)),Leveranciersbeoordeling!$H$1:$I$5,2,FALSE),0)","v":0},0]
["",null,null,null,null,null,null,null,null,null,null,null,null,null,null,{"$f":"INDEX($A:$O,ROW(),MATCH('Rapportage per vraag'!$C$12,'Data leveranciersbeoordeling'!$1:$1,0))","v":0},{"$f":"IFERROR(VLOOKUP(INDEX($A:$O,ROW(),MATCH('Rapportage per vraag'!$C$12,'Data leveranciersbeoordeling'!$1:$1,0)),Leveranciersbeoordeling!$H$1:$I$5,2,FALSE),0)","v":0},0]
["",null,null,null,null,null,null,null,null,null,null,null,null,null,null,{"$f":"INDEX($A:$O,ROW(),MATCH('Rapportage per vraag'!$C$12,'Data leveranciersbeoordeling'!$1:$1,0))","v":0},{"$f":"IFERROR(VLOOKUP(INDEX($A:$O,ROW(),MATCH('Rapportage per vraag'!$C$12,'Data leveranciersbeoordeling'!$1:$1,0)),Leveranciersbeoordeling!$H$1:$I$5,2,FALSE),0)","v":0},0]
["",null,null,null,null,null,null,null,null,null,null,null,null,null,null,{"$f":"INDEX($A:$O,ROW(),MATCH('Rapportage per vraag'!$C$12,'Data leveranciersbeoordeling'!$1:$1,0))","v":0},{"$f":"IFERROR(VLOOKUP(INDEX($A:$O,ROW(),MATCH('Rapportage per vraag'!$C$12,'Data leveranciersbeoordeling'!$1:$1,0)),Leveranciersbeoordeling!$H$1:$I$5,2,FALSE),0)","v":0},0]
["",null,null,null,null,null,null,null,null,null,null,null,null,null,null,{"$f":"INDEX($A:$O,ROW(),MATCH('Rapportage per vraag'!$C$12,'Data leveranciersbeoordeling'!$1:$1,0))","v":0},{"$f":"IFERROR(VLOOKUP(INDEX($A:$O,ROW(),MATCH('Rapportage per vraag'!$C$12,'Data leveranciersbeoordeling'!$1:$1,0)),Leveranciersbeoordeling!$H$1:$I$5,2,FALSE),0)","v":0},0]
["",null,null,null,null,null,null,null,null,null,null,null,null,null,null,{"$f":"INDEX($A:$O,ROW(),MATCH('Rapportage per vraag'!$C$12,'Data leveranciersbeoordeling'!$1:$1,0))","v":0},{"$f":"IFERROR(VLOOKUP(INDEX($A:$O,ROW(),MATCH('Rapportage per vraag'!$C$12,'Data leveranciersbeoordeling'!$1:$1,0)),Leveranciersbeoordeling!$H$1:$I$5,2,FALSE),0)","v":0},0]
["",null,null,null,null,null,null,null,null,null,null,null,null,null,null,{"$f":"INDEX($A:$O,ROW(),MATCH('Rapportage per vraag'!$C$12,'Data leveranciersbeoordeling'!$1:$1,0))","v":0},{"$f":"IFERROR(VLOOKUP(INDEX($A:$O,ROW(),MATCH('Rapportage per vraag'!$C$12,'Data leveranciersbeoordeling'!$1:$1,0)),Leveranciersbeoordeling!$H$1:$I$5,2,FALSE),0)","v":0},0]
["",null,null,null,null,null,null,null,null,null,null,null,null,null,null,{"$f":"INDEX($A:$O,ROW(),MATCH('Rapportage per vraag'!$C$12,'Data leveranciersbeoordeling'!$1:$1,0))","v":0},{"$f":"IFERROR(VLOOKUP(INDEX($A:$O,ROW(),MATCH('Rapportage per vraag'!$C$12,'Data leveranciersbeoordeling'!$1:$1,0)),Leveranciersbeoordeling!$H$1:$I$5,2,FALSE),0)","v":0},0]
["",null,null,null,null,null,null,null,null,null,null,null,null,null,null,{"$f":"INDEX($A:$O,ROW(),MATCH('Rapportage per vraag'!$C$12,'Data leveranciersbeoordeling'!$1:$1,0))","v":0},{"$f":"IFERROR(VLOOKUP(INDEX($A:$O,ROW(),MATCH('Rapportage per vraag'!$C$12,'Data leveranciersbeoordeling'!$1:$1,0)),Leveranciersbeoordeling!$H$1:$I$5,2,FALSE),0)","v":0},0]
["",null,null,null,null,null,null,null,null,null,null,null,null,null,null,{"$f":"INDEX($A:$O,ROW(),MATCH('Rapportage per vraag'!$C$12,'Data leveranciersbeoordeling'!$1:$1,0))","v":0},{"$f":"IFERROR(VLOOKUP(INDEX($A:$O,ROW(),MATCH('Rapportage per vraag'!$C$12,'Data leveranciersbeoordeling'!$1:$1,0)),Leveranciersbeoordeling!$H$1:$I$5,2,FALSE),0)","v":0},0]
["",null,null,null,null,null,null,null,null,null,null,null,null,null,null,{"$f":"INDEX($A:$O,ROW(),MATCH('Rapportage per vraag'!$C$12,'Data leveranciersbeoordeling'!$1:$1,0))","v":0},{"$f":"IFERROR(VLOOKUP(INDEX($A:$O,ROW(),MATCH('Rapportage per vraag'!$C$12,'Data leveranciersbeoordeling'!$1:$1,0)),Leveranciersbeoordeling!$H$1:$I$5,2,FALSE),0)","v":0},0]
["",null,null,null,null,null,null,null,null,null,null,null,null,null,null,{"$f":"INDEX($A:$O,ROW(),MATCH('Rapportage per vraag'!$C$12,'Data leveranciersbeoordeling'!$1:$1,0))","v":0},{"$f":"IFERROR(VLOOKUP(INDEX($A:$O,ROW(),MATCH('Rapportage per vraag'!$C$12,'Data leveranciersbeoordeling'!$1:$1,0)),Leveranciersbeoordeling!$H$1:$I$5,2,FALSE),0)","v":0},0]
["",null,null,null,null,null,null,null,null,null,null,null,null,null,null,{"$f":"INDEX($A:$O,ROW(),MATCH('Rapportage per vraag'!$C$12,'Data leveranciersbeoordeling'!$1:$1,0))","v":0},{"$f":"IFERROR(VLOOKUP(INDEX($A:$O,ROW(),MATCH('Rapportage per vraag'!$C$12,'Data leveranciersbeoordeling'!$1:$1,0)),Leveranciersbeoordeling!$H$1:$I$5,2,FALSE),0)","v":0},0]
["",null,null,null,null,null,null,null,null,null,null,null,null,null,null,{"$f":"INDEX($A:$O,ROW(),MATCH('Rapportage per vraag'!$C$12,'Data leveranciersbeoordeling'!$1:$1,0))","v":0},{"$f":"IFERROR(VLOOKUP(INDEX($A:$O,ROW(),MATCH('Rapportage per vraag'!$C$12,'Data leveranciersbeoordeling'!$1:$1,0)),Leveranciersbeoordeling!$H$1:$I$5,2,FALSE),0)","v":0},0]
["",null,null,null,null,null,null,null,null,null,null,null,null,null,null,{"$f":"INDEX($A:$O,ROW(),MATCH('Rapportage per vraag'!$C$12,'Data leveranciersbeoordeling'!$1:$1,0))","v":0},{"$f":"IFERROR(VLOOKUP(INDEX($A:$O,ROW(),MATCH('Rapportage per vraag'!$C$12,'Data leveranciersbeoordeling'!$1:$1,0)),Leveranciersbeoordeling!$H$1:$I$5,2,FALSE),0)","v":0},0]
["",null,null,null,null,null,null,null,null,null,null,null,null,null,null,{"$f":"INDEX($A:$O,ROW(),MATCH('Rapportage per vraag'!$C$12,'Data leveranciersbeoordeling'!$1:$1,0))","v":0},{"$f":"IFERROR(VLOOKUP(INDEX($A:$O,ROW(),MATCH('Rapportage per vraag'!$C$12,'Data leveranciersbeoordeling'!$1:$1,0)),Leveranciersbeoordeling!$H$1:$I$5,2,FALSE),0)","v":0},0]
["",null,null,null,null,null,null,null,null,null,null,null,null,null,null,{"$f":"INDEX($A:$O,ROW(),MATCH('Rapportage per vraag'!$C$12,'Data leveranciersbeoordeling'!$1:$1,0))","v":0},{"$f":"IFERROR(VLOOKUP(INDEX($A:$O,ROW(),MATCH('Rapportage per vraag'!$C$12,'Data leveranciersbeoordeling'!$1:$1,0)),Leveranciersbeoordeling!$H$1:$I$5,2,FALSE),0)","v":0},0]
["",null,null,null,null,null,null,null,null,null,null,null,null,null,null,{"$f":"INDEX($A:$O,ROW(),MATCH('Rapportage per vraag'!$C$12,'Data leveranciersbeoordeling'!$1:$1,0))","v":0},{"$f":"IFERROR(VLOOKUP(INDEX($A:$O,ROW(),MATCH('Rapportage per vraag'!$C$12,'Data leveranciersbeoordeling'!$1:$1,0)),Leveranciersbeoordeling!$H$1:$I$5,2,FALSE),0)","v":0},0]
["",null,null,null,null,null,null,null,null,null,null,null,null,null,null,{"$f":"INDEX($A:$O,ROW(),MATCH('Rapportage per vraag'!$C$12,'Data leveranciersbeoordeling'!$1:$1,0))","v":0},{"$f":"IFERROR(VLOOKUP(INDEX($A:$O,ROW(),MATCH('Rapportage per vraag'!$C$12,'Data leveranciersbeoordeling'!$1:$1,0)),Leveranciersbeoordeling!$H$1:$I$5,2,FALSE),0)","v":0},0]
["",null,null,null,null,null,null,null,null,null,null,null,null,null,null,{"$f":"INDEX($A:$O,ROW(),MATCH('Rapportage per vraag'!$C$12,'Data leveranciersbeoordeling'!$1:$1,0))","v":0},{"$f":"IFERROR(VLOOKUP(INDEX($A:$O,ROW(),MATCH('Rapportage per vraag'!$C$12,'Data leveranciersbeoordeling'!$1:$1,0)),Leveranciersbeoordeling!$H$1:$I$5,2,FALSE),0)","v":0},0]
["",null,null,null,null,null,null,null,null,null,null,null,null,null,null,{"$f":"INDEX($A:$O,ROW(),MATCH('Rapportage per vraag'!$C$12,'Data leveranciersbeoordeling'!$1:$1,0))","v":0},{"$f":"IFERROR(VLOOKUP(INDEX($A:$O,ROW(),MATCH('Rapportage per vraag'!$C$12,'Data leveranciersbeoordeling'!$1:$1,0)),Leveranciersbeoordeling!$H$1:$I$5,2,FALSE),0)","v":0},0]
["",null,null,null,null,null,null,null,null,null,null,null,null,null,null,{"$f":"INDEX($A:$O,ROW(),MATCH('Rapportage per vraag'!$C$12,'Data leveranciersbeoordeling'!$1:$1,0))","v":0},{"$f":"IFERROR(VLOOKUP(INDEX($A:$O,ROW(),MATCH('Rapportage per vraag'!$C$12,'Data leveranciersbeoordeling'!$1:$1,0)),Leveranciersbeoordeling!$H$1:$I$5,2,FALSE),0)","v":0},0]
["",null,null,null,null,null,null,null,null,null,null,null,null,null,null,{"$f":"INDEX($A:$O,ROW(),MATCH('Rapportage per vraag'!$C$12,'Data leveranciersbeoordeling'!$1:$1,0))","v":0},{"$f":"IFERROR(VLOOKUP(INDEX($A:$O,ROW(),MATCH('Rapportage per vraag'!$C$12,'Data leveranciersbeoordeling'!$1:$1,0)),Leveranciersbeoordeling!$H$1:$I$5,2,FALSE),0)","v":0},0]
["",null,null,null,null,null,null,null,null,null,null,null,null,null,null,{"$f":"INDEX($A:$O,ROW(),MATCH('Rapportage per vraag'!$C$12,'Data leveranciersbeoordeling'!$1:$1,0))","v":0},{"$f":"IFERROR(VLOOKUP(INDEX($A:$O,ROW(),MATCH('Rapportage per vraag'!$C$12,'Data leveranciersbeoordeling'!$1:$1,0)),Leveranciersbeoordeling!$H$1:$I$5,2,FALSE),0)","v":0},0]
[{"$f":"CONCATENATE(B1219,C1219,D1219)","v":""},null,null,null,null,null,null,null,null,null,null,null,null,null,null,{"$f":"INDEX($A:$O,ROW(),MATCH('Rapportage per vraag'!$C$12,'Data leveranciersbeoordeling'!$1:$1,0))","v":0},{"$f":"IFERROR(VLOOKUP(INDEX($A:$O,ROW(),MATCH('Rapportage per vraag'!$C$12,'Data leveranciersbeoordeling'!$1:$1,0)),Leveranciersbeoordeling!$H$1:$I$5,2,FALSE),0)","v":0},0]
["",null,null,null,null,null,null,null,null,null,null,null,null,null,null,{"$f":"INDEX($A:$O,ROW(),MATCH('Rapportage per vraag'!$C$12,'Data leveranciersbeoordeling'!$1:$1,0))","v":0},{"$f":"IFERROR(VLOOKUP(INDEX($A:$O,ROW(),MATCH('Rapportage per vraag'!$C$12,'Data leveranciersbeoordeling'!$1:$1,0)),Leveranciersbeoordeling!$H$1:$I$5,2,FALSE),0)","v":0},0]
["",null,null,null,null,null,null,null,null,null,null,null,null,null,null,{"$f":"INDEX($A:$O,ROW(),MATCH('Rapportage per vraag'!$C$12,'Data leveranciersbeoordeling'!$1:$1,0))","v":0},{"$f":"IFERROR(VLOOKUP(INDEX($A:$O,ROW(),MATCH('Rapportage per vraag'!$C$12,'Data leveranciersbeoordeling'!$1:$1,0)),Leveranciersbeoordeling!$H$1:$I$5,2,FALSE),0)","v":0},0]
["",null,null,null,null,null,null,null,null,null,null,null,null,null,null,{"$f":"INDEX($A:$O,ROW(),MATCH('Rapportage per vraag'!$C$12,'Data leveranciersbeoordeling'!$1:$1,0))","v":0},{"$f":"IFERROR(VLOOKUP(INDEX($A:$O,ROW(),MATCH('Rapportage per vraag'!$C$12,'Data leveranciersbeoordeling'!$1:$1,0)),Leveranciersbeoordeling!$H$1:$I$5,2,FALSE),0)","v":0},{"$f":"IF(T(P1222)=P1222,Q1222,P1222)","v":0}]
["",null,null,null,null,null,null,null,null,null,null,null,null,null,null,{"$f":"INDEX($A:$O,ROW(),MATCH('Rapportage per vraag'!$C$12,'Data leveranciersbeoordeling'!$1:$1,0))","v":0},{"$f":"IFERROR(VLOOKUP(INDEX($A:$O,ROW(),MATCH('Rapportage per vraag'!$C$12,'Data leveranciersbeoordeling'!$1:$1,0)),Leveranciersbeoordeling!$H$1:$I$5,2,FALSE),0)","v":0},0]
["",null,null,null,null,null,null,null,null,null,null,null,null,null,null,{"$f":"INDEX($A:$O,ROW(),MATCH('Rapportage per vraag'!$C$12,'Data leveranciersbeoordeling'!$1:$1,0))","v":0},{"$f":"IFERROR(VLOOKUP(INDEX($A:$O,ROW(),MATCH('Rapportage per vraag'!$C$12,'Data leveranciersbeoordeling'!$1:$1,0)),Leveranciersbeoordeling!$H$1:$I$5,2,FALSE),0)","v":0},0]
["",null,null,null,null,null,null,null,null,null,null,null,null,null,null,{"$f":"INDEX($A:$O,ROW(),MATCH('Rapportage per vraag'!$C$12,'Data leveranciersbeoordeling'!$1:$1,0))","v":0},{"$f":"IFERROR(VLOOKUP(INDEX($A:$O,ROW(),MATCH('Rapportage per vraag'!$C$12,'Data leveranciersbeoordeling'!$1:$1,0)),Leveranciersbeoordeling!$H$1:$I$5,2,FALSE),0)","v":0},0]
["",null,null,null,null,null,null,null,null,null,null,null,null,null,null,{"$f":"INDEX($A:$O,ROW(),MATCH('Rapportage per vraag'!$C$12,'Data leveranciersbeoordeling'!$1:$1,0))","v":0},{"$f":"IFERROR(VLOOKUP(INDEX($A:$O,ROW(),MATCH('Rapportage per vraag'!$C$12,'Data leveranciersbeoordeling'!$1:$1,0)),Leveranciersbeoordeling!$H$1:$I$5,2,FALSE),0)","v":0},0]
["",null,null,null,null,null,null,null,null,null,null,null,null,null,null,{"$f":"INDEX($A:$O,ROW(),MATCH('Rapportage per vraag'!$C$12,'Data leveranciersbeoordeling'!$1:$1,0))","v":0},{"$f":"IFERROR(VLOOKUP(INDEX($A:$O,ROW(),MATCH('Rapportage per vraag'!$C$12,'Data leveranciersbeoordeling'!$1:$1,0)),Leveranciersbeoordeling!$H$1:$I$5,2,FALSE),0)","v":0},0]
["",null,null,null,null,null,null,null,null,null,null,null,null,null,null,{"$f":"INDEX($A:$O,ROW(),MATCH('Rapportage per vraag'!$C$12,'Data leveranciersbeoordeling'!$1:$1,0))","v":0},{"$f":"IFERROR(VLOOKUP(INDEX($A:$O,ROW(),MATCH('Rapportage per vraag'!$C$12,'Data leveranciersbeoordeling'!$1:$1,0)),Leveranciersbeoordeling!$H$1:$I$5,2,FALSE),0)","v":0},0]
["",null,null,null,null,null,null,null,null,null,null,null,null,null,null,{"$f":"INDEX($A:$O,ROW(),MATCH('Rapportage per vraag'!$C$12,'Data leveranciersbeoordeling'!$1:$1,0))","v":0},{"$f":"IFERROR(VLOOKUP(INDEX($A:$O,ROW(),MATCH('Rapportage per vraag'!$C$12,'Data leveranciersbeoordeling'!$1:$1,0)),Leveranciersbeoordeling!$H$1:$I$5,2,FALSE),0)","v":0},0]
["",null,null,null,null,null,null,null,null,null,null,null,null,null,null,{"$f":"INDEX($A:$O,ROW(),MATCH('Rapportage per vraag'!$C$12,'Data leveranciersbeoordeling'!$1:$1,0))","v":0},{"$f":"IFERROR(VLOOKUP(INDEX($A:$O,ROW(),MATCH('Rapportage per vraag'!$C$12,'Data leveranciersbeoordeling'!$1:$1,0)),Leveranciersbeoordeling!$H$1:$I$5,2,FALSE),0)","v":0},0]
["",null,null,null,null,null,null,null,null,null,null,null,null,null,null,{"$f":"INDEX($A:$O,ROW(),MATCH('Rapportage per vraag'!$C$12,'Data leveranciersbeoordeling'!$1:$1,0))","v":0},{"$f":"IFERROR(VLOOKUP(INDEX($A:$O,ROW(),MATCH('Rapportage per vraag'!$C$12,'Data leveranciersbeoordeling'!$1:$1,0)),Leveranciersbeoordeling!$H$1:$I$5,2,FALSE),0)","v":0},0]
["",null,null,null,null,null,null,null,null,null,null,null,null,null,null,{"$f":"INDEX($A:$O,ROW(),MATCH('Rapportage per vraag'!$C$12,'Data leveranciersbeoordeling'!$1:$1,0))","v":0},{"$f":"IFERROR(VLOOKUP(INDEX($A:$O,ROW(),MATCH('Rapportage per vraag'!$C$12,'Data leveranciersbeoordeling'!$1:$1,0)),Leveranciersbeoordeling!$H$1:$I$5,2,FALSE),0)","v":0},0]
["",null,null,null,null,null,null,null,null,null,null,null,null,null,null,{"$f":"INDEX($A:$O,ROW(),MATCH('Rapportage per vraag'!$C$12,'Data leveranciersbeoordeling'!$1:$1,0))","v":0},{"$f":"IFERROR(VLOOKUP(INDEX($A:$O,ROW(),MATCH('Rapportage per vraag'!$C$12,'Data leveranciersbeoordeling'!$1:$1,0)),Leveranciersbeoordeling!$H$1:$I$5,2,FALSE),0)","v":0},0]
["",null,null,null,null,null,null,null,null,null,null,null,null,null,null,{"$f":"INDEX($A:$O,ROW(),MATCH('Rapportage per vraag'!$C$12,'Data leveranciersbeoordeling'!$1:$1,0))","v":0},{"$f":"IFERROR(VLOOKUP(INDEX($A:$O,ROW(),MATCH('Rapportage per vraag'!$C$12,'Data leveranciersbeoordeling'!$1:$1,0)),Leveranciersbeoordeling!$H$1:$I$5,2,FALSE),0)","v":0},0]
["",null,null,null,null,null,null,null,null,null,null,null,null,null,null,{"$f":"INDEX($A:$O,ROW(),MATCH('Rapportage per vraag'!$C$12,'Data leveranciersbeoordeling'!$1:$1,0))","v":0},{"$f":"IFERROR(VLOOKUP(INDEX($A:$O,ROW(),MATCH('Rapportage per vraag'!$C$12,'Data leveranciersbeoordeling'!$1:$1,0)),Leveranciersbeoordeling!$H$1:$I$5,2,FALSE),0)","v":0},0]
["",null,null,null,null,null,null,null,null,null,null,null,null,null,null,{"$f":"INDEX($A:$O,ROW(),MATCH('Rapportage per vraag'!$C$12,'Data leveranciersbeoordeling'!$1:$1,0))","v":0},{"$f":"IFERROR(VLOOKUP(INDEX($A:$O,ROW(),MATCH('Rapportage per vraag'!$C$12,'Data leveranciersbeoordeling'!$1:$1,0)),Leveranciersbeoordeling!$H$1:$I$5,2,FALSE),0)","v":0},0]
["",null,null,null,null,null,null,null,null,null,null,null,null,null,null,{"$f":"INDEX($A:$O,ROW(),MATCH('Rapportage per vraag'!$C$12,'Data leveranciersbeoordeling'!$1:$1,0))","v":0},{"$f":"IFERROR(VLOOKUP(INDEX($A:$O,ROW(),MATCH('Rapportage per vraag'!$C$12,'Data leveranciersbeoordeling'!$1:$1,0)),Leveranciersbeoordeling!$H$1:$I$5,2,FALSE),0)","v":0},0]
["",null,null,null,null,null,null,null,null,null,null,null,null,null,null,{"$f":"INDEX($A:$O,ROW(),MATCH('Rapportage per vraag'!$C$12,'Data leveranciersbeoordeling'!$1:$1,0))","v":0},{"$f":"IFERROR(VLOOKUP(INDEX($A:$O,ROW(),MATCH('Rapportage per vraag'!$C$12,'Data leveranciersbeoordeling'!$1:$1,0)),Leveranciersbeoordeling!$H$1:$I$5,2,FALSE),0)","v":0},0]
["",null,null,null,null,null,null,null,null,null,null,null,null,null,null,{"$f":"INDEX($A:$O,ROW(),MATCH('Rapportage per vraag'!$C$12,'Data leveranciersbeoordeling'!$1:$1,0))","v":0},{"$f":"IFERROR(VLOOKUP(INDEX($A:$O,ROW(),MATCH('Rapportage per vraag'!$C$12,'Data leveranciersbeoordeling'!$1:$1,0)),Leveranciersbeoordeling!$H$1:$I$5,2,FALSE),0)","v":0},0]
["",null,null,null,null,null,null,null,null,null,null,null,null,null,null,{"$f":"INDEX($A:$O,ROW(),MATCH('Rapportage per vraag'!$C$12,'Data leveranciersbeoordeling'!$1:$1,0))","v":0},{"$f":"IFERROR(VLOOKUP(INDEX($A:$O,ROW(),MATCH('Rapportage per vraag'!$C$12,'Data leveranciersbeoordeling'!$1:$1,0)),Leveranciersbeoordeling!$H$1:$I$5,2,FALSE),0)","v":0},0]
["",null,null,null,null,null,null,null,null,null,null,null,null,null,null,{"$f":"INDEX($A:$O,ROW(),MATCH('Rapportage per vraag'!$C$12,'Data leveranciersbeoordeling'!$1:$1,0))","v":0},{"$f":"IFERROR(VLOOKUP(INDEX($A:$O,ROW(),MATCH('Rapportage per vraag'!$C$12,'Data leveranciersbeoordeling'!$1:$1,0)),Leveranciersbeoordeling!$H$1:$I$5,2,FALSE),0)","v":0},0]
["",null,null,null,null,null,null,null,null,null,null,null,null,null,null,{"$f":"INDEX($A:$O,ROW(),MATCH('Rapportage per vraag'!$C$12,'Data leveranciersbeoordeling'!$1:$1,0))","v":0},{"$f":"IFERROR(VLOOKUP(INDEX($A:$O,ROW(),MATCH('Rapportage per vraag'!$C$12,'Data leveranciersbeoordeling'!$1:$1,0)),Leveranciersbeoordeling!$H$1:$I$5,2,FALSE),0)","v":0},0]
["",null,null,null,null,null,null,null,null,null,null,null,null,null,null,{"$f":"INDEX($A:$O,ROW(),MATCH('Rapportage per vraag'!$C$12,'Data leveranciersbeoordeling'!$1:$1,0))","v":0},{"$f":"IFERROR(VLOOKUP(INDEX($A:$O,ROW(),MATCH('Rapportage per vraag'!$C$12,'Data leveranciersbeoordeling'!$1:$1,0)),Leveranciersbeoordeling!$H$1:$I$5,2,FALSE),0)","v":0},0]
["",null,null,null,null,null,null,null,null,null,null,null,null,null,null,{"$f":"INDEX($A:$O,ROW(),MATCH('Rapportage per vraag'!$C$12,'Data leveranciersbeoordeling'!$1:$1,0))","v":0},{"$f":"IFERROR(VLOOKUP(INDEX($A:$O,ROW(),MATCH('Rapportage per vraag'!$C$12,'Data leveranciersbeoordeling'!$1:$1,0)),Leveranciersbeoordeling!$H$1:$I$5,2,FALSE),0)","v":0},0]
["",null,null,null,null,null,null,null,null,null,null,null,null,null,null,{"$f":"INDEX($A:$O,ROW(),MATCH('Rapportage per vraag'!$C$12,'Data leveranciersbeoordeling'!$1:$1,0))","v":0},{"$f":"IFERROR(VLOOKUP(INDEX($A:$O,ROW(),MATCH('Rapportage per vraag'!$C$12,'Data leveranciersbeoordeling'!$1:$1,0)),Leveranciersbeoordeling!$H$1:$I$5,2,FALSE),0)","v":0},0]
["",null,null,null,null,null,null,null,null,null,null,null,null,null,null,{"$f":"INDEX($A:$O,ROW(),MATCH('Rapportage per vraag'!$C$12,'Data leveranciersbeoordeling'!$1:$1,0))","v":0},{"$f":"IFERROR(VLOOKUP(INDEX($A:$O,ROW(),MATCH('Rapportage per vraag'!$C$12,'Data leveranciersbeoordeling'!$1:$1,0)),Leveranciersbeoordeling!$H$1:$I$5,2,FALSE),0)","v":0},0]
["",null,null,null,null,null,null,null,null,null,null,null,null,null,null,{"$f":"INDEX($A:$O,ROW(),MATCH('Rapportage per vraag'!$C$12,'Data leveranciersbeoordeling'!$1:$1,0))","v":0},{"$f":"IFERROR(VLOOKUP(INDEX($A:$O,ROW(),MATCH('Rapportage per vraag'!$C$12,'Data leveranciersbeoordeling'!$1:$1,0)),Leveranciersbeoordeling!$H$1:$I$5,2,FALSE),0)","v":0},0]
["",null,null,null,null,null,null,null,null,null,null,null,null,null,null,{"$f":"INDEX($A:$O,ROW(),MATCH('Rapportage per vraag'!$C$12,'Data leveranciersbeoordeling'!$1:$1,0))","v":0},{"$f":"IFERROR(VLOOKUP(INDEX($A:$O,ROW(),MATCH('Rapportage per vraag'!$C$12,'Data leveranciersbeoordeling'!$1:$1,0)),Leveranciersbeoordeling!$H$1:$I$5,2,FALSE),0)","v":0},0]
["",null,null,null,null,null,null,null,null,null,null,null,null,null,null,{"$f":"INDEX($A:$O,ROW(),MATCH('Rapportage per vraag'!$C$12,'Data leveranciersbeoordeling'!$1:$1,0))","v":0},{"$f":"IFERROR(VLOOKUP(INDEX($A:$O,ROW(),MATCH('Rapportage per vraag'!$C$12,'Data leveranciersbeoordeling'!$1:$1,0)),Leveranciersbeoordeling!$H$1:$I$5,2,FALSE),0)","v":0},0]
["",null,null,null,null,null,null,null,null,null,null,null,null,null,null,{"$f":"INDEX($A:$O,ROW(),MATCH('Rapportage per vraag'!$C$12,'Data leveranciersbeoordeling'!$1:$1,0))","v":0},{"$f":"IFERROR(VLOOKUP(INDEX($A:$O,ROW(),MATCH('Rapportage per vraag'!$C$12,'Data leveranciersbeoordeling'!$1:$1,0)),Leveranciersbeoordeling!$H$1:$I$5,2,FALSE),0)","v":0},0]
["",null,null,null,null,null,null,null,null,null,null,null,null,null,null,{"$f":"INDEX($A:$O,ROW(),MATCH('Rapportage per vraag'!$C$12,'Data leveranciersbeoordeling'!$1:$1,0))","v":0},{"$f":"IFERROR(VLOOKUP(INDEX($A:$O,ROW(),MATCH('Rapportage per vraag'!$C$12,'Data leveranciersbeoordeling'!$1:$1,0)),Leveranciersbeoordeling!$H$1:$I$5,2,FALSE),0)","v":0},0]
["",null,null,null,null,null,null,null,null,null,null,null,null,null,null,{"$f":"INDEX($A:$O,ROW(),MATCH('Rapportage per vraag'!$C$12,'Data leveranciersbeoordeling'!$1:$1,0))","v":0},{"$f":"IFERROR(VLOOKUP(INDEX($A:$O,ROW(),MATCH('Rapportage per vraag'!$C$12,'Data leveranciersbeoordeling'!$1:$1,0)),Leveranciersbeoordeling!$H$1:$I$5,2,FALSE),0)","v":0},0]
["",null,null,null,null,null,null,null,null,null,null,null,null,null,null,{"$f":"INDEX($A:$O,ROW(),MATCH('Rapportage per vraag'!$C$12,'Data leveranciersbeoordeling'!$1:$1,0))","v":0},{"$f":"IFERROR(VLOOKUP(INDEX($A:$O,ROW(),MATCH('Rapportage per vraag'!$C$12,'Data leveranciersbeoordeling'!$1:$1,0)),Leveranciersbeoordeling!$H$1:$I$5,2,FALSE),0)","v":0},0]
["",null,null,null,null,null,null,null,null,null,null,null,null,null,null,{"$f":"INDEX($A:$O,ROW(),MATCH('Rapportage per vraag'!$C$12,'Data leveranciersbeoordeling'!$1:$1,0))","v":0},{"$f":"IFERROR(VLOOKUP(INDEX($A:$O,ROW(),MATCH('Rapportage per vraag'!$C$12,'Data leveranciersbeoordeling'!$1:$1,0)),Leveranciersbeoordeling!$H$1:$I$5,2,FALSE),0)","v":0},0]
["",null,null,null,null,null,null,null,null,null,null,null,null,null,null,{"$f":"INDEX($A:$O,ROW(),MATCH('Rapportage per vraag'!$C$12,'Data leveranciersbeoordeling'!$1:$1,0))","v":0},{"$f":"IFERROR(VLOOKUP(INDEX($A:$O,ROW(),MATCH('Rapportage per vraag'!$C$12,'Data leveranciersbeoordeling'!$1:$1,0)),Leveranciersbeoordeling!$H$1:$I$5,2,FALSE),0)","v":0},0]
["",null,null,null,null,null,null,null,null,null,null,null,null,null,null,{"$f":"INDEX($A:$O,ROW(),MATCH('Rapportage per vraag'!$C$12,'Data leveranciersbeoordeling'!$1:$1,0))","v":0},{"$f":"IFERROR(VLOOKUP(INDEX($A:$O,ROW(),MATCH('Rapportage per vraag'!$C$12,'Data leveranciersbeoordeling'!$1:$1,0)),Leveranciersbeoordeling!$H$1:$I$5,2,FALSE),0)","v":0},0]
["",null,null,null,null,null,null,null,null,null,null,null,null,null,null,{"$f":"INDEX($A:$O,ROW(),MATCH('Rapportage per vraag'!$C$12,'Data leveranciersbeoordeling'!$1:$1,0))","v":0},{"$f":"IFERROR(VLOOKUP(INDEX($A:$O,ROW(),MATCH('Rapportage per vraag'!$C$12,'Data leveranciersbeoordeling'!$1:$1,0)),Leveranciersbeoordeling!$H$1:$I$5,2,FALSE),0)","v":0},0]
["",null,null,null,null,null,null,null,null,null,null,null,null,null,null,{"$f":"INDEX($A:$O,ROW(),MATCH('Rapportage per vraag'!$C$12,'Data leveranciersbeoordeling'!$1:$1,0))","v":0},{"$f":"IFERROR(VLOOKUP(INDEX($A:$O,ROW(),MATCH('Rapportage per vraag'!$C$12,'Data leveranciersbeoordeling'!$1:$1,0)),Leveranciersbeoordeling!$H$1:$I$5,2,FALSE),0)","v":0},0]
["",null,null,null,null,null,null,null,null,null,null,null,null,null,null,{"$f":"INDEX($A:$O,ROW(),MATCH('Rapportage per vraag'!$C$12,'Data leveranciersbeoordeling'!$1:$1,0))","v":0},{"$f":"IFERROR(VLOOKUP(INDEX($A:$O,ROW(),MATCH('Rapportage per vraag'!$C$12,'Data leveranciersbeoordeling'!$1:$1,0)),Leveranciersbeoordeling!$H$1:$I$5,2,FALSE),0)","v":0},0]
["",null,null,null,null,null,null,null,null,null,null,null,null,null,null,{"$f":"INDEX($A:$O,ROW(),MATCH('Rapportage per vraag'!$C$12,'Data leveranciersbeoordeling'!$1:$1,0))","v":0},{"$f":"IFERROR(VLOOKUP(INDEX($A:$O,ROW(),MATCH('Rapportage per vraag'!$C$12,'Data leveranciersbeoordeling'!$1:$1,0)),Leveranciersbeoordeling!$H$1:$I$5,2,FALSE),0)","v":0},0]
["",null,null,null,null,null,null,null,null,null,null,null,null,null,null,{"$f":"INDEX($A:$O,ROW(),MATCH('Rapportage per vraag'!$C$12,'Data leveranciersbeoordeling'!$1:$1,0))","v":0},{"$f":"IFERROR(VLOOKUP(INDEX($A:$O,ROW(),MATCH('Rapportage per vraag'!$C$12,'Data leveranciersbeoordeling'!$1:$1,0)),Leveranciersbeoordeling!$H$1:$I$5,2,FALSE),0)","v":0},0]
["",null,null,null,null,null,null,null,null,null,null,null,null,null,null,{"$f":"INDEX($A:$O,ROW(),MATCH('Rapportage per vraag'!$C$12,'Data leveranciersbeoordeling'!$1:$1,0))","v":0},{"$f":"IFERROR(VLOOKUP(INDEX($A:$O,ROW(),MATCH('Rapportage per vraag'!$C$12,'Data leveranciersbeoordeling'!$1:$1,0)),Leveranciersbeoordeling!$H$1:$I$5,2,FALSE),0)","v":0},0]
["",null,null,null,null,null,null,null,null,null,null,null,null,null,null,{"$f":"INDEX($A:$O,ROW(),MATCH('Rapportage per vraag'!$C$12,'Data leveranciersbeoordeling'!$1:$1,0))","v":0},{"$f":"IFERROR(VLOOKUP(INDEX($A:$O,ROW(),MATCH('Rapportage per vraag'!$C$12,'Data leveranciersbeoordeling'!$1:$1,0)),Leveranciersbeoordeling!$H$1:$I$5,2,FALSE),0)","v":0},0]
["",null,null,null,null,null,null,null,null,null,null,null,null,null,null,{"$f":"INDEX($A:$O,ROW(),MATCH('Rapportage per vraag'!$C$12,'Data leveranciersbeoordeling'!$1:$1,0))","v":0},{"$f":"IFERROR(VLOOKUP(INDEX($A:$O,ROW(),MATCH('Rapportage per vraag'!$C$12,'Data leveranciersbeoordeling'!$1:$1,0)),Leveranciersbeoordeling!$H$1:$I$5,2,FALSE),0)","v":0},0]
["",null,null,null,null,null,null,null,null,null,null,null,null,null,null,{"$f":"INDEX($A:$O,ROW(),MATCH('Rapportage per vraag'!$C$12,'Data leveranciersbeoordeling'!$1:$1,0))","v":0},{"$f":"IFERROR(VLOOKUP(INDEX($A:$O,ROW(),MATCH('Rapportage per vraag'!$C$12,'Data leveranciersbeoordeling'!$1:$1,0)),Leveranciersbeoordeling!$H$1:$I$5,2,FALSE),0)","v":0},0]
["",null,null,null,null,null,null,null,null,null,null,null,null,null,null,{"$f":"INDEX($A:$O,ROW(),MATCH('Rapportage per vraag'!$C$12,'Data leveranciersbeoordeling'!$1:$1,0))","v":0},{"$f":"IFERROR(VLOOKUP(INDEX($A:$O,ROW(),MATCH('Rapportage per vraag'!$C$12,'Data leveranciersbeoordeling'!$1:$1,0)),Leveranciersbeoordeling!$H$1:$I$5,2,FALSE),0)","v":0},0]
["",null,null,null,null,null,null,null,null,null,null,null,null,null,null,{"$f":"INDEX($A:$O,ROW(),MATCH('Rapportage per vraag'!$C$12,'Data leveranciersbeoordeling'!$1:$1,0))","v":0},{"$f":"IFERROR(VLOOKUP(INDEX($A:$O,ROW(),MATCH('Rapportage per vraag'!$C$12,'Data leveranciersbeoordeling'!$1:$1,0)),Leveranciersbeoordeling!$H$1:$I$5,2,FALSE),0)","v":0},0]
["",null,null,null,null,null,null,null,null,null,null,null,null,null,null,{"$f":"INDEX($A:$O,ROW(),MATCH('Rapportage per vraag'!$C$12,'Data leveranciersbeoordeling'!$1:$1,0))","v":0},{"$f":"IFERROR(VLOOKUP(INDEX($A:$O,ROW(),MATCH('Rapportage per vraag'!$C$12,'Data leveranciersbeoordeling'!$1:$1,0)),Leveranciersbeoordeling!$H$1:$I$5,2,FALSE),0)","v":0},0]
["",null,null,null,null,null,null,null,null,null,null,null,null,null,null,{"$f":"INDEX($A:$O,ROW(),MATCH('Rapportage per vraag'!$C$12,'Data leveranciersbeoordeling'!$1:$1,0))","v":0},{"$f":"IFERROR(VLOOKUP(INDEX($A:$O,ROW(),MATCH('Rapportage per vraag'!$C$12,'Data leveranciersbeoordeling'!$1:$1,0)),Leveranciersbeoordeling!$H$1:$I$5,2,FALSE),0)","v":0},0]
["",null,null,null,null,null,null,null,null,null,null,null,null,null,null,{"$f":"INDEX($A:$O,ROW(),MATCH('Rapportage per vraag'!$C$12,'Data leveranciersbeoordeling'!$1:$1,0))","v":0},{"$f":"IFERROR(VLOOKUP(INDEX($A:$O,ROW(),MATCH('Rapportage per vraag'!$C$12,'Data leveranciersbeoordeling'!$1:$1,0)),Leveranciersbeoordeling!$H$1:$I$5,2,FALSE),0)","v":0},0]
["",null,null,null,null,null,null,null,null,null,null,null,null,null,null,{"$f":"INDEX($A:$O,ROW(),MATCH('Rapportage per vraag'!$C$12,'Data leveranciersbeoordeling'!$1:$1,0))","v":0},{"$f":"IFERROR(VLOOKUP(INDEX($A:$O,ROW(),MATCH('Rapportage per vraag'!$C$12,'Data leveranciersbeoordeling'!$1:$1,0)),Leveranciersbeoordeling!$H$1:$I$5,2,FALSE),0)","v":0},0]
["",null,null,null,null,null,null,null,null,null,null,null,null,null,null,{"$f":"INDEX($A:$O,ROW(),MATCH('Rapportage per vraag'!$C$12,'Data leveranciersbeoordeling'!$1:$1,0))","v":0},{"$f":"IFERROR(VLOOKUP(INDEX($A:$O,ROW(),MATCH('Rapportage per vraag'!$C$12,'Data leveranciersbeoordeling'!$1:$1,0)),Leveranciersbeoordeling!$H$1:$I$5,2,FALSE),0)","v":0},0]
["",null,null,null,null,null,null,null,null,null,null,null,null,null,null,{"$f":"INDEX($A:$O,ROW(),MATCH('Rapportage per vraag'!$C$12,'Data leveranciersbeoordeling'!$1:$1,0))","v":0},{"$f":"IFERROR(VLOOKUP(INDEX($A:$O,ROW(),MATCH('Rapportage per vraag'!$C$12,'Data leveranciersbeoordeling'!$1:$1,0)),Leveranciersbeoordeling!$H$1:$I$5,2,FALSE),0)","v":0},0]
["",null,null,null,null,null,null,null,null,null,null,null,null,null,null,{"$f":"INDEX($A:$O,ROW(),MATCH('Rapportage per vraag'!$C$12,'Data leveranciersbeoordeling'!$1:$1,0))","v":0},{"$f":"IFERROR(VLOOKUP(INDEX($A:$O,ROW(),MATCH('Rapportage per vraag'!$C$12,'Data leveranciersbeoordeling'!$1:$1,0)),Leveranciersbeoordeling!$H$1:$I$5,2,FALSE),0)","v":0},0]
["",null,null,null,null,null,null,null,null,null,null,null,null,null,null,{"$f":"INDEX($A:$O,ROW(),MATCH('Rapportage per vraag'!$C$12,'Data leveranciersbeoordeling'!$1:$1,0))","v":0},{"$f":"IFERROR(VLOOKUP(INDEX($A:$O,ROW(),MATCH('Rapportage per vraag'!$C$12,'Data leveranciersbeoordeling'!$1:$1,0)),Leveranciersbeoordeling!$H$1:$I$5,2,FALSE),0)","v":0},0]
["",null,null,null,null,null,null,null,null,null,null,null,null,null,null,{"$f":"INDEX($A:$O,ROW(),MATCH('Rapportage per vraag'!$C$12,'Data leveranciersbeoordeling'!$1:$1,0))","v":0},{"$f":"IFERROR(VLOOKUP(INDEX($A:$O,ROW(),MATCH('Rapportage per vraag'!$C$12,'Data leveranciersbeoordeling'!$1:$1,0)),Leveranciersbeoordeling!$H$1:$I$5,2,FALSE),0)","v":0},0]
["",null,null,null,null,null,null,null,null,null,null,null,null,null,null,{"$f":"INDEX($A:$O,ROW(),MATCH('Rapportage per vraag'!$C$12,'Data leveranciersbeoordeling'!$1:$1,0))","v":0},{"$f":"IFERROR(VLOOKUP(INDEX($A:$O,ROW(),MATCH('Rapportage per vraag'!$C$12,'Data leveranciersbeoordeling'!$1:$1,0)),Leveranciersbeoordeling!$H$1:$I$5,2,FALSE),0)","v":0},0]
["",null,null,null,null,null,null,null,null,null,null,null,null,null,null,{"$f":"INDEX($A:$O,ROW(),MATCH('Rapportage per vraag'!$C$12,'Data leveranciersbeoordeling'!$1:$1,0))","v":0},{"$f":"IFERROR(VLOOKUP(INDEX($A:$O,ROW(),MATCH('Rapportage per vraag'!$C$12,'Data leveranciersbeoordeling'!$1:$1,0)),Leveranciersbeoordeling!$H$1:$I$5,2,FALSE),0)","v":0},0]
["",null,null,null,null,null,null,null,null,null,null,null,null,null,null,{"$f":"INDEX($A:$O,ROW(),MATCH('Rapportage per vraag'!$C$12,'Data leveranciersbeoordeling'!$1:$1,0))","v":0},{"$f":"IFERROR(VLOOKUP(INDEX($A:$O,ROW(),MATCH('Rapportage per vraag'!$C$12,'Data leveranciersbeoordeling'!$1:$1,0)),Leveranciersbeoordeling!$H$1:$I$5,2,FALSE),0)","v":0},0]
["",null,null,null,null,null,null,null,null,null,null,null,null,null,null,{"$f":"INDEX($A:$O,ROW(),MATCH('Rapportage per vraag'!$C$12,'Data leveranciersbeoordeling'!$1:$1,0))","v":0},{"$f":"IFERROR(VLOOKUP(INDEX($A:$O,ROW(),MATCH('Rapportage per vraag'!$C$12,'Data leveranciersbeoordeling'!$1:$1,0)),Leveranciersbeoordeling!$H$1:$I$5,2,FALSE),0)","v":0},0]
["",null,null,null,null,null,null,null,null,null,null,null,null,null,null,{"$f":"INDEX($A:$O,ROW(),MATCH('Rapportage per vraag'!$C$12,'Data leveranciersbeoordeling'!$1:$1,0))","v":0},{"$f":"IFERROR(VLOOKUP(INDEX($A:$O,ROW(),MATCH('Rapportage per vraag'!$C$12,'Data leveranciersbeoordeling'!$1:$1,0)),Leveranciersbeoordeling!$H$1:$I$5,2,FALSE),0)","v":0},0]
["",null,null,null,null,null,null,null,null,null,null,null,null,null,null,{"$f":"INDEX($A:$O,ROW(),MATCH('Rapportage per vraag'!$C$12,'Data leveranciersbeoordeling'!$1:$1,0))","v":0},{"$f":"IFERROR(VLOOKUP(INDEX($A:$O,ROW(),MATCH('Rapportage per vraag'!$C$12,'Data leveranciersbeoordeling'!$1:$1,0)),Leveranciersbeoordeling!$H$1:$I$5,2,FALSE),0)","v":0},0]
[{"$f":"CONCATENATE(B1283,C1283,D1283)","v":""},null,null,null,null,null,null,null,null,null,null,null,null,null,null,{"$f":"INDEX($A:$O,ROW(),MATCH('Rapportage per vraag'!$C$12,'Data leveranciersbeoordeling'!$1:$1,0))","v":0},{"$f":"IFERROR(VLOOKUP(INDEX($A:$O,ROW(),MATCH('Rapportage per vraag'!$C$12,'Data leveranciersbeoordeling'!$1:$1,0)),Leveranciersbeoordeling!$H$1:$I$5,2,FALSE),0)","v":0},0]
["",null,null,null,null,null,null,null,null,null,null,null,null,null,null,{"$f":"INDEX($A:$O,ROW(),MATCH('Rapportage per vraag'!$C$12,'Data leveranciersbeoordeling'!$1:$1,0))","v":0},{"$f":"IFERROR(VLOOKUP(INDEX($A:$O,ROW(),MATCH('Rapportage per vraag'!$C$12,'Data leveranciersbeoordeling'!$1:$1,0)),Leveranciersbeoordeling!$H$1:$I$5,2,FALSE),0)","v":0},0]
["",null,null,null,null,null,null,null,null,null,null,null,null,null,null,{"$f":"INDEX($A:$O,ROW(),MATCH('Rapportage per vraag'!$C$12,'Data leveranciersbeoordeling'!$1:$1,0))","v":0},{"$f":"IFERROR(VLOOKUP(INDEX($A:$O,ROW(),MATCH('Rapportage per vraag'!$C$12,'Data leveranciersbeoordeling'!$1:$1,0)),Leveranciersbeoordeling!$H$1:$I$5,2,FALSE),0)","v":0},0]
["",null,null,null,null,null,null,null,null,null,null,null,null,null,null,{"$f":"INDEX($A:$O,ROW(),MATCH('Rapportage per vraag'!$C$12,'Data leveranciersbeoordeling'!$1:$1,0))","v":0},{"$f":"IFERROR(VLOOKUP(INDEX($A:$O,ROW(),MATCH('Rapportage per vraag'!$C$12,'Data leveranciersbeoordeling'!$1:$1,0)),Leveranciersbeoordeling!$H$1:$I$5,2,FALSE),0)","v":0},{"$f":"IF(T(P1286)=P1286,Q1286,P1286)","v":0}]
["",null,null,null,null,null,null,null,null,null,null,null,null,null,null,{"$f":"INDEX($A:$O,ROW(),MATCH('Rapportage per vraag'!$C$12,'Data leveranciersbeoordeling'!$1:$1,0))","v":0},{"$f":"IFERROR(VLOOKUP(INDEX($A:$O,ROW(),MATCH('Rapportage per vraag'!$C$12,'Data leveranciersbeoordeling'!$1:$1,0)),Leveranciersbeoordeling!$H$1:$I$5,2,FALSE),0)","v":0},0]
["",null,null,null,null,null,null,null,null,null,null,null,null,null,null,{"$f":"INDEX($A:$O,ROW(),MATCH('Rapportage per vraag'!$C$12,'Data leveranciersbeoordeling'!$1:$1,0))","v":0},{"$f":"IFERROR(VLOOKUP(INDEX($A:$O,ROW(),MATCH('Rapportage per vraag'!$C$12,'Data leveranciersbeoordeling'!$1:$1,0)),Leveranciersbeoordeling!$H$1:$I$5,2,FALSE),0)","v":0},0]
["",null,null,null,null,null,null,null,null,null,null,null,null,null,null,{"$f":"INDEX($A:$O,ROW(),MATCH('Rapportage per vraag'!$C$12,'Data leveranciersbeoordeling'!$1:$1,0))","v":0},{"$f":"IFERROR(VLOOKUP(INDEX($A:$O,ROW(),MATCH('Rapportage per vraag'!$C$12,'Data leveranciersbeoordeling'!$1:$1,0)),Leveranciersbeoordeling!$H$1:$I$5,2,FALSE),0)","v":0},0]
["",null,null,null,null,null,null,null,null,null,null,null,null,null,null,{"$f":"INDEX($A:$O,ROW(),MATCH('Rapportage per vraag'!$C$12,'Data leveranciersbeoordeling'!$1:$1,0))","v":0},{"$f":"IFERROR(VLOOKUP(INDEX($A:$O,ROW(),MATCH('Rapportage per vraag'!$C$12,'Data leveranciersbeoordeling'!$1:$1,0)),Leveranciersbeoordeling!$H$1:$I$5,2,FALSE),0)","v":0},0]
["",null,null,null,null,null,null,null,null,null,null,null,null,null,null,{"$f":"INDEX($A:$O,ROW(),MATCH('Rapportage per vraag'!$C$12,'Data leveranciersbeoordeling'!$1:$1,0))","v":0},{"$f":"IFERROR(VLOOKUP(INDEX($A:$O,ROW(),MATCH('Rapportage per vraag'!$C$12,'Data leveranciersbeoordeling'!$1:$1,0)),Leveranciersbeoordeling!$H$1:$I$5,2,FALSE),0)","v":0},0]
["",null,null,null,null,null,null,null,null,null,null,null,null,null,null,{"$f":"INDEX($A:$O,ROW(),MATCH('Rapportage per vraag'!$C$12,'Data leveranciersbeoordeling'!$1:$1,0))","v":0},{"$f":"IFERROR(VLOOKUP(INDEX($A:$O,ROW(),MATCH('Rapportage per vraag'!$C$12,'Data leveranciersbeoordeling'!$1:$1,0)),Leveranciersbeoordeling!$H$1:$I$5,2,FALSE),0)","v":0},0]
["",null,null,null,null,null,null,null,null,null,null,null,null,null,null,{"$f":"INDEX($A:$O,ROW(),MATCH('Rapportage per vraag'!$C$12,'Data leveranciersbeoordeling'!$1:$1,0))","v":0},{"$f":"IFERROR(VLOOKUP(INDEX($A:$O,ROW(),MATCH('Rapportage per vraag'!$C$12,'Data leveranciersbeoordeling'!$1:$1,0)),Leveranciersbeoordeling!$H$1:$I$5,2,FALSE),0)","v":0},0]
["",null,null,null,null,null,null,null,null,null,null,null,null,null,null,{"$f":"INDEX($A:$O,ROW(),MATCH('Rapportage per vraag'!$C$12,'Data leveranciersbeoordeling'!$1:$1,0))","v":0},{"$f":"IFERROR(VLOOKUP(INDEX($A:$O,ROW(),MATCH('Rapportage per vraag'!$C$12,'Data leveranciersbeoordeling'!$1:$1,0)),Leveranciersbeoordeling!$H$1:$I$5,2,FALSE),0)","v":0},0]
["",null,null,null,null,null,null,null,null,null,null,null,null,null,null,{"$f":"INDEX($A:$O,ROW(),MATCH('Rapportage per vraag'!$C$12,'Data leveranciersbeoordeling'!$1:$1,0))","v":0},{"$f":"IFERROR(VLOOKUP(INDEX($A:$O,ROW(),MATCH('Rapportage per vraag'!$C$12,'Data leveranciersbeoordeling'!$1:$1,0)),Leveranciersbeoordeling!$H$1:$I$5,2,FALSE),0)","v":0},0]
["",null,null,null,null,null,null,null,null,null,null,null,null,null,null,{"$f":"INDEX($A:$O,ROW(),MATCH('Rapportage per vraag'!$C$12,'Data leveranciersbeoordeling'!$1:$1,0))","v":0},{"$f":"IFERROR(VLOOKUP(INDEX($A:$O,ROW(),MATCH('Rapportage per vraag'!$C$12,'Data leveranciersbeoordeling'!$1:$1,0)),Leveranciersbeoordeling!$H$1:$I$5,2,FALSE),0)","v":0},0]
["",null,null,null,null,null,null,null,null,null,null,null,null,null,null,{"$f":"INDEX($A:$O,ROW(),MATCH('Rapportage per vraag'!$C$12,'Data leveranciersbeoordeling'!$1:$1,0))","v":0},{"$f":"IFERROR(VLOOKUP(INDEX($A:$O,ROW(),MATCH('Rapportage per vraag'!$C$12,'Data leveranciersbeoordeling'!$1:$1,0)),Leveranciersbeoordeling!$H$1:$I$5,2,FALSE),0)","v":0},0]
["",null,null,null,null,null,null,null,null,null,null,null,null,null,null,{"$f":"INDEX($A:$O,ROW(),MATCH('Rapportage per vraag'!$C$12,'Data leveranciersbeoordeling'!$1:$1,0))","v":0},{"$f":"IFERROR(VLOOKUP(INDEX($A:$O,ROW(),MATCH('Rapportage per vraag'!$C$12,'Data leveranciersbeoordeling'!$1:$1,0)),Leveranciersbeoordeling!$H$1:$I$5,2,FALSE),0)","v":0},0]
["",null,null,null,null,null,null,null,null,null,null,null,null,null,null,{"$f":"INDEX($A:$O,ROW(),MATCH('Rapportage per vraag'!$C$12,'Data leveranciersbeoordeling'!$1:$1,0))","v":0},{"$f":"IFERROR(VLOOKUP(INDEX($A:$O,ROW(),MATCH('Rapportage per vraag'!$C$12,'Data leveranciersbeoordeling'!$1:$1,0)),Leveranciersbeoordeling!$H$1:$I$5,2,FALSE),0)","v":0},0]
["",null,null,null,null,null,null,null,null,null,null,null,null,null,null,{"$f":"INDEX($A:$O,ROW(),MATCH('Rapportage per vraag'!$C$12,'Data leveranciersbeoordeling'!$1:$1,0))","v":0},{"$f":"IFERROR(VLOOKUP(INDEX($A:$O,ROW(),MATCH('Rapportage per vraag'!$C$12,'Data leveranciersbeoordeling'!$1:$1,0)),Leveranciersbeoordeling!$H$1:$I$5,2,FALSE),0)","v":0},0]
["",null,null,null,null,null,null,null,null,null,null,null,null,null,null,{"$f":"INDEX($A:$O,ROW(),MATCH('Rapportage per vraag'!$C$12,'Data leveranciersbeoordeling'!$1:$1,0))","v":0},{"$f":"IFERROR(VLOOKUP(INDEX($A:$O,ROW(),MATCH('Rapportage per vraag'!$C$12,'Data leveranciersbeoordeling'!$1:$1,0)),Leveranciersbeoordeling!$H$1:$I$5,2,FALSE),0)","v":0},0]
["",null,null,null,null,null,null,null,null,null,null,null,null,null,null,{"$f":"INDEX($A:$O,ROW(),MATCH('Rapportage per vraag'!$C$12,'Data leveranciersbeoordeling'!$1:$1,0))","v":0},{"$f":"IFERROR(VLOOKUP(INDEX($A:$O,ROW(),MATCH('Rapportage per vraag'!$C$12,'Data leveranciersbeoordeling'!$1:$1,0)),Leveranciersbeoordeling!$H$1:$I$5,2,FALSE),0)","v":0},0]
["",null,null,null,null,null,null,null,null,null,null,null,null,null,null,{"$f":"INDEX($A:$O,ROW(),MATCH('Rapportage per vraag'!$C$12,'Data leveranciersbeoordeling'!$1:$1,0))","v":0},{"$f":"IFERROR(VLOOKUP(INDEX($A:$O,ROW(),MATCH('Rapportage per vraag'!$C$12,'Data leveranciersbeoordeling'!$1:$1,0)),Leveranciersbeoordeling!$H$1:$I$5,2,FALSE),0)","v":0},0]
["",null,null,null,null,null,null,null,null,null,null,null,null,null,null,{"$f":"INDEX($A:$O,ROW(),MATCH('Rapportage per vraag'!$C$12,'Data leveranciersbeoordeling'!$1:$1,0))","v":0},{"$f":"IFERROR(VLOOKUP(INDEX($A:$O,ROW(),MATCH('Rapportage per vraag'!$C$12,'Data leveranciersbeoordeling'!$1:$1,0)),Leveranciersbeoordeling!$H$1:$I$5,2,FALSE),0)","v":0},0]
["",null,null,null,null,null,null,null,null,null,null,null,null,null,null,{"$f":"INDEX($A:$O,ROW(),MATCH('Rapportage per vraag'!$C$12,'Data leveranciersbeoordeling'!$1:$1,0))","v":0},{"$f":"IFERROR(VLOOKUP(INDEX($A:$O,ROW(),MATCH('Rapportage per vraag'!$C$12,'Data leveranciersbeoordeling'!$1:$1,0)),Leveranciersbeoordeling!$H$1:$I$5,2,FALSE),0)","v":0},0]
["",null,null,null,null,null,null,null,null,null,null,null,null,null,null,{"$f":"INDEX($A:$O,ROW(),MATCH('Rapportage per vraag'!$C$12,'Data leveranciersbeoordeling'!$1:$1,0))","v":0},{"$f":"IFERROR(VLOOKUP(INDEX($A:$O,ROW(),MATCH('Rapportage per vraag'!$C$12,'Data leveranciersbeoordeling'!$1:$1,0)),Leveranciersbeoordeling!$H$1:$I$5,2,FALSE),0)","v":0},0]
["",null,null,null,null,null,null,null,null,null,null,null,null,null,null,{"$f":"INDEX($A:$O,ROW(),MATCH('Rapportage per vraag'!$C$12,'Data leveranciersbeoordeling'!$1:$1,0))","v":0},{"$f":"IFERROR(VLOOKUP(INDEX($A:$O,ROW(),MATCH('Rapportage per vraag'!$C$12,'Data leveranciersbeoordeling'!$1:$1,0)),Leveranciersbeoordeling!$H$1:$I$5,2,FALSE),0)","v":0},0]
["",null,null,null,null,null,null,null,null,null,null,null,null,null,null,{"$f":"INDEX($A:$O,ROW(),MATCH('Rapportage per vraag'!$C$12,'Data leveranciersbeoordeling'!$1:$1,0))","v":0},{"$f":"IFERROR(VLOOKUP(INDEX($A:$O,ROW(),MATCH('Rapportage per vraag'!$C$12,'Data leveranciersbeoordeling'!$1:$1,0)),Leveranciersbeoordeling!$H$1:$I$5,2,FALSE),0)","v":0},0]
["",null,null,null,null,null,null,null,null,null,null,null,null,null,null,{"$f":"INDEX($A:$O,ROW(),MATCH('Rapportage per vraag'!$C$12,'Data leveranciersbeoordeling'!$1:$1,0))","v":0},{"$f":"IFERROR(VLOOKUP(INDEX($A:$O,ROW(),MATCH('Rapportage per vraag'!$C$12,'Data leveranciersbeoordeling'!$1:$1,0)),Leveranciersbeoordeling!$H$1:$I$5,2,FALSE),0)","v":0},0]
["",null,null,null,null,null,null,null,null,null,null,null,null,null,null,{"$f":"INDEX($A:$O,ROW(),MATCH('Rapportage per vraag'!$C$12,'Data leveranciersbeoordeling'!$1:$1,0))","v":0},{"$f":"IFERROR(VLOOKUP(INDEX($A:$O,ROW(),MATCH('Rapportage per vraag'!$C$12,'Data leveranciersbeoordeling'!$1:$1,0)),Leveranciersbeoordeling!$H$1:$I$5,2,FALSE),0)","v":0},0]
["",null,null,null,null,null,null,null,null,null,null,null,null,null,null,{"$f":"INDEX($A:$O,ROW(),MATCH('Rapportage per vraag'!$C$12,'Data leveranciersbeoordeling'!$1:$1,0))","v":0},{"$f":"IFERROR(VLOOKUP(INDEX($A:$O,ROW(),MATCH('Rapportage per vraag'!$C$12,'Data leveranciersbeoordeling'!$1:$1,0)),Leveranciersbeoordeling!$H$1:$I$5,2,FALSE),0)","v":0},0]
["",null,null,null,null,null,null,null,null,null,null,null,null,null,null,{"$f":"INDEX($A:$O,ROW(),MATCH('Rapportage per vraag'!$C$12,'Data leveranciersbeoordeling'!$1:$1,0))","v":0},{"$f":"IFERROR(VLOOKUP(INDEX($A:$O,ROW(),MATCH('Rapportage per vraag'!$C$12,'Data leveranciersbeoordeling'!$1:$1,0)),Leveranciersbeoordeling!$H$1:$I$5,2,FALSE),0)","v":0},0]
["",null,null,null,null,null,null,null,null,null,null,null,null,null,null,{"$f":"INDEX($A:$O,ROW(),MATCH('Rapportage per vraag'!$C$12,'Data leveranciersbeoordeling'!$1:$1,0))","v":0},{"$f":"IFERROR(VLOOKUP(INDEX($A:$O,ROW(),MATCH('Rapportage per vraag'!$C$12,'Data leveranciersbeoordeling'!$1:$1,0)),Leveranciersbeoordeling!$H$1:$I$5,2,FALSE),0)","v":0},0]
["",null,null,null,null,null,null,null,null,null,null,null,null,null,null,{"$f":"INDEX($A:$O,ROW(),MATCH('Rapportage per vraag'!$C$12,'Data leveranciersbeoordeling'!$1:$1,0))","v":0},{"$f":"IFERROR(VLOOKUP(INDEX($A:$O,ROW(),MATCH('Rapportage per vraag'!$C$12,'Data leveranciersbeoordeling'!$1:$1,0)),Leveranciersbeoordeling!$H$1:$I$5,2,FALSE),0)","v":0},0]
["",null,null,null,null,null,null,null,null,null,null,null,null,null,null,{"$f":"INDEX($A:$O,ROW(),MATCH('Rapportage per vraag'!$C$12,'Data leveranciersbeoordeling'!$1:$1,0))","v":0},{"$f":"IFERROR(VLOOKUP(INDEX($A:$O,ROW(),MATCH('Rapportage per vraag'!$C$12,'Data leveranciersbeoordeling'!$1:$1,0)),Leveranciersbeoordeling!$H$1:$I$5,2,FALSE),0)","v":0},0]
["",null,null,null,null,null,null,null,null,null,null,null,null,null,null,{"$f":"INDEX($A:$O,ROW(),MATCH('Rapportage per vraag'!$C$12,'Data leveranciersbeoordeling'!$1:$1,0))","v":0},{"$f":"IFERROR(VLOOKUP(INDEX($A:$O,ROW(),MATCH('Rapportage per vraag'!$C$12,'Data leveranciersbeoordeling'!$1:$1,0)),Leveranciersbeoordeling!$H$1:$I$5,2,FALSE),0)","v":0},0]
["",null,null,null,null,null,null,null,null,null,null,null,null,null,null,{"$f":"INDEX($A:$O,ROW(),MATCH('Rapportage per vraag'!$C$12,'Data leveranciersbeoordeling'!$1:$1,0))","v":0},{"$f":"IFERROR(VLOOKUP(INDEX($A:$O,ROW(),MATCH('Rapportage per vraag'!$C$12,'Data leveranciersbeoordeling'!$1:$1,0)),Leveranciersbeoordeling!$H$1:$I$5,2,FALSE),0)","v":0},0]
["",null,null,null,null,null,null,null,null,null,null,null,null,null,null,{"$f":"INDEX($A:$O,ROW(),MATCH('Rapportage per vraag'!$C$12,'Data leveranciersbeoordeling'!$1:$1,0))","v":0},{"$f":"IFERROR(VLOOKUP(INDEX($A:$O,ROW(),MATCH('Rapportage per vraag'!$C$12,'Data leveranciersbeoordeling'!$1:$1,0)),Leveranciersbeoordeling!$H$1:$I$5,2,FALSE),0)","v":0},0]
["",null,null,null,null,null,null,null,null,null,null,null,null,null,null,{"$f":"INDEX($A:$O,ROW(),MATCH('Rapportage per vraag'!$C$12,'Data leveranciersbeoordeling'!$1:$1,0))","v":0},{"$f":"IFERROR(VLOOKUP(INDEX($A:$O,ROW(),MATCH('Rapportage per vraag'!$C$12,'Data leveranciersbeoordeling'!$1:$1,0)),Leveranciersbeoordeling!$H$1:$I$5,2,FALSE),0)","v":0},0]
["",null,null,null,null,null,null,null,null,null,null,null,null,null,null,{"$f":"INDEX($A:$O,ROW(),MATCH('Rapportage per vraag'!$C$12,'Data leveranciersbeoordeling'!$1:$1,0))","v":0},{"$f":"IFERROR(VLOOKUP(INDEX($A:$O,ROW(),MATCH('Rapportage per vraag'!$C$12,'Data leveranciersbeoordeling'!$1:$1,0)),Leveranciersbeoordeling!$H$1:$I$5,2,FALSE),0)","v":0},0]
["",null,null,null,null,null,null,null,null,null,null,null,null,null,null,{"$f":"INDEX($A:$O,ROW(),MATCH('Rapportage per vraag'!$C$12,'Data leveranciersbeoordeling'!$1:$1,0))","v":0},{"$f":"IFERROR(VLOOKUP(INDEX($A:$O,ROW(),MATCH('Rapportage per vraag'!$C$12,'Data leveranciersbeoordeling'!$1:$1,0)),Leveranciersbeoordeling!$H$1:$I$5,2,FALSE),0)","v":0},0]
["",null,null,null,null,null,null,null,null,null,null,null,null,null,null,{"$f":"INDEX($A:$O,ROW(),MATCH('Rapportage per vraag'!$C$12,'Data leveranciersbeoordeling'!$1:$1,0))","v":0},{"$f":"IFERROR(VLOOKUP(INDEX($A:$O,ROW(),MATCH('Rapportage per vraag'!$C$12,'Data leveranciersbeoordeling'!$1:$1,0)),Leveranciersbeoordeling!$H$1:$I$5,2,FALSE),0)","v":0},0]
["",null,null,null,null,null,null,null,null,null,null,null,null,null,null,{"$f":"INDEX($A:$O,ROW(),MATCH('Rapportage per vraag'!$C$12,'Data leveranciersbeoordeling'!$1:$1,0))","v":0},{"$f":"IFERROR(VLOOKUP(INDEX($A:$O,ROW(),MATCH('Rapportage per vraag'!$C$12,'Data leveranciersbeoordeling'!$1:$1,0)),Leveranciersbeoordeling!$H$1:$I$5,2,FALSE),0)","v":0},0]
["",null,null,null,null,null,null,null,null,null,null,null,null,null,null,{"$f":"INDEX($A:$O,ROW(),MATCH('Rapportage per vraag'!$C$12,'Data leveranciersbeoordeling'!$1:$1,0))","v":0},{"$f":"IFERROR(VLOOKUP(INDEX($A:$O,ROW(),MATCH('Rapportage per vraag'!$C$12,'Data leveranciersbeoordeling'!$1:$1,0)),Leveranciersbeoordeling!$H$1:$I$5,2,FALSE),0)","v":0},0]
["",null,null,null,null,null,null,null,null,null,null,null,null,null,null,{"$f":"INDEX($A:$O,ROW(),MATCH('Rapportage per vraag'!$C$12,'Data leveranciersbeoordeling'!$1:$1,0))","v":0},{"$f":"IFERROR(VLOOKUP(INDEX($A:$O,ROW(),MATCH('Rapportage per vraag'!$C$12,'Data leveranciersbeoordeling'!$1:$1,0)),Leveranciersbeoordeling!$H$1:$I$5,2,FALSE),0)","v":0},0]
["",null,null,null,null,null,null,null,null,null,null,null,null,null,null,{"$f":"INDEX($A:$O,ROW(),MATCH('Rapportage per vraag'!$C$12,'Data leveranciersbeoordeling'!$1:$1,0))","v":0},{"$f":"IFERROR(VLOOKUP(INDEX($A:$O,ROW(),MATCH('Rapportage per vraag'!$C$12,'Data leveranciersbeoordeling'!$1:$1,0)),Leveranciersbeoordeling!$H$1:$I$5,2,FALSE),0)","v":0},0]
["",null,null,null,null,null,null,null,null,null,null,null,null,null,null,{"$f":"INDEX($A:$O,ROW(),MATCH('Rapportage per vraag'!$C$12,'Data leveranciersbeoordeling'!$1:$1,0))","v":0},{"$f":"IFERROR(VLOOKUP(INDEX($A:$O,ROW(),MATCH('Rapportage per vraag'!$C$12,'Data leveranciersbeoordeling'!$1:$1,0)),Leveranciersbeoordeling!$H$1:$I$5,2,FALSE),0)","v":0},0]
["",null,null,null,null,null,null,null,null,null,null,null,null,null,null,{"$f":"INDEX($A:$O,ROW(),MATCH('Rapportage per vraag'!$C$12,'Data leveranciersbeoordeling'!$1:$1,0))","v":0},{"$f":"IFERROR(VLOOKUP(INDEX($A:$O,ROW(),MATCH('Rapportage per vraag'!$C$12,'Data leveranciersbeoordeling'!$1:$1,0)),Leveranciersbeoordeling!$H$1:$I$5,2,FALSE),0)","v":0},0]
["",null,null,null,null,null,null,null,null,null,null,null,null,null,null,{"$f":"INDEX($A:$O,ROW(),MATCH('Rapportage per vraag'!$C$12,'Data leveranciersbeoordeling'!$1:$1,0))","v":0},{"$f":"IFERROR(VLOOKUP(INDEX($A:$O,ROW(),MATCH('Rapportage per vraag'!$C$12,'Data leveranciersbeoordeling'!$1:$1,0)),Leveranciersbeoordeling!$H$1:$I$5,2,FALSE),0)","v":0},0]
["",null,null,null,null,null,null,null,null,null,null,null,null,null,null,{"$f":"INDEX($A:$O,ROW(),MATCH('Rapportage per vraag'!$C$12,'Data leveranciersbeoordeling'!$1:$1,0))","v":0},{"$f":"IFERROR(VLOOKUP(INDEX($A:$O,ROW(),MATCH('Rapportage per vraag'!$C$12,'Data leveranciersbeoordeling'!$1:$1,0)),Leveranciersbeoordeling!$H$1:$I$5,2,FALSE),0)","v":0},0]
["",null,null,null,null,null,null,null,null,null,null,null,null,null,null,{"$f":"INDEX($A:$O,ROW(),MATCH('Rapportage per vraag'!$C$12,'Data leveranciersbeoordeling'!$1:$1,0))","v":0},{"$f":"IFERROR(VLOOKUP(INDEX($A:$O,ROW(),MATCH('Rapportage per vraag'!$C$12,'Data leveranciersbeoordeling'!$1:$1,0)),Leveranciersbeoordeling!$H$1:$I$5,2,FALSE),0)","v":0},0]
["",null,null,null,null,null,null,null,null,null,null,null,null,null,null,{"$f":"INDEX($A:$O,ROW(),MATCH('Rapportage per vraag'!$C$12,'Data leveranciersbeoordeling'!$1:$1,0))","v":0},{"$f":"IFERROR(VLOOKUP(INDEX($A:$O,ROW(),MATCH('Rapportage per vraag'!$C$12,'Data leveranciersbeoordeling'!$1:$1,0)),Leveranciersbeoordeling!$H$1:$I$5,2,FALSE),0)","v":0},0]
["",null,null,null,null,null,null,null,null,null,null,null,null,null,null,{"$f":"INDEX($A:$O,ROW(),MATCH('Rapportage per vraag'!$C$12,'Data leveranciersbeoordeling'!$1:$1,0))","v":0},{"$f":"IFERROR(VLOOKUP(INDEX($A:$O,ROW(),MATCH('Rapportage per vraag'!$C$12,'Data leveranciersbeoordeling'!$1:$1,0)),Leveranciersbeoordeling!$H$1:$I$5,2,FALSE),0)","v":0},0]
["",null,null,null,null,null,null,null,null,null,null,null,null,null,null,{"$f":"INDEX($A:$O,ROW(),MATCH('Rapportage per vraag'!$C$12,'Data leveranciersbeoordeling'!$1:$1,0))","v":0},{"$f":"IFERROR(VLOOKUP(INDEX($A:$O,ROW(),MATCH('Rapportage per vraag'!$C$12,'Data leveranciersbeoordeling'!$1:$1,0)),Leveranciersbeoordeling!$H$1:$I$5,2,FALSE),0)","v":0},0]
["",null,null,null,null,null,null,null,null,null,null,null,null,null,null,{"$f":"INDEX($A:$O,ROW(),MATCH('Rapportage per vraag'!$C$12,'Data leveranciersbeoordeling'!$1:$1,0))","v":0},{"$f":"IFERROR(VLOOKUP(INDEX($A:$O,ROW(),MATCH('Rapportage per vraag'!$C$12,'Data leveranciersbeoordeling'!$1:$1,0)),Leveranciersbeoordeling!$H$1:$I$5,2,FALSE),0)","v":0},0]
["",null,null,null,null,null,null,null,null,null,null,null,null,null,null,{"$f":"INDEX($A:$O,ROW(),MATCH('Rapportage per vraag'!$C$12,'Data leveranciersbeoordeling'!$1:$1,0))","v":0},{"$f":"IFERROR(VLOOKUP(INDEX($A:$O,ROW(),MATCH('Rapportage per vraag'!$C$12,'Data leveranciersbeoordeling'!$1:$1,0)),Leveranciersbeoordeling!$H$1:$I$5,2,FALSE),0)","v":0},0]
["",null,null,null,null,null,null,null,null,null,null,null,null,null,null,{"$f":"INDEX($A:$O,ROW(),MATCH('Rapportage per vraag'!$C$12,'Data leveranciersbeoordeling'!$1:$1,0))","v":0},{"$f":"IFERROR(VLOOKUP(INDEX($A:$O,ROW(),MATCH('Rapportage per vraag'!$C$12,'Data leveranciersbeoordeling'!$1:$1,0)),Leveranciersbeoordeling!$H$1:$I$5,2,FALSE),0)","v":0},0]
["",null,null,null,null,null,null,null,null,null,null,null,null,null,null,{"$f":"INDEX($A:$O,ROW(),MATCH('Rapportage per vraag'!$C$12,'Data leveranciersbeoordeling'!$1:$1,0))","v":0},{"$f":"IFERROR(VLOOKUP(INDEX($A:$O,ROW(),MATCH('Rapportage per vraag'!$C$12,'Data leveranciersbeoordeling'!$1:$1,0)),Leveranciersbeoordeling!$H$1:$I$5,2,FALSE),0)","v":0},0]
["",null,null,null,null,null,null,null,null,null,null,null,null,null,null,{"$f":"INDEX($A:$O,ROW(),MATCH('Rapportage per vraag'!$C$12,'Data leveranciersbeoordeling'!$1:$1,0))","v":0},{"$f":"IFERROR(VLOOKUP(INDEX($A:$O,ROW(),MATCH('Rapportage per vraag'!$C$12,'Data leveranciersbeoordeling'!$1:$1,0)),Leveranciersbeoordeling!$H$1:$I$5,2,FALSE),0)","v":0},0]
["",null,null,null,null,null,null,null,null,null,null,null,null,null,null,{"$f":"INDEX($A:$O,ROW(),MATCH('Rapportage per vraag'!$C$12,'Data leveranciersbeoordeling'!$1:$1,0))","v":0},{"$f":"IFERROR(VLOOKUP(INDEX($A:$O,ROW(),MATCH('Rapportage per vraag'!$C$12,'Data leveranciersbeoordeling'!$1:$1,0)),Leveranciersbeoordeling!$H$1:$I$5,2,FALSE),0)","v":0},0]
["",null,null,null,null,null,null,null,null,null,null,null,null,null,null,{"$f":"INDEX($A:$O,ROW(),MATCH('Rapportage per vraag'!$C$12,'Data leveranciersbeoordeling'!$1:$1,0))","v":0},{"$f":"IFERROR(VLOOKUP(INDEX($A:$O,ROW(),MATCH('Rapportage per vraag'!$C$12,'Data leveranciersbeoordeling'!$1:$1,0)),Leveranciersbeoordeling!$H$1:$I$5,2,FALSE),0)","v":0},0]
["",null,null,null,null,null,null,null,null,null,null,null,null,null,null,{"$f":"INDEX($A:$O,ROW(),MATCH('Rapportage per vraag'!$C$12,'Data leveranciersbeoordeling'!$1:$1,0))","v":0},{"$f":"IFERROR(VLOOKUP(INDEX($A:$O,ROW(),MATCH('Rapportage per vraag'!$C$12,'Data leveranciersbeoordeling'!$1:$1,0)),Leveranciersbeoordeling!$H$1:$I$5,2,FALSE),0)","v":0},0]
["",null,null,null,null,null,null,null,null,null,null,null,null,null,null,{"$f":"INDEX($A:$O,ROW(),MATCH('Rapportage per vraag'!$C$12,'Data leveranciersbeoordeling'!$1:$1,0))","v":0},{"$f":"IFERROR(VLOOKUP(INDEX($A:$O,ROW(),MATCH('Rapportage per vraag'!$C$12,'Data leveranciersbeoordeling'!$1:$1,0)),Leveranciersbeoordeling!$H$1:$I$5,2,FALSE),0)","v":0},0]
["",null,null,null,null,null,null,null,null,null,null,null,null,null,null,{"$f":"INDEX($A:$O,ROW(),MATCH('Rapportage per vraag'!$C$12,'Data leveranciersbeoordeling'!$1:$1,0))","v":0},{"$f":"IFERROR(VLOOKUP(INDEX($A:$O,ROW(),MATCH('Rapportage per vraag'!$C$12,'Data leveranciersbeoordeling'!$1:$1,0)),Leveranciersbeoordeling!$H$1:$I$5,2,FALSE),0)","v":0},0]
["",null,null,null,null,null,null,null,null,null,null,null,null,null,null,{"$f":"INDEX($A:$O,ROW(),MATCH('Rapportage per vraag'!$C$12,'Data leveranciersbeoordeling'!$1:$1,0))","v":0},{"$f":"IFERROR(VLOOKUP(INDEX($A:$O,ROW(),MATCH('Rapportage per vraag'!$C$12,'Data leveranciersbeoordeling'!$1:$1,0)),Leveranciersbeoordeling!$H$1:$I$5,2,FALSE),0)","v":0},0]
["",null,null,null,null,null,null,null,null,null,null,null,null,null,null,{"$f":"INDEX($A:$O,ROW(),MATCH('Rapportage per vraag'!$C$12,'Data leveranciersbeoordeling'!$1:$1,0))","v":0},{"$f":"IFERROR(VLOOKUP(INDEX($A:$O,ROW(),MATCH('Rapportage per vraag'!$C$12,'Data leveranciersbeoordeling'!$1:$1,0)),Leveranciersbeoordeling!$H$1:$I$5,2,FALSE),0)","v":0},0]
[{"$f":"CONCATENATE(B1347,C1347,D1347)","v":""},null,null,null,null,null,null,null,null,null,null,null,null,null,null,{"$f":"INDEX($A:$O,ROW(),MATCH('Rapportage per vraag'!$C$12,'Data leveranciersbeoordeling'!$1:$1,0))","v":0},{"$f":"IFERROR(VLOOKUP(INDEX($A:$O,ROW(),MATCH('Rapportage per vraag'!$C$12,'Data leveranciersbeoordeling'!$1:$1,0)),Leveranciersbeoordeling!$H$1:$I$5,2,FALSE),0)","v":0},0]
["",null,null,null,null,null,null,null,null,null,null,null,null,null,null,{"$f":"INDEX($A:$O,ROW(),MATCH('Rapportage per vraag'!$C$12,'Data leveranciersbeoordeling'!$1:$1,0))","v":0},{"$f":"IFERROR(VLOOKUP(INDEX($A:$O,ROW(),MATCH('Rapportage per vraag'!$C$12,'Data leveranciersbeoordeling'!$1:$1,0)),Leveranciersbeoordeling!$H$1:$I$5,2,FALSE),0)","v":0},0]
["",null,null,null,null,null,null,null,null,null,null,null,null,null,null,{"$f":"INDEX($A:$O,ROW(),MATCH('Rapportage per vraag'!$C$12,'Data leveranciersbeoordeling'!$1:$1,0))","v":0},{"$f":"IFERROR(VLOOKUP(INDEX($A:$O,ROW(),MATCH('Rapportage per vraag'!$C$12,'Data leveranciersbeoordeling'!$1:$1,0)),Leveranciersbeoordeling!$H$1:$I$5,2,FALSE),0)","v":0},0]
["",null,null,null,null,null,null,null,null,null,null,null,null,null,null,{"$f":"INDEX($A:$O,ROW(),MATCH('Rapportage per vraag'!$C$12,'Data leveranciersbeoordeling'!$1:$1,0))","v":0},{"$f":"IFERROR(VLOOKUP(INDEX($A:$O,ROW(),MATCH('Rapportage per vraag'!$C$12,'Data leveranciersbeoordeling'!$1:$1,0)),Leveranciersbeoordeling!$H$1:$I$5,2,FALSE),0)","v":0},{"$f":"IF(T(P1350)=P1350,Q1350,P1350)","v":0}]
["",null,null,null,null,null,null,null,null,null,null,null,null,null,null,{"$f":"INDEX($A:$O,ROW(),MATCH('Rapportage per vraag'!$C$12,'Data leveranciersbeoordeling'!$1:$1,0))","v":0},{"$f":"IFERROR(VLOOKUP(INDEX($A:$O,ROW(),MATCH('Rapportage per vraag'!$C$12,'Data leveranciersbeoordeling'!$1:$1,0)),Leveranciersbeoordeling!$H$1:$I$5,2,FALSE),0)","v":0},0]
["",null,null,null,null,null,null,null,null,null,null,null,null,null,null,{"$f":"INDEX($A:$O,ROW(),MATCH('Rapportage per vraag'!$C$12,'Data leveranciersbeoordeling'!$1:$1,0))","v":0},{"$f":"IFERROR(VLOOKUP(INDEX($A:$O,ROW(),MATCH('Rapportage per vraag'!$C$12,'Data leveranciersbeoordeling'!$1:$1,0)),Leveranciersbeoordeling!$H$1:$I$5,2,FALSE),0)","v":0},0]
["",null,null,null,null,null,null,null,null,null,null,null,null,null,null,{"$f":"INDEX($A:$O,ROW(),MATCH('Rapportage per vraag'!$C$12,'Data leveranciersbeoordeling'!$1:$1,0))","v":0},{"$f":"IFERROR(VLOOKUP(INDEX($A:$O,ROW(),MATCH('Rapportage per vraag'!$C$12,'Data leveranciersbeoordeling'!$1:$1,0)),Leveranciersbeoordeling!$H$1:$I$5,2,FALSE),0)","v":0},0]
["",null,null,null,null,null,null,null,null,null,null,null,null,null,null,{"$f":"INDEX($A:$O,ROW(),MATCH('Rapportage per vraag'!$C$12,'Data leveranciersbeoordeling'!$1:$1,0))","v":0},{"$f":"IFERROR(VLOOKUP(INDEX($A:$O,ROW(),MATCH('Rapportage per vraag'!$C$12,'Data leveranciersbeoordeling'!$1:$1,0)),Leveranciersbeoordeling!$H$1:$I$5,2,FALSE),0)","v":0},0]
["",null,null,null,null,null,null,null,null,null,null,null,null,null,null,{"$f":"INDEX($A:$O,ROW(),MATCH('Rapportage per vraag'!$C$12,'Data leveranciersbeoordeling'!$1:$1,0))","v":0},{"$f":"IFERROR(VLOOKUP(INDEX($A:$O,ROW(),MATCH('Rapportage per vraag'!$C$12,'Data leveranciersbeoordeling'!$1:$1,0)),Leveranciersbeoordeling!$H$1:$I$5,2,FALSE),0)","v":0},0]
["",null,null,null,null,null,null,null,null,null,null,null,null,null,null,{"$f":"INDEX($A:$O,ROW(),MATCH('Rapportage per vraag'!$C$12,'Data leveranciersbeoordeling'!$1:$1,0))","v":0},{"$f":"IFERROR(VLOOKUP(INDEX($A:$O,ROW(),MATCH('Rapportage per vraag'!$C$12,'Data leveranciersbeoordeling'!$1:$1,0)),Leveranciersbeoordeling!$H$1:$I$5,2,FALSE),0)","v":0},0]
["",null,null,null,null,null,null,null,null,null,null,null,null,null,null,{"$f":"INDEX($A:$O,ROW(),MATCH('Rapportage per vraag'!$C$12,'Data leveranciersbeoordeling'!$1:$1,0))","v":0},{"$f":"IFERROR(VLOOKUP(INDEX($A:$O,ROW(),MATCH('Rapportage per vraag'!$C$12,'Data leveranciersbeoordeling'!$1:$1,0)),Leveranciersbeoordeling!$H$1:$I$5,2,FALSE),0)","v":0},0]
["",null,null,null,null,null,null,null,null,null,null,null,null,null,null,{"$f":"INDEX($A:$O,ROW(),MATCH('Rapportage per vraag'!$C$12,'Data leveranciersbeoordeling'!$1:$1,0))","v":0},{"$f":"IFERROR(VLOOKUP(INDEX($A:$O,ROW(),MATCH('Rapportage per vraag'!$C$12,'Data leveranciersbeoordeling'!$1:$1,0)),Leveranciersbeoordeling!$H$1:$I$5,2,FALSE),0)","v":0},0]
["",null,null,null,null,null,null,null,null,null,null,null,null,null,null,{"$f":"INDEX($A:$O,ROW(),MATCH('Rapportage per vraag'!$C$12,'Data leveranciersbeoordeling'!$1:$1,0))","v":0},{"$f":"IFERROR(VLOOKUP(INDEX($A:$O,ROW(),MATCH('Rapportage per vraag'!$C$12,'Data leveranciersbeoordeling'!$1:$1,0)),Leveranciersbeoordeling!$H$1:$I$5,2,FALSE),0)","v":0},0]
["",null,null,null,null,null,null,null,null,null,null,null,null,null,null,{"$f":"INDEX($A:$O,ROW(),MATCH('Rapportage per vraag'!$C$12,'Data leveranciersbeoordeling'!$1:$1,0))","v":0},{"$f":"IFERROR(VLOOKUP(INDEX($A:$O,ROW(),MATCH('Rapportage per vraag'!$C$12,'Data leveranciersbeoordeling'!$1:$1,0)),Leveranciersbeoordeling!$H$1:$I$5,2,FALSE),0)","v":0},0]
["",null,null,null,null,null,null,null,null,null,null,null,null,null,null,{"$f":"INDEX($A:$O,ROW(),MATCH('Rapportage per vraag'!$C$12,'Data leveranciersbeoordeling'!$1:$1,0))","v":0},{"$f":"IFERROR(VLOOKUP(INDEX($A:$O,ROW(),MATCH('Rapportage per vraag'!$C$12,'Data leveranciersbeoordeling'!$1:$1,0)),Leveranciersbeoordeling!$H$1:$I$5,2,FALSE),0)","v":0},0]
["",null,null,null,null,null,null,null,null,null,null,null,null,null,null,{"$f":"INDEX($A:$O,ROW(),MATCH('Rapportage per vraag'!$C$12,'Data leveranciersbeoordeling'!$1:$1,0))","v":0},{"$f":"IFERROR(VLOOKUP(INDEX($A:$O,ROW(),MATCH('Rapportage per vraag'!$C$12,'Data leveranciersbeoordeling'!$1:$1,0)),Leveranciersbeoordeling!$H$1:$I$5,2,FALSE),0)","v":0},0]
["",null,null,null,null,null,null,null,null,null,null,null,null,null,null,{"$f":"INDEX($A:$O,ROW(),MATCH('Rapportage per vraag'!$C$12,'Data leveranciersbeoordeling'!$1:$1,0))","v":0},{"$f":"IFERROR(VLOOKUP(INDEX($A:$O,ROW(),MATCH('Rapportage per vraag'!$C$12,'Data leveranciersbeoordeling'!$1:$1,0)),Leveranciersbeoordeling!$H$1:$I$5,2,FALSE),0)","v":0},0]
["",null,null,null,null,null,null,null,null,null,null,null,null,null,null,{"$f":"INDEX($A:$O,ROW(),MATCH('Rapportage per vraag'!$C$12,'Data leveranciersbeoordeling'!$1:$1,0))","v":0},{"$f":"IFERROR(VLOOKUP(INDEX($A:$O,ROW(),MATCH('Rapportage per vraag'!$C$12,'Data leveranciersbeoordeling'!$1:$1,0)),Leveranciersbeoordeling!$H$1:$I$5,2,FALSE),0)","v":0},0]
["",null,null,null,null,null,null,null,null,null,null,null,null,null,null,{"$f":"INDEX($A:$O,ROW(),MATCH('Rapportage per vraag'!$C$12,'Data leveranciersbeoordeling'!$1:$1,0))","v":0},{"$f":"IFERROR(VLOOKUP(INDEX($A:$O,ROW(),MATCH('Rapportage per vraag'!$C$12,'Data leveranciersbeoordeling'!$1:$1,0)),Leveranciersbeoordeling!$H$1:$I$5,2,FALSE),0)","v":0},0]
["",null,null,null,null,null,null,null,null,null,null,null,null,null,null,{"$f":"INDEX($A:$O,ROW(),MATCH('Rapportage per vraag'!$C$12,'Data leveranciersbeoordeling'!$1:$1,0))","v":0},{"$f":"IFERROR(VLOOKUP(INDEX($A:$O,ROW(),MATCH('Rapportage per vraag'!$C$12,'Data leveranciersbeoordeling'!$1:$1,0)),Leveranciersbeoordeling!$H$1:$I$5,2,FALSE),0)","v":0},0]
["",null,null,null,null,null,null,null,null,null,null,null,null,null,null,{"$f":"INDEX($A:$O,ROW(),MATCH('Rapportage per vraag'!$C$12,'Data leveranciersbeoordeling'!$1:$1,0))","v":0},{"$f":"IFERROR(VLOOKUP(INDEX($A:$O,ROW(),MATCH('Rapportage per vraag'!$C$12,'Data leveranciersbeoordeling'!$1:$1,0)),Leveranciersbeoordeling!$H$1:$I$5,2,FALSE),0)","v":0},0]
["",null,null,null,null,null,null,null,null,null,null,null,null,null,null,{"$f":"INDEX($A:$O,ROW(),MATCH('Rapportage per vraag'!$C$12,'Data leveranciersbeoordeling'!$1:$1,0))","v":0},{"$f":"IFERROR(VLOOKUP(INDEX($A:$O,ROW(),MATCH('Rapportage per vraag'!$C$12,'Data leveranciersbeoordeling'!$1:$1,0)),Leveranciersbeoordeling!$H$1:$I$5,2,FALSE),0)","v":0},0]
["",null,null,null,null,null,null,null,null,null,null,null,null,null,null,{"$f":"INDEX($A:$O,ROW(),MATCH('Rapportage per vraag'!$C$12,'Data leveranciersbeoordeling'!$1:$1,0))","v":0},{"$f":"IFERROR(VLOOKUP(INDEX($A:$O,ROW(),MATCH('Rapportage per vraag'!$C$12,'Data leveranciersbeoordeling'!$1:$1,0)),Leveranciersbeoordeling!$H$1:$I$5,2,FALSE),0)","v":0},0]
["",null,null,null,null,null,null,null,null,null,null,null,null,null,null,{"$f":"INDEX($A:$O,ROW(),MATCH('Rapportage per vraag'!$C$12,'Data leveranciersbeoordeling'!$1:$1,0))","v":0},{"$f":"IFERROR(VLOOKUP(INDEX($A:$O,ROW(),MATCH('Rapportage per vraag'!$C$12,'Data leveranciersbeoordeling'!$1:$1,0)),Leveranciersbeoordeling!$H$1:$I$5,2,FALSE),0)","v":0},0]
["",null,null,null,null,null,null,null,null,null,null,null,null,null,null,{"$f":"INDEX($A:$O,ROW(),MATCH('Rapportage per vraag'!$C$12,'Data leveranciersbeoordeling'!$1:$1,0))","v":0},{"$f":"IFERROR(VLOOKUP(INDEX($A:$O,ROW(),MATCH('Rapportage per vraag'!$C$12,'Data leveranciersbeoordeling'!$1:$1,0)),Leveranciersbeoordeling!$H$1:$I$5,2,FALSE),0)","v":0},0]
["",null,null,null,null,null,null,null,null,null,null,null,null,null,null,{"$f":"INDEX($A:$O,ROW(),MATCH('Rapportage per vraag'!$C$12,'Data leveranciersbeoordeling'!$1:$1,0))","v":0},{"$f":"IFERROR(VLOOKUP(INDEX($A:$O,ROW(),MATCH('Rapportage per vraag'!$C$12,'Data leveranciersbeoordeling'!$1:$1,0)),Leveranciersbeoordeling!$H$1:$I$5,2,FALSE),0)","v":0},0]
["",null,null,null,null,null,null,null,null,null,null,null,null,null,null,{"$f":"INDEX($A:$O,ROW(),MATCH('Rapportage per vraag'!$C$12,'Data leveranciersbeoordeling'!$1:$1,0))","v":0},{"$f":"IFERROR(VLOOKUP(INDEX($A:$O,ROW(),MATCH('Rapportage per vraag'!$C$12,'Data leveranciersbeoordeling'!$1:$1,0)),Leveranciersbeoordeling!$H$1:$I$5,2,FALSE),0)","v":0},0]
["",null,null,null,null,null,null,null,null,null,null,null,null,null,null,{"$f":"INDEX($A:$O,ROW(),MATCH('Rapportage per vraag'!$C$12,'Data leveranciersbeoordeling'!$1:$1,0))","v":0},{"$f":"IFERROR(VLOOKUP(INDEX($A:$O,ROW(),MATCH('Rapportage per vraag'!$C$12,'Data leveranciersbeoordeling'!$1:$1,0)),Leveranciersbeoordeling!$H$1:$I$5,2,FALSE),0)","v":0},0]
["",null,null,null,null,null,null,null,null,null,null,null,null,null,null,{"$f":"INDEX($A:$O,ROW(),MATCH('Rapportage per vraag'!$C$12,'Data leveranciersbeoordeling'!$1:$1,0))","v":0},{"$f":"IFERROR(VLOOKUP(INDEX($A:$O,ROW(),MATCH('Rapportage per vraag'!$C$12,'Data leveranciersbeoordeling'!$1:$1,0)),Leveranciersbeoordeling!$H$1:$I$5,2,FALSE),0)","v":0},0]
["",null,null,null,null,null,null,null,null,null,null,null,null,null,null,{"$f":"INDEX($A:$O,ROW(),MATCH('Rapportage per vraag'!$C$12,'Data leveranciersbeoordeling'!$1:$1,0))","v":0},{"$f":"IFERROR(VLOOKUP(INDEX($A:$O,ROW(),MATCH('Rapportage per vraag'!$C$12,'Data leveranciersbeoordeling'!$1:$1,0)),Leveranciersbeoordeling!$H$1:$I$5,2,FALSE),0)","v":0},0]
["",null,null,null,null,null,null,null,null,null,null,null,null,null,null,{"$f":"INDEX($A:$O,ROW(),MATCH('Rapportage per vraag'!$C$12,'Data leveranciersbeoordeling'!$1:$1,0))","v":0},{"$f":"IFERROR(VLOOKUP(INDEX($A:$O,ROW(),MATCH('Rapportage per vraag'!$C$12,'Data leveranciersbeoordeling'!$1:$1,0)),Leveranciersbeoordeling!$H$1:$I$5,2,FALSE),0)","v":0},0]
["",null,null,null,null,null,null,null,null,null,null,null,null,null,null,{"$f":"INDEX($A:$O,ROW(),MATCH('Rapportage per vraag'!$C$12,'Data leveranciersbeoordeling'!$1:$1,0))","v":0},{"$f":"IFERROR(VLOOKUP(INDEX($A:$O,ROW(),MATCH('Rapportage per vraag'!$C$12,'Data leveranciersbeoordeling'!$1:$1,0)),Leveranciersbeoordeling!$H$1:$I$5,2,FALSE),0)","v":0},0]
["",null,null,null,null,null,null,null,null,null,null,null,null,null,null,{"$f":"INDEX($A:$O,ROW(),MATCH('Rapportage per vraag'!$C$12,'Data leveranciersbeoordeling'!$1:$1,0))","v":0},{"$f":"IFERROR(VLOOKUP(INDEX($A:$O,ROW(),MATCH('Rapportage per vraag'!$C$12,'Data leveranciersbeoordeling'!$1:$1,0)),Leveranciersbeoordeling!$H$1:$I$5,2,FALSE),0)","v":0},0]
["",null,null,null,null,null,null,null,null,null,null,null,null,null,null,{"$f":"INDEX($A:$O,ROW(),MATCH('Rapportage per vraag'!$C$12,'Data leveranciersbeoordeling'!$1:$1,0))","v":0},{"$f":"IFERROR(VLOOKUP(INDEX($A:$O,ROW(),MATCH('Rapportage per vraag'!$C$12,'Data leveranciersbeoordeling'!$1:$1,0)),Leveranciersbeoordeling!$H$1:$I$5,2,FALSE),0)","v":0},0]
["",null,null,null,null,null,null,null,null,null,null,null,null,null,null,{"$f":"INDEX($A:$O,ROW(),MATCH('Rapportage per vraag'!$C$12,'Data leveranciersbeoordeling'!$1:$1,0))","v":0},{"$f":"IFERROR(VLOOKUP(INDEX($A:$O,ROW(),MATCH('Rapportage per vraag'!$C$12,'Data leveranciersbeoordeling'!$1:$1,0)),Leveranciersbeoordeling!$H$1:$I$5,2,FALSE),0)","v":0},0]
["",null,null,null,null,null,null,null,null,null,null,null,null,null,null,{"$f":"INDEX($A:$O,ROW(),MATCH('Rapportage per vraag'!$C$12,'Data leveranciersbeoordeling'!$1:$1,0))","v":0},{"$f":"IFERROR(VLOOKUP(INDEX($A:$O,ROW(),MATCH('Rapportage per vraag'!$C$12,'Data leveranciersbeoordeling'!$1:$1,0)),Leveranciersbeoordeling!$H$1:$I$5,2,FALSE),0)","v":0},0]
["",null,null,null,null,null,null,null,null,null,null,null,null,null,null,{"$f":"INDEX($A:$O,ROW(),MATCH('Rapportage per vraag'!$C$12,'Data leveranciersbeoordeling'!$1:$1,0))","v":0},{"$f":"IFERROR(VLOOKUP(INDEX($A:$O,ROW(),MATCH('Rapportage per vraag'!$C$12,'Data leveranciersbeoordeling'!$1:$1,0)),Leveranciersbeoordeling!$H$1:$I$5,2,FALSE),0)","v":0},0]
["",null,null,null,null,null,null,null,null,null,null,null,null,null,null,{"$f":"INDEX($A:$O,ROW(),MATCH('Rapportage per vraag'!$C$12,'Data leveranciersbeoordeling'!$1:$1,0))","v":0},{"$f":"IFERROR(VLOOKUP(INDEX($A:$O,ROW(),MATCH('Rapportage per vraag'!$C$12,'Data leveranciersbeoordeling'!$1:$1,0)),Leveranciersbeoordeling!$H$1:$I$5,2,FALSE),0)","v":0},0]
["",null,null,null,null,null,null,null,null,null,null,null,null,null,null,{"$f":"INDEX($A:$O,ROW(),MATCH('Rapportage per vraag'!$C$12,'Data leveranciersbeoordeling'!$1:$1,0))","v":0},{"$f":"IFERROR(VLOOKUP(INDEX($A:$O,ROW(),MATCH('Rapportage per vraag'!$C$12,'Data leveranciersbeoordeling'!$1:$1,0)),Leveranciersbeoordeling!$H$1:$I$5,2,FALSE),0)","v":0},0]
["",null,null,null,null,null,null,null,null,null,null,null,null,null,null,{"$f":"INDEX($A:$O,ROW(),MATCH('Rapportage per vraag'!$C$12,'Data leveranciersbeoordeling'!$1:$1,0))","v":0},{"$f":"IFERROR(VLOOKUP(INDEX($A:$O,ROW(),MATCH('Rapportage per vraag'!$C$12,'Data leveranciersbeoordeling'!$1:$1,0)),Leveranciersbeoordeling!$H$1:$I$5,2,FALSE),0)","v":0},0]
["",null,null,null,null,null,null,null,null,null,null,null,null,null,null,{"$f":"INDEX($A:$O,ROW(),MATCH('Rapportage per vraag'!$C$12,'Data leveranciersbeoordeling'!$1:$1,0))","v":0},{"$f":"IFERROR(VLOOKUP(INDEX($A:$O,ROW(),MATCH('Rapportage per vraag'!$C$12,'Data leveranciersbeoordeling'!$1:$1,0)),Leveranciersbeoordeling!$H$1:$I$5,2,FALSE),0)","v":0},0]
["",null,null,null,null,null,null,null,null,null,null,null,null,null,null,{"$f":"INDEX($A:$O,ROW(),MATCH('Rapportage per vraag'!$C$12,'Data leveranciersbeoordeling'!$1:$1,0))","v":0},{"$f":"IFERROR(VLOOKUP(INDEX($A:$O,ROW(),MATCH('Rapportage per vraag'!$C$12,'Data leveranciersbeoordeling'!$1:$1,0)),Leveranciersbeoordeling!$H$1:$I$5,2,FALSE),0)","v":0},0]
["",null,null,null,null,null,null,null,null,null,null,null,null,null,null,{"$f":"INDEX($A:$O,ROW(),MATCH('Rapportage per vraag'!$C$12,'Data leveranciersbeoordeling'!$1:$1,0))","v":0},{"$f":"IFERROR(VLOOKUP(INDEX($A:$O,ROW(),MATCH('Rapportage per vraag'!$C$12,'Data leveranciersbeoordeling'!$1:$1,0)),Leveranciersbeoordeling!$H$1:$I$5,2,FALSE),0)","v":0},0]
["",null,null,null,null,null,null,null,null,null,null,null,null,null,null,{"$f":"INDEX($A:$O,ROW(),MATCH('Rapportage per vraag'!$C$12,'Data leveranciersbeoordeling'!$1:$1,0))","v":0},{"$f":"IFERROR(VLOOKUP(INDEX($A:$O,ROW(),MATCH('Rapportage per vraag'!$C$12,'Data leveranciersbeoordeling'!$1:$1,0)),Leveranciersbeoordeling!$H$1:$I$5,2,FALSE),0)","v":0},0]
["",null,null,null,null,null,null,null,null,null,null,null,null,null,null,{"$f":"INDEX($A:$O,ROW(),MATCH('Rapportage per vraag'!$C$12,'Data leveranciersbeoordeling'!$1:$1,0))","v":0},{"$f":"IFERROR(VLOOKUP(INDEX($A:$O,ROW(),MATCH('Rapportage per vraag'!$C$12,'Data leveranciersbeoordeling'!$1:$1,0)),Leveranciersbeoordeling!$H$1:$I$5,2,FALSE),0)","v":0},0]
["",null,null,null,null,null,null,null,null,null,null,null,null,null,null,{"$f":"INDEX($A:$O,ROW(),MATCH('Rapportage per vraag'!$C$12,'Data leveranciersbeoordeling'!$1:$1,0))","v":0},{"$f":"IFERROR(VLOOKUP(INDEX($A:$O,ROW(),MATCH('Rapportage per vraag'!$C$12,'Data leveranciersbeoordeling'!$1:$1,0)),Leveranciersbeoordeling!$H$1:$I$5,2,FALSE),0)","v":0},0]
["",null,null,null,null,null,null,null,null,null,null,null,null,null,null,{"$f":"INDEX($A:$O,ROW(),MATCH('Rapportage per vraag'!$C$12,'Data leveranciersbeoordeling'!$1:$1,0))","v":0},{"$f":"IFERROR(VLOOKUP(INDEX($A:$O,ROW(),MATCH('Rapportage per vraag'!$C$12,'Data leveranciersbeoordeling'!$1:$1,0)),Leveranciersbeoordeling!$H$1:$I$5,2,FALSE),0)","v":0},0]
["",null,null,null,null,null,null,null,null,null,null,null,null,null,null,{"$f":"INDEX($A:$O,ROW(),MATCH('Rapportage per vraag'!$C$12,'Data leveranciersbeoordeling'!$1:$1,0))","v":0},{"$f":"IFERROR(VLOOKUP(INDEX($A:$O,ROW(),MATCH('Rapportage per vraag'!$C$12,'Data leveranciersbeoordeling'!$1:$1,0)),Leveranciersbeoordeling!$H$1:$I$5,2,FALSE),0)","v":0},0]
["",null,null,null,null,null,null,null,null,null,null,null,null,null,null,{"$f":"INDEX($A:$O,ROW(),MATCH('Rapportage per vraag'!$C$12,'Data leveranciersbeoordeling'!$1:$1,0))","v":0},{"$f":"IFERROR(VLOOKUP(INDEX($A:$O,ROW(),MATCH('Rapportage per vraag'!$C$12,'Data leveranciersbeoordeling'!$1:$1,0)),Leveranciersbeoordeling!$H$1:$I$5,2,FALSE),0)","v":0},0]
["",null,null,null,null,null,null,null,null,null,null,null,null,null,null,{"$f":"INDEX($A:$O,ROW(),MATCH('Rapportage per vraag'!$C$12,'Data leveranciersbeoordeling'!$1:$1,0))","v":0},{"$f":"IFERROR(VLOOKUP(INDEX($A:$O,ROW(),MATCH('Rapportage per vraag'!$C$12,'Data leveranciersbeoordeling'!$1:$1,0)),Leveranciersbeoordeling!$H$1:$I$5,2,FALSE),0)","v":0},0]
["",null,null,null,null,null,null,null,null,null,null,null,null,null,null,{"$f":"INDEX($A:$O,ROW(),MATCH('Rapportage per vraag'!$C$12,'Data leveranciersbeoordeling'!$1:$1,0))","v":0},{"$f":"IFERROR(VLOOKUP(INDEX($A:$O,ROW(),MATCH('Rapportage per vraag'!$C$12,'Data leveranciersbeoordeling'!$1:$1,0)),Leveranciersbeoordeling!$H$1:$I$5,2,FALSE),0)","v":0},0]
["",null,null,null,null,null,null,null,null,null,null,null,null,null,null,{"$f":"INDEX($A:$O,ROW(),MATCH('Rapportage per vraag'!$C$12,'Data leveranciersbeoordeling'!$1:$1,0))","v":0},{"$f":"IFERROR(VLOOKUP(INDEX($A:$O,ROW(),MATCH('Rapportage per vraag'!$C$12,'Data leveranciersbeoordeling'!$1:$1,0)),Leveranciersbeoordeling!$H$1:$I$5,2,FALSE),0)","v":0},0]
["",null,null,null,null,null,null,null,null,null,null,null,null,null,null,{"$f":"INDEX($A:$O,ROW(),MATCH('Rapportage per vraag'!$C$12,'Data leveranciersbeoordeling'!$1:$1,0))","v":0},{"$f":"IFERROR(VLOOKUP(INDEX($A:$O,ROW(),MATCH('Rapportage per vraag'!$C$12,'Data leveranciersbeoordeling'!$1:$1,0)),Leveranciersbeoordeling!$H$1:$I$5,2,FALSE),0)","v":0},0]
["",null,null,null,null,null,null,null,null,null,null,null,null,null,null,{"$f":"INDEX($A:$O,ROW(),MATCH('Rapportage per vraag'!$C$12,'Data leveranciersbeoordeling'!$1:$1,0))","v":0},{"$f":"IFERROR(VLOOKUP(INDEX($A:$O,ROW(),MATCH('Rapportage per vraag'!$C$12,'Data leveranciersbeoordeling'!$1:$1,0)),Leveranciersbeoordeling!$H$1:$I$5,2,FALSE),0)","v":0},0]
["",null,null,null,null,null,null,null,null,null,null,null,null,null,null,{"$f":"INDEX($A:$O,ROW(),MATCH('Rapportage per vraag'!$C$12,'Data leveranciersbeoordeling'!$1:$1,0))","v":0},{"$f":"IFERROR(VLOOKUP(INDEX($A:$O,ROW(),MATCH('Rapportage per vraag'!$C$12,'Data leveranciersbeoordeling'!$1:$1,0)),Leveranciersbeoordeling!$H$1:$I$5,2,FALSE),0)","v":0},0]
["",null,null,null,null,null,null,null,null,null,null,null,null,null,null,{"$f":"INDEX($A:$O,ROW(),MATCH('Rapportage per vraag'!$C$12,'Data leveranciersbeoordeling'!$1:$1,0))","v":0},{"$f":"IFERROR(VLOOKUP(INDEX($A:$O,ROW(),MATCH('Rapportage per vraag'!$C$12,'Data leveranciersbeoordeling'!$1:$1,0)),Leveranciersbeoordeling!$H$1:$I$5,2,FALSE),0)","v":0},0]
["",null,null,null,null,null,null,null,null,null,null,null,null,null,null,{"$f":"INDEX($A:$O,ROW(),MATCH('Rapportage per vraag'!$C$12,'Data leveranciersbeoordeling'!$1:$1,0))","v":0},{"$f":"IFERROR(VLOOKUP(INDEX($A:$O,ROW(),MATCH('Rapportage per vraag'!$C$12,'Data leveranciersbeoordeling'!$1:$1,0)),Leveranciersbeoordeling!$H$1:$I$5,2,FALSE),0)","v":0},0]
["",null,null,null,null,null,null,null,null,null,null,null,null,null,null,{"$f":"INDEX($A:$O,ROW(),MATCH('Rapportage per vraag'!$C$12,'Data leveranciersbeoordeling'!$1:$1,0))","v":0},{"$f":"IFERROR(VLOOKUP(INDEX($A:$O,ROW(),MATCH('Rapportage per vraag'!$C$12,'Data leveranciersbeoordeling'!$1:$1,0)),Leveranciersbeoordeling!$H$1:$I$5,2,FALSE),0)","v":0},0]
["",null,null,null,null,null,null,null,null,null,null,null,null,null,null,{"$f":"INDEX($A:$O,ROW(),MATCH('Rapportage per vraag'!$C$12,'Data leveranciersbeoordeling'!$1:$1,0))","v":0},{"$f":"IFERROR(VLOOKUP(INDEX($A:$O,ROW(),MATCH('Rapportage per vraag'!$C$12,'Data leveranciersbeoordeling'!$1:$1,0)),Leveranciersbeoordeling!$H$1:$I$5,2,FALSE),0)","v":0},0]
["",null,null,null,null,null,null,null,null,null,null,null,null,null,null,{"$f":"INDEX($A:$O,ROW(),MATCH('Rapportage per vraag'!$C$12,'Data leveranciersbeoordeling'!$1:$1,0))","v":0},{"$f":"IFERROR(VLOOKUP(INDEX($A:$O,ROW(),MATCH('Rapportage per vraag'!$C$12,'Data leveranciersbeoordeling'!$1:$1,0)),Leveranciersbeoordeling!$H$1:$I$5,2,FALSE),0)","v":0},0]
["",null,null,null,null,null,null,null,null,null,null,null,null,null,null,{"$f":"INDEX($A:$O,ROW(),MATCH('Rapportage per vraag'!$C$12,'Data leveranciersbeoordeling'!$1:$1,0))","v":0},{"$f":"IFERROR(VLOOKUP(INDEX($A:$O,ROW(),MATCH('Rapportage per vraag'!$C$12,'Data leveranciersbeoordeling'!$1:$1,0)),Leveranciersbeoordeling!$H$1:$I$5,2,FALSE),0)","v":0},0]
["",null,null,null,null,null,null,null,null,null,null,null,null,null,null,{"$f":"INDEX($A:$O,ROW(),MATCH('Rapportage per vraag'!$C$12,'Data leveranciersbeoordeling'!$1:$1,0))","v":0},{"$f":"IFERROR(VLOOKUP(INDEX($A:$O,ROW(),MATCH('Rapportage per vraag'!$C$12,'Data leveranciersbeoordeling'!$1:$1,0)),Leveranciersbeoordeling!$H$1:$I$5,2,FALSE),0)","v":0},0]
["",null,null,null,null,null,null,null,null,null,null,null,null,null,null,{"$f":"INDEX($A:$O,ROW(),MATCH('Rapportage per vraag'!$C$12,'Data leveranciersbeoordeling'!$1:$1,0))","v":0},{"$f":"IFERROR(VLOOKUP(INDEX($A:$O,ROW(),MATCH('Rapportage per vraag'!$C$12,'Data leveranciersbeoordeling'!$1:$1,0)),Leveranciersbeoordeling!$H$1:$I$5,2,FALSE),0)","v":0},0]
["",null,null,null,null,null,null,null,null,null,null,null,null,null,null,{"$f":"INDEX($A:$O,ROW(),MATCH('Rapportage per vraag'!$C$12,'Data leveranciersbeoordeling'!$1:$1,0))","v":0},{"$f":"IFERROR(VLOOKUP(INDEX($A:$O,ROW(),MATCH('Rapportage per vraag'!$C$12,'Data leveranciersbeoordeling'!$1:$1,0)),Leveranciersbeoordeling!$H$1:$I$5,2,FALSE),0)","v":0},0]
[{"$f":"CONCATENATE(B1411,C1411,D1411)","v":""},null,null,null,null,null,null,null,null,null,null,null,null,null,null,{"$f":"INDEX($A:$O,ROW(),MATCH('Rapportage per vraag'!$C$12,'Data leveranciersbeoordeling'!$1:$1,0))","v":0},{"$f":"IFERROR(VLOOKUP(INDEX($A:$O,ROW(),MATCH('Rapportage per vraag'!$C$12,'Data leveranciersbeoordeling'!$1:$1,0)),Leveranciersbeoordeling!$H$1:$I$5,2,FALSE),0)","v":0},0]
["",null,null,null,null,null,null,null,null,null,null,null,null,null,null,{"$f":"INDEX($A:$O,ROW(),MATCH('Rapportage per vraag'!$C$12,'Data leveranciersbeoordeling'!$1:$1,0))","v":0},{"$f":"IFERROR(VLOOKUP(INDEX($A:$O,ROW(),MATCH('Rapportage per vraag'!$C$12,'Data leveranciersbeoordeling'!$1:$1,0)),Leveranciersbeoordeling!$H$1:$I$5,2,FALSE),0)","v":0},0]
["",null,null,null,null,null,null,null,null,null,null,null,null,null,null,{"$f":"INDEX($A:$O,ROW(),MATCH('Rapportage per vraag'!$C$12,'Data leveranciersbeoordeling'!$1:$1,0))","v":0},{"$f":"IFERROR(VLOOKUP(INDEX($A:$O,ROW(),MATCH('Rapportage per vraag'!$C$12,'Data leveranciersbeoordeling'!$1:$1,0)),Leveranciersbeoordeling!$H$1:$I$5,2,FALSE),0)","v":0},0]
["",null,null,null,null,null,null,null,null,null,null,null,null,null,null,{"$f":"INDEX($A:$O,ROW(),MATCH('Rapportage per vraag'!$C$12,'Data leveranciersbeoordeling'!$1:$1,0))","v":0},{"$f":"IFERROR(VLOOKUP(INDEX($A:$O,ROW(),MATCH('Rapportage per vraag'!$C$12,'Data leveranciersbeoordeling'!$1:$1,0)),Leveranciersbeoordeling!$H$1:$I$5,2,FALSE),0)","v":0},{"$f":"IF(T(P1414)=P1414,Q1414,P1414)","v":0}]
["",null,null,null,null,null,null,null,null,null,null,null,null,null,null,{"$f":"INDEX($A:$O,ROW(),MATCH('Rapportage per vraag'!$C$12,'Data leveranciersbeoordeling'!$1:$1,0))","v":0},{"$f":"IFERROR(VLOOKUP(INDEX($A:$O,ROW(),MATCH('Rapportage per vraag'!$C$12,'Data leveranciersbeoordeling'!$1:$1,0)),Leveranciersbeoordeling!$H$1:$I$5,2,FALSE),0)","v":0},0]
["",null,null,null,null,null,null,null,null,null,null,null,null,null,null,{"$f":"INDEX($A:$O,ROW(),MATCH('Rapportage per vraag'!$C$12,'Data leveranciersbeoordeling'!$1:$1,0))","v":0},{"$f":"IFERROR(VLOOKUP(INDEX($A:$O,ROW(),MATCH('Rapportage per vraag'!$C$12,'Data leveranciersbeoordeling'!$1:$1,0)),Leveranciersbeoordeling!$H$1:$I$5,2,FALSE),0)","v":0},0]
["",null,null,null,null,null,null,null,null,null,null,null,null,null,null,{"$f":"INDEX($A:$O,ROW(),MATCH('Rapportage per vraag'!$C$12,'Data leveranciersbeoordeling'!$1:$1,0))","v":0},{"$f":"IFERROR(VLOOKUP(INDEX($A:$O,ROW(),MATCH('Rapportage per vraag'!$C$12,'Data leveranciersbeoordeling'!$1:$1,0)),Leveranciersbeoordeling!$H$1:$I$5,2,FALSE),0)","v":0},0]
["",null,null,null,null,null,null,null,null,null,null,null,null,null,null,{"$f":"INDEX($A:$O,ROW(),MATCH('Rapportage per vraag'!$C$12,'Data leveranciersbeoordeling'!$1:$1,0))","v":0},{"$f":"IFERROR(VLOOKUP(INDEX($A:$O,ROW(),MATCH('Rapportage per vraag'!$C$12,'Data leveranciersbeoordeling'!$1:$1,0)),Leveranciersbeoordeling!$H$1:$I$5,2,FALSE),0)","v":0},0]
["",null,null,null,null,null,null,null,null,null,null,null,null,null,null,{"$f":"INDEX($A:$O,ROW(),MATCH('Rapportage per vraag'!$C$12,'Data leveranciersbeoordeling'!$1:$1,0))","v":0},{"$f":"IFERROR(VLOOKUP(INDEX($A:$O,ROW(),MATCH('Rapportage per vraag'!$C$12,'Data leveranciersbeoordeling'!$1:$1,0)),Leveranciersbeoordeling!$H$1:$I$5,2,FALSE),0)","v":0},0]
["",null,null,null,null,null,null,null,null,null,null,null,null,null,null,{"$f":"INDEX($A:$O,ROW(),MATCH('Rapportage per vraag'!$C$12,'Data leveranciersbeoordeling'!$1:$1,0))","v":0},{"$f":"IFERROR(VLOOKUP(INDEX($A:$O,ROW(),MATCH('Rapportage per vraag'!$C$12,'Data leveranciersbeoordeling'!$1:$1,0)),Leveranciersbeoordeling!$H$1:$I$5,2,FALSE),0)","v":0},0]
["",null,null,null,null,null,null,null,null,null,null,null,null,null,null,{"$f":"INDEX($A:$O,ROW(),MATCH('Rapportage per vraag'!$C$12,'Data leveranciersbeoordeling'!$1:$1,0))","v":0},{"$f":"IFERROR(VLOOKUP(INDEX($A:$O,ROW(),MATCH('Rapportage per vraag'!$C$12,'Data leveranciersbeoordeling'!$1:$1,0)),Leveranciersbeoordeling!$H$1:$I$5,2,FALSE),0)","v":0},0]
["",null,null,null,null,null,null,null,null,null,null,null,null,null,null,{"$f":"INDEX($A:$O,ROW(),MATCH('Rapportage per vraag'!$C$12,'Data leveranciersbeoordeling'!$1:$1,0))","v":0},{"$f":"IFERROR(VLOOKUP(INDEX($A:$O,ROW(),MATCH('Rapportage per vraag'!$C$12,'Data leveranciersbeoordeling'!$1:$1,0)),Leveranciersbeoordeling!$H$1:$I$5,2,FALSE),0)","v":0},0]
["",null,null,null,null,null,null,null,null,null,null,null,null,null,null,{"$f":"INDEX($A:$O,ROW(),MATCH('Rapportage per vraag'!$C$12,'Data leveranciersbeoordeling'!$1:$1,0))","v":0},{"$f":"IFERROR(VLOOKUP(INDEX($A:$O,ROW(),MATCH('Rapportage per vraag'!$C$12,'Data leveranciersbeoordeling'!$1:$1,0)),Leveranciersbeoordeling!$H$1:$I$5,2,FALSE),0)","v":0},0]
["",null,null,null,null,null,null,null,null,null,null,null,null,null,null,{"$f":"INDEX($A:$O,ROW(),MATCH('Rapportage per vraag'!$C$12,'Data leveranciersbeoordeling'!$1:$1,0))","v":0},{"$f":"IFERROR(VLOOKUP(INDEX($A:$O,ROW(),MATCH('Rapportage per vraag'!$C$12,'Data leveranciersbeoordeling'!$1:$1,0)),Leveranciersbeoordeling!$H$1:$I$5,2,FALSE),0)","v":0},0]
["",null,null,null,null,null,null,null,null,null,null,null,null,null,null,{"$f":"INDEX($A:$O,ROW(),MATCH('Rapportage per vraag'!$C$12,'Data leveranciersbeoordeling'!$1:$1,0))","v":0},{"$f":"IFERROR(VLOOKUP(INDEX($A:$O,ROW(),MATCH('Rapportage per vraag'!$C$12,'Data leveranciersbeoordeling'!$1:$1,0)),Leveranciersbeoordeling!$H$1:$I$5,2,FALSE),0)","v":0},0]
["",null,null,null,null,null,null,null,null,null,null,null,null,null,null,{"$f":"INDEX($A:$O,ROW(),MATCH('Rapportage per vraag'!$C$12,'Data leveranciersbeoordeling'!$1:$1,0))","v":0},{"$f":"IFERROR(VLOOKUP(INDEX($A:$O,ROW(),MATCH('Rapportage per vraag'!$C$12,'Data leveranciersbeoordeling'!$1:$1,0)),Leveranciersbeoordeling!$H$1:$I$5,2,FALSE),0)","v":0},0]
["",null,null,null,null,null,null,null,null,null,null,null,null,null,null,{"$f":"INDEX($A:$O,ROW(),MATCH('Rapportage per vraag'!$C$12,'Data leveranciersbeoordeling'!$1:$1,0))","v":0},{"$f":"IFERROR(VLOOKUP(INDEX($A:$O,ROW(),MATCH('Rapportage per vraag'!$C$12,'Data leveranciersbeoordeling'!$1:$1,0)),Leveranciersbeoordeling!$H$1:$I$5,2,FALSE),0)","v":0},0]
["",null,null,null,null,null,null,null,null,null,null,null,null,null,null,{"$f":"INDEX($A:$O,ROW(),MATCH('Rapportage per vraag'!$C$12,'Data leveranciersbeoordeling'!$1:$1,0))","v":0},{"$f":"IFERROR(VLOOKUP(INDEX($A:$O,ROW(),MATCH('Rapportage per vraag'!$C$12,'Data leveranciersbeoordeling'!$1:$1,0)),Leveranciersbeoordeling!$H$1:$I$5,2,FALSE),0)","v":0},0]
["",null,null,null,null,null,null,null,null,null,null,null,null,null,null,{"$f":"INDEX($A:$O,ROW(),MATCH('Rapportage per vraag'!$C$12,'Data leveranciersbeoordeling'!$1:$1,0))","v":0},{"$f":"IFERROR(VLOOKUP(INDEX($A:$O,ROW(),MATCH('Rapportage per vraag'!$C$12,'Data leveranciersbeoordeling'!$1:$1,0)),Leveranciersbeoordeling!$H$1:$I$5,2,FALSE),0)","v":0},0]
["",null,null,null,null,null,null,null,null,null,null,null,null,null,null,{"$f":"INDEX($A:$O,ROW(),MATCH('Rapportage per vraag'!$C$12,'Data leveranciersbeoordeling'!$1:$1,0))","v":0},{"$f":"IFERROR(VLOOKUP(INDEX($A:$O,ROW(),MATCH('Rapportage per vraag'!$C$12,'Data leveranciersbeoordeling'!$1:$1,0)),Leveranciersbeoordeling!$H$1:$I$5,2,FALSE),0)","v":0},0]
["",null,null,null,null,null,null,null,null,null,null,null,null,null,null,{"$f":"INDEX($A:$O,ROW(),MATCH('Rapportage per vraag'!$C$12,'Data leveranciersbeoordeling'!$1:$1,0))","v":0},{"$f":"IFERROR(VLOOKUP(INDEX($A:$O,ROW(),MATCH('Rapportage per vraag'!$C$12,'Data leveranciersbeoordeling'!$1:$1,0)),Leveranciersbeoordeling!$H$1:$I$5,2,FALSE),0)","v":0},0]
["",null,null,null,null,null,null,null,null,null,null,null,null,null,null,{"$f":"INDEX($A:$O,ROW(),MATCH('Rapportage per vraag'!$C$12,'Data leveranciersbeoordeling'!$1:$1,0))","v":0},{"$f":"IFERROR(VLOOKUP(INDEX($A:$O,ROW(),MATCH('Rapportage per vraag'!$C$12,'Data leveranciersbeoordeling'!$1:$1,0)),Leveranciersbeoordeling!$H$1:$I$5,2,FALSE),0)","v":0},0]
["",null,null,null,null,null,null,null,null,null,null,null,null,null,null,{"$f":"INDEX($A:$O,ROW(),MATCH('Rapportage per vraag'!$C$12,'Data leveranciersbeoordeling'!$1:$1,0))","v":0},{"$f":"IFERROR(VLOOKUP(INDEX($A:$O,ROW(),MATCH('Rapportage per vraag'!$C$12,'Data leveranciersbeoordeling'!$1:$1,0)),Leveranciersbeoordeling!$H$1:$I$5,2,FALSE),0)","v":0},0]
["",null,null,null,null,null,null,null,null,null,null,null,null,null,null,{"$f":"INDEX($A:$O,ROW(),MATCH('Rapportage per vraag'!$C$12,'Data leveranciersbeoordeling'!$1:$1,0))","v":0},{"$f":"IFERROR(VLOOKUP(INDEX($A:$O,ROW(),MATCH('Rapportage per vraag'!$C$12,'Data leveranciersbeoordeling'!$1:$1,0)),Leveranciersbeoordeling!$H$1:$I$5,2,FALSE),0)","v":0},0]
["",null,null,null,null,null,null,null,null,null,null,null,null,null,null,{"$f":"INDEX($A:$O,ROW(),MATCH('Rapportage per vraag'!$C$12,'Data leveranciersbeoordeling'!$1:$1,0))","v":0},{"$f":"IFERROR(VLOOKUP(INDEX($A:$O,ROW(),MATCH('Rapportage per vraag'!$C$12,'Data leveranciersbeoordeling'!$1:$1,0)),Leveranciersbeoordeling!$H$1:$I$5,2,FALSE),0)","v":0},0]
["",null,null,null,null,null,null,null,null,null,null,null,null,null,null,{"$f":"INDEX($A:$O,ROW(),MATCH('Rapportage per vraag'!$C$12,'Data leveranciersbeoordeling'!$1:$1,0))","v":0},{"$f":"IFERROR(VLOOKUP(INDEX($A:$O,ROW(),MATCH('Rapportage per vraag'!$C$12,'Data leveranciersbeoordeling'!$1:$1,0)),Leveranciersbeoordeling!$H$1:$I$5,2,FALSE),0)","v":0},0]
["",null,null,null,null,null,null,null,null,null,null,null,null,null,null,{"$f":"INDEX($A:$O,ROW(),MATCH('Rapportage per vraag'!$C$12,'Data leveranciersbeoordeling'!$1:$1,0))","v":0},{"$f":"IFERROR(VLOOKUP(INDEX($A:$O,ROW(),MATCH('Rapportage per vraag'!$C$12,'Data leveranciersbeoordeling'!$1:$1,0)),Leveranciersbeoordeling!$H$1:$I$5,2,FALSE),0)","v":0},0]
["",null,null,null,null,null,null,null,null,null,null,null,null,null,null,{"$f":"INDEX($A:$O,ROW(),MATCH('Rapportage per vraag'!$C$12,'Data leveranciersbeoordeling'!$1:$1,0))","v":0},{"$f":"IFERROR(VLOOKUP(INDEX($A:$O,ROW(),MATCH('Rapportage per vraag'!$C$12,'Data leveranciersbeoordeling'!$1:$1,0)),Leveranciersbeoordeling!$H$1:$I$5,2,FALSE),0)","v":0},0]
["",null,null,null,null,null,null,null,null,null,null,null,null,null,null,{"$f":"INDEX($A:$O,ROW(),MATCH('Rapportage per vraag'!$C$12,'Data leveranciersbeoordeling'!$1:$1,0))","v":0},{"$f":"IFERROR(VLOOKUP(INDEX($A:$O,ROW(),MATCH('Rapportage per vraag'!$C$12,'Data leveranciersbeoordeling'!$1:$1,0)),Leveranciersbeoordeling!$H$1:$I$5,2,FALSE),0)","v":0},0]
["",null,null,null,null,null,null,null,null,null,null,null,null,null,null,{"$f":"INDEX($A:$O,ROW(),MATCH('Rapportage per vraag'!$C$12,'Data leveranciersbeoordeling'!$1:$1,0))","v":0},{"$f":"IFERROR(VLOOKUP(INDEX($A:$O,ROW(),MATCH('Rapportage per vraag'!$C$12,'Data leveranciersbeoordeling'!$1:$1,0)),Leveranciersbeoordeling!$H$1:$I$5,2,FALSE),0)","v":0},0]
["",null,null,null,null,null,null,null,null,null,null,null,null,null,null,{"$f":"INDEX($A:$O,ROW(),MATCH('Rapportage per vraag'!$C$12,'Data leveranciersbeoordeling'!$1:$1,0))","v":0},{"$f":"IFERROR(VLOOKUP(INDEX($A:$O,ROW(),MATCH('Rapportage per vraag'!$C$12,'Data leveranciersbeoordeling'!$1:$1,0)),Leveranciersbeoordeling!$H$1:$I$5,2,FALSE),0)","v":0},0]
["",null,null,null,null,null,null,null,null,null,null,null,null,null,null,{"$f":"INDEX($A:$O,ROW(),MATCH('Rapportage per vraag'!$C$12,'Data leveranciersbeoordeling'!$1:$1,0))","v":0},{"$f":"IFERROR(VLOOKUP(INDEX($A:$O,ROW(),MATCH('Rapportage per vraag'!$C$12,'Data leveranciersbeoordeling'!$1:$1,0)),Leveranciersbeoordeling!$H$1:$I$5,2,FALSE),0)","v":0},0]
["",null,null,null,null,null,null,null,null,null,null,null,null,null,null,{"$f":"INDEX($A:$O,ROW(),MATCH('Rapportage per vraag'!$C$12,'Data leveranciersbeoordeling'!$1:$1,0))","v":0},{"$f":"IFERROR(VLOOKUP(INDEX($A:$O,ROW(),MATCH('Rapportage per vraag'!$C$12,'Data leveranciersbeoordeling'!$1:$1,0)),Leveranciersbeoordeling!$H$1:$I$5,2,FALSE),0)","v":0},0]
["",null,null,null,null,null,null,null,null,null,null,null,null,null,null,{"$f":"INDEX($A:$O,ROW(),MATCH('Rapportage per vraag'!$C$12,'Data leveranciersbeoordeling'!$1:$1,0))","v":0},{"$f":"IFERROR(VLOOKUP(INDEX($A:$O,ROW(),MATCH('Rapportage per vraag'!$C$12,'Data leveranciersbeoordeling'!$1:$1,0)),Leveranciersbeoordeling!$H$1:$I$5,2,FALSE),0)","v":0},0]
["",null,null,null,null,null,null,null,null,null,null,null,null,null,null,{"$f":"INDEX($A:$O,ROW(),MATCH('Rapportage per vraag'!$C$12,'Data leveranciersbeoordeling'!$1:$1,0))","v":0},{"$f":"IFERROR(VLOOKUP(INDEX($A:$O,ROW(),MATCH('Rapportage per vraag'!$C$12,'Data leveranciersbeoordeling'!$1:$1,0)),Leveranciersbeoordeling!$H$1:$I$5,2,FALSE),0)","v":0},0]
["",null,null,null,null,null,null,null,null,null,null,null,null,null,null,{"$f":"INDEX($A:$O,ROW(),MATCH('Rapportage per vraag'!$C$12,'Data leveranciersbeoordeling'!$1:$1,0))","v":0},{"$f":"IFERROR(VLOOKUP(INDEX($A:$O,ROW(),MATCH('Rapportage per vraag'!$C$12,'Data leveranciersbeoordeling'!$1:$1,0)),Leveranciersbeoordeling!$H$1:$I$5,2,FALSE),0)","v":0},0]
["",null,null,null,null,null,null,null,null,null,null,null,null,null,null,{"$f":"INDEX($A:$O,ROW(),MATCH('Rapportage per vraag'!$C$12,'Data leveranciersbeoordeling'!$1:$1,0))","v":0},{"$f":"IFERROR(VLOOKUP(INDEX($A:$O,ROW(),MATCH('Rapportage per vraag'!$C$12,'Data leveranciersbeoordeling'!$1:$1,0)),Leveranciersbeoordeling!$H$1:$I$5,2,FALSE),0)","v":0},0]
["",null,null,null,null,null,null,null,null,null,null,null,null,null,null,{"$f":"INDEX($A:$O,ROW(),MATCH('Rapportage per vraag'!$C$12,'Data leveranciersbeoordeling'!$1:$1,0))","v":0},{"$f":"IFERROR(VLOOKUP(INDEX($A:$O,ROW(),MATCH('Rapportage per vraag'!$C$12,'Data leveranciersbeoordeling'!$1:$1,0)),Leveranciersbeoordeling!$H$1:$I$5,2,FALSE),0)","v":0},0]
["",null,null,null,null,null,null,null,null,null,null,null,null,null,null,{"$f":"INDEX($A:$O,ROW(),MATCH('Rapportage per vraag'!$C$12,'Data leveranciersbeoordeling'!$1:$1,0))","v":0},{"$f":"IFERROR(VLOOKUP(INDEX($A:$O,ROW(),MATCH('Rapportage per vraag'!$C$12,'Data leveranciersbeoordeling'!$1:$1,0)),Leveranciersbeoordeling!$H$1:$I$5,2,FALSE),0)","v":0},0]
["",null,null,null,null,null,null,null,null,null,null,null,null,null,null,{"$f":"INDEX($A:$O,ROW(),MATCH('Rapportage per vraag'!$C$12,'Data leveranciersbeoordeling'!$1:$1,0))","v":0},{"$f":"IFERROR(VLOOKUP(INDEX($A:$O,ROW(),MATCH('Rapportage per vraag'!$C$12,'Data leveranciersbeoordeling'!$1:$1,0)),Leveranciersbeoordeling!$H$1:$I$5,2,FALSE),0)","v":0},0]
["",null,null,null,null,null,null,null,null,null,null,null,null,null,null,{"$f":"INDEX($A:$O,ROW(),MATCH('Rapportage per vraag'!$C$12,'Data leveranciersbeoordeling'!$1:$1,0))","v":0},{"$f":"IFERROR(VLOOKUP(INDEX($A:$O,ROW(),MATCH('Rapportage per vraag'!$C$12,'Data leveranciersbeoordeling'!$1:$1,0)),Leveranciersbeoordeling!$H$1:$I$5,2,FALSE),0)","v":0},0]
["",null,null,null,null,null,null,null,null,null,null,null,null,null,null,{"$f":"INDEX($A:$O,ROW(),MATCH('Rapportage per vraag'!$C$12,'Data leveranciersbeoordeling'!$1:$1,0))","v":0},{"$f":"IFERROR(VLOOKUP(INDEX($A:$O,ROW(),MATCH('Rapportage per vraag'!$C$12,'Data leveranciersbeoordeling'!$1:$1,0)),Leveranciersbeoordeling!$H$1:$I$5,2,FALSE),0)","v":0},0]
["",null,null,null,null,null,null,null,null,null,null,null,null,null,null,{"$f":"INDEX($A:$O,ROW(),MATCH('Rapportage per vraag'!$C$12,'Data leveranciersbeoordeling'!$1:$1,0))","v":0},{"$f":"IFERROR(VLOOKUP(INDEX($A:$O,ROW(),MATCH('Rapportage per vraag'!$C$12,'Data leveranciersbeoordeling'!$1:$1,0)),Leveranciersbeoordeling!$H$1:$I$5,2,FALSE),0)","v":0},0]
["",null,null,null,null,null,null,null,null,null,null,null,null,null,null,{"$f":"INDEX($A:$O,ROW(),MATCH('Rapportage per vraag'!$C$12,'Data leveranciersbeoordeling'!$1:$1,0))","v":0},{"$f":"IFERROR(VLOOKUP(INDEX($A:$O,ROW(),MATCH('Rapportage per vraag'!$C$12,'Data leveranciersbeoordeling'!$1:$1,0)),Leveranciersbeoordeling!$H$1:$I$5,2,FALSE),0)","v":0},0]
["",null,null,null,null,null,null,null,null,null,null,null,null,null,null,{"$f":"INDEX($A:$O,ROW(),MATCH('Rapportage per vraag'!$C$12,'Data leveranciersbeoordeling'!$1:$1,0))","v":0},{"$f":"IFERROR(VLOOKUP(INDEX($A:$O,ROW(),MATCH('Rapportage per vraag'!$C$12,'Data leveranciersbeoordeling'!$1:$1,0)),Leveranciersbeoordeling!$H$1:$I$5,2,FALSE),0)","v":0},0]
["",null,null,null,null,null,null,null,null,null,null,null,null,null,null,{"$f":"INDEX($A:$O,ROW(),MATCH('Rapportage per vraag'!$C$12,'Data leveranciersbeoordeling'!$1:$1,0))","v":0},{"$f":"IFERROR(VLOOKUP(INDEX($A:$O,ROW(),MATCH('Rapportage per vraag'!$C$12,'Data leveranciersbeoordeling'!$1:$1,0)),Leveranciersbeoordeling!$H$1:$I$5,2,FALSE),0)","v":0},0]
["",null,null,null,null,null,null,null,null,null,null,null,null,null,null,{"$f":"INDEX($A:$O,ROW(),MATCH('Rapportage per vraag'!$C$12,'Data leveranciersbeoordeling'!$1:$1,0))","v":0},{"$f":"IFERROR(VLOOKUP(INDEX($A:$O,ROW(),MATCH('Rapportage per vraag'!$C$12,'Data leveranciersbeoordeling'!$1:$1,0)),Leveranciersbeoordeling!$H$1:$I$5,2,FALSE),0)","v":0},0]
["",null,null,null,null,null,null,null,null,null,null,null,null,null,null,{"$f":"INDEX($A:$O,ROW(),MATCH('Rapportage per vraag'!$C$12,'Data leveranciersbeoordeling'!$1:$1,0))","v":0},{"$f":"IFERROR(VLOOKUP(INDEX($A:$O,ROW(),MATCH('Rapportage per vraag'!$C$12,'Data leveranciersbeoordeling'!$1:$1,0)),Leveranciersbeoordeling!$H$1:$I$5,2,FALSE),0)","v":0},0]
["",null,null,null,null,null,null,null,null,null,null,null,null,null,null,{"$f":"INDEX($A:$O,ROW(),MATCH('Rapportage per vraag'!$C$12,'Data leveranciersbeoordeling'!$1:$1,0))","v":0},{"$f":"IFERROR(VLOOKUP(INDEX($A:$O,ROW(),MATCH('Rapportage per vraag'!$C$12,'Data leveranciersbeoordeling'!$1:$1,0)),Leveranciersbeoordeling!$H$1:$I$5,2,FALSE),0)","v":0},0]
["",null,null,null,null,null,null,null,null,null,null,null,null,null,null,{"$f":"INDEX($A:$O,ROW(),MATCH('Rapportage per vraag'!$C$12,'Data leveranciersbeoordeling'!$1:$1,0))","v":0},{"$f":"IFERROR(VLOOKUP(INDEX($A:$O,ROW(),MATCH('Rapportage per vraag'!$C$12,'Data leveranciersbeoordeling'!$1:$1,0)),Leveranciersbeoordeling!$H$1:$I$5,2,FALSE),0)","v":0},0]
["",null,null,null,null,null,null,null,null,null,null,null,null,null,null,{"$f":"INDEX($A:$O,ROW(),MATCH('Rapportage per vraag'!$C$12,'Data leveranciersbeoordeling'!$1:$1,0))","v":0},{"$f":"IFERROR(VLOOKUP(INDEX($A:$O,ROW(),MATCH('Rapportage per vraag'!$C$12,'Data leveranciersbeoordeling'!$1:$1,0)),Leveranciersbeoordeling!$H$1:$I$5,2,FALSE),0)","v":0},0]
["",null,null,null,null,null,null,null,null,null,null,null,null,null,null,{"$f":"INDEX($A:$O,ROW(),MATCH('Rapportage per vraag'!$C$12,'Data leveranciersbeoordeling'!$1:$1,0))","v":0},{"$f":"IFERROR(VLOOKUP(INDEX($A:$O,ROW(),MATCH('Rapportage per vraag'!$C$12,'Data leveranciersbeoordeling'!$1:$1,0)),Leveranciersbeoordeling!$H$1:$I$5,2,FALSE),0)","v":0},0]
["",null,null,null,null,null,null,null,null,null,null,null,null,null,null,{"$f":"INDEX($A:$O,ROW(),MATCH('Rapportage per vraag'!$C$12,'Data leveranciersbeoordeling'!$1:$1,0))","v":0},{"$f":"IFERROR(VLOOKUP(INDEX($A:$O,ROW(),MATCH('Rapportage per vraag'!$C$12,'Data leveranciersbeoordeling'!$1:$1,0)),Leveranciersbeoordeling!$H$1:$I$5,2,FALSE),0)","v":0},0]
["",null,null,null,null,null,null,null,null,null,null,null,null,null,null,{"$f":"INDEX($A:$O,ROW(),MATCH('Rapportage per vraag'!$C$12,'Data leveranciersbeoordeling'!$1:$1,0))","v":0},{"$f":"IFERROR(VLOOKUP(INDEX($A:$O,ROW(),MATCH('Rapportage per vraag'!$C$12,'Data leveranciersbeoordeling'!$1:$1,0)),Leveranciersbeoordeling!$H$1:$I$5,2,FALSE),0)","v":0},0]
["",null,null,null,null,null,null,null,null,null,null,null,null,null,null,{"$f":"INDEX($A:$O,ROW(),MATCH('Rapportage per vraag'!$C$12,'Data leveranciersbeoordeling'!$1:$1,0))","v":0},{"$f":"IFERROR(VLOOKUP(INDEX($A:$O,ROW(),MATCH('Rapportage per vraag'!$C$12,'Data leveranciersbeoordeling'!$1:$1,0)),Leveranciersbeoordeling!$H$1:$I$5,2,FALSE),0)","v":0},0]
["",null,null,null,null,null,null,null,null,null,null,null,null,null,null,{"$f":"INDEX($A:$O,ROW(),MATCH('Rapportage per vraag'!$C$12,'Data leveranciersbeoordeling'!$1:$1,0))","v":0},{"$f":"IFERROR(VLOOKUP(INDEX($A:$O,ROW(),MATCH('Rapportage per vraag'!$C$12,'Data leveranciersbeoordeling'!$1:$1,0)),Leveranciersbeoordeling!$H$1:$I$5,2,FALSE),0)","v":0},0]
["",null,null,null,null,null,null,null,null,null,null,null,null,null,null,{"$f":"INDEX($A:$O,ROW(),MATCH('Rapportage per vraag'!$C$12,'Data leveranciersbeoordeling'!$1:$1,0))","v":0},{"$f":"IFERROR(VLOOKUP(INDEX($A:$O,ROW(),MATCH('Rapportage per vraag'!$C$12,'Data leveranciersbeoordeling'!$1:$1,0)),Leveranciersbeoordeling!$H$1:$I$5,2,FALSE),0)","v":0},0]
["",null,null,null,null,null,null,null,null,null,null,null,null,null,null,{"$f":"INDEX($A:$O,ROW(),MATCH('Rapportage per vraag'!$C$12,'Data leveranciersbeoordeling'!$1:$1,0))","v":0},{"$f":"IFERROR(VLOOKUP(INDEX($A:$O,ROW(),MATCH('Rapportage per vraag'!$C$12,'Data leveranciersbeoordeling'!$1:$1,0)),Leveranciersbeoordeling!$H$1:$I$5,2,FALSE),0)","v":0},0]
["",null,null,null,null,null,null,null,null,null,null,null,null,null,null,{"$f":"INDEX($A:$O,ROW(),MATCH('Rapportage per vraag'!$C$12,'Data leveranciersbeoordeling'!$1:$1,0))","v":0},{"$f":"IFERROR(VLOOKUP(INDEX($A:$O,ROW(),MATCH('Rapportage per vraag'!$C$12,'Data leveranciersbeoordeling'!$1:$1,0)),Leveranciersbeoordeling!$H$1:$I$5,2,FALSE),0)","v":0},0]
["",null,null,null,null,null,null,null,null,null,null,null,null,null,null,{"$f":"INDEX($A:$O,ROW(),MATCH('Rapportage per vraag'!$C$12,'Data leveranciersbeoordeling'!$1:$1,0))","v":0},{"$f":"IFERROR(VLOOKUP(INDEX($A:$O,ROW(),MATCH('Rapportage per vraag'!$C$12,'Data leveranciersbeoordeling'!$1:$1,0)),Leveranciersbeoordeling!$H$1:$I$5,2,FALSE),0)","v":0},0]
["",null,null,null,null,null,null,null,null,null,null,null,null,null,null,{"$f":"INDEX($A:$O,ROW(),MATCH('Rapportage per vraag'!$C$12,'Data leveranciersbeoordeling'!$1:$1,0))","v":0},{"$f":"IFERROR(VLOOKUP(INDEX($A:$O,ROW(),MATCH('Rapportage per vraag'!$C$12,'Data leveranciersbeoordeling'!$1:$1,0)),Leveranciersbeoordeling!$H$1:$I$5,2,FALSE),0)","v":0},0]
["",null,null,null,null,null,null,null,null,null,null,null,null,null,null,{"$f":"INDEX($A:$O,ROW(),MATCH('Rapportage per vraag'!$C$12,'Data leveranciersbeoordeling'!$1:$1,0))","v":0},{"$f":"IFERROR(VLOOKUP(INDEX($A:$O,ROW(),MATCH('Rapportage per vraag'!$C$12,'Data leveranciersbeoordeling'!$1:$1,0)),Leveranciersbeoordeling!$H$1:$I$5,2,FALSE),0)","v":0},0]
["",null,null,null,null,null,null,null,null,null,null,null,null,null,null,{"$f":"INDEX($A:$O,ROW(),MATCH('Rapportage per vraag'!$C$12,'Data leveranciersbeoordeling'!$1:$1,0))","v":0},{"$f":"IFERROR(VLOOKUP(INDEX($A:$O,ROW(),MATCH('Rapportage per vraag'!$C$12,'Data leveranciersbeoordeling'!$1:$1,0)),Leveranciersbeoordeling!$H$1:$I$5,2,FALSE),0)","v":0},0]
["",null,null,null,null,null,null,null,null,null,null,null,null,null,null,{"$f":"INDEX($A:$O,ROW(),MATCH('Rapportage per vraag'!$C$12,'Data leveranciersbeoordeling'!$1:$1,0))","v":0},{"$f":"IFERROR(VLOOKUP(INDEX($A:$O,ROW(),MATCH('Rapportage per vraag'!$C$12,'Data leveranciersbeoordeling'!$1:$1,0)),Leveranciersbeoordeling!$H$1:$I$5,2,FALSE),0)","v":0},0]
[{"$f":"CONCATENATE(B1475,C1475,D1475)","v":""},null,null,null,null,null,null,null,null,null,null,null,null,null,null,{"$f":"INDEX($A:$O,ROW(),MATCH('Rapportage per vraag'!$C$12,'Data leveranciersbeoordeling'!$1:$1,0))","v":0},{"$f":"IFERROR(VLOOKUP(INDEX($A:$O,ROW(),MATCH('Rapportage per vraag'!$C$12,'Data leveranciersbeoordeling'!$1:$1,0)),Leveranciersbeoordeling!$H$1:$I$5,2,FALSE),0)","v":0},0]
["",null,null,null,null,null,null,null,null,null,null,null,null,null,null,{"$f":"INDEX($A:$O,ROW(),MATCH('Rapportage per vraag'!$C$12,'Data leveranciersbeoordeling'!$1:$1,0))","v":0},{"$f":"IFERROR(VLOOKUP(INDEX($A:$O,ROW(),MATCH('Rapportage per vraag'!$C$12,'Data leveranciersbeoordeling'!$1:$1,0)),Leveranciersbeoordeling!$H$1:$I$5,2,FALSE),0)","v":0},0]
["",null,null,null,null,null,null,null,null,null,null,null,null,null,null,{"$f":"INDEX($A:$O,ROW(),MATCH('Rapportage per vraag'!$C$12,'Data leveranciersbeoordeling'!$1:$1,0))","v":0},{"$f":"IFERROR(VLOOKUP(INDEX($A:$O,ROW(),MATCH('Rapportage per vraag'!$C$12,'Data leveranciersbeoordeling'!$1:$1,0)),Leveranciersbeoordeling!$H$1:$I$5,2,FALSE),0)","v":0},0]
["",null,null,null,null,null,null,null,null,null,null,null,null,null,null,{"$f":"INDEX($A:$O,ROW(),MATCH('Rapportage per vraag'!$C$12,'Data leveranciersbeoordeling'!$1:$1,0))","v":0},{"$f":"IFERROR(VLOOKUP(INDEX($A:$O,ROW(),MATCH('Rapportage per vraag'!$C$12,'Data leveranciersbeoordeling'!$1:$1,0)),Leveranciersbeoordeling!$H$1:$I$5,2,FALSE),0)","v":0},{"$f":"IF(T(P1478)=P1478,Q1478,P1478)","v":0}]
["",null,null,null,null,null,null,null,null,null,null,null,null,null,null,{"$f":"INDEX($A:$O,ROW(),MATCH('Rapportage per vraag'!$C$12,'Data leveranciersbeoordeling'!$1:$1,0))","v":0},{"$f":"IFERROR(VLOOKUP(INDEX($A:$O,ROW(),MATCH('Rapportage per vraag'!$C$12,'Data leveranciersbeoordeling'!$1:$1,0)),Leveranciersbeoordeling!$H$1:$I$5,2,FALSE),0)","v":0},0]
["",null,null,null,null,null,null,null,null,null,null,null,null,null,null,{"$f":"INDEX($A:$O,ROW(),MATCH('Rapportage per vraag'!$C$12,'Data leveranciersbeoordeling'!$1:$1,0))","v":0},{"$f":"IFERROR(VLOOKUP(INDEX($A:$O,ROW(),MATCH('Rapportage per vraag'!$C$12,'Data leveranciersbeoordeling'!$1:$1,0)),Leveranciersbeoordeling!$H$1:$I$5,2,FALSE),0)","v":0},0]
["",null,null,null,null,null,null,null,null,null,null,null,null,null,null,{"$f":"INDEX($A:$O,ROW(),MATCH('Rapportage per vraag'!$C$12,'Data leveranciersbeoordeling'!$1:$1,0))","v":0},{"$f":"IFERROR(VLOOKUP(INDEX($A:$O,ROW(),MATCH('Rapportage per vraag'!$C$12,'Data leveranciersbeoordeling'!$1:$1,0)),Leveranciersbeoordeling!$H$1:$I$5,2,FALSE),0)","v":0},0]
["",null,null,null,null,null,null,null,null,null,null,null,null,null,null,{"$f":"INDEX($A:$O,ROW(),MATCH('Rapportage per vraag'!$C$12,'Data leveranciersbeoordeling'!$1:$1,0))","v":0},{"$f":"IFERROR(VLOOKUP(INDEX($A:$O,ROW(),MATCH('Rapportage per vraag'!$C$12,'Data leveranciersbeoordeling'!$1:$1,0)),Leveranciersbeoordeling!$H$1:$I$5,2,FALSE),0)","v":0},0]
["",null,null,null,null,null,null,null,null,null,null,null,null,null,null,{"$f":"INDEX($A:$O,ROW(),MATCH('Rapportage per vraag'!$C$12,'Data leveranciersbeoordeling'!$1:$1,0))","v":0},{"$f":"IFERROR(VLOOKUP(INDEX($A:$O,ROW(),MATCH('Rapportage per vraag'!$C$12,'Data leveranciersbeoordeling'!$1:$1,0)),Leveranciersbeoordeling!$H$1:$I$5,2,FALSE),0)","v":0},0]
["",null,null,null,null,null,null,null,null,null,null,null,null,null,null,{"$f":"INDEX($A:$O,ROW(),MATCH('Rapportage per vraag'!$C$12,'Data leveranciersbeoordeling'!$1:$1,0))","v":0},{"$f":"IFERROR(VLOOKUP(INDEX($A:$O,ROW(),MATCH('Rapportage per vraag'!$C$12,'Data leveranciersbeoordeling'!$1:$1,0)),Leveranciersbeoordeling!$H$1:$I$5,2,FALSE),0)","v":0},0]
["",null,null,null,null,null,null,null,null,null,null,null,null,null,null,{"$f":"INDEX($A:$O,ROW(),MATCH('Rapportage per vraag'!$C$12,'Data leveranciersbeoordeling'!$1:$1,0))","v":0},{"$f":"IFERROR(VLOOKUP(INDEX($A:$O,ROW(),MATCH('Rapportage per vraag'!$C$12,'Data leveranciersbeoordeling'!$1:$1,0)),Leveranciersbeoordeling!$H$1:$I$5,2,FALSE),0)","v":0},0]
["",null,null,null,null,null,null,null,null,null,null,null,null,null,null,{"$f":"INDEX($A:$O,ROW(),MATCH('Rapportage per vraag'!$C$12,'Data leveranciersbeoordeling'!$1:$1,0))","v":0},{"$f":"IFERROR(VLOOKUP(INDEX($A:$O,ROW(),MATCH('Rapportage per vraag'!$C$12,'Data leveranciersbeoordeling'!$1:$1,0)),Leveranciersbeoordeling!$H$1:$I$5,2,FALSE),0)","v":0},0]
["",null,null,null,null,null,null,null,null,null,null,null,null,null,null,{"$f":"INDEX($A:$O,ROW(),MATCH('Rapportage per vraag'!$C$12,'Data leveranciersbeoordeling'!$1:$1,0))","v":0},{"$f":"IFERROR(VLOOKUP(INDEX($A:$O,ROW(),MATCH('Rapportage per vraag'!$C$12,'Data leveranciersbeoordeling'!$1:$1,0)),Leveranciersbeoordeling!$H$1:$I$5,2,FALSE),0)","v":0},0]
["",null,null,null,null,null,null,null,null,null,null,null,null,null,null,{"$f":"INDEX($A:$O,ROW(),MATCH('Rapportage per vraag'!$C$12,'Data leveranciersbeoordeling'!$1:$1,0))","v":0},{"$f":"IFERROR(VLOOKUP(INDEX($A:$O,ROW(),MATCH('Rapportage per vraag'!$C$12,'Data leveranciersbeoordeling'!$1:$1,0)),Leveranciersbeoordeling!$H$1:$I$5,2,FALSE),0)","v":0},0]
["",null,null,null,null,null,null,null,null,null,null,null,null,null,null,{"$f":"INDEX($A:$O,ROW(),MATCH('Rapportage per vraag'!$C$12,'Data leveranciersbeoordeling'!$1:$1,0))","v":0},{"$f":"IFERROR(VLOOKUP(INDEX($A:$O,ROW(),MATCH('Rapportage per vraag'!$C$12,'Data leveranciersbeoordeling'!$1:$1,0)),Leveranciersbeoordeling!$H$1:$I$5,2,FALSE),0)","v":0},0]
["",null,null,null,null,null,null,null,null,null,null,null,null,null,null,{"$f":"INDEX($A:$O,ROW(),MATCH('Rapportage per vraag'!$C$12,'Data leveranciersbeoordeling'!$1:$1,0))","v":0},{"$f":"IFERROR(VLOOKUP(INDEX($A:$O,ROW(),MATCH('Rapportage per vraag'!$C$12,'Data leveranciersbeoordeling'!$1:$1,0)),Leveranciersbeoordeling!$H$1:$I$5,2,FALSE),0)","v":0},0]
["",null,null,null,null,null,null,null,null,null,null,null,null,null,null,{"$f":"INDEX($A:$O,ROW(),MATCH('Rapportage per vraag'!$C$12,'Data leveranciersbeoordeling'!$1:$1,0))","v":0},{"$f":"IFERROR(VLOOKUP(INDEX($A:$O,ROW(),MATCH('Rapportage per vraag'!$C$12,'Data leveranciersbeoordeling'!$1:$1,0)),Leveranciersbeoordeling!$H$1:$I$5,2,FALSE),0)","v":0},0]
["",null,null,null,null,null,null,null,null,null,null,null,null,null,null,{"$f":"INDEX($A:$O,ROW(),MATCH('Rapportage per vraag'!$C$12,'Data leveranciersbeoordeling'!$1:$1,0))","v":0},{"$f":"IFERROR(VLOOKUP(INDEX($A:$O,ROW(),MATCH('Rapportage per vraag'!$C$12,'Data leveranciersbeoordeling'!$1:$1,0)),Leveranciersbeoordeling!$H$1:$I$5,2,FALSE),0)","v":0},0]
["",null,null,null,null,null,null,null,null,null,null,null,null,null,null,{"$f":"INDEX($A:$O,ROW(),MATCH('Rapportage per vraag'!$C$12,'Data leveranciersbeoordeling'!$1:$1,0))","v":0},{"$f":"IFERROR(VLOOKUP(INDEX($A:$O,ROW(),MATCH('Rapportage per vraag'!$C$12,'Data leveranciersbeoordeling'!$1:$1,0)),Leveranciersbeoordeling!$H$1:$I$5,2,FALSE),0)","v":0},0]
["",null,null,null,null,null,null,null,null,null,null,null,null,null,null,{"$f":"INDEX($A:$O,ROW(),MATCH('Rapportage per vraag'!$C$12,'Data leveranciersbeoordeling'!$1:$1,0))","v":0},{"$f":"IFERROR(VLOOKUP(INDEX($A:$O,ROW(),MATCH('Rapportage per vraag'!$C$12,'Data leveranciersbeoordeling'!$1:$1,0)),Leveranciersbeoordeling!$H$1:$I$5,2,FALSE),0)","v":0},0]
["",null,null,null,null,null,null,null,null,null,null,null,null,null,null,{"$f":"INDEX($A:$O,ROW(),MATCH('Rapportage per vraag'!$C$12,'Data leveranciersbeoordeling'!$1:$1,0))","v":0},{"$f":"IFERROR(VLOOKUP(INDEX($A:$O,ROW(),MATCH('Rapportage per vraag'!$C$12,'Data leveranciersbeoordeling'!$1:$1,0)),Leveranciersbeoordeling!$H$1:$I$5,2,FALSE),0)","v":0},0]
["",null,null,null,null,null,null,null,null,null,null,null,null,null,null,{"$f":"INDEX($A:$O,ROW(),MATCH('Rapportage per vraag'!$C$12,'Data leveranciersbeoordeling'!$1:$1,0))","v":0},{"$f":"IFERROR(VLOOKUP(INDEX($A:$O,ROW(),MATCH('Rapportage per vraag'!$C$12,'Data leveranciersbeoordeling'!$1:$1,0)),Leveranciersbeoordeling!$H$1:$I$5,2,FALSE),0)","v":0},0]
["",null,null,null,null,null,null,null,null,null,null,null,null,null,null,{"$f":"INDEX($A:$O,ROW(),MATCH('Rapportage per vraag'!$C$12,'Data leveranciersbeoordeling'!$1:$1,0))","v":0},{"$f":"IFERROR(VLOOKUP(INDEX($A:$O,ROW(),MATCH('Rapportage per vraag'!$C$12,'Data leveranciersbeoordeling'!$1:$1,0)),Leveranciersbeoordeling!$H$1:$I$5,2,FALSE),0)","v":0},0]
["",null,null,null,null,null,null,null,null,null,null,null,null,null,null,{"$f":"INDEX($A:$O,ROW(),MATCH('Rapportage per vraag'!$C$12,'Data leveranciersbeoordeling'!$1:$1,0))","v":0},{"$f":"IFERROR(VLOOKUP(INDEX($A:$O,ROW(),MATCH('Rapportage per vraag'!$C$12,'Data leveranciersbeoordeling'!$1:$1,0)),Leveranciersbeoordeling!$H$1:$I$5,2,FALSE),0)","v":0},0]
["",null,null,null,null,null,null,null,null,null,null,null,null,null,null,{"$f":"INDEX($A:$O,ROW(),MATCH('Rapportage per vraag'!$C$12,'Data leveranciersbeoordeling'!$1:$1,0))","v":0},{"$f":"IFERROR(VLOOKUP(INDEX($A:$O,ROW(),MATCH('Rapportage per vraag'!$C$12,'Data leveranciersbeoordeling'!$1:$1,0)),Leveranciersbeoordeling!$H$1:$I$5,2,FALSE),0)","v":0},0]
["",null,null,null,null,null,null,null,null,null,null,null,null,null,null,{"$f":"INDEX($A:$O,ROW(),MATCH('Rapportage per vraag'!$C$12,'Data leveranciersbeoordeling'!$1:$1,0))","v":0},{"$f":"IFERROR(VLOOKUP(INDEX($A:$O,ROW(),MATCH('Rapportage per vraag'!$C$12,'Data leveranciersbeoordeling'!$1:$1,0)),Leveranciersbeoordeling!$H$1:$I$5,2,FALSE),0)","v":0},0]
["",null,null,null,null,null,null,null,null,null,null,null,null,null,null,{"$f":"INDEX($A:$O,ROW(),MATCH('Rapportage per vraag'!$C$12,'Data leveranciersbeoordeling'!$1:$1,0))","v":0},{"$f":"IFERROR(VLOOKUP(INDEX($A:$O,ROW(),MATCH('Rapportage per vraag'!$C$12,'Data leveranciersbeoordeling'!$1:$1,0)),Leveranciersbeoordeling!$H$1:$I$5,2,FALSE),0)","v":0},0]
["",null,null,null,null,null,null,null,null,null,null,null,null,null,null,{"$f":"INDEX($A:$O,ROW(),MATCH('Rapportage per vraag'!$C$12,'Data leveranciersbeoordeling'!$1:$1,0))","v":0},{"$f":"IFERROR(VLOOKUP(INDEX($A:$O,ROW(),MATCH('Rapportage per vraag'!$C$12,'Data leveranciersbeoordeling'!$1:$1,0)),Leveranciersbeoordeling!$H$1:$I$5,2,FALSE),0)","v":0},0]
["",null,null,null,null,null,null,null,null,null,null,null,null,null,null,{"$f":"INDEX($A:$O,ROW(),MATCH('Rapportage per vraag'!$C$12,'Data leveranciersbeoordeling'!$1:$1,0))","v":0},{"$f":"IFERROR(VLOOKUP(INDEX($A:$O,ROW(),MATCH('Rapportage per vraag'!$C$12,'Data leveranciersbeoordeling'!$1:$1,0)),Leveranciersbeoordeling!$H$1:$I$5,2,FALSE),0)","v":0},0]
["",null,null,null,null,null,null,null,null,null,null,null,null,null,null,{"$f":"INDEX($A:$O,ROW(),MATCH('Rapportage per vraag'!$C$12,'Data leveranciersbeoordeling'!$1:$1,0))","v":0},{"$f":"IFERROR(VLOOKUP(INDEX($A:$O,ROW(),MATCH('Rapportage per vraag'!$C$12,'Data leveranciersbeoordeling'!$1:$1,0)),Leveranciersbeoordeling!$H$1:$I$5,2,FALSE),0)","v":0},0]
["",null,null,null,null,null,null,null,null,null,null,null,null,null,null,{"$f":"INDEX($A:$O,ROW(),MATCH('Rapportage per vraag'!$C$12,'Data leveranciersbeoordeling'!$1:$1,0))","v":0},{"$f":"IFERROR(VLOOKUP(INDEX($A:$O,ROW(),MATCH('Rapportage per vraag'!$C$12,'Data leveranciersbeoordeling'!$1:$1,0)),Leveranciersbeoordeling!$H$1:$I$5,2,FALSE),0)","v":0},0]
["",null,null,null,null,null,null,null,null,null,null,null,null,null,null,{"$f":"INDEX($A:$O,ROW(),MATCH('Rapportage per vraag'!$C$12,'Data leveranciersbeoordeling'!$1:$1,0))","v":0},{"$f":"IFERROR(VLOOKUP(INDEX($A:$O,ROW(),MATCH('Rapportage per vraag'!$C$12,'Data leveranciersbeoordeling'!$1:$1,0)),Leveranciersbeoordeling!$H$1:$I$5,2,FALSE),0)","v":0},0]
["",null,null,null,null,null,null,null,null,null,null,null,null,null,null,{"$f":"INDEX($A:$O,ROW(),MATCH('Rapportage per vraag'!$C$12,'Data leveranciersbeoordeling'!$1:$1,0))","v":0},{"$f":"IFERROR(VLOOKUP(INDEX($A:$O,ROW(),MATCH('Rapportage per vraag'!$C$12,'Data leveranciersbeoordeling'!$1:$1,0)),Leveranciersbeoordeling!$H$1:$I$5,2,FALSE),0)","v":0},0]
["",null,null,null,null,null,null,null,null,null,null,null,null,null,null,{"$f":"INDEX($A:$O,ROW(),MATCH('Rapportage per vraag'!$C$12,'Data leveranciersbeoordeling'!$1:$1,0))","v":0},{"$f":"IFERROR(VLOOKUP(INDEX($A:$O,ROW(),MATCH('Rapportage per vraag'!$C$12,'Data leveranciersbeoordeling'!$1:$1,0)),Leveranciersbeoordeling!$H$1:$I$5,2,FALSE),0)","v":0},0]
["",null,null,null,null,null,null,null,null,null,null,null,null,null,null,{"$f":"INDEX($A:$O,ROW(),MATCH('Rapportage per vraag'!$C$12,'Data leveranciersbeoordeling'!$1:$1,0))","v":0},{"$f":"IFERROR(VLOOKUP(INDEX($A:$O,ROW(),MATCH('Rapportage per vraag'!$C$12,'Data leveranciersbeoordeling'!$1:$1,0)),Leveranciersbeoordeling!$H$1:$I$5,2,FALSE),0)","v":0},0]
["",null,null,null,null,null,null,null,null,null,null,null,null,null,null,{"$f":"INDEX($A:$O,ROW(),MATCH('Rapportage per vraag'!$C$12,'Data leveranciersbeoordeling'!$1:$1,0))","v":0},{"$f":"IFERROR(VLOOKUP(INDEX($A:$O,ROW(),MATCH('Rapportage per vraag'!$C$12,'Data leveranciersbeoordeling'!$1:$1,0)),Leveranciersbeoordeling!$H$1:$I$5,2,FALSE),0)","v":0},0]
["",null,null,null,null,null,null,null,null,null,null,null,null,null,null,{"$f":"INDEX($A:$O,ROW(),MATCH('Rapportage per vraag'!$C$12,'Data leveranciersbeoordeling'!$1:$1,0))","v":0},{"$f":"IFERROR(VLOOKUP(INDEX($A:$O,ROW(),MATCH('Rapportage per vraag'!$C$12,'Data leveranciersbeoordeling'!$1:$1,0)),Leveranciersbeoordeling!$H$1:$I$5,2,FALSE),0)","v":0},0]
["",null,null,null,null,null,null,null,null,null,null,null,null,null,null,{"$f":"INDEX($A:$O,ROW(),MATCH('Rapportage per vraag'!$C$12,'Data leveranciersbeoordeling'!$1:$1,0))","v":0},{"$f":"IFERROR(VLOOKUP(INDEX($A:$O,ROW(),MATCH('Rapportage per vraag'!$C$12,'Data leveranciersbeoordeling'!$1:$1,0)),Leveranciersbeoordeling!$H$1:$I$5,2,FALSE),0)","v":0},0]
["",null,null,null,null,null,null,null,null,null,null,null,null,null,null,{"$f":"INDEX($A:$O,ROW(),MATCH('Rapportage per vraag'!$C$12,'Data leveranciersbeoordeling'!$1:$1,0))","v":0},{"$f":"IFERROR(VLOOKUP(INDEX($A:$O,ROW(),MATCH('Rapportage per vraag'!$C$12,'Data leveranciersbeoordeling'!$1:$1,0)),Leveranciersbeoordeling!$H$1:$I$5,2,FALSE),0)","v":0},0]
["",null,null,null,null,null,null,null,null,null,null,null,null,null,null,{"$f":"INDEX($A:$O,ROW(),MATCH('Rapportage per vraag'!$C$12,'Data leveranciersbeoordeling'!$1:$1,0))","v":0},{"$f":"IFERROR(VLOOKUP(INDEX($A:$O,ROW(),MATCH('Rapportage per vraag'!$C$12,'Data leveranciersbeoordeling'!$1:$1,0)),Leveranciersbeoordeling!$H$1:$I$5,2,FALSE),0)","v":0},0]
["",null,null,null,null,null,null,null,null,null,null,null,null,null,null,{"$f":"INDEX($A:$O,ROW(),MATCH('Rapportage per vraag'!$C$12,'Data leveranciersbeoordeling'!$1:$1,0))","v":0},{"$f":"IFERROR(VLOOKUP(INDEX($A:$O,ROW(),MATCH('Rapportage per vraag'!$C$12,'Data leveranciersbeoordeling'!$1:$1,0)),Leveranciersbeoordeling!$H$1:$I$5,2,FALSE),0)","v":0},0]
["",null,null,null,null,null,null,null,null,null,null,null,null,null,null,{"$f":"INDEX($A:$O,ROW(),MATCH('Rapportage per vraag'!$C$12,'Data leveranciersbeoordeling'!$1:$1,0))","v":0},{"$f":"IFERROR(VLOOKUP(INDEX($A:$O,ROW(),MATCH('Rapportage per vraag'!$C$12,'Data leveranciersbeoordeling'!$1:$1,0)),Leveranciersbeoordeling!$H$1:$I$5,2,FALSE),0)","v":0},0]
["",null,null,null,null,null,null,null,null,null,null,null,null,null,null,{"$f":"INDEX($A:$O,ROW(),MATCH('Rapportage per vraag'!$C$12,'Data leveranciersbeoordeling'!$1:$1,0))","v":0},{"$f":"IFERROR(VLOOKUP(INDEX($A:$O,ROW(),MATCH('Rapportage per vraag'!$C$12,'Data leveranciersbeoordeling'!$1:$1,0)),Leveranciersbeoordeling!$H$1:$I$5,2,FALSE),0)","v":0},0]
["",null,null,null,null,null,null,null,null,null,null,null,null,null,null,{"$f":"INDEX($A:$O,ROW(),MATCH('Rapportage per vraag'!$C$12,'Data leveranciersbeoordeling'!$1:$1,0))","v":0},{"$f":"IFERROR(VLOOKUP(INDEX($A:$O,ROW(),MATCH('Rapportage per vraag'!$C$12,'Data leveranciersbeoordeling'!$1:$1,0)),Leveranciersbeoordeling!$H$1:$I$5,2,FALSE),0)","v":0},0]
["",null,null,null,null,null,null,null,null,null,null,null,null,null,null,{"$f":"INDEX($A:$O,ROW(),MATCH('Rapportage per vraag'!$C$12,'Data leveranciersbeoordeling'!$1:$1,0))","v":0},{"$f":"IFERROR(VLOOKUP(INDEX($A:$O,ROW(),MATCH('Rapportage per vraag'!$C$12,'Data leveranciersbeoordeling'!$1:$1,0)),Leveranciersbeoordeling!$H$1:$I$5,2,FALSE),0)","v":0},0]
["",null,null,null,null,null,null,null,null,null,null,null,null,null,null,{"$f":"INDEX($A:$O,ROW(),MATCH('Rapportage per vraag'!$C$12,'Data leveranciersbeoordeling'!$1:$1,0))","v":0},{"$f":"IFERROR(VLOOKUP(INDEX($A:$O,ROW(),MATCH('Rapportage per vraag'!$C$12,'Data leveranciersbeoordeling'!$1:$1,0)),Leveranciersbeoordeling!$H$1:$I$5,2,FALSE),0)","v":0},0]
["",null,null,null,null,null,null,null,null,null,null,null,null,null,null,{"$f":"INDEX($A:$O,ROW(),MATCH('Rapportage per vraag'!$C$12,'Data leveranciersbeoordeling'!$1:$1,0))","v":0},{"$f":"IFERROR(VLOOKUP(INDEX($A:$O,ROW(),MATCH('Rapportage per vraag'!$C$12,'Data leveranciersbeoordeling'!$1:$1,0)),Leveranciersbeoordeling!$H$1:$I$5,2,FALSE),0)","v":0},0]
["",null,null,null,null,null,null,null,null,null,null,null,null,null,null,{"$f":"INDEX($A:$O,ROW(),MATCH('Rapportage per vraag'!$C$12,'Data leveranciersbeoordeling'!$1:$1,0))","v":0},{"$f":"IFERROR(VLOOKUP(INDEX($A:$O,ROW(),MATCH('Rapportage per vraag'!$C$12,'Data leveranciersbeoordeling'!$1:$1,0)),Leveranciersbeoordeling!$H$1:$I$5,2,FALSE),0)","v":0},0]
["",null,null,null,null,null,null,null,null,null,null,null,null,null,null,{"$f":"INDEX($A:$O,ROW(),MATCH('Rapportage per vraag'!$C$12,'Data leveranciersbeoordeling'!$1:$1,0))","v":0},{"$f":"IFERROR(VLOOKUP(INDEX($A:$O,ROW(),MATCH('Rapportage per vraag'!$C$12,'Data leveranciersbeoordeling'!$1:$1,0)),Leveranciersbeoordeling!$H$1:$I$5,2,FALSE),0)","v":0},0]
["",null,null,null,null,null,null,null,null,null,null,null,null,null,null,{"$f":"INDEX($A:$O,ROW(),MATCH('Rapportage per vraag'!$C$12,'Data leveranciersbeoordeling'!$1:$1,0))","v":0},{"$f":"IFERROR(VLOOKUP(INDEX($A:$O,ROW(),MATCH('Rapportage per vraag'!$C$12,'Data leveranciersbeoordeling'!$1:$1,0)),Leveranciersbeoordeling!$H$1:$I$5,2,FALSE),0)","v":0},0]
["",null,null,null,null,null,null,null,null,null,null,null,null,null,null,{"$f":"INDEX($A:$O,ROW(),MATCH('Rapportage per vraag'!$C$12,'Data leveranciersbeoordeling'!$1:$1,0))","v":0},{"$f":"IFERROR(VLOOKUP(INDEX($A:$O,ROW(),MATCH('Rapportage per vraag'!$C$12,'Data leveranciersbeoordeling'!$1:$1,0)),Leveranciersbeoordeling!$H$1:$I$5,2,FALSE),0)","v":0},0]
["",null,null,null,null,null,null,null,null,null,null,null,null,null,null,{"$f":"INDEX($A:$O,ROW(),MATCH('Rapportage per vraag'!$C$12,'Data leveranciersbeoordeling'!$1:$1,0))","v":0},{"$f":"IFERROR(VLOOKUP(INDEX($A:$O,ROW(),MATCH('Rapportage per vraag'!$C$12,'Data leveranciersbeoordeling'!$1:$1,0)),Leveranciersbeoordeling!$H$1:$I$5,2,FALSE),0)","v":0},0]
["",null,null,null,null,null,null,null,null,null,null,null,null,null,null,{"$f":"INDEX($A:$O,ROW(),MATCH('Rapportage per vraag'!$C$12,'Data leveranciersbeoordeling'!$1:$1,0))","v":0},{"$f":"IFERROR(VLOOKUP(INDEX($A:$O,ROW(),MATCH('Rapportage per vraag'!$C$12,'Data leveranciersbeoordeling'!$1:$1,0)),Leveranciersbeoordeling!$H$1:$I$5,2,FALSE),0)","v":0},0]
["",null,null,null,null,null,null,null,null,null,null,null,null,null,null,{"$f":"INDEX($A:$O,ROW(),MATCH('Rapportage per vraag'!$C$12,'Data leveranciersbeoordeling'!$1:$1,0))","v":0},{"$f":"IFERROR(VLOOKUP(INDEX($A:$O,ROW(),MATCH('Rapportage per vraag'!$C$12,'Data leveranciersbeoordeling'!$1:$1,0)),Leveranciersbeoordeling!$H$1:$I$5,2,FALSE),0)","v":0},0]
["",null,null,null,null,null,null,null,null,null,null,null,null,null,null,{"$f":"INDEX($A:$O,ROW(),MATCH('Rapportage per vraag'!$C$12,'Data leveranciersbeoordeling'!$1:$1,0))","v":0},{"$f":"IFERROR(VLOOKUP(INDEX($A:$O,ROW(),MATCH('Rapportage per vraag'!$C$12,'Data leveranciersbeoordeling'!$1:$1,0)),Leveranciersbeoordeling!$H$1:$I$5,2,FALSE),0)","v":0},0]
["",null,null,null,null,null,null,null,null,null,null,null,null,null,null,{"$f":"INDEX($A:$O,ROW(),MATCH('Rapportage per vraag'!$C$12,'Data leveranciersbeoordeling'!$1:$1,0))","v":0},{"$f":"IFERROR(VLOOKUP(INDEX($A:$O,ROW(),MATCH('Rapportage per vraag'!$C$12,'Data leveranciersbeoordeling'!$1:$1,0)),Leveranciersbeoordeling!$H$1:$I$5,2,FALSE),0)","v":0},0]
["",null,null,null,null,null,null,null,null,null,null,null,null,null,null,{"$f":"INDEX($A:$O,ROW(),MATCH('Rapportage per vraag'!$C$12,'Data leveranciersbeoordeling'!$1:$1,0))","v":0},{"$f":"IFERROR(VLOOKUP(INDEX($A:$O,ROW(),MATCH('Rapportage per vraag'!$C$12,'Data leveranciersbeoordeling'!$1:$1,0)),Leveranciersbeoordeling!$H$1:$I$5,2,FALSE),0)","v":0},0]
["",null,null,null,null,null,null,null,null,null,null,null,null,null,null,{"$f":"INDEX($A:$O,ROW(),MATCH('Rapportage per vraag'!$C$12,'Data leveranciersbeoordeling'!$1:$1,0))","v":0},{"$f":"IFERROR(VLOOKUP(INDEX($A:$O,ROW(),MATCH('Rapportage per vraag'!$C$12,'Data leveranciersbeoordeling'!$1:$1,0)),Leveranciersbeoordeling!$H$1:$I$5,2,FALSE),0)","v":0},0]
["",null,null,null,null,null,null,null,null,null,null,null,null,null,null,{"$f":"INDEX($A:$O,ROW(),MATCH('Rapportage per vraag'!$C$12,'Data leveranciersbeoordeling'!$1:$1,0))","v":0},{"$f":"IFERROR(VLOOKUP(INDEX($A:$O,ROW(),MATCH('Rapportage per vraag'!$C$12,'Data leveranciersbeoordeling'!$1:$1,0)),Leveranciersbeoordeling!$H$1:$I$5,2,FALSE),0)","v":0},0]
["",null,null,null,null,null,null,null,null,null,null,null,null,null,null,{"$f":"INDEX($A:$O,ROW(),MATCH('Rapportage per vraag'!$C$12,'Data leveranciersbeoordeling'!$1:$1,0))","v":0},{"$f":"IFERROR(VLOOKUP(INDEX($A:$O,ROW(),MATCH('Rapportage per vraag'!$C$12,'Data leveranciersbeoordeling'!$1:$1,0)),Leveranciersbeoordeling!$H$1:$I$5,2,FALSE),0)","v":0},0]
["",null,null,null,null,null,null,null,null,null,null,null,null,null,null,{"$f":"INDEX($A:$O,ROW(),MATCH('Rapportage per vraag'!$C$12,'Data leveranciersbeoordeling'!$1:$1,0))","v":0},{"$f":"IFERROR(VLOOKUP(INDEX($A:$O,ROW(),MATCH('Rapportage per vraag'!$C$12,'Data leveranciersbeoordeling'!$1:$1,0)),Leveranciersbeoordeling!$H$1:$I$5,2,FALSE),0)","v":0},0]
["",null,null,null,null,null,null,null,null,null,null,null,null,null,null,{"$f":"INDEX($A:$O,ROW(),MATCH('Rapportage per vraag'!$C$12,'Data leveranciersbeoordeling'!$1:$1,0))","v":0},{"$f":"IFERROR(VLOOKUP(INDEX($A:$O,ROW(),MATCH('Rapportage per vraag'!$C$12,'Data leveranciersbeoordeling'!$1:$1,0)),Leveranciersbeoordeling!$H$1:$I$5,2,FALSE),0)","v":0},0]
["",null,null,null,null,null,null,null,null,null,null,null,null,null,null,{"$f":"INDEX($A:$O,ROW(),MATCH('Rapportage per vraag'!$C$12,'Data leveranciersbeoordeling'!$1:$1,0))","v":0},{"$f":"IFERROR(VLOOKUP(INDEX($A:$O,ROW(),MATCH('Rapportage per vraag'!$C$12,'Data leveranciersbeoordeling'!$1:$1,0)),Leveranciersbeoordeling!$H$1:$I$5,2,FALSE),0)","v":0},0]
["",null,null,null,null,null,null,null,null,null,null,null,null,null,null,{"$f":"INDEX($A:$O,ROW(),MATCH('Rapportage per vraag'!$C$12,'Data leveranciersbeoordeling'!$1:$1,0))","v":0},{"$f":"IFERROR(VLOOKUP(INDEX($A:$O,ROW(),MATCH('Rapportage per vraag'!$C$12,'Data leveranciersbeoordeling'!$1:$1,0)),Leveranciersbeoordeling!$H$1:$I$5,2,FALSE),0)","v":0},0]
[{"$f":"CONCATENATE(B1539,C1539,D1539)","v":""},null,null,null,null,null,null,null,null,null,null,null,null,null,null,{"$f":"INDEX($A:$O,ROW(),MATCH('Rapportage per vraag'!$C$12,'Data leveranciersbeoordeling'!$1:$1,0))","v":0},{"$f":"IFERROR(VLOOKUP(INDEX($A:$O,ROW(),MATCH('Rapportage per vraag'!$C$12,'Data leveranciersbeoordeling'!$1:$1,0)),Leveranciersbeoordeling!$H$1:$I$5,2,FALSE),0)","v":0},0]
["",null,null,null,null,null,null,null,null,null,null,null,null,null,null,{"$f":"INDEX($A:$O,ROW(),MATCH('Rapportage per vraag'!$C$12,'Data leveranciersbeoordeling'!$1:$1,0))","v":0},{"$f":"IFERROR(VLOOKUP(INDEX($A:$O,ROW(),MATCH('Rapportage per vraag'!$C$12,'Data leveranciersbeoordeling'!$1:$1,0)),Leveranciersbeoordeling!$H$1:$I$5,2,FALSE),0)","v":0},0]
["",null,null,null,null,null,null,null,null,null,null,null,null,null,null,{"$f":"INDEX($A:$O,ROW(),MATCH('Rapportage per vraag'!$C$12,'Data leveranciersbeoordeling'!$1:$1,0))","v":0},{"$f":"IFERROR(VLOOKUP(INDEX($A:$O,ROW(),MATCH('Rapportage per vraag'!$C$12,'Data leveranciersbeoordeling'!$1:$1,0)),Leveranciersbeoordeling!$H$1:$I$5,2,FALSE),0)","v":0},0]
["",null,null,null,null,null,null,null,null,null,null,null,null,null,null,{"$f":"INDEX($A:$O,ROW(),MATCH('Rapportage per vraag'!$C$12,'Data leveranciersbeoordeling'!$1:$1,0))","v":0},{"$f":"IFERROR(VLOOKUP(INDEX($A:$O,ROW(),MATCH('Rapportage per vraag'!$C$12,'Data leveranciersbeoordeling'!$1:$1,0)),Leveranciersbeoordeling!$H$1:$I$5,2,FALSE),0)","v":0},{"$f":"IF(T(P1542)=P1542,Q1542,P1542)","v":0}]
["",null,null,null,null,null,null,null,null,null,null,null,null,null,null,{"$f":"INDEX($A:$O,ROW(),MATCH('Rapportage per vraag'!$C$12,'Data leveranciersbeoordeling'!$1:$1,0))","v":0},{"$f":"IFERROR(VLOOKUP(INDEX($A:$O,ROW(),MATCH('Rapportage per vraag'!$C$12,'Data leveranciersbeoordeling'!$1:$1,0)),Leveranciersbeoordeling!$H$1:$I$5,2,FALSE),0)","v":0},0]
["",null,null,null,null,null,null,null,null,null,null,null,null,null,null,{"$f":"INDEX($A:$O,ROW(),MATCH('Rapportage per vraag'!$C$12,'Data leveranciersbeoordeling'!$1:$1,0))","v":0},{"$f":"IFERROR(VLOOKUP(INDEX($A:$O,ROW(),MATCH('Rapportage per vraag'!$C$12,'Data leveranciersbeoordeling'!$1:$1,0)),Leveranciersbeoordeling!$H$1:$I$5,2,FALSE),0)","v":0},0]
["",null,null,null,null,null,null,null,null,null,null,null,null,null,null,{"$f":"INDEX($A:$O,ROW(),MATCH('Rapportage per vraag'!$C$12,'Data leveranciersbeoordeling'!$1:$1,0))","v":0},{"$f":"IFERROR(VLOOKUP(INDEX($A:$O,ROW(),MATCH('Rapportage per vraag'!$C$12,'Data leveranciersbeoordeling'!$1:$1,0)),Leveranciersbeoordeling!$H$1:$I$5,2,FALSE),0)","v":0},0]
["",null,null,null,null,null,null,null,null,null,null,null,null,null,null,{"$f":"INDEX($A:$O,ROW(),MATCH('Rapportage per vraag'!$C$12,'Data leveranciersbeoordeling'!$1:$1,0))","v":0},{"$f":"IFERROR(VLOOKUP(INDEX($A:$O,ROW(),MATCH('Rapportage per vraag'!$C$12,'Data leveranciersbeoordeling'!$1:$1,0)),Leveranciersbeoordeling!$H$1:$I$5,2,FALSE),0)","v":0},0]
["",null,null,null,null,null,null,null,null,null,null,null,null,null,null,{"$f":"INDEX($A:$O,ROW(),MATCH('Rapportage per vraag'!$C$12,'Data leveranciersbeoordeling'!$1:$1,0))","v":0},{"$f":"IFERROR(VLOOKUP(INDEX($A:$O,ROW(),MATCH('Rapportage per vraag'!$C$12,'Data leveranciersbeoordeling'!$1:$1,0)),Leveranciersbeoordeling!$H$1:$I$5,2,FALSE),0)","v":0},0]
["",null,null,null,null,null,null,null,null,null,null,null,null,null,null,{"$f":"INDEX($A:$O,ROW(),MATCH('Rapportage per vraag'!$C$12,'Data leveranciersbeoordeling'!$1:$1,0))","v":0},{"$f":"IFERROR(VLOOKUP(INDEX($A:$O,ROW(),MATCH('Rapportage per vraag'!$C$12,'Data leveranciersbeoordeling'!$1:$1,0)),Leveranciersbeoordeling!$H$1:$I$5,2,FALSE),0)","v":0},0]
["",null,null,null,null,null,null,null,null,null,null,null,null,null,null,{"$f":"INDEX($A:$O,ROW(),MATCH('Rapportage per vraag'!$C$12,'Data leveranciersbeoordeling'!$1:$1,0))","v":0},{"$f":"IFERROR(VLOOKUP(INDEX($A:$O,ROW(),MATCH('Rapportage per vraag'!$C$12,'Data leveranciersbeoordeling'!$1:$1,0)),Leveranciersbeoordeling!$H$1:$I$5,2,FALSE),0)","v":0},0]
["",null,null,null,null,null,null,null,null,null,null,null,null,null,null,{"$f":"INDEX($A:$O,ROW(),MATCH('Rapportage per vraag'!$C$12,'Data leveranciersbeoordeling'!$1:$1,0))","v":0},{"$f":"IFERROR(VLOOKUP(INDEX($A:$O,ROW(),MATCH('Rapportage per vraag'!$C$12,'Data leveranciersbeoordeling'!$1:$1,0)),Leveranciersbeoordeling!$H$1:$I$5,2,FALSE),0)","v":0},0]
["",null,null,null,null,null,null,null,null,null,null,null,null,null,null,{"$f":"INDEX($A:$O,ROW(),MATCH('Rapportage per vraag'!$C$12,'Data leveranciersbeoordeling'!$1:$1,0))","v":0},{"$f":"IFERROR(VLOOKUP(INDEX($A:$O,ROW(),MATCH('Rapportage per vraag'!$C$12,'Data leveranciersbeoordeling'!$1:$1,0)),Leveranciersbeoordeling!$H$1:$I$5,2,FALSE),0)","v":0},0]
["",null,null,null,null,null,null,null,null,null,null,null,null,null,null,{"$f":"INDEX($A:$O,ROW(),MATCH('Rapportage per vraag'!$C$12,'Data leveranciersbeoordeling'!$1:$1,0))","v":0},{"$f":"IFERROR(VLOOKUP(INDEX($A:$O,ROW(),MATCH('Rapportage per vraag'!$C$12,'Data leveranciersbeoordeling'!$1:$1,0)),Leveranciersbeoordeling!$H$1:$I$5,2,FALSE),0)","v":0},0]
["",null,null,null,null,null,null,null,null,null,null,null,null,null,null,{"$f":"INDEX($A:$O,ROW(),MATCH('Rapportage per vraag'!$C$12,'Data leveranciersbeoordeling'!$1:$1,0))","v":0},{"$f":"IFERROR(VLOOKUP(INDEX($A:$O,ROW(),MATCH('Rapportage per vraag'!$C$12,'Data leveranciersbeoordeling'!$1:$1,0)),Leveranciersbeoordeling!$H$1:$I$5,2,FALSE),0)","v":0},0]
["",null,null,null,null,null,null,null,null,null,null,null,null,null,null,{"$f":"INDEX($A:$O,ROW(),MATCH('Rapportage per vraag'!$C$12,'Data leveranciersbeoordeling'!$1:$1,0))","v":0},{"$f":"IFERROR(VLOOKUP(INDEX($A:$O,ROW(),MATCH('Rapportage per vraag'!$C$12,'Data leveranciersbeoordeling'!$1:$1,0)),Leveranciersbeoordeling!$H$1:$I$5,2,FALSE),0)","v":0},0]
["",null,null,null,null,null,null,null,null,null,null,null,null,null,null,{"$f":"INDEX($A:$O,ROW(),MATCH('Rapportage per vraag'!$C$12,'Data leveranciersbeoordeling'!$1:$1,0))","v":0},{"$f":"IFERROR(VLOOKUP(INDEX($A:$O,ROW(),MATCH('Rapportage per vraag'!$C$12,'Data leveranciersbeoordeling'!$1:$1,0)),Leveranciersbeoordeling!$H$1:$I$5,2,FALSE),0)","v":0},0]
["",null,null,null,null,null,null,null,null,null,null,null,null,null,null,{"$f":"INDEX($A:$O,ROW(),MATCH('Rapportage per vraag'!$C$12,'Data leveranciersbeoordeling'!$1:$1,0))","v":0},{"$f":"IFERROR(VLOOKUP(INDEX($A:$O,ROW(),MATCH('Rapportage per vraag'!$C$12,'Data leveranciersbeoordeling'!$1:$1,0)),Leveranciersbeoordeling!$H$1:$I$5,2,FALSE),0)","v":0},0]
["",null,null,null,null,null,null,null,null,null,null,null,null,null,null,{"$f":"INDEX($A:$O,ROW(),MATCH('Rapportage per vraag'!$C$12,'Data leveranciersbeoordeling'!$1:$1,0))","v":0},{"$f":"IFERROR(VLOOKUP(INDEX($A:$O,ROW(),MATCH('Rapportage per vraag'!$C$12,'Data leveranciersbeoordeling'!$1:$1,0)),Leveranciersbeoordeling!$H$1:$I$5,2,FALSE),0)","v":0},0]
["",null,null,null,null,null,null,null,null,null,null,null,null,null,null,{"$f":"INDEX($A:$O,ROW(),MATCH('Rapportage per vraag'!$C$12,'Data leveranciersbeoordeling'!$1:$1,0))","v":0},{"$f":"IFERROR(VLOOKUP(INDEX($A:$O,ROW(),MATCH('Rapportage per vraag'!$C$12,'Data leveranciersbeoordeling'!$1:$1,0)),Leveranciersbeoordeling!$H$1:$I$5,2,FALSE),0)","v":0},0]
["",null,null,null,null,null,null,null,null,null,null,null,null,null,null,{"$f":"INDEX($A:$O,ROW(),MATCH('Rapportage per vraag'!$C$12,'Data leveranciersbeoordeling'!$1:$1,0))","v":0},{"$f":"IFERROR(VLOOKUP(INDEX($A:$O,ROW(),MATCH('Rapportage per vraag'!$C$12,'Data leveranciersbeoordeling'!$1:$1,0)),Leveranciersbeoordeling!$H$1:$I$5,2,FALSE),0)","v":0},0]
["",null,null,null,null,null,null,null,null,null,null,null,null,null,null,{"$f":"INDEX($A:$O,ROW(),MATCH('Rapportage per vraag'!$C$12,'Data leveranciersbeoordeling'!$1:$1,0))","v":0},{"$f":"IFERROR(VLOOKUP(INDEX($A:$O,ROW(),MATCH('Rapportage per vraag'!$C$12,'Data leveranciersbeoordeling'!$1:$1,0)),Leveranciersbeoordeling!$H$1:$I$5,2,FALSE),0)","v":0},0]
["",null,null,null,null,null,null,null,null,null,null,null,null,null,null,{"$f":"INDEX($A:$O,ROW(),MATCH('Rapportage per vraag'!$C$12,'Data leveranciersbeoordeling'!$1:$1,0))","v":0},{"$f":"IFERROR(VLOOKUP(INDEX($A:$O,ROW(),MATCH('Rapportage per vraag'!$C$12,'Data leveranciersbeoordeling'!$1:$1,0)),Leveranciersbeoordeling!$H$1:$I$5,2,FALSE),0)","v":0},0]
["",null,null,null,null,null,null,null,null,null,null,null,null,null,null,{"$f":"INDEX($A:$O,ROW(),MATCH('Rapportage per vraag'!$C$12,'Data leveranciersbeoordeling'!$1:$1,0))","v":0},{"$f":"IFERROR(VLOOKUP(INDEX($A:$O,ROW(),MATCH('Rapportage per vraag'!$C$12,'Data leveranciersbeoordeling'!$1:$1,0)),Leveranciersbeoordeling!$H$1:$I$5,2,FALSE),0)","v":0},0]
["",null,null,null,null,null,null,null,null,null,null,null,null,null,null,{"$f":"INDEX($A:$O,ROW(),MATCH('Rapportage per vraag'!$C$12,'Data leveranciersbeoordeling'!$1:$1,0))","v":0},{"$f":"IFERROR(VLOOKUP(INDEX($A:$O,ROW(),MATCH('Rapportage per vraag'!$C$12,'Data leveranciersbeoordeling'!$1:$1,0)),Leveranciersbeoordeling!$H$1:$I$5,2,FALSE),0)","v":0},0]
["",null,null,null,null,null,null,null,null,null,null,null,null,null,null,{"$f":"INDEX($A:$O,ROW(),MATCH('Rapportage per vraag'!$C$12,'Data leveranciersbeoordeling'!$1:$1,0))","v":0},{"$f":"IFERROR(VLOOKUP(INDEX($A:$O,ROW(),MATCH('Rapportage per vraag'!$C$12,'Data leveranciersbeoordeling'!$1:$1,0)),Leveranciersbeoordeling!$H$1:$I$5,2,FALSE),0)","v":0},0]
["",null,null,null,null,null,null,null,null,null,null,null,null,null,null,{"$f":"INDEX($A:$O,ROW(),MATCH('Rapportage per vraag'!$C$12,'Data leveranciersbeoordeling'!$1:$1,0))","v":0},{"$f":"IFERROR(VLOOKUP(INDEX($A:$O,ROW(),MATCH('Rapportage per vraag'!$C$12,'Data leveranciersbeoordeling'!$1:$1,0)),Leveranciersbeoordeling!$H$1:$I$5,2,FALSE),0)","v":0},0]
["",null,null,null,null,null,null,null,null,null,null,null,null,null,null,{"$f":"INDEX($A:$O,ROW(),MATCH('Rapportage per vraag'!$C$12,'Data leveranciersbeoordeling'!$1:$1,0))","v":0},{"$f":"IFERROR(VLOOKUP(INDEX($A:$O,ROW(),MATCH('Rapportage per vraag'!$C$12,'Data leveranciersbeoordeling'!$1:$1,0)),Leveranciersbeoordeling!$H$1:$I$5,2,FALSE),0)","v":0},0]
["",null,null,null,null,null,null,null,null,null,null,null,null,null,null,{"$f":"INDEX($A:$O,ROW(),MATCH('Rapportage per vraag'!$C$12,'Data leveranciersbeoordeling'!$1:$1,0))","v":0},{"$f":"IFERROR(VLOOKUP(INDEX($A:$O,ROW(),MATCH('Rapportage per vraag'!$C$12,'Data leveranciersbeoordeling'!$1:$1,0)),Leveranciersbeoordeling!$H$1:$I$5,2,FALSE),0)","v":0},0]
["",null,null,null,null,null,null,null,null,null,null,null,null,null,null,{"$f":"INDEX($A:$O,ROW(),MATCH('Rapportage per vraag'!$C$12,'Data leveranciersbeoordeling'!$1:$1,0))","v":0},{"$f":"IFERROR(VLOOKUP(INDEX($A:$O,ROW(),MATCH('Rapportage per vraag'!$C$12,'Data leveranciersbeoordeling'!$1:$1,0)),Leveranciersbeoordeling!$H$1:$I$5,2,FALSE),0)","v":0},0]
["",null,null,null,null,null,null,null,null,null,null,null,null,null,null,{"$f":"INDEX($A:$O,ROW(),MATCH('Rapportage per vraag'!$C$12,'Data leveranciersbeoordeling'!$1:$1,0))","v":0},{"$f":"IFERROR(VLOOKUP(INDEX($A:$O,ROW(),MATCH('Rapportage per vraag'!$C$12,'Data leveranciersbeoordeling'!$1:$1,0)),Leveranciersbeoordeling!$H$1:$I$5,2,FALSE),0)","v":0},0]
["",null,null,null,null,null,null,null,null,null,null,null,null,null,null,{"$f":"INDEX($A:$O,ROW(),MATCH('Rapportage per vraag'!$C$12,'Data leveranciersbeoordeling'!$1:$1,0))","v":0},{"$f":"IFERROR(VLOOKUP(INDEX($A:$O,ROW(),MATCH('Rapportage per vraag'!$C$12,'Data leveranciersbeoordeling'!$1:$1,0)),Leveranciersbeoordeling!$H$1:$I$5,2,FALSE),0)","v":0},0]
["",null,null,null,null,null,null,null,null,null,null,null,null,null,null,{"$f":"INDEX($A:$O,ROW(),MATCH('Rapportage per vraag'!$C$12,'Data leveranciersbeoordeling'!$1:$1,0))","v":0},{"$f":"IFERROR(VLOOKUP(INDEX($A:$O,ROW(),MATCH('Rapportage per vraag'!$C$12,'Data leveranciersbeoordeling'!$1:$1,0)),Leveranciersbeoordeling!$H$1:$I$5,2,FALSE),0)","v":0},0]
["",null,null,null,null,null,null,null,null,null,null,null,null,null,null,{"$f":"INDEX($A:$O,ROW(),MATCH('Rapportage per vraag'!$C$12,'Data leveranciersbeoordeling'!$1:$1,0))","v":0},{"$f":"IFERROR(VLOOKUP(INDEX($A:$O,ROW(),MATCH('Rapportage per vraag'!$C$12,'Data leveranciersbeoordeling'!$1:$1,0)),Leveranciersbeoordeling!$H$1:$I$5,2,FALSE),0)","v":0},0]
["",null,null,null,null,null,null,null,null,null,null,null,null,null,null,{"$f":"INDEX($A:$O,ROW(),MATCH('Rapportage per vraag'!$C$12,'Data leveranciersbeoordeling'!$1:$1,0))","v":0},{"$f":"IFERROR(VLOOKUP(INDEX($A:$O,ROW(),MATCH('Rapportage per vraag'!$C$12,'Data leveranciersbeoordeling'!$1:$1,0)),Leveranciersbeoordeling!$H$1:$I$5,2,FALSE),0)","v":0},0]
["",null,null,null,null,null,null,null,null,null,null,null,null,null,null,{"$f":"INDEX($A:$O,ROW(),MATCH('Rapportage per vraag'!$C$12,'Data leveranciersbeoordeling'!$1:$1,0))","v":0},{"$f":"IFERROR(VLOOKUP(INDEX($A:$O,ROW(),MATCH('Rapportage per vraag'!$C$12,'Data leveranciersbeoordeling'!$1:$1,0)),Leveranciersbeoordeling!$H$1:$I$5,2,FALSE),0)","v":0},0]
["",null,null,null,null,null,null,null,null,null,null,null,null,null,null,{"$f":"INDEX($A:$O,ROW(),MATCH('Rapportage per vraag'!$C$12,'Data leveranciersbeoordeling'!$1:$1,0))","v":0},{"$f":"IFERROR(VLOOKUP(INDEX($A:$O,ROW(),MATCH('Rapportage per vraag'!$C$12,'Data leveranciersbeoordeling'!$1:$1,0)),Leveranciersbeoordeling!$H$1:$I$5,2,FALSE),0)","v":0},0]
["",null,null,null,null,null,null,null,null,null,null,null,null,null,null,{"$f":"INDEX($A:$O,ROW(),MATCH('Rapportage per vraag'!$C$12,'Data leveranciersbeoordeling'!$1:$1,0))","v":0},{"$f":"IFERROR(VLOOKUP(INDEX($A:$O,ROW(),MATCH('Rapportage per vraag'!$C$12,'Data leveranciersbeoordeling'!$1:$1,0)),Leveranciersbeoordeling!$H$1:$I$5,2,FALSE),0)","v":0},0]
["",null,null,null,null,null,null,null,null,null,null,null,null,null,null,{"$f":"INDEX($A:$O,ROW(),MATCH('Rapportage per vraag'!$C$12,'Data leveranciersbeoordeling'!$1:$1,0))","v":0},{"$f":"IFERROR(VLOOKUP(INDEX($A:$O,ROW(),MATCH('Rapportage per vraag'!$C$12,'Data leveranciersbeoordeling'!$1:$1,0)),Leveranciersbeoordeling!$H$1:$I$5,2,FALSE),0)","v":0},0]
["",null,null,null,null,null,null,null,null,null,null,null,null,null,null,{"$f":"INDEX($A:$O,ROW(),MATCH('Rapportage per vraag'!$C$12,'Data leveranciersbeoordeling'!$1:$1,0))","v":0},{"$f":"IFERROR(VLOOKUP(INDEX($A:$O,ROW(),MATCH('Rapportage per vraag'!$C$12,'Data leveranciersbeoordeling'!$1:$1,0)),Leveranciersbeoordeling!$H$1:$I$5,2,FALSE),0)","v":0},0]
["",null,null,null,null,null,null,null,null,null,null,null,null,null,null,{"$f":"INDEX($A:$O,ROW(),MATCH('Rapportage per vraag'!$C$12,'Data leveranciersbeoordeling'!$1:$1,0))","v":0},{"$f":"IFERROR(VLOOKUP(INDEX($A:$O,ROW(),MATCH('Rapportage per vraag'!$C$12,'Data leveranciersbeoordeling'!$1:$1,0)),Leveranciersbeoordeling!$H$1:$I$5,2,FALSE),0)","v":0},0]
["",null,null,null,null,null,null,null,null,null,null,null,null,null,null,{"$f":"INDEX($A:$O,ROW(),MATCH('Rapportage per vraag'!$C$12,'Data leveranciersbeoordeling'!$1:$1,0))","v":0},{"$f":"IFERROR(VLOOKUP(INDEX($A:$O,ROW(),MATCH('Rapportage per vraag'!$C$12,'Data leveranciersbeoordeling'!$1:$1,0)),Leveranciersbeoordeling!$H$1:$I$5,2,FALSE),0)","v":0},0]
["",null,null,null,null,null,null,null,null,null,null,null,null,null,null,{"$f":"INDEX($A:$O,ROW(),MATCH('Rapportage per vraag'!$C$12,'Data leveranciersbeoordeling'!$1:$1,0))","v":0},{"$f":"IFERROR(VLOOKUP(INDEX($A:$O,ROW(),MATCH('Rapportage per vraag'!$C$12,'Data leveranciersbeoordeling'!$1:$1,0)),Leveranciersbeoordeling!$H$1:$I$5,2,FALSE),0)","v":0},0]
["",null,null,null,null,null,null,null,null,null,null,null,null,null,null,{"$f":"INDEX($A:$O,ROW(),MATCH('Rapportage per vraag'!$C$12,'Data leveranciersbeoordeling'!$1:$1,0))","v":0},{"$f":"IFERROR(VLOOKUP(INDEX($A:$O,ROW(),MATCH('Rapportage per vraag'!$C$12,'Data leveranciersbeoordeling'!$1:$1,0)),Leveranciersbeoordeling!$H$1:$I$5,2,FALSE),0)","v":0},0]
["",null,null,null,null,null,null,null,null,null,null,null,null,null,null,{"$f":"INDEX($A:$O,ROW(),MATCH('Rapportage per vraag'!$C$12,'Data leveranciersbeoordeling'!$1:$1,0))","v":0},{"$f":"IFERROR(VLOOKUP(INDEX($A:$O,ROW(),MATCH('Rapportage per vraag'!$C$12,'Data leveranciersbeoordeling'!$1:$1,0)),Leveranciersbeoordeling!$H$1:$I$5,2,FALSE),0)","v":0},0]
["",null,null,null,null,null,null,null,null,null,null,null,null,null,null,{"$f":"INDEX($A:$O,ROW(),MATCH('Rapportage per vraag'!$C$12,'Data leveranciersbeoordeling'!$1:$1,0))","v":0},{"$f":"IFERROR(VLOOKUP(INDEX($A:$O,ROW(),MATCH('Rapportage per vraag'!$C$12,'Data leveranciersbeoordeling'!$1:$1,0)),Leveranciersbeoordeling!$H$1:$I$5,2,FALSE),0)","v":0},0]
["",null,null,null,null,null,null,null,null,null,null,null,null,null,null,{"$f":"INDEX($A:$O,ROW(),MATCH('Rapportage per vraag'!$C$12,'Data leveranciersbeoordeling'!$1:$1,0))","v":0},{"$f":"IFERROR(VLOOKUP(INDEX($A:$O,ROW(),MATCH('Rapportage per vraag'!$C$12,'Data leveranciersbeoordeling'!$1:$1,0)),Leveranciersbeoordeling!$H$1:$I$5,2,FALSE),0)","v":0},0]
["",null,null,null,null,null,null,null,null,null,null,null,null,null,null,{"$f":"INDEX($A:$O,ROW(),MATCH('Rapportage per vraag'!$C$12,'Data leveranciersbeoordeling'!$1:$1,0))","v":0},{"$f":"IFERROR(VLOOKUP(INDEX($A:$O,ROW(),MATCH('Rapportage per vraag'!$C$12,'Data leveranciersbeoordeling'!$1:$1,0)),Leveranciersbeoordeling!$H$1:$I$5,2,FALSE),0)","v":0},0]
["",null,null,null,null,null,null,null,null,null,null,null,null,null,null,{"$f":"INDEX($A:$O,ROW(),MATCH('Rapportage per vraag'!$C$12,'Data leveranciersbeoordeling'!$1:$1,0))","v":0},{"$f":"IFERROR(VLOOKUP(INDEX($A:$O,ROW(),MATCH('Rapportage per vraag'!$C$12,'Data leveranciersbeoordeling'!$1:$1,0)),Leveranciersbeoordeling!$H$1:$I$5,2,FALSE),0)","v":0},0]
["",null,null,null,null,null,null,null,null,null,null,null,null,null,null,{"$f":"INDEX($A:$O,ROW(),MATCH('Rapportage per vraag'!$C$12,'Data leveranciersbeoordeling'!$1:$1,0))","v":0},{"$f":"IFERROR(VLOOKUP(INDEX($A:$O,ROW(),MATCH('Rapportage per vraag'!$C$12,'Data leveranciersbeoordeling'!$1:$1,0)),Leveranciersbeoordeling!$H$1:$I$5,2,FALSE),0)","v":0},0]
["",null,null,null,null,null,null,null,null,null,null,null,null,null,null,{"$f":"INDEX($A:$O,ROW(),MATCH('Rapportage per vraag'!$C$12,'Data leveranciersbeoordeling'!$1:$1,0))","v":0},{"$f":"IFERROR(VLOOKUP(INDEX($A:$O,ROW(),MATCH('Rapportage per vraag'!$C$12,'Data leveranciersbeoordeling'!$1:$1,0)),Leveranciersbeoordeling!$H$1:$I$5,2,FALSE),0)","v":0},0]
["",null,null,null,null,null,null,null,null,null,null,null,null,null,null,{"$f":"INDEX($A:$O,ROW(),MATCH('Rapportage per vraag'!$C$12,'Data leveranciersbeoordeling'!$1:$1,0))","v":0},{"$f":"IFERROR(VLOOKUP(INDEX($A:$O,ROW(),MATCH('Rapportage per vraag'!$C$12,'Data leveranciersbeoordeling'!$1:$1,0)),Leveranciersbeoordeling!$H$1:$I$5,2,FALSE),0)","v":0},0]
["",null,null,null,null,null,null,null,null,null,null,null,null,null,null,{"$f":"INDEX($A:$O,ROW(),MATCH('Rapportage per vraag'!$C$12,'Data leveranciersbeoordeling'!$1:$1,0))","v":0},{"$f":"IFERROR(VLOOKUP(INDEX($A:$O,ROW(),MATCH('Rapportage per vraag'!$C$12,'Data leveranciersbeoordeling'!$1:$1,0)),Leveranciersbeoordeling!$H$1:$I$5,2,FALSE),0)","v":0},0]
["",null,null,null,null,null,null,null,null,null,null,null,null,null,null,{"$f":"INDEX($A:$O,ROW(),MATCH('Rapportage per vraag'!$C$12,'Data leveranciersbeoordeling'!$1:$1,0))","v":0},{"$f":"IFERROR(VLOOKUP(INDEX($A:$O,ROW(),MATCH('Rapportage per vraag'!$C$12,'Data leveranciersbeoordeling'!$1:$1,0)),Leveranciersbeoordeling!$H$1:$I$5,2,FALSE),0)","v":0},0]
["",null,null,null,null,null,null,null,null,null,null,null,null,null,null,{"$f":"INDEX($A:$O,ROW(),MATCH('Rapportage per vraag'!$C$12,'Data leveranciersbeoordeling'!$1:$1,0))","v":0},{"$f":"IFERROR(VLOOKUP(INDEX($A:$O,ROW(),MATCH('Rapportage per vraag'!$C$12,'Data leveranciersbeoordeling'!$1:$1,0)),Leveranciersbeoordeling!$H$1:$I$5,2,FALSE),0)","v":0},0]
["",null,null,null,null,null,null,null,null,null,null,null,null,null,null,{"$f":"INDEX($A:$O,ROW(),MATCH('Rapportage per vraag'!$C$12,'Data leveranciersbeoordeling'!$1:$1,0))","v":0},{"$f":"IFERROR(VLOOKUP(INDEX($A:$O,ROW(),MATCH('Rapportage per vraag'!$C$12,'Data leveranciersbeoordeling'!$1:$1,0)),Leveranciersbeoordeling!$H$1:$I$5,2,FALSE),0)","v":0},0]
["",null,null,null,null,null,null,null,null,null,null,null,null,null,null,{"$f":"INDEX($A:$O,ROW(),MATCH('Rapportage per vraag'!$C$12,'Data leveranciersbeoordeling'!$1:$1,0))","v":0},{"$f":"IFERROR(VLOOKUP(INDEX($A:$O,ROW(),MATCH('Rapportage per vraag'!$C$12,'Data leveranciersbeoordeling'!$1:$1,0)),Leveranciersbeoordeling!$H$1:$I$5,2,FALSE),0)","v":0},0]
["",null,null,null,null,null,null,null,null,null,null,null,null,null,null,{"$f":"INDEX($A:$O,ROW(),MATCH('Rapportage per vraag'!$C$12,'Data leveranciersbeoordeling'!$1:$1,0))","v":0},{"$f":"IFERROR(VLOOKUP(INDEX($A:$O,ROW(),MATCH('Rapportage per vraag'!$C$12,'Data leveranciersbeoordeling'!$1:$1,0)),Leveranciersbeoordeling!$H$1:$I$5,2,FALSE),0)","v":0},0]
["",null,null,null,null,null,null,null,null,null,null,null,null,null,null,{"$f":"INDEX($A:$O,ROW(),MATCH('Rapportage per vraag'!$C$12,'Data leveranciersbeoordeling'!$1:$1,0))","v":0},{"$f":"IFERROR(VLOOKUP(INDEX($A:$O,ROW(),MATCH('Rapportage per vraag'!$C$12,'Data leveranciersbeoordeling'!$1:$1,0)),Leveranciersbeoordeling!$H$1:$I$5,2,FALSE),0)","v":0},0]
["",null,null,null,null,null,null,null,null,null,null,null,null,null,null,{"$f":"INDEX($A:$O,ROW(),MATCH('Rapportage per vraag'!$C$12,'Data leveranciersbeoordeling'!$1:$1,0))","v":0},{"$f":"IFERROR(VLOOKUP(INDEX($A:$O,ROW(),MATCH('Rapportage per vraag'!$C$12,'Data leveranciersbeoordeling'!$1:$1,0)),Leveranciersbeoordeling!$H$1:$I$5,2,FALSE),0)","v":0},0]
["",null,null,null,null,null,null,null,null,null,null,null,null,null,null,{"$f":"INDEX($A:$O,ROW(),MATCH('Rapportage per vraag'!$C$12,'Data leveranciersbeoordeling'!$1:$1,0))","v":0},{"$f":"IFERROR(VLOOKUP(INDEX($A:$O,ROW(),MATCH('Rapportage per vraag'!$C$12,'Data leveranciersbeoordeling'!$1:$1,0)),Leveranciersbeoordeling!$H$1:$I$5,2,FALSE),0)","v":0},0]
["",null,null,null,null,null,null,null,null,null,null,null,null,null,null,{"$f":"INDEX($A:$O,ROW(),MATCH('Rapportage per vraag'!$C$12,'Data leveranciersbeoordeling'!$1:$1,0))","v":0},{"$f":"IFERROR(VLOOKUP(INDEX($A:$O,ROW(),MATCH('Rapportage per vraag'!$C$12,'Data leveranciersbeoordeling'!$1:$1,0)),Leveranciersbeoordeling!$H$1:$I$5,2,FALSE),0)","v":0},0]
["",null,null,null,null,null,null,null,null,null,null,null,null,null,null,{"$f":"INDEX($A:$O,ROW(),MATCH('Rapportage per vraag'!$C$12,'Data leveranciersbeoordeling'!$1:$1,0))","v":0},{"$f":"IFERROR(VLOOKUP(INDEX($A:$O,ROW(),MATCH('Rapportage per vraag'!$C$12,'Data leveranciersbeoordeling'!$1:$1,0)),Leveranciersbeoordeling!$H$1:$I$5,2,FALSE),0)","v":0},0]
["",null,null,null,null,null,null,null,null,null,null,null,null,null,null,{"$f":"INDEX($A:$O,ROW(),MATCH('Rapportage per vraag'!$C$12,'Data leveranciersbeoordeling'!$1:$1,0))","v":0},{"$f":"IFERROR(VLOOKUP(INDEX($A:$O,ROW(),MATCH('Rapportage per vraag'!$C$12,'Data leveranciersbeoordeling'!$1:$1,0)),Leveranciersbeoordeling!$H$1:$I$5,2,FALSE),0)","v":0},0]
[{"$f":"CONCATENATE(B1603,C1603,D1603)","v":""},null,null,null,null,null,null,null,null,null,null,null,null,null,null,{"$f":"INDEX($A:$O,ROW(),MATCH('Rapportage per vraag'!$C$12,'Data leveranciersbeoordeling'!$1:$1,0))","v":0},{"$f":"IFERROR(VLOOKUP(INDEX($A:$O,ROW(),MATCH('Rapportage per vraag'!$C$12,'Data leveranciersbeoordeling'!$1:$1,0)),Leveranciersbeoordeling!$H$1:$I$5,2,FALSE),0)","v":0},0]
["",null,null,null,null,null,null,null,null,null,null,null,null,null,null,{"$f":"INDEX($A:$O,ROW(),MATCH('Rapportage per vraag'!$C$12,'Data leveranciersbeoordeling'!$1:$1,0))","v":0},{"$f":"IFERROR(VLOOKUP(INDEX($A:$O,ROW(),MATCH('Rapportage per vraag'!$C$12,'Data leveranciersbeoordeling'!$1:$1,0)),Leveranciersbeoordeling!$H$1:$I$5,2,FALSE),0)","v":0},0]
["",null,null,null,null,null,null,null,null,null,null,null,null,null,null,{"$f":"INDEX($A:$O,ROW(),MATCH('Rapportage per vraag'!$C$12,'Data leveranciersbeoordeling'!$1:$1,0))","v":0},{"$f":"IFERROR(VLOOKUP(INDEX($A:$O,ROW(),MATCH('Rapportage per vraag'!$C$12,'Data leveranciersbeoordeling'!$1:$1,0)),Leveranciersbeoordeling!$H$1:$I$5,2,FALSE),0)","v":0},0]
["",null,null,null,null,null,null,null,null,null,null,null,null,null,null,{"$f":"INDEX($A:$O,ROW(),MATCH('Rapportage per vraag'!$C$12,'Data leveranciersbeoordeling'!$1:$1,0))","v":0},{"$f":"IFERROR(VLOOKUP(INDEX($A:$O,ROW(),MATCH('Rapportage per vraag'!$C$12,'Data leveranciersbeoordeling'!$1:$1,0)),Leveranciersbeoordeling!$H$1:$I$5,2,FALSE),0)","v":0},{"$f":"IF(T(P1606)=P1606,Q1606,P1606)","v":0}]
["",null,null,null,null,null,null,null,null,null,null,null,null,null,null,{"$f":"INDEX($A:$O,ROW(),MATCH('Rapportage per vraag'!$C$12,'Data leveranciersbeoordeling'!$1:$1,0))","v":0},{"$f":"IFERROR(VLOOKUP(INDEX($A:$O,ROW(),MATCH('Rapportage per vraag'!$C$12,'Data leveranciersbeoordeling'!$1:$1,0)),Leveranciersbeoordeling!$H$1:$I$5,2,FALSE),0)","v":0},0]
["",null,null,null,null,null,null,null,null,null,null,null,null,null,null,{"$f":"INDEX($A:$O,ROW(),MATCH('Rapportage per vraag'!$C$12,'Data leveranciersbeoordeling'!$1:$1,0))","v":0},{"$f":"IFERROR(VLOOKUP(INDEX($A:$O,ROW(),MATCH('Rapportage per vraag'!$C$12,'Data leveranciersbeoordeling'!$1:$1,0)),Leveranciersbeoordeling!$H$1:$I$5,2,FALSE),0)","v":0},0]
["",null,null,null,null,null,null,null,null,null,null,null,null,null,null,{"$f":"INDEX($A:$O,ROW(),MATCH('Rapportage per vraag'!$C$12,'Data leveranciersbeoordeling'!$1:$1,0))","v":0},{"$f":"IFERROR(VLOOKUP(INDEX($A:$O,ROW(),MATCH('Rapportage per vraag'!$C$12,'Data leveranciersbeoordeling'!$1:$1,0)),Leveranciersbeoordeling!$H$1:$I$5,2,FALSE),0)","v":0},0]
["",null,null,null,null,null,null,null,null,null,null,null,null,null,null,{"$f":"INDEX($A:$O,ROW(),MATCH('Rapportage per vraag'!$C$12,'Data leveranciersbeoordeling'!$1:$1,0))","v":0},{"$f":"IFERROR(VLOOKUP(INDEX($A:$O,ROW(),MATCH('Rapportage per vraag'!$C$12,'Data leveranciersbeoordeling'!$1:$1,0)),Leveranciersbeoordeling!$H$1:$I$5,2,FALSE),0)","v":0},0]
["",null,null,null,null,null,null,null,null,null,null,null,null,null,null,{"$f":"INDEX($A:$O,ROW(),MATCH('Rapportage per vraag'!$C$12,'Data leveranciersbeoordeling'!$1:$1,0))","v":0},{"$f":"IFERROR(VLOOKUP(INDEX($A:$O,ROW(),MATCH('Rapportage per vraag'!$C$12,'Data leveranciersbeoordeling'!$1:$1,0)),Leveranciersbeoordeling!$H$1:$I$5,2,FALSE),0)","v":0},0]
["",null,null,null,null,null,null,null,null,null,null,null,null,null,null,{"$f":"INDEX($A:$O,ROW(),MATCH('Rapportage per vraag'!$C$12,'Data leveranciersbeoordeling'!$1:$1,0))","v":0},{"$f":"IFERROR(VLOOKUP(INDEX($A:$O,ROW(),MATCH('Rapportage per vraag'!$C$12,'Data leveranciersbeoordeling'!$1:$1,0)),Leveranciersbeoordeling!$H$1:$I$5,2,FALSE),0)","v":0},0]
["",null,null,null,null,null,null,null,null,null,null,null,null,null,null,{"$f":"INDEX($A:$O,ROW(),MATCH('Rapportage per vraag'!$C$12,'Data leveranciersbeoordeling'!$1:$1,0))","v":0},{"$f":"IFERROR(VLOOKUP(INDEX($A:$O,ROW(),MATCH('Rapportage per vraag'!$C$12,'Data leveranciersbeoordeling'!$1:$1,0)),Leveranciersbeoordeling!$H$1:$I$5,2,FALSE),0)","v":0},0]
["",null,null,null,null,null,null,null,null,null,null,null,null,null,null,{"$f":"INDEX($A:$O,ROW(),MATCH('Rapportage per vraag'!$C$12,'Data leveranciersbeoordeling'!$1:$1,0))","v":0},{"$f":"IFERROR(VLOOKUP(INDEX($A:$O,ROW(),MATCH('Rapportage per vraag'!$C$12,'Data leveranciersbeoordeling'!$1:$1,0)),Leveranciersbeoordeling!$H$1:$I$5,2,FALSE),0)","v":0},0]
["",null,null,null,null,null,null,null,null,null,null,null,null,null,null,{"$f":"INDEX($A:$O,ROW(),MATCH('Rapportage per vraag'!$C$12,'Data leveranciersbeoordeling'!$1:$1,0))","v":0},{"$f":"IFERROR(VLOOKUP(INDEX($A:$O,ROW(),MATCH('Rapportage per vraag'!$C$12,'Data leveranciersbeoordeling'!$1:$1,0)),Leveranciersbeoordeling!$H$1:$I$5,2,FALSE),0)","v":0},0]
["",null,null,null,null,null,null,null,null,null,null,null,null,null,null,{"$f":"INDEX($A:$O,ROW(),MATCH('Rapportage per vraag'!$C$12,'Data leveranciersbeoordeling'!$1:$1,0))","v":0},{"$f":"IFERROR(VLOOKUP(INDEX($A:$O,ROW(),MATCH('Rapportage per vraag'!$C$12,'Data leveranciersbeoordeling'!$1:$1,0)),Leveranciersbeoordeling!$H$1:$I$5,2,FALSE),0)","v":0},0]
["",null,null,null,null,null,null,null,null,null,null,null,null,null,null,{"$f":"INDEX($A:$O,ROW(),MATCH('Rapportage per vraag'!$C$12,'Data leveranciersbeoordeling'!$1:$1,0))","v":0},{"$f":"IFERROR(VLOOKUP(INDEX($A:$O,ROW(),MATCH('Rapportage per vraag'!$C$12,'Data leveranciersbeoordeling'!$1:$1,0)),Leveranciersbeoordeling!$H$1:$I$5,2,FALSE),0)","v":0},0]
["",null,null,null,null,null,null,null,null,null,null,null,null,null,null,{"$f":"INDEX($A:$O,ROW(),MATCH('Rapportage per vraag'!$C$12,'Data leveranciersbeoordeling'!$1:$1,0))","v":0},{"$f":"IFERROR(VLOOKUP(INDEX($A:$O,ROW(),MATCH('Rapportage per vraag'!$C$12,'Data leveranciersbeoordeling'!$1:$1,0)),Leveranciersbeoordeling!$H$1:$I$5,2,FALSE),0)","v":0},0]
["",null,null,null,null,null,null,null,null,null,null,null,null,null,null,{"$f":"INDEX($A:$O,ROW(),MATCH('Rapportage per vraag'!$C$12,'Data leveranciersbeoordeling'!$1:$1,0))","v":0},{"$f":"IFERROR(VLOOKUP(INDEX($A:$O,ROW(),MATCH('Rapportage per vraag'!$C$12,'Data leveranciersbeoordeling'!$1:$1,0)),Leveranciersbeoordeling!$H$1:$I$5,2,FALSE),0)","v":0},0]
["",null,null,null,null,null,null,null,null,null,null,null,null,null,null,{"$f":"INDEX($A:$O,ROW(),MATCH('Rapportage per vraag'!$C$12,'Data leveranciersbeoordeling'!$1:$1,0))","v":0},{"$f":"IFERROR(VLOOKUP(INDEX($A:$O,ROW(),MATCH('Rapportage per vraag'!$C$12,'Data leveranciersbeoordeling'!$1:$1,0)),Leveranciersbeoordeling!$H$1:$I$5,2,FALSE),0)","v":0},0]
["",null,null,null,null,null,null,null,null,null,null,null,null,null,null,{"$f":"INDEX($A:$O,ROW(),MATCH('Rapportage per vraag'!$C$12,'Data leveranciersbeoordeling'!$1:$1,0))","v":0},{"$f":"IFERROR(VLOOKUP(INDEX($A:$O,ROW(),MATCH('Rapportage per vraag'!$C$12,'Data leveranciersbeoordeling'!$1:$1,0)),Leveranciersbeoordeling!$H$1:$I$5,2,FALSE),0)","v":0},0]
["",null,null,null,null,null,null,null,null,null,null,null,null,null,null,{"$f":"INDEX($A:$O,ROW(),MATCH('Rapportage per vraag'!$C$12,'Data leveranciersbeoordeling'!$1:$1,0))","v":0},{"$f":"IFERROR(VLOOKUP(INDEX($A:$O,ROW(),MATCH('Rapportage per vraag'!$C$12,'Data leveranciersbeoordeling'!$1:$1,0)),Leveranciersbeoordeling!$H$1:$I$5,2,FALSE),0)","v":0},0]
["",null,null,null,null,null,null,null,null,null,null,null,null,null,null,{"$f":"INDEX($A:$O,ROW(),MATCH('Rapportage per vraag'!$C$12,'Data leveranciersbeoordeling'!$1:$1,0))","v":0},{"$f":"IFERROR(VLOOKUP(INDEX($A:$O,ROW(),MATCH('Rapportage per vraag'!$C$12,'Data leveranciersbeoordeling'!$1:$1,0)),Leveranciersbeoordeling!$H$1:$I$5,2,FALSE),0)","v":0},0]
["",null,null,null,null,null,null,null,null,null,null,null,null,null,null,{"$f":"INDEX($A:$O,ROW(),MATCH('Rapportage per vraag'!$C$12,'Data leveranciersbeoordeling'!$1:$1,0))","v":0},{"$f":"IFERROR(VLOOKUP(INDEX($A:$O,ROW(),MATCH('Rapportage per vraag'!$C$12,'Data leveranciersbeoordeling'!$1:$1,0)),Leveranciersbeoordeling!$H$1:$I$5,2,FALSE),0)","v":0},0]
["",null,null,null,null,null,null,null,null,null,null,null,null,null,null,{"$f":"INDEX($A:$O,ROW(),MATCH('Rapportage per vraag'!$C$12,'Data leveranciersbeoordeling'!$1:$1,0))","v":0},{"$f":"IFERROR(VLOOKUP(INDEX($A:$O,ROW(),MATCH('Rapportage per vraag'!$C$12,'Data leveranciersbeoordeling'!$1:$1,0)),Leveranciersbeoordeling!$H$1:$I$5,2,FALSE),0)","v":0},0]
["",null,null,null,null,null,null,null,null,null,null,null,null,null,null,{"$f":"INDEX($A:$O,ROW(),MATCH('Rapportage per vraag'!$C$12,'Data leveranciersbeoordeling'!$1:$1,0))","v":0},{"$f":"IFERROR(VLOOKUP(INDEX($A:$O,ROW(),MATCH('Rapportage per vraag'!$C$12,'Data leveranciersbeoordeling'!$1:$1,0)),Leveranciersbeoordeling!$H$1:$I$5,2,FALSE),0)","v":0},0]
["",null,null,null,null,null,null,null,null,null,null,null,null,null,null,{"$f":"INDEX($A:$O,ROW(),MATCH('Rapportage per vraag'!$C$12,'Data leveranciersbeoordeling'!$1:$1,0))","v":0},{"$f":"IFERROR(VLOOKUP(INDEX($A:$O,ROW(),MATCH('Rapportage per vraag'!$C$12,'Data leveranciersbeoordeling'!$1:$1,0)),Leveranciersbeoordeling!$H$1:$I$5,2,FALSE),0)","v":0},0]
["",null,null,null,null,null,null,null,null,null,null,null,null,null,null,{"$f":"INDEX($A:$O,ROW(),MATCH('Rapportage per vraag'!$C$12,'Data leveranciersbeoordeling'!$1:$1,0))","v":0},{"$f":"IFERROR(VLOOKUP(INDEX($A:$O,ROW(),MATCH('Rapportage per vraag'!$C$12,'Data leveranciersbeoordeling'!$1:$1,0)),Leveranciersbeoordeling!$H$1:$I$5,2,FALSE),0)","v":0},0]
["",null,null,null,null,null,null,null,null,null,null,null,null,null,null,{"$f":"INDEX($A:$O,ROW(),MATCH('Rapportage per vraag'!$C$12,'Data leveranciersbeoordeling'!$1:$1,0))","v":0},{"$f":"IFERROR(VLOOKUP(INDEX($A:$O,ROW(),MATCH('Rapportage per vraag'!$C$12,'Data leveranciersbeoordeling'!$1:$1,0)),Leveranciersbeoordeling!$H$1:$I$5,2,FALSE),0)","v":0},0]
["",null,null,null,null,null,null,null,null,null,null,null,null,null,null,{"$f":"INDEX($A:$O,ROW(),MATCH('Rapportage per vraag'!$C$12,'Data leveranciersbeoordeling'!$1:$1,0))","v":0},{"$f":"IFERROR(VLOOKUP(INDEX($A:$O,ROW(),MATCH('Rapportage per vraag'!$C$12,'Data leveranciersbeoordeling'!$1:$1,0)),Leveranciersbeoordeling!$H$1:$I$5,2,FALSE),0)","v":0},0]
["",null,null,null,null,null,null,null,null,null,null,null,null,null,null,{"$f":"INDEX($A:$O,ROW(),MATCH('Rapportage per vraag'!$C$12,'Data leveranciersbeoordeling'!$1:$1,0))","v":0},{"$f":"IFERROR(VLOOKUP(INDEX($A:$O,ROW(),MATCH('Rapportage per vraag'!$C$12,'Data leveranciersbeoordeling'!$1:$1,0)),Leveranciersbeoordeling!$H$1:$I$5,2,FALSE),0)","v":0},0]
["",null,null,null,null,null,null,null,null,null,null,null,null,null,null,{"$f":"INDEX($A:$O,ROW(),MATCH('Rapportage per vraag'!$C$12,'Data leveranciersbeoordeling'!$1:$1,0))","v":0},{"$f":"IFERROR(VLOOKUP(INDEX($A:$O,ROW(),MATCH('Rapportage per vraag'!$C$12,'Data leveranciersbeoordeling'!$1:$1,0)),Leveranciersbeoordeling!$H$1:$I$5,2,FALSE),0)","v":0},0]
["",null,null,null,null,null,null,null,null,null,null,null,null,null,null,{"$f":"INDEX($A:$O,ROW(),MATCH('Rapportage per vraag'!$C$12,'Data leveranciersbeoordeling'!$1:$1,0))","v":0},{"$f":"IFERROR(VLOOKUP(INDEX($A:$O,ROW(),MATCH('Rapportage per vraag'!$C$12,'Data leveranciersbeoordeling'!$1:$1,0)),Leveranciersbeoordeling!$H$1:$I$5,2,FALSE),0)","v":0},0]
["",null,null,null,null,null,null,null,null,null,null,null,null,null,null,{"$f":"INDEX($A:$O,ROW(),MATCH('Rapportage per vraag'!$C$12,'Data leveranciersbeoordeling'!$1:$1,0))","v":0},{"$f":"IFERROR(VLOOKUP(INDEX($A:$O,ROW(),MATCH('Rapportage per vraag'!$C$12,'Data leveranciersbeoordeling'!$1:$1,0)),Leveranciersbeoordeling!$H$1:$I$5,2,FALSE),0)","v":0},0]
["",null,null,null,null,null,null,null,null,null,null,null,null,null,null,{"$f":"INDEX($A:$O,ROW(),MATCH('Rapportage per vraag'!$C$12,'Data leveranciersbeoordeling'!$1:$1,0))","v":0},{"$f":"IFERROR(VLOOKUP(INDEX($A:$O,ROW(),MATCH('Rapportage per vraag'!$C$12,'Data leveranciersbeoordeling'!$1:$1,0)),Leveranciersbeoordeling!$H$1:$I$5,2,FALSE),0)","v":0},0]
["",null,null,null,null,null,null,null,null,null,null,null,null,null,null,{"$f":"INDEX($A:$O,ROW(),MATCH('Rapportage per vraag'!$C$12,'Data leveranciersbeoordeling'!$1:$1,0))","v":0},{"$f":"IFERROR(VLOOKUP(INDEX($A:$O,ROW(),MATCH('Rapportage per vraag'!$C$12,'Data leveranciersbeoordeling'!$1:$1,0)),Leveranciersbeoordeling!$H$1:$I$5,2,FALSE),0)","v":0},0]
["",null,null,null,null,null,null,null,null,null,null,null,null,null,null,{"$f":"INDEX($A:$O,ROW(),MATCH('Rapportage per vraag'!$C$12,'Data leveranciersbeoordeling'!$1:$1,0))","v":0},{"$f":"IFERROR(VLOOKUP(INDEX($A:$O,ROW(),MATCH('Rapportage per vraag'!$C$12,'Data leveranciersbeoordeling'!$1:$1,0)),Leveranciersbeoordeling!$H$1:$I$5,2,FALSE),0)","v":0},0]
["",null,null,null,null,null,null,null,null,null,null,null,null,null,null,{"$f":"INDEX($A:$O,ROW(),MATCH('Rapportage per vraag'!$C$12,'Data leveranciersbeoordeling'!$1:$1,0))","v":0},{"$f":"IFERROR(VLOOKUP(INDEX($A:$O,ROW(),MATCH('Rapportage per vraag'!$C$12,'Data leveranciersbeoordeling'!$1:$1,0)),Leveranciersbeoordeling!$H$1:$I$5,2,FALSE),0)","v":0},0]
["",null,null,null,null,null,null,null,null,null,null,null,null,null,null,{"$f":"INDEX($A:$O,ROW(),MATCH('Rapportage per vraag'!$C$12,'Data leveranciersbeoordeling'!$1:$1,0))","v":0},{"$f":"IFERROR(VLOOKUP(INDEX($A:$O,ROW(),MATCH('Rapportage per vraag'!$C$12,'Data leveranciersbeoordeling'!$1:$1,0)),Leveranciersbeoordeling!$H$1:$I$5,2,FALSE),0)","v":0},0]
["",null,null,null,null,null,null,null,null,null,null,null,null,null,null,{"$f":"INDEX($A:$O,ROW(),MATCH('Rapportage per vraag'!$C$12,'Data leveranciersbeoordeling'!$1:$1,0))","v":0},{"$f":"IFERROR(VLOOKUP(INDEX($A:$O,ROW(),MATCH('Rapportage per vraag'!$C$12,'Data leveranciersbeoordeling'!$1:$1,0)),Leveranciersbeoordeling!$H$1:$I$5,2,FALSE),0)","v":0},0]
["",null,null,null,null,null,null,null,null,null,null,null,null,null,null,{"$f":"INDEX($A:$O,ROW(),MATCH('Rapportage per vraag'!$C$12,'Data leveranciersbeoordeling'!$1:$1,0))","v":0},{"$f":"IFERROR(VLOOKUP(INDEX($A:$O,ROW(),MATCH('Rapportage per vraag'!$C$12,'Data leveranciersbeoordeling'!$1:$1,0)),Leveranciersbeoordeling!$H$1:$I$5,2,FALSE),0)","v":0},0]
["",null,null,null,null,null,null,null,null,null,null,null,null,null,null,{"$f":"INDEX($A:$O,ROW(),MATCH('Rapportage per vraag'!$C$12,'Data leveranciersbeoordeling'!$1:$1,0))","v":0},{"$f":"IFERROR(VLOOKUP(INDEX($A:$O,ROW(),MATCH('Rapportage per vraag'!$C$12,'Data leveranciersbeoordeling'!$1:$1,0)),Leveranciersbeoordeling!$H$1:$I$5,2,FALSE),0)","v":0},0]
["",null,null,null,null,null,null,null,null,null,null,null,null,null,null,{"$f":"INDEX($A:$O,ROW(),MATCH('Rapportage per vraag'!$C$12,'Data leveranciersbeoordeling'!$1:$1,0))","v":0},{"$f":"IFERROR(VLOOKUP(INDEX($A:$O,ROW(),MATCH('Rapportage per vraag'!$C$12,'Data leveranciersbeoordeling'!$1:$1,0)),Leveranciersbeoordeling!$H$1:$I$5,2,FALSE),0)","v":0},0]
["",null,null,null,null,null,null,null,null,null,null,null,null,null,null,{"$f":"INDEX($A:$O,ROW(),MATCH('Rapportage per vraag'!$C$12,'Data leveranciersbeoordeling'!$1:$1,0))","v":0},{"$f":"IFERROR(VLOOKUP(INDEX($A:$O,ROW(),MATCH('Rapportage per vraag'!$C$12,'Data leveranciersbeoordeling'!$1:$1,0)),Leveranciersbeoordeling!$H$1:$I$5,2,FALSE),0)","v":0},0]
["",null,null,null,null,null,null,null,null,null,null,null,null,null,null,{"$f":"INDEX($A:$O,ROW(),MATCH('Rapportage per vraag'!$C$12,'Data leveranciersbeoordeling'!$1:$1,0))","v":0},{"$f":"IFERROR(VLOOKUP(INDEX($A:$O,ROW(),MATCH('Rapportage per vraag'!$C$12,'Data leveranciersbeoordeling'!$1:$1,0)),Leveranciersbeoordeling!$H$1:$I$5,2,FALSE),0)","v":0},0]
["",null,null,null,null,null,null,null,null,null,null,null,null,null,null,{"$f":"INDEX($A:$O,ROW(),MATCH('Rapportage per vraag'!$C$12,'Data leveranciersbeoordeling'!$1:$1,0))","v":0},{"$f":"IFERROR(VLOOKUP(INDEX($A:$O,ROW(),MATCH('Rapportage per vraag'!$C$12,'Data leveranciersbeoordeling'!$1:$1,0)),Leveranciersbeoordeling!$H$1:$I$5,2,FALSE),0)","v":0},0]
["",null,null,null,null,null,null,null,null,null,null,null,null,null,null,{"$f":"INDEX($A:$O,ROW(),MATCH('Rapportage per vraag'!$C$12,'Data leveranciersbeoordeling'!$1:$1,0))","v":0},{"$f":"IFERROR(VLOOKUP(INDEX($A:$O,ROW(),MATCH('Rapportage per vraag'!$C$12,'Data leveranciersbeoordeling'!$1:$1,0)),Leveranciersbeoordeling!$H$1:$I$5,2,FALSE),0)","v":0},0]
["",null,null,null,null,null,null,null,null,null,null,null,null,null,null,{"$f":"INDEX($A:$O,ROW(),MATCH('Rapportage per vraag'!$C$12,'Data leveranciersbeoordeling'!$1:$1,0))","v":0},{"$f":"IFERROR(VLOOKUP(INDEX($A:$O,ROW(),MATCH('Rapportage per vraag'!$C$12,'Data leveranciersbeoordeling'!$1:$1,0)),Leveranciersbeoordeling!$H$1:$I$5,2,FALSE),0)","v":0},0]
["",null,null,null,null,null,null,null,null,null,null,null,null,null,null,{"$f":"INDEX($A:$O,ROW(),MATCH('Rapportage per vraag'!$C$12,'Data leveranciersbeoordeling'!$1:$1,0))","v":0},{"$f":"IFERROR(VLOOKUP(INDEX($A:$O,ROW(),MATCH('Rapportage per vraag'!$C$12,'Data leveranciersbeoordeling'!$1:$1,0)),Leveranciersbeoordeling!$H$1:$I$5,2,FALSE),0)","v":0},0]
["",null,null,null,null,null,null,null,null,null,null,null,null,null,null,{"$f":"INDEX($A:$O,ROW(),MATCH('Rapportage per vraag'!$C$12,'Data leveranciersbeoordeling'!$1:$1,0))","v":0},{"$f":"IFERROR(VLOOKUP(INDEX($A:$O,ROW(),MATCH('Rapportage per vraag'!$C$12,'Data leveranciersbeoordeling'!$1:$1,0)),Leveranciersbeoordeling!$H$1:$I$5,2,FALSE),0)","v":0},0]
["",null,null,null,null,null,null,null,null,null,null,null,null,null,null,{"$f":"INDEX($A:$O,ROW(),MATCH('Rapportage per vraag'!$C$12,'Data leveranciersbeoordeling'!$1:$1,0))","v":0},{"$f":"IFERROR(VLOOKUP(INDEX($A:$O,ROW(),MATCH('Rapportage per vraag'!$C$12,'Data leveranciersbeoordeling'!$1:$1,0)),Leveranciersbeoordeling!$H$1:$I$5,2,FALSE),0)","v":0},0]
["",null,null,null,null,null,null,null,null,null,null,null,null,null,null,{"$f":"INDEX($A:$O,ROW(),MATCH('Rapportage per vraag'!$C$12,'Data leveranciersbeoordeling'!$1:$1,0))","v":0},{"$f":"IFERROR(VLOOKUP(INDEX($A:$O,ROW(),MATCH('Rapportage per vraag'!$C$12,'Data leveranciersbeoordeling'!$1:$1,0)),Leveranciersbeoordeling!$H$1:$I$5,2,FALSE),0)","v":0},0]
["",null,null,null,null,null,null,null,null,null,null,null,null,null,null,{"$f":"INDEX($A:$O,ROW(),MATCH('Rapportage per vraag'!$C$12,'Data leveranciersbeoordeling'!$1:$1,0))","v":0},{"$f":"IFERROR(VLOOKUP(INDEX($A:$O,ROW(),MATCH('Rapportage per vraag'!$C$12,'Data leveranciersbeoordeling'!$1:$1,0)),Leveranciersbeoordeling!$H$1:$I$5,2,FALSE),0)","v":0},0]
["",null,null,null,null,null,null,null,null,null,null,null,null,null,null,{"$f":"INDEX($A:$O,ROW(),MATCH('Rapportage per vraag'!$C$12,'Data leveranciersbeoordeling'!$1:$1,0))","v":0},{"$f":"IFERROR(VLOOKUP(INDEX($A:$O,ROW(),MATCH('Rapportage per vraag'!$C$12,'Data leveranciersbeoordeling'!$1:$1,0)),Leveranciersbeoordeling!$H$1:$I$5,2,FALSE),0)","v":0},0]
["",null,null,null,null,null,null,null,null,null,null,null,null,null,null,{"$f":"INDEX($A:$O,ROW(),MATCH('Rapportage per vraag'!$C$12,'Data leveranciersbeoordeling'!$1:$1,0))","v":0},{"$f":"IFERROR(VLOOKUP(INDEX($A:$O,ROW(),MATCH('Rapportage per vraag'!$C$12,'Data leveranciersbeoordeling'!$1:$1,0)),Leveranciersbeoordeling!$H$1:$I$5,2,FALSE),0)","v":0},0]
["",null,null,null,null,null,null,null,null,null,null,null,null,null,null,{"$f":"INDEX($A:$O,ROW(),MATCH('Rapportage per vraag'!$C$12,'Data leveranciersbeoordeling'!$1:$1,0))","v":0},{"$f":"IFERROR(VLOOKUP(INDEX($A:$O,ROW(),MATCH('Rapportage per vraag'!$C$12,'Data leveranciersbeoordeling'!$1:$1,0)),Leveranciersbeoordeling!$H$1:$I$5,2,FALSE),0)","v":0},0]
["",null,null,null,null,null,null,null,null,null,null,null,null,null,null,{"$f":"INDEX($A:$O,ROW(),MATCH('Rapportage per vraag'!$C$12,'Data leveranciersbeoordeling'!$1:$1,0))","v":0},{"$f":"IFERROR(VLOOKUP(INDEX($A:$O,ROW(),MATCH('Rapportage per vraag'!$C$12,'Data leveranciersbeoordeling'!$1:$1,0)),Leveranciersbeoordeling!$H$1:$I$5,2,FALSE),0)","v":0},0]
["",null,null,null,null,null,null,null,null,null,null,null,null,null,null,{"$f":"INDEX($A:$O,ROW(),MATCH('Rapportage per vraag'!$C$12,'Data leveranciersbeoordeling'!$1:$1,0))","v":0},{"$f":"IFERROR(VLOOKUP(INDEX($A:$O,ROW(),MATCH('Rapportage per vraag'!$C$12,'Data leveranciersbeoordeling'!$1:$1,0)),Leveranciersbeoordeling!$H$1:$I$5,2,FALSE),0)","v":0},0]
["",null,null,null,null,null,null,null,null,null,null,null,null,null,null,{"$f":"INDEX($A:$O,ROW(),MATCH('Rapportage per vraag'!$C$12,'Data leveranciersbeoordeling'!$1:$1,0))","v":0},{"$f":"IFERROR(VLOOKUP(INDEX($A:$O,ROW(),MATCH('Rapportage per vraag'!$C$12,'Data leveranciersbeoordeling'!$1:$1,0)),Leveranciersbeoordeling!$H$1:$I$5,2,FALSE),0)","v":0},0]
["",null,null,null,null,null,null,null,null,null,null,null,null,null,null,{"$f":"INDEX($A:$O,ROW(),MATCH('Rapportage per vraag'!$C$12,'Data leveranciersbeoordeling'!$1:$1,0))","v":0},{"$f":"IFERROR(VLOOKUP(INDEX($A:$O,ROW(),MATCH('Rapportage per vraag'!$C$12,'Data leveranciersbeoordeling'!$1:$1,0)),Leveranciersbeoordeling!$H$1:$I$5,2,FALSE),0)","v":0},0]
["",null,null,null,null,null,null,null,null,null,null,null,null,null,null,{"$f":"INDEX($A:$O,ROW(),MATCH('Rapportage per vraag'!$C$12,'Data leveranciersbeoordeling'!$1:$1,0))","v":0},{"$f":"IFERROR(VLOOKUP(INDEX($A:$O,ROW(),MATCH('Rapportage per vraag'!$C$12,'Data leveranciersbeoordeling'!$1:$1,0)),Leveranciersbeoordeling!$H$1:$I$5,2,FALSE),0)","v":0},0]
["",null,null,null,null,null,null,null,null,null,null,null,null,null,null,{"$f":"INDEX($A:$O,ROW(),MATCH('Rapportage per vraag'!$C$12,'Data leveranciersbeoordeling'!$1:$1,0))","v":0},{"$f":"IFERROR(VLOOKUP(INDEX($A:$O,ROW(),MATCH('Rapportage per vraag'!$C$12,'Data leveranciersbeoordeling'!$1:$1,0)),Leveranciersbeoordeling!$H$1:$I$5,2,FALSE),0)","v":0},0]
["",null,null,null,null,null,null,null,null,null,null,null,null,null,null,{"$f":"INDEX($A:$O,ROW(),MATCH('Rapportage per vraag'!$C$12,'Data leveranciersbeoordeling'!$1:$1,0))","v":0},{"$f":"IFERROR(VLOOKUP(INDEX($A:$O,ROW(),MATCH('Rapportage per vraag'!$C$12,'Data leveranciersbeoordeling'!$1:$1,0)),Leveranciersbeoordeling!$H$1:$I$5,2,FALSE),0)","v":0},0]
["",null,null,null,null,null,null,null,null,null,null,null,null,null,null,{"$f":"INDEX($A:$O,ROW(),MATCH('Rapportage per vraag'!$C$12,'Data leveranciersbeoordeling'!$1:$1,0))","v":0},{"$f":"IFERROR(VLOOKUP(INDEX($A:$O,ROW(),MATCH('Rapportage per vraag'!$C$12,'Data leveranciersbeoordeling'!$1:$1,0)),Leveranciersbeoordeling!$H$1:$I$5,2,FALSE),0)","v":0},0]
["",null,null,null,null,null,null,null,null,null,null,null,null,null,null,{"$f":"INDEX($A:$O,ROW(),MATCH('Rapportage per vraag'!$C$12,'Data leveranciersbeoordeling'!$1:$1,0))","v":0},{"$f":"IFERROR(VLOOKUP(INDEX($A:$O,ROW(),MATCH('Rapportage per vraag'!$C$12,'Data leveranciersbeoordeling'!$1:$1,0)),Leveranciersbeoordeling!$H$1:$I$5,2,FALSE),0)","v":0},0]
["",null,null,null,null,null,null,null,null,null,null,null,null,null,null,{"$f":"INDEX($A:$O,ROW(),MATCH('Rapportage per vraag'!$C$12,'Data leveranciersbeoordeling'!$1:$1,0))","v":0},{"$f":"IFERROR(VLOOKUP(INDEX($A:$O,ROW(),MATCH('Rapportage per vraag'!$C$12,'Data leveranciersbeoordeling'!$1:$1,0)),Leveranciersbeoordeling!$H$1:$I$5,2,FALSE),0)","v":0},0]
[{"$f":"CONCATENATE(B1667,C1667,D1667)","v":""},null,null,null,null,null,null,null,null,null,null,null,null,null,null,{"$f":"INDEX($A:$O,ROW(),MATCH('Rapportage per vraag'!$C$12,'Data leveranciersbeoordeling'!$1:$1,0))","v":0},{"$f":"IFERROR(VLOOKUP(INDEX($A:$O,ROW(),MATCH('Rapportage per vraag'!$C$12,'Data leveranciersbeoordeling'!$1:$1,0)),Leveranciersbeoordeling!$H$1:$I$5,2,FALSE),0)","v":0},0]
["",null,null,null,null,null,null,null,null,null,null,null,null,null,null,{"$f":"INDEX($A:$O,ROW(),MATCH('Rapportage per vraag'!$C$12,'Data leveranciersbeoordeling'!$1:$1,0))","v":0},{"$f":"IFERROR(VLOOKUP(INDEX($A:$O,ROW(),MATCH('Rapportage per vraag'!$C$12,'Data leveranciersbeoordeling'!$1:$1,0)),Leveranciersbeoordeling!$H$1:$I$5,2,FALSE),0)","v":0},0]
["",null,null,null,null,null,null,null,null,null,null,null,null,null,null,{"$f":"INDEX($A:$O,ROW(),MATCH('Rapportage per vraag'!$C$12,'Data leveranciersbeoordeling'!$1:$1,0))","v":0},{"$f":"IFERROR(VLOOKUP(INDEX($A:$O,ROW(),MATCH('Rapportage per vraag'!$C$12,'Data leveranciersbeoordeling'!$1:$1,0)),Leveranciersbeoordeling!$H$1:$I$5,2,FALSE),0)","v":0},0]
["",null,null,null,null,null,null,null,null,null,null,null,null,null,null,{"$f":"INDEX($A:$O,ROW(),MATCH('Rapportage per vraag'!$C$12,'Data leveranciersbeoordeling'!$1:$1,0))","v":0},{"$f":"IFERROR(VLOOKUP(INDEX($A:$O,ROW(),MATCH('Rapportage per vraag'!$C$12,'Data leveranciersbeoordeling'!$1:$1,0)),Leveranciersbeoordeling!$H$1:$I$5,2,FALSE),0)","v":0},{"$f":"IF(T(P1670)=P1670,Q1670,P1670)","v":0}]
["",null,null,null,null,null,null,null,null,null,null,null,null,null,null,{"$f":"INDEX($A:$O,ROW(),MATCH('Rapportage per vraag'!$C$12,'Data leveranciersbeoordeling'!$1:$1,0))","v":0},{"$f":"IFERROR(VLOOKUP(INDEX($A:$O,ROW(),MATCH('Rapportage per vraag'!$C$12,'Data leveranciersbeoordeling'!$1:$1,0)),Leveranciersbeoordeling!$H$1:$I$5,2,FALSE),0)","v":0},0]
["",null,null,null,null,null,null,null,null,null,null,null,null,null,null,{"$f":"INDEX($A:$O,ROW(),MATCH('Rapportage per vraag'!$C$12,'Data leveranciersbeoordeling'!$1:$1,0))","v":0},{"$f":"IFERROR(VLOOKUP(INDEX($A:$O,ROW(),MATCH('Rapportage per vraag'!$C$12,'Data leveranciersbeoordeling'!$1:$1,0)),Leveranciersbeoordeling!$H$1:$I$5,2,FALSE),0)","v":0},0]
["",null,null,null,null,null,null,null,null,null,null,null,null,null,null,{"$f":"INDEX($A:$O,ROW(),MATCH('Rapportage per vraag'!$C$12,'Data leveranciersbeoordeling'!$1:$1,0))","v":0},{"$f":"IFERROR(VLOOKUP(INDEX($A:$O,ROW(),MATCH('Rapportage per vraag'!$C$12,'Data leveranciersbeoordeling'!$1:$1,0)),Leveranciersbeoordeling!$H$1:$I$5,2,FALSE),0)","v":0},0]
["",null,null,null,null,null,null,null,null,null,null,null,null,null,null,{"$f":"INDEX($A:$O,ROW(),MATCH('Rapportage per vraag'!$C$12,'Data leveranciersbeoordeling'!$1:$1,0))","v":0},{"$f":"IFERROR(VLOOKUP(INDEX($A:$O,ROW(),MATCH('Rapportage per vraag'!$C$12,'Data leveranciersbeoordeling'!$1:$1,0)),Leveranciersbeoordeling!$H$1:$I$5,2,FALSE),0)","v":0},0]
["",null,null,null,null,null,null,null,null,null,null,null,null,null,null,{"$f":"INDEX($A:$O,ROW(),MATCH('Rapportage per vraag'!$C$12,'Data leveranciersbeoordeling'!$1:$1,0))","v":0},{"$f":"IFERROR(VLOOKUP(INDEX($A:$O,ROW(),MATCH('Rapportage per vraag'!$C$12,'Data leveranciersbeoordeling'!$1:$1,0)),Leveranciersbeoordeling!$H$1:$I$5,2,FALSE),0)","v":0},0]
["",null,null,null,null,null,null,null,null,null,null,null,null,null,null,{"$f":"INDEX($A:$O,ROW(),MATCH('Rapportage per vraag'!$C$12,'Data leveranciersbeoordeling'!$1:$1,0))","v":0},{"$f":"IFERROR(VLOOKUP(INDEX($A:$O,ROW(),MATCH('Rapportage per vraag'!$C$12,'Data leveranciersbeoordeling'!$1:$1,0)),Leveranciersbeoordeling!$H$1:$I$5,2,FALSE),0)","v":0},0]
["",null,null,null,null,null,null,null,null,null,null,null,null,null,null,{"$f":"INDEX($A:$O,ROW(),MATCH('Rapportage per vraag'!$C$12,'Data leveranciersbeoordeling'!$1:$1,0))","v":0},{"$f":"IFERROR(VLOOKUP(INDEX($A:$O,ROW(),MATCH('Rapportage per vraag'!$C$12,'Data leveranciersbeoordeling'!$1:$1,0)),Leveranciersbeoordeling!$H$1:$I$5,2,FALSE),0)","v":0},0]
["",null,null,null,null,null,null,null,null,null,null,null,null,null,null,{"$f":"INDEX($A:$O,ROW(),MATCH('Rapportage per vraag'!$C$12,'Data leveranciersbeoordeling'!$1:$1,0))","v":0},{"$f":"IFERROR(VLOOKUP(INDEX($A:$O,ROW(),MATCH('Rapportage per vraag'!$C$12,'Data leveranciersbeoordeling'!$1:$1,0)),Leveranciersbeoordeling!$H$1:$I$5,2,FALSE),0)","v":0},0]
["",null,null,null,null,null,null,null,null,null,null,null,null,null,null,{"$f":"INDEX($A:$O,ROW(),MATCH('Rapportage per vraag'!$C$12,'Data leveranciersbeoordeling'!$1:$1,0))","v":0},{"$f":"IFERROR(VLOOKUP(INDEX($A:$O,ROW(),MATCH('Rapportage per vraag'!$C$12,'Data leveranciersbeoordeling'!$1:$1,0)),Leveranciersbeoordeling!$H$1:$I$5,2,FALSE),0)","v":0},0]
["",null,null,null,null,null,null,null,null,null,null,null,null,null,null,{"$f":"INDEX($A:$O,ROW(),MATCH('Rapportage per vraag'!$C$12,'Data leveranciersbeoordeling'!$1:$1,0))","v":0},{"$f":"IFERROR(VLOOKUP(INDEX($A:$O,ROW(),MATCH('Rapportage per vraag'!$C$12,'Data leveranciersbeoordeling'!$1:$1,0)),Leveranciersbeoordeling!$H$1:$I$5,2,FALSE),0)","v":0},0]
["",null,null,null,null,null,null,null,null,null,null,null,null,null,null,{"$f":"INDEX($A:$O,ROW(),MATCH('Rapportage per vraag'!$C$12,'Data leveranciersbeoordeling'!$1:$1,0))","v":0},{"$f":"IFERROR(VLOOKUP(INDEX($A:$O,ROW(),MATCH('Rapportage per vraag'!$C$12,'Data leveranciersbeoordeling'!$1:$1,0)),Leveranciersbeoordeling!$H$1:$I$5,2,FALSE),0)","v":0},0]
["",null,null,null,null,null,null,null,null,null,null,null,null,null,null,{"$f":"INDEX($A:$O,ROW(),MATCH('Rapportage per vraag'!$C$12,'Data leveranciersbeoordeling'!$1:$1,0))","v":0},{"$f":"IFERROR(VLOOKUP(INDEX($A:$O,ROW(),MATCH('Rapportage per vraag'!$C$12,'Data leveranciersbeoordeling'!$1:$1,0)),Leveranciersbeoordeling!$H$1:$I$5,2,FALSE),0)","v":0},0]
["",null,null,null,null,null,null,null,null,null,null,null,null,null,null,{"$f":"INDEX($A:$O,ROW(),MATCH('Rapportage per vraag'!$C$12,'Data leveranciersbeoordeling'!$1:$1,0))","v":0},{"$f":"IFERROR(VLOOKUP(INDEX($A:$O,ROW(),MATCH('Rapportage per vraag'!$C$12,'Data leveranciersbeoordeling'!$1:$1,0)),Leveranciersbeoordeling!$H$1:$I$5,2,FALSE),0)","v":0},0]
["",null,null,null,null,null,null,null,null,null,null,null,null,null,null,{"$f":"INDEX($A:$O,ROW(),MATCH('Rapportage per vraag'!$C$12,'Data leveranciersbeoordeling'!$1:$1,0))","v":0},{"$f":"IFERROR(VLOOKUP(INDEX($A:$O,ROW(),MATCH('Rapportage per vraag'!$C$12,'Data leveranciersbeoordeling'!$1:$1,0)),Leveranciersbeoordeling!$H$1:$I$5,2,FALSE),0)","v":0},0]
["",null,null,null,null,null,null,null,null,null,null,null,null,null,null,{"$f":"INDEX($A:$O,ROW(),MATCH('Rapportage per vraag'!$C$12,'Data leveranciersbeoordeling'!$1:$1,0))","v":0},{"$f":"IFERROR(VLOOKUP(INDEX($A:$O,ROW(),MATCH('Rapportage per vraag'!$C$12,'Data leveranciersbeoordeling'!$1:$1,0)),Leveranciersbeoordeling!$H$1:$I$5,2,FALSE),0)","v":0},0]
["",null,null,null,null,null,null,null,null,null,null,null,null,null,null,{"$f":"INDEX($A:$O,ROW(),MATCH('Rapportage per vraag'!$C$12,'Data leveranciersbeoordeling'!$1:$1,0))","v":0},{"$f":"IFERROR(VLOOKUP(INDEX($A:$O,ROW(),MATCH('Rapportage per vraag'!$C$12,'Data leveranciersbeoordeling'!$1:$1,0)),Leveranciersbeoordeling!$H$1:$I$5,2,FALSE),0)","v":0},0]
["",null,null,null,null,null,null,null,null,null,null,null,null,null,null,{"$f":"INDEX($A:$O,ROW(),MATCH('Rapportage per vraag'!$C$12,'Data leveranciersbeoordeling'!$1:$1,0))","v":0},{"$f":"IFERROR(VLOOKUP(INDEX($A:$O,ROW(),MATCH('Rapportage per vraag'!$C$12,'Data leveranciersbeoordeling'!$1:$1,0)),Leveranciersbeoordeling!$H$1:$I$5,2,FALSE),0)","v":0},0]
["",null,null,null,null,null,null,null,null,null,null,null,null,null,null,{"$f":"INDEX($A:$O,ROW(),MATCH('Rapportage per vraag'!$C$12,'Data leveranciersbeoordeling'!$1:$1,0))","v":0},{"$f":"IFERROR(VLOOKUP(INDEX($A:$O,ROW(),MATCH('Rapportage per vraag'!$C$12,'Data leveranciersbeoordeling'!$1:$1,0)),Leveranciersbeoordeling!$H$1:$I$5,2,FALSE),0)","v":0},0]
["",null,null,null,null,null,null,null,null,null,null,null,null,null,null,{"$f":"INDEX($A:$O,ROW(),MATCH('Rapportage per vraag'!$C$12,'Data leveranciersbeoordeling'!$1:$1,0))","v":0},{"$f":"IFERROR(VLOOKUP(INDEX($A:$O,ROW(),MATCH('Rapportage per vraag'!$C$12,'Data leveranciersbeoordeling'!$1:$1,0)),Leveranciersbeoordeling!$H$1:$I$5,2,FALSE),0)","v":0},0]
["",null,null,null,null,null,null,null,null,null,null,null,null,null,null,{"$f":"INDEX($A:$O,ROW(),MATCH('Rapportage per vraag'!$C$12,'Data leveranciersbeoordeling'!$1:$1,0))","v":0},{"$f":"IFERROR(VLOOKUP(INDEX($A:$O,ROW(),MATCH('Rapportage per vraag'!$C$12,'Data leveranciersbeoordeling'!$1:$1,0)),Leveranciersbeoordeling!$H$1:$I$5,2,FALSE),0)","v":0},0]
["",null,null,null,null,null,null,null,null,null,null,null,null,null,null,{"$f":"INDEX($A:$O,ROW(),MATCH('Rapportage per vraag'!$C$12,'Data leveranciersbeoordeling'!$1:$1,0))","v":0},{"$f":"IFERROR(VLOOKUP(INDEX($A:$O,ROW(),MATCH('Rapportage per vraag'!$C$12,'Data leveranciersbeoordeling'!$1:$1,0)),Leveranciersbeoordeling!$H$1:$I$5,2,FALSE),0)","v":0},0]
["",null,null,null,null,null,null,null,null,null,null,null,null,null,null,{"$f":"INDEX($A:$O,ROW(),MATCH('Rapportage per vraag'!$C$12,'Data leveranciersbeoordeling'!$1:$1,0))","v":0},{"$f":"IFERROR(VLOOKUP(INDEX($A:$O,ROW(),MATCH('Rapportage per vraag'!$C$12,'Data leveranciersbeoordeling'!$1:$1,0)),Leveranciersbeoordeling!$H$1:$I$5,2,FALSE),0)","v":0},0]
["",null,null,null,null,null,null,null,null,null,null,null,null,null,null,{"$f":"INDEX($A:$O,ROW(),MATCH('Rapportage per vraag'!$C$12,'Data leveranciersbeoordeling'!$1:$1,0))","v":0},{"$f":"IFERROR(VLOOKUP(INDEX($A:$O,ROW(),MATCH('Rapportage per vraag'!$C$12,'Data leveranciersbeoordeling'!$1:$1,0)),Leveranciersbeoordeling!$H$1:$I$5,2,FALSE),0)","v":0},0]
["",null,null,null,null,null,null,null,null,null,null,null,null,null,null,{"$f":"INDEX($A:$O,ROW(),MATCH('Rapportage per vraag'!$C$12,'Data leveranciersbeoordeling'!$1:$1,0))","v":0},{"$f":"IFERROR(VLOOKUP(INDEX($A:$O,ROW(),MATCH('Rapportage per vraag'!$C$12,'Data leveranciersbeoordeling'!$1:$1,0)),Leveranciersbeoordeling!$H$1:$I$5,2,FALSE),0)","v":0},0]
["",null,null,null,null,null,null,null,null,null,null,null,null,null,null,{"$f":"INDEX($A:$O,ROW(),MATCH('Rapportage per vraag'!$C$12,'Data leveranciersbeoordeling'!$1:$1,0))","v":0},{"$f":"IFERROR(VLOOKUP(INDEX($A:$O,ROW(),MATCH('Rapportage per vraag'!$C$12,'Data leveranciersbeoordeling'!$1:$1,0)),Leveranciersbeoordeling!$H$1:$I$5,2,FALSE),0)","v":0},0]
["",null,null,null,null,null,null,null,null,null,null,null,null,null,null,{"$f":"INDEX($A:$O,ROW(),MATCH('Rapportage per vraag'!$C$12,'Data leveranciersbeoordeling'!$1:$1,0))","v":0},{"$f":"IFERROR(VLOOKUP(INDEX($A:$O,ROW(),MATCH('Rapportage per vraag'!$C$12,'Data leveranciersbeoordeling'!$1:$1,0)),Leveranciersbeoordeling!$H$1:$I$5,2,FALSE),0)","v":0},0]
["",null,null,null,null,null,null,null,null,null,null,null,null,null,null,{"$f":"INDEX($A:$O,ROW(),MATCH('Rapportage per vraag'!$C$12,'Data leveranciersbeoordeling'!$1:$1,0))","v":0},{"$f":"IFERROR(VLOOKUP(INDEX($A:$O,ROW(),MATCH('Rapportage per vraag'!$C$12,'Data leveranciersbeoordeling'!$1:$1,0)),Leveranciersbeoordeling!$H$1:$I$5,2,FALSE),0)","v":0},0]
["",null,null,null,null,null,null,null,null,null,null,null,null,null,null,{"$f":"INDEX($A:$O,ROW(),MATCH('Rapportage per vraag'!$C$12,'Data leveranciersbeoordeling'!$1:$1,0))","v":0},{"$f":"IFERROR(VLOOKUP(INDEX($A:$O,ROW(),MATCH('Rapportage per vraag'!$C$12,'Data leveranciersbeoordeling'!$1:$1,0)),Leveranciersbeoordeling!$H$1:$I$5,2,FALSE),0)","v":0},0]
["",null,null,null,null,null,null,null,null,null,null,null,null,null,null,{"$f":"INDEX($A:$O,ROW(),MATCH('Rapportage per vraag'!$C$12,'Data leveranciersbeoordeling'!$1:$1,0))","v":0},{"$f":"IFERROR(VLOOKUP(INDEX($A:$O,ROW(),MATCH('Rapportage per vraag'!$C$12,'Data leveranciersbeoordeling'!$1:$1,0)),Leveranciersbeoordeling!$H$1:$I$5,2,FALSE),0)","v":0},0]
["",null,null,null,null,null,null,null,null,null,null,null,null,null,null,{"$f":"INDEX($A:$O,ROW(),MATCH('Rapportage per vraag'!$C$12,'Data leveranciersbeoordeling'!$1:$1,0))","v":0},{"$f":"IFERROR(VLOOKUP(INDEX($A:$O,ROW(),MATCH('Rapportage per vraag'!$C$12,'Data leveranciersbeoordeling'!$1:$1,0)),Leveranciersbeoordeling!$H$1:$I$5,2,FALSE),0)","v":0},0]
["",null,null,null,null,null,null,null,null,null,null,null,null,null,null,{"$f":"INDEX($A:$O,ROW(),MATCH('Rapportage per vraag'!$C$12,'Data leveranciersbeoordeling'!$1:$1,0))","v":0},{"$f":"IFERROR(VLOOKUP(INDEX($A:$O,ROW(),MATCH('Rapportage per vraag'!$C$12,'Data leveranciersbeoordeling'!$1:$1,0)),Leveranciersbeoordeling!$H$1:$I$5,2,FALSE),0)","v":0},0]
["",null,null,null,null,null,null,null,null,null,null,null,null,null,null,{"$f":"INDEX($A:$O,ROW(),MATCH('Rapportage per vraag'!$C$12,'Data leveranciersbeoordeling'!$1:$1,0))","v":0},{"$f":"IFERROR(VLOOKUP(INDEX($A:$O,ROW(),MATCH('Rapportage per vraag'!$C$12,'Data leveranciersbeoordeling'!$1:$1,0)),Leveranciersbeoordeling!$H$1:$I$5,2,FALSE),0)","v":0},0]
["",null,null,null,null,null,null,null,null,null,null,null,null,null,null,{"$f":"INDEX($A:$O,ROW(),MATCH('Rapportage per vraag'!$C$12,'Data leveranciersbeoordeling'!$1:$1,0))","v":0},{"$f":"IFERROR(VLOOKUP(INDEX($A:$O,ROW(),MATCH('Rapportage per vraag'!$C$12,'Data leveranciersbeoordeling'!$1:$1,0)),Leveranciersbeoordeling!$H$1:$I$5,2,FALSE),0)","v":0},0]
["",null,null,null,null,null,null,null,null,null,null,null,null,null,null,{"$f":"INDEX($A:$O,ROW(),MATCH('Rapportage per vraag'!$C$12,'Data leveranciersbeoordeling'!$1:$1,0))","v":0},{"$f":"IFERROR(VLOOKUP(INDEX($A:$O,ROW(),MATCH('Rapportage per vraag'!$C$12,'Data leveranciersbeoordeling'!$1:$1,0)),Leveranciersbeoordeling!$H$1:$I$5,2,FALSE),0)","v":0},0]
["",null,null,null,null,null,null,null,null,null,null,null,null,null,null,{"$f":"INDEX($A:$O,ROW(),MATCH('Rapportage per vraag'!$C$12,'Data leveranciersbeoordeling'!$1:$1,0))","v":0},{"$f":"IFERROR(VLOOKUP(INDEX($A:$O,ROW(),MATCH('Rapportage per vraag'!$C$12,'Data leveranciersbeoordeling'!$1:$1,0)),Leveranciersbeoordeling!$H$1:$I$5,2,FALSE),0)","v":0},0]
["",null,null,null,null,null,null,null,null,null,null,null,null,null,null,{"$f":"INDEX($A:$O,ROW(),MATCH('Rapportage per vraag'!$C$12,'Data leveranciersbeoordeling'!$1:$1,0))","v":0},{"$f":"IFERROR(VLOOKUP(INDEX($A:$O,ROW(),MATCH('Rapportage per vraag'!$C$12,'Data leveranciersbeoordeling'!$1:$1,0)),Leveranciersbeoordeling!$H$1:$I$5,2,FALSE),0)","v":0},0]
["",null,null,null,null,null,null,null,null,null,null,null,null,null,null,{"$f":"INDEX($A:$O,ROW(),MATCH('Rapportage per vraag'!$C$12,'Data leveranciersbeoordeling'!$1:$1,0))","v":0},{"$f":"IFERROR(VLOOKUP(INDEX($A:$O,ROW(),MATCH('Rapportage per vraag'!$C$12,'Data leveranciersbeoordeling'!$1:$1,0)),Leveranciersbeoordeling!$H$1:$I$5,2,FALSE),0)","v":0},0]
["",null,null,null,null,null,null,null,null,null,null,null,null,null,null,{"$f":"INDEX($A:$O,ROW(),MATCH('Rapportage per vraag'!$C$12,'Data leveranciersbeoordeling'!$1:$1,0))","v":0},{"$f":"IFERROR(VLOOKUP(INDEX($A:$O,ROW(),MATCH('Rapportage per vraag'!$C$12,'Data leveranciersbeoordeling'!$1:$1,0)),Leveranciersbeoordeling!$H$1:$I$5,2,FALSE),0)","v":0},0]
["",null,null,null,null,null,null,null,null,null,null,null,null,null,null,{"$f":"INDEX($A:$O,ROW(),MATCH('Rapportage per vraag'!$C$12,'Data leveranciersbeoordeling'!$1:$1,0))","v":0},{"$f":"IFERROR(VLOOKUP(INDEX($A:$O,ROW(),MATCH('Rapportage per vraag'!$C$12,'Data leveranciersbeoordeling'!$1:$1,0)),Leveranciersbeoordeling!$H$1:$I$5,2,FALSE),0)","v":0},0]
["",null,null,null,null,null,null,null,null,null,null,null,null,null,null,{"$f":"INDEX($A:$O,ROW(),MATCH('Rapportage per vraag'!$C$12,'Data leveranciersbeoordeling'!$1:$1,0))","v":0},{"$f":"IFERROR(VLOOKUP(INDEX($A:$O,ROW(),MATCH('Rapportage per vraag'!$C$12,'Data leveranciersbeoordeling'!$1:$1,0)),Leveranciersbeoordeling!$H$1:$I$5,2,FALSE),0)","v":0},0]
["",null,null,null,null,null,null,null,null,null,null,null,null,null,null,{"$f":"INDEX($A:$O,ROW(),MATCH('Rapportage per vraag'!$C$12,'Data leveranciersbeoordeling'!$1:$1,0))","v":0},{"$f":"IFERROR(VLOOKUP(INDEX($A:$O,ROW(),MATCH('Rapportage per vraag'!$C$12,'Data leveranciersbeoordeling'!$1:$1,0)),Leveranciersbeoordeling!$H$1:$I$5,2,FALSE),0)","v":0},0]
["",null,null,null,null,null,null,null,null,null,null,null,null,null,null,{"$f":"INDEX($A:$O,ROW(),MATCH('Rapportage per vraag'!$C$12,'Data leveranciersbeoordeling'!$1:$1,0))","v":0},{"$f":"IFERROR(VLOOKUP(INDEX($A:$O,ROW(),MATCH('Rapportage per vraag'!$C$12,'Data leveranciersbeoordeling'!$1:$1,0)),Leveranciersbeoordeling!$H$1:$I$5,2,FALSE),0)","v":0},0]
["",null,null,null,null,null,null,null,null,null,null,null,null,null,null,{"$f":"INDEX($A:$O,ROW(),MATCH('Rapportage per vraag'!$C$12,'Data leveranciersbeoordeling'!$1:$1,0))","v":0},{"$f":"IFERROR(VLOOKUP(INDEX($A:$O,ROW(),MATCH('Rapportage per vraag'!$C$12,'Data leveranciersbeoordeling'!$1:$1,0)),Leveranciersbeoordeling!$H$1:$I$5,2,FALSE),0)","v":0},0]
["",null,null,null,null,null,null,null,null,null,null,null,null,null,null,{"$f":"INDEX($A:$O,ROW(),MATCH('Rapportage per vraag'!$C$12,'Data leveranciersbeoordeling'!$1:$1,0))","v":0},{"$f":"IFERROR(VLOOKUP(INDEX($A:$O,ROW(),MATCH('Rapportage per vraag'!$C$12,'Data leveranciersbeoordeling'!$1:$1,0)),Leveranciersbeoordeling!$H$1:$I$5,2,FALSE),0)","v":0},0]
["",null,null,null,null,null,null,null,null,null,null,null,null,null,null,{"$f":"INDEX($A:$O,ROW(),MATCH('Rapportage per vraag'!$C$12,'Data leveranciersbeoordeling'!$1:$1,0))","v":0},{"$f":"IFERROR(VLOOKUP(INDEX($A:$O,ROW(),MATCH('Rapportage per vraag'!$C$12,'Data leveranciersbeoordeling'!$1:$1,0)),Leveranciersbeoordeling!$H$1:$I$5,2,FALSE),0)","v":0},0]
["",null,null,null,null,null,null,null,null,null,null,null,null,null,null,{"$f":"INDEX($A:$O,ROW(),MATCH('Rapportage per vraag'!$C$12,'Data leveranciersbeoordeling'!$1:$1,0))","v":0},{"$f":"IFERROR(VLOOKUP(INDEX($A:$O,ROW(),MATCH('Rapportage per vraag'!$C$12,'Data leveranciersbeoordeling'!$1:$1,0)),Leveranciersbeoordeling!$H$1:$I$5,2,FALSE),0)","v":0},0]
["",null,null,null,null,null,null,null,null,null,null,null,null,null,null,{"$f":"INDEX($A:$O,ROW(),MATCH('Rapportage per vraag'!$C$12,'Data leveranciersbeoordeling'!$1:$1,0))","v":0},{"$f":"IFERROR(VLOOKUP(INDEX($A:$O,ROW(),MATCH('Rapportage per vraag'!$C$12,'Data leveranciersbeoordeling'!$1:$1,0)),Leveranciersbeoordeling!$H$1:$I$5,2,FALSE),0)","v":0},0]
["",null,null,null,null,null,null,null,null,null,null,null,null,null,null,{"$f":"INDEX($A:$O,ROW(),MATCH('Rapportage per vraag'!$C$12,'Data leveranciersbeoordeling'!$1:$1,0))","v":0},{"$f":"IFERROR(VLOOKUP(INDEX($A:$O,ROW(),MATCH('Rapportage per vraag'!$C$12,'Data leveranciersbeoordeling'!$1:$1,0)),Leveranciersbeoordeling!$H$1:$I$5,2,FALSE),0)","v":0},0]
["",null,null,null,null,null,null,null,null,null,null,null,null,null,null,{"$f":"INDEX($A:$O,ROW(),MATCH('Rapportage per vraag'!$C$12,'Data leveranciersbeoordeling'!$1:$1,0))","v":0},{"$f":"IFERROR(VLOOKUP(INDEX($A:$O,ROW(),MATCH('Rapportage per vraag'!$C$12,'Data leveranciersbeoordeling'!$1:$1,0)),Leveranciersbeoordeling!$H$1:$I$5,2,FALSE),0)","v":0},0]
["",null,null,null,null,null,null,null,null,null,null,null,null,null,null,{"$f":"INDEX($A:$O,ROW(),MATCH('Rapportage per vraag'!$C$12,'Data leveranciersbeoordeling'!$1:$1,0))","v":0},{"$f":"IFERROR(VLOOKUP(INDEX($A:$O,ROW(),MATCH('Rapportage per vraag'!$C$12,'Data leveranciersbeoordeling'!$1:$1,0)),Leveranciersbeoordeling!$H$1:$I$5,2,FALSE),0)","v":0},0]
["",null,null,null,null,null,null,null,null,null,null,null,null,null,null,{"$f":"INDEX($A:$O,ROW(),MATCH('Rapportage per vraag'!$C$12,'Data leveranciersbeoordeling'!$1:$1,0))","v":0},{"$f":"IFERROR(VLOOKUP(INDEX($A:$O,ROW(),MATCH('Rapportage per vraag'!$C$12,'Data leveranciersbeoordeling'!$1:$1,0)),Leveranciersbeoordeling!$H$1:$I$5,2,FALSE),0)","v":0},0]
["",null,null,null,null,null,null,null,null,null,null,null,null,null,null,{"$f":"INDEX($A:$O,ROW(),MATCH('Rapportage per vraag'!$C$12,'Data leveranciersbeoordeling'!$1:$1,0))","v":0},{"$f":"IFERROR(VLOOKUP(INDEX($A:$O,ROW(),MATCH('Rapportage per vraag'!$C$12,'Data leveranciersbeoordeling'!$1:$1,0)),Leveranciersbeoordeling!$H$1:$I$5,2,FALSE),0)","v":0},0]
["",null,null,null,null,null,null,null,null,null,null,null,null,null,null,{"$f":"INDEX($A:$O,ROW(),MATCH('Rapportage per vraag'!$C$12,'Data leveranciersbeoordeling'!$1:$1,0))","v":0},{"$f":"IFERROR(VLOOKUP(INDEX($A:$O,ROW(),MATCH('Rapportage per vraag'!$C$12,'Data leveranciersbeoordeling'!$1:$1,0)),Leveranciersbeoordeling!$H$1:$I$5,2,FALSE),0)","v":0},0]
["",null,null,null,null,null,null,null,null,null,null,null,null,null,null,{"$f":"INDEX($A:$O,ROW(),MATCH('Rapportage per vraag'!$C$12,'Data leveranciersbeoordeling'!$1:$1,0))","v":0},{"$f":"IFERROR(VLOOKUP(INDEX($A:$O,ROW(),MATCH('Rapportage per vraag'!$C$12,'Data leveranciersbeoordeling'!$1:$1,0)),Leveranciersbeoordeling!$H$1:$I$5,2,FALSE),0)","v":0},0]
["",null,null,null,null,null,null,null,null,null,null,null,null,null,null,{"$f":"INDEX($A:$O,ROW(),MATCH('Rapportage per vraag'!$C$12,'Data leveranciersbeoordeling'!$1:$1,0))","v":0},{"$f":"IFERROR(VLOOKUP(INDEX($A:$O,ROW(),MATCH('Rapportage per vraag'!$C$12,'Data leveranciersbeoordeling'!$1:$1,0)),Leveranciersbeoordeling!$H$1:$I$5,2,FALSE),0)","v":0},0]
["",null,null,null,null,null,null,null,null,null,null,null,null,null,null,{"$f":"INDEX($A:$O,ROW(),MATCH('Rapportage per vraag'!$C$12,'Data leveranciersbeoordeling'!$1:$1,0))","v":0},{"$f":"IFERROR(VLOOKUP(INDEX($A:$O,ROW(),MATCH('Rapportage per vraag'!$C$12,'Data leveranciersbeoordeling'!$1:$1,0)),Leveranciersbeoordeling!$H$1:$I$5,2,FALSE),0)","v":0},0]
["",null,null,null,null,null,null,null,null,null,null,null,null,null,null,{"$f":"INDEX($A:$O,ROW(),MATCH('Rapportage per vraag'!$C$12,'Data leveranciersbeoordeling'!$1:$1,0))","v":0},{"$f":"IFERROR(VLOOKUP(INDEX($A:$O,ROW(),MATCH('Rapportage per vraag'!$C$12,'Data leveranciersbeoordeling'!$1:$1,0)),Leveranciersbeoordeling!$H$1:$I$5,2,FALSE),0)","v":0},0]
["",null,null,null,null,null,null,null,null,null,null,null,null,null,null,{"$f":"INDEX($A:$O,ROW(),MATCH('Rapportage per vraag'!$C$12,'Data leveranciersbeoordeling'!$1:$1,0))","v":0},{"$f":"IFERROR(VLOOKUP(INDEX($A:$O,ROW(),MATCH('Rapportage per vraag'!$C$12,'Data leveranciersbeoordeling'!$1:$1,0)),Leveranciersbeoordeling!$H$1:$I$5,2,FALSE),0)","v":0},0]
["",null,null,null,null,null,null,null,null,null,null,null,null,null,null,{"$f":"INDEX($A:$O,ROW(),MATCH('Rapportage per vraag'!$C$12,'Data leveranciersbeoordeling'!$1:$1,0))","v":0},{"$f":"IFERROR(VLOOKUP(INDEX($A:$O,ROW(),MATCH('Rapportage per vraag'!$C$12,'Data leveranciersbeoordeling'!$1:$1,0)),Leveranciersbeoordeling!$H$1:$I$5,2,FALSE),0)","v":0},0]
["",null,null,null,null,null,null,null,null,null,null,null,null,null,null,{"$f":"INDEX($A:$O,ROW(),MATCH('Rapportage per vraag'!$C$12,'Data leveranciersbeoordeling'!$1:$1,0))","v":0},{"$f":"IFERROR(VLOOKUP(INDEX($A:$O,ROW(),MATCH('Rapportage per vraag'!$C$12,'Data leveranciersbeoordeling'!$1:$1,0)),Leveranciersbeoordeling!$H$1:$I$5,2,FALSE),0)","v":0},0]
[{"$f":"CONCATENATE(B1731,C1731,D1731)","v":""},null,null,null,null,null,null,null,null,null,null,null,null,null,null,{"$f":"INDEX($A:$O,ROW(),MATCH('Rapportage per vraag'!$C$12,'Data leveranciersbeoordeling'!$1:$1,0))","v":0},{"$f":"IFERROR(VLOOKUP(INDEX($A:$O,ROW(),MATCH('Rapportage per vraag'!$C$12,'Data leveranciersbeoordeling'!$1:$1,0)),Leveranciersbeoordeling!$H$1:$I$5,2,FALSE),0)","v":0},0]
["",null,null,null,null,null,null,null,null,null,null,null,null,null,null,{"$f":"INDEX($A:$O,ROW(),MATCH('Rapportage per vraag'!$C$12,'Data leveranciersbeoordeling'!$1:$1,0))","v":0},{"$f":"IFERROR(VLOOKUP(INDEX($A:$O,ROW(),MATCH('Rapportage per vraag'!$C$12,'Data leveranciersbeoordeling'!$1:$1,0)),Leveranciersbeoordeling!$H$1:$I$5,2,FALSE),0)","v":0},0]
["",null,null,null,null,null,null,null,null,null,null,null,null,null,null,{"$f":"INDEX($A:$O,ROW(),MATCH('Rapportage per vraag'!$C$12,'Data leveranciersbeoordeling'!$1:$1,0))","v":0},{"$f":"IFERROR(VLOOKUP(INDEX($A:$O,ROW(),MATCH('Rapportage per vraag'!$C$12,'Data leveranciersbeoordeling'!$1:$1,0)),Leveranciersbeoordeling!$H$1:$I$5,2,FALSE),0)","v":0},0]
["",null,null,null,null,null,null,null,null,null,null,null,null,null,null,{"$f":"INDEX($A:$O,ROW(),MATCH('Rapportage per vraag'!$C$12,'Data leveranciersbeoordeling'!$1:$1,0))","v":0},{"$f":"IFERROR(VLOOKUP(INDEX($A:$O,ROW(),MATCH('Rapportage per vraag'!$C$12,'Data leveranciersbeoordeling'!$1:$1,0)),Leveranciersbeoordeling!$H$1:$I$5,2,FALSE),0)","v":0},{"$f":"IF(T(P1734)=P1734,Q1734,P1734)","v":0}]
["",null,null,null,null,null,null,null,null,null,null,null,null,null,null,{"$f":"INDEX($A:$O,ROW(),MATCH('Rapportage per vraag'!$C$12,'Data leveranciersbeoordeling'!$1:$1,0))","v":0},{"$f":"IFERROR(VLOOKUP(INDEX($A:$O,ROW(),MATCH('Rapportage per vraag'!$C$12,'Data leveranciersbeoordeling'!$1:$1,0)),Leveranciersbeoordeling!$H$1:$I$5,2,FALSE),0)","v":0},0]
["",null,null,null,null,null,null,null,null,null,null,null,null,null,null,{"$f":"INDEX($A:$O,ROW(),MATCH('Rapportage per vraag'!$C$12,'Data leveranciersbeoordeling'!$1:$1,0))","v":0},{"$f":"IFERROR(VLOOKUP(INDEX($A:$O,ROW(),MATCH('Rapportage per vraag'!$C$12,'Data leveranciersbeoordeling'!$1:$1,0)),Leveranciersbeoordeling!$H$1:$I$5,2,FALSE),0)","v":0},0]
["",null,null,null,null,null,null,null,null,null,null,null,null,null,null,{"$f":"INDEX($A:$O,ROW(),MATCH('Rapportage per vraag'!$C$12,'Data leveranciersbeoordeling'!$1:$1,0))","v":0},{"$f":"IFERROR(VLOOKUP(INDEX($A:$O,ROW(),MATCH('Rapportage per vraag'!$C$12,'Data leveranciersbeoordeling'!$1:$1,0)),Leveranciersbeoordeling!$H$1:$I$5,2,FALSE),0)","v":0},0]
["",null,null,null,null,null,null,null,null,null,null,null,null,null,null,{"$f":"INDEX($A:$O,ROW(),MATCH('Rapportage per vraag'!$C$12,'Data leveranciersbeoordeling'!$1:$1,0))","v":0},{"$f":"IFERROR(VLOOKUP(INDEX($A:$O,ROW(),MATCH('Rapportage per vraag'!$C$12,'Data leveranciersbeoordeling'!$1:$1,0)),Leveranciersbeoordeling!$H$1:$I$5,2,FALSE),0)","v":0},0]
["",null,null,null,null,null,null,null,null,null,null,null,null,null,null,{"$f":"INDEX($A:$O,ROW(),MATCH('Rapportage per vraag'!$C$12,'Data leveranciersbeoordeling'!$1:$1,0))","v":0},{"$f":"IFERROR(VLOOKUP(INDEX($A:$O,ROW(),MATCH('Rapportage per vraag'!$C$12,'Data leveranciersbeoordeling'!$1:$1,0)),Leveranciersbeoordeling!$H$1:$I$5,2,FALSE),0)","v":0},0]
["",null,null,null,null,null,null,null,null,null,null,null,null,null,null,{"$f":"INDEX($A:$O,ROW(),MATCH('Rapportage per vraag'!$C$12,'Data leveranciersbeoordeling'!$1:$1,0))","v":0},{"$f":"IFERROR(VLOOKUP(INDEX($A:$O,ROW(),MATCH('Rapportage per vraag'!$C$12,'Data leveranciersbeoordeling'!$1:$1,0)),Leveranciersbeoordeling!$H$1:$I$5,2,FALSE),0)","v":0},0]
["",null,null,null,null,null,null,null,null,null,null,null,null,null,null,{"$f":"INDEX($A:$O,ROW(),MATCH('Rapportage per vraag'!$C$12,'Data leveranciersbeoordeling'!$1:$1,0))","v":0},{"$f":"IFERROR(VLOOKUP(INDEX($A:$O,ROW(),MATCH('Rapportage per vraag'!$C$12,'Data leveranciersbeoordeling'!$1:$1,0)),Leveranciersbeoordeling!$H$1:$I$5,2,FALSE),0)","v":0},0]
["",null,null,null,null,null,null,null,null,null,null,null,null,null,null,{"$f":"INDEX($A:$O,ROW(),MATCH('Rapportage per vraag'!$C$12,'Data leveranciersbeoordeling'!$1:$1,0))","v":0},{"$f":"IFERROR(VLOOKUP(INDEX($A:$O,ROW(),MATCH('Rapportage per vraag'!$C$12,'Data leveranciersbeoordeling'!$1:$1,0)),Leveranciersbeoordeling!$H$1:$I$5,2,FALSE),0)","v":0},0]
["",null,null,null,null,null,null,null,null,null,null,null,null,null,null,{"$f":"INDEX($A:$O,ROW(),MATCH('Rapportage per vraag'!$C$12,'Data leveranciersbeoordeling'!$1:$1,0))","v":0},{"$f":"IFERROR(VLOOKUP(INDEX($A:$O,ROW(),MATCH('Rapportage per vraag'!$C$12,'Data leveranciersbeoordeling'!$1:$1,0)),Leveranciersbeoordeling!$H$1:$I$5,2,FALSE),0)","v":0},0]
["",null,null,null,null,null,null,null,null,null,null,null,null,null,null,{"$f":"INDEX($A:$O,ROW(),MATCH('Rapportage per vraag'!$C$12,'Data leveranciersbeoordeling'!$1:$1,0))","v":0},{"$f":"IFERROR(VLOOKUP(INDEX($A:$O,ROW(),MATCH('Rapportage per vraag'!$C$12,'Data leveranciersbeoordeling'!$1:$1,0)),Leveranciersbeoordeling!$H$1:$I$5,2,FALSE),0)","v":0},0]
["",null,null,null,null,null,null,null,null,null,null,null,null,null,null,{"$f":"INDEX($A:$O,ROW(),MATCH('Rapportage per vraag'!$C$12,'Data leveranciersbeoordeling'!$1:$1,0))","v":0},{"$f":"IFERROR(VLOOKUP(INDEX($A:$O,ROW(),MATCH('Rapportage per vraag'!$C$12,'Data leveranciersbeoordeling'!$1:$1,0)),Leveranciersbeoordeling!$H$1:$I$5,2,FALSE),0)","v":0},0]
["",null,null,null,null,null,null,null,null,null,null,null,null,null,null,{"$f":"INDEX($A:$O,ROW(),MATCH('Rapportage per vraag'!$C$12,'Data leveranciersbeoordeling'!$1:$1,0))","v":0},{"$f":"IFERROR(VLOOKUP(INDEX($A:$O,ROW(),MATCH('Rapportage per vraag'!$C$12,'Data leveranciersbeoordeling'!$1:$1,0)),Leveranciersbeoordeling!$H$1:$I$5,2,FALSE),0)","v":0},0]
["",null,null,null,null,null,null,null,null,null,null,null,null,null,null,{"$f":"INDEX($A:$O,ROW(),MATCH('Rapportage per vraag'!$C$12,'Data leveranciersbeoordeling'!$1:$1,0))","v":0},{"$f":"IFERROR(VLOOKUP(INDEX($A:$O,ROW(),MATCH('Rapportage per vraag'!$C$12,'Data leveranciersbeoordeling'!$1:$1,0)),Leveranciersbeoordeling!$H$1:$I$5,2,FALSE),0)","v":0},0]
["",null,null,null,null,null,null,null,null,null,null,null,null,null,null,{"$f":"INDEX($A:$O,ROW(),MATCH('Rapportage per vraag'!$C$12,'Data leveranciersbeoordeling'!$1:$1,0))","v":0},{"$f":"IFERROR(VLOOKUP(INDEX($A:$O,ROW(),MATCH('Rapportage per vraag'!$C$12,'Data leveranciersbeoordeling'!$1:$1,0)),Leveranciersbeoordeling!$H$1:$I$5,2,FALSE),0)","v":0},0]
["",null,null,null,null,null,null,null,null,null,null,null,null,null,null,{"$f":"INDEX($A:$O,ROW(),MATCH('Rapportage per vraag'!$C$12,'Data leveranciersbeoordeling'!$1:$1,0))","v":0},{"$f":"IFERROR(VLOOKUP(INDEX($A:$O,ROW(),MATCH('Rapportage per vraag'!$C$12,'Data leveranciersbeoordeling'!$1:$1,0)),Leveranciersbeoordeling!$H$1:$I$5,2,FALSE),0)","v":0},0]
["",null,null,null,null,null,null,null,null,null,null,null,null,null,null,{"$f":"INDEX($A:$O,ROW(),MATCH('Rapportage per vraag'!$C$12,'Data leveranciersbeoordeling'!$1:$1,0))","v":0},{"$f":"IFERROR(VLOOKUP(INDEX($A:$O,ROW(),MATCH('Rapportage per vraag'!$C$12,'Data leveranciersbeoordeling'!$1:$1,0)),Leveranciersbeoordeling!$H$1:$I$5,2,FALSE),0)","v":0},0]
["",null,null,null,null,null,null,null,null,null,null,null,null,null,null,{"$f":"INDEX($A:$O,ROW(),MATCH('Rapportage per vraag'!$C$12,'Data leveranciersbeoordeling'!$1:$1,0))","v":0},{"$f":"IFERROR(VLOOKUP(INDEX($A:$O,ROW(),MATCH('Rapportage per vraag'!$C$12,'Data leveranciersbeoordeling'!$1:$1,0)),Leveranciersbeoordeling!$H$1:$I$5,2,FALSE),0)","v":0},0]
["",null,null,null,null,null,null,null,null,null,null,null,null,null,null,{"$f":"INDEX($A:$O,ROW(),MATCH('Rapportage per vraag'!$C$12,'Data leveranciersbeoordeling'!$1:$1,0))","v":0},{"$f":"IFERROR(VLOOKUP(INDEX($A:$O,ROW(),MATCH('Rapportage per vraag'!$C$12,'Data leveranciersbeoordeling'!$1:$1,0)),Leveranciersbeoordeling!$H$1:$I$5,2,FALSE),0)","v":0},0]
["",null,null,null,null,null,null,null,null,null,null,null,null,null,null,{"$f":"INDEX($A:$O,ROW(),MATCH('Rapportage per vraag'!$C$12,'Data leveranciersbeoordeling'!$1:$1,0))","v":0},{"$f":"IFERROR(VLOOKUP(INDEX($A:$O,ROW(),MATCH('Rapportage per vraag'!$C$12,'Data leveranciersbeoordeling'!$1:$1,0)),Leveranciersbeoordeling!$H$1:$I$5,2,FALSE),0)","v":0},0]
["",null,null,null,null,null,null,null,null,null,null,null,null,null,null,{"$f":"INDEX($A:$O,ROW(),MATCH('Rapportage per vraag'!$C$12,'Data leveranciersbeoordeling'!$1:$1,0))","v":0},{"$f":"IFERROR(VLOOKUP(INDEX($A:$O,ROW(),MATCH('Rapportage per vraag'!$C$12,'Data leveranciersbeoordeling'!$1:$1,0)),Leveranciersbeoordeling!$H$1:$I$5,2,FALSE),0)","v":0},0]
["",null,null,null,null,null,null,null,null,null,null,null,null,null,null,{"$f":"INDEX($A:$O,ROW(),MATCH('Rapportage per vraag'!$C$12,'Data leveranciersbeoordeling'!$1:$1,0))","v":0},{"$f":"IFERROR(VLOOKUP(INDEX($A:$O,ROW(),MATCH('Rapportage per vraag'!$C$12,'Data leveranciersbeoordeling'!$1:$1,0)),Leveranciersbeoordeling!$H$1:$I$5,2,FALSE),0)","v":0},0]
["",null,null,null,null,null,null,null,null,null,null,null,null,null,null,{"$f":"INDEX($A:$O,ROW(),MATCH('Rapportage per vraag'!$C$12,'Data leveranciersbeoordeling'!$1:$1,0))","v":0},{"$f":"IFERROR(VLOOKUP(INDEX($A:$O,ROW(),MATCH('Rapportage per vraag'!$C$12,'Data leveranciersbeoordeling'!$1:$1,0)),Leveranciersbeoordeling!$H$1:$I$5,2,FALSE),0)","v":0},0]
["",null,null,null,null,null,null,null,null,null,null,null,null,null,null,{"$f":"INDEX($A:$O,ROW(),MATCH('Rapportage per vraag'!$C$12,'Data leveranciersbeoordeling'!$1:$1,0))","v":0},{"$f":"IFERROR(VLOOKUP(INDEX($A:$O,ROW(),MATCH('Rapportage per vraag'!$C$12,'Data leveranciersbeoordeling'!$1:$1,0)),Leveranciersbeoordeling!$H$1:$I$5,2,FALSE),0)","v":0},0]
["",null,null,null,null,null,null,null,null,null,null,null,null,null,null,{"$f":"INDEX($A:$O,ROW(),MATCH('Rapportage per vraag'!$C$12,'Data leveranciersbeoordeling'!$1:$1,0))","v":0},{"$f":"IFERROR(VLOOKUP(INDEX($A:$O,ROW(),MATCH('Rapportage per vraag'!$C$12,'Data leveranciersbeoordeling'!$1:$1,0)),Leveranciersbeoordeling!$H$1:$I$5,2,FALSE),0)","v":0},0]
["",null,null,null,null,null,null,null,null,null,null,null,null,null,null,{"$f":"INDEX($A:$O,ROW(),MATCH('Rapportage per vraag'!$C$12,'Data leveranciersbeoordeling'!$1:$1,0))","v":0},{"$f":"IFERROR(VLOOKUP(INDEX($A:$O,ROW(),MATCH('Rapportage per vraag'!$C$12,'Data leveranciersbeoordeling'!$1:$1,0)),Leveranciersbeoordeling!$H$1:$I$5,2,FALSE),0)","v":0},0]
["",null,null,null,null,null,null,null,null,null,null,null,null,null,null,{"$f":"INDEX($A:$O,ROW(),MATCH('Rapportage per vraag'!$C$12,'Data leveranciersbeoordeling'!$1:$1,0))","v":0},{"$f":"IFERROR(VLOOKUP(INDEX($A:$O,ROW(),MATCH('Rapportage per vraag'!$C$12,'Data leveranciersbeoordeling'!$1:$1,0)),Leveranciersbeoordeling!$H$1:$I$5,2,FALSE),0)","v":0},0]
["",null,null,null,null,null,null,null,null,null,null,null,null,null,null,{"$f":"INDEX($A:$O,ROW(),MATCH('Rapportage per vraag'!$C$12,'Data leveranciersbeoordeling'!$1:$1,0))","v":0},{"$f":"IFERROR(VLOOKUP(INDEX($A:$O,ROW(),MATCH('Rapportage per vraag'!$C$12,'Data leveranciersbeoordeling'!$1:$1,0)),Leveranciersbeoordeling!$H$1:$I$5,2,FALSE),0)","v":0},0]
["",null,null,null,null,null,null,null,null,null,null,null,null,null,null,{"$f":"INDEX($A:$O,ROW(),MATCH('Rapportage per vraag'!$C$12,'Data leveranciersbeoordeling'!$1:$1,0))","v":0},{"$f":"IFERROR(VLOOKUP(INDEX($A:$O,ROW(),MATCH('Rapportage per vraag'!$C$12,'Data leveranciersbeoordeling'!$1:$1,0)),Leveranciersbeoordeling!$H$1:$I$5,2,FALSE),0)","v":0},0]
["",null,null,null,null,null,null,null,null,null,null,null,null,null,null,{"$f":"INDEX($A:$O,ROW(),MATCH('Rapportage per vraag'!$C$12,'Data leveranciersbeoordeling'!$1:$1,0))","v":0},{"$f":"IFERROR(VLOOKUP(INDEX($A:$O,ROW(),MATCH('Rapportage per vraag'!$C$12,'Data leveranciersbeoordeling'!$1:$1,0)),Leveranciersbeoordeling!$H$1:$I$5,2,FALSE),0)","v":0},0]
["",null,null,null,null,null,null,null,null,null,null,null,null,null,null,{"$f":"INDEX($A:$O,ROW(),MATCH('Rapportage per vraag'!$C$12,'Data leveranciersbeoordeling'!$1:$1,0))","v":0},{"$f":"IFERROR(VLOOKUP(INDEX($A:$O,ROW(),MATCH('Rapportage per vraag'!$C$12,'Data leveranciersbeoordeling'!$1:$1,0)),Leveranciersbeoordeling!$H$1:$I$5,2,FALSE),0)","v":0},0]
["",null,null,null,null,null,null,null,null,null,null,null,null,null,null,{"$f":"INDEX($A:$O,ROW(),MATCH('Rapportage per vraag'!$C$12,'Data leveranciersbeoordeling'!$1:$1,0))","v":0},{"$f":"IFERROR(VLOOKUP(INDEX($A:$O,ROW(),MATCH('Rapportage per vraag'!$C$12,'Data leveranciersbeoordeling'!$1:$1,0)),Leveranciersbeoordeling!$H$1:$I$5,2,FALSE),0)","v":0},0]
["",null,null,null,null,null,null,null,null,null,null,null,null,null,null,{"$f":"INDEX($A:$O,ROW(),MATCH('Rapportage per vraag'!$C$12,'Data leveranciersbeoordeling'!$1:$1,0))","v":0},{"$f":"IFERROR(VLOOKUP(INDEX($A:$O,ROW(),MATCH('Rapportage per vraag'!$C$12,'Data leveranciersbeoordeling'!$1:$1,0)),Leveranciersbeoordeling!$H$1:$I$5,2,FALSE),0)","v":0},0]
["",null,null,null,null,null,null,null,null,null,null,null,null,null,null,{"$f":"INDEX($A:$O,ROW(),MATCH('Rapportage per vraag'!$C$12,'Data leveranciersbeoordeling'!$1:$1,0))","v":0},{"$f":"IFERROR(VLOOKUP(INDEX($A:$O,ROW(),MATCH('Rapportage per vraag'!$C$12,'Data leveranciersbeoordeling'!$1:$1,0)),Leveranciersbeoordeling!$H$1:$I$5,2,FALSE),0)","v":0},0]
["",null,null,null,null,null,null,null,null,null,null,null,null,null,null,{"$f":"INDEX($A:$O,ROW(),MATCH('Rapportage per vraag'!$C$12,'Data leveranciersbeoordeling'!$1:$1,0))","v":0},{"$f":"IFERROR(VLOOKUP(INDEX($A:$O,ROW(),MATCH('Rapportage per vraag'!$C$12,'Data leveranciersbeoordeling'!$1:$1,0)),Leveranciersbeoordeling!$H$1:$I$5,2,FALSE),0)","v":0},0]
["",null,null,null,null,null,null,null,null,null,null,null,null,null,null,{"$f":"INDEX($A:$O,ROW(),MATCH('Rapportage per vraag'!$C$12,'Data leveranciersbeoordeling'!$1:$1,0))","v":0},{"$f":"IFERROR(VLOOKUP(INDEX($A:$O,ROW(),MATCH('Rapportage per vraag'!$C$12,'Data leveranciersbeoordeling'!$1:$1,0)),Leveranciersbeoordeling!$H$1:$I$5,2,FALSE),0)","v":0},0]
["",null,null,null,null,null,null,null,null,null,null,null,null,null,null,{"$f":"INDEX($A:$O,ROW(),MATCH('Rapportage per vraag'!$C$12,'Data leveranciersbeoordeling'!$1:$1,0))","v":0},{"$f":"IFERROR(VLOOKUP(INDEX($A:$O,ROW(),MATCH('Rapportage per vraag'!$C$12,'Data leveranciersbeoordeling'!$1:$1,0)),Leveranciersbeoordeling!$H$1:$I$5,2,FALSE),0)","v":0},0]
["",null,null,null,null,null,null,null,null,null,null,null,null,null,null,{"$f":"INDEX($A:$O,ROW(),MATCH('Rapportage per vraag'!$C$12,'Data leveranciersbeoordeling'!$1:$1,0))","v":0},{"$f":"IFERROR(VLOOKUP(INDEX($A:$O,ROW(),MATCH('Rapportage per vraag'!$C$12,'Data leveranciersbeoordeling'!$1:$1,0)),Leveranciersbeoordeling!$H$1:$I$5,2,FALSE),0)","v":0},0]
["",null,null,null,null,null,null,null,null,null,null,null,null,null,null,{"$f":"INDEX($A:$O,ROW(),MATCH('Rapportage per vraag'!$C$12,'Data leveranciersbeoordeling'!$1:$1,0))","v":0},{"$f":"IFERROR(VLOOKUP(INDEX($A:$O,ROW(),MATCH('Rapportage per vraag'!$C$12,'Data leveranciersbeoordeling'!$1:$1,0)),Leveranciersbeoordeling!$H$1:$I$5,2,FALSE),0)","v":0},0]
["",null,null,null,null,null,null,null,null,null,null,null,null,null,null,{"$f":"INDEX($A:$O,ROW(),MATCH('Rapportage per vraag'!$C$12,'Data leveranciersbeoordeling'!$1:$1,0))","v":0},{"$f":"IFERROR(VLOOKUP(INDEX($A:$O,ROW(),MATCH('Rapportage per vraag'!$C$12,'Data leveranciersbeoordeling'!$1:$1,0)),Leveranciersbeoordeling!$H$1:$I$5,2,FALSE),0)","v":0},0]
["",null,null,null,null,null,null,null,null,null,null,null,null,null,null,{"$f":"INDEX($A:$O,ROW(),MATCH('Rapportage per vraag'!$C$12,'Data leveranciersbeoordeling'!$1:$1,0))","v":0},{"$f":"IFERROR(VLOOKUP(INDEX($A:$O,ROW(),MATCH('Rapportage per vraag'!$C$12,'Data leveranciersbeoordeling'!$1:$1,0)),Leveranciersbeoordeling!$H$1:$I$5,2,FALSE),0)","v":0},0]
["",null,null,null,null,null,null,null,null,null,null,null,null,null,null,{"$f":"INDEX($A:$O,ROW(),MATCH('Rapportage per vraag'!$C$12,'Data leveranciersbeoordeling'!$1:$1,0))","v":0},{"$f":"IFERROR(VLOOKUP(INDEX($A:$O,ROW(),MATCH('Rapportage per vraag'!$C$12,'Data leveranciersbeoordeling'!$1:$1,0)),Leveranciersbeoordeling!$H$1:$I$5,2,FALSE),0)","v":0},0]
["",null,null,null,null,null,null,null,null,null,null,null,null,null,null,{"$f":"INDEX($A:$O,ROW(),MATCH('Rapportage per vraag'!$C$12,'Data leveranciersbeoordeling'!$1:$1,0))","v":0},{"$f":"IFERROR(VLOOKUP(INDEX($A:$O,ROW(),MATCH('Rapportage per vraag'!$C$12,'Data leveranciersbeoordeling'!$1:$1,0)),Leveranciersbeoordeling!$H$1:$I$5,2,FALSE),0)","v":0},0]
["",null,null,null,null,null,null,null,null,null,null,null,null,null,null,{"$f":"INDEX($A:$O,ROW(),MATCH('Rapportage per vraag'!$C$12,'Data leveranciersbeoordeling'!$1:$1,0))","v":0},{"$f":"IFERROR(VLOOKUP(INDEX($A:$O,ROW(),MATCH('Rapportage per vraag'!$C$12,'Data leveranciersbeoordeling'!$1:$1,0)),Leveranciersbeoordeling!$H$1:$I$5,2,FALSE),0)","v":0},0]
["",null,null,null,null,null,null,null,null,null,null,null,null,null,null,{"$f":"INDEX($A:$O,ROW(),MATCH('Rapportage per vraag'!$C$12,'Data leveranciersbeoordeling'!$1:$1,0))","v":0},{"$f":"IFERROR(VLOOKUP(INDEX($A:$O,ROW(),MATCH('Rapportage per vraag'!$C$12,'Data leveranciersbeoordeling'!$1:$1,0)),Leveranciersbeoordeling!$H$1:$I$5,2,FALSE),0)","v":0},0]
["",null,null,null,null,null,null,null,null,null,null,null,null,null,null,{"$f":"INDEX($A:$O,ROW(),MATCH('Rapportage per vraag'!$C$12,'Data leveranciersbeoordeling'!$1:$1,0))","v":0},{"$f":"IFERROR(VLOOKUP(INDEX($A:$O,ROW(),MATCH('Rapportage per vraag'!$C$12,'Data leveranciersbeoordeling'!$1:$1,0)),Leveranciersbeoordeling!$H$1:$I$5,2,FALSE),0)","v":0},0]
["",null,null,null,null,null,null,null,null,null,null,null,null,null,null,{"$f":"INDEX($A:$O,ROW(),MATCH('Rapportage per vraag'!$C$12,'Data leveranciersbeoordeling'!$1:$1,0))","v":0},{"$f":"IFERROR(VLOOKUP(INDEX($A:$O,ROW(),MATCH('Rapportage per vraag'!$C$12,'Data leveranciersbeoordeling'!$1:$1,0)),Leveranciersbeoordeling!$H$1:$I$5,2,FALSE),0)","v":0},0]
["",null,null,null,null,null,null,null,null,null,null,null,null,null,null,{"$f":"INDEX($A:$O,ROW(),MATCH('Rapportage per vraag'!$C$12,'Data leveranciersbeoordeling'!$1:$1,0))","v":0},{"$f":"IFERROR(VLOOKUP(INDEX($A:$O,ROW(),MATCH('Rapportage per vraag'!$C$12,'Data leveranciersbeoordeling'!$1:$1,0)),Leveranciersbeoordeling!$H$1:$I$5,2,FALSE),0)","v":0},0]
["",null,null,null,null,null,null,null,null,null,null,null,null,null,null,{"$f":"INDEX($A:$O,ROW(),MATCH('Rapportage per vraag'!$C$12,'Data leveranciersbeoordeling'!$1:$1,0))","v":0},{"$f":"IFERROR(VLOOKUP(INDEX($A:$O,ROW(),MATCH('Rapportage per vraag'!$C$12,'Data leveranciersbeoordeling'!$1:$1,0)),Leveranciersbeoordeling!$H$1:$I$5,2,FALSE),0)","v":0},0]
["",null,null,null,null,null,null,null,null,null,null,null,null,null,null,{"$f":"INDEX($A:$O,ROW(),MATCH('Rapportage per vraag'!$C$12,'Data leveranciersbeoordeling'!$1:$1,0))","v":0},{"$f":"IFERROR(VLOOKUP(INDEX($A:$O,ROW(),MATCH('Rapportage per vraag'!$C$12,'Data leveranciersbeoordeling'!$1:$1,0)),Leveranciersbeoordeling!$H$1:$I$5,2,FALSE),0)","v":0},0]
["",null,null,null,null,null,null,null,null,null,null,null,null,null,null,{"$f":"INDEX($A:$O,ROW(),MATCH('Rapportage per vraag'!$C$12,'Data leveranciersbeoordeling'!$1:$1,0))","v":0},{"$f":"IFERROR(VLOOKUP(INDEX($A:$O,ROW(),MATCH('Rapportage per vraag'!$C$12,'Data leveranciersbeoordeling'!$1:$1,0)),Leveranciersbeoordeling!$H$1:$I$5,2,FALSE),0)","v":0},0]
["",null,null,null,null,null,null,null,null,null,null,null,null,null,null,{"$f":"INDEX($A:$O,ROW(),MATCH('Rapportage per vraag'!$C$12,'Data leveranciersbeoordeling'!$1:$1,0))","v":0},{"$f":"IFERROR(VLOOKUP(INDEX($A:$O,ROW(),MATCH('Rapportage per vraag'!$C$12,'Data leveranciersbeoordeling'!$1:$1,0)),Leveranciersbeoordeling!$H$1:$I$5,2,FALSE),0)","v":0},0]
["",null,null,null,null,null,null,null,null,null,null,null,null,null,null,{"$f":"INDEX($A:$O,ROW(),MATCH('Rapportage per vraag'!$C$12,'Data leveranciersbeoordeling'!$1:$1,0))","v":0},{"$f":"IFERROR(VLOOKUP(INDEX($A:$O,ROW(),MATCH('Rapportage per vraag'!$C$12,'Data leveranciersbeoordeling'!$1:$1,0)),Leveranciersbeoordeling!$H$1:$I$5,2,FALSE),0)","v":0},0]
["",null,null,null,null,null,null,null,null,null,null,null,null,null,null,{"$f":"INDEX($A:$O,ROW(),MATCH('Rapportage per vraag'!$C$12,'Data leveranciersbeoordeling'!$1:$1,0))","v":0},{"$f":"IFERROR(VLOOKUP(INDEX($A:$O,ROW(),MATCH('Rapportage per vraag'!$C$12,'Data leveranciersbeoordeling'!$1:$1,0)),Leveranciersbeoordeling!$H$1:$I$5,2,FALSE),0)","v":0},0]
["",null,null,null,null,null,null,null,null,null,null,null,null,null,null,{"$f":"INDEX($A:$O,ROW(),MATCH('Rapportage per vraag'!$C$12,'Data leveranciersbeoordeling'!$1:$1,0))","v":0},{"$f":"IFERROR(VLOOKUP(INDEX($A:$O,ROW(),MATCH('Rapportage per vraag'!$C$12,'Data leveranciersbeoordeling'!$1:$1,0)),Leveranciersbeoordeling!$H$1:$I$5,2,FALSE),0)","v":0},0]
["",null,null,null,null,null,null,null,null,null,null,null,null,null,null,{"$f":"INDEX($A:$O,ROW(),MATCH('Rapportage per vraag'!$C$12,'Data leveranciersbeoordeling'!$1:$1,0))","v":0},{"$f":"IFERROR(VLOOKUP(INDEX($A:$O,ROW(),MATCH('Rapportage per vraag'!$C$12,'Data leveranciersbeoordeling'!$1:$1,0)),Leveranciersbeoordeling!$H$1:$I$5,2,FALSE),0)","v":0},0]
["",null,null,null,null,null,null,null,null,null,null,null,null,null,null,{"$f":"INDEX($A:$O,ROW(),MATCH('Rapportage per vraag'!$C$12,'Data leveranciersbeoordeling'!$1:$1,0))","v":0},{"$f":"IFERROR(VLOOKUP(INDEX($A:$O,ROW(),MATCH('Rapportage per vraag'!$C$12,'Data leveranciersbeoordeling'!$1:$1,0)),Leveranciersbeoordeling!$H$1:$I$5,2,FALSE),0)","v":0},0]
["",null,null,null,null,null,null,null,null,null,null,null,null,null,null,{"$f":"INDEX($A:$O,ROW(),MATCH('Rapportage per vraag'!$C$12,'Data leveranciersbeoordeling'!$1:$1,0))","v":0},{"$f":"IFERROR(VLOOKUP(INDEX($A:$O,ROW(),MATCH('Rapportage per vraag'!$C$12,'Data leveranciersbeoordeling'!$1:$1,0)),Leveranciersbeoordeling!$H$1:$I$5,2,FALSE),0)","v":0},0]
["",null,null,null,null,null,null,null,null,null,null,null,null,null,null,{"$f":"INDEX($A:$O,ROW(),MATCH('Rapportage per vraag'!$C$12,'Data leveranciersbeoordeling'!$1:$1,0))","v":0},{"$f":"IFERROR(VLOOKUP(INDEX($A:$O,ROW(),MATCH('Rapportage per vraag'!$C$12,'Data leveranciersbeoordeling'!$1:$1,0)),Leveranciersbeoordeling!$H$1:$I$5,2,FALSE),0)","v":0},0]
["",null,null,null,null,null,null,null,null,null,null,null,null,null,null,{"$f":"INDEX($A:$O,ROW(),MATCH('Rapportage per vraag'!$C$12,'Data leveranciersbeoordeling'!$1:$1,0))","v":0},{"$f":"IFERROR(VLOOKUP(INDEX($A:$O,ROW(),MATCH('Rapportage per vraag'!$C$12,'Data leveranciersbeoordeling'!$1:$1,0)),Leveranciersbeoordeling!$H$1:$I$5,2,FALSE),0)","v":0},0]
["",null,null,null,null,null,null,null,null,null,null,null,null,null,null,{"$f":"INDEX($A:$O,ROW(),MATCH('Rapportage per vraag'!$C$12,'Data leveranciersbeoordeling'!$1:$1,0))","v":0},{"$f":"IFERROR(VLOOKUP(INDEX($A:$O,ROW(),MATCH('Rapportage per vraag'!$C$12,'Data leveranciersbeoordeling'!$1:$1,0)),Leveranciersbeoordeling!$H$1:$I$5,2,FALSE),0)","v":0},0]
[{"$f":"CONCATENATE(B1795,C1795,D1795)","v":""},null,null,null,null,null,null,null,null,null,null,null,null,null,null,{"$f":"INDEX($A:$O,ROW(),MATCH('Rapportage per vraag'!$C$12,'Data leveranciersbeoordeling'!$1:$1,0))","v":0},{"$f":"IFERROR(VLOOKUP(INDEX($A:$O,ROW(),MATCH('Rapportage per vraag'!$C$12,'Data leveranciersbeoordeling'!$1:$1,0)),Leveranciersbeoordeling!$H$1:$I$5,2,FALSE),0)","v":0},0]
["",null,null,null,null,null,null,null,null,null,null,null,null,null,null,{"$f":"INDEX($A:$O,ROW(),MATCH('Rapportage per vraag'!$C$12,'Data leveranciersbeoordeling'!$1:$1,0))","v":0},{"$f":"IFERROR(VLOOKUP(INDEX($A:$O,ROW(),MATCH('Rapportage per vraag'!$C$12,'Data leveranciersbeoordeling'!$1:$1,0)),Leveranciersbeoordeling!$H$1:$I$5,2,FALSE),0)","v":0},0]
["",null,null,null,null,null,null,null,null,null,null,null,null,null,null,{"$f":"INDEX($A:$O,ROW(),MATCH('Rapportage per vraag'!$C$12,'Data leveranciersbeoordeling'!$1:$1,0))","v":0},{"$f":"IFERROR(VLOOKUP(INDEX($A:$O,ROW(),MATCH('Rapportage per vraag'!$C$12,'Data leveranciersbeoordeling'!$1:$1,0)),Leveranciersbeoordeling!$H$1:$I$5,2,FALSE),0)","v":0},0]
["",null,null,null,null,null,null,null,null,null,null,null,null,null,null,{"$f":"INDEX($A:$O,ROW(),MATCH('Rapportage per vraag'!$C$12,'Data leveranciersbeoordeling'!$1:$1,0))","v":0},{"$f":"IFERROR(VLOOKUP(INDEX($A:$O,ROW(),MATCH('Rapportage per vraag'!$C$12,'Data leveranciersbeoordeling'!$1:$1,0)),Leveranciersbeoordeling!$H$1:$I$5,2,FALSE),0)","v":0},{"$f":"IF(T(P1798)=P1798,Q1798,P1798)","v":0}]
["",null,null,null,null,null,null,null,null,null,null,null,null,null,null,{"$f":"INDEX($A:$O,ROW(),MATCH('Rapportage per vraag'!$C$12,'Data leveranciersbeoordeling'!$1:$1,0))","v":0},{"$f":"IFERROR(VLOOKUP(INDEX($A:$O,ROW(),MATCH('Rapportage per vraag'!$C$12,'Data leveranciersbeoordeling'!$1:$1,0)),Leveranciersbeoordeling!$H$1:$I$5,2,FALSE),0)","v":0},0]
["",null,null,null,null,null,null,null,null,null,null,null,null,null,null,{"$f":"INDEX($A:$O,ROW(),MATCH('Rapportage per vraag'!$C$12,'Data leveranciersbeoordeling'!$1:$1,0))","v":0},{"$f":"IFERROR(VLOOKUP(INDEX($A:$O,ROW(),MATCH('Rapportage per vraag'!$C$12,'Data leveranciersbeoordeling'!$1:$1,0)),Leveranciersbeoordeling!$H$1:$I$5,2,FALSE),0)","v":0},0]
["",null,null,null,null,null,null,null,null,null,null,null,null,null,null,{"$f":"INDEX($A:$O,ROW(),MATCH('Rapportage per vraag'!$C$12,'Data leveranciersbeoordeling'!$1:$1,0))","v":0},{"$f":"IFERROR(VLOOKUP(INDEX($A:$O,ROW(),MATCH('Rapportage per vraag'!$C$12,'Data leveranciersbeoordeling'!$1:$1,0)),Leveranciersbeoordeling!$H$1:$I$5,2,FALSE),0)","v":0},0]
["",null,null,null,null,null,null,null,null,null,null,null,null,null,null,{"$f":"INDEX($A:$O,ROW(),MATCH('Rapportage per vraag'!$C$12,'Data leveranciersbeoordeling'!$1:$1,0))","v":0},{"$f":"IFERROR(VLOOKUP(INDEX($A:$O,ROW(),MATCH('Rapportage per vraag'!$C$12,'Data leveranciersbeoordeling'!$1:$1,0)),Leveranciersbeoordeling!$H$1:$I$5,2,FALSE),0)","v":0},0]
["",null,null,null,null,null,null,null,null,null,null,null,null,null,null,{"$f":"INDEX($A:$O,ROW(),MATCH('Rapportage per vraag'!$C$12,'Data leveranciersbeoordeling'!$1:$1,0))","v":0},{"$f":"IFERROR(VLOOKUP(INDEX($A:$O,ROW(),MATCH('Rapportage per vraag'!$C$12,'Data leveranciersbeoordeling'!$1:$1,0)),Leveranciersbeoordeling!$H$1:$I$5,2,FALSE),0)","v":0},0]
["",null,null,null,null,null,null,null,null,null,null,null,null,null,null,{"$f":"INDEX($A:$O,ROW(),MATCH('Rapportage per vraag'!$C$12,'Data leveranciersbeoordeling'!$1:$1,0))","v":0},{"$f":"IFERROR(VLOOKUP(INDEX($A:$O,ROW(),MATCH('Rapportage per vraag'!$C$12,'Data leveranciersbeoordeling'!$1:$1,0)),Leveranciersbeoordeling!$H$1:$I$5,2,FALSE),0)","v":0},0]
["",null,null,null,null,null,null,null,null,null,null,null,null,null,null,{"$f":"INDEX($A:$O,ROW(),MATCH('Rapportage per vraag'!$C$12,'Data leveranciersbeoordeling'!$1:$1,0))","v":0},{"$f":"IFERROR(VLOOKUP(INDEX($A:$O,ROW(),MATCH('Rapportage per vraag'!$C$12,'Data leveranciersbeoordeling'!$1:$1,0)),Leveranciersbeoordeling!$H$1:$I$5,2,FALSE),0)","v":0},0]
["",null,null,null,null,null,null,null,null,null,null,null,null,null,null,{"$f":"INDEX($A:$O,ROW(),MATCH('Rapportage per vraag'!$C$12,'Data leveranciersbeoordeling'!$1:$1,0))","v":0},{"$f":"IFERROR(VLOOKUP(INDEX($A:$O,ROW(),MATCH('Rapportage per vraag'!$C$12,'Data leveranciersbeoordeling'!$1:$1,0)),Leveranciersbeoordeling!$H$1:$I$5,2,FALSE),0)","v":0},0]
["",null,null,null,null,null,null,null,null,null,null,null,null,null,null,{"$f":"INDEX($A:$O,ROW(),MATCH('Rapportage per vraag'!$C$12,'Data leveranciersbeoordeling'!$1:$1,0))","v":0},{"$f":"IFERROR(VLOOKUP(INDEX($A:$O,ROW(),MATCH('Rapportage per vraag'!$C$12,'Data leveranciersbeoordeling'!$1:$1,0)),Leveranciersbeoordeling!$H$1:$I$5,2,FALSE),0)","v":0},0]
["",null,null,null,null,null,null,null,null,null,null,null,null,null,null,{"$f":"INDEX($A:$O,ROW(),MATCH('Rapportage per vraag'!$C$12,'Data leveranciersbeoordeling'!$1:$1,0))","v":0},{"$f":"IFERROR(VLOOKUP(INDEX($A:$O,ROW(),MATCH('Rapportage per vraag'!$C$12,'Data leveranciersbeoordeling'!$1:$1,0)),Leveranciersbeoordeling!$H$1:$I$5,2,FALSE),0)","v":0},0]
["",null,null,null,null,null,null,null,null,null,null,null,null,null,null,{"$f":"INDEX($A:$O,ROW(),MATCH('Rapportage per vraag'!$C$12,'Data leveranciersbeoordeling'!$1:$1,0))","v":0},{"$f":"IFERROR(VLOOKUP(INDEX($A:$O,ROW(),MATCH('Rapportage per vraag'!$C$12,'Data leveranciersbeoordeling'!$1:$1,0)),Leveranciersbeoordeling!$H$1:$I$5,2,FALSE),0)","v":0},0]
["",null,null,null,null,null,null,null,null,null,null,null,null,null,null,{"$f":"INDEX($A:$O,ROW(),MATCH('Rapportage per vraag'!$C$12,'Data leveranciersbeoordeling'!$1:$1,0))","v":0},{"$f":"IFERROR(VLOOKUP(INDEX($A:$O,ROW(),MATCH('Rapportage per vraag'!$C$12,'Data leveranciersbeoordeling'!$1:$1,0)),Leveranciersbeoordeling!$H$1:$I$5,2,FALSE),0)","v":0},0]
["",null,null,null,null,null,null,null,null,null,null,null,null,null,null,{"$f":"INDEX($A:$O,ROW(),MATCH('Rapportage per vraag'!$C$12,'Data leveranciersbeoordeling'!$1:$1,0))","v":0},{"$f":"IFERROR(VLOOKUP(INDEX($A:$O,ROW(),MATCH('Rapportage per vraag'!$C$12,'Data leveranciersbeoordeling'!$1:$1,0)),Leveranciersbeoordeling!$H$1:$I$5,2,FALSE),0)","v":0},0]
["",null,null,null,null,null,null,null,null,null,null,null,null,null,null,{"$f":"INDEX($A:$O,ROW(),MATCH('Rapportage per vraag'!$C$12,'Data leveranciersbeoordeling'!$1:$1,0))","v":0},{"$f":"IFERROR(VLOOKUP(INDEX($A:$O,ROW(),MATCH('Rapportage per vraag'!$C$12,'Data leveranciersbeoordeling'!$1:$1,0)),Leveranciersbeoordeling!$H$1:$I$5,2,FALSE),0)","v":0},0]
["",null,null,null,null,null,null,null,null,null,null,null,null,null,null,{"$f":"INDEX($A:$O,ROW(),MATCH('Rapportage per vraag'!$C$12,'Data leveranciersbeoordeling'!$1:$1,0))","v":0},{"$f":"IFERROR(VLOOKUP(INDEX($A:$O,ROW(),MATCH('Rapportage per vraag'!$C$12,'Data leveranciersbeoordeling'!$1:$1,0)),Leveranciersbeoordeling!$H$1:$I$5,2,FALSE),0)","v":0},0]
["",null,null,null,null,null,null,null,null,null,null,null,null,null,null,{"$f":"INDEX($A:$O,ROW(),MATCH('Rapportage per vraag'!$C$12,'Data leveranciersbeoordeling'!$1:$1,0))","v":0},{"$f":"IFERROR(VLOOKUP(INDEX($A:$O,ROW(),MATCH('Rapportage per vraag'!$C$12,'Data leveranciersbeoordeling'!$1:$1,0)),Leveranciersbeoordeling!$H$1:$I$5,2,FALSE),0)","v":0},0]
["",null,null,null,null,null,null,null,null,null,null,null,null,null,null,{"$f":"INDEX($A:$O,ROW(),MATCH('Rapportage per vraag'!$C$12,'Data leveranciersbeoordeling'!$1:$1,0))","v":0},{"$f":"IFERROR(VLOOKUP(INDEX($A:$O,ROW(),MATCH('Rapportage per vraag'!$C$12,'Data leveranciersbeoordeling'!$1:$1,0)),Leveranciersbeoordeling!$H$1:$I$5,2,FALSE),0)","v":0},0]
["",null,null,null,null,null,null,null,null,null,null,null,null,null,null,{"$f":"INDEX($A:$O,ROW(),MATCH('Rapportage per vraag'!$C$12,'Data leveranciersbeoordeling'!$1:$1,0))","v":0},{"$f":"IFERROR(VLOOKUP(INDEX($A:$O,ROW(),MATCH('Rapportage per vraag'!$C$12,'Data leveranciersbeoordeling'!$1:$1,0)),Leveranciersbeoordeling!$H$1:$I$5,2,FALSE),0)","v":0},0]
["",null,null,null,null,null,null,null,null,null,null,null,null,null,null,{"$f":"INDEX($A:$O,ROW(),MATCH('Rapportage per vraag'!$C$12,'Data leveranciersbeoordeling'!$1:$1,0))","v":0},{"$f":"IFERROR(VLOOKUP(INDEX($A:$O,ROW(),MATCH('Rapportage per vraag'!$C$12,'Data leveranciersbeoordeling'!$1:$1,0)),Leveranciersbeoordeling!$H$1:$I$5,2,FALSE),0)","v":0},0]
["",null,null,null,null,null,null,null,null,null,null,null,null,null,null,{"$f":"INDEX($A:$O,ROW(),MATCH('Rapportage per vraag'!$C$12,'Data leveranciersbeoordeling'!$1:$1,0))","v":0},{"$f":"IFERROR(VLOOKUP(INDEX($A:$O,ROW(),MATCH('Rapportage per vraag'!$C$12,'Data leveranciersbeoordeling'!$1:$1,0)),Leveranciersbeoordeling!$H$1:$I$5,2,FALSE),0)","v":0},0]
["",null,null,null,null,null,null,null,null,null,null,null,null,null,null,{"$f":"INDEX($A:$O,ROW(),MATCH('Rapportage per vraag'!$C$12,'Data leveranciersbeoordeling'!$1:$1,0))","v":0},{"$f":"IFERROR(VLOOKUP(INDEX($A:$O,ROW(),MATCH('Rapportage per vraag'!$C$12,'Data leveranciersbeoordeling'!$1:$1,0)),Leveranciersbeoordeling!$H$1:$I$5,2,FALSE),0)","v":0},0]
["",null,null,null,null,null,null,null,null,null,null,null,null,null,null,{"$f":"INDEX($A:$O,ROW(),MATCH('Rapportage per vraag'!$C$12,'Data leveranciersbeoordeling'!$1:$1,0))","v":0},{"$f":"IFERROR(VLOOKUP(INDEX($A:$O,ROW(),MATCH('Rapportage per vraag'!$C$12,'Data leveranciersbeoordeling'!$1:$1,0)),Leveranciersbeoordeling!$H$1:$I$5,2,FALSE),0)","v":0},0]
["",null,null,null,null,null,null,null,null,null,null,null,null,null,null,{"$f":"INDEX($A:$O,ROW(),MATCH('Rapportage per vraag'!$C$12,'Data leveranciersbeoordeling'!$1:$1,0))","v":0},{"$f":"IFERROR(VLOOKUP(INDEX($A:$O,ROW(),MATCH('Rapportage per vraag'!$C$12,'Data leveranciersbeoordeling'!$1:$1,0)),Leveranciersbeoordeling!$H$1:$I$5,2,FALSE),0)","v":0},0]
["",null,null,null,null,null,null,null,null,null,null,null,null,null,null,{"$f":"INDEX($A:$O,ROW(),MATCH('Rapportage per vraag'!$C$12,'Data leveranciersbeoordeling'!$1:$1,0))","v":0},{"$f":"IFERROR(VLOOKUP(INDEX($A:$O,ROW(),MATCH('Rapportage per vraag'!$C$12,'Data leveranciersbeoordeling'!$1:$1,0)),Leveranciersbeoordeling!$H$1:$I$5,2,FALSE),0)","v":0},0]
["",null,null,null,null,null,null,null,null,null,null,null,null,null,null,{"$f":"INDEX($A:$O,ROW(),MATCH('Rapportage per vraag'!$C$12,'Data leveranciersbeoordeling'!$1:$1,0))","v":0},{"$f":"IFERROR(VLOOKUP(INDEX($A:$O,ROW(),MATCH('Rapportage per vraag'!$C$12,'Data leveranciersbeoordeling'!$1:$1,0)),Leveranciersbeoordeling!$H$1:$I$5,2,FALSE),0)","v":0},0]
["",null,null,null,null,null,null,null,null,null,null,null,null,null,null,{"$f":"INDEX($A:$O,ROW(),MATCH('Rapportage per vraag'!$C$12,'Data leveranciersbeoordeling'!$1:$1,0))","v":0},{"$f":"IFERROR(VLOOKUP(INDEX($A:$O,ROW(),MATCH('Rapportage per vraag'!$C$12,'Data leveranciersbeoordeling'!$1:$1,0)),Leveranciersbeoordeling!$H$1:$I$5,2,FALSE),0)","v":0},0]
["",null,null,null,null,null,null,null,null,null,null,null,null,null,null,{"$f":"INDEX($A:$O,ROW(),MATCH('Rapportage per vraag'!$C$12,'Data leveranciersbeoordeling'!$1:$1,0))","v":0},{"$f":"IFERROR(VLOOKUP(INDEX($A:$O,ROW(),MATCH('Rapportage per vraag'!$C$12,'Data leveranciersbeoordeling'!$1:$1,0)),Leveranciersbeoordeling!$H$1:$I$5,2,FALSE),0)","v":0},0]
["",null,null,null,null,null,null,null,null,null,null,null,null,null,null,{"$f":"INDEX($A:$O,ROW(),MATCH('Rapportage per vraag'!$C$12,'Data leveranciersbeoordeling'!$1:$1,0))","v":0},{"$f":"IFERROR(VLOOKUP(INDEX($A:$O,ROW(),MATCH('Rapportage per vraag'!$C$12,'Data leveranciersbeoordeling'!$1:$1,0)),Leveranciersbeoordeling!$H$1:$I$5,2,FALSE),0)","v":0},0]
["",null,null,null,null,null,null,null,null,null,null,null,null,null,null,{"$f":"INDEX($A:$O,ROW(),MATCH('Rapportage per vraag'!$C$12,'Data leveranciersbeoordeling'!$1:$1,0))","v":0},{"$f":"IFERROR(VLOOKUP(INDEX($A:$O,ROW(),MATCH('Rapportage per vraag'!$C$12,'Data leveranciersbeoordeling'!$1:$1,0)),Leveranciersbeoordeling!$H$1:$I$5,2,FALSE),0)","v":0},0]
["",null,null,null,null,null,null,null,null,null,null,null,null,null,null,{"$f":"INDEX($A:$O,ROW(),MATCH('Rapportage per vraag'!$C$12,'Data leveranciersbeoordeling'!$1:$1,0))","v":0},{"$f":"IFERROR(VLOOKUP(INDEX($A:$O,ROW(),MATCH('Rapportage per vraag'!$C$12,'Data leveranciersbeoordeling'!$1:$1,0)),Leveranciersbeoordeling!$H$1:$I$5,2,FALSE),0)","v":0},0]
["",null,null,null,null,null,null,null,null,null,null,null,null,null,null,{"$f":"INDEX($A:$O,ROW(),MATCH('Rapportage per vraag'!$C$12,'Data leveranciersbeoordeling'!$1:$1,0))","v":0},{"$f":"IFERROR(VLOOKUP(INDEX($A:$O,ROW(),MATCH('Rapportage per vraag'!$C$12,'Data leveranciersbeoordeling'!$1:$1,0)),Leveranciersbeoordeling!$H$1:$I$5,2,FALSE),0)","v":0},0]
["",null,null,null,null,null,null,null,null,null,null,null,null,null,null,{"$f":"INDEX($A:$O,ROW(),MATCH('Rapportage per vraag'!$C$12,'Data leveranciersbeoordeling'!$1:$1,0))","v":0},{"$f":"IFERROR(VLOOKUP(INDEX($A:$O,ROW(),MATCH('Rapportage per vraag'!$C$12,'Data leveranciersbeoordeling'!$1:$1,0)),Leveranciersbeoordeling!$H$1:$I$5,2,FALSE),0)","v":0},0]
["",null,null,null,null,null,null,null,null,null,null,null,null,null,null,{"$f":"INDEX($A:$O,ROW(),MATCH('Rapportage per vraag'!$C$12,'Data leveranciersbeoordeling'!$1:$1,0))","v":0},{"$f":"IFERROR(VLOOKUP(INDEX($A:$O,ROW(),MATCH('Rapportage per vraag'!$C$12,'Data leveranciersbeoordeling'!$1:$1,0)),Leveranciersbeoordeling!$H$1:$I$5,2,FALSE),0)","v":0},0]
["",null,null,null,null,null,null,null,null,null,null,null,null,null,null,{"$f":"INDEX($A:$O,ROW(),MATCH('Rapportage per vraag'!$C$12,'Data leveranciersbeoordeling'!$1:$1,0))","v":0},{"$f":"IFERROR(VLOOKUP(INDEX($A:$O,ROW(),MATCH('Rapportage per vraag'!$C$12,'Data leveranciersbeoordeling'!$1:$1,0)),Leveranciersbeoordeling!$H$1:$I$5,2,FALSE),0)","v":0},0]
["",null,null,null,null,null,null,null,null,null,null,null,null,null,null,{"$f":"INDEX($A:$O,ROW(),MATCH('Rapportage per vraag'!$C$12,'Data leveranciersbeoordeling'!$1:$1,0))","v":0},{"$f":"IFERROR(VLOOKUP(INDEX($A:$O,ROW(),MATCH('Rapportage per vraag'!$C$12,'Data leveranciersbeoordeling'!$1:$1,0)),Leveranciersbeoordeling!$H$1:$I$5,2,FALSE),0)","v":0},0]
["",null,null,null,null,null,null,null,null,null,null,null,null,null,null,{"$f":"INDEX($A:$O,ROW(),MATCH('Rapportage per vraag'!$C$12,'Data leveranciersbeoordeling'!$1:$1,0))","v":0},{"$f":"IFERROR(VLOOKUP(INDEX($A:$O,ROW(),MATCH('Rapportage per vraag'!$C$12,'Data leveranciersbeoordeling'!$1:$1,0)),Leveranciersbeoordeling!$H$1:$I$5,2,FALSE),0)","v":0},0]
["",null,null,null,null,null,null,null,null,null,null,null,null,null,null,{"$f":"INDEX($A:$O,ROW(),MATCH('Rapportage per vraag'!$C$12,'Data leveranciersbeoordeling'!$1:$1,0))","v":0},{"$f":"IFERROR(VLOOKUP(INDEX($A:$O,ROW(),MATCH('Rapportage per vraag'!$C$12,'Data leveranciersbeoordeling'!$1:$1,0)),Leveranciersbeoordeling!$H$1:$I$5,2,FALSE),0)","v":0},0]
["",null,null,null,null,null,null,null,null,null,null,null,null,null,null,{"$f":"INDEX($A:$O,ROW(),MATCH('Rapportage per vraag'!$C$12,'Data leveranciersbeoordeling'!$1:$1,0))","v":0},{"$f":"IFERROR(VLOOKUP(INDEX($A:$O,ROW(),MATCH('Rapportage per vraag'!$C$12,'Data leveranciersbeoordeling'!$1:$1,0)),Leveranciersbeoordeling!$H$1:$I$5,2,FALSE),0)","v":0},0]
["",null,null,null,null,null,null,null,null,null,null,null,null,null,null,{"$f":"INDEX($A:$O,ROW(),MATCH('Rapportage per vraag'!$C$12,'Data leveranciersbeoordeling'!$1:$1,0))","v":0},{"$f":"IFERROR(VLOOKUP(INDEX($A:$O,ROW(),MATCH('Rapportage per vraag'!$C$12,'Data leveranciersbeoordeling'!$1:$1,0)),Leveranciersbeoordeling!$H$1:$I$5,2,FALSE),0)","v":0},0]
["",null,null,null,null,null,null,null,null,null,null,null,null,null,null,{"$f":"INDEX($A:$O,ROW(),MATCH('Rapportage per vraag'!$C$12,'Data leveranciersbeoordeling'!$1:$1,0))","v":0},{"$f":"IFERROR(VLOOKUP(INDEX($A:$O,ROW(),MATCH('Rapportage per vraag'!$C$12,'Data leveranciersbeoordeling'!$1:$1,0)),Leveranciersbeoordeling!$H$1:$I$5,2,FALSE),0)","v":0},0]
["",null,null,null,null,null,null,null,null,null,null,null,null,null,null,{"$f":"INDEX($A:$O,ROW(),MATCH('Rapportage per vraag'!$C$12,'Data leveranciersbeoordeling'!$1:$1,0))","v":0},{"$f":"IFERROR(VLOOKUP(INDEX($A:$O,ROW(),MATCH('Rapportage per vraag'!$C$12,'Data leveranciersbeoordeling'!$1:$1,0)),Leveranciersbeoordeling!$H$1:$I$5,2,FALSE),0)","v":0},0]
["",null,null,null,null,null,null,null,null,null,null,null,null,null,null,{"$f":"INDEX($A:$O,ROW(),MATCH('Rapportage per vraag'!$C$12,'Data leveranciersbeoordeling'!$1:$1,0))","v":0},{"$f":"IFERROR(VLOOKUP(INDEX($A:$O,ROW(),MATCH('Rapportage per vraag'!$C$12,'Data leveranciersbeoordeling'!$1:$1,0)),Leveranciersbeoordeling!$H$1:$I$5,2,FALSE),0)","v":0},0]
["",null,null,null,null,null,null,null,null,null,null,null,null,null,null,{"$f":"INDEX($A:$O,ROW(),MATCH('Rapportage per vraag'!$C$12,'Data leveranciersbeoordeling'!$1:$1,0))","v":0},{"$f":"IFERROR(VLOOKUP(INDEX($A:$O,ROW(),MATCH('Rapportage per vraag'!$C$12,'Data leveranciersbeoordeling'!$1:$1,0)),Leveranciersbeoordeling!$H$1:$I$5,2,FALSE),0)","v":0},0]
["",null,null,null,null,null,null,null,null,null,null,null,null,null,null,{"$f":"INDEX($A:$O,ROW(),MATCH('Rapportage per vraag'!$C$12,'Data leveranciersbeoordeling'!$1:$1,0))","v":0},{"$f":"IFERROR(VLOOKUP(INDEX($A:$O,ROW(),MATCH('Rapportage per vraag'!$C$12,'Data leveranciersbeoordeling'!$1:$1,0)),Leveranciersbeoordeling!$H$1:$I$5,2,FALSE),0)","v":0},0]
["",null,null,null,null,null,null,null,null,null,null,null,null,null,null,{"$f":"INDEX($A:$O,ROW(),MATCH('Rapportage per vraag'!$C$12,'Data leveranciersbeoordeling'!$1:$1,0))","v":0},{"$f":"IFERROR(VLOOKUP(INDEX($A:$O,ROW(),MATCH('Rapportage per vraag'!$C$12,'Data leveranciersbeoordeling'!$1:$1,0)),Leveranciersbeoordeling!$H$1:$I$5,2,FALSE),0)","v":0},0]
["",null,null,null,null,null,null,null,null,null,null,null,null,null,null,{"$f":"INDEX($A:$O,ROW(),MATCH('Rapportage per vraag'!$C$12,'Data leveranciersbeoordeling'!$1:$1,0))","v":0},{"$f":"IFERROR(VLOOKUP(INDEX($A:$O,ROW(),MATCH('Rapportage per vraag'!$C$12,'Data leveranciersbeoordeling'!$1:$1,0)),Leveranciersbeoordeling!$H$1:$I$5,2,FALSE),0)","v":0},0]
["",null,null,null,null,null,null,null,null,null,null,null,null,null,null,{"$f":"INDEX($A:$O,ROW(),MATCH('Rapportage per vraag'!$C$12,'Data leveranciersbeoordeling'!$1:$1,0))","v":0},{"$f":"IFERROR(VLOOKUP(INDEX($A:$O,ROW(),MATCH('Rapportage per vraag'!$C$12,'Data leveranciersbeoordeling'!$1:$1,0)),Leveranciersbeoordeling!$H$1:$I$5,2,FALSE),0)","v":0},0]
["",null,null,null,null,null,null,null,null,null,null,null,null,null,null,{"$f":"INDEX($A:$O,ROW(),MATCH('Rapportage per vraag'!$C$12,'Data leveranciersbeoordeling'!$1:$1,0))","v":0},{"$f":"IFERROR(VLOOKUP(INDEX($A:$O,ROW(),MATCH('Rapportage per vraag'!$C$12,'Data leveranciersbeoordeling'!$1:$1,0)),Leveranciersbeoordeling!$H$1:$I$5,2,FALSE),0)","v":0},0]
["",null,null,null,null,null,null,null,null,null,null,null,null,null,null,{"$f":"INDEX($A:$O,ROW(),MATCH('Rapportage per vraag'!$C$12,'Data leveranciersbeoordeling'!$1:$1,0))","v":0},{"$f":"IFERROR(VLOOKUP(INDEX($A:$O,ROW(),MATCH('Rapportage per vraag'!$C$12,'Data leveranciersbeoordeling'!$1:$1,0)),Leveranciersbeoordeling!$H$1:$I$5,2,FALSE),0)","v":0},0]
["",null,null,null,null,null,null,null,null,null,null,null,null,null,null,{"$f":"INDEX($A:$O,ROW(),MATCH('Rapportage per vraag'!$C$12,'Data leveranciersbeoordeling'!$1:$1,0))","v":0},{"$f":"IFERROR(VLOOKUP(INDEX($A:$O,ROW(),MATCH('Rapportage per vraag'!$C$12,'Data leveranciersbeoordeling'!$1:$1,0)),Leveranciersbeoordeling!$H$1:$I$5,2,FALSE),0)","v":0},0]
["",null,null,null,null,null,null,null,null,null,null,null,null,null,null,{"$f":"INDEX($A:$O,ROW(),MATCH('Rapportage per vraag'!$C$12,'Data leveranciersbeoordeling'!$1:$1,0))","v":0},{"$f":"IFERROR(VLOOKUP(INDEX($A:$O,ROW(),MATCH('Rapportage per vraag'!$C$12,'Data leveranciersbeoordeling'!$1:$1,0)),Leveranciersbeoordeling!$H$1:$I$5,2,FALSE),0)","v":0},0]
["",null,null,null,null,null,null,null,null,null,null,null,null,null,null,{"$f":"INDEX($A:$O,ROW(),MATCH('Rapportage per vraag'!$C$12,'Data leveranciersbeoordeling'!$1:$1,0))","v":0},{"$f":"IFERROR(VLOOKUP(INDEX($A:$O,ROW(),MATCH('Rapportage per vraag'!$C$12,'Data leveranciersbeoordeling'!$1:$1,0)),Leveranciersbeoordeling!$H$1:$I$5,2,FALSE),0)","v":0},0]
["",null,null,null,null,null,null,null,null,null,null,null,null,null,null,{"$f":"INDEX($A:$O,ROW(),MATCH('Rapportage per vraag'!$C$12,'Data leveranciersbeoordeling'!$1:$1,0))","v":0},{"$f":"IFERROR(VLOOKUP(INDEX($A:$O,ROW(),MATCH('Rapportage per vraag'!$C$12,'Data leveranciersbeoordeling'!$1:$1,0)),Leveranciersbeoordeling!$H$1:$I$5,2,FALSE),0)","v":0},0]
["",null,null,null,null,null,null,null,null,null,null,null,null,null,null,{"$f":"INDEX($A:$O,ROW(),MATCH('Rapportage per vraag'!$C$12,'Data leveranciersbeoordeling'!$1:$1,0))","v":0},{"$f":"IFERROR(VLOOKUP(INDEX($A:$O,ROW(),MATCH('Rapportage per vraag'!$C$12,'Data leveranciersbeoordeling'!$1:$1,0)),Leveranciersbeoordeling!$H$1:$I$5,2,FALSE),0)","v":0},0]
["",null,null,null,null,null,null,null,null,null,null,null,null,null,null,{"$f":"INDEX($A:$O,ROW(),MATCH('Rapportage per vraag'!$C$12,'Data leveranciersbeoordeling'!$1:$1,0))","v":0},{"$f":"IFERROR(VLOOKUP(INDEX($A:$O,ROW(),MATCH('Rapportage per vraag'!$C$12,'Data leveranciersbeoordeling'!$1:$1,0)),Leveranciersbeoordeling!$H$1:$I$5,2,FALSE),0)","v":0},0]
["",null,null,null,null,null,null,null,null,null,null,null,null,null,null,{"$f":"INDEX($A:$O,ROW(),MATCH('Rapportage per vraag'!$C$12,'Data leveranciersbeoordeling'!$1:$1,0))","v":0},{"$f":"IFERROR(VLOOKUP(INDEX($A:$O,ROW(),MATCH('Rapportage per vraag'!$C$12,'Data leveranciersbeoordeling'!$1:$1,0)),Leveranciersbeoordeling!$H$1:$I$5,2,FALSE),0)","v":0},0]
["",null,null,null,null,null,null,null,null,null,null,null,null,null,null,{"$f":"INDEX($A:$O,ROW(),MATCH('Rapportage per vraag'!$C$12,'Data leveranciersbeoordeling'!$1:$1,0))","v":0},{"$f":"IFERROR(VLOOKUP(INDEX($A:$O,ROW(),MATCH('Rapportage per vraag'!$C$12,'Data leveranciersbeoordeling'!$1:$1,0)),Leveranciersbeoordeling!$H$1:$I$5,2,FALSE),0)","v":0},0]
["",null,null,null,null,null,null,null,null,null,null,null,null,null,null,{"$f":"INDEX($A:$O,ROW(),MATCH('Rapportage per vraag'!$C$12,'Data leveranciersbeoordeling'!$1:$1,0))","v":0},{"$f":"IFERROR(VLOOKUP(INDEX($A:$O,ROW(),MATCH('Rapportage per vraag'!$C$12,'Data leveranciersbeoordeling'!$1:$1,0)),Leveranciersbeoordeling!$H$1:$I$5,2,FALSE),0)","v":0},0]
["",null,null,null,null,null,null,null,null,null,null,null,null,null,null,{"$f":"INDEX($A:$O,ROW(),MATCH('Rapportage per vraag'!$C$12,'Data leveranciersbeoordeling'!$1:$1,0))","v":0},{"$f":"IFERROR(VLOOKUP(INDEX($A:$O,ROW(),MATCH('Rapportage per vraag'!$C$12,'Data leveranciersbeoordeling'!$1:$1,0)),Leveranciersbeoordeling!$H$1:$I$5,2,FALSE),0)","v":0},0]
["",null,null,null,null,null,null,null,null,null,null,null,null,null,null,{"$f":"INDEX($A:$O,ROW(),MATCH('Rapportage per vraag'!$C$12,'Data leveranciersbeoordeling'!$1:$1,0))","v":0},{"$f":"IFERROR(VLOOKUP(INDEX($A:$O,ROW(),MATCH('Rapportage per vraag'!$C$12,'Data leveranciersbeoordeling'!$1:$1,0)),Leveranciersbeoordeling!$H$1:$I$5,2,FALSE),0)","v":0},0]
[{"$f":"CONCATENATE(B1859,C1859,D1859)","v":""},null,null,null,null,null,null,null,null,null,null,null,null,null,null,{"$f":"INDEX($A:$O,ROW(),MATCH('Rapportage per vraag'!$C$12,'Data leveranciersbeoordeling'!$1:$1,0))","v":0},{"$f":"IFERROR(VLOOKUP(INDEX($A:$O,ROW(),MATCH('Rapportage per vraag'!$C$12,'Data leveranciersbeoordeling'!$1:$1,0)),Leveranciersbeoordeling!$H$1:$I$5,2,FALSE),0)","v":0},0]
["",null,null,null,null,null,null,null,null,null,null,null,null,null,null,{"$f":"INDEX($A:$O,ROW(),MATCH('Rapportage per vraag'!$C$12,'Data leveranciersbeoordeling'!$1:$1,0))","v":0},{"$f":"IFERROR(VLOOKUP(INDEX($A:$O,ROW(),MATCH('Rapportage per vraag'!$C$12,'Data leveranciersbeoordeling'!$1:$1,0)),Leveranciersbeoordeling!$H$1:$I$5,2,FALSE),0)","v":0},0]
["",null,null,null,null,null,null,null,null,null,null,null,null,null,null,{"$f":"INDEX($A:$O,ROW(),MATCH('Rapportage per vraag'!$C$12,'Data leveranciersbeoordeling'!$1:$1,0))","v":0},{"$f":"IFERROR(VLOOKUP(INDEX($A:$O,ROW(),MATCH('Rapportage per vraag'!$C$12,'Data leveranciersbeoordeling'!$1:$1,0)),Leveranciersbeoordeling!$H$1:$I$5,2,FALSE),0)","v":0},0]
["",null,null,null,null,null,null,null,null,null,null,null,null,null,null,{"$f":"INDEX($A:$O,ROW(),MATCH('Rapportage per vraag'!$C$12,'Data leveranciersbeoordeling'!$1:$1,0))","v":0},{"$f":"IFERROR(VLOOKUP(INDEX($A:$O,ROW(),MATCH('Rapportage per vraag'!$C$12,'Data leveranciersbeoordeling'!$1:$1,0)),Leveranciersbeoordeling!$H$1:$I$5,2,FALSE),0)","v":0},{"$f":"IF(T(P1862)=P1862,Q1862,P1862)","v":0}]
["",null,null,null,null,null,null,null,null,null,null,null,null,null,null,{"$f":"INDEX($A:$O,ROW(),MATCH('Rapportage per vraag'!$C$12,'Data leveranciersbeoordeling'!$1:$1,0))","v":0},{"$f":"IFERROR(VLOOKUP(INDEX($A:$O,ROW(),MATCH('Rapportage per vraag'!$C$12,'Data leveranciersbeoordeling'!$1:$1,0)),Leveranciersbeoordeling!$H$1:$I$5,2,FALSE),0)","v":0},0]
["",null,null,null,null,null,null,null,null,null,null,null,null,null,null,{"$f":"INDEX($A:$O,ROW(),MATCH('Rapportage per vraag'!$C$12,'Data leveranciersbeoordeling'!$1:$1,0))","v":0},{"$f":"IFERROR(VLOOKUP(INDEX($A:$O,ROW(),MATCH('Rapportage per vraag'!$C$12,'Data leveranciersbeoordeling'!$1:$1,0)),Leveranciersbeoordeling!$H$1:$I$5,2,FALSE),0)","v":0},0]
["",null,null,null,null,null,null,null,null,null,null,null,null,null,null,{"$f":"INDEX($A:$O,ROW(),MATCH('Rapportage per vraag'!$C$12,'Data leveranciersbeoordeling'!$1:$1,0))","v":0},{"$f":"IFERROR(VLOOKUP(INDEX($A:$O,ROW(),MATCH('Rapportage per vraag'!$C$12,'Data leveranciersbeoordeling'!$1:$1,0)),Leveranciersbeoordeling!$H$1:$I$5,2,FALSE),0)","v":0},0]
["",null,null,null,null,null,null,null,null,null,null,null,null,null,null,{"$f":"INDEX($A:$O,ROW(),MATCH('Rapportage per vraag'!$C$12,'Data leveranciersbeoordeling'!$1:$1,0))","v":0},{"$f":"IFERROR(VLOOKUP(INDEX($A:$O,ROW(),MATCH('Rapportage per vraag'!$C$12,'Data leveranciersbeoordeling'!$1:$1,0)),Leveranciersbeoordeling!$H$1:$I$5,2,FALSE),0)","v":0},0]
["",null,null,null,null,null,null,null,null,null,null,null,null,null,null,{"$f":"INDEX($A:$O,ROW(),MATCH('Rapportage per vraag'!$C$12,'Data leveranciersbeoordeling'!$1:$1,0))","v":0},{"$f":"IFERROR(VLOOKUP(INDEX($A:$O,ROW(),MATCH('Rapportage per vraag'!$C$12,'Data leveranciersbeoordeling'!$1:$1,0)),Leveranciersbeoordeling!$H$1:$I$5,2,FALSE),0)","v":0},0]
["",null,null,null,null,null,null,null,null,null,null,null,null,null,null,{"$f":"INDEX($A:$O,ROW(),MATCH('Rapportage per vraag'!$C$12,'Data leveranciersbeoordeling'!$1:$1,0))","v":0},{"$f":"IFERROR(VLOOKUP(INDEX($A:$O,ROW(),MATCH('Rapportage per vraag'!$C$12,'Data leveranciersbeoordeling'!$1:$1,0)),Leveranciersbeoordeling!$H$1:$I$5,2,FALSE),0)","v":0},0]
["",null,null,null,null,null,null,null,null,null,null,null,null,null,null,{"$f":"INDEX($A:$O,ROW(),MATCH('Rapportage per vraag'!$C$12,'Data leveranciersbeoordeling'!$1:$1,0))","v":0},{"$f":"IFERROR(VLOOKUP(INDEX($A:$O,ROW(),MATCH('Rapportage per vraag'!$C$12,'Data leveranciersbeoordeling'!$1:$1,0)),Leveranciersbeoordeling!$H$1:$I$5,2,FALSE),0)","v":0},0]
["",null,null,null,null,null,null,null,null,null,null,null,null,null,null,{"$f":"INDEX($A:$O,ROW(),MATCH('Rapportage per vraag'!$C$12,'Data leveranciersbeoordeling'!$1:$1,0))","v":0},{"$f":"IFERROR(VLOOKUP(INDEX($A:$O,ROW(),MATCH('Rapportage per vraag'!$C$12,'Data leveranciersbeoordeling'!$1:$1,0)),Leveranciersbeoordeling!$H$1:$I$5,2,FALSE),0)","v":0},0]
["",null,null,null,null,null,null,null,null,null,null,null,null,null,null,{"$f":"INDEX($A:$O,ROW(),MATCH('Rapportage per vraag'!$C$12,'Data leveranciersbeoordeling'!$1:$1,0))","v":0},{"$f":"IFERROR(VLOOKUP(INDEX($A:$O,ROW(),MATCH('Rapportage per vraag'!$C$12,'Data leveranciersbeoordeling'!$1:$1,0)),Leveranciersbeoordeling!$H$1:$I$5,2,FALSE),0)","v":0},0]
["",null,null,null,null,null,null,null,null,null,null,null,null,null,null,{"$f":"INDEX($A:$O,ROW(),MATCH('Rapportage per vraag'!$C$12,'Data leveranciersbeoordeling'!$1:$1,0))","v":0},{"$f":"IFERROR(VLOOKUP(INDEX($A:$O,ROW(),MATCH('Rapportage per vraag'!$C$12,'Data leveranciersbeoordeling'!$1:$1,0)),Leveranciersbeoordeling!$H$1:$I$5,2,FALSE),0)","v":0},0]
["",null,null,null,null,null,null,null,null,null,null,null,null,null,null,{"$f":"INDEX($A:$O,ROW(),MATCH('Rapportage per vraag'!$C$12,'Data leveranciersbeoordeling'!$1:$1,0))","v":0},{"$f":"IFERROR(VLOOKUP(INDEX($A:$O,ROW(),MATCH('Rapportage per vraag'!$C$12,'Data leveranciersbeoordeling'!$1:$1,0)),Leveranciersbeoordeling!$H$1:$I$5,2,FALSE),0)","v":0},0]
["",null,null,null,null,null,null,null,null,null,null,null,null,null,null,{"$f":"INDEX($A:$O,ROW(),MATCH('Rapportage per vraag'!$C$12,'Data leveranciersbeoordeling'!$1:$1,0))","v":0},{"$f":"IFERROR(VLOOKUP(INDEX($A:$O,ROW(),MATCH('Rapportage per vraag'!$C$12,'Data leveranciersbeoordeling'!$1:$1,0)),Leveranciersbeoordeling!$H$1:$I$5,2,FALSE),0)","v":0},0]
["",null,null,null,null,null,null,null,null,null,null,null,null,null,null,{"$f":"INDEX($A:$O,ROW(),MATCH('Rapportage per vraag'!$C$12,'Data leveranciersbeoordeling'!$1:$1,0))","v":0},{"$f":"IFERROR(VLOOKUP(INDEX($A:$O,ROW(),MATCH('Rapportage per vraag'!$C$12,'Data leveranciersbeoordeling'!$1:$1,0)),Leveranciersbeoordeling!$H$1:$I$5,2,FALSE),0)","v":0},0]
["",null,null,null,null,null,null,null,null,null,null,null,null,null,null,{"$f":"INDEX($A:$O,ROW(),MATCH('Rapportage per vraag'!$C$12,'Data leveranciersbeoordeling'!$1:$1,0))","v":0},{"$f":"IFERROR(VLOOKUP(INDEX($A:$O,ROW(),MATCH('Rapportage per vraag'!$C$12,'Data leveranciersbeoordeling'!$1:$1,0)),Leveranciersbeoordeling!$H$1:$I$5,2,FALSE),0)","v":0},0]
["",null,null,null,null,null,null,null,null,null,null,null,null,null,null,{"$f":"INDEX($A:$O,ROW(),MATCH('Rapportage per vraag'!$C$12,'Data leveranciersbeoordeling'!$1:$1,0))","v":0},{"$f":"IFERROR(VLOOKUP(INDEX($A:$O,ROW(),MATCH('Rapportage per vraag'!$C$12,'Data leveranciersbeoordeling'!$1:$1,0)),Leveranciersbeoordeling!$H$1:$I$5,2,FALSE),0)","v":0},0]
["",null,null,null,null,null,null,null,null,null,null,null,null,null,null,{"$f":"INDEX($A:$O,ROW(),MATCH('Rapportage per vraag'!$C$12,'Data leveranciersbeoordeling'!$1:$1,0))","v":0},{"$f":"IFERROR(VLOOKUP(INDEX($A:$O,ROW(),MATCH('Rapportage per vraag'!$C$12,'Data leveranciersbeoordeling'!$1:$1,0)),Leveranciersbeoordeling!$H$1:$I$5,2,FALSE),0)","v":0},0]
["",null,null,null,null,null,null,null,null,null,null,null,null,null,null,{"$f":"INDEX($A:$O,ROW(),MATCH('Rapportage per vraag'!$C$12,'Data leveranciersbeoordeling'!$1:$1,0))","v":0},{"$f":"IFERROR(VLOOKUP(INDEX($A:$O,ROW(),MATCH('Rapportage per vraag'!$C$12,'Data leveranciersbeoordeling'!$1:$1,0)),Leveranciersbeoordeling!$H$1:$I$5,2,FALSE),0)","v":0},0]
["",null,null,null,null,null,null,null,null,null,null,null,null,null,null,{"$f":"INDEX($A:$O,ROW(),MATCH('Rapportage per vraag'!$C$12,'Data leveranciersbeoordeling'!$1:$1,0))","v":0},{"$f":"IFERROR(VLOOKUP(INDEX($A:$O,ROW(),MATCH('Rapportage per vraag'!$C$12,'Data leveranciersbeoordeling'!$1:$1,0)),Leveranciersbeoordeling!$H$1:$I$5,2,FALSE),0)","v":0},0]
["",null,null,null,null,null,null,null,null,null,null,null,null,null,null,{"$f":"INDEX($A:$O,ROW(),MATCH('Rapportage per vraag'!$C$12,'Data leveranciersbeoordeling'!$1:$1,0))","v":0},{"$f":"IFERROR(VLOOKUP(INDEX($A:$O,ROW(),MATCH('Rapportage per vraag'!$C$12,'Data leveranciersbeoordeling'!$1:$1,0)),Leveranciersbeoordeling!$H$1:$I$5,2,FALSE),0)","v":0},0]
["",null,null,null,null,null,null,null,null,null,null,null,null,null,null,{"$f":"INDEX($A:$O,ROW(),MATCH('Rapportage per vraag'!$C$12,'Data leveranciersbeoordeling'!$1:$1,0))","v":0},{"$f":"IFERROR(VLOOKUP(INDEX($A:$O,ROW(),MATCH('Rapportage per vraag'!$C$12,'Data leveranciersbeoordeling'!$1:$1,0)),Leveranciersbeoordeling!$H$1:$I$5,2,FALSE),0)","v":0},0]
["",null,null,null,null,null,null,null,null,null,null,null,null,null,null,{"$f":"INDEX($A:$O,ROW(),MATCH('Rapportage per vraag'!$C$12,'Data leveranciersbeoordeling'!$1:$1,0))","v":0},{"$f":"IFERROR(VLOOKUP(INDEX($A:$O,ROW(),MATCH('Rapportage per vraag'!$C$12,'Data leveranciersbeoordeling'!$1:$1,0)),Leveranciersbeoordeling!$H$1:$I$5,2,FALSE),0)","v":0},0]
["",null,null,null,null,null,null,null,null,null,null,null,null,null,null,{"$f":"INDEX($A:$O,ROW(),MATCH('Rapportage per vraag'!$C$12,'Data leveranciersbeoordeling'!$1:$1,0))","v":0},{"$f":"IFERROR(VLOOKUP(INDEX($A:$O,ROW(),MATCH('Rapportage per vraag'!$C$12,'Data leveranciersbeoordeling'!$1:$1,0)),Leveranciersbeoordeling!$H$1:$I$5,2,FALSE),0)","v":0},0]
["",null,null,null,null,null,null,null,null,null,null,null,null,null,null,{"$f":"INDEX($A:$O,ROW(),MATCH('Rapportage per vraag'!$C$12,'Data leveranciersbeoordeling'!$1:$1,0))","v":0},{"$f":"IFERROR(VLOOKUP(INDEX($A:$O,ROW(),MATCH('Rapportage per vraag'!$C$12,'Data leveranciersbeoordeling'!$1:$1,0)),Leveranciersbeoordeling!$H$1:$I$5,2,FALSE),0)","v":0},0]
["",null,null,null,null,null,null,null,null,null,null,null,null,null,null,{"$f":"INDEX($A:$O,ROW(),MATCH('Rapportage per vraag'!$C$12,'Data leveranciersbeoordeling'!$1:$1,0))","v":0},{"$f":"IFERROR(VLOOKUP(INDEX($A:$O,ROW(),MATCH('Rapportage per vraag'!$C$12,'Data leveranciersbeoordeling'!$1:$1,0)),Leveranciersbeoordeling!$H$1:$I$5,2,FALSE),0)","v":0},0]
["",null,null,null,null,null,null,null,null,null,null,null,null,null,null,{"$f":"INDEX($A:$O,ROW(),MATCH('Rapportage per vraag'!$C$12,'Data leveranciersbeoordeling'!$1:$1,0))","v":0},{"$f":"IFERROR(VLOOKUP(INDEX($A:$O,ROW(),MATCH('Rapportage per vraag'!$C$12,'Data leveranciersbeoordeling'!$1:$1,0)),Leveranciersbeoordeling!$H$1:$I$5,2,FALSE),0)","v":0},0]
["",null,null,null,null,null,null,null,null,null,null,null,null,null,null,{"$f":"INDEX($A:$O,ROW(),MATCH('Rapportage per vraag'!$C$12,'Data leveranciersbeoordeling'!$1:$1,0))","v":0},{"$f":"IFERROR(VLOOKUP(INDEX($A:$O,ROW(),MATCH('Rapportage per vraag'!$C$12,'Data leveranciersbeoordeling'!$1:$1,0)),Leveranciersbeoordeling!$H$1:$I$5,2,FALSE),0)","v":0},0]
["",null,null,null,null,null,null,null,null,null,null,null,null,null,null,{"$f":"INDEX($A:$O,ROW(),MATCH('Rapportage per vraag'!$C$12,'Data leveranciersbeoordeling'!$1:$1,0))","v":0},{"$f":"IFERROR(VLOOKUP(INDEX($A:$O,ROW(),MATCH('Rapportage per vraag'!$C$12,'Data leveranciersbeoordeling'!$1:$1,0)),Leveranciersbeoordeling!$H$1:$I$5,2,FALSE),0)","v":0},0]
["",null,null,null,null,null,null,null,null,null,null,null,null,null,null,{"$f":"INDEX($A:$O,ROW(),MATCH('Rapportage per vraag'!$C$12,'Data leveranciersbeoordeling'!$1:$1,0))","v":0},{"$f":"IFERROR(VLOOKUP(INDEX($A:$O,ROW(),MATCH('Rapportage per vraag'!$C$12,'Data leveranciersbeoordeling'!$1:$1,0)),Leveranciersbeoordeling!$H$1:$I$5,2,FALSE),0)","v":0},0]
["",null,null,null,null,null,null,null,null,null,null,null,null,null,null,{"$f":"INDEX($A:$O,ROW(),MATCH('Rapportage per vraag'!$C$12,'Data leveranciersbeoordeling'!$1:$1,0))","v":0},{"$f":"IFERROR(VLOOKUP(INDEX($A:$O,ROW(),MATCH('Rapportage per vraag'!$C$12,'Data leveranciersbeoordeling'!$1:$1,0)),Leveranciersbeoordeling!$H$1:$I$5,2,FALSE),0)","v":0},0]
["",null,null,null,null,null,null,null,null,null,null,null,null,null,null,{"$f":"INDEX($A:$O,ROW(),MATCH('Rapportage per vraag'!$C$12,'Data leveranciersbeoordeling'!$1:$1,0))","v":0},{"$f":"IFERROR(VLOOKUP(INDEX($A:$O,ROW(),MATCH('Rapportage per vraag'!$C$12,'Data leveranciersbeoordeling'!$1:$1,0)),Leveranciersbeoordeling!$H$1:$I$5,2,FALSE),0)","v":0},0]
["",null,null,null,null,null,null,null,null,null,null,null,null,null,null,{"$f":"INDEX($A:$O,ROW(),MATCH('Rapportage per vraag'!$C$12,'Data leveranciersbeoordeling'!$1:$1,0))","v":0},{"$f":"IFERROR(VLOOKUP(INDEX($A:$O,ROW(),MATCH('Rapportage per vraag'!$C$12,'Data leveranciersbeoordeling'!$1:$1,0)),Leveranciersbeoordeling!$H$1:$I$5,2,FALSE),0)","v":0},0]
["",null,null,null,null,null,null,null,null,null,null,null,null,null,null,{"$f":"INDEX($A:$O,ROW(),MATCH('Rapportage per vraag'!$C$12,'Data leveranciersbeoordeling'!$1:$1,0))","v":0},{"$f":"IFERROR(VLOOKUP(INDEX($A:$O,ROW(),MATCH('Rapportage per vraag'!$C$12,'Data leveranciersbeoordeling'!$1:$1,0)),Leveranciersbeoordeling!$H$1:$I$5,2,FALSE),0)","v":0},0]
["",null,null,null,null,null,null,null,null,null,null,null,null,null,null,{"$f":"INDEX($A:$O,ROW(),MATCH('Rapportage per vraag'!$C$12,'Data leveranciersbeoordeling'!$1:$1,0))","v":0},{"$f":"IFERROR(VLOOKUP(INDEX($A:$O,ROW(),MATCH('Rapportage per vraag'!$C$12,'Data leveranciersbeoordeling'!$1:$1,0)),Leveranciersbeoordeling!$H$1:$I$5,2,FALSE),0)","v":0},0]
["",null,null,null,null,null,null,null,null,null,null,null,null,null,null,{"$f":"INDEX($A:$O,ROW(),MATCH('Rapportage per vraag'!$C$12,'Data leveranciersbeoordeling'!$1:$1,0))","v":0},{"$f":"IFERROR(VLOOKUP(INDEX($A:$O,ROW(),MATCH('Rapportage per vraag'!$C$12,'Data leveranciersbeoordeling'!$1:$1,0)),Leveranciersbeoordeling!$H$1:$I$5,2,FALSE),0)","v":0},0]
["",null,null,null,null,null,null,null,null,null,null,null,null,null,null,{"$f":"INDEX($A:$O,ROW(),MATCH('Rapportage per vraag'!$C$12,'Data leveranciersbeoordeling'!$1:$1,0))","v":0},{"$f":"IFERROR(VLOOKUP(INDEX($A:$O,ROW(),MATCH('Rapportage per vraag'!$C$12,'Data leveranciersbeoordeling'!$1:$1,0)),Leveranciersbeoordeling!$H$1:$I$5,2,FALSE),0)","v":0},0]
["",null,null,null,null,null,null,null,null,null,null,null,null,null,null,{"$f":"INDEX($A:$O,ROW(),MATCH('Rapportage per vraag'!$C$12,'Data leveranciersbeoordeling'!$1:$1,0))","v":0},{"$f":"IFERROR(VLOOKUP(INDEX($A:$O,ROW(),MATCH('Rapportage per vraag'!$C$12,'Data leveranciersbeoordeling'!$1:$1,0)),Leveranciersbeoordeling!$H$1:$I$5,2,FALSE),0)","v":0},0]
["",null,null,null,null,null,null,null,null,null,null,null,null,null,null,{"$f":"INDEX($A:$O,ROW(),MATCH('Rapportage per vraag'!$C$12,'Data leveranciersbeoordeling'!$1:$1,0))","v":0},{"$f":"IFERROR(VLOOKUP(INDEX($A:$O,ROW(),MATCH('Rapportage per vraag'!$C$12,'Data leveranciersbeoordeling'!$1:$1,0)),Leveranciersbeoordeling!$H$1:$I$5,2,FALSE),0)","v":0},0]
["",null,null,null,null,null,null,null,null,null,null,null,null,null,null,{"$f":"INDEX($A:$O,ROW(),MATCH('Rapportage per vraag'!$C$12,'Data leveranciersbeoordeling'!$1:$1,0))","v":0},{"$f":"IFERROR(VLOOKUP(INDEX($A:$O,ROW(),MATCH('Rapportage per vraag'!$C$12,'Data leveranciersbeoordeling'!$1:$1,0)),Leveranciersbeoordeling!$H$1:$I$5,2,FALSE),0)","v":0},0]
["",null,null,null,null,null,null,null,null,null,null,null,null,null,null,{"$f":"INDEX($A:$O,ROW(),MATCH('Rapportage per vraag'!$C$12,'Data leveranciersbeoordeling'!$1:$1,0))","v":0},{"$f":"IFERROR(VLOOKUP(INDEX($A:$O,ROW(),MATCH('Rapportage per vraag'!$C$12,'Data leveranciersbeoordeling'!$1:$1,0)),Leveranciersbeoordeling!$H$1:$I$5,2,FALSE),0)","v":0},0]
["",null,null,null,null,null,null,null,null,null,null,null,null,null,null,{"$f":"INDEX($A:$O,ROW(),MATCH('Rapportage per vraag'!$C$12,'Data leveranciersbeoordeling'!$1:$1,0))","v":0},{"$f":"IFERROR(VLOOKUP(INDEX($A:$O,ROW(),MATCH('Rapportage per vraag'!$C$12,'Data leveranciersbeoordeling'!$1:$1,0)),Leveranciersbeoordeling!$H$1:$I$5,2,FALSE),0)","v":0},0]
["",null,null,null,null,null,null,null,null,null,null,null,null,null,null,{"$f":"INDEX($A:$O,ROW(),MATCH('Rapportage per vraag'!$C$12,'Data leveranciersbeoordeling'!$1:$1,0))","v":0},{"$f":"IFERROR(VLOOKUP(INDEX($A:$O,ROW(),MATCH('Rapportage per vraag'!$C$12,'Data leveranciersbeoordeling'!$1:$1,0)),Leveranciersbeoordeling!$H$1:$I$5,2,FALSE),0)","v":0},0]
["",null,null,null,null,null,null,null,null,null,null,null,null,null,null,{"$f":"INDEX($A:$O,ROW(),MATCH('Rapportage per vraag'!$C$12,'Data leveranciersbeoordeling'!$1:$1,0))","v":0},{"$f":"IFERROR(VLOOKUP(INDEX($A:$O,ROW(),MATCH('Rapportage per vraag'!$C$12,'Data leveranciersbeoordeling'!$1:$1,0)),Leveranciersbeoordeling!$H$1:$I$5,2,FALSE),0)","v":0},0]
["",null,null,null,null,null,null,null,null,null,null,null,null,null,null,{"$f":"INDEX($A:$O,ROW(),MATCH('Rapportage per vraag'!$C$12,'Data leveranciersbeoordeling'!$1:$1,0))","v":0},{"$f":"IFERROR(VLOOKUP(INDEX($A:$O,ROW(),MATCH('Rapportage per vraag'!$C$12,'Data leveranciersbeoordeling'!$1:$1,0)),Leveranciersbeoordeling!$H$1:$I$5,2,FALSE),0)","v":0},0]
["",null,null,null,null,null,null,null,null,null,null,null,null,null,null,{"$f":"INDEX($A:$O,ROW(),MATCH('Rapportage per vraag'!$C$12,'Data leveranciersbeoordeling'!$1:$1,0))","v":0},{"$f":"IFERROR(VLOOKUP(INDEX($A:$O,ROW(),MATCH('Rapportage per vraag'!$C$12,'Data leveranciersbeoordeling'!$1:$1,0)),Leveranciersbeoordeling!$H$1:$I$5,2,FALSE),0)","v":0},0]
["",null,null,null,null,null,null,null,null,null,null,null,null,null,null,{"$f":"INDEX($A:$O,ROW(),MATCH('Rapportage per vraag'!$C$12,'Data leveranciersbeoordeling'!$1:$1,0))","v":0},{"$f":"IFERROR(VLOOKUP(INDEX($A:$O,ROW(),MATCH('Rapportage per vraag'!$C$12,'Data leveranciersbeoordeling'!$1:$1,0)),Leveranciersbeoordeling!$H$1:$I$5,2,FALSE),0)","v":0},0]
["",null,null,null,null,null,null,null,null,null,null,null,null,null,null,{"$f":"INDEX($A:$O,ROW(),MATCH('Rapportage per vraag'!$C$12,'Data leveranciersbeoordeling'!$1:$1,0))","v":0},{"$f":"IFERROR(VLOOKUP(INDEX($A:$O,ROW(),MATCH('Rapportage per vraag'!$C$12,'Data leveranciersbeoordeling'!$1:$1,0)),Leveranciersbeoordeling!$H$1:$I$5,2,FALSE),0)","v":0},0]
["",null,null,null,null,null,null,null,null,null,null,null,null,null,null,{"$f":"INDEX($A:$O,ROW(),MATCH('Rapportage per vraag'!$C$12,'Data leveranciersbeoordeling'!$1:$1,0))","v":0},{"$f":"IFERROR(VLOOKUP(INDEX($A:$O,ROW(),MATCH('Rapportage per vraag'!$C$12,'Data leveranciersbeoordeling'!$1:$1,0)),Leveranciersbeoordeling!$H$1:$I$5,2,FALSE),0)","v":0},0]
["",null,null,null,null,null,null,null,null,null,null,null,null,null,null,{"$f":"INDEX($A:$O,ROW(),MATCH('Rapportage per vraag'!$C$12,'Data leveranciersbeoordeling'!$1:$1,0))","v":0},{"$f":"IFERROR(VLOOKUP(INDEX($A:$O,ROW(),MATCH('Rapportage per vraag'!$C$12,'Data leveranciersbeoordeling'!$1:$1,0)),Leveranciersbeoordeling!$H$1:$I$5,2,FALSE),0)","v":0},0]
["",null,null,null,null,null,null,null,null,null,null,null,null,null,null,{"$f":"INDEX($A:$O,ROW(),MATCH('Rapportage per vraag'!$C$12,'Data leveranciersbeoordeling'!$1:$1,0))","v":0},{"$f":"IFERROR(VLOOKUP(INDEX($A:$O,ROW(),MATCH('Rapportage per vraag'!$C$12,'Data leveranciersbeoordeling'!$1:$1,0)),Leveranciersbeoordeling!$H$1:$I$5,2,FALSE),0)","v":0},0]
["",null,null,null,null,null,null,null,null,null,null,null,null,null,null,{"$f":"INDEX($A:$O,ROW(),MATCH('Rapportage per vraag'!$C$12,'Data leveranciersbeoordeling'!$1:$1,0))","v":0},{"$f":"IFERROR(VLOOKUP(INDEX($A:$O,ROW(),MATCH('Rapportage per vraag'!$C$12,'Data leveranciersbeoordeling'!$1:$1,0)),Leveranciersbeoordeling!$H$1:$I$5,2,FALSE),0)","v":0},0]
["",null,null,null,null,null,null,null,null,null,null,null,null,null,null,{"$f":"INDEX($A:$O,ROW(),MATCH('Rapportage per vraag'!$C$12,'Data leveranciersbeoordeling'!$1:$1,0))","v":0},{"$f":"IFERROR(VLOOKUP(INDEX($A:$O,ROW(),MATCH('Rapportage per vraag'!$C$12,'Data leveranciersbeoordeling'!$1:$1,0)),Leveranciersbeoordeling!$H$1:$I$5,2,FALSE),0)","v":0},0]
["",null,null,null,null,null,null,null,null,null,null,null,null,null,null,{"$f":"INDEX($A:$O,ROW(),MATCH('Rapportage per vraag'!$C$12,'Data leveranciersbeoordeling'!$1:$1,0))","v":0},{"$f":"IFERROR(VLOOKUP(INDEX($A:$O,ROW(),MATCH('Rapportage per vraag'!$C$12,'Data leveranciersbeoordeling'!$1:$1,0)),Leveranciersbeoordeling!$H$1:$I$5,2,FALSE),0)","v":0},0]
["",null,null,null,null,null,null,null,null,null,null,null,null,null,null,{"$f":"INDEX($A:$O,ROW(),MATCH('Rapportage per vraag'!$C$12,'Data leveranciersbeoordeling'!$1:$1,0))","v":0},{"$f":"IFERROR(VLOOKUP(INDEX($A:$O,ROW(),MATCH('Rapportage per vraag'!$C$12,'Data leveranciersbeoordeling'!$1:$1,0)),Leveranciersbeoordeling!$H$1:$I$5,2,FALSE),0)","v":0},0]
["",null,null,null,null,null,null,null,null,null,null,null,null,null,null,{"$f":"INDEX($A:$O,ROW(),MATCH('Rapportage per vraag'!$C$12,'Data leveranciersbeoordeling'!$1:$1,0))","v":0},{"$f":"IFERROR(VLOOKUP(INDEX($A:$O,ROW(),MATCH('Rapportage per vraag'!$C$12,'Data leveranciersbeoordeling'!$1:$1,0)),Leveranciersbeoordeling!$H$1:$I$5,2,FALSE),0)","v":0},0]
["",null,null,null,null,null,null,null,null,null,null,null,null,null,null,{"$f":"INDEX($A:$O,ROW(),MATCH('Rapportage per vraag'!$C$12,'Data leveranciersbeoordeling'!$1:$1,0))","v":0},{"$f":"IFERROR(VLOOKUP(INDEX($A:$O,ROW(),MATCH('Rapportage per vraag'!$C$12,'Data leveranciersbeoordeling'!$1:$1,0)),Leveranciersbeoordeling!$H$1:$I$5,2,FALSE),0)","v":0},0]
["",null,null,null,null,null,null,null,null,null,null,null,null,null,null,{"$f":"INDEX($A:$O,ROW(),MATCH('Rapportage per vraag'!$C$12,'Data leveranciersbeoordeling'!$1:$1,0))","v":0},{"$f":"IFERROR(VLOOKUP(INDEX($A:$O,ROW(),MATCH('Rapportage per vraag'!$C$12,'Data leveranciersbeoordeling'!$1:$1,0)),Leveranciersbeoordeling!$H$1:$I$5,2,FALSE),0)","v":0},0]
["",null,null,null,null,null,null,null,null,null,null,null,null,null,null,{"$f":"INDEX($A:$O,ROW(),MATCH('Rapportage per vraag'!$C$12,'Data leveranciersbeoordeling'!$1:$1,0))","v":0},{"$f":"IFERROR(VLOOKUP(INDEX($A:$O,ROW(),MATCH('Rapportage per vraag'!$C$12,'Data leveranciersbeoordeling'!$1:$1,0)),Leveranciersbeoordeling!$H$1:$I$5,2,FALSE),0)","v":0},0]
["",null,null,null,null,null,null,null,null,null,null,null,null,null,null,{"$f":"INDEX($A:$O,ROW(),MATCH('Rapportage per vraag'!$C$12,'Data leveranciersbeoordeling'!$1:$1,0))","v":0},{"$f":"IFERROR(VLOOKUP(INDEX($A:$O,ROW(),MATCH('Rapportage per vraag'!$C$12,'Data leveranciersbeoordeling'!$1:$1,0)),Leveranciersbeoordeling!$H$1:$I$5,2,FALSE),0)","v":0},0]
["",null,null,null,null,null,null,null,null,null,null,null,null,null,null,{"$f":"INDEX($A:$O,ROW(),MATCH('Rapportage per vraag'!$C$12,'Data leveranciersbeoordeling'!$1:$1,0))","v":0},{"$f":"IFERROR(VLOOKUP(INDEX($A:$O,ROW(),MATCH('Rapportage per vraag'!$C$12,'Data leveranciersbeoordeling'!$1:$1,0)),Leveranciersbeoordeling!$H$1:$I$5,2,FALSE),0)","v":0},0]
["",null,null,null,null,null,null,null,null,null,null,null,null,null,null,{"$f":"INDEX($A:$O,ROW(),MATCH('Rapportage per vraag'!$C$12,'Data leveranciersbeoordeling'!$1:$1,0))","v":0},{"$f":"IFERROR(VLOOKUP(INDEX($A:$O,ROW(),MATCH('Rapportage per vraag'!$C$12,'Data leveranciersbeoordeling'!$1:$1,0)),Leveranciersbeoordeling!$H$1:$I$5,2,FALSE),0)","v":0},0]
[{"$f":"CONCATENATE(B1923,C1923,D1923)","v":""},null,null,null,null,null,null,null,null,null,null,null,null,null,null,{"$f":"INDEX($A:$O,ROW(),MATCH('Rapportage per vraag'!$C$12,'Data leveranciersbeoordeling'!$1:$1,0))","v":0},{"$f":"IFERROR(VLOOKUP(INDEX($A:$O,ROW(),MATCH('Rapportage per vraag'!$C$12,'Data leveranciersbeoordeling'!$1:$1,0)),Leveranciersbeoordeling!$H$1:$I$5,2,FALSE),0)","v":0},0]
["",null,null,null,null,null,null,null,null,null,null,null,null,null,null,{"$f":"INDEX($A:$O,ROW(),MATCH('Rapportage per vraag'!$C$12,'Data leveranciersbeoordeling'!$1:$1,0))","v":0},{"$f":"IFERROR(VLOOKUP(INDEX($A:$O,ROW(),MATCH('Rapportage per vraag'!$C$12,'Data leveranciersbeoordeling'!$1:$1,0)),Leveranciersbeoordeling!$H$1:$I$5,2,FALSE),0)","v":0},0]
["",null,null,null,null,null,null,null,null,null,null,null,null,null,null,{"$f":"INDEX($A:$O,ROW(),MATCH('Rapportage per vraag'!$C$12,'Data leveranciersbeoordeling'!$1:$1,0))","v":0},{"$f":"IFERROR(VLOOKUP(INDEX($A:$O,ROW(),MATCH('Rapportage per vraag'!$C$12,'Data leveranciersbeoordeling'!$1:$1,0)),Leveranciersbeoordeling!$H$1:$I$5,2,FALSE),0)","v":0},0]
["",null,null,null,null,null,null,null,null,null,null,null,null,null,null,{"$f":"INDEX($A:$O,ROW(),MATCH('Rapportage per vraag'!$C$12,'Data leveranciersbeoordeling'!$1:$1,0))","v":0},{"$f":"IFERROR(VLOOKUP(INDEX($A:$O,ROW(),MATCH('Rapportage per vraag'!$C$12,'Data leveranciersbeoordeling'!$1:$1,0)),Leveranciersbeoordeling!$H$1:$I$5,2,FALSE),0)","v":0},{"$f":"IF(T(P1926)=P1926,Q1926,P1926)","v":0}]
["",null,null,null,null,null,null,null,null,null,null,null,null,null,null,{"$f":"INDEX($A:$O,ROW(),MATCH('Rapportage per vraag'!$C$12,'Data leveranciersbeoordeling'!$1:$1,0))","v":0},{"$f":"IFERROR(VLOOKUP(INDEX($A:$O,ROW(),MATCH('Rapportage per vraag'!$C$12,'Data leveranciersbeoordeling'!$1:$1,0)),Leveranciersbeoordeling!$H$1:$I$5,2,FALSE),0)","v":0},0]
["",null,null,null,null,null,null,null,null,null,null,null,null,null,null,{"$f":"INDEX($A:$O,ROW(),MATCH('Rapportage per vraag'!$C$12,'Data leveranciersbeoordeling'!$1:$1,0))","v":0},{"$f":"IFERROR(VLOOKUP(INDEX($A:$O,ROW(),MATCH('Rapportage per vraag'!$C$12,'Data leveranciersbeoordeling'!$1:$1,0)),Leveranciersbeoordeling!$H$1:$I$5,2,FALSE),0)","v":0},0]
["",null,null,null,null,null,null,null,null,null,null,null,null,null,null,{"$f":"INDEX($A:$O,ROW(),MATCH('Rapportage per vraag'!$C$12,'Data leveranciersbeoordeling'!$1:$1,0))","v":0},{"$f":"IFERROR(VLOOKUP(INDEX($A:$O,ROW(),MATCH('Rapportage per vraag'!$C$12,'Data leveranciersbeoordeling'!$1:$1,0)),Leveranciersbeoordeling!$H$1:$I$5,2,FALSE),0)","v":0},0]
["",null,null,null,null,null,null,null,null,null,null,null,null,null,null,{"$f":"INDEX($A:$O,ROW(),MATCH('Rapportage per vraag'!$C$12,'Data leveranciersbeoordeling'!$1:$1,0))","v":0},{"$f":"IFERROR(VLOOKUP(INDEX($A:$O,ROW(),MATCH('Rapportage per vraag'!$C$12,'Data leveranciersbeoordeling'!$1:$1,0)),Leveranciersbeoordeling!$H$1:$I$5,2,FALSE),0)","v":0},0]
["",null,null,null,null,null,null,null,null,null,null,null,null,null,null,{"$f":"INDEX($A:$O,ROW(),MATCH('Rapportage per vraag'!$C$12,'Data leveranciersbeoordeling'!$1:$1,0))","v":0},{"$f":"IFERROR(VLOOKUP(INDEX($A:$O,ROW(),MATCH('Rapportage per vraag'!$C$12,'Data leveranciersbeoordeling'!$1:$1,0)),Leveranciersbeoordeling!$H$1:$I$5,2,FALSE),0)","v":0},0]
["",null,null,null,null,null,null,null,null,null,null,null,null,null,null,{"$f":"INDEX($A:$O,ROW(),MATCH('Rapportage per vraag'!$C$12,'Data leveranciersbeoordeling'!$1:$1,0))","v":0},{"$f":"IFERROR(VLOOKUP(INDEX($A:$O,ROW(),MATCH('Rapportage per vraag'!$C$12,'Data leveranciersbeoordeling'!$1:$1,0)),Leveranciersbeoordeling!$H$1:$I$5,2,FALSE),0)","v":0},0]
["",null,null,null,null,null,null,null,null,null,null,null,null,null,null,{"$f":"INDEX($A:$O,ROW(),MATCH('Rapportage per vraag'!$C$12,'Data leveranciersbeoordeling'!$1:$1,0))","v":0},{"$f":"IFERROR(VLOOKUP(INDEX($A:$O,ROW(),MATCH('Rapportage per vraag'!$C$12,'Data leveranciersbeoordeling'!$1:$1,0)),Leveranciersbeoordeling!$H$1:$I$5,2,FALSE),0)","v":0},0]
["",null,null,null,null,null,null,null,null,null,null,null,null,null,null,{"$f":"INDEX($A:$O,ROW(),MATCH('Rapportage per vraag'!$C$12,'Data leveranciersbeoordeling'!$1:$1,0))","v":0},{"$f":"IFERROR(VLOOKUP(INDEX($A:$O,ROW(),MATCH('Rapportage per vraag'!$C$12,'Data leveranciersbeoordeling'!$1:$1,0)),Leveranciersbeoordeling!$H$1:$I$5,2,FALSE),0)","v":0},0]
["",null,null,null,null,null,null,null,null,null,null,null,null,null,null,{"$f":"INDEX($A:$O,ROW(),MATCH('Rapportage per vraag'!$C$12,'Data leveranciersbeoordeling'!$1:$1,0))","v":0},{"$f":"IFERROR(VLOOKUP(INDEX($A:$O,ROW(),MATCH('Rapportage per vraag'!$C$12,'Data leveranciersbeoordeling'!$1:$1,0)),Leveranciersbeoordeling!$H$1:$I$5,2,FALSE),0)","v":0},0]
["",null,null,null,null,null,null,null,null,null,null,null,null,null,null,{"$f":"INDEX($A:$O,ROW(),MATCH('Rapportage per vraag'!$C$12,'Data leveranciersbeoordeling'!$1:$1,0))","v":0},{"$f":"IFERROR(VLOOKUP(INDEX($A:$O,ROW(),MATCH('Rapportage per vraag'!$C$12,'Data leveranciersbeoordeling'!$1:$1,0)),Leveranciersbeoordeling!$H$1:$I$5,2,FALSE),0)","v":0},0]
["",null,null,null,null,null,null,null,null,null,null,null,null,null,null,{"$f":"INDEX($A:$O,ROW(),MATCH('Rapportage per vraag'!$C$12,'Data leveranciersbeoordeling'!$1:$1,0))","v":0},{"$f":"IFERROR(VLOOKUP(INDEX($A:$O,ROW(),MATCH('Rapportage per vraag'!$C$12,'Data leveranciersbeoordeling'!$1:$1,0)),Leveranciersbeoordeling!$H$1:$I$5,2,FALSE),0)","v":0},0]
["",null,null,null,null,null,null,null,null,null,null,null,null,null,null,{"$f":"INDEX($A:$O,ROW(),MATCH('Rapportage per vraag'!$C$12,'Data leveranciersbeoordeling'!$1:$1,0))","v":0},{"$f":"IFERROR(VLOOKUP(INDEX($A:$O,ROW(),MATCH('Rapportage per vraag'!$C$12,'Data leveranciersbeoordeling'!$1:$1,0)),Leveranciersbeoordeling!$H$1:$I$5,2,FALSE),0)","v":0},0]
["",null,null,null,null,null,null,null,null,null,null,null,null,null,null,{"$f":"INDEX($A:$O,ROW(),MATCH('Rapportage per vraag'!$C$12,'Data leveranciersbeoordeling'!$1:$1,0))","v":0},{"$f":"IFERROR(VLOOKUP(INDEX($A:$O,ROW(),MATCH('Rapportage per vraag'!$C$12,'Data leveranciersbeoordeling'!$1:$1,0)),Leveranciersbeoordeling!$H$1:$I$5,2,FALSE),0)","v":0},0]
["",null,null,null,null,null,null,null,null,null,null,null,null,null,null,{"$f":"INDEX($A:$O,ROW(),MATCH('Rapportage per vraag'!$C$12,'Data leveranciersbeoordeling'!$1:$1,0))","v":0},{"$f":"IFERROR(VLOOKUP(INDEX($A:$O,ROW(),MATCH('Rapportage per vraag'!$C$12,'Data leveranciersbeoordeling'!$1:$1,0)),Leveranciersbeoordeling!$H$1:$I$5,2,FALSE),0)","v":0},0]
["",null,null,null,null,null,null,null,null,null,null,null,null,null,null,{"$f":"INDEX($A:$O,ROW(),MATCH('Rapportage per vraag'!$C$12,'Data leveranciersbeoordeling'!$1:$1,0))","v":0},{"$f":"IFERROR(VLOOKUP(INDEX($A:$O,ROW(),MATCH('Rapportage per vraag'!$C$12,'Data leveranciersbeoordeling'!$1:$1,0)),Leveranciersbeoordeling!$H$1:$I$5,2,FALSE),0)","v":0},0]
["",null,null,null,null,null,null,null,null,null,null,null,null,null,null,{"$f":"INDEX($A:$O,ROW(),MATCH('Rapportage per vraag'!$C$12,'Data leveranciersbeoordeling'!$1:$1,0))","v":0},{"$f":"IFERROR(VLOOKUP(INDEX($A:$O,ROW(),MATCH('Rapportage per vraag'!$C$12,'Data leveranciersbeoordeling'!$1:$1,0)),Leveranciersbeoordeling!$H$1:$I$5,2,FALSE),0)","v":0},0]
["",null,null,null,null,null,null,null,null,null,null,null,null,null,null,{"$f":"INDEX($A:$O,ROW(),MATCH('Rapportage per vraag'!$C$12,'Data leveranciersbeoordeling'!$1:$1,0))","v":0},{"$f":"IFERROR(VLOOKUP(INDEX($A:$O,ROW(),MATCH('Rapportage per vraag'!$C$12,'Data leveranciersbeoordeling'!$1:$1,0)),Leveranciersbeoordeling!$H$1:$I$5,2,FALSE),0)","v":0},0]
["",null,null,null,null,null,null,null,null,null,null,null,null,null,null,{"$f":"INDEX($A:$O,ROW(),MATCH('Rapportage per vraag'!$C$12,'Data leveranciersbeoordeling'!$1:$1,0))","v":0},{"$f":"IFERROR(VLOOKUP(INDEX($A:$O,ROW(),MATCH('Rapportage per vraag'!$C$12,'Data leveranciersbeoordeling'!$1:$1,0)),Leveranciersbeoordeling!$H$1:$I$5,2,FALSE),0)","v":0},0]
["",null,null,null,null,null,null,null,null,null,null,null,null,null,null,{"$f":"INDEX($A:$O,ROW(),MATCH('Rapportage per vraag'!$C$12,'Data leveranciersbeoordeling'!$1:$1,0))","v":0},{"$f":"IFERROR(VLOOKUP(INDEX($A:$O,ROW(),MATCH('Rapportage per vraag'!$C$12,'Data leveranciersbeoordeling'!$1:$1,0)),Leveranciersbeoordeling!$H$1:$I$5,2,FALSE),0)","v":0},0]
["",null,null,null,null,null,null,null,null,null,null,null,null,null,null,{"$f":"INDEX($A:$O,ROW(),MATCH('Rapportage per vraag'!$C$12,'Data leveranciersbeoordeling'!$1:$1,0))","v":0},{"$f":"IFERROR(VLOOKUP(INDEX($A:$O,ROW(),MATCH('Rapportage per vraag'!$C$12,'Data leveranciersbeoordeling'!$1:$1,0)),Leveranciersbeoordeling!$H$1:$I$5,2,FALSE),0)","v":0},0]
["",null,null,null,null,null,null,null,null,null,null,null,null,null,null,{"$f":"INDEX($A:$O,ROW(),MATCH('Rapportage per vraag'!$C$12,'Data leveranciersbeoordeling'!$1:$1,0))","v":0},{"$f":"IFERROR(VLOOKUP(INDEX($A:$O,ROW(),MATCH('Rapportage per vraag'!$C$12,'Data leveranciersbeoordeling'!$1:$1,0)),Leveranciersbeoordeling!$H$1:$I$5,2,FALSE),0)","v":0},0]
["",null,null,null,null,null,null,null,null,null,null,null,null,null,null,{"$f":"INDEX($A:$O,ROW(),MATCH('Rapportage per vraag'!$C$12,'Data leveranciersbeoordeling'!$1:$1,0))","v":0},{"$f":"IFERROR(VLOOKUP(INDEX($A:$O,ROW(),MATCH('Rapportage per vraag'!$C$12,'Data leveranciersbeoordeling'!$1:$1,0)),Leveranciersbeoordeling!$H$1:$I$5,2,FALSE),0)","v":0},0]
["",null,null,null,null,null,null,null,null,null,null,null,null,null,null,{"$f":"INDEX($A:$O,ROW(),MATCH('Rapportage per vraag'!$C$12,'Data leveranciersbeoordeling'!$1:$1,0))","v":0},{"$f":"IFERROR(VLOOKUP(INDEX($A:$O,ROW(),MATCH('Rapportage per vraag'!$C$12,'Data leveranciersbeoordeling'!$1:$1,0)),Leveranciersbeoordeling!$H$1:$I$5,2,FALSE),0)","v":0},0]
["",null,null,null,null,null,null,null,null,null,null,null,null,null,null,{"$f":"INDEX($A:$O,ROW(),MATCH('Rapportage per vraag'!$C$12,'Data leveranciersbeoordeling'!$1:$1,0))","v":0},{"$f":"IFERROR(VLOOKUP(INDEX($A:$O,ROW(),MATCH('Rapportage per vraag'!$C$12,'Data leveranciersbeoordeling'!$1:$1,0)),Leveranciersbeoordeling!$H$1:$I$5,2,FALSE),0)","v":0},0]
["",null,null,null,null,null,null,null,null,null,null,null,null,null,null,{"$f":"INDEX($A:$O,ROW(),MATCH('Rapportage per vraag'!$C$12,'Data leveranciersbeoordeling'!$1:$1,0))","v":0},{"$f":"IFERROR(VLOOKUP(INDEX($A:$O,ROW(),MATCH('Rapportage per vraag'!$C$12,'Data leveranciersbeoordeling'!$1:$1,0)),Leveranciersbeoordeling!$H$1:$I$5,2,FALSE),0)","v":0},0]
["",null,null,null,null,null,null,null,null,null,null,null,null,null,null,{"$f":"INDEX($A:$O,ROW(),MATCH('Rapportage per vraag'!$C$12,'Data leveranciersbeoordeling'!$1:$1,0))","v":0},{"$f":"IFERROR(VLOOKUP(INDEX($A:$O,ROW(),MATCH('Rapportage per vraag'!$C$12,'Data leveranciersbeoordeling'!$1:$1,0)),Leveranciersbeoordeling!$H$1:$I$5,2,FALSE),0)","v":0},0]
["",null,null,null,null,null,null,null,null,null,null,null,null,null,null,{"$f":"INDEX($A:$O,ROW(),MATCH('Rapportage per vraag'!$C$12,'Data leveranciersbeoordeling'!$1:$1,0))","v":0},{"$f":"IFERROR(VLOOKUP(INDEX($A:$O,ROW(),MATCH('Rapportage per vraag'!$C$12,'Data leveranciersbeoordeling'!$1:$1,0)),Leveranciersbeoordeling!$H$1:$I$5,2,FALSE),0)","v":0},0]
["",null,null,null,null,null,null,null,null,null,null,null,null,null,null,{"$f":"INDEX($A:$O,ROW(),MATCH('Rapportage per vraag'!$C$12,'Data leveranciersbeoordeling'!$1:$1,0))","v":0},{"$f":"IFERROR(VLOOKUP(INDEX($A:$O,ROW(),MATCH('Rapportage per vraag'!$C$12,'Data leveranciersbeoordeling'!$1:$1,0)),Leveranciersbeoordeling!$H$1:$I$5,2,FALSE),0)","v":0},0]
["",null,null,null,null,null,null,null,null,null,null,null,null,null,null,{"$f":"INDEX($A:$O,ROW(),MATCH('Rapportage per vraag'!$C$12,'Data leveranciersbeoordeling'!$1:$1,0))","v":0},{"$f":"IFERROR(VLOOKUP(INDEX($A:$O,ROW(),MATCH('Rapportage per vraag'!$C$12,'Data leveranciersbeoordeling'!$1:$1,0)),Leveranciersbeoordeling!$H$1:$I$5,2,FALSE),0)","v":0},0]
["",null,null,null,null,null,null,null,null,null,null,null,null,null,null,{"$f":"INDEX($A:$O,ROW(),MATCH('Rapportage per vraag'!$C$12,'Data leveranciersbeoordeling'!$1:$1,0))","v":0},{"$f":"IFERROR(VLOOKUP(INDEX($A:$O,ROW(),MATCH('Rapportage per vraag'!$C$12,'Data leveranciersbeoordeling'!$1:$1,0)),Leveranciersbeoordeling!$H$1:$I$5,2,FALSE),0)","v":0},0]
["",null,null,null,null,null,null,null,null,null,null,null,null,null,null,{"$f":"INDEX($A:$O,ROW(),MATCH('Rapportage per vraag'!$C$12,'Data leveranciersbeoordeling'!$1:$1,0))","v":0},{"$f":"IFERROR(VLOOKUP(INDEX($A:$O,ROW(),MATCH('Rapportage per vraag'!$C$12,'Data leveranciersbeoordeling'!$1:$1,0)),Leveranciersbeoordeling!$H$1:$I$5,2,FALSE),0)","v":0},0]
["",null,null,null,null,null,null,null,null,null,null,null,null,null,null,{"$f":"INDEX($A:$O,ROW(),MATCH('Rapportage per vraag'!$C$12,'Data leveranciersbeoordeling'!$1:$1,0))","v":0},{"$f":"IFERROR(VLOOKUP(INDEX($A:$O,ROW(),MATCH('Rapportage per vraag'!$C$12,'Data leveranciersbeoordeling'!$1:$1,0)),Leveranciersbeoordeling!$H$1:$I$5,2,FALSE),0)","v":0},0]
["",null,null,null,null,null,null,null,null,null,null,null,null,null,null,{"$f":"INDEX($A:$O,ROW(),MATCH('Rapportage per vraag'!$C$12,'Data leveranciersbeoordeling'!$1:$1,0))","v":0},{"$f":"IFERROR(VLOOKUP(INDEX($A:$O,ROW(),MATCH('Rapportage per vraag'!$C$12,'Data leveranciersbeoordeling'!$1:$1,0)),Leveranciersbeoordeling!$H$1:$I$5,2,FALSE),0)","v":0},0]
["",null,null,null,null,null,null,null,null,null,null,null,null,null,null,{"$f":"INDEX($A:$O,ROW(),MATCH('Rapportage per vraag'!$C$12,'Data leveranciersbeoordeling'!$1:$1,0))","v":0},{"$f":"IFERROR(VLOOKUP(INDEX($A:$O,ROW(),MATCH('Rapportage per vraag'!$C$12,'Data leveranciersbeoordeling'!$1:$1,0)),Leveranciersbeoordeling!$H$1:$I$5,2,FALSE),0)","v":0},0]
["",null,null,null,null,null,null,null,null,null,null,null,null,null,null,{"$f":"INDEX($A:$O,ROW(),MATCH('Rapportage per vraag'!$C$12,'Data leveranciersbeoordeling'!$1:$1,0))","v":0},{"$f":"IFERROR(VLOOKUP(INDEX($A:$O,ROW(),MATCH('Rapportage per vraag'!$C$12,'Data leveranciersbeoordeling'!$1:$1,0)),Leveranciersbeoordeling!$H$1:$I$5,2,FALSE),0)","v":0},0]
["",null,null,null,null,null,null,null,null,null,null,null,null,null,null,{"$f":"INDEX($A:$O,ROW(),MATCH('Rapportage per vraag'!$C$12,'Data leveranciersbeoordeling'!$1:$1,0))","v":0},{"$f":"IFERROR(VLOOKUP(INDEX($A:$O,ROW(),MATCH('Rapportage per vraag'!$C$12,'Data leveranciersbeoordeling'!$1:$1,0)),Leveranciersbeoordeling!$H$1:$I$5,2,FALSE),0)","v":0},0]
["",null,null,null,null,null,null,null,null,null,null,null,null,null,null,{"$f":"INDEX($A:$O,ROW(),MATCH('Rapportage per vraag'!$C$12,'Data leveranciersbeoordeling'!$1:$1,0))","v":0},{"$f":"IFERROR(VLOOKUP(INDEX($A:$O,ROW(),MATCH('Rapportage per vraag'!$C$12,'Data leveranciersbeoordeling'!$1:$1,0)),Leveranciersbeoordeling!$H$1:$I$5,2,FALSE),0)","v":0},0]
["",null,null,null,null,null,null,null,null,null,null,null,null,null,null,{"$f":"INDEX($A:$O,ROW(),MATCH('Rapportage per vraag'!$C$12,'Data leveranciersbeoordeling'!$1:$1,0))","v":0},{"$f":"IFERROR(VLOOKUP(INDEX($A:$O,ROW(),MATCH('Rapportage per vraag'!$C$12,'Data leveranciersbeoordeling'!$1:$1,0)),Leveranciersbeoordeling!$H$1:$I$5,2,FALSE),0)","v":0},0]
["",null,null,null,null,null,null,null,null,null,null,null,null,null,null,{"$f":"INDEX($A:$O,ROW(),MATCH('Rapportage per vraag'!$C$12,'Data leveranciersbeoordeling'!$1:$1,0))","v":0},{"$f":"IFERROR(VLOOKUP(INDEX($A:$O,ROW(),MATCH('Rapportage per vraag'!$C$12,'Data leveranciersbeoordeling'!$1:$1,0)),Leveranciersbeoordeling!$H$1:$I$5,2,FALSE),0)","v":0},0]
["",null,null,null,null,null,null,null,null,null,null,null,null,null,null,{"$f":"INDEX($A:$O,ROW(),MATCH('Rapportage per vraag'!$C$12,'Data leveranciersbeoordeling'!$1:$1,0))","v":0},{"$f":"IFERROR(VLOOKUP(INDEX($A:$O,ROW(),MATCH('Rapportage per vraag'!$C$12,'Data leveranciersbeoordeling'!$1:$1,0)),Leveranciersbeoordeling!$H$1:$I$5,2,FALSE),0)","v":0},0]
["",null,null,null,null,null,null,null,null,null,null,null,null,null,null,{"$f":"INDEX($A:$O,ROW(),MATCH('Rapportage per vraag'!$C$12,'Data leveranciersbeoordeling'!$1:$1,0))","v":0},{"$f":"IFERROR(VLOOKUP(INDEX($A:$O,ROW(),MATCH('Rapportage per vraag'!$C$12,'Data leveranciersbeoordeling'!$1:$1,0)),Leveranciersbeoordeling!$H$1:$I$5,2,FALSE),0)","v":0},0]
["",null,null,null,null,null,null,null,null,null,null,null,null,null,null,{"$f":"INDEX($A:$O,ROW(),MATCH('Rapportage per vraag'!$C$12,'Data leveranciersbeoordeling'!$1:$1,0))","v":0},{"$f":"IFERROR(VLOOKUP(INDEX($A:$O,ROW(),MATCH('Rapportage per vraag'!$C$12,'Data leveranciersbeoordeling'!$1:$1,0)),Leveranciersbeoordeling!$H$1:$I$5,2,FALSE),0)","v":0},0]
["",null,null,null,null,null,null,null,null,null,null,null,null,null,null,{"$f":"INDEX($A:$O,ROW(),MATCH('Rapportage per vraag'!$C$12,'Data leveranciersbeoordeling'!$1:$1,0))","v":0},{"$f":"IFERROR(VLOOKUP(INDEX($A:$O,ROW(),MATCH('Rapportage per vraag'!$C$12,'Data leveranciersbeoordeling'!$1:$1,0)),Leveranciersbeoordeling!$H$1:$I$5,2,FALSE),0)","v":0},0]
["",null,null,null,null,null,null,null,null,null,null,null,null,null,null,{"$f":"INDEX($A:$O,ROW(),MATCH('Rapportage per vraag'!$C$12,'Data leveranciersbeoordeling'!$1:$1,0))","v":0},{"$f":"IFERROR(VLOOKUP(INDEX($A:$O,ROW(),MATCH('Rapportage per vraag'!$C$12,'Data leveranciersbeoordeling'!$1:$1,0)),Leveranciersbeoordeling!$H$1:$I$5,2,FALSE),0)","v":0},0]
["",null,null,null,null,null,null,null,null,null,null,null,null,null,null,{"$f":"INDEX($A:$O,ROW(),MATCH('Rapportage per vraag'!$C$12,'Data leveranciersbeoordeling'!$1:$1,0))","v":0},{"$f":"IFERROR(VLOOKUP(INDEX($A:$O,ROW(),MATCH('Rapportage per vraag'!$C$12,'Data leveranciersbeoordeling'!$1:$1,0)),Leveranciersbeoordeling!$H$1:$I$5,2,FALSE),0)","v":0},0]
["",null,null,null,null,null,null,null,null,null,null,null,null,null,null,{"$f":"INDEX($A:$O,ROW(),MATCH('Rapportage per vraag'!$C$12,'Data leveranciersbeoordeling'!$1:$1,0))","v":0},{"$f":"IFERROR(VLOOKUP(INDEX($A:$O,ROW(),MATCH('Rapportage per vraag'!$C$12,'Data leveranciersbeoordeling'!$1:$1,0)),Leveranciersbeoordeling!$H$1:$I$5,2,FALSE),0)","v":0},0]
["",null,null,null,null,null,null,null,null,null,null,null,null,null,null,{"$f":"INDEX($A:$O,ROW(),MATCH('Rapportage per vraag'!$C$12,'Data leveranciersbeoordeling'!$1:$1,0))","v":0},{"$f":"IFERROR(VLOOKUP(INDEX($A:$O,ROW(),MATCH('Rapportage per vraag'!$C$12,'Data leveranciersbeoordeling'!$1:$1,0)),Leveranciersbeoordeling!$H$1:$I$5,2,FALSE),0)","v":0},0]
["",null,null,null,null,null,null,null,null,null,null,null,null,null,null,{"$f":"INDEX($A:$O,ROW(),MATCH('Rapportage per vraag'!$C$12,'Data leveranciersbeoordeling'!$1:$1,0))","v":0},{"$f":"IFERROR(VLOOKUP(INDEX($A:$O,ROW(),MATCH('Rapportage per vraag'!$C$12,'Data leveranciersbeoordeling'!$1:$1,0)),Leveranciersbeoordeling!$H$1:$I$5,2,FALSE),0)","v":0},0]
["",null,null,null,null,null,null,null,null,null,null,null,null,null,null,{"$f":"INDEX($A:$O,ROW(),MATCH('Rapportage per vraag'!$C$12,'Data leveranciersbeoordeling'!$1:$1,0))","v":0},{"$f":"IFERROR(VLOOKUP(INDEX($A:$O,ROW(),MATCH('Rapportage per vraag'!$C$12,'Data leveranciersbeoordeling'!$1:$1,0)),Leveranciersbeoordeling!$H$1:$I$5,2,FALSE),0)","v":0},0]
["",null,null,null,null,null,null,null,null,null,null,null,null,null,null,{"$f":"INDEX($A:$O,ROW(),MATCH('Rapportage per vraag'!$C$12,'Data leveranciersbeoordeling'!$1:$1,0))","v":0},{"$f":"IFERROR(VLOOKUP(INDEX($A:$O,ROW(),MATCH('Rapportage per vraag'!$C$12,'Data leveranciersbeoordeling'!$1:$1,0)),Leveranciersbeoordeling!$H$1:$I$5,2,FALSE),0)","v":0},0]
["",null,null,null,null,null,null,null,null,null,null,null,null,null,null,{"$f":"INDEX($A:$O,ROW(),MATCH('Rapportage per vraag'!$C$12,'Data leveranciersbeoordeling'!$1:$1,0))","v":0},{"$f":"IFERROR(VLOOKUP(INDEX($A:$O,ROW(),MATCH('Rapportage per vraag'!$C$12,'Data leveranciersbeoordeling'!$1:$1,0)),Leveranciersbeoordeling!$H$1:$I$5,2,FALSE),0)","v":0},0]
["",null,null,null,null,null,null,null,null,null,null,null,null,null,null,{"$f":"INDEX($A:$O,ROW(),MATCH('Rapportage per vraag'!$C$12,'Data leveranciersbeoordeling'!$1:$1,0))","v":0},{"$f":"IFERROR(VLOOKUP(INDEX($A:$O,ROW(),MATCH('Rapportage per vraag'!$C$12,'Data leveranciersbeoordeling'!$1:$1,0)),Leveranciersbeoordeling!$H$1:$I$5,2,FALSE),0)","v":0},0]
["",null,null,null,null,null,null,null,null,null,null,null,null,null,null,{"$f":"INDEX($A:$O,ROW(),MATCH('Rapportage per vraag'!$C$12,'Data leveranciersbeoordeling'!$1:$1,0))","v":0},{"$f":"IFERROR(VLOOKUP(INDEX($A:$O,ROW(),MATCH('Rapportage per vraag'!$C$12,'Data leveranciersbeoordeling'!$1:$1,0)),Leveranciersbeoordeling!$H$1:$I$5,2,FALSE),0)","v":0},0]
["",null,null,null,null,null,null,null,null,null,null,null,null,null,null,{"$f":"INDEX($A:$O,ROW(),MATCH('Rapportage per vraag'!$C$12,'Data leveranciersbeoordeling'!$1:$1,0))","v":0},{"$f":"IFERROR(VLOOKUP(INDEX($A:$O,ROW(),MATCH('Rapportage per vraag'!$C$12,'Data leveranciersbeoordeling'!$1:$1,0)),Leveranciersbeoordeling!$H$1:$I$5,2,FALSE),0)","v":0},0]
["",null,null,null,null,null,null,null,null,null,null,null,null,null,null,{"$f":"INDEX($A:$O,ROW(),MATCH('Rapportage per vraag'!$C$12,'Data leveranciersbeoordeling'!$1:$1,0))","v":0},{"$f":"IFERROR(VLOOKUP(INDEX($A:$O,ROW(),MATCH('Rapportage per vraag'!$C$12,'Data leveranciersbeoordeling'!$1:$1,0)),Leveranciersbeoordeling!$H$1:$I$5,2,FALSE),0)","v":0},0]
["",null,null,null,null,null,null,null,null,null,null,null,null,null,null,{"$f":"INDEX($A:$O,ROW(),MATCH('Rapportage per vraag'!$C$12,'Data leveranciersbeoordeling'!$1:$1,0))","v":0},{"$f":"IFERROR(VLOOKUP(INDEX($A:$O,ROW(),MATCH('Rapportage per vraag'!$C$12,'Data leveranciersbeoordeling'!$1:$1,0)),Leveranciersbeoordeling!$H$1:$I$5,2,FALSE),0)","v":0},0]
["",null,null,null,null,null,null,null,null,null,null,null,null,null,null,{"$f":"INDEX($A:$O,ROW(),MATCH('Rapportage per vraag'!$C$12,'Data leveranciersbeoordeling'!$1:$1,0))","v":0},{"$f":"IFERROR(VLOOKUP(INDEX($A:$O,ROW(),MATCH('Rapportage per vraag'!$C$12,'Data leveranciersbeoordeling'!$1:$1,0)),Leveranciersbeoordeling!$H$1:$I$5,2,FALSE),0)","v":0},0]
["",null,null,null,null,null,null,null,null,null,null,null,null,null,null,{"$f":"INDEX($A:$O,ROW(),MATCH('Rapportage per vraag'!$C$12,'Data leveranciersbeoordeling'!$1:$1,0))","v":0},{"$f":"IFERROR(VLOOKUP(INDEX($A:$O,ROW(),MATCH('Rapportage per vraag'!$C$12,'Data leveranciersbeoordeling'!$1:$1,0)),Leveranciersbeoordeling!$H$1:$I$5,2,FALSE),0)","v":0},0]
["",null,null,null,null,null,null,null,null,null,null,null,null,null,null,{"$f":"INDEX($A:$O,ROW(),MATCH('Rapportage per vraag'!$C$12,'Data leveranciersbeoordeling'!$1:$1,0))","v":0},{"$f":"IFERROR(VLOOKUP(INDEX($A:$O,ROW(),MATCH('Rapportage per vraag'!$C$12,'Data leveranciersbeoordeling'!$1:$1,0)),Leveranciersbeoordeling!$H$1:$I$5,2,FALSE),0)","v":0},0]
["",null,null,null,null,null,null,null,null,null,null,null,null,null,null,{"$f":"INDEX($A:$O,ROW(),MATCH('Rapportage per vraag'!$C$12,'Data leveranciersbeoordeling'!$1:$1,0))","v":0},{"$f":"IFERROR(VLOOKUP(INDEX($A:$O,ROW(),MATCH('Rapportage per vraag'!$C$12,'Data leveranciersbeoordeling'!$1:$1,0)),Leveranciersbeoordeling!$H$1:$I$5,2,FALSE),0)","v":0},0]
[{"$f":"CONCATENATE(B1987,C1987,D1987)","v":""},null,null,null,null,null,null,null,null,null,null,null,null,null,null,{"$f":"INDEX($A:$O,ROW(),MATCH('Rapportage per vraag'!$C$12,'Data leveranciersbeoordeling'!$1:$1,0))","v":0},{"$f":"IFERROR(VLOOKUP(INDEX($A:$O,ROW(),MATCH('Rapportage per vraag'!$C$12,'Data leveranciersbeoordeling'!$1:$1,0)),Leveranciersbeoordeling!$H$1:$I$5,2,FALSE),0)","v":0},0]
["",null,null,null,null,null,null,null,null,null,null,null,null,null,null,{"$f":"INDEX($A:$O,ROW(),MATCH('Rapportage per vraag'!$C$12,'Data leveranciersbeoordeling'!$1:$1,0))","v":0},{"$f":"IFERROR(VLOOKUP(INDEX($A:$O,ROW(),MATCH('Rapportage per vraag'!$C$12,'Data leveranciersbeoordeling'!$1:$1,0)),Leveranciersbeoordeling!$H$1:$I$5,2,FALSE),0)","v":0},0]
["",null,null,null,null,null,null,null,null,null,null,null,null,null,null,{"$f":"INDEX($A:$O,ROW(),MATCH('Rapportage per vraag'!$C$12,'Data leveranciersbeoordeling'!$1:$1,0))","v":0},{"$f":"IFERROR(VLOOKUP(INDEX($A:$O,ROW(),MATCH('Rapportage per vraag'!$C$12,'Data leveranciersbeoordeling'!$1:$1,0)),Leveranciersbeoordeling!$H$1:$I$5,2,FALSE),0)","v":0},0]
["",null,null,null,null,null,null,null,null,null,null,null,null,null,null,{"$f":"INDEX($A:$O,ROW(),MATCH('Rapportage per vraag'!$C$12,'Data leveranciersbeoordeling'!$1:$1,0))","v":0},{"$f":"IFERROR(VLOOKUP(INDEX($A:$O,ROW(),MATCH('Rapportage per vraag'!$C$12,'Data leveranciersbeoordeling'!$1:$1,0)),Leveranciersbeoordeling!$H$1:$I$5,2,FALSE),0)","v":0},{"$f":"IF(T(P1990)=P1990,Q1990,P1990)","v":0}]
["",null,null,null,null,null,null,null,null,null,null,null,null,null,null,{"$f":"INDEX($A:$O,ROW(),MATCH('Rapportage per vraag'!$C$12,'Data leveranciersbeoordeling'!$1:$1,0))","v":0},{"$f":"IFERROR(VLOOKUP(INDEX($A:$O,ROW(),MATCH('Rapportage per vraag'!$C$12,'Data leveranciersbeoordeling'!$1:$1,0)),Leveranciersbeoordeling!$H$1:$I$5,2,FALSE),0)","v":0},0]
["",null,null,null,null,null,null,null,null,null,null,null,null,null,null,{"$f":"INDEX($A:$O,ROW(),MATCH('Rapportage per vraag'!$C$12,'Data leveranciersbeoordeling'!$1:$1,0))","v":0},{"$f":"IFERROR(VLOOKUP(INDEX($A:$O,ROW(),MATCH('Rapportage per vraag'!$C$12,'Data leveranciersbeoordeling'!$1:$1,0)),Leveranciersbeoordeling!$H$1:$I$5,2,FALSE),0)","v":0},0]
["",null,null,null,null,null,null,null,null,null,null,null,null,null,null,{"$f":"INDEX($A:$O,ROW(),MATCH('Rapportage per vraag'!$C$12,'Data leveranciersbeoordeling'!$1:$1,0))","v":0},{"$f":"IFERROR(VLOOKUP(INDEX($A:$O,ROW(),MATCH('Rapportage per vraag'!$C$12,'Data leveranciersbeoordeling'!$1:$1,0)),Leveranciersbeoordeling!$H$1:$I$5,2,FALSE),0)","v":0},0]
["",null,null,null,null,null,null,null,null,null,null,null,null,null,null,{"$f":"INDEX($A:$O,ROW(),MATCH('Rapportage per vraag'!$C$12,'Data leveranciersbeoordeling'!$1:$1,0))","v":0},{"$f":"IFERROR(VLOOKUP(INDEX($A:$O,ROW(),MATCH('Rapportage per vraag'!$C$12,'Data leveranciersbeoordeling'!$1:$1,0)),Leveranciersbeoordeling!$H$1:$I$5,2,FALSE),0)","v":0},0]
["",null,null,null,null,null,null,null,null,null,null,null,null,null,null,{"$f":"INDEX($A:$O,ROW(),MATCH('Rapportage per vraag'!$C$12,'Data leveranciersbeoordeling'!$1:$1,0))","v":0},{"$f":"IFERROR(VLOOKUP(INDEX($A:$O,ROW(),MATCH('Rapportage per vraag'!$C$12,'Data leveranciersbeoordeling'!$1:$1,0)),Leveranciersbeoordeling!$H$1:$I$5,2,FALSE),0)","v":0},0]
["",null,null,null,null,null,null,null,null,null,null,null,null,null,null,{"$f":"INDEX($A:$O,ROW(),MATCH('Rapportage per vraag'!$C$12,'Data leveranciersbeoordeling'!$1:$1,0))","v":0},{"$f":"IFERROR(VLOOKUP(INDEX($A:$O,ROW(),MATCH('Rapportage per vraag'!$C$12,'Data leveranciersbeoordeling'!$1:$1,0)),Leveranciersbeoordeling!$H$1:$I$5,2,FALSE),0)","v":0},0]
["",null,null,null,null,null,null,null,null,null,null,null,null,null,null,{"$f":"INDEX($A:$O,ROW(),MATCH('Rapportage per vraag'!$C$12,'Data leveranciersbeoordeling'!$1:$1,0))","v":0},{"$f":"IFERROR(VLOOKUP(INDEX($A:$O,ROW(),MATCH('Rapportage per vraag'!$C$12,'Data leveranciersbeoordeling'!$1:$1,0)),Leveranciersbeoordeling!$H$1:$I$5,2,FALSE),0)","v":0},0]
["",null,null,null,null,null,null,null,null,null,null,null,null,null,null,{"$f":"INDEX($A:$O,ROW(),MATCH('Rapportage per vraag'!$C$12,'Data leveranciersbeoordeling'!$1:$1,0))","v":0},{"$f":"IFERROR(VLOOKUP(INDEX($A:$O,ROW(),MATCH('Rapportage per vraag'!$C$12,'Data leveranciersbeoordeling'!$1:$1,0)),Leveranciersbeoordeling!$H$1:$I$5,2,FALSE),0)","v":0},0]
["",null,null,null,null,null,null,null,null,null,null,null,null,null,null,{"$f":"INDEX($A:$O,ROW(),MATCH('Rapportage per vraag'!$C$12,'Data leveranciersbeoordeling'!$1:$1,0))","v":0},{"$f":"IFERROR(VLOOKUP(INDEX($A:$O,ROW(),MATCH('Rapportage per vraag'!$C$12,'Data leveranciersbeoordeling'!$1:$1,0)),Leveranciersbeoordeling!$H$1:$I$5,2,FALSE),0)","v":0},0]
["",null,null,null,null,null,null,null,null,null,null,null,null,null,null,{"$f":"INDEX($A:$O,ROW(),MATCH('Rapportage per vraag'!$C$12,'Data leveranciersbeoordeling'!$1:$1,0))","v":0},{"$f":"IFERROR(VLOOKUP(INDEX($A:$O,ROW(),MATCH('Rapportage per vraag'!$C$12,'Data leveranciersbeoordeling'!$1:$1,0)),Leveranciersbeoordeling!$H$1:$I$5,2,FALSE),0)","v":0},0]
["",null,null,null,null,null,null,null,null,null,null,null,null,null,null,{"$f":"INDEX($A:$O,ROW(),MATCH('Rapportage per vraag'!$C$12,'Data leveranciersbeoordeling'!$1:$1,0))","v":0},{"$f":"IFERROR(VLOOKUP(INDEX($A:$O,ROW(),MATCH('Rapportage per vraag'!$C$12,'Data leveranciersbeoordeling'!$1:$1,0)),Leveranciersbeoordeling!$H$1:$I$5,2,FALSE),0)","v":0},0]
["",null,null,null,null,null,null,null,null,null,null,null,null,null,null,{"$f":"INDEX($A:$O,ROW(),MATCH('Rapportage per vraag'!$C$12,'Data leveranciersbeoordeling'!$1:$1,0))","v":0},{"$f":"IFERROR(VLOOKUP(INDEX($A:$O,ROW(),MATCH('Rapportage per vraag'!$C$12,'Data leveranciersbeoordeling'!$1:$1,0)),Leveranciersbeoordeling!$H$1:$I$5,2,FALSE),0)","v":0},0]
["",null,null,null,null,null,null,null,null,null,null,null,null,null,null,{"$f":"INDEX($A:$O,ROW(),MATCH('Rapportage per vraag'!$C$12,'Data leveranciersbeoordeling'!$1:$1,0))","v":0},{"$f":"IFERROR(VLOOKUP(INDEX($A:$O,ROW(),MATCH('Rapportage per vraag'!$C$12,'Data leveranciersbeoordeling'!$1:$1,0)),Leveranciersbeoordeling!$H$1:$I$5,2,FALSE),0)","v":0},0]
["",null,null,null,null,null,null,null,null,null,null,null,null,null,null,{"$f":"INDEX($A:$O,ROW(),MATCH('Rapportage per vraag'!$C$12,'Data leveranciersbeoordeling'!$1:$1,0))","v":0},{"$f":"IFERROR(VLOOKUP(INDEX($A:$O,ROW(),MATCH('Rapportage per vraag'!$C$12,'Data leveranciersbeoordeling'!$1:$1,0)),Leveranciersbeoordeling!$H$1:$I$5,2,FALSE),0)","v":0},0]
["",null,null,null,null,null,null,null,null,null,null,null,null,null,null,{"$f":"INDEX($A:$O,ROW(),MATCH('Rapportage per vraag'!$C$12,'Data leveranciersbeoordeling'!$1:$1,0))","v":0},{"$f":"IFERROR(VLOOKUP(INDEX($A:$O,ROW(),MATCH('Rapportage per vraag'!$C$12,'Data leveranciersbeoordeling'!$1:$1,0)),Leveranciersbeoordeling!$H$1:$I$5,2,FALSE),0)","v":0},0]
["",null,null,null,null,null,null,null,null,null,null,null,null,null,null,{"$f":"INDEX($A:$O,ROW(),MATCH('Rapportage per vraag'!$C$12,'Data leveranciersbeoordeling'!$1:$1,0))","v":0},{"$f":"IFERROR(VLOOKUP(INDEX($A:$O,ROW(),MATCH('Rapportage per vraag'!$C$12,'Data leveranciersbeoordeling'!$1:$1,0)),Leveranciersbeoordeling!$H$1:$I$5,2,FALSE),0)","v":0},0]
["",null,null,null,null,null,null,null,null,null,null,null,null,null,null,{"$f":"INDEX($A:$O,ROW(),MATCH('Rapportage per vraag'!$C$12,'Data leveranciersbeoordeling'!$1:$1,0))","v":0},{"$f":"IFERROR(VLOOKUP(INDEX($A:$O,ROW(),MATCH('Rapportage per vraag'!$C$12,'Data leveranciersbeoordeling'!$1:$1,0)),Leveranciersbeoordeling!$H$1:$I$5,2,FALSE),0)","v":0},0]
["",null,null,null,null,null,null,null,null,null,null,null,null,null,null,{"$f":"INDEX($A:$O,ROW(),MATCH('Rapportage per vraag'!$C$12,'Data leveranciersbeoordeling'!$1:$1,0))","v":0},{"$f":"IFERROR(VLOOKUP(INDEX($A:$O,ROW(),MATCH('Rapportage per vraag'!$C$12,'Data leveranciersbeoordeling'!$1:$1,0)),Leveranciersbeoordeling!$H$1:$I$5,2,FALSE),0)","v":0},0]
["",null,null,null,null,null,null,null,null,null,null,null,null,null,null,{"$f":"INDEX($A:$O,ROW(),MATCH('Rapportage per vraag'!$C$12,'Data leveranciersbeoordeling'!$1:$1,0))","v":0},{"$f":"IFERROR(VLOOKUP(INDEX($A:$O,ROW(),MATCH('Rapportage per vraag'!$C$12,'Data leveranciersbeoordeling'!$1:$1,0)),Leveranciersbeoordeling!$H$1:$I$5,2,FALSE),0)","v":0},0]
["",null,null,null,null,null,null,null,null,null,null,null,null,null,null,{"$f":"INDEX($A:$O,ROW(),MATCH('Rapportage per vraag'!$C$12,'Data leveranciersbeoordeling'!$1:$1,0))","v":0},{"$f":"IFERROR(VLOOKUP(INDEX($A:$O,ROW(),MATCH('Rapportage per vraag'!$C$12,'Data leveranciersbeoordeling'!$1:$1,0)),Leveranciersbeoordeling!$H$1:$I$5,2,FALSE),0)","v":0},0]
["",null,null,null,null,null,null,null,null,null,null,null,null,null,null,{"$f":"INDEX($A:$O,ROW(),MATCH('Rapportage per vraag'!$C$12,'Data leveranciersbeoordeling'!$1:$1,0))","v":0},{"$f":"IFERROR(VLOOKUP(INDEX($A:$O,ROW(),MATCH('Rapportage per vraag'!$C$12,'Data leveranciersbeoordeling'!$1:$1,0)),Leveranciersbeoordeling!$H$1:$I$5,2,FALSE),0)","v":0},0]
["",null,null,null,null,null,null,null,null,null,null,null,null,null,null,{"$f":"INDEX($A:$O,ROW(),MATCH('Rapportage per vraag'!$C$12,'Data leveranciersbeoordeling'!$1:$1,0))","v":0},{"$f":"IFERROR(VLOOKUP(INDEX($A:$O,ROW(),MATCH('Rapportage per vraag'!$C$12,'Data leveranciersbeoordeling'!$1:$1,0)),Leveranciersbeoordeling!$H$1:$I$5,2,FALSE),0)","v":0},0]
["",null,null,null,null,null,null,null,null,null,null,null,null,null,null,{"$f":"INDEX($A:$O,ROW(),MATCH('Rapportage per vraag'!$C$12,'Data leveranciersbeoordeling'!$1:$1,0))","v":0},{"$f":"IFERROR(VLOOKUP(INDEX($A:$O,ROW(),MATCH('Rapportage per vraag'!$C$12,'Data leveranciersbeoordeling'!$1:$1,0)),Leveranciersbeoordeling!$H$1:$I$5,2,FALSE),0)","v":0},0]
[{"$f":"CONCATENATE(B2051,C2051,D2051)","v":""},null,null,null,null,null,null,null,null,null,null,null,null,null,null,{"$f":"INDEX($A:$O,ROW(),MATCH('Rapportage per vraag'!$C$12,'Data leveranciersbeoordeling'!$1:$1,0))","v":0},{"$f":"IFERROR(VLOOKUP(INDEX($A:$O,ROW(),MATCH('Rapportage per vraag'!$C$12,'Data leveranciersbeoordeling'!$1:$1,0)),Leveranciersbeoordeling!$H$1:$I$5,2,FALSE),0)","v":0},0]
["",null,null,null,null,null,null,null,null,null,null,null,null,null,null,{"$f":"INDEX($A:$O,ROW(),MATCH('Rapportage per vraag'!$C$12,'Data leveranciersbeoordeling'!$1:$1,0))","v":0},{"$f":"IFERROR(VLOOKUP(INDEX($A:$O,ROW(),MATCH('Rapportage per vraag'!$C$12,'Data leveranciersbeoordeling'!$1:$1,0)),Leveranciersbeoordeling!$H$1:$I$5,2,FALSE),0)","v":0},0]
["",null,null,null,null,null,null,null,null,null,null,null,null,null,null,{"$f":"INDEX($A:$O,ROW(),MATCH('Rapportage per vraag'!$C$12,'Data leveranciersbeoordeling'!$1:$1,0))","v":0},{"$f":"IFERROR(VLOOKUP(INDEX($A:$O,ROW(),MATCH('Rapportage per vraag'!$C$12,'Data leveranciersbeoordeling'!$1:$1,0)),Leveranciersbeoordeling!$H$1:$I$5,2,FALSE),0)","v":0},0]
["",null,null,null,null,null,null,null,null,null,null,null,null,null,null,{"$f":"INDEX($A:$O,ROW(),MATCH('Rapportage per vraag'!$C$12,'Data leveranciersbeoordeling'!$1:$1,0))","v":0},{"$f":"IFERROR(VLOOKUP(INDEX($A:$O,ROW(),MATCH('Rapportage per vraag'!$C$12,'Data leveranciersbeoordeling'!$1:$1,0)),Leveranciersbeoordeling!$H$1:$I$5,2,FALSE),0)","v":0},0]
["",null,null,null,null,null,null,null,null,null,null,null,null,null,null,{"$f":"INDEX($A:$O,ROW(),MATCH('Rapportage per vraag'!$C$12,'Data leveranciersbeoordeling'!$1:$1,0))","v":0},{"$f":"IFERROR(VLOOKUP(INDEX($A:$O,ROW(),MATCH('Rapportage per vraag'!$C$12,'Data leveranciersbeoordeling'!$1:$1,0)),Leveranciersbeoordeling!$H$1:$I$5,2,FALSE),0)","v":0},0]
["",null,null,null,null,null,null,null,null,null,null,null,null,null,null,{"$f":"INDEX($A:$O,ROW(),MATCH('Rapportage per vraag'!$C$12,'Data leveranciersbeoordeling'!$1:$1,0))","v":0},{"$f":"IFERROR(VLOOKUP(INDEX($A:$O,ROW(),MATCH('Rapportage per vraag'!$C$12,'Data leveranciersbeoordeling'!$1:$1,0)),Leveranciersbeoordeling!$H$1:$I$5,2,FALSE),0)","v":0},0]
["",null,null,null,null,null,null,null,null,null,null,null,null,null,null,{"$f":"INDEX($A:$O,ROW(),MATCH('Rapportage per vraag'!$C$12,'Data leveranciersbeoordeling'!$1:$1,0))","v":0},{"$f":"IFERROR(VLOOKUP(INDEX($A:$O,ROW(),MATCH('Rapportage per vraag'!$C$12,'Data leveranciersbeoordeling'!$1:$1,0)),Leveranciersbeoordeling!$H$1:$I$5,2,FALSE),0)","v":0},0]
["",null,null,null,null,null,null,null,null,null,null,null,null,null,null,{"$f":"INDEX($A:$O,ROW(),MATCH('Rapportage per vraag'!$C$12,'Data leveranciersbeoordeling'!$1:$1,0))","v":0},{"$f":"IFERROR(VLOOKUP(INDEX($A:$O,ROW(),MATCH('Rapportage per vraag'!$C$12,'Data leveranciersbeoordeling'!$1:$1,0)),Leveranciersbeoordeling!$H$1:$I$5,2,FALSE),0)","v":0},0]
["",null,null,null,null,null,null,null,null,null,null,null,null,null,null,{"$f":"INDEX($A:$O,ROW(),MATCH('Rapportage per vraag'!$C$12,'Data leveranciersbeoordeling'!$1:$1,0))","v":0},{"$f":"IFERROR(VLOOKUP(INDEX($A:$O,ROW(),MATCH('Rapportage per vraag'!$C$12,'Data leveranciersbeoordeling'!$1:$1,0)),Leveranciersbeoordeling!$H$1:$I$5,2,FALSE),0)","v":0},0]
["",null,null,null,null,null,null,null,null,null,null,null,null,null,null,{"$f":"INDEX($A:$O,ROW(),MATCH('Rapportage per vraag'!$C$12,'Data leveranciersbeoordeling'!$1:$1,0))","v":0},{"$f":"IFERROR(VLOOKUP(INDEX($A:$O,ROW(),MATCH('Rapportage per vraag'!$C$12,'Data leveranciersbeoordeling'!$1:$1,0)),Leveranciersbeoordeling!$H$1:$I$5,2,FALSE),0)","v":0},0]
["",null,null,null,null,null,null,null,null,null,null,null,null,null,null,{"$f":"INDEX($A:$O,ROW(),MATCH('Rapportage per vraag'!$C$12,'Data leveranciersbeoordeling'!$1:$1,0))","v":0},{"$f":"IFERROR(VLOOKUP(INDEX($A:$O,ROW(),MATCH('Rapportage per vraag'!$C$12,'Data leveranciersbeoordeling'!$1:$1,0)),Leveranciersbeoordeling!$H$1:$I$5,2,FALSE),0)","v":0},0]
["",null,null,null,null,null,null,null,null,null,null,null,null,null,null,{"$f":"INDEX($A:$O,ROW(),MATCH('Rapportage per vraag'!$C$12,'Data leveranciersbeoordeling'!$1:$1,0))","v":0},{"$f":"IFERROR(VLOOKUP(INDEX($A:$O,ROW(),MATCH('Rapportage per vraag'!$C$12,'Data leveranciersbeoordeling'!$1:$1,0)),Leveranciersbeoordeling!$H$1:$I$5,2,FALSE),0)","v":0},0]
["",null,null,null,null,null,null,null,null,null,null,null,null,null,null,{"$f":"INDEX($A:$O,ROW(),MATCH('Rapportage per vraag'!$C$12,'Data leveranciersbeoordeling'!$1:$1,0))","v":0},{"$f":"IFERROR(VLOOKUP(INDEX($A:$O,ROW(),MATCH('Rapportage per vraag'!$C$12,'Data leveranciersbeoordeling'!$1:$1,0)),Leveranciersbeoordeling!$H$1:$I$5,2,FALSE),0)","v":0},0]
["",null,null,null,null,null,null,null,null,null,null,null,null,null,null,{"$f":"INDEX($A:$O,ROW(),MATCH('Rapportage per vraag'!$C$12,'Data leveranciersbeoordeling'!$1:$1,0))","v":0},{"$f":"IFERROR(VLOOKUP(INDEX($A:$O,ROW(),MATCH('Rapportage per vraag'!$C$12,'Data leveranciersbeoordeling'!$1:$1,0)),Leveranciersbeoordeling!$H$1:$I$5,2,FALSE),0)","v":0},0]
["",null,null,null,null,null,null,null,null,null,null,null,null,null,null,{"$f":"INDEX($A:$O,ROW(),MATCH('Rapportage per vraag'!$C$12,'Data leveranciersbeoordeling'!$1:$1,0))","v":0},{"$f":"IFERROR(VLOOKUP(INDEX($A:$O,ROW(),MATCH('Rapportage per vraag'!$C$12,'Data leveranciersbeoordeling'!$1:$1,0)),Leveranciersbeoordeling!$H$1:$I$5,2,FALSE),0)","v":0},0]
["",null,null,null,null,null,null,null,null,null,null,null,null,null,null,{"$f":"INDEX($A:$O,ROW(),MATCH('Rapportage per vraag'!$C$12,'Data leveranciersbeoordeling'!$1:$1,0))","v":0},{"$f":"IFERROR(VLOOKUP(INDEX($A:$O,ROW(),MATCH('Rapportage per vraag'!$C$12,'Data leveranciersbeoordeling'!$1:$1,0)),Leveranciersbeoordeling!$H$1:$I$5,2,FALSE),0)","v":0},0]
["",null,null,null,null,null,null,null,null,null,null,null,null,null,null,{"$f":"INDEX($A:$O,ROW(),MATCH('Rapportage per vraag'!$C$12,'Data leveranciersbeoordeling'!$1:$1,0))","v":0},{"$f":"IFERROR(VLOOKUP(INDEX($A:$O,ROW(),MATCH('Rapportage per vraag'!$C$12,'Data leveranciersbeoordeling'!$1:$1,0)),Leveranciersbeoordeling!$H$1:$I$5,2,FALSE),0)","v":0},0]
["",null,null,null,null,null,null,null,null,null,null,null,null,null,null,{"$f":"INDEX($A:$O,ROW(),MATCH('Rapportage per vraag'!$C$12,'Data leveranciersbeoordeling'!$1:$1,0))","v":0},{"$f":"IFERROR(VLOOKUP(INDEX($A:$O,ROW(),MATCH('Rapportage per vraag'!$C$12,'Data leveranciersbeoordeling'!$1:$1,0)),Leveranciersbeoordeling!$H$1:$I$5,2,FALSE),0)","v":0},0]
["",null,null,null,null,null,null,null,null,null,null,null,null,null,null,{"$f":"INDEX($A:$O,ROW(),MATCH('Rapportage per vraag'!$C$12,'Data leveranciersbeoordeling'!$1:$1,0))","v":0},{"$f":"IFERROR(VLOOKUP(INDEX($A:$O,ROW(),MATCH('Rapportage per vraag'!$C$12,'Data leveranciersbeoordeling'!$1:$1,0)),Leveranciersbeoordeling!$H$1:$I$5,2,FALSE),0)","v":0},0]
["",null,null,null,null,null,null,null,null,null,null,null,null,null,null,{"$f":"INDEX($A:$O,ROW(),MATCH('Rapportage per vraag'!$C$12,'Data leveranciersbeoordeling'!$1:$1,0))","v":0},{"$f":"IFERROR(VLOOKUP(INDEX($A:$O,ROW(),MATCH('Rapportage per vraag'!$C$12,'Data leveranciersbeoordeling'!$1:$1,0)),Leveranciersbeoordeling!$H$1:$I$5,2,FALSE),0)","v":0},0]
["",null,null,null,null,null,null,null,null,null,null,null,null,null,null,{"$f":"INDEX($A:$O,ROW(),MATCH('Rapportage per vraag'!$C$12,'Data leveranciersbeoordeling'!$1:$1,0))","v":0},{"$f":"IFERROR(VLOOKUP(INDEX($A:$O,ROW(),MATCH('Rapportage per vraag'!$C$12,'Data leveranciersbeoordeling'!$1:$1,0)),Leveranciersbeoordeling!$H$1:$I$5,2,FALSE),0)","v":0},0]
["",null,null,null,null,null,null,null,null,null,null,null,null,null,null,{"$f":"INDEX($A:$O,ROW(),MATCH('Rapportage per vraag'!$C$12,'Data leveranciersbeoordeling'!$1:$1,0))","v":0},{"$f":"IFERROR(VLOOKUP(INDEX($A:$O,ROW(),MATCH('Rapportage per vraag'!$C$12,'Data leveranciersbeoordeling'!$1:$1,0)),Leveranciersbeoordeling!$H$1:$I$5,2,FALSE),0)","v":0},0]
["",null,null,null,null,null,null,null,null,null,null,null,null,null,null,{"$f":"INDEX($A:$O,ROW(),MATCH('Rapportage per vraag'!$C$12,'Data leveranciersbeoordeling'!$1:$1,0))","v":0},{"$f":"IFERROR(VLOOKUP(INDEX($A:$O,ROW(),MATCH('Rapportage per vraag'!$C$12,'Data leveranciersbeoordeling'!$1:$1,0)),Leveranciersbeoordeling!$H$1:$I$5,2,FALSE),0)","v":0},0]
["",null,null,null,null,null,null,null,null,null,null,null,null,null,null,{"$f":"INDEX($A:$O,ROW(),MATCH('Rapportage per vraag'!$C$12,'Data leveranciersbeoordeling'!$1:$1,0))","v":0},{"$f":"IFERROR(VLOOKUP(INDEX($A:$O,ROW(),MATCH('Rapportage per vraag'!$C$12,'Data leveranciersbeoordeling'!$1:$1,0)),Leveranciersbeoordeling!$H$1:$I$5,2,FALSE),0)","v":0},0]
["",null,null,null,null,null,null,null,null,null,null,null,null,null,null,{"$f":"INDEX($A:$O,ROW(),MATCH('Rapportage per vraag'!$C$12,'Data leveranciersbeoordeling'!$1:$1,0))","v":0},{"$f":"IFERROR(VLOOKUP(INDEX($A:$O,ROW(),MATCH('Rapportage per vraag'!$C$12,'Data leveranciersbeoordeling'!$1:$1,0)),Leveranciersbeoordeling!$H$1:$I$5,2,FALSE),0)","v":0},0]
["",null,null,null,null,null,null,null,null,null,null,null,null,null,null,{"$f":"INDEX($A:$O,ROW(),MATCH('Rapportage per vraag'!$C$12,'Data leveranciersbeoordeling'!$1:$1,0))","v":0},{"$f":"IFERROR(VLOOKUP(INDEX($A:$O,ROW(),MATCH('Rapportage per vraag'!$C$12,'Data leveranciersbeoordeling'!$1:$1,0)),Leveranciersbeoordeling!$H$1:$I$5,2,FALSE),0)","v":0},0]
["",null,null,null,null,null,null,null,null,null,null,null,null,null,null,{"$f":"INDEX($A:$O,ROW(),MATCH('Rapportage per vraag'!$C$12,'Data leveranciersbeoordeling'!$1:$1,0))","v":0},{"$f":"IFERROR(VLOOKUP(INDEX($A:$O,ROW(),MATCH('Rapportage per vraag'!$C$12,'Data leveranciersbeoordeling'!$1:$1,0)),Leveranciersbeoordeling!$H$1:$I$5,2,FALSE),0)","v":0},0]
["",null,null,null,null,null,null,null,null,null,null,null,null,null,null,{"$f":"INDEX($A:$O,ROW(),MATCH('Rapportage per vraag'!$C$12,'Data leveranciersbeoordeling'!$1:$1,0))","v":0},{"$f":"IFERROR(VLOOKUP(INDEX($A:$O,ROW(),MATCH('Rapportage per vraag'!$C$12,'Data leveranciersbeoordeling'!$1:$1,0)),Leveranciersbeoordeling!$H$1:$I$5,2,FALSE),0)","v":0},0]
["",null,null,null,null,null,null,null,null,null,null,null,null,null,null,{"$f":"INDEX($A:$O,ROW(),MATCH('Rapportage per vraag'!$C$12,'Data leveranciersbeoordeling'!$1:$1,0))","v":0},{"$f":"IFERROR(VLOOKUP(INDEX($A:$O,ROW(),MATCH('Rapportage per vraag'!$C$12,'Data leveranciersbeoordeling'!$1:$1,0)),Leveranciersbeoordeling!$H$1:$I$5,2,FALSE),0)","v":0},0]
["",null,null,null,null,null,null,null,null,null,null,null,null,null,null,{"$f":"INDEX($A:$O,ROW(),MATCH('Rapportage per vraag'!$C$12,'Data leveranciersbeoordeling'!$1:$1,0))","v":0},{"$f":"IFERROR(VLOOKUP(INDEX($A:$O,ROW(),MATCH('Rapportage per vraag'!$C$12,'Data leveranciersbeoordeling'!$1:$1,0)),Leveranciersbeoordeling!$H$1:$I$5,2,FALSE),0)","v":0},0]
["",null,null,null,null,null,null,null,null,null,null,null,null,null,null,{"$f":"INDEX($A:$O,ROW(),MATCH('Rapportage per vraag'!$C$12,'Data leveranciersbeoordeling'!$1:$1,0))","v":0},{"$f":"IFERROR(VLOOKUP(INDEX($A:$O,ROW(),MATCH('Rapportage per vraag'!$C$12,'Data leveranciersbeoordeling'!$1:$1,0)),Leveranciersbeoordeling!$H$1:$I$5,2,FALSE),0)","v":0},0]
["",null,null,null,null,null,null,null,null,null,null,null,null,null,null,{"$f":"INDEX($A:$O,ROW(),MATCH('Rapportage per vraag'!$C$12,'Data leveranciersbeoordeling'!$1:$1,0))","v":0},{"$f":"IFERROR(VLOOKUP(INDEX($A:$O,ROW(),MATCH('Rapportage per vraag'!$C$12,'Data leveranciersbeoordeling'!$1:$1,0)),Leveranciersbeoordeling!$H$1:$I$5,2,FALSE),0)","v":0},0]
["",null,null,null,null,null,null,null,null,null,null,null,null,null,null,{"$f":"INDEX($A:$O,ROW(),MATCH('Rapportage per vraag'!$C$12,'Data leveranciersbeoordeling'!$1:$1,0))","v":0},{"$f":"IFERROR(VLOOKUP(INDEX($A:$O,ROW(),MATCH('Rapportage per vraag'!$C$12,'Data leveranciersbeoordeling'!$1:$1,0)),Leveranciersbeoordeling!$H$1:$I$5,2,FALSE),0)","v":0},0]
["",null,null,null,null,null,null,null,null,null,null,null,null,null,null,{"$f":"INDEX($A:$O,ROW(),MATCH('Rapportage per vraag'!$C$12,'Data leveranciersbeoordeling'!$1:$1,0))","v":0},{"$f":"IFERROR(VLOOKUP(INDEX($A:$O,ROW(),MATCH('Rapportage per vraag'!$C$12,'Data leveranciersbeoordeling'!$1:$1,0)),Leveranciersbeoordeling!$H$1:$I$5,2,FALSE),0)","v":0},0]
["",null,null,null,null,null,null,null,null,null,null,null,null,null,null,{"$f":"INDEX($A:$O,ROW(),MATCH('Rapportage per vraag'!$C$12,'Data leveranciersbeoordeling'!$1:$1,0))","v":0},{"$f":"IFERROR(VLOOKUP(INDEX($A:$O,ROW(),MATCH('Rapportage per vraag'!$C$12,'Data leveranciersbeoordeling'!$1:$1,0)),Leveranciersbeoordeling!$H$1:$I$5,2,FALSE),0)","v":0},0]
["",null,null,null,null,null,null,null,null,null,null,null,null,null,null,{"$f":"INDEX($A:$O,ROW(),MATCH('Rapportage per vraag'!$C$12,'Data leveranciersbeoordeling'!$1:$1,0))","v":0},{"$f":"IFERROR(VLOOKUP(INDEX($A:$O,ROW(),MATCH('Rapportage per vraag'!$C$12,'Data leveranciersbeoordeling'!$1:$1,0)),Leveranciersbeoordeling!$H$1:$I$5,2,FALSE),0)","v":0},{"$f":"IF(T(P2182)=P2182,Q2182,P2182)","v":0}]
["",null,null,null,null,null,null,null,null,null,null,null,null,null,null,{"$f":"INDEX($A:$O,ROW(),MATCH('Rapportage per vraag'!$C$12,'Data leveranciersbeoordeling'!$1:$1,0))","v":0},{"$f":"IFERROR(VLOOKUP(INDEX($A:$O,ROW(),MATCH('Rapportage per vraag'!$C$12,'Data leveranciersbeoordeling'!$1:$1,0)),Leveranciersbeoordeling!$H$1:$I$5,2,FALSE),0)","v":0},0]
["",null,null,null,null,null,null,null,null,null,null,null,null,null,null,{"$f":"INDEX($A:$O,ROW(),MATCH('Rapportage per vraag'!$C$12,'Data leveranciersbeoordeling'!$1:$1,0))","v":0},{"$f":"IFERROR(VLOOKUP(INDEX($A:$O,ROW(),MATCH('Rapportage per vraag'!$C$12,'Data leveranciersbeoordeling'!$1:$1,0)),Leveranciersbeoordeling!$H$1:$I$5,2,FALSE),0)","v":0},0]
["",null,null,null,null,null,null,null,null,null,null,null,null,null,null,{"$f":"INDEX($A:$O,ROW(),MATCH('Rapportage per vraag'!$C$12,'Data leveranciersbeoordeling'!$1:$1,0))","v":0},{"$f":"IFERROR(VLOOKUP(INDEX($A:$O,ROW(),MATCH('Rapportage per vraag'!$C$12,'Data leveranciersbeoordeling'!$1:$1,0)),Leveranciersbeoordeling!$H$1:$I$5,2,FALSE),0)","v":0},0]
["",null,null,null,null,null,null,null,null,null,null,null,null,null,null,{"$f":"INDEX($A:$O,ROW(),MATCH('Rapportage per vraag'!$C$12,'Data leveranciersbeoordeling'!$1:$1,0))","v":0},{"$f":"IFERROR(VLOOKUP(INDEX($A:$O,ROW(),MATCH('Rapportage per vraag'!$C$12,'Data leveranciersbeoordeling'!$1:$1,0)),Leveranciersbeoordeling!$H$1:$I$5,2,FALSE),0)","v":0},0]
["",null,null,null,null,null,null,null,null,null,null,null,null,null,null,{"$f":"INDEX($A:$O,ROW(),MATCH('Rapportage per vraag'!$C$12,'Data leveranciersbeoordeling'!$1:$1,0))","v":0},{"$f":"IFERROR(VLOOKUP(INDEX($A:$O,ROW(),MATCH('Rapportage per vraag'!$C$12,'Data leveranciersbeoordeling'!$1:$1,0)),Leveranciersbeoordeling!$H$1:$I$5,2,FALSE),0)","v":0},0]
["",null,null,null,null,null,null,null,null,null,null,null,null,null,null,{"$f":"INDEX($A:$O,ROW(),MATCH('Rapportage per vraag'!$C$12,'Data leveranciersbeoordeling'!$1:$1,0))","v":0},{"$f":"IFERROR(VLOOKUP(INDEX($A:$O,ROW(),MATCH('Rapportage per vraag'!$C$12,'Data leveranciersbeoordeling'!$1:$1,0)),Leveranciersbeoordeling!$H$1:$I$5,2,FALSE),0)","v":0},0]
["",null,null,null,null,null,null,null,null,null,null,null,null,null,null,{"$f":"INDEX($A:$O,ROW(),MATCH('Rapportage per vraag'!$C$12,'Data leveranciersbeoordeling'!$1:$1,0))","v":0},{"$f":"IFERROR(VLOOKUP(INDEX($A:$O,ROW(),MATCH('Rapportage per vraag'!$C$12,'Data leveranciersbeoordeling'!$1:$1,0)),Leveranciersbeoordeling!$H$1:$I$5,2,FALSE),0)","v":0},0]
["",null,null,null,null,null,null,null,null,null,null,null,null,null,null,{"$f":"INDEX($A:$O,ROW(),MATCH('Rapportage per vraag'!$C$12,'Data leveranciersbeoordeling'!$1:$1,0))","v":0},{"$f":"IFERROR(VLOOKUP(INDEX($A:$O,ROW(),MATCH('Rapportage per vraag'!$C$12,'Data leveranciersbeoordeling'!$1:$1,0)),Leveranciersbeoordeling!$H$1:$I$5,2,FALSE),0)","v":0},0]
["",null,null,null,null,null,null,null,null,null,null,null,null,null,null,{"$f":"INDEX($A:$O,ROW(),MATCH('Rapportage per vraag'!$C$12,'Data leveranciersbeoordeling'!$1:$1,0))","v":0},{"$f":"IFERROR(VLOOKUP(INDEX($A:$O,ROW(),MATCH('Rapportage per vraag'!$C$12,'Data leveranciersbeoordeling'!$1:$1,0)),Leveranciersbeoordeling!$H$1:$I$5,2,FALSE),0)","v":0},0]
["",null,null,null,null,null,null,null,null,null,null,null,null,null,null,{"$f":"INDEX($A:$O,ROW(),MATCH('Rapportage per vraag'!$C$12,'Data leveranciersbeoordeling'!$1:$1,0))","v":0},{"$f":"IFERROR(VLOOKUP(INDEX($A:$O,ROW(),MATCH('Rapportage per vraag'!$C$12,'Data leveranciersbeoordeling'!$1:$1,0)),Leveranciersbeoordeling!$H$1:$I$5,2,FALSE),0)","v":0},0]
["",null,null,null,null,null,null,null,null,null,null,null,null,null,null,{"$f":"INDEX($A:$O,ROW(),MATCH('Rapportage per vraag'!$C$12,'Data leveranciersbeoordeling'!$1:$1,0))","v":0},{"$f":"IFERROR(VLOOKUP(INDEX($A:$O,ROW(),MATCH('Rapportage per vraag'!$C$12,'Data leveranciersbeoordeling'!$1:$1,0)),Leveranciersbeoordeling!$H$1:$I$5,2,FALSE),0)","v":0},0]
["",null,null,null,null,null,null,null,null,null,null,null,null,null,null,{"$f":"INDEX($A:$O,ROW(),MATCH('Rapportage per vraag'!$C$12,'Data leveranciersbeoordeling'!$1:$1,0))","v":0},{"$f":"IFERROR(VLOOKUP(INDEX($A:$O,ROW(),MATCH('Rapportage per vraag'!$C$12,'Data leveranciersbeoordeling'!$1:$1,0)),Leveranciersbeoordeling!$H$1:$I$5,2,FALSE),0)","v":0},0]
["",null,null,null,null,null,null,null,null,null,null,null,null,null,null,{"$f":"INDEX($A:$O,ROW(),MATCH('Rapportage per vraag'!$C$12,'Data leveranciersbeoordeling'!$1:$1,0))","v":0},{"$f":"IFERROR(VLOOKUP(INDEX($A:$O,ROW(),MATCH('Rapportage per vraag'!$C$12,'Data leveranciersbeoordeling'!$1:$1,0)),Leveranciersbeoordeling!$H$1:$I$5,2,FALSE),0)","v":0},0]
["",null,null,null,null,null,null,null,null,null,null,null,null,null,null,{"$f":"INDEX($A:$O,ROW(),MATCH('Rapportage per vraag'!$C$12,'Data leveranciersbeoordeling'!$1:$1,0))","v":0},{"$f":"IFERROR(VLOOKUP(INDEX($A:$O,ROW(),MATCH('Rapportage per vraag'!$C$12,'Data leveranciersbeoordeling'!$1:$1,0)),Leveranciersbeoordeling!$H$1:$I$5,2,FALSE),0)","v":0},0]
["",null,null,null,null,null,null,null,null,null,null,null,null,null,null,{"$f":"INDEX($A:$O,ROW(),MATCH('Rapportage per vraag'!$C$12,'Data leveranciersbeoordeling'!$1:$1,0))","v":0},{"$f":"IFERROR(VLOOKUP(INDEX($A:$O,ROW(),MATCH('Rapportage per vraag'!$C$12,'Data leveranciersbeoordeling'!$1:$1,0)),Leveranciersbeoordeling!$H$1:$I$5,2,FALSE),0)","v":0},0]
["",null,null,null,null,null,null,null,null,null,null,null,null,null,null,{"$f":"INDEX($A:$O,ROW(),MATCH('Rapportage per vraag'!$C$12,'Data leveranciersbeoordeling'!$1:$1,0))","v":0},{"$f":"IFERROR(VLOOKUP(INDEX($A:$O,ROW(),MATCH('Rapportage per vraag'!$C$12,'Data leveranciersbeoordeling'!$1:$1,0)),Leveranciersbeoordeling!$H$1:$I$5,2,FALSE),0)","v":0},0]
["",null,null,null,null,null,null,null,null,null,null,null,null,null,null,{"$f":"INDEX($A:$O,ROW(),MATCH('Rapportage per vraag'!$C$12,'Data leveranciersbeoordeling'!$1:$1,0))","v":0},{"$f":"IFERROR(VLOOKUP(INDEX($A:$O,ROW(),MATCH('Rapportage per vraag'!$C$12,'Data leveranciersbeoordeling'!$1:$1,0)),Leveranciersbeoordeling!$H$1:$I$5,2,FALSE),0)","v":0},{"$f":"IF(T(P2246)=P2246,Q2246,P2246)","v":0}]
["",null,null,null,null,null,null,null,null,null,null,null,null,null,null,{"$f":"INDEX($A:$O,ROW(),MATCH('Rapportage per vraag'!$C$12,'Data leveranciersbeoordeling'!$1:$1,0))","v":0},{"$f":"IFERROR(VLOOKUP(INDEX($A:$O,ROW(),MATCH('Rapportage per vraag'!$C$12,'Data leveranciersbeoordeling'!$1:$1,0)),Leveranciersbeoordeling!$H$1:$I$5,2,FALSE),0)","v":0},0]
["",null,null,null,null,null,null,null,null,null,null,null,null,null,null,{"$f":"INDEX($A:$O,ROW(),MATCH('Rapportage per vraag'!$C$12,'Data leveranciersbeoordeling'!$1:$1,0))","v":0},{"$f":"IFERROR(VLOOKUP(INDEX($A:$O,ROW(),MATCH('Rapportage per vraag'!$C$12,'Data leveranciersbeoordeling'!$1:$1,0)),Leveranciersbeoordeling!$H$1:$I$5,2,FALSE),0)","v":0},0]
["",null,null,null,null,null,null,null,null,null,null,null,null,null,null,{"$f":"INDEX($A:$O,ROW(),MATCH('Rapportage per vraag'!$C$12,'Data leveranciersbeoordeling'!$1:$1,0))","v":0},{"$f":"IFERROR(VLOOKUP(INDEX($A:$O,ROW(),MATCH('Rapportage per vraag'!$C$12,'Data leveranciersbeoordeling'!$1:$1,0)),Leveranciersbeoordeling!$H$1:$I$5,2,FALSE),0)","v":0},0]
["",null,null,null,null,null,null,null,null,null,null,null,null,null,null,{"$f":"INDEX($A:$O,ROW(),MATCH('Rapportage per vraag'!$C$12,'Data leveranciersbeoordeling'!$1:$1,0))","v":0},{"$f":"IFERROR(VLOOKUP(INDEX($A:$O,ROW(),MATCH('Rapportage per vraag'!$C$12,'Data leveranciersbeoordeling'!$1:$1,0)),Leveranciersbeoordeling!$H$1:$I$5,2,FALSE),0)","v":0},0]
["",null,null,null,null,null,null,null,null,null,null,null,null,null,null,{"$f":"INDEX($A:$O,ROW(),MATCH('Rapportage per vraag'!$C$12,'Data leveranciersbeoordeling'!$1:$1,0))","v":0},{"$f":"IFERROR(VLOOKUP(INDEX($A:$O,ROW(),MATCH('Rapportage per vraag'!$C$12,'Data leveranciersbeoordeling'!$1:$1,0)),Leveranciersbeoordeling!$H$1:$I$5,2,FALSE),0)","v":0},0]
["",null,null,null,null,null,null,null,null,null,null,null,null,null,null,{"$f":"INDEX($A:$O,ROW(),MATCH('Rapportage per vraag'!$C$12,'Data leveranciersbeoordeling'!$1:$1,0))","v":0},{"$f":"IFERROR(VLOOKUP(INDEX($A:$O,ROW(),MATCH('Rapportage per vraag'!$C$12,'Data leveranciersbeoordeling'!$1:$1,0)),Leveranciersbeoordeling!$H$1:$I$5,2,FALSE),0)","v":0},0]
["",null,null,null,null,null,null,null,null,null,null,null,null,null,null,{"$f":"INDEX($A:$O,ROW(),MATCH('Rapportage per vraag'!$C$12,'Data leveranciersbeoordeling'!$1:$1,0))","v":0},{"$f":"IFERROR(VLOOKUP(INDEX($A:$O,ROW(),MATCH('Rapportage per vraag'!$C$12,'Data leveranciersbeoordeling'!$1:$1,0)),Leveranciersbeoordeling!$H$1:$I$5,2,FALSE),0)","v":0},0]
["",null,null,null,null,null,null,null,null,null,null,null,null,null,null,{"$f":"INDEX($A:$O,ROW(),MATCH('Rapportage per vraag'!$C$12,'Data leveranciersbeoordeling'!$1:$1,0))","v":0},{"$f":"IFERROR(VLOOKUP(INDEX($A:$O,ROW(),MATCH('Rapportage per vraag'!$C$12,'Data leveranciersbeoordeling'!$1:$1,0)),Leveranciersbeoordeling!$H$1:$I$5,2,FALSE),0)","v":0},0]
["",null,null,null,null,null,null,null,null,null,null,null,null,null,null,{"$f":"INDEX($A:$O,ROW(),MATCH('Rapportage per vraag'!$C$12,'Data leveranciersbeoordeling'!$1:$1,0))","v":0},{"$f":"IFERROR(VLOOKUP(INDEX($A:$O,ROW(),MATCH('Rapportage per vraag'!$C$12,'Data leveranciersbeoordeling'!$1:$1,0)),Leveranciersbeoordeling!$H$1:$I$5,2,FALSE),0)","v":0},0]
["",null,null,null,null,null,null,null,null,null,null,null,null,null,null,{"$f":"INDEX($A:$O,ROW(),MATCH('Rapportage per vraag'!$C$12,'Data leveranciersbeoordeling'!$1:$1,0))","v":0},{"$f":"IFERROR(VLOOKUP(INDEX($A:$O,ROW(),MATCH('Rapportage per vraag'!$C$12,'Data leveranciersbeoordeling'!$1:$1,0)),Leveranciersbeoordeling!$H$1:$I$5,2,FALSE),0)","v":0},0]
["",null,null,null,null,null,null,null,null,null,null,null,null,null,null,{"$f":"INDEX($A:$O,ROW(),MATCH('Rapportage per vraag'!$C$12,'Data leveranciersbeoordeling'!$1:$1,0))","v":0},{"$f":"IFERROR(VLOOKUP(INDEX($A:$O,ROW(),MATCH('Rapportage per vraag'!$C$12,'Data leveranciersbeoordeling'!$1:$1,0)),Leveranciersbeoordeling!$H$1:$I$5,2,FALSE),0)","v":0},0]
["",null,null,null,null,null,null,null,null,null,null,null,null,null,null,{"$f":"INDEX($A:$O,ROW(),MATCH('Rapportage per vraag'!$C$12,'Data leveranciersbeoordeling'!$1:$1,0))","v":0},{"$f":"IFERROR(VLOOKUP(INDEX($A:$O,ROW(),MATCH('Rapportage per vraag'!$C$12,'Data leveranciersbeoordeling'!$1:$1,0)),Leveranciersbeoordeling!$H$1:$I$5,2,FALSE),0)","v":0},0]
["",null,null,null,null,null,null,null,null,null,null,null,null,null,null,{"$f":"INDEX($A:$O,ROW(),MATCH('Rapportage per vraag'!$C$12,'Data leveranciersbeoordeling'!$1:$1,0))","v":0},{"$f":"IFERROR(VLOOKUP(INDEX($A:$O,ROW(),MATCH('Rapportage per vraag'!$C$12,'Data leveranciersbeoordeling'!$1:$1,0)),Leveranciersbeoordeling!$H$1:$I$5,2,FALSE),0)","v":0},0]
["",null,null,null,null,null,null,null,null,null,null,null,null,null,null,{"$f":"INDEX($A:$O,ROW(),MATCH('Rapportage per vraag'!$C$12,'Data leveranciersbeoordeling'!$1:$1,0))","v":0},{"$f":"IFERROR(VLOOKUP(INDEX($A:$O,ROW(),MATCH('Rapportage per vraag'!$C$12,'Data leveranciersbeoordeling'!$1:$1,0)),Leveranciersbeoordeling!$H$1:$I$5,2,FALSE),0)","v":0},0]
["",null,null,null,null,null,null,null,null,null,null,null,null,null,null,{"$f":"INDEX($A:$O,ROW(),MATCH('Rapportage per vraag'!$C$12,'Data leveranciersbeoordeling'!$1:$1,0))","v":0},{"$f":"IFERROR(VLOOKUP(INDEX($A:$O,ROW(),MATCH('Rapportage per vraag'!$C$12,'Data leveranciersbeoordeling'!$1:$1,0)),Leveranciersbeoordeling!$H$1:$I$5,2,FALSE),0)","v":0},0]
["",null,null,null,null,null,null,null,null,null,null,null,null,null,null,{"$f":"INDEX($A:$O,ROW(),MATCH('Rapportage per vraag'!$C$12,'Data leveranciersbeoordeling'!$1:$1,0))","v":0},{"$f":"IFERROR(VLOOKUP(INDEX($A:$O,ROW(),MATCH('Rapportage per vraag'!$C$12,'Data leveranciersbeoordeling'!$1:$1,0)),Leveranciersbeoordeling!$H$1:$I$5,2,FALSE),0)","v":0},0]
["",null,null,null,null,null,null,null,null,null,null,null,null,null,null,{"$f":"INDEX($A:$O,ROW(),MATCH('Rapportage per vraag'!$C$12,'Data leveranciersbeoordeling'!$1:$1,0))","v":0},{"$f":"IFERROR(VLOOKUP(INDEX($A:$O,ROW(),MATCH('Rapportage per vraag'!$C$12,'Data leveranciersbeoordeling'!$1:$1,0)),Leveranciersbeoordeling!$H$1:$I$5,2,FALSE),0)","v":0},0]
["",null,null,null,null,null,null,null,null,null,null,null,null,null,null,{"$f":"INDEX($A:$O,ROW(),MATCH('Rapportage per vraag'!$C$12,'Data leveranciersbeoordeling'!$1:$1,0))","v":0},{"$f":"IFERROR(VLOOKUP(INDEX($A:$O,ROW(),MATCH('Rapportage per vraag'!$C$12,'Data leveranciersbeoordeling'!$1:$1,0)),Leveranciersbeoordeling!$H$1:$I$5,2,FALSE),0)","v":0},0]
["",null,null,null,null,null,null,null,null,null,null,null,null,null,null,{"$f":"INDEX($A:$O,ROW(),MATCH('Rapportage per vraag'!$C$12,'Data leveranciersbeoordeling'!$1:$1,0))","v":0},{"$f":"IFERROR(VLOOKUP(INDEX($A:$O,ROW(),MATCH('Rapportage per vraag'!$C$12,'Data leveranciersbeoordeling'!$1:$1,0)),Leveranciersbeoordeling!$H$1:$I$5,2,FALSE),0)","v":0},0]
["",null,null,null,null,null,null,null,null,null,null,null,null,null,null,{"$f":"INDEX($A:$O,ROW(),MATCH('Rapportage per vraag'!$C$12,'Data leveranciersbeoordeling'!$1:$1,0))","v":0},{"$f":"IFERROR(VLOOKUP(INDEX($A:$O,ROW(),MATCH('Rapportage per vraag'!$C$12,'Data leveranciersbeoordeling'!$1:$1,0)),Leveranciersbeoordeling!$H$1:$I$5,2,FALSE),0)","v":0},0]
["",null,null,null,null,null,null,null,null,null,null,null,null,null,null,{"$f":"INDEX($A:$O,ROW(),MATCH('Rapportage per vraag'!$C$12,'Data leveranciersbeoordeling'!$1:$1,0))","v":0},{"$f":"IFERROR(VLOOKUP(INDEX($A:$O,ROW(),MATCH('Rapportage per vraag'!$C$12,'Data leveranciersbeoordeling'!$1:$1,0)),Leveranciersbeoordeling!$H$1:$I$5,2,FALSE),0)","v":0},0]
["",null,null,null,null,null,null,null,null,null,null,null,null,null,null,{"$f":"INDEX($A:$O,ROW(),MATCH('Rapportage per vraag'!$C$12,'Data leveranciersbeoordeling'!$1:$1,0))","v":0},{"$f":"IFERROR(VLOOKUP(INDEX($A:$O,ROW(),MATCH('Rapportage per vraag'!$C$12,'Data leveranciersbeoordeling'!$1:$1,0)),Leveranciersbeoordeling!$H$1:$I$5,2,FALSE),0)","v":0},0]
["",null,null,null,null,null,null,null,null,null,null,null,null,null,null,{"$f":"INDEX($A:$O,ROW(),MATCH('Rapportage per vraag'!$C$12,'Data leveranciersbeoordeling'!$1:$1,0))","v":0},{"$f":"IFERROR(VLOOKUP(INDEX($A:$O,ROW(),MATCH('Rapportage per vraag'!$C$12,'Data leveranciersbeoordeling'!$1:$1,0)),Leveranciersbeoordeling!$H$1:$I$5,2,FALSE),0)","v":0},0]
["",null,null,null,null,null,null,null,null,null,null,null,null,null,null,{"$f":"INDEX($A:$O,ROW(),MATCH('Rapportage per vraag'!$C$12,'Data leveranciersbeoordeling'!$1:$1,0))","v":0},{"$f":"IFERROR(VLOOKUP(INDEX($A:$O,ROW(),MATCH('Rapportage per vraag'!$C$12,'Data leveranciersbeoordeling'!$1:$1,0)),Leveranciersbeoordeling!$H$1:$I$5,2,FALSE),0)","v":0},0]
["",null,null,null,null,null,null,null,null,null,null,null,null,null,null,{"$f":"INDEX($A:$O,ROW(),MATCH('Rapportage per vraag'!$C$12,'Data leveranciersbeoordeling'!$1:$1,0))","v":0},{"$f":"IFERROR(VLOOKUP(INDEX($A:$O,ROW(),MATCH('Rapportage per vraag'!$C$12,'Data leveranciersbeoordeling'!$1:$1,0)),Leveranciersbeoordeling!$H$1:$I$5,2,FALSE),0)","v":0},0]
["",null,null,null,null,null,null,null,null,null,null,null,null,null,null,{"$f":"INDEX($A:$O,ROW(),MATCH('Rapportage per vraag'!$C$12,'Data leveranciersbeoordeling'!$1:$1,0))","v":0},{"$f":"IFERROR(VLOOKUP(INDEX($A:$O,ROW(),MATCH('Rapportage per vraag'!$C$12,'Data leveranciersbeoordeling'!$1:$1,0)),Leveranciersbeoordeling!$H$1:$I$5,2,FALSE),0)","v":0},0]
["",null,null,null,null,null,null,null,null,null,null,null,null,null,null,{"$f":"INDEX($A:$O,ROW(),MATCH('Rapportage per vraag'!$C$12,'Data leveranciersbeoordeling'!$1:$1,0))","v":0},{"$f":"IFERROR(VLOOKUP(INDEX($A:$O,ROW(),MATCH('Rapportage per vraag'!$C$12,'Data leveranciersbeoordeling'!$1:$1,0)),Leveranciersbeoordeling!$H$1:$I$5,2,FALSE),0)","v":0},0]
["",null,null,null,null,null,null,null,null,null,null,null,null,null,null,{"$f":"INDEX($A:$O,ROW(),MATCH('Rapportage per vraag'!$C$12,'Data leveranciersbeoordeling'!$1:$1,0))","v":0},{"$f":"IFERROR(VLOOKUP(INDEX($A:$O,ROW(),MATCH('Rapportage per vraag'!$C$12,'Data leveranciersbeoordeling'!$1:$1,0)),Leveranciersbeoordeling!$H$1:$I$5,2,FALSE),0)","v":0},0]
["",null,null,null,null,null,null,null,null,null,null,null,null,null,null,{"$f":"INDEX($A:$O,ROW(),MATCH('Rapportage per vraag'!$C$12,'Data leveranciersbeoordeling'!$1:$1,0))","v":0},{"$f":"IFERROR(VLOOKUP(INDEX($A:$O,ROW(),MATCH('Rapportage per vraag'!$C$12,'Data leveranciersbeoordeling'!$1:$1,0)),Leveranciersbeoordeling!$H$1:$I$5,2,FALSE),0)","v":0},0]
["",null,null,null,null,null,null,null,null,null,null,null,null,null,null,{"$f":"INDEX($A:$O,ROW(),MATCH('Rapportage per vraag'!$C$12,'Data leveranciersbeoordeling'!$1:$1,0))","v":0},{"$f":"IFERROR(VLOOKUP(INDEX($A:$O,ROW(),MATCH('Rapportage per vraag'!$C$12,'Data leveranciersbeoordeling'!$1:$1,0)),Leveranciersbeoordeling!$H$1:$I$5,2,FALSE),0)","v":0},0]
["",null,null,null,null,null,null,null,null,null,null,null,null,null,null,{"$f":"INDEX($A:$O,ROW(),MATCH('Rapportage per vraag'!$C$12,'Data leveranciersbeoordeling'!$1:$1,0))","v":0},{"$f":"IFERROR(VLOOKUP(INDEX($A:$O,ROW(),MATCH('Rapportage per vraag'!$C$12,'Data leveranciersbeoordeling'!$1:$1,0)),Leveranciersbeoordeling!$H$1:$I$5,2,FALSE),0)","v":0},0]
["",null,null,null,null,null,null,null,null,null,null,null,null,null,null,{"$f":"INDEX($A:$O,ROW(),MATCH('Rapportage per vraag'!$C$12,'Data leveranciersbeoordeling'!$1:$1,0))","v":0},{"$f":"IFERROR(VLOOKUP(INDEX($A:$O,ROW(),MATCH('Rapportage per vraag'!$C$12,'Data leveranciersbeoordeling'!$1:$1,0)),Leveranciersbeoordeling!$H$1:$I$5,2,FALSE),0)","v":0},0]
[{"$f":"CONCATENATE(B2371,C2371,D2371)","v":""},null,null,null,null,null,null,null,null,null,null,null,null,null,null,{"$f":"INDEX($A:$O,ROW(),MATCH('Rapportage per vraag'!$C$12,'Data leveranciersbeoordeling'!$1:$1,0))","v":0},{"$f":"IFERROR(VLOOKUP(INDEX($A:$O,ROW(),MATCH('Rapportage per vraag'!$C$12,'Data leveranciersbeoordeling'!$1:$1,0)),Leveranciersbeoordeling!$H$1:$I$5,2,FALSE),0)","v":0},0]
["",null,null,null,null,null,null,null,null,null,null,null,null,null,null,{"$f":"INDEX($A:$O,ROW(),MATCH('Rapportage per vraag'!$C$12,'Data leveranciersbeoordeling'!$1:$1,0))","v":0},{"$f":"IFERROR(VLOOKUP(INDEX($A:$O,ROW(),MATCH('Rapportage per vraag'!$C$12,'Data leveranciersbeoordeling'!$1:$1,0)),Leveranciersbeoordeling!$H$1:$I$5,2,FALSE),0)","v":0},0]
["",null,null,null,null,null,null,null,null,null,null,null,null,null,null,{"$f":"INDEX($A:$O,ROW(),MATCH('Rapportage per vraag'!$C$12,'Data leveranciersbeoordeling'!$1:$1,0))","v":0},{"$f":"IFERROR(VLOOKUP(INDEX($A:$O,ROW(),MATCH('Rapportage per vraag'!$C$12,'Data leveranciersbeoordeling'!$1:$1,0)),Leveranciersbeoordeling!$H$1:$I$5,2,FALSE),0)","v":0},0]
["",null,null,null,null,null,null,null,null,null,null,null,null,null,null,{"$f":"INDEX($A:$O,ROW(),MATCH('Rapportage per vraag'!$C$12,'Data leveranciersbeoordeling'!$1:$1,0))","v":0},{"$f":"IFERROR(VLOOKUP(INDEX($A:$O,ROW(),MATCH('Rapportage per vraag'!$C$12,'Data leveranciersbeoordeling'!$1:$1,0)),Leveranciersbeoordeling!$H$1:$I$5,2,FALSE),0)","v":0},0]
["",null,null,null,null,null,null,null,null,null,null,null,null,null,null,{"$f":"INDEX($A:$O,ROW(),MATCH('Rapportage per vraag'!$C$12,'Data leveranciersbeoordeling'!$1:$1,0))","v":0},{"$f":"IFERROR(VLOOKUP(INDEX($A:$O,ROW(),MATCH('Rapportage per vraag'!$C$12,'Data leveranciersbeoordeling'!$1:$1,0)),Leveranciersbeoordeling!$H$1:$I$5,2,FALSE),0)","v":0},0]
["",null,null,null,null,null,null,null,null,null,null,null,null,null,null,{"$f":"INDEX($A:$O,ROW(),MATCH('Rapportage per vraag'!$C$12,'Data leveranciersbeoordeling'!$1:$1,0))","v":0},{"$f":"IFERROR(VLOOKUP(INDEX($A:$O,ROW(),MATCH('Rapportage per vraag'!$C$12,'Data leveranciersbeoordeling'!$1:$1,0)),Leveranciersbeoordeling!$H$1:$I$5,2,FALSE),0)","v":0},0]
["",null,null,null,null,null,null,null,null,null,null,null,null,null,null,{"$f":"INDEX($A:$O,ROW(),MATCH('Rapportage per vraag'!$C$12,'Data leveranciersbeoordeling'!$1:$1,0))","v":0},{"$f":"IFERROR(VLOOKUP(INDEX($A:$O,ROW(),MATCH('Rapportage per vraag'!$C$12,'Data leveranciersbeoordeling'!$1:$1,0)),Leveranciersbeoordeling!$H$1:$I$5,2,FALSE),0)","v":0},0]
["",null,null,null,null,null,null,null,null,null,null,null,null,null,null,{"$f":"INDEX($A:$O,ROW(),MATCH('Rapportage per vraag'!$C$12,'Data leveranciersbeoordeling'!$1:$1,0))","v":0},{"$f":"IFERROR(VLOOKUP(INDEX($A:$O,ROW(),MATCH('Rapportage per vraag'!$C$12,'Data leveranciersbeoordeling'!$1:$1,0)),Leveranciersbeoordeling!$H$1:$I$5,2,FALSE),0)","v":0},0]
["",null,null,null,null,null,null,null,null,null,null,null,null,null,null,{"$f":"INDEX($A:$O,ROW(),MATCH('Rapportage per vraag'!$C$12,'Data leveranciersbeoordeling'!$1:$1,0))","v":0},{"$f":"IFERROR(VLOOKUP(INDEX($A:$O,ROW(),MATCH('Rapportage per vraag'!$C$12,'Data leveranciersbeoordeling'!$1:$1,0)),Leveranciersbeoordeling!$H$1:$I$5,2,FALSE),0)","v":0},0]
["",null,null,null,null,null,null,null,null,null,null,null,null,null,null,{"$f":"INDEX($A:$O,ROW(),MATCH('Rapportage per vraag'!$C$12,'Data leveranciersbeoordeling'!$1:$1,0))","v":0},{"$f":"IFERROR(VLOOKUP(INDEX($A:$O,ROW(),MATCH('Rapportage per vraag'!$C$12,'Data leveranciersbeoordeling'!$1:$1,0)),Leveranciersbeoordeling!$H$1:$I$5,2,FALSE),0)","v":0},0]
["",null,null,null,null,null,null,null,null,null,null,null,null,null,null,{"$f":"INDEX($A:$O,ROW(),MATCH('Rapportage per vraag'!$C$12,'Data leveranciersbeoordeling'!$1:$1,0))","v":0},{"$f":"IFERROR(VLOOKUP(INDEX($A:$O,ROW(),MATCH('Rapportage per vraag'!$C$12,'Data leveranciersbeoordeling'!$1:$1,0)),Leveranciersbeoordeling!$H$1:$I$5,2,FALSE),0)","v":0},0]
["",null,null,null,null,null,null,null,null,null,null,null,null,null,null,{"$f":"INDEX($A:$O,ROW(),MATCH('Rapportage per vraag'!$C$12,'Data leveranciersbeoordeling'!$1:$1,0))","v":0},{"$f":"IFERROR(VLOOKUP(INDEX($A:$O,ROW(),MATCH('Rapportage per vraag'!$C$12,'Data leveranciersbeoordeling'!$1:$1,0)),Leveranciersbeoordeling!$H$1:$I$5,2,FALSE),0)","v":0},0]
["",null,null,null,null,null,null,null,null,null,null,null,null,null,null,{"$f":"INDEX($A:$O,ROW(),MATCH('Rapportage per vraag'!$C$12,'Data leveranciersbeoordeling'!$1:$1,0))","v":0},{"$f":"IFERROR(VLOOKUP(INDEX($A:$O,ROW(),MATCH('Rapportage per vraag'!$C$12,'Data leveranciersbeoordeling'!$1:$1,0)),Leveranciersbeoordeling!$H$1:$I$5,2,FALSE),0)","v":0},0]
["",null,null,null,null,null,null,null,null,null,null,null,null,null,null,{"$f":"INDEX($A:$O,ROW(),MATCH('Rapportage per vraag'!$C$12,'Data leveranciersbeoordeling'!$1:$1,0))","v":0},{"$f":"IFERROR(VLOOKUP(INDEX($A:$O,ROW(),MATCH('Rapportage per vraag'!$C$12,'Data leveranciersbeoordeling'!$1:$1,0)),Leveranciersbeoordeling!$H$1:$I$5,2,FALSE),0)","v":0},0]
["",null,null,null,null,null,null,null,null,null,null,null,null,null,null,{"$f":"INDEX($A:$O,ROW(),MATCH('Rapportage per vraag'!$C$12,'Data leveranciersbeoordeling'!$1:$1,0))","v":0},{"$f":"IFERROR(VLOOKUP(INDEX($A:$O,ROW(),MATCH('Rapportage per vraag'!$C$12,'Data leveranciersbeoordeling'!$1:$1,0)),Leveranciersbeoordeling!$H$1:$I$5,2,FALSE),0)","v":0},0]
["",null,null,null,null,null,null,null,null,null,null,null,null,null,null,{"$f":"INDEX($A:$O,ROW(),MATCH('Rapportage per vraag'!$C$12,'Data leveranciersbeoordeling'!$1:$1,0))","v":0},{"$f":"IFERROR(VLOOKUP(INDEX($A:$O,ROW(),MATCH('Rapportage per vraag'!$C$12,'Data leveranciersbeoordeling'!$1:$1,0)),Leveranciersbeoordeling!$H$1:$I$5,2,FALSE),0)","v":0},0]
["",null,null,null,null,null,null,null,null,null,null,null,null,null,null,{"$f":"INDEX($A:$O,ROW(),MATCH('Rapportage per vraag'!$C$12,'Data leveranciersbeoordeling'!$1:$1,0))","v":0},{"$f":"IFERROR(VLOOKUP(INDEX($A:$O,ROW(),MATCH('Rapportage per vraag'!$C$12,'Data leveranciersbeoordeling'!$1:$1,0)),Leveranciersbeoordeling!$H$1:$I$5,2,FALSE),0)","v":0},0]
["",null,null,null,null,null,null,null,null,null,null,null,null,null,null,{"$f":"INDEX($A:$O,ROW(),MATCH('Rapportage per vraag'!$C$12,'Data leveranciersbeoordeling'!$1:$1,0))","v":0},{"$f":"IFERROR(VLOOKUP(INDEX($A:$O,ROW(),MATCH('Rapportage per vraag'!$C$12,'Data leveranciersbeoordeling'!$1:$1,0)),Leveranciersbeoordeling!$H$1:$I$5,2,FALSE),0)","v":0},0]
["",null,null,null,null,null,null,null,null,null,null,null,null,null,null,{"$f":"INDEX($A:$O,ROW(),MATCH('Rapportage per vraag'!$C$12,'Data leveranciersbeoordeling'!$1:$1,0))","v":0},{"$f":"IFERROR(VLOOKUP(INDEX($A:$O,ROW(),MATCH('Rapportage per vraag'!$C$12,'Data leveranciersbeoordeling'!$1:$1,0)),Leveranciersbeoordeling!$H$1:$I$5,2,FALSE),0)","v":0},0]
["",null,null,null,null,null,null,null,null,null,null,null,null,null,null,{"$f":"INDEX($A:$O,ROW(),MATCH('Rapportage per vraag'!$C$12,'Data leveranciersbeoordeling'!$1:$1,0))","v":0},{"$f":"IFERROR(VLOOKUP(INDEX($A:$O,ROW(),MATCH('Rapportage per vraag'!$C$12,'Data leveranciersbeoordeling'!$1:$1,0)),Leveranciersbeoordeling!$H$1:$I$5,2,FALSE),0)","v":0},0]
["",null,null,null,null,null,null,null,null,null,null,null,null,null,null,{"$f":"INDEX($A:$O,ROW(),MATCH('Rapportage per vraag'!$C$12,'Data leveranciersbeoordeling'!$1:$1,0))","v":0},{"$f":"IFERROR(VLOOKUP(INDEX($A:$O,ROW(),MATCH('Rapportage per vraag'!$C$12,'Data leveranciersbeoordeling'!$1:$1,0)),Leveranciersbeoordeling!$H$1:$I$5,2,FALSE),0)","v":0},0]
["",null,null,null,null,null,null,null,null,null,null,null,null,null,null,{"$f":"INDEX($A:$O,ROW(),MATCH('Rapportage per vraag'!$C$12,'Data leveranciersbeoordeling'!$1:$1,0))","v":0},{"$f":"IFERROR(VLOOKUP(INDEX($A:$O,ROW(),MATCH('Rapportage per vraag'!$C$12,'Data leveranciersbeoordeling'!$1:$1,0)),Leveranciersbeoordeling!$H$1:$I$5,2,FALSE),0)","v":0},0]
["",null,null,null,null,null,null,null,null,null,null,null,null,null,null,{"$f":"INDEX($A:$O,ROW(),MATCH('Rapportage per vraag'!$C$12,'Data leveranciersbeoordeling'!$1:$1,0))","v":0},{"$f":"IFERROR(VLOOKUP(INDEX($A:$O,ROW(),MATCH('Rapportage per vraag'!$C$12,'Data leveranciersbeoordeling'!$1:$1,0)),Leveranciersbeoordeling!$H$1:$I$5,2,FALSE),0)","v":0},0]
["",null,null,null,null,null,null,null,null,null,null,null,null,null,null,{"$f":"INDEX($A:$O,ROW(),MATCH('Rapportage per vraag'!$C$12,'Data leveranciersbeoordeling'!$1:$1,0))","v":0},{"$f":"IFERROR(VLOOKUP(INDEX($A:$O,ROW(),MATCH('Rapportage per vraag'!$C$12,'Data leveranciersbeoordeling'!$1:$1,0)),Leveranciersbeoordeling!$H$1:$I$5,2,FALSE),0)","v":0},0]
["",null,null,null,null,null,null,null,null,null,null,null,null,null,null,{"$f":"INDEX($A:$O,ROW(),MATCH('Rapportage per vraag'!$C$12,'Data leveranciersbeoordeling'!$1:$1,0))","v":0},{"$f":"IFERROR(VLOOKUP(INDEX($A:$O,ROW(),MATCH('Rapportage per vraag'!$C$12,'Data leveranciersbeoordeling'!$1:$1,0)),Leveranciersbeoordeling!$H$1:$I$5,2,FALSE),0)","v":0},0]
["",null,null,null,null,null,null,null,null,null,null,null,null,null,null,{"$f":"INDEX($A:$O,ROW(),MATCH('Rapportage per vraag'!$C$12,'Data leveranciersbeoordeling'!$1:$1,0))","v":0},{"$f":"IFERROR(VLOOKUP(INDEX($A:$O,ROW(),MATCH('Rapportage per vraag'!$C$12,'Data leveranciersbeoordeling'!$1:$1,0)),Leveranciersbeoordeling!$H$1:$I$5,2,FALSE),0)","v":0},0]
["",null,null,null,null,null,null,null,null,null,null,null,null,null,null,{"$f":"INDEX($A:$O,ROW(),MATCH('Rapportage per vraag'!$C$12,'Data leveranciersbeoordeling'!$1:$1,0))","v":0},{"$f":"IFERROR(VLOOKUP(INDEX($A:$O,ROW(),MATCH('Rapportage per vraag'!$C$12,'Data leveranciersbeoordeling'!$1:$1,0)),Leveranciersbeoordeling!$H$1:$I$5,2,FALSE),0)","v":0},0]
["",null,null,null,null,null,null,null,null,null,null,null,null,null,null,{"$f":"INDEX($A:$O,ROW(),MATCH('Rapportage per vraag'!$C$12,'Data leveranciersbeoordeling'!$1:$1,0))","v":0},{"$f":"IFERROR(VLOOKUP(INDEX($A:$O,ROW(),MATCH('Rapportage per vraag'!$C$12,'Data leveranciersbeoordeling'!$1:$1,0)),Leveranciersbeoordeling!$H$1:$I$5,2,FALSE),0)","v":0},0]
["",null,null,null,null,null,null,null,null,null,null,null,null,null,null,{"$f":"INDEX($A:$O,ROW(),MATCH('Rapportage per vraag'!$C$12,'Data leveranciersbeoordeling'!$1:$1,0))","v":0},{"$f":"IFERROR(VLOOKUP(INDEX($A:$O,ROW(),MATCH('Rapportage per vraag'!$C$12,'Data leveranciersbeoordeling'!$1:$1,0)),Leveranciersbeoordeling!$H$1:$I$5,2,FALSE),0)","v":0},0]
["",null,null,null,null,null,null,null,null,null,null,null,null,null,null,{"$f":"INDEX($A:$O,ROW(),MATCH('Rapportage per vraag'!$C$12,'Data leveranciersbeoordeling'!$1:$1,0))","v":0},{"$f":"IFERROR(VLOOKUP(INDEX($A:$O,ROW(),MATCH('Rapportage per vraag'!$C$12,'Data leveranciersbeoordeling'!$1:$1,0)),Leveranciersbeoordeling!$H$1:$I$5,2,FALSE),0)","v":0},0]
["",null,null,null,null,null,null,null,null,null,null,null,null,null,null,{"$f":"INDEX($A:$O,ROW(),MATCH('Rapportage per vraag'!$C$12,'Data leveranciersbeoordeling'!$1:$1,0))","v":0},{"$f":"IFERROR(VLOOKUP(INDEX($A:$O,ROW(),MATCH('Rapportage per vraag'!$C$12,'Data leveranciersbeoordeling'!$1:$1,0)),Leveranciersbeoordeling!$H$1:$I$5,2,FALSE),0)","v":0},0]
["",null,null,null,null,null,null,null,null,null,null,null,null,null,null,{"$f":"INDEX($A:$O,ROW(),MATCH('Rapportage per vraag'!$C$12,'Data leveranciersbeoordeling'!$1:$1,0))","v":0},{"$f":"IFERROR(VLOOKUP(INDEX($A:$O,ROW(),MATCH('Rapportage per vraag'!$C$12,'Data leveranciersbeoordeling'!$1:$1,0)),Leveranciersbeoordeling!$H$1:$I$5,2,FALSE),0)","v":0},0]
["",null,null,null,null,null,null,null,null,null,null,null,null,null,null,{"$f":"INDEX($A:$O,ROW(),MATCH('Rapportage per vraag'!$C$12,'Data leveranciersbeoordeling'!$1:$1,0))","v":0},{"$f":"IFERROR(VLOOKUP(INDEX($A:$O,ROW(),MATCH('Rapportage per vraag'!$C$12,'Data leveranciersbeoordeling'!$1:$1,0)),Leveranciersbeoordeling!$H$1:$I$5,2,FALSE),0)","v":0},0]
["",null,null,null,null,null,null,null,null,null,null,null,null,null,null,{"$f":"INDEX($A:$O,ROW(),MATCH('Rapportage per vraag'!$C$12,'Data leveranciersbeoordeling'!$1:$1,0))","v":0},{"$f":"IFERROR(VLOOKUP(INDEX($A:$O,ROW(),MATCH('Rapportage per vraag'!$C$12,'Data leveranciersbeoordeling'!$1:$1,0)),Leveranciersbeoordeling!$H$1:$I$5,2,FALSE),0)","v":0},0]
["",null,null,null,null,null,null,null,null,null,null,null,null,null,null,{"$f":"INDEX($A:$O,ROW(),MATCH('Rapportage per vraag'!$C$12,'Data leveranciersbeoordeling'!$1:$1,0))","v":0},{"$f":"IFERROR(VLOOKUP(INDEX($A:$O,ROW(),MATCH('Rapportage per vraag'!$C$12,'Data leveranciersbeoordeling'!$1:$1,0)),Leveranciersbeoordeling!$H$1:$I$5,2,FALSE),0)","v":0},0]
["",null,null,null,null,null,null,null,null,null,null,null,null,null,null,{"$f":"INDEX($A:$O,ROW(),MATCH('Rapportage per vraag'!$C$12,'Data leveranciersbeoordeling'!$1:$1,0))","v":0},{"$f":"IFERROR(VLOOKUP(INDEX($A:$O,ROW(),MATCH('Rapportage per vraag'!$C$12,'Data leveranciersbeoordeling'!$1:$1,0)),Leveranciersbeoordeling!$H$1:$I$5,2,FALSE),0)","v":0},0]
["",null,null,null,null,null,null,null,null,null,null,null,null,null,null,{"$f":"INDEX($A:$O,ROW(),MATCH('Rapportage per vraag'!$C$12,'Data leveranciersbeoordeling'!$1:$1,0))","v":0},{"$f":"IFERROR(VLOOKUP(INDEX($A:$O,ROW(),MATCH('Rapportage per vraag'!$C$12,'Data leveranciersbeoordeling'!$1:$1,0)),Leveranciersbeoordeling!$H$1:$I$5,2,FALSE),0)","v":0},0]
["",null,null,null,null,null,null,null,null,null,null,null,null,null,null,{"$f":"INDEX($A:$O,ROW(),MATCH('Rapportage per vraag'!$C$12,'Data leveranciersbeoordeling'!$1:$1,0))","v":0},{"$f":"IFERROR(VLOOKUP(INDEX($A:$O,ROW(),MATCH('Rapportage per vraag'!$C$12,'Data leveranciersbeoordeling'!$1:$1,0)),Leveranciersbeoordeling!$H$1:$I$5,2,FALSE),0)","v":0},0]
["",null,null,null,null,null,null,null,null,null,null,null,null,null,null,{"$f":"INDEX($A:$O,ROW(),MATCH('Rapportage per vraag'!$C$12,'Data leveranciersbeoordeling'!$1:$1,0))","v":0},{"$f":"IFERROR(VLOOKUP(INDEX($A:$O,ROW(),MATCH('Rapportage per vraag'!$C$12,'Data leveranciersbeoordeling'!$1:$1,0)),Leveranciersbeoordeling!$H$1:$I$5,2,FALSE),0)","v":0},0]
["",null,null,null,null,null,null,null,null,null,null,null,null,null,null,{"$f":"INDEX($A:$O,ROW(),MATCH('Rapportage per vraag'!$C$12,'Data leveranciersbeoordeling'!$1:$1,0))","v":0},{"$f":"IFERROR(VLOOKUP(INDEX($A:$O,ROW(),MATCH('Rapportage per vraag'!$C$12,'Data leveranciersbeoordeling'!$1:$1,0)),Leveranciersbeoordeling!$H$1:$I$5,2,FALSE),0)","v":0},0]
["",null,null,null,null,null,null,null,null,null,null,null,null,null,null,{"$f":"INDEX($A:$O,ROW(),MATCH('Rapportage per vraag'!$C$12,'Data leveranciersbeoordeling'!$1:$1,0))","v":0},{"$f":"IFERROR(VLOOKUP(INDEX($A:$O,ROW(),MATCH('Rapportage per vraag'!$C$12,'Data leveranciersbeoordeling'!$1:$1,0)),Leveranciersbeoordeling!$H$1:$I$5,2,FALSE),0)","v":0},0]
["",null,null,null,null,null,null,null,null,null,null,null,null,null,null,{"$f":"INDEX($A:$O,ROW(),MATCH('Rapportage per vraag'!$C$12,'Data leveranciersbeoordeling'!$1:$1,0))","v":0},{"$f":"IFERROR(VLOOKUP(INDEX($A:$O,ROW(),MATCH('Rapportage per vraag'!$C$12,'Data leveranciersbeoordeling'!$1:$1,0)),Leveranciersbeoordeling!$H$1:$I$5,2,FALSE),0)","v":0},0]
["",null,null,null,null,null,null,null,null,null,null,null,null,null,null,{"$f":"INDEX($A:$O,ROW(),MATCH('Rapportage per vraag'!$C$12,'Data leveranciersbeoordeling'!$1:$1,0))","v":0},{"$f":"IFERROR(VLOOKUP(INDEX($A:$O,ROW(),MATCH('Rapportage per vraag'!$C$12,'Data leveranciersbeoordeling'!$1:$1,0)),Leveranciersbeoordeling!$H$1:$I$5,2,FALSE),0)","v":0},0]
["",null,null,null,null,null,null,null,null,null,null,null,null,null,null,{"$f":"INDEX($A:$O,ROW(),MATCH('Rapportage per vraag'!$C$12,'Data leveranciersbeoordeling'!$1:$1,0))","v":0},{"$f":"IFERROR(VLOOKUP(INDEX($A:$O,ROW(),MATCH('Rapportage per vraag'!$C$12,'Data leveranciersbeoordeling'!$1:$1,0)),Leveranciersbeoordeling!$H$1:$I$5,2,FALSE),0)","v":0},0]
["",null,null,null,null,null,null,null,null,null,null,null,null,null,null,{"$f":"INDEX($A:$O,ROW(),MATCH('Rapportage per vraag'!$C$12,'Data leveranciersbeoordeling'!$1:$1,0))","v":0},{"$f":"IFERROR(VLOOKUP(INDEX($A:$O,ROW(),MATCH('Rapportage per vraag'!$C$12,'Data leveranciersbeoordeling'!$1:$1,0)),Leveranciersbeoordeling!$H$1:$I$5,2,FALSE),0)","v":0},0]
["",null,null,null,null,null,null,null,null,null,null,null,null,null,null,{"$f":"INDEX($A:$O,ROW(),MATCH('Rapportage per vraag'!$C$12,'Data leveranciersbeoordeling'!$1:$1,0))","v":0},{"$f":"IFERROR(VLOOKUP(INDEX($A:$O,ROW(),MATCH('Rapportage per vraag'!$C$12,'Data leveranciersbeoordeling'!$1:$1,0)),Leveranciersbeoordeling!$H$1:$I$5,2,FALSE),0)","v":0},0]
["",null,null,null,null,null,null,null,null,null,null,null,null,null,null,{"$f":"INDEX($A:$O,ROW(),MATCH('Rapportage per vraag'!$C$12,'Data leveranciersbeoordeling'!$1:$1,0))","v":0},{"$f":"IFERROR(VLOOKUP(INDEX($A:$O,ROW(),MATCH('Rapportage per vraag'!$C$12,'Data leveranciersbeoordeling'!$1:$1,0)),Leveranciersbeoordeling!$H$1:$I$5,2,FALSE),0)","v":0},0]
["",null,null,null,null,null,null,null,null,null,null,null,null,null,null,{"$f":"INDEX($A:$O,ROW(),MATCH('Rapportage per vraag'!$C$12,'Data leveranciersbeoordeling'!$1:$1,0))","v":0},{"$f":"IFERROR(VLOOKUP(INDEX($A:$O,ROW(),MATCH('Rapportage per vraag'!$C$12,'Data leveranciersbeoordeling'!$1:$1,0)),Leveranciersbeoordeling!$H$1:$I$5,2,FALSE),0)","v":0},0]
["",null,null,null,null,null,null,null,null,null,null,null,null,null,null,{"$f":"INDEX($A:$O,ROW(),MATCH('Rapportage per vraag'!$C$12,'Data leveranciersbeoordeling'!$1:$1,0))","v":0},{"$f":"IFERROR(VLOOKUP(INDEX($A:$O,ROW(),MATCH('Rapportage per vraag'!$C$12,'Data leveranciersbeoordeling'!$1:$1,0)),Leveranciersbeoordeling!$H$1:$I$5,2,FALSE),0)","v":0},0]
["",null,null,null,null,null,null,null,null,null,null,null,null,null,null,{"$f":"INDEX($A:$O,ROW(),MATCH('Rapportage per vraag'!$C$12,'Data leveranciersbeoordeling'!$1:$1,0))","v":0},{"$f":"IFERROR(VLOOKUP(INDEX($A:$O,ROW(),MATCH('Rapportage per vraag'!$C$12,'Data leveranciersbeoordeling'!$1:$1,0)),Leveranciersbeoordeling!$H$1:$I$5,2,FALSE),0)","v":0},0]
["",null,null,null,null,null,null,null,null,null,null,null,null,null,null,{"$f":"INDEX($A:$O,ROW(),MATCH('Rapportage per vraag'!$C$12,'Data leveranciersbeoordeling'!$1:$1,0))","v":0},{"$f":"IFERROR(VLOOKUP(INDEX($A:$O,ROW(),MATCH('Rapportage per vraag'!$C$12,'Data leveranciersbeoordeling'!$1:$1,0)),Leveranciersbeoordeling!$H$1:$I$5,2,FALSE),0)","v":0},0]
["",null,null,null,null,null,null,null,null,null,null,null,null,null,null,{"$f":"INDEX($A:$O,ROW(),MATCH('Rapportage per vraag'!$C$12,'Data leveranciersbeoordeling'!$1:$1,0))","v":0},{"$f":"IFERROR(VLOOKUP(INDEX($A:$O,ROW(),MATCH('Rapportage per vraag'!$C$12,'Data leveranciersbeoordeling'!$1:$1,0)),Leveranciersbeoordeling!$H$1:$I$5,2,FALSE),0)","v":0},0]
["",null,null,null,null,null,null,null,null,null,null,null,null,null,null,{"$f":"INDEX($A:$O,ROW(),MATCH('Rapportage per vraag'!$C$12,'Data leveranciersbeoordeling'!$1:$1,0))","v":0},{"$f":"IFERROR(VLOOKUP(INDEX($A:$O,ROW(),MATCH('Rapportage per vraag'!$C$12,'Data leveranciersbeoordeling'!$1:$1,0)),Leveranciersbeoordeling!$H$1:$I$5,2,FALSE),0)","v":0},{"$f":"IF(T(P2566)=P2566,Q2566,P2566)","v":0}]
["",null,null,null,null,null,null,null,null,null,null,null,null,null,null,{"$f":"INDEX($A:$O,ROW(),MATCH('Rapportage per vraag'!$C$12,'Data leveranciersbeoordeling'!$1:$1,0))","v":0},{"$f":"IFERROR(VLOOKUP(INDEX($A:$O,ROW(),MATCH('Rapportage per vraag'!$C$12,'Data leveranciersbeoordeling'!$1:$1,0)),Leveranciersbeoordeling!$H$1:$I$5,2,FALSE),0)","v":0},0]
["",null,null,null,null,null,null,null,null,null,null,null,null,null,null,{"$f":"INDEX($A:$O,ROW(),MATCH('Rapportage per vraag'!$C$12,'Data leveranciersbeoordeling'!$1:$1,0))","v":0},{"$f":"IFERROR(VLOOKUP(INDEX($A:$O,ROW(),MATCH('Rapportage per vraag'!$C$12,'Data leveranciersbeoordeling'!$1:$1,0)),Leveranciersbeoordeling!$H$1:$I$5,2,FALSE),0)","v":0},0]
["",null,null,null,null,null,null,null,null,null,null,null,null,null,null,{"$f":"INDEX($A:$O,ROW(),MATCH('Rapportage per vraag'!$C$12,'Data leveranciersbeoordeling'!$1:$1,0))","v":0},{"$f":"IFERROR(VLOOKUP(INDEX($A:$O,ROW(),MATCH('Rapportage per vraag'!$C$12,'Data leveranciersbeoordeling'!$1:$1,0)),Leveranciersbeoordeling!$H$1:$I$5,2,FALSE),0)","v":0},0]
["",null,null,null,null,null,null,null,null,null,null,null,null,null,null,{"$f":"INDEX($A:$O,ROW(),MATCH('Rapportage per vraag'!$C$12,'Data leveranciersbeoordeling'!$1:$1,0))","v":0},{"$f":"IFERROR(VLOOKUP(INDEX($A:$O,ROW(),MATCH('Rapportage per vraag'!$C$12,'Data leveranciersbeoordeling'!$1:$1,0)),Leveranciersbeoordeling!$H$1:$I$5,2,FALSE),0)","v":0},0]
["",null,null,null,null,null,null,null,null,null,null,null,null,null,null,{"$f":"INDEX($A:$O,ROW(),MATCH('Rapportage per vraag'!$C$12,'Data leveranciersbeoordeling'!$1:$1,0))","v":0},{"$f":"IFERROR(VLOOKUP(INDEX($A:$O,ROW(),MATCH('Rapportage per vraag'!$C$12,'Data leveranciersbeoordeling'!$1:$1,0)),Leveranciersbeoordeling!$H$1:$I$5,2,FALSE),0)","v":0},0]
["",null,null,null,null,null,null,null,null,null,null,null,null,null,null,{"$f":"INDEX($A:$O,ROW(),MATCH('Rapportage per vraag'!$C$12,'Data leveranciersbeoordeling'!$1:$1,0))","v":0},{"$f":"IFERROR(VLOOKUP(INDEX($A:$O,ROW(),MATCH('Rapportage per vraag'!$C$12,'Data leveranciersbeoordeling'!$1:$1,0)),Leveranciersbeoordeling!$H$1:$I$5,2,FALSE),0)","v":0},0]
["",null,null,null,null,null,null,null,null,null,null,null,null,null,null,{"$f":"INDEX($A:$O,ROW(),MATCH('Rapportage per vraag'!$C$12,'Data leveranciersbeoordeling'!$1:$1,0))","v":0},{"$f":"IFERROR(VLOOKUP(INDEX($A:$O,ROW(),MATCH('Rapportage per vraag'!$C$12,'Data leveranciersbeoordeling'!$1:$1,0)),Leveranciersbeoordeling!$H$1:$I$5,2,FALSE),0)","v":0},0]
["",null,null,null,null,null,null,null,null,null,null,null,null,null,null,{"$f":"INDEX($A:$O,ROW(),MATCH('Rapportage per vraag'!$C$12,'Data leveranciersbeoordeling'!$1:$1,0))","v":0},{"$f":"IFERROR(VLOOKUP(INDEX($A:$O,ROW(),MATCH('Rapportage per vraag'!$C$12,'Data leveranciersbeoordeling'!$1:$1,0)),Leveranciersbeoordeling!$H$1:$I$5,2,FALSE),0)","v":0},0]
["",null,null,null,null,null,null,null,null,null,null,null,null,null,null,{"$f":"INDEX($A:$O,ROW(),MATCH('Rapportage per vraag'!$C$12,'Data leveranciersbeoordeling'!$1:$1,0))","v":0},{"$f":"IFERROR(VLOOKUP(INDEX($A:$O,ROW(),MATCH('Rapportage per vraag'!$C$12,'Data leveranciersbeoordeling'!$1:$1,0)),Leveranciersbeoordeling!$H$1:$I$5,2,FALSE),0)","v":0},0]
["",null,null,null,null,null,null,null,null,null,null,null,null,null,null,{"$f":"INDEX($A:$O,ROW(),MATCH('Rapportage per vraag'!$C$12,'Data leveranciersbeoordeling'!$1:$1,0))","v":0},{"$f":"IFERROR(VLOOKUP(INDEX($A:$O,ROW(),MATCH('Rapportage per vraag'!$C$12,'Data leveranciersbeoordeling'!$1:$1,0)),Leveranciersbeoordeling!$H$1:$I$5,2,FALSE),0)","v":0},0]
["",null,null,null,null,null,null,null,null,null,null,null,null,null,null,{"$f":"INDEX($A:$O,ROW(),MATCH('Rapportage per vraag'!$C$12,'Data leveranciersbeoordeling'!$1:$1,0))","v":0},{"$f":"IFERROR(VLOOKUP(INDEX($A:$O,ROW(),MATCH('Rapportage per vraag'!$C$12,'Data leveranciersbeoordeling'!$1:$1,0)),Leveranciersbeoordeling!$H$1:$I$5,2,FALSE),0)","v":0},0]
["",null,null,null,null,null,null,null,null,null,null,null,null,null,null,{"$f":"INDEX($A:$O,ROW(),MATCH('Rapportage per vraag'!$C$12,'Data leveranciersbeoordeling'!$1:$1,0))","v":0},{"$f":"IFERROR(VLOOKUP(INDEX($A:$O,ROW(),MATCH('Rapportage per vraag'!$C$12,'Data leveranciersbeoordeling'!$1:$1,0)),Leveranciersbeoordeling!$H$1:$I$5,2,FALSE),0)","v":0},0]
["",null,null,null,null,null,null,null,null,null,null,null,null,null,null,{"$f":"INDEX($A:$O,ROW(),MATCH('Rapportage per vraag'!$C$12,'Data leveranciersbeoordeling'!$1:$1,0))","v":0},{"$f":"IFERROR(VLOOKUP(INDEX($A:$O,ROW(),MATCH('Rapportage per vraag'!$C$12,'Data leveranciersbeoordeling'!$1:$1,0)),Leveranciersbeoordeling!$H$1:$I$5,2,FALSE),0)","v":0},0]
["",null,null,null,null,null,null,null,null,null,null,null,null,null,null,{"$f":"INDEX($A:$O,ROW(),MATCH('Rapportage per vraag'!$C$12,'Data leveranciersbeoordeling'!$1:$1,0))","v":0},{"$f":"IFERROR(VLOOKUP(INDEX($A:$O,ROW(),MATCH('Rapportage per vraag'!$C$12,'Data leveranciersbeoordeling'!$1:$1,0)),Leveranciersbeoordeling!$H$1:$I$5,2,FALSE),0)","v":0},0]
["",null,null,null,null,null,null,null,null,null,null,null,null,null,null,{"$f":"INDEX($A:$O,ROW(),MATCH('Rapportage per vraag'!$C$12,'Data leveranciersbeoordeling'!$1:$1,0))","v":0},{"$f":"IFERROR(VLOOKUP(INDEX($A:$O,ROW(),MATCH('Rapportage per vraag'!$C$12,'Data leveranciersbeoordeling'!$1:$1,0)),Leveranciersbeoordeling!$H$1:$I$5,2,FALSE),0)","v":0},0]
["",null,null,null,null,null,null,null,null,null,null,null,null,null,null,{"$f":"INDEX($A:$O,ROW(),MATCH('Rapportage per vraag'!$C$12,'Data leveranciersbeoordeling'!$1:$1,0))","v":0},{"$f":"IFERROR(VLOOKUP(INDEX($A:$O,ROW(),MATCH('Rapportage per vraag'!$C$12,'Data leveranciersbeoordeling'!$1:$1,0)),Leveranciersbeoordeling!$H$1:$I$5,2,FALSE),0)","v":0},0]
[{"$f":"CONCATENATE(B2627,C2627,D2627)","v":""},null,null,null,null,null,null,null,null,null,null,null,null,null,null,{"$f":"INDEX($A:$O,ROW(),MATCH('Rapportage per vraag'!$C$12,'Data leveranciersbeoordeling'!$1:$1,0))","v":0},{"$f":"IFERROR(VLOOKUP(INDEX($A:$O,ROW(),MATCH('Rapportage per vraag'!$C$12,'Data leveranciersbeoordeling'!$1:$1,0)),Leveranciersbeoordeling!$H$1:$I$5,2,FALSE),0)","v":0},0]
["",null,null,null,null,null,null,null,null,null,null,null,null,null,null,{"$f":"INDEX($A:$O,ROW(),MATCH('Rapportage per vraag'!$C$12,'Data leveranciersbeoordeling'!$1:$1,0))","v":0},{"$f":"IFERROR(VLOOKUP(INDEX($A:$O,ROW(),MATCH('Rapportage per vraag'!$C$12,'Data leveranciersbeoordeling'!$1:$1,0)),Leveranciersbeoordeling!$H$1:$I$5,2,FALSE),0)","v":0},0]
["",null,null,null,null,null,null,null,null,null,null,null,null,null,null,{"$f":"INDEX($A:$O,ROW(),MATCH('Rapportage per vraag'!$C$12,'Data leveranciersbeoordeling'!$1:$1,0))","v":0},{"$f":"IFERROR(VLOOKUP(INDEX($A:$O,ROW(),MATCH('Rapportage per vraag'!$C$12,'Data leveranciersbeoordeling'!$1:$1,0)),Leveranciersbeoordeling!$H$1:$I$5,2,FALSE),0)","v":0},0]
["",null,null,null,null,null,null,null,null,null,null,null,null,null,null,{"$f":"INDEX($A:$O,ROW(),MATCH('Rapportage per vraag'!$C$12,'Data leveranciersbeoordeling'!$1:$1,0))","v":0},{"$f":"IFERROR(VLOOKUP(INDEX($A:$O,ROW(),MATCH('Rapportage per vraag'!$C$12,'Data leveranciersbeoordeling'!$1:$1,0)),Leveranciersbeoordeling!$H$1:$I$5,2,FALSE),0)","v":0},0]
["",null,null,null,null,null,null,null,null,null,null,null,null,null,null,{"$f":"INDEX($A:$O,ROW(),MATCH('Rapportage per vraag'!$C$12,'Data leveranciersbeoordeling'!$1:$1,0))","v":0},{"$f":"IFERROR(VLOOKUP(INDEX($A:$O,ROW(),MATCH('Rapportage per vraag'!$C$12,'Data leveranciersbeoordeling'!$1:$1,0)),Leveranciersbeoordeling!$H$1:$I$5,2,FALSE),0)","v":0},0]
["",null,null,null,null,null,null,null,null,null,null,null,null,null,null,{"$f":"INDEX($A:$O,ROW(),MATCH('Rapportage per vraag'!$C$12,'Data leveranciersbeoordeling'!$1:$1,0))","v":0},{"$f":"IFERROR(VLOOKUP(INDEX($A:$O,ROW(),MATCH('Rapportage per vraag'!$C$12,'Data leveranciersbeoordeling'!$1:$1,0)),Leveranciersbeoordeling!$H$1:$I$5,2,FALSE),0)","v":0},0]
["",null,null,null,null,null,null,null,null,null,null,null,null,null,null,{"$f":"INDEX($A:$O,ROW(),MATCH('Rapportage per vraag'!$C$12,'Data leveranciersbeoordeling'!$1:$1,0))","v":0},{"$f":"IFERROR(VLOOKUP(INDEX($A:$O,ROW(),MATCH('Rapportage per vraag'!$C$12,'Data leveranciersbeoordeling'!$1:$1,0)),Leveranciersbeoordeling!$H$1:$I$5,2,FALSE),0)","v":0},0]
["",null,null,null,null,null,null,null,null,null,null,null,null,null,null,{"$f":"INDEX($A:$O,ROW(),MATCH('Rapportage per vraag'!$C$12,'Data leveranciersbeoordeling'!$1:$1,0))","v":0},{"$f":"IFERROR(VLOOKUP(INDEX($A:$O,ROW(),MATCH('Rapportage per vraag'!$C$12,'Data leveranciersbeoordeling'!$1:$1,0)),Leveranciersbeoordeling!$H$1:$I$5,2,FALSE),0)","v":0},0]
["",null,null,null,null,null,null,null,null,null,null,null,null,null,null,{"$f":"INDEX($A:$O,ROW(),MATCH('Rapportage per vraag'!$C$12,'Data leveranciersbeoordeling'!$1:$1,0))","v":0},{"$f":"IFERROR(VLOOKUP(INDEX($A:$O,ROW(),MATCH('Rapportage per vraag'!$C$12,'Data leveranciersbeoordeling'!$1:$1,0)),Leveranciersbeoordeling!$H$1:$I$5,2,FALSE),0)","v":0},0]
["",null,null,null,null,null,null,null,null,null,null,null,null,null,null,{"$f":"INDEX($A:$O,ROW(),MATCH('Rapportage per vraag'!$C$12,'Data leveranciersbeoordeling'!$1:$1,0))","v":0},{"$f":"IFERROR(VLOOKUP(INDEX($A:$O,ROW(),MATCH('Rapportage per vraag'!$C$12,'Data leveranciersbeoordeling'!$1:$1,0)),Leveranciersbeoordeling!$H$1:$I$5,2,FALSE),0)","v":0},0]
["",null,null,null,null,null,null,null,null,null,null,null,null,null,null,{"$f":"INDEX($A:$O,ROW(),MATCH('Rapportage per vraag'!$C$12,'Data leveranciersbeoordeling'!$1:$1,0))","v":0},{"$f":"IFERROR(VLOOKUP(INDEX($A:$O,ROW(),MATCH('Rapportage per vraag'!$C$12,'Data leveranciersbeoordeling'!$1:$1,0)),Leveranciersbeoordeling!$H$1:$I$5,2,FALSE),0)","v":0},0]
["",null,null,null,null,null,null,null,null,null,null,null,null,null,null,{"$f":"INDEX($A:$O,ROW(),MATCH('Rapportage per vraag'!$C$12,'Data leveranciersbeoordeling'!$1:$1,0))","v":0},{"$f":"IFERROR(VLOOKUP(INDEX($A:$O,ROW(),MATCH('Rapportage per vraag'!$C$12,'Data leveranciersbeoordeling'!$1:$1,0)),Leveranciersbeoordeling!$H$1:$I$5,2,FALSE),0)","v":0},0]
["",null,null,null,null,null,null,null,null,null,null,null,null,null,null,{"$f":"INDEX($A:$O,ROW(),MATCH('Rapportage per vraag'!$C$12,'Data leveranciersbeoordeling'!$1:$1,0))","v":0},{"$f":"IFERROR(VLOOKUP(INDEX($A:$O,ROW(),MATCH('Rapportage per vraag'!$C$12,'Data leveranciersbeoordeling'!$1:$1,0)),Leveranciersbeoordeling!$H$1:$I$5,2,FALSE),0)","v":0},0]
["",null,null,null,null,null,null,null,null,null,null,null,null,null,null,{"$f":"INDEX($A:$O,ROW(),MATCH('Rapportage per vraag'!$C$12,'Data leveranciersbeoordeling'!$1:$1,0))","v":0},{"$f":"IFERROR(VLOOKUP(INDEX($A:$O,ROW(),MATCH('Rapportage per vraag'!$C$12,'Data leveranciersbeoordeling'!$1:$1,0)),Leveranciersbeoordeling!$H$1:$I$5,2,FALSE),0)","v":0},0]
["",null,null,null,null,null,null,null,null,null,null,null,null,null,null,{"$f":"INDEX($A:$O,ROW(),MATCH('Rapportage per vraag'!$C$12,'Data leveranciersbeoordeling'!$1:$1,0))","v":0},{"$f":"IFERROR(VLOOKUP(INDEX($A:$O,ROW(),MATCH('Rapportage per vraag'!$C$12,'Data leveranciersbeoordeling'!$1:$1,0)),Leveranciersbeoordeling!$H$1:$I$5,2,FALSE),0)","v":0},0]
["",null,null,null,null,null,null,null,null,null,null,null,null,null,null,{"$f":"INDEX($A:$O,ROW(),MATCH('Rapportage per vraag'!$C$12,'Data leveranciersbeoordeling'!$1:$1,0))","v":0},{"$f":"IFERROR(VLOOKUP(INDEX($A:$O,ROW(),MATCH('Rapportage per vraag'!$C$12,'Data leveranciersbeoordeling'!$1:$1,0)),Leveranciersbeoordeling!$H$1:$I$5,2,FALSE),0)","v":0},0]
["",null,null,null,null,null,null,null,null,null,null,null,null,null,null,{"$f":"INDEX($A:$O,ROW(),MATCH('Rapportage per vraag'!$C$12,'Data leveranciersbeoordeling'!$1:$1,0))","v":0},{"$f":"IFERROR(VLOOKUP(INDEX($A:$O,ROW(),MATCH('Rapportage per vraag'!$C$12,'Data leveranciersbeoordeling'!$1:$1,0)),Leveranciersbeoordeling!$H$1:$I$5,2,FALSE),0)","v":0},0]
["",null,null,null,null,null,null,null,null,null,null,null,null,null,null,{"$f":"INDEX($A:$O,ROW(),MATCH('Rapportage per vraag'!$C$12,'Data leveranciersbeoordeling'!$1:$1,0))","v":0},{"$f":"IFERROR(VLOOKUP(INDEX($A:$O,ROW(),MATCH('Rapportage per vraag'!$C$12,'Data leveranciersbeoordeling'!$1:$1,0)),Leveranciersbeoordeling!$H$1:$I$5,2,FALSE),0)","v":0},0]
["",null,null,null,null,null,null,null,null,null,null,null,null,null,null,{"$f":"INDEX($A:$O,ROW(),MATCH('Rapportage per vraag'!$C$12,'Data leveranciersbeoordeling'!$1:$1,0))","v":0},{"$f":"IFERROR(VLOOKUP(INDEX($A:$O,ROW(),MATCH('Rapportage per vraag'!$C$12,'Data leveranciersbeoordeling'!$1:$1,0)),Leveranciersbeoordeling!$H$1:$I$5,2,FALSE),0)","v":0},0]
["",null,null,null,null,null,null,null,null,null,null,null,null,null,null,{"$f":"INDEX($A:$O,ROW(),MATCH('Rapportage per vraag'!$C$12,'Data leveranciersbeoordeling'!$1:$1,0))","v":0},{"$f":"IFERROR(VLOOKUP(INDEX($A:$O,ROW(),MATCH('Rapportage per vraag'!$C$12,'Data leveranciersbeoordeling'!$1:$1,0)),Leveranciersbeoordeling!$H$1:$I$5,2,FALSE),0)","v":0},0]
["",null,null,null,null,null,null,null,null,null,null,null,null,null,null,{"$f":"INDEX($A:$O,ROW(),MATCH('Rapportage per vraag'!$C$12,'Data leveranciersbeoordeling'!$1:$1,0))","v":0},{"$f":"IFERROR(VLOOKUP(INDEX($A:$O,ROW(),MATCH('Rapportage per vraag'!$C$12,'Data leveranciersbeoordeling'!$1:$1,0)),Leveranciersbeoordeling!$H$1:$I$5,2,FALSE),0)","v":0},0]
["",null,null,null,null,null,null,null,null,null,null,null,null,null,null,{"$f":"INDEX($A:$O,ROW(),MATCH('Rapportage per vraag'!$C$12,'Data leveranciersbeoordeling'!$1:$1,0))","v":0},{"$f":"IFERROR(VLOOKUP(INDEX($A:$O,ROW(),MATCH('Rapportage per vraag'!$C$12,'Data leveranciersbeoordeling'!$1:$1,0)),Leveranciersbeoordeling!$H$1:$I$5,2,FALSE),0)","v":0},0]
["",null,null,null,null,null,null,null,null,null,null,null,null,null,null,{"$f":"INDEX($A:$O,ROW(),MATCH('Rapportage per vraag'!$C$12,'Data leveranciersbeoordeling'!$1:$1,0))","v":0},{"$f":"IFERROR(VLOOKUP(INDEX($A:$O,ROW(),MATCH('Rapportage per vraag'!$C$12,'Data leveranciersbeoordeling'!$1:$1,0)),Leveranciersbeoordeling!$H$1:$I$5,2,FALSE),0)","v":0},0]
["",null,null,null,null,null,null,null,null,null,null,null,null,null,null,{"$f":"INDEX($A:$O,ROW(),MATCH('Rapportage per vraag'!$C$12,'Data leveranciersbeoordeling'!$1:$1,0))","v":0},{"$f":"IFERROR(VLOOKUP(INDEX($A:$O,ROW(),MATCH('Rapportage per vraag'!$C$12,'Data leveranciersbeoordeling'!$1:$1,0)),Leveranciersbeoordeling!$H$1:$I$5,2,FALSE),0)","v":0},0]
["",null,null,null,null,null,null,null,null,null,null,null,null,null,null,{"$f":"INDEX($A:$O,ROW(),MATCH('Rapportage per vraag'!$C$12,'Data leveranciersbeoordeling'!$1:$1,0))","v":0},{"$f":"IFERROR(VLOOKUP(INDEX($A:$O,ROW(),MATCH('Rapportage per vraag'!$C$12,'Data leveranciersbeoordeling'!$1:$1,0)),Leveranciersbeoordeling!$H$1:$I$5,2,FALSE),0)","v":0},0]
["",null,null,null,null,null,null,null,null,null,null,null,null,null,null,{"$f":"INDEX($A:$O,ROW(),MATCH('Rapportage per vraag'!$C$12,'Data leveranciersbeoordeling'!$1:$1,0))","v":0},{"$f":"IFERROR(VLOOKUP(INDEX($A:$O,ROW(),MATCH('Rapportage per vraag'!$C$12,'Data leveranciersbeoordeling'!$1:$1,0)),Leveranciersbeoordeling!$H$1:$I$5,2,FALSE),0)","v":0},0]
["",null,null,null,null,null,null,null,null,null,null,null,null,null,null,{"$f":"INDEX($A:$O,ROW(),MATCH('Rapportage per vraag'!$C$12,'Data leveranciersbeoordeling'!$1:$1,0))","v":0},{"$f":"IFERROR(VLOOKUP(INDEX($A:$O,ROW(),MATCH('Rapportage per vraag'!$C$12,'Data leveranciersbeoordeling'!$1:$1,0)),Leveranciersbeoordeling!$H$1:$I$5,2,FALSE),0)","v":0},0]
["",null,null,null,null,null,null,null,null,null,null,null,null,null,null,{"$f":"INDEX($A:$O,ROW(),MATCH('Rapportage per vraag'!$C$12,'Data leveranciersbeoordeling'!$1:$1,0))","v":0},{"$f":"IFERROR(VLOOKUP(INDEX($A:$O,ROW(),MATCH('Rapportage per vraag'!$C$12,'Data leveranciersbeoordeling'!$1:$1,0)),Leveranciersbeoordeling!$H$1:$I$5,2,FALSE),0)","v":0},0]
["",null,null,null,null,null,null,null,null,null,null,null,null,null,null,{"$f":"INDEX($A:$O,ROW(),MATCH('Rapportage per vraag'!$C$12,'Data leveranciersbeoordeling'!$1:$1,0))","v":0},{"$f":"IFERROR(VLOOKUP(INDEX($A:$O,ROW(),MATCH('Rapportage per vraag'!$C$12,'Data leveranciersbeoordeling'!$1:$1,0)),Leveranciersbeoordeling!$H$1:$I$5,2,FALSE),0)","v":0},0]
["",null,null,null,null,null,null,null,null,null,null,null,null,null,null,{"$f":"INDEX($A:$O,ROW(),MATCH('Rapportage per vraag'!$C$12,'Data leveranciersbeoordeling'!$1:$1,0))","v":0},{"$f":"IFERROR(VLOOKUP(INDEX($A:$O,ROW(),MATCH('Rapportage per vraag'!$C$12,'Data leveranciersbeoordeling'!$1:$1,0)),Leveranciersbeoordeling!$H$1:$I$5,2,FALSE),0)","v":0},0]
["",null,null,null,null,null,null,null,null,null,null,null,null,null,null,{"$f":"INDEX($A:$O,ROW(),MATCH('Rapportage per vraag'!$C$12,'Data leveranciersbeoordeling'!$1:$1,0))","v":0},{"$f":"IFERROR(VLOOKUP(INDEX($A:$O,ROW(),MATCH('Rapportage per vraag'!$C$12,'Data leveranciersbeoordeling'!$1:$1,0)),Leveranciersbeoordeling!$H$1:$I$5,2,FALSE),0)","v":0},0]
["",null,null,null,null,null,null,null,null,null,null,null,null,null,null,{"$f":"INDEX($A:$O,ROW(),MATCH('Rapportage per vraag'!$C$12,'Data leveranciersbeoordeling'!$1:$1,0))","v":0},{"$f":"IFERROR(VLOOKUP(INDEX($A:$O,ROW(),MATCH('Rapportage per vraag'!$C$12,'Data leveranciersbeoordeling'!$1:$1,0)),Leveranciersbeoordeling!$H$1:$I$5,2,FALSE),0)","v":0},0]
["",null,null,null,null,null,null,null,null,null,null,null,null,null,null,{"$f":"INDEX($A:$O,ROW(),MATCH('Rapportage per vraag'!$C$12,'Data leveranciersbeoordeling'!$1:$1,0))","v":0},{"$f":"IFERROR(VLOOKUP(INDEX($A:$O,ROW(),MATCH('Rapportage per vraag'!$C$12,'Data leveranciersbeoordeling'!$1:$1,0)),Leveranciersbeoordeling!$H$1:$I$5,2,FALSE),0)","v":0},0]
["",null,null,null,null,null,null,null,null,null,null,null,null,null,null,{"$f":"INDEX($A:$O,ROW(),MATCH('Rapportage per vraag'!$C$12,'Data leveranciersbeoordeling'!$1:$1,0))","v":0},{"$f":"IFERROR(VLOOKUP(INDEX($A:$O,ROW(),MATCH('Rapportage per vraag'!$C$12,'Data leveranciersbeoordeling'!$1:$1,0)),Leveranciersbeoordeling!$H$1:$I$5,2,FALSE),0)","v":0},0]
["",null,null,null,null,null,null,null,null,null,null,null,null,null,null,{"$f":"INDEX($A:$O,ROW(),MATCH('Rapportage per vraag'!$C$12,'Data leveranciersbeoordeling'!$1:$1,0))","v":0},{"$f":"IFERROR(VLOOKUP(INDEX($A:$O,ROW(),MATCH('Rapportage per vraag'!$C$12,'Data leveranciersbeoordeling'!$1:$1,0)),Leveranciersbeoordeling!$H$1:$I$5,2,FALSE),0)","v":0},0]
["",null,null,null,null,null,null,null,null,null,null,null,null,null,null,{"$f":"INDEX($A:$O,ROW(),MATCH('Rapportage per vraag'!$C$12,'Data leveranciersbeoordeling'!$1:$1,0))","v":0},{"$f":"IFERROR(VLOOKUP(INDEX($A:$O,ROW(),MATCH('Rapportage per vraag'!$C$12,'Data leveranciersbeoordeling'!$1:$1,0)),Leveranciersbeoordeling!$H$1:$I$5,2,FALSE),0)","v":0},0]
["",null,null,null,null,null,null,null,null,null,null,null,null,null,null,{"$f":"INDEX($A:$O,ROW(),MATCH('Rapportage per vraag'!$C$12,'Data leveranciersbeoordeling'!$1:$1,0))","v":0},{"$f":"IFERROR(VLOOKUP(INDEX($A:$O,ROW(),MATCH('Rapportage per vraag'!$C$12,'Data leveranciersbeoordeling'!$1:$1,0)),Leveranciersbeoordeling!$H$1:$I$5,2,FALSE),0)","v":0},0]
["",null,null,null,null,null,null,null,null,null,null,null,null,null,null,{"$f":"INDEX($A:$O,ROW(),MATCH('Rapportage per vraag'!$C$12,'Data leveranciersbeoordeling'!$1:$1,0))","v":0},{"$f":"IFERROR(VLOOKUP(INDEX($A:$O,ROW(),MATCH('Rapportage per vraag'!$C$12,'Data leveranciersbeoordeling'!$1:$1,0)),Leveranciersbeoordeling!$H$1:$I$5,2,FALSE),0)","v":0},0]
["",null,null,null,null,null,null,null,null,null,null,null,null,null,null,{"$f":"INDEX($A:$O,ROW(),MATCH('Rapportage per vraag'!$C$12,'Data leveranciersbeoordeling'!$1:$1,0))","v":0},{"$f":"IFERROR(VLOOKUP(INDEX($A:$O,ROW(),MATCH('Rapportage per vraag'!$C$12,'Data leveranciersbeoordeling'!$1:$1,0)),Leveranciersbeoordeling!$H$1:$I$5,2,FALSE),0)","v":0},0]
["",null,null,null,null,null,null,null,null,null,null,null,null,null,null,{"$f":"INDEX($A:$O,ROW(),MATCH('Rapportage per vraag'!$C$12,'Data leveranciersbeoordeling'!$1:$1,0))","v":0},{"$f":"IFERROR(VLOOKUP(INDEX($A:$O,ROW(),MATCH('Rapportage per vraag'!$C$12,'Data leveranciersbeoordeling'!$1:$1,0)),Leveranciersbeoordeling!$H$1:$I$5,2,FALSE),0)","v":0},0]
["",null,null,null,null,null,null,null,null,null,null,null,null,null,null,{"$f":"INDEX($A:$O,ROW(),MATCH('Rapportage per vraag'!$C$12,'Data leveranciersbeoordeling'!$1:$1,0))","v":0},{"$f":"IFERROR(VLOOKUP(INDEX($A:$O,ROW(),MATCH('Rapportage per vraag'!$C$12,'Data leveranciersbeoordeling'!$1:$1,0)),Leveranciersbeoordeling!$H$1:$I$5,2,FALSE),0)","v":0},0]
["",null,null,null,null,null,null,null,null,null,null,null,null,null,null,{"$f":"INDEX($A:$O,ROW(),MATCH('Rapportage per vraag'!$C$12,'Data leveranciersbeoordeling'!$1:$1,0))","v":0},{"$f":"IFERROR(VLOOKUP(INDEX($A:$O,ROW(),MATCH('Rapportage per vraag'!$C$12,'Data leveranciersbeoordeling'!$1:$1,0)),Leveranciersbeoordeling!$H$1:$I$5,2,FALSE),0)","v":0},0]
["",null,null,null,null,null,null,null,null,null,null,null,null,null,null,{"$f":"INDEX($A:$O,ROW(),MATCH('Rapportage per vraag'!$C$12,'Data leveranciersbeoordeling'!$1:$1,0))","v":0},{"$f":"IFERROR(VLOOKUP(INDEX($A:$O,ROW(),MATCH('Rapportage per vraag'!$C$12,'Data leveranciersbeoordeling'!$1:$1,0)),Leveranciersbeoordeling!$H$1:$I$5,2,FALSE),0)","v":0},0]
["",null,null,null,null,null,null,null,null,null,null,null,null,null,null,{"$f":"INDEX($A:$O,ROW(),MATCH('Rapportage per vraag'!$C$12,'Data leveranciersbeoordeling'!$1:$1,0))","v":0},{"$f":"IFERROR(VLOOKUP(INDEX($A:$O,ROW(),MATCH('Rapportage per vraag'!$C$12,'Data leveranciersbeoordeling'!$1:$1,0)),Leveranciersbeoordeling!$H$1:$I$5,2,FALSE),0)","v":0},0]
["",null,null,null,null,null,null,null,null,null,null,null,null,null,null,{"$f":"INDEX($A:$O,ROW(),MATCH('Rapportage per vraag'!$C$12,'Data leveranciersbeoordeling'!$1:$1,0))","v":0},{"$f":"IFERROR(VLOOKUP(INDEX($A:$O,ROW(),MATCH('Rapportage per vraag'!$C$12,'Data leveranciersbeoordeling'!$1:$1,0)),Leveranciersbeoordeling!$H$1:$I$5,2,FALSE),0)","v":0},0]
["",null,null,null,null,null,null,null,null,null,null,null,null,null,null,{"$f":"INDEX($A:$O,ROW(),MATCH('Rapportage per vraag'!$C$12,'Data leveranciersbeoordeling'!$1:$1,0))","v":0},{"$f":"IFERROR(VLOOKUP(INDEX($A:$O,ROW(),MATCH('Rapportage per vraag'!$C$12,'Data leveranciersbeoordeling'!$1:$1,0)),Leveranciersbeoordeling!$H$1:$I$5,2,FALSE),0)","v":0},0]
["",null,null,null,null,null,null,null,null,null,null,null,null,null,null,{"$f":"INDEX($A:$O,ROW(),MATCH('Rapportage per vraag'!$C$12,'Data leveranciersbeoordeling'!$1:$1,0))","v":0},{"$f":"IFERROR(VLOOKUP(INDEX($A:$O,ROW(),MATCH('Rapportage per vraag'!$C$12,'Data leveranciersbeoordeling'!$1:$1,0)),Leveranciersbeoordeling!$H$1:$I$5,2,FALSE),0)","v":0},0]
["",null,null,null,null,null,null,null,null,null,null,null,null,null,null,{"$f":"INDEX($A:$O,ROW(),MATCH('Rapportage per vraag'!$C$12,'Data leveranciersbeoordeling'!$1:$1,0))","v":0},{"$f":"IFERROR(VLOOKUP(INDEX($A:$O,ROW(),MATCH('Rapportage per vraag'!$C$12,'Data leveranciersbeoordeling'!$1:$1,0)),Leveranciersbeoordeling!$H$1:$I$5,2,FALSE),0)","v":0},0]
["",null,null,null,null,null,null,null,null,null,null,null,null,null,null,{"$f":"INDEX($A:$O,ROW(),MATCH('Rapportage per vraag'!$C$12,'Data leveranciersbeoordeling'!$1:$1,0))","v":0},{"$f":"IFERROR(VLOOKUP(INDEX($A:$O,ROW(),MATCH('Rapportage per vraag'!$C$12,'Data leveranciersbeoordeling'!$1:$1,0)),Leveranciersbeoordeling!$H$1:$I$5,2,FALSE),0)","v":0},0]
["",null,null,null,null,null,null,null,null,null,null,null,null,null,null,{"$f":"INDEX($A:$O,ROW(),MATCH('Rapportage per vraag'!$C$12,'Data leveranciersbeoordeling'!$1:$1,0))","v":0},{"$f":"IFERROR(VLOOKUP(INDEX($A:$O,ROW(),MATCH('Rapportage per vraag'!$C$12,'Data leveranciersbeoordeling'!$1:$1,0)),Leveranciersbeoordeling!$H$1:$I$5,2,FALSE),0)","v":0},0]
["",null,null,null,null,null,null,null,null,null,null,null,null,null,null,{"$f":"INDEX($A:$O,ROW(),MATCH('Rapportage per vraag'!$C$12,'Data leveranciersbeoordeling'!$1:$1,0))","v":0},{"$f":"IFERROR(VLOOKUP(INDEX($A:$O,ROW(),MATCH('Rapportage per vraag'!$C$12,'Data leveranciersbeoordeling'!$1:$1,0)),Leveranciersbeoordeling!$H$1:$I$5,2,FALSE),0)","v":0},0]
["",null,null,null,null,null,null,null,null,null,null,null,null,null,null,{"$f":"INDEX($A:$O,ROW(),MATCH('Rapportage per vraag'!$C$12,'Data leveranciersbeoordeling'!$1:$1,0))","v":0},{"$f":"IFERROR(VLOOKUP(INDEX($A:$O,ROW(),MATCH('Rapportage per vraag'!$C$12,'Data leveranciersbeoordeling'!$1:$1,0)),Leveranciersbeoordeling!$H$1:$I$5,2,FALSE),0)","v":0},0]
["",null,null,null,null,null,null,null,null,null,null,null,null,null,null,{"$f":"INDEX($A:$O,ROW(),MATCH('Rapportage per vraag'!$C$12,'Data leveranciersbeoordeling'!$1:$1,0))","v":0},{"$f":"IFERROR(VLOOKUP(INDEX($A:$O,ROW(),MATCH('Rapportage per vraag'!$C$12,'Data leveranciersbeoordeling'!$1:$1,0)),Leveranciersbeoordeling!$H$1:$I$5,2,FALSE),0)","v":0},{"$f":"IF(T(P2822)=P2822,Q2822,P2822)","v":0}]
["",null,null,null,null,null,null,null,null,null,null,null,null,null,null,{"$f":"INDEX($A:$O,ROW(),MATCH('Rapportage per vraag'!$C$12,'Data leveranciersbeoordeling'!$1:$1,0))","v":0},{"$f":"IFERROR(VLOOKUP(INDEX($A:$O,ROW(),MATCH('Rapportage per vraag'!$C$12,'Data leveranciersbeoordeling'!$1:$1,0)),Leveranciersbeoordeling!$H$1:$I$5,2,FALSE),0)","v":0},0]
["",null,null,null,null,null,null,null,null,null,null,null,null,null,null,{"$f":"INDEX($A:$O,ROW(),MATCH('Rapportage per vraag'!$C$12,'Data leveranciersbeoordeling'!$1:$1,0))","v":0},{"$f":"IFERROR(VLOOKUP(INDEX($A:$O,ROW(),MATCH('Rapportage per vraag'!$C$12,'Data leveranciersbeoordeling'!$1:$1,0)),Leveranciersbeoordeling!$H$1:$I$5,2,FALSE),0)","v":0},0]
["",null,null,null,null,null,null,null,null,null,null,null,null,null,null,{"$f":"INDEX($A:$O,ROW(),MATCH('Rapportage per vraag'!$C$12,'Data leveranciersbeoordeling'!$1:$1,0))","v":0},{"$f":"IFERROR(VLOOKUP(INDEX($A:$O,ROW(),MATCH('Rapportage per vraag'!$C$12,'Data leveranciersbeoordeling'!$1:$1,0)),Leveranciersbeoordeling!$H$1:$I$5,2,FALSE),0)","v":0},0]
["",null,null,null,null,null,null,null,null,null,null,null,null,null,null,{"$f":"INDEX($A:$O,ROW(),MATCH('Rapportage per vraag'!$C$12,'Data leveranciersbeoordeling'!$1:$1,0))","v":0},{"$f":"IFERROR(VLOOKUP(INDEX($A:$O,ROW(),MATCH('Rapportage per vraag'!$C$12,'Data leveranciersbeoordeling'!$1:$1,0)),Leveranciersbeoordeling!$H$1:$I$5,2,FALSE),0)","v":0},0]
["",null,null,null,null,null,null,null,null,null,null,null,null,null,null,{"$f":"INDEX($A:$O,ROW(),MATCH('Rapportage per vraag'!$C$12,'Data leveranciersbeoordeling'!$1:$1,0))","v":0},{"$f":"IFERROR(VLOOKUP(INDEX($A:$O,ROW(),MATCH('Rapportage per vraag'!$C$12,'Data leveranciersbeoordeling'!$1:$1,0)),Leveranciersbeoordeling!$H$1:$I$5,2,FALSE),0)","v":0},0]
["",null,null,null,null,null,null,null,null,null,null,null,null,null,null,{"$f":"INDEX($A:$O,ROW(),MATCH('Rapportage per vraag'!$C$12,'Data leveranciersbeoordeling'!$1:$1,0))","v":0},{"$f":"IFERROR(VLOOKUP(INDEX($A:$O,ROW(),MATCH('Rapportage per vraag'!$C$12,'Data leveranciersbeoordeling'!$1:$1,0)),Leveranciersbeoordeling!$H$1:$I$5,2,FALSE),0)","v":0},0]
["",null,null,null,null,null,null,null,null,null,null,null,null,null,null,{"$f":"INDEX($A:$O,ROW(),MATCH('Rapportage per vraag'!$C$12,'Data leveranciersbeoordeling'!$1:$1,0))","v":0},{"$f":"IFERROR(VLOOKUP(INDEX($A:$O,ROW(),MATCH('Rapportage per vraag'!$C$12,'Data leveranciersbeoordeling'!$1:$1,0)),Leveranciersbeoordeling!$H$1:$I$5,2,FALSE),0)","v":0},0]
["",null,null,null,null,null,null,null,null,null,null,null,null,null,null,{"$f":"INDEX($A:$O,ROW(),MATCH('Rapportage per vraag'!$C$12,'Data leveranciersbeoordeling'!$1:$1,0))","v":0},{"$f":"IFERROR(VLOOKUP(INDEX($A:$O,ROW(),MATCH('Rapportage per vraag'!$C$12,'Data leveranciersbeoordeling'!$1:$1,0)),Leveranciersbeoordeling!$H$1:$I$5,2,FALSE),0)","v":0},0]
["",null,null,null,null,null,null,null,null,null,null,null,null,null,null,{"$f":"INDEX($A:$O,ROW(),MATCH('Rapportage per vraag'!$C$12,'Data leveranciersbeoordeling'!$1:$1,0))","v":0},{"$f":"IFERROR(VLOOKUP(INDEX($A:$O,ROW(),MATCH('Rapportage per vraag'!$C$12,'Data leveranciersbeoordeling'!$1:$1,0)),Leveranciersbeoordeling!$H$1:$I$5,2,FALSE),0)","v":0},0]
["",null,null,null,null,null,null,null,null,null,null,null,null,null,null,{"$f":"INDEX($A:$O,ROW(),MATCH('Rapportage per vraag'!$C$12,'Data leveranciersbeoordeling'!$1:$1,0))","v":0},{"$f":"IFERROR(VLOOKUP(INDEX($A:$O,ROW(),MATCH('Rapportage per vraag'!$C$12,'Data leveranciersbeoordeling'!$1:$1,0)),Leveranciersbeoordeling!$H$1:$I$5,2,FALSE),0)","v":0},0]
["",null,null,null,null,null,null,null,null,null,null,null,null,null,null,{"$f":"INDEX($A:$O,ROW(),MATCH('Rapportage per vraag'!$C$12,'Data leveranciersbeoordeling'!$1:$1,0))","v":0},{"$f":"IFERROR(VLOOKUP(INDEX($A:$O,ROW(),MATCH('Rapportage per vraag'!$C$12,'Data leveranciersbeoordeling'!$1:$1,0)),Leveranciersbeoordeling!$H$1:$I$5,2,FALSE),0)","v":0},0]
["",null,null,null,null,null,null,null,null,null,null,null,null,null,null,{"$f":"INDEX($A:$O,ROW(),MATCH('Rapportage per vraag'!$C$12,'Data leveranciersbeoordeling'!$1:$1,0))","v":0},{"$f":"IFERROR(VLOOKUP(INDEX($A:$O,ROW(),MATCH('Rapportage per vraag'!$C$12,'Data leveranciersbeoordeling'!$1:$1,0)),Leveranciersbeoordeling!$H$1:$I$5,2,FALSE),0)","v":0},0]
["",null,null,null,null,null,null,null,null,null,null,null,null,null,null,{"$f":"INDEX($A:$O,ROW(),MATCH('Rapportage per vraag'!$C$12,'Data leveranciersbeoordeling'!$1:$1,0))","v":0},{"$f":"IFERROR(VLOOKUP(INDEX($A:$O,ROW(),MATCH('Rapportage per vraag'!$C$12,'Data leveranciersbeoordeling'!$1:$1,0)),Leveranciersbeoordeling!$H$1:$I$5,2,FALSE),0)","v":0},0]
["",null,null,null,null,null,null,null,null,null,null,null,null,null,null,{"$f":"INDEX($A:$O,ROW(),MATCH('Rapportage per vraag'!$C$12,'Data leveranciersbeoordeling'!$1:$1,0))","v":0},{"$f":"IFERROR(VLOOKUP(INDEX($A:$O,ROW(),MATCH('Rapportage per vraag'!$C$12,'Data leveranciersbeoordeling'!$1:$1,0)),Leveranciersbeoordeling!$H$1:$I$5,2,FALSE),0)","v":0},0]
["",null,null,null,null,null,null,null,null,null,null,null,null,null,null,{"$f":"INDEX($A:$O,ROW(),MATCH('Rapportage per vraag'!$C$12,'Data leveranciersbeoordeling'!$1:$1,0))","v":0},{"$f":"IFERROR(VLOOKUP(INDEX($A:$O,ROW(),MATCH('Rapportage per vraag'!$C$12,'Data leveranciersbeoordeling'!$1:$1,0)),Leveranciersbeoordeling!$H$1:$I$5,2,FALSE),0)","v":0},0]
["",null,null,null,null,null,null,null,null,null,null,null,null,null,null,{"$f":"INDEX($A:$O,ROW(),MATCH('Rapportage per vraag'!$C$12,'Data leveranciersbeoordeling'!$1:$1,0))","v":0},{"$f":"IFERROR(VLOOKUP(INDEX($A:$O,ROW(),MATCH('Rapportage per vraag'!$C$12,'Data leveranciersbeoordeling'!$1:$1,0)),Leveranciersbeoordeling!$H$1:$I$5,2,FALSE),0)","v":0},0]
["",null,null,null,null,null,null,null,null,null,null,null,null,null,null,{"$f":"INDEX($A:$O,ROW(),MATCH('Rapportage per vraag'!$C$12,'Data leveranciersbeoordeling'!$1:$1,0))","v":0},{"$f":"IFERROR(VLOOKUP(INDEX($A:$O,ROW(),MATCH('Rapportage per vraag'!$C$12,'Data leveranciersbeoordeling'!$1:$1,0)),Leveranciersbeoordeling!$H$1:$I$5,2,FALSE),0)","v":0},0]
["",null,null,null,null,null,null,null,null,null,null,null,null,null,null,{"$f":"INDEX($A:$O,ROW(),MATCH('Rapportage per vraag'!$C$12,'Data leveranciersbeoordeling'!$1:$1,0))","v":0},{"$f":"IFERROR(VLOOKUP(INDEX($A:$O,ROW(),MATCH('Rapportage per vraag'!$C$12,'Data leveranciersbeoordeling'!$1:$1,0)),Leveranciersbeoordeling!$H$1:$I$5,2,FALSE),0)","v":0},0]
["",null,null,null,null,null,null,null,null,null,null,null,null,null,null,{"$f":"INDEX($A:$O,ROW(),MATCH('Rapportage per vraag'!$C$12,'Data leveranciersbeoordeling'!$1:$1,0))","v":0},{"$f":"IFERROR(VLOOKUP(INDEX($A:$O,ROW(),MATCH('Rapportage per vraag'!$C$12,'Data leveranciersbeoordeling'!$1:$1,0)),Leveranciersbeoordeling!$H$1:$I$5,2,FALSE),0)","v":0},0]
["",null,null,null,null,null,null,null,null,null,null,null,null,null,null,{"$f":"INDEX($A:$O,ROW(),MATCH('Rapportage per vraag'!$C$12,'Data leveranciersbeoordeling'!$1:$1,0))","v":0},{"$f":"IFERROR(VLOOKUP(INDEX($A:$O,ROW(),MATCH('Rapportage per vraag'!$C$12,'Data leveranciersbeoordeling'!$1:$1,0)),Leveranciersbeoordeling!$H$1:$I$5,2,FALSE),0)","v":0},0]
["",null,null,null,null,null,null,null,null,null,null,null,null,null,null,{"$f":"INDEX($A:$O,ROW(),MATCH('Rapportage per vraag'!$C$12,'Data leveranciersbeoordeling'!$1:$1,0))","v":0},{"$f":"IFERROR(VLOOKUP(INDEX($A:$O,ROW(),MATCH('Rapportage per vraag'!$C$12,'Data leveranciersbeoordeling'!$1:$1,0)),Leveranciersbeoordeling!$H$1:$I$5,2,FALSE),0)","v":0},0]
["",null,null,null,null,null,null,null,null,null,null,null,null,null,null,{"$f":"INDEX($A:$O,ROW(),MATCH('Rapportage per vraag'!$C$12,'Data leveranciersbeoordeling'!$1:$1,0))","v":0},{"$f":"IFERROR(VLOOKUP(INDEX($A:$O,ROW(),MATCH('Rapportage per vraag'!$C$12,'Data leveranciersbeoordeling'!$1:$1,0)),Leveranciersbeoordeling!$H$1:$I$5,2,FALSE),0)","v":0},0]
["",null,null,null,null,null,null,null,null,null,null,null,null,null,null,{"$f":"INDEX($A:$O,ROW(),MATCH('Rapportage per vraag'!$C$12,'Data leveranciersbeoordeling'!$1:$1,0))","v":0},{"$f":"IFERROR(VLOOKUP(INDEX($A:$O,ROW(),MATCH('Rapportage per vraag'!$C$12,'Data leveranciersbeoordeling'!$1:$1,0)),Leveranciersbeoordeling!$H$1:$I$5,2,FALSE),0)","v":0},0]
["",null,null,null,null,null,null,null,null,null,null,null,null,null,null,{"$f":"INDEX($A:$O,ROW(),MATCH('Rapportage per vraag'!$C$12,'Data leveranciersbeoordeling'!$1:$1,0))","v":0},{"$f":"IFERROR(VLOOKUP(INDEX($A:$O,ROW(),MATCH('Rapportage per vraag'!$C$12,'Data leveranciersbeoordeling'!$1:$1,0)),Leveranciersbeoordeling!$H$1:$I$5,2,FALSE),0)","v":0},0]
["",null,null,null,null,null,null,null,null,null,null,null,null,null,null,{"$f":"INDEX($A:$O,ROW(),MATCH('Rapportage per vraag'!$C$12,'Data leveranciersbeoordeling'!$1:$1,0))","v":0},{"$f":"IFERROR(VLOOKUP(INDEX($A:$O,ROW(),MATCH('Rapportage per vraag'!$C$12,'Data leveranciersbeoordeling'!$1:$1,0)),Leveranciersbeoordeling!$H$1:$I$5,2,FALSE),0)","v":0},0]
["",null,null,null,null,null,null,null,null,null,null,null,null,null,null,{"$f":"INDEX($A:$O,ROW(),MATCH('Rapportage per vraag'!$C$12,'Data leveranciersbeoordeling'!$1:$1,0))","v":0},{"$f":"IFERROR(VLOOKUP(INDEX($A:$O,ROW(),MATCH('Rapportage per vraag'!$C$12,'Data leveranciersbeoordeling'!$1:$1,0)),Leveranciersbeoordeling!$H$1:$I$5,2,FALSE),0)","v":0},0]
["",null,null,null,null,null,null,null,null,null,null,null,null,null,null,{"$f":"INDEX($A:$O,ROW(),MATCH('Rapportage per vraag'!$C$12,'Data leveranciersbeoordeling'!$1:$1,0))","v":0},{"$f":"IFERROR(VLOOKUP(INDEX($A:$O,ROW(),MATCH('Rapportage per vraag'!$C$12,'Data leveranciersbeoordeling'!$1:$1,0)),Leveranciersbeoordeling!$H$1:$I$5,2,FALSE),0)","v":0},0]
["",null,null,null,null,null,null,null,null,null,null,null,null,null,null,{"$f":"INDEX($A:$O,ROW(),MATCH('Rapportage per vraag'!$C$12,'Data leveranciersbeoordeling'!$1:$1,0))","v":0},{"$f":"IFERROR(VLOOKUP(INDEX($A:$O,ROW(),MATCH('Rapportage per vraag'!$C$12,'Data leveranciersbeoordeling'!$1:$1,0)),Leveranciersbeoordeling!$H$1:$I$5,2,FALSE),0)","v":0},0]
["",null,null,null,null,null,null,null,null,null,null,null,null,null,null,{"$f":"INDEX($A:$O,ROW(),MATCH('Rapportage per vraag'!$C$12,'Data leveranciersbeoordeling'!$1:$1,0))","v":0},{"$f":"IFERROR(VLOOKUP(INDEX($A:$O,ROW(),MATCH('Rapportage per vraag'!$C$12,'Data leveranciersbeoordeling'!$1:$1,0)),Leveranciersbeoordeling!$H$1:$I$5,2,FALSE),0)","v":0},0]
["",null,null,null,null,null,null,null,null,null,null,null,null,null,null,{"$f":"INDEX($A:$O,ROW(),MATCH('Rapportage per vraag'!$C$12,'Data leveranciersbeoordeling'!$1:$1,0))","v":0},{"$f":"IFERROR(VLOOKUP(INDEX($A:$O,ROW(),MATCH('Rapportage per vraag'!$C$12,'Data leveranciersbeoordeling'!$1:$1,0)),Leveranciersbeoordeling!$H$1:$I$5,2,FALSE),0)","v":0},0]
["",null,null,null,null,null,null,null,null,null,null,null,null,null,null,{"$f":"INDEX($A:$O,ROW(),MATCH('Rapportage per vraag'!$C$12,'Data leveranciersbeoordeling'!$1:$1,0))","v":0},{"$f":"IFERROR(VLOOKUP(INDEX($A:$O,ROW(),MATCH('Rapportage per vraag'!$C$12,'Data leveranciersbeoordeling'!$1:$1,0)),Leveranciersbeoordeling!$H$1:$I$5,2,FALSE),0)","v":0},0]
["",null,null,null,null,null,null,null,null,null,null,null,null,null,null,{"$f":"INDEX($A:$O,ROW(),MATCH('Rapportage per vraag'!$C$12,'Data leveranciersbeoordeling'!$1:$1,0))","v":0},{"$f":"IFERROR(VLOOKUP(INDEX($A:$O,ROW(),MATCH('Rapportage per vraag'!$C$12,'Data leveranciersbeoordeling'!$1:$1,0)),Leveranciersbeoordeling!$H$1:$I$5,2,FALSE),0)","v":0},0]
[{"$f":"CONCATENATE(B2947,C2947,D2947)","v":""},null,null,null,null,null,null,null,null,null,null,null,null,null,null,{"$f":"INDEX($A:$O,ROW(),MATCH('Rapportage per vraag'!$C$12,'Data leveranciersbeoordeling'!$1:$1,0))","v":0},{"$f":"IFERROR(VLOOKUP(INDEX($A:$O,ROW(),MATCH('Rapportage per vraag'!$C$12,'Data leveranciersbeoordeling'!$1:$1,0)),Leveranciersbeoordeling!$H$1:$I$5,2,FALSE),0)","v":0},0]
["",null,null,null,null,null,null,null,null,null,null,null,null,null,null,{"$f":"INDEX($A:$O,ROW(),MATCH('Rapportage per vraag'!$C$12,'Data leveranciersbeoordeling'!$1:$1,0))","v":0},{"$f":"IFERROR(VLOOKUP(INDEX($A:$O,ROW(),MATCH('Rapportage per vraag'!$C$12,'Data leveranciersbeoordeling'!$1:$1,0)),Leveranciersbeoordeling!$H$1:$I$5,2,FALSE),0)","v":0},0]
["",null,null,null,null,null,null,null,null,null,null,null,null,null,null,{"$f":"INDEX($A:$O,ROW(),MATCH('Rapportage per vraag'!$C$12,'Data leveranciersbeoordeling'!$1:$1,0))","v":0},{"$f":"IFERROR(VLOOKUP(INDEX($A:$O,ROW(),MATCH('Rapportage per vraag'!$C$12,'Data leveranciersbeoordeling'!$1:$1,0)),Leveranciersbeoordeling!$H$1:$I$5,2,FALSE),0)","v":0},0]
["",null,null,null,null,null,null,null,null,null,null,null,null,null,null,{"$f":"INDEX($A:$O,ROW(),MATCH('Rapportage per vraag'!$C$12,'Data leveranciersbeoordeling'!$1:$1,0))","v":0},{"$f":"IFERROR(VLOOKUP(INDEX($A:$O,ROW(),MATCH('Rapportage per vraag'!$C$12,'Data leveranciersbeoordeling'!$1:$1,0)),Leveranciersbeoordeling!$H$1:$I$5,2,FALSE),0)","v":0},0]
["",null,null,null,null,null,null,null,null,null,null,null,null,null,null,{"$f":"INDEX($A:$O,ROW(),MATCH('Rapportage per vraag'!$C$12,'Data leveranciersbeoordeling'!$1:$1,0))","v":0},{"$f":"IFERROR(VLOOKUP(INDEX($A:$O,ROW(),MATCH('Rapportage per vraag'!$C$12,'Data leveranciersbeoordeling'!$1:$1,0)),Leveranciersbeoordeling!$H$1:$I$5,2,FALSE),0)","v":0},0]
["",null,null,null,null,null,null,null,null,null,null,null,null,null,null,{"$f":"INDEX($A:$O,ROW(),MATCH('Rapportage per vraag'!$C$12,'Data leveranciersbeoordeling'!$1:$1,0))","v":0},{"$f":"IFERROR(VLOOKUP(INDEX($A:$O,ROW(),MATCH('Rapportage per vraag'!$C$12,'Data leveranciersbeoordeling'!$1:$1,0)),Leveranciersbeoordeling!$H$1:$I$5,2,FALSE),0)","v":0},0]
["",null,null,null,null,null,null,null,null,null,null,null,null,null,null,{"$f":"INDEX($A:$O,ROW(),MATCH('Rapportage per vraag'!$C$12,'Data leveranciersbeoordeling'!$1:$1,0))","v":0},{"$f":"IFERROR(VLOOKUP(INDEX($A:$O,ROW(),MATCH('Rapportage per vraag'!$C$12,'Data leveranciersbeoordeling'!$1:$1,0)),Leveranciersbeoordeling!$H$1:$I$5,2,FALSE),0)","v":0},0]
["",null,null,null,null,null,null,null,null,null,null,null,null,null,null,{"$f":"INDEX($A:$O,ROW(),MATCH('Rapportage per vraag'!$C$12,'Data leveranciersbeoordeling'!$1:$1,0))","v":0},{"$f":"IFERROR(VLOOKUP(INDEX($A:$O,ROW(),MATCH('Rapportage per vraag'!$C$12,'Data leveranciersbeoordeling'!$1:$1,0)),Leveranciersbeoordeling!$H$1:$I$5,2,FALSE),0)","v":0},0]
["",null,null,null,null,null,null,null,null,null,null,null,null,null,null,{"$f":"INDEX($A:$O,ROW(),MATCH('Rapportage per vraag'!$C$12,'Data leveranciersbeoordeling'!$1:$1,0))","v":0},{"$f":"IFERROR(VLOOKUP(INDEX($A:$O,ROW(),MATCH('Rapportage per vraag'!$C$12,'Data leveranciersbeoordeling'!$1:$1,0)),Leveranciersbeoordeling!$H$1:$I$5,2,FALSE),0)","v":0},0]
["",null,null,null,null,null,null,null,null,null,null,null,null,null,null,{"$f":"INDEX($A:$O,ROW(),MATCH('Rapportage per vraag'!$C$12,'Data leveranciersbeoordeling'!$1:$1,0))","v":0},{"$f":"IFERROR(VLOOKUP(INDEX($A:$O,ROW(),MATCH('Rapportage per vraag'!$C$12,'Data leveranciersbeoordeling'!$1:$1,0)),Leveranciersbeoordeling!$H$1:$I$5,2,FALSE),0)","v":0},0]
["",null,null,null,null,null,null,null,null,null,null,null,null,null,null,{"$f":"INDEX($A:$O,ROW(),MATCH('Rapportage per vraag'!$C$12,'Data leveranciersbeoordeling'!$1:$1,0))","v":0},{"$f":"IFERROR(VLOOKUP(INDEX($A:$O,ROW(),MATCH('Rapportage per vraag'!$C$12,'Data leveranciersbeoordeling'!$1:$1,0)),Leveranciersbeoordeling!$H$1:$I$5,2,FALSE),0)","v":0},0]
["",null,null,null,null,null,null,null,null,null,null,null,null,null,null,{"$f":"INDEX($A:$O,ROW(),MATCH('Rapportage per vraag'!$C$12,'Data leveranciersbeoordeling'!$1:$1,0))","v":0},{"$f":"IFERROR(VLOOKUP(INDEX($A:$O,ROW(),MATCH('Rapportage per vraag'!$C$12,'Data leveranciersbeoordeling'!$1:$1,0)),Leveranciersbeoordeling!$H$1:$I$5,2,FALSE),0)","v":0},0]
["",null,null,null,null,null,null,null,null,null,null,null,null,null,null,{"$f":"INDEX($A:$O,ROW(),MATCH('Rapportage per vraag'!$C$12,'Data leveranciersbeoordeling'!$1:$1,0))","v":0},{"$f":"IFERROR(VLOOKUP(INDEX($A:$O,ROW(),MATCH('Rapportage per vraag'!$C$12,'Data leveranciersbeoordeling'!$1:$1,0)),Leveranciersbeoordeling!$H$1:$I$5,2,FALSE),0)","v":0},0]
["",null,null,null,null,null,null,null,null,null,null,null,null,null,null,{"$f":"INDEX($A:$O,ROW(),MATCH('Rapportage per vraag'!$C$12,'Data leveranciersbeoordeling'!$1:$1,0))","v":0},{"$f":"IFERROR(VLOOKUP(INDEX($A:$O,ROW(),MATCH('Rapportage per vraag'!$C$12,'Data leveranciersbeoordeling'!$1:$1,0)),Leveranciersbeoordeling!$H$1:$I$5,2,FALSE),0)","v":0},0]
["",null,null,null,null,null,null,null,null,null,null,null,null,null,null,{"$f":"INDEX($A:$O,ROW(),MATCH('Rapportage per vraag'!$C$12,'Data leveranciersbeoordeling'!$1:$1,0))","v":0},{"$f":"IFERROR(VLOOKUP(INDEX($A:$O,ROW(),MATCH('Rapportage per vraag'!$C$12,'Data leveranciersbeoordeling'!$1:$1,0)),Leveranciersbeoordeling!$H$1:$I$5,2,FALSE),0)","v":0},0]
["",null,null,null,null,null,null,null,null,null,null,null,null,null,null,{"$f":"INDEX($A:$O,ROW(),MATCH('Rapportage per vraag'!$C$12,'Data leveranciersbeoordeling'!$1:$1,0))","v":0},{"$f":"IFERROR(VLOOKUP(INDEX($A:$O,ROW(),MATCH('Rapportage per vraag'!$C$12,'Data leveranciersbeoordeling'!$1:$1,0)),Leveranciersbeoordeling!$H$1:$I$5,2,FALSE),0)","v":0},0]
["",null,null,null,null,null,null,null,null,null,null,null,null,null,null,{"$f":"INDEX($A:$O,ROW(),MATCH('Rapportage per vraag'!$C$12,'Data leveranciersbeoordeling'!$1:$1,0))","v":0},{"$f":"IFERROR(VLOOKUP(INDEX($A:$O,ROW(),MATCH('Rapportage per vraag'!$C$12,'Data leveranciersbeoordeling'!$1:$1,0)),Leveranciersbeoordeling!$H$1:$I$5,2,FALSE),0)","v":0},0]
[{"$f":"CONCATENATE(B3011,C3011,D3011)","v":""},null,null,null,null,null,null,null,null,null,null,null,null,null,null,{"$f":"INDEX($A:$O,ROW(),MATCH('Rapportage per vraag'!$C$12,'Data leveranciersbeoordeling'!$1:$1,0))","v":0},{"$f":"IFERROR(VLOOKUP(INDEX($A:$O,ROW(),MATCH('Rapportage per vraag'!$C$12,'Data leveranciersbeoordeling'!$1:$1,0)),Leveranciersbeoordeling!$H$1:$I$5,2,FALSE),0)","v":0},0]
["",null,null,null,null,null,null,null,null,null,null,null,null,null,null,{"$f":"INDEX($A:$O,ROW(),MATCH('Rapportage per vraag'!$C$12,'Data leveranciersbeoordeling'!$1:$1,0))","v":0},{"$f":"IFERROR(VLOOKUP(INDEX($A:$O,ROW(),MATCH('Rapportage per vraag'!$C$12,'Data leveranciersbeoordeling'!$1:$1,0)),Leveranciersbeoordeling!$H$1:$I$5,2,FALSE),0)","v":0},0]
["",null,null,null,null,null,null,null,null,null,null,null,null,null,null,{"$f":"INDEX($A:$O,ROW(),MATCH('Rapportage per vraag'!$C$12,'Data leveranciersbeoordeling'!$1:$1,0))","v":0},{"$f":"IFERROR(VLOOKUP(INDEX($A:$O,ROW(),MATCH('Rapportage per vraag'!$C$12,'Data leveranciersbeoordeling'!$1:$1,0)),Leveranciersbeoordeling!$H$1:$I$5,2,FALSE),0)","v":0},0]
["",null,null,null,null,null,null,null,null,null,null,null,null,null,null,{"$f":"INDEX($A:$O,ROW(),MATCH('Rapportage per vraag'!$C$12,'Data leveranciersbeoordeling'!$1:$1,0))","v":0},{"$f":"IFERROR(VLOOKUP(INDEX($A:$O,ROW(),MATCH('Rapportage per vraag'!$C$12,'Data leveranciersbeoordeling'!$1:$1,0)),Leveranciersbeoordeling!$H$1:$I$5,2,FALSE),0)","v":0},0]
["",null,null,null,null,null,null,null,null,null,null,null,null,null,null,{"$f":"INDEX($A:$O,ROW(),MATCH('Rapportage per vraag'!$C$12,'Data leveranciersbeoordeling'!$1:$1,0))","v":0},{"$f":"IFERROR(VLOOKUP(INDEX($A:$O,ROW(),MATCH('Rapportage per vraag'!$C$12,'Data leveranciersbeoordeling'!$1:$1,0)),Leveranciersbeoordeling!$H$1:$I$5,2,FALSE),0)","v":0},0]
["",null,null,null,null,null,null,null,null,null,null,null,null,null,null,{"$f":"INDEX($A:$O,ROW(),MATCH('Rapportage per vraag'!$C$12,'Data leveranciersbeoordeling'!$1:$1,0))","v":0},{"$f":"IFERROR(VLOOKUP(INDEX($A:$O,ROW(),MATCH('Rapportage per vraag'!$C$12,'Data leveranciersbeoordeling'!$1:$1,0)),Leveranciersbeoordeling!$H$1:$I$5,2,FALSE),0)","v":0},0]
["",null,null,null,null,null,null,null,null,null,null,null,null,null,null,{"$f":"INDEX($A:$O,ROW(),MATCH('Rapportage per vraag'!$C$12,'Data leveranciersbeoordeling'!$1:$1,0))","v":0},{"$f":"IFERROR(VLOOKUP(INDEX($A:$O,ROW(),MATCH('Rapportage per vraag'!$C$12,'Data leveranciersbeoordeling'!$1:$1,0)),Leveranciersbeoordeling!$H$1:$I$5,2,FALSE),0)","v":0},0]
["",null,null,null,null,null,null,null,null,null,null,null,null,null,null,{"$f":"INDEX($A:$O,ROW(),MATCH('Rapportage per vraag'!$C$12,'Data leveranciersbeoordeling'!$1:$1,0))","v":0},{"$f":"IFERROR(VLOOKUP(INDEX($A:$O,ROW(),MATCH('Rapportage per vraag'!$C$12,'Data leveranciersbeoordeling'!$1:$1,0)),Leveranciersbeoordeling!$H$1:$I$5,2,FALSE),0)","v":0},0]
["",null,null,null,null,null,null,null,null,null,null,null,null,null,null,{"$f":"INDEX($A:$O,ROW(),MATCH('Rapportage per vraag'!$C$12,'Data leveranciersbeoordeling'!$1:$1,0))","v":0},{"$f":"IFERROR(VLOOKUP(INDEX($A:$O,ROW(),MATCH('Rapportage per vraag'!$C$12,'Data leveranciersbeoordeling'!$1:$1,0)),Leveranciersbeoordeling!$H$1:$I$5,2,FALSE),0)","v":0},0]
["",null,null,null,null,null,null,null,null,null,null,null,null,null,null,{"$f":"INDEX($A:$O,ROW(),MATCH('Rapportage per vraag'!$C$12,'Data leveranciersbeoordeling'!$1:$1,0))","v":0},{"$f":"IFERROR(VLOOKUP(INDEX($A:$O,ROW(),MATCH('Rapportage per vraag'!$C$12,'Data leveranciersbeoordeling'!$1:$1,0)),Leveranciersbeoordeling!$H$1:$I$5,2,FALSE),0)","v":0},0]
["",null,null,null,null,null,null,null,null,null,null,null,null,null,null,{"$f":"INDEX($A:$O,ROW(),MATCH('Rapportage per vraag'!$C$12,'Data leveranciersbeoordeling'!$1:$1,0))","v":0},{"$f":"IFERROR(VLOOKUP(INDEX($A:$O,ROW(),MATCH('Rapportage per vraag'!$C$12,'Data leveranciersbeoordeling'!$1:$1,0)),Leveranciersbeoordeling!$H$1:$I$5,2,FALSE),0)","v":0},0]
["",null,null,null,null,null,null,null,null,null,null,null,null,null,null,{"$f":"INDEX($A:$O,ROW(),MATCH('Rapportage per vraag'!$C$12,'Data leveranciersbeoordeling'!$1:$1,0))","v":0},{"$f":"IFERROR(VLOOKUP(INDEX($A:$O,ROW(),MATCH('Rapportage per vraag'!$C$12,'Data leveranciersbeoordeling'!$1:$1,0)),Leveranciersbeoordeling!$H$1:$I$5,2,FALSE),0)","v":0},0]
["",null,null,null,null,null,null,null,null,null,null,null,null,null,null,{"$f":"INDEX($A:$O,ROW(),MATCH('Rapportage per vraag'!$C$12,'Data leveranciersbeoordeling'!$1:$1,0))","v":0},{"$f":"IFERROR(VLOOKUP(INDEX($A:$O,ROW(),MATCH('Rapportage per vraag'!$C$12,'Data leveranciersbeoordeling'!$1:$1,0)),Leveranciersbeoordeling!$H$1:$I$5,2,FALSE),0)","v":0},0]
["",null,null,null,null,null,null,null,null,null,null,null,null,null,null,{"$f":"INDEX($A:$O,ROW(),MATCH('Rapportage per vraag'!$C$12,'Data leveranciersbeoordeling'!$1:$1,0))","v":0},{"$f":"IFERROR(VLOOKUP(INDEX($A:$O,ROW(),MATCH('Rapportage per vraag'!$C$12,'Data leveranciersbeoordeling'!$1:$1,0)),Leveranciersbeoordeling!$H$1:$I$5,2,FALSE),0)","v":0},0]
["",null,null,null,null,null,null,null,null,null,null,null,null,null,null,{"$f":"INDEX($A:$O,ROW(),MATCH('Rapportage per vraag'!$C$12,'Data leveranciersbeoordeling'!$1:$1,0))","v":0},{"$f":"IFERROR(VLOOKUP(INDEX($A:$O,ROW(),MATCH('Rapportage per vraag'!$C$12,'Data leveranciersbeoordeling'!$1:$1,0)),Leveranciersbeoordeling!$H$1:$I$5,2,FALSE),0)","v":0},0]
["",null,null,null,null,null,null,null,null,null,null,null,null,null,null,{"$f":"INDEX($A:$O,ROW(),MATCH('Rapportage per vraag'!$C$12,'Data leveranciersbeoordeling'!$1:$1,0))","v":0},{"$f":"IFERROR(VLOOKUP(INDEX($A:$O,ROW(),MATCH('Rapportage per vraag'!$C$12,'Data leveranciersbeoordeling'!$1:$1,0)),Leveranciersbeoordeling!$H$1:$I$5,2,FALSE),0)","v":0},0]
["",null,null,null,null,null,null,null,null,null,null,null,null,null,null,{"$f":"INDEX($A:$O,ROW(),MATCH('Rapportage per vraag'!$C$12,'Data leveranciersbeoordeling'!$1:$1,0))","v":0},{"$f":"IFERROR(VLOOKUP(INDEX($A:$O,ROW(),MATCH('Rapportage per vraag'!$C$12,'Data leveranciersbeoordeling'!$1:$1,0)),Leveranciersbeoordeling!$H$1:$I$5,2,FALSE),0)","v":0},0]
["",null,null,null,null,null,null,null,null,null,null,null,null,null,null,{"$f":"INDEX($A:$O,ROW(),MATCH('Rapportage per vraag'!$C$12,'Data leveranciersbeoordeling'!$1:$1,0))","v":0},{"$f":"IFERROR(VLOOKUP(INDEX($A:$O,ROW(),MATCH('Rapportage per vraag'!$C$12,'Data leveranciersbeoordeling'!$1:$1,0)),Leveranciersbeoordeling!$H$1:$I$5,2,FALSE),0)","v":0},0]
["",null,null,null,null,null,null,null,null,null,null,null,null,null,null,{"$f":"INDEX($A:$O,ROW(),MATCH('Rapportage per vraag'!$C$12,'Data leveranciersbeoordeling'!$1:$1,0))","v":0},{"$f":"IFERROR(VLOOKUP(INDEX($A:$O,ROW(),MATCH('Rapportage per vraag'!$C$12,'Data leveranciersbeoordeling'!$1:$1,0)),Leveranciersbeoordeling!$H$1:$I$5,2,FALSE),0)","v":0},0]
["",null,null,null,null,null,null,null,null,null,null,null,null,null,null,{"$f":"INDEX($A:$O,ROW(),MATCH('Rapportage per vraag'!$C$12,'Data leveranciersbeoordeling'!$1:$1,0))","v":0},{"$f":"IFERROR(VLOOKUP(INDEX($A:$O,ROW(),MATCH('Rapportage per vraag'!$C$12,'Data leveranciersbeoordeling'!$1:$1,0)),Leveranciersbeoordeling!$H$1:$I$5,2,FALSE),0)","v":0},0]
["",null,null,null,null,null,null,null,null,null,null,null,null,null,null,{"$f":"INDEX($A:$O,ROW(),MATCH('Rapportage per vraag'!$C$12,'Data leveranciersbeoordeling'!$1:$1,0))","v":0},{"$f":"IFERROR(VLOOKUP(INDEX($A:$O,ROW(),MATCH('Rapportage per vraag'!$C$12,'Data leveranciersbeoordeling'!$1:$1,0)),Leveranciersbeoordeling!$H$1:$I$5,2,FALSE),0)","v":0},0]
["",null,null,null,null,null,null,null,null,null,null,null,null,null,null,{"$f":"INDEX($A:$O,ROW(),MATCH('Rapportage per vraag'!$C$12,'Data leveranciersbeoordeling'!$1:$1,0))","v":0},{"$f":"IFERROR(VLOOKUP(INDEX($A:$O,ROW(),MATCH('Rapportage per vraag'!$C$12,'Data leveranciersbeoordeling'!$1:$1,0)),Leveranciersbeoordeling!$H$1:$I$5,2,FALSE),0)","v":0},0]
["",null,null,null,null,null,null,null,null,null,null,null,null,null,null,{"$f":"INDEX($A:$O,ROW(),MATCH('Rapportage per vraag'!$C$12,'Data leveranciersbeoordeling'!$1:$1,0))","v":0},{"$f":"IFERROR(VLOOKUP(INDEX($A:$O,ROW(),MATCH('Rapportage per vraag'!$C$12,'Data leveranciersbeoordeling'!$1:$1,0)),Leveranciersbeoordeling!$H$1:$I$5,2,FALSE),0)","v":0},0]
["",null,null,null,null,null,null,null,null,null,null,null,null,null,null,{"$f":"INDEX($A:$O,ROW(),MATCH('Rapportage per vraag'!$C$12,'Data leveranciersbeoordeling'!$1:$1,0))","v":0},{"$f":"IFERROR(VLOOKUP(INDEX($A:$O,ROW(),MATCH('Rapportage per vraag'!$C$12,'Data leveranciersbeoordeling'!$1:$1,0)),Leveranciersbeoordeling!$H$1:$I$5,2,FALSE),0)","v":0},0]
["",null,null,null,null,null,null,null,null,null,null,null,null,null,null,{"$f":"INDEX($A:$O,ROW(),MATCH('Rapportage per vraag'!$C$12,'Data leveranciersbeoordeling'!$1:$1,0))","v":0},{"$f":"IFERROR(VLOOKUP(INDEX($A:$O,ROW(),MATCH('Rapportage per vraag'!$C$12,'Data leveranciersbeoordeling'!$1:$1,0)),Leveranciersbeoordeling!$H$1:$I$5,2,FALSE),0)","v":0},0]
["",null,null,null,null,null,null,null,null,null,null,null,null,null,null,{"$f":"INDEX($A:$O,ROW(),MATCH('Rapportage per vraag'!$C$12,'Data leveranciersbeoordeling'!$1:$1,0))","v":0},{"$f":"IFERROR(VLOOKUP(INDEX($A:$O,ROW(),MATCH('Rapportage per vraag'!$C$12,'Data leveranciersbeoordeling'!$1:$1,0)),Leveranciersbeoordeling!$H$1:$I$5,2,FALSE),0)","v":0},0]
["",null,null,null,null,null,null,null,null,null,null,null,null,null,null,{"$f":"INDEX($A:$O,ROW(),MATCH('Rapportage per vraag'!$C$12,'Data leveranciersbeoordeling'!$1:$1,0))","v":0},{"$f":"IFERROR(VLOOKUP(INDEX($A:$O,ROW(),MATCH('Rapportage per vraag'!$C$12,'Data leveranciersbeoordeling'!$1:$1,0)),Leveranciersbeoordeling!$H$1:$I$5,2,FALSE),0)","v":0},0]
["",null,null,null,null,null,null,null,null,null,null,null,null,null,null,{"$f":"INDEX($A:$O,ROW(),MATCH('Rapportage per vraag'!$C$12,'Data leveranciersbeoordeling'!$1:$1,0))","v":0},{"$f":"IFERROR(VLOOKUP(INDEX($A:$O,ROW(),MATCH('Rapportage per vraag'!$C$12,'Data leveranciersbeoordeling'!$1:$1,0)),Leveranciersbeoordeling!$H$1:$I$5,2,FALSE),0)","v":0},0]
["",null,null,null,null,null,null,null,null,null,null,null,null,null,null,{"$f":"INDEX($A:$O,ROW(),MATCH('Rapportage per vraag'!$C$12,'Data leveranciersbeoordeling'!$1:$1,0))","v":0},{"$f":"IFERROR(VLOOKUP(INDEX($A:$O,ROW(),MATCH('Rapportage per vraag'!$C$12,'Data leveranciersbeoordeling'!$1:$1,0)),Leveranciersbeoordeling!$H$1:$I$5,2,FALSE),0)","v":0},0]
["",null,null,null,null,null,null,null,null,null,null,null,null,null,null,{"$f":"INDEX($A:$O,ROW(),MATCH('Rapportage per vraag'!$C$12,'Data leveranciersbeoordeling'!$1:$1,0))","v":0},{"$f":"IFERROR(VLOOKUP(INDEX($A:$O,ROW(),MATCH('Rapportage per vraag'!$C$12,'Data leveranciersbeoordeling'!$1:$1,0)),Leveranciersbeoordeling!$H$1:$I$5,2,FALSE),0)","v":0},0]
["",null,null,null,null,null,null,null,null,null,null,null,null,null,null,{"$f":"INDEX($A:$O,ROW(),MATCH('Rapportage per vraag'!$C$12,'Data leveranciersbeoordeling'!$1:$1,0))","v":0},{"$f":"IFERROR(VLOOKUP(INDEX($A:$O,ROW(),MATCH('Rapportage per vraag'!$C$12,'Data leveranciersbeoordeling'!$1:$1,0)),Leveranciersbeoordeling!$H$1:$I$5,2,FALSE),0)","v":0},0]
["",null,null,null,null,null,null,null,null,null,null,null,null,null,null,{"$f":"INDEX($A:$O,ROW(),MATCH('Rapportage per vraag'!$C$12,'Data leveranciersbeoordeling'!$1:$1,0))","v":0},{"$f":"IFERROR(VLOOKUP(INDEX($A:$O,ROW(),MATCH('Rapportage per vraag'!$C$12,'Data leveranciersbeoordeling'!$1:$1,0)),Leveranciersbeoordeling!$H$1:$I$5,2,FALSE),0)","v":0},0]
["",null,null,null,null,null,null,null,null,null,null,null,null,null,null,{"$f":"INDEX($A:$O,ROW(),MATCH('Rapportage per vraag'!$C$12,'Data leveranciersbeoordeling'!$1:$1,0))","v":0},{"$f":"IFERROR(VLOOKUP(INDEX($A:$O,ROW(),MATCH('Rapportage per vraag'!$C$12,'Data leveranciersbeoordeling'!$1:$1,0)),Leveranciersbeoordeling!$H$1:$I$5,2,FALSE),0)","v":0},0]
["",null,null,null,null,null,null,null,null,null,null,null,null,null,null,{"$f":"INDEX($A:$O,ROW(),MATCH('Rapportage per vraag'!$C$12,'Data leveranciersbeoordeling'!$1:$1,0))","v":0},{"$f":"IFERROR(VLOOKUP(INDEX($A:$O,ROW(),MATCH('Rapportage per vraag'!$C$12,'Data leveranciersbeoordeling'!$1:$1,0)),Leveranciersbeoordeling!$H$1:$I$5,2,FALSE),0)","v":0},0]
["",null,null,null,null,null,null,null,null,null,null,null,null,null,null,{"$f":"INDEX($A:$O,ROW(),MATCH('Rapportage per vraag'!$C$12,'Data leveranciersbeoordeling'!$1:$1,0))","v":0},{"$f":"IFERROR(VLOOKUP(INDEX($A:$O,ROW(),MATCH('Rapportage per vraag'!$C$12,'Data leveranciersbeoordeling'!$1:$1,0)),Leveranciersbeoordeling!$H$1:$I$5,2,FALSE),0)","v":0},0]
["",null,null,null,null,null,null,null,null,null,null,null,null,null,null,{"$f":"INDEX($A:$O,ROW(),MATCH('Rapportage per vraag'!$C$12,'Data leveranciersbeoordeling'!$1:$1,0))","v":0},{"$f":"IFERROR(VLOOKUP(INDEX($A:$O,ROW(),MATCH('Rapportage per vraag'!$C$12,'Data leveranciersbeoordeling'!$1:$1,0)),Leveranciersbeoordeling!$H$1:$I$5,2,FALSE),0)","v":0},0]
["",null,null,null,null,null,null,null,null,null,null,null,null,null,null,{"$f":"INDEX($A:$O,ROW(),MATCH('Rapportage per vraag'!$C$12,'Data leveranciersbeoordeling'!$1:$1,0))","v":0},{"$f":"IFERROR(VLOOKUP(INDEX($A:$O,ROW(),MATCH('Rapportage per vraag'!$C$12,'Data leveranciersbeoordeling'!$1:$1,0)),Leveranciersbeoordeling!$H$1:$I$5,2,FALSE),0)","v":0},0]
["",null,null,null,null,null,null,null,null,null,null,null,null,null,null,{"$f":"INDEX($A:$O,ROW(),MATCH('Rapportage per vraag'!$C$12,'Data leveranciersbeoordeling'!$1:$1,0))","v":0},{"$f":"IFERROR(VLOOKUP(INDEX($A:$O,ROW(),MATCH('Rapportage per vraag'!$C$12,'Data leveranciersbeoordeling'!$1:$1,0)),Leveranciersbeoordeling!$H$1:$I$5,2,FALSE),0)","v":0},0]
["",null,null,null,null,null,null,null,null,null,null,null,null,null,null,{"$f":"INDEX($A:$O,ROW(),MATCH('Rapportage per vraag'!$C$12,'Data leveranciersbeoordeling'!$1:$1,0))","v":0},{"$f":"IFERROR(VLOOKUP(INDEX($A:$O,ROW(),MATCH('Rapportage per vraag'!$C$12,'Data leveranciersbeoordeling'!$1:$1,0)),Leveranciersbeoordeling!$H$1:$I$5,2,FALSE),0)","v":0},0]
["",null,null,null,null,null,null,null,null,null,null,null,null,null,null,{"$f":"INDEX($A:$O,ROW(),MATCH('Rapportage per vraag'!$C$12,'Data leveranciersbeoordeling'!$1:$1,0))","v":0},{"$f":"IFERROR(VLOOKUP(INDEX($A:$O,ROW(),MATCH('Rapportage per vraag'!$C$12,'Data leveranciersbeoordeling'!$1:$1,0)),Leveranciersbeoordeling!$H$1:$I$5,2,FALSE),0)","v":0},0]
["",null,null,null,null,null,null,null,null,null,null,null,null,null,null,{"$f":"INDEX($A:$O,ROW(),MATCH('Rapportage per vraag'!$C$12,'Data leveranciersbeoordeling'!$1:$1,0))","v":0},{"$f":"IFERROR(VLOOKUP(INDEX($A:$O,ROW(),MATCH('Rapportage per vraag'!$C$12,'Data leveranciersbeoordeling'!$1:$1,0)),Leveranciersbeoordeling!$H$1:$I$5,2,FALSE),0)","v":0},0]
["",null,null,null,null,null,null,null,null,null,null,null,null,null,null,{"$f":"INDEX($A:$O,ROW(),MATCH('Rapportage per vraag'!$C$12,'Data leveranciersbeoordeling'!$1:$1,0))","v":0},{"$f":"IFERROR(VLOOKUP(INDEX($A:$O,ROW(),MATCH('Rapportage per vraag'!$C$12,'Data leveranciersbeoordeling'!$1:$1,0)),Leveranciersbeoordeling!$H$1:$I$5,2,FALSE),0)","v":0},0]
["",null,null,null,null,null,null,null,null,null,null,null,null,null,null,{"$f":"INDEX($A:$O,ROW(),MATCH('Rapportage per vraag'!$C$12,'Data leveranciersbeoordeling'!$1:$1,0))","v":0},{"$f":"IFERROR(VLOOKUP(INDEX($A:$O,ROW(),MATCH('Rapportage per vraag'!$C$12,'Data leveranciersbeoordeling'!$1:$1,0)),Leveranciersbeoordeling!$H$1:$I$5,2,FALSE),0)","v":0},0]
["",null,null,null,null,null,null,null,null,null,null,null,null,null,null,{"$f":"INDEX($A:$O,ROW(),MATCH('Rapportage per vraag'!$C$12,'Data leveranciersbeoordeling'!$1:$1,0))","v":0},{"$f":"IFERROR(VLOOKUP(INDEX($A:$O,ROW(),MATCH('Rapportage per vraag'!$C$12,'Data leveranciersbeoordeling'!$1:$1,0)),Leveranciersbeoordeling!$H$1:$I$5,2,FALSE),0)","v":0},0]
["",null,null,null,null,null,null,null,null,null,null,null,null,null,null,{"$f":"INDEX($A:$O,ROW(),MATCH('Rapportage per vraag'!$C$12,'Data leveranciersbeoordeling'!$1:$1,0))","v":0},{"$f":"IFERROR(VLOOKUP(INDEX($A:$O,ROW(),MATCH('Rapportage per vraag'!$C$12,'Data leveranciersbeoordeling'!$1:$1,0)),Leveranciersbeoordeling!$H$1:$I$5,2,FALSE),0)","v":0},0]
["",null,null,null,null,null,null,null,null,null,null,null,null,null,null,{"$f":"INDEX($A:$O,ROW(),MATCH('Rapportage per vraag'!$C$12,'Data leveranciersbeoordeling'!$1:$1,0))","v":0},{"$f":"IFERROR(VLOOKUP(INDEX($A:$O,ROW(),MATCH('Rapportage per vraag'!$C$12,'Data leveranciersbeoordeling'!$1:$1,0)),Leveranciersbeoordeling!$H$1:$I$5,2,FALSE),0)","v":0},0]
["",null,null,null,null,null,null,null,null,null,null,null,null,null,null,{"$f":"INDEX($A:$O,ROW(),MATCH('Rapportage per vraag'!$C$12,'Data leveranciersbeoordeling'!$1:$1,0))","v":0},{"$f":"IFERROR(VLOOKUP(INDEX($A:$O,ROW(),MATCH('Rapportage per vraag'!$C$12,'Data leveranciersbeoordeling'!$1:$1,0)),Leveranciersbeoordeling!$H$1:$I$5,2,FALSE),0)","v":0},0]
["",null,null,null,null,null,null,null,null,null,null,null,null,null,null,{"$f":"INDEX($A:$O,ROW(),MATCH('Rapportage per vraag'!$C$12,'Data leveranciersbeoordeling'!$1:$1,0))","v":0},{"$f":"IFERROR(VLOOKUP(INDEX($A:$O,ROW(),MATCH('Rapportage per vraag'!$C$12,'Data leveranciersbeoordeling'!$1:$1,0)),Leveranciersbeoordeling!$H$1:$I$5,2,FALSE),0)","v":0},0]
["",null,null,null,null,null,null,null,null,null,null,null,null,null,null,{"$f":"INDEX($A:$O,ROW(),MATCH('Rapportage per vraag'!$C$12,'Data leveranciersbeoordeling'!$1:$1,0))","v":0},{"$f":"IFERROR(VLOOKUP(INDEX($A:$O,ROW(),MATCH('Rapportage per vraag'!$C$12,'Data leveranciersbeoordeling'!$1:$1,0)),Leveranciersbeoordeling!$H$1:$I$5,2,FALSE),0)","v":0},0]
["",null,null,null,null,null,null,null,null,null,null,null,null,null,null,{"$f":"INDEX($A:$O,ROW(),MATCH('Rapportage per vraag'!$C$12,'Data leveranciersbeoordeling'!$1:$1,0))","v":0},{"$f":"IFERROR(VLOOKUP(INDEX($A:$O,ROW(),MATCH('Rapportage per vraag'!$C$12,'Data leveranciersbeoordeling'!$1:$1,0)),Leveranciersbeoordeling!$H$1:$I$5,2,FALSE),0)","v":0},0]
["",null,null,null,null,null,null,null,null,null,null,null,null,null,null,{"$f":"INDEX($A:$O,ROW(),MATCH('Rapportage per vraag'!$C$12,'Data leveranciersbeoordeling'!$1:$1,0))","v":0},{"$f":"IFERROR(VLOOKUP(INDEX($A:$O,ROW(),MATCH('Rapportage per vraag'!$C$12,'Data leveranciersbeoordeling'!$1:$1,0)),Leveranciersbeoordeling!$H$1:$I$5,2,FALSE),0)","v":0},0]
["",null,null,null,null,null,null,null,null,null,null,null,null,null,null,{"$f":"INDEX($A:$O,ROW(),MATCH('Rapportage per vraag'!$C$12,'Data leveranciersbeoordeling'!$1:$1,0))","v":0},{"$f":"IFERROR(VLOOKUP(INDEX($A:$O,ROW(),MATCH('Rapportage per vraag'!$C$12,'Data leveranciersbeoordeling'!$1:$1,0)),Leveranciersbeoordeling!$H$1:$I$5,2,FALSE),0)","v":0},0]
["",null,null,null,null,null,null,null,null,null,null,null,null,null,null,{"$f":"INDEX($A:$O,ROW(),MATCH('Rapportage per vraag'!$C$12,'Data leveranciersbeoordeling'!$1:$1,0))","v":0},{"$f":"IFERROR(VLOOKUP(INDEX($A:$O,ROW(),MATCH('Rapportage per vraag'!$C$12,'Data leveranciersbeoordeling'!$1:$1,0)),Leveranciersbeoordeling!$H$1:$I$5,2,FALSE),0)","v":0},{"$f":"IF(T(P3206)=P3206,Q3206,P3206)","v":0}]
["",null,null,null,null,null,null,null,null,null,null,null,null,null,null,{"$f":"INDEX($A:$O,ROW(),MATCH('Rapportage per vraag'!$C$12,'Data leveranciersbeoordeling'!$1:$1,0))","v":0},{"$f":"IFERROR(VLOOKUP(INDEX($A:$O,ROW(),MATCH('Rapportage per vraag'!$C$12,'Data leveranciersbeoordeling'!$1:$1,0)),Leveranciersbeoordeling!$H$1:$I$5,2,FALSE),0)","v":0},0]
["",null,null,null,null,null,null,null,null,null,null,null,null,null,null,{"$f":"INDEX($A:$O,ROW(),MATCH('Rapportage per vraag'!$C$12,'Data leveranciersbeoordeling'!$1:$1,0))","v":0},{"$f":"IFERROR(VLOOKUP(INDEX($A:$O,ROW(),MATCH('Rapportage per vraag'!$C$12,'Data leveranciersbeoordeling'!$1:$1,0)),Leveranciersbeoordeling!$H$1:$I$5,2,FALSE),0)","v":0},0]
["",null,null,null,null,null,null,null,null,null,null,null,null,null,null,{"$f":"INDEX($A:$O,ROW(),MATCH('Rapportage per vraag'!$C$12,'Data leveranciersbeoordeling'!$1:$1,0))","v":0},{"$f":"IFERROR(VLOOKUP(INDEX($A:$O,ROW(),MATCH('Rapportage per vraag'!$C$12,'Data leveranciersbeoordeling'!$1:$1,0)),Leveranciersbeoordeling!$H$1:$I$5,2,FALSE),0)","v":0},0]
["",null,null,null,null,null,null,null,null,null,null,null,null,null,null,{"$f":"INDEX($A:$O,ROW(),MATCH('Rapportage per vraag'!$C$12,'Data leveranciersbeoordeling'!$1:$1,0))","v":0},{"$f":"IFERROR(VLOOKUP(INDEX($A:$O,ROW(),MATCH('Rapportage per vraag'!$C$12,'Data leveranciersbeoordeling'!$1:$1,0)),Leveranciersbeoordeling!$H$1:$I$5,2,FALSE),0)","v":0},0]
["",null,null,null,null,null,null,null,null,null,null,null,null,null,null,{"$f":"INDEX($A:$O,ROW(),MATCH('Rapportage per vraag'!$C$12,'Data leveranciersbeoordeling'!$1:$1,0))","v":0},{"$f":"IFERROR(VLOOKUP(INDEX($A:$O,ROW(),MATCH('Rapportage per vraag'!$C$12,'Data leveranciersbeoordeling'!$1:$1,0)),Leveranciersbeoordeling!$H$1:$I$5,2,FALSE),0)","v":0},0]
["",null,null,null,null,null,null,null,null,null,null,null,null,null,null,{"$f":"INDEX($A:$O,ROW(),MATCH('Rapportage per vraag'!$C$12,'Data leveranciersbeoordeling'!$1:$1,0))","v":0},{"$f":"IFERROR(VLOOKUP(INDEX($A:$O,ROW(),MATCH('Rapportage per vraag'!$C$12,'Data leveranciersbeoordeling'!$1:$1,0)),Leveranciersbeoordeling!$H$1:$I$5,2,FALSE),0)","v":0},0]
["",null,null,null,null,null,null,null,null,null,null,null,null,null,null,{"$f":"INDEX($A:$O,ROW(),MATCH('Rapportage per vraag'!$C$12,'Data leveranciersbeoordeling'!$1:$1,0))","v":0},{"$f":"IFERROR(VLOOKUP(INDEX($A:$O,ROW(),MATCH('Rapportage per vraag'!$C$12,'Data leveranciersbeoordeling'!$1:$1,0)),Leveranciersbeoordeling!$H$1:$I$5,2,FALSE),0)","v":0},0]
["",null,null,null,null,null,null,null,null,null,null,null,null,null,null,{"$f":"INDEX($A:$O,ROW(),MATCH('Rapportage per vraag'!$C$12,'Data leveranciersbeoordeling'!$1:$1,0))","v":0},{"$f":"IFERROR(VLOOKUP(INDEX($A:$O,ROW(),MATCH('Rapportage per vraag'!$C$12,'Data leveranciersbeoordeling'!$1:$1,0)),Leveranciersbeoordeling!$H$1:$I$5,2,FALSE),0)","v":0},0]
["",null,null,null,null,null,null,null,null,null,null,null,null,null,null,{"$f":"INDEX($A:$O,ROW(),MATCH('Rapportage per vraag'!$C$12,'Data leveranciersbeoordeling'!$1:$1,0))","v":0},{"$f":"IFERROR(VLOOKUP(INDEX($A:$O,ROW(),MATCH('Rapportage per vraag'!$C$12,'Data leveranciersbeoordeling'!$1:$1,0)),Leveranciersbeoordeling!$H$1:$I$5,2,FALSE),0)","v":0},0]
["",null,null,null,null,null,null,null,null,null,null,null,null,null,null,{"$f":"INDEX($A:$O,ROW(),MATCH('Rapportage per vraag'!$C$12,'Data leveranciersbeoordeling'!$1:$1,0))","v":0},{"$f":"IFERROR(VLOOKUP(INDEX($A:$O,ROW(),MATCH('Rapportage per vraag'!$C$12,'Data leveranciersbeoordeling'!$1:$1,0)),Leveranciersbeoordeling!$H$1:$I$5,2,FALSE),0)","v":0},0]
["",null,null,null,null,null,null,null,null,null,null,null,null,null,null,{"$f":"INDEX($A:$O,ROW(),MATCH('Rapportage per vraag'!$C$12,'Data leveranciersbeoordeling'!$1:$1,0))","v":0},{"$f":"IFERROR(VLOOKUP(INDEX($A:$O,ROW(),MATCH('Rapportage per vraag'!$C$12,'Data leveranciersbeoordeling'!$1:$1,0)),Leveranciersbeoordeling!$H$1:$I$5,2,FALSE),0)","v":0},0]
["",null,null,null,null,null,null,null,null,null,null,null,null,null,null,{"$f":"INDEX($A:$O,ROW(),MATCH('Rapportage per vraag'!$C$12,'Data leveranciersbeoordeling'!$1:$1,0))","v":0},{"$f":"IFERROR(VLOOKUP(INDEX($A:$O,ROW(),MATCH('Rapportage per vraag'!$C$12,'Data leveranciersbeoordeling'!$1:$1,0)),Leveranciersbeoordeling!$H$1:$I$5,2,FALSE),0)","v":0},0]
["",null,null,null,null,null,null,null,null,null,null,null,null,null,null,{"$f":"INDEX($A:$O,ROW(),MATCH('Rapportage per vraag'!$C$12,'Data leveranciersbeoordeling'!$1:$1,0))","v":0},{"$f":"IFERROR(VLOOKUP(INDEX($A:$O,ROW(),MATCH('Rapportage per vraag'!$C$12,'Data leveranciersbeoordeling'!$1:$1,0)),Leveranciersbeoordeling!$H$1:$I$5,2,FALSE),0)","v":0},0]
["",null,null,null,null,null,null,null,null,null,null,null,null,null,null,{"$f":"INDEX($A:$O,ROW(),MATCH('Rapportage per vraag'!$C$12,'Data leveranciersbeoordeling'!$1:$1,0))","v":0},{"$f":"IFERROR(VLOOKUP(INDEX($A:$O,ROW(),MATCH('Rapportage per vraag'!$C$12,'Data leveranciersbeoordeling'!$1:$1,0)),Leveranciersbeoordeling!$H$1:$I$5,2,FALSE),0)","v":0},0]
["",null,null,null,null,null,null,null,null,null,null,null,null,null,null,{"$f":"INDEX($A:$O,ROW(),MATCH('Rapportage per vraag'!$C$12,'Data leveranciersbeoordeling'!$1:$1,0))","v":0},{"$f":"IFERROR(VLOOKUP(INDEX($A:$O,ROW(),MATCH('Rapportage per vraag'!$C$12,'Data leveranciersbeoordeling'!$1:$1,0)),Leveranciersbeoordeling!$H$1:$I$5,2,FALSE),0)","v":0},0]
["",null,null,null,null,null,null,null,null,null,null,null,null,null,null,{"$f":"INDEX($A:$O,ROW(),MATCH('Rapportage per vraag'!$C$12,'Data leveranciersbeoordeling'!$1:$1,0))","v":0},{"$f":"IFERROR(VLOOKUP(INDEX($A:$O,ROW(),MATCH('Rapportage per vraag'!$C$12,'Data leveranciersbeoordeling'!$1:$1,0)),Leveranciersbeoordeling!$H$1:$I$5,2,FALSE),0)","v":0},0]
["",null,null,null,null,null,null,null,null,null,null,null,null,null,null,{"$f":"INDEX($A:$O,ROW(),MATCH('Rapportage per vraag'!$C$12,'Data leveranciersbeoordeling'!$1:$1,0))","v":0},{"$f":"IFERROR(VLOOKUP(INDEX($A:$O,ROW(),MATCH('Rapportage per vraag'!$C$12,'Data leveranciersbeoordeling'!$1:$1,0)),Leveranciersbeoordeling!$H$1:$I$5,2,FALSE),0)","v":0},0]
["",null,null,null,null,null,null,null,null,null,null,null,null,null,null,{"$f":"INDEX($A:$O,ROW(),MATCH('Rapportage per vraag'!$C$12,'Data leveranciersbeoordeling'!$1:$1,0))","v":0},{"$f":"IFERROR(VLOOKUP(INDEX($A:$O,ROW(),MATCH('Rapportage per vraag'!$C$12,'Data leveranciersbeoordeling'!$1:$1,0)),Leveranciersbeoordeling!$H$1:$I$5,2,FALSE),0)","v":0},0]
["",null,null,null,null,null,null,null,null,null,null,null,null,null,null,{"$f":"INDEX($A:$O,ROW(),MATCH('Rapportage per vraag'!$C$12,'Data leveranciersbeoordeling'!$1:$1,0))","v":0},{"$f":"IFERROR(VLOOKUP(INDEX($A:$O,ROW(),MATCH('Rapportage per vraag'!$C$12,'Data leveranciersbeoordeling'!$1:$1,0)),Leveranciersbeoordeling!$H$1:$I$5,2,FALSE),0)","v":0},0]
["",null,null,null,null,null,null,null,null,null,null,null,null,null,null,{"$f":"INDEX($A:$O,ROW(),MATCH('Rapportage per vraag'!$C$12,'Data leveranciersbeoordeling'!$1:$1,0))","v":0},{"$f":"IFERROR(VLOOKUP(INDEX($A:$O,ROW(),MATCH('Rapportage per vraag'!$C$12,'Data leveranciersbeoordeling'!$1:$1,0)),Leveranciersbeoordeling!$H$1:$I$5,2,FALSE),0)","v":0},0]
["",null,null,null,null,null,null,null,null,null,null,null,null,null,null,{"$f":"INDEX($A:$O,ROW(),MATCH('Rapportage per vraag'!$C$12,'Data leveranciersbeoordeling'!$1:$1,0))","v":0},{"$f":"IFERROR(VLOOKUP(INDEX($A:$O,ROW(),MATCH('Rapportage per vraag'!$C$12,'Data leveranciersbeoordeling'!$1:$1,0)),Leveranciersbeoordeling!$H$1:$I$5,2,FALSE),0)","v":0},0]
["",null,null,null,null,null,null,null,null,null,null,null,null,null,null,{"$f":"INDEX($A:$O,ROW(),MATCH('Rapportage per vraag'!$C$12,'Data leveranciersbeoordeling'!$1:$1,0))","v":0},{"$f":"IFERROR(VLOOKUP(INDEX($A:$O,ROW(),MATCH('Rapportage per vraag'!$C$12,'Data leveranciersbeoordeling'!$1:$1,0)),Leveranciersbeoordeling!$H$1:$I$5,2,FALSE),0)","v":0},0]
["",null,null,null,null,null,null,null,null,null,null,null,null,null,null,{"$f":"INDEX($A:$O,ROW(),MATCH('Rapportage per vraag'!$C$12,'Data leveranciersbeoordeling'!$1:$1,0))","v":0},{"$f":"IFERROR(VLOOKUP(INDEX($A:$O,ROW(),MATCH('Rapportage per vraag'!$C$12,'Data leveranciersbeoordeling'!$1:$1,0)),Leveranciersbeoordeling!$H$1:$I$5,2,FALSE),0)","v":0},0]
["",null,null,null,null,null,null,null,null,null,null,null,null,null,null,{"$f":"INDEX($A:$O,ROW(),MATCH('Rapportage per vraag'!$C$12,'Data leveranciersbeoordeling'!$1:$1,0))","v":0},{"$f":"IFERROR(VLOOKUP(INDEX($A:$O,ROW(),MATCH('Rapportage per vraag'!$C$12,'Data leveranciersbeoordeling'!$1:$1,0)),Leveranciersbeoordeling!$H$1:$I$5,2,FALSE),0)","v":0},0]
["",null,null,null,null,null,null,null,null,null,null,null,null,null,null,{"$f":"INDEX($A:$O,ROW(),MATCH('Rapportage per vraag'!$C$12,'Data leveranciersbeoordeling'!$1:$1,0))","v":0},{"$f":"IFERROR(VLOOKUP(INDEX($A:$O,ROW(),MATCH('Rapportage per vraag'!$C$12,'Data leveranciersbeoordeling'!$1:$1,0)),Leveranciersbeoordeling!$H$1:$I$5,2,FALSE),0)","v":0},0]
["",null,null,null,null,null,null,null,null,null,null,null,null,null,null,{"$f":"INDEX($A:$O,ROW(),MATCH('Rapportage per vraag'!$C$12,'Data leveranciersbeoordeling'!$1:$1,0))","v":0},{"$f":"IFERROR(VLOOKUP(INDEX($A:$O,ROW(),MATCH('Rapportage per vraag'!$C$12,'Data leveranciersbeoordeling'!$1:$1,0)),Leveranciersbeoordeling!$H$1:$I$5,2,FALSE),0)","v":0},0]
["",null,null,null,null,null,null,null,null,null,null,null,null,null,null,{"$f":"INDEX($A:$O,ROW(),MATCH('Rapportage per vraag'!$C$12,'Data leveranciersbeoordeling'!$1:$1,0))","v":0},{"$f":"IFERROR(VLOOKUP(INDEX($A:$O,ROW(),MATCH('Rapportage per vraag'!$C$12,'Data leveranciersbeoordeling'!$1:$1,0)),Leveranciersbeoordeling!$H$1:$I$5,2,FALSE),0)","v":0},0]
["",null,null,null,null,null,null,null,null,null,null,null,null,null,null,{"$f":"INDEX($A:$O,ROW(),MATCH('Rapportage per vraag'!$C$12,'Data leveranciersbeoordeling'!$1:$1,0))","v":0},{"$f":"IFERROR(VLOOKUP(INDEX($A:$O,ROW(),MATCH('Rapportage per vraag'!$C$12,'Data leveranciersbeoordeling'!$1:$1,0)),Leveranciersbeoordeling!$H$1:$I$5,2,FALSE),0)","v":0},0]
["",null,null,null,null,null,null,null,null,null,null,null,null,null,null,{"$f":"INDEX($A:$O,ROW(),MATCH('Rapportage per vraag'!$C$12,'Data leveranciersbeoordeling'!$1:$1,0))","v":0},{"$f":"IFERROR(VLOOKUP(INDEX($A:$O,ROW(),MATCH('Rapportage per vraag'!$C$12,'Data leveranciersbeoordeling'!$1:$1,0)),Leveranciersbeoordeling!$H$1:$I$5,2,FALSE),0)","v":0},0]
["",null,null,null,null,null,null,null,null,null,null,null,null,null,null,{"$f":"INDEX($A:$O,ROW(),MATCH('Rapportage per vraag'!$C$12,'Data leveranciersbeoordeling'!$1:$1,0))","v":0},{"$f":"IFERROR(VLOOKUP(INDEX($A:$O,ROW(),MATCH('Rapportage per vraag'!$C$12,'Data leveranciersbeoordeling'!$1:$1,0)),Leveranciersbeoordeling!$H$1:$I$5,2,FALSE),0)","v":0},0]
["",null,null,null,null,null,null,null,null,null,null,null,null,null,null,{"$f":"INDEX($A:$O,ROW(),MATCH('Rapportage per vraag'!$C$12,'Data leveranciersbeoordeling'!$1:$1,0))","v":0},{"$f":"IFERROR(VLOOKUP(INDEX($A:$O,ROW(),MATCH('Rapportage per vraag'!$C$12,'Data leveranciersbeoordeling'!$1:$1,0)),Leveranciersbeoordeling!$H$1:$I$5,2,FALSE),0)","v":0},0]
["",null,null,null,null,null,null,null,null,null,null,null,null,null,null,{"$f":"INDEX($A:$O,ROW(),MATCH('Rapportage per vraag'!$C$12,'Data leveranciersbeoordeling'!$1:$1,0))","v":0},{"$f":"IFERROR(VLOOKUP(INDEX($A:$O,ROW(),MATCH('Rapportage per vraag'!$C$12,'Data leveranciersbeoordeling'!$1:$1,0)),Leveranciersbeoordeling!$H$1:$I$5,2,FALSE),0)","v":0},0]
[{"$f":"CONCATENATE(B3331,C3331,D3331)","v":""},null,null,null,null,null,null,null,null,null,null,null,null,null,null,{"$f":"INDEX($A:$O,ROW(),MATCH('Rapportage per vraag'!$C$12,'Data leveranciersbeoordeling'!$1:$1,0))","v":0},{"$f":"IFERROR(VLOOKUP(INDEX($A:$O,ROW(),MATCH('Rapportage per vraag'!$C$12,'Data leveranciersbeoordeling'!$1:$1,0)),Leveranciersbeoordeling!$H$1:$I$5,2,FALSE),0)","v":0},0]
["",null,null,null,null,null,null,null,null,null,null,null,null,null,null,{"$f":"INDEX($A:$O,ROW(),MATCH('Rapportage per vraag'!$C$12,'Data leveranciersbeoordeling'!$1:$1,0))","v":0},{"$f":"IFERROR(VLOOKUP(INDEX($A:$O,ROW(),MATCH('Rapportage per vraag'!$C$12,'Data leveranciersbeoordeling'!$1:$1,0)),Leveranciersbeoordeling!$H$1:$I$5,2,FALSE),0)","v":0},0]
["",null,null,null,null,null,null,null,null,null,null,null,null,null,null,{"$f":"INDEX($A:$O,ROW(),MATCH('Rapportage per vraag'!$C$12,'Data leveranciersbeoordeling'!$1:$1,0))","v":0},{"$f":"IFERROR(VLOOKUP(INDEX($A:$O,ROW(),MATCH('Rapportage per vraag'!$C$12,'Data leveranciersbeoordeling'!$1:$1,0)),Leveranciersbeoordeling!$H$1:$I$5,2,FALSE),0)","v":0},0]
["",null,null,null,null,null,null,null,null,null,null,null,null,null,null,{"$f":"INDEX($A:$O,ROW(),MATCH('Rapportage per vraag'!$C$12,'Data leveranciersbeoordeling'!$1:$1,0))","v":0},{"$f":"IFERROR(VLOOKUP(INDEX($A:$O,ROW(),MATCH('Rapportage per vraag'!$C$12,'Data leveranciersbeoordeling'!$1:$1,0)),Leveranciersbeoordeling!$H$1:$I$5,2,FALSE),0)","v":0},0]
["",null,null,null,null,null,null,null,null,null,null,null,null,null,null,{"$f":"INDEX($A:$O,ROW(),MATCH('Rapportage per vraag'!$C$12,'Data leveranciersbeoordeling'!$1:$1,0))","v":0},{"$f":"IFERROR(VLOOKUP(INDEX($A:$O,ROW(),MATCH('Rapportage per vraag'!$C$12,'Data leveranciersbeoordeling'!$1:$1,0)),Leveranciersbeoordeling!$H$1:$I$5,2,FALSE),0)","v":0},0]
["",null,null,null,null,null,null,null,null,null,null,null,null,null,null,{"$f":"INDEX($A:$O,ROW(),MATCH('Rapportage per vraag'!$C$12,'Data leveranciersbeoordeling'!$1:$1,0))","v":0},{"$f":"IFERROR(VLOOKUP(INDEX($A:$O,ROW(),MATCH('Rapportage per vraag'!$C$12,'Data leveranciersbeoordeling'!$1:$1,0)),Leveranciersbeoordeling!$H$1:$I$5,2,FALSE),0)","v":0},0]
["",null,null,null,null,null,null,null,null,null,null,null,null,null,null,{"$f":"INDEX($A:$O,ROW(),MATCH('Rapportage per vraag'!$C$12,'Data leveranciersbeoordeling'!$1:$1,0))","v":0},{"$f":"IFERROR(VLOOKUP(INDEX($A:$O,ROW(),MATCH('Rapportage per vraag'!$C$12,'Data leveranciersbeoordeling'!$1:$1,0)),Leveranciersbeoordeling!$H$1:$I$5,2,FALSE),0)","v":0},0]
["",null,null,null,null,null,null,null,null,null,null,null,null,null,null,{"$f":"INDEX($A:$O,ROW(),MATCH('Rapportage per vraag'!$C$12,'Data leveranciersbeoordeling'!$1:$1,0))","v":0},{"$f":"IFERROR(VLOOKUP(INDEX($A:$O,ROW(),MATCH('Rapportage per vraag'!$C$12,'Data leveranciersbeoordeling'!$1:$1,0)),Leveranciersbeoordeling!$H$1:$I$5,2,FALSE),0)","v":0},0]
["",null,null,null,null,null,null,null,null,null,null,null,null,null,null,{"$f":"INDEX($A:$O,ROW(),MATCH('Rapportage per vraag'!$C$12,'Data leveranciersbeoordeling'!$1:$1,0))","v":0},{"$f":"IFERROR(VLOOKUP(INDEX($A:$O,ROW(),MATCH('Rapportage per vraag'!$C$12,'Data leveranciersbeoordeling'!$1:$1,0)),Leveranciersbeoordeling!$H$1:$I$5,2,FALSE),0)","v":0},0]
["",null,null,null,null,null,null,null,null,null,null,null,null,null,null,{"$f":"INDEX($A:$O,ROW(),MATCH('Rapportage per vraag'!$C$12,'Data leveranciersbeoordeling'!$1:$1,0))","v":0},{"$f":"IFERROR(VLOOKUP(INDEX($A:$O,ROW(),MATCH('Rapportage per vraag'!$C$12,'Data leveranciersbeoordeling'!$1:$1,0)),Leveranciersbeoordeling!$H$1:$I$5,2,FALSE),0)","v":0},0]
["",null,null,null,null,null,null,null,null,null,null,null,null,null,null,{"$f":"INDEX($A:$O,ROW(),MATCH('Rapportage per vraag'!$C$12,'Data leveranciersbeoordeling'!$1:$1,0))","v":0},{"$f":"IFERROR(VLOOKUP(INDEX($A:$O,ROW(),MATCH('Rapportage per vraag'!$C$12,'Data leveranciersbeoordeling'!$1:$1,0)),Leveranciersbeoordeling!$H$1:$I$5,2,FALSE),0)","v":0},0]
["",null,null,null,null,null,null,null,null,null,null,null,null,null,null,{"$f":"INDEX($A:$O,ROW(),MATCH('Rapportage per vraag'!$C$12,'Data leveranciersbeoordeling'!$1:$1,0))","v":0},{"$f":"IFERROR(VLOOKUP(INDEX($A:$O,ROW(),MATCH('Rapportage per vraag'!$C$12,'Data leveranciersbeoordeling'!$1:$1,0)),Leveranciersbeoordeling!$H$1:$I$5,2,FALSE),0)","v":0},0]
["",null,null,null,null,null,null,null,null,null,null,null,null,null,null,{"$f":"INDEX($A:$O,ROW(),MATCH('Rapportage per vraag'!$C$12,'Data leveranciersbeoordeling'!$1:$1,0))","v":0},{"$f":"IFERROR(VLOOKUP(INDEX($A:$O,ROW(),MATCH('Rapportage per vraag'!$C$12,'Data leveranciersbeoordeling'!$1:$1,0)),Leveranciersbeoordeling!$H$1:$I$5,2,FALSE),0)","v":0},0]
["",null,null,null,null,null,null,null,null,null,null,null,null,null,null,{"$f":"INDEX($A:$O,ROW(),MATCH('Rapportage per vraag'!$C$12,'Data leveranciersbeoordeling'!$1:$1,0))","v":0},{"$f":"IFERROR(VLOOKUP(INDEX($A:$O,ROW(),MATCH('Rapportage per vraag'!$C$12,'Data leveranciersbeoordeling'!$1:$1,0)),Leveranciersbeoordeling!$H$1:$I$5,2,FALSE),0)","v":0},0]
["",null,null,null,null,null,null,null,null,null,null,null,null,null,null,{"$f":"INDEX($A:$O,ROW(),MATCH('Rapportage per vraag'!$C$12,'Data leveranciersbeoordeling'!$1:$1,0))","v":0},{"$f":"IFERROR(VLOOKUP(INDEX($A:$O,ROW(),MATCH('Rapportage per vraag'!$C$12,'Data leveranciersbeoordeling'!$1:$1,0)),Leveranciersbeoordeling!$H$1:$I$5,2,FALSE),0)","v":0},0]
["",null,null,null,null,null,null,null,null,null,null,null,null,null,null,{"$f":"INDEX($A:$O,ROW(),MATCH('Rapportage per vraag'!$C$12,'Data leveranciersbeoordeling'!$1:$1,0))","v":0},{"$f":"IFERROR(VLOOKUP(INDEX($A:$O,ROW(),MATCH('Rapportage per vraag'!$C$12,'Data leveranciersbeoordeling'!$1:$1,0)),Leveranciersbeoordeling!$H$1:$I$5,2,FALSE),0)","v":0},0]
["",null,null,null,null,null,null,null,null,null,null,null,null,null,null,{"$f":"INDEX($A:$O,ROW(),MATCH('Rapportage per vraag'!$C$12,'Data leveranciersbeoordeling'!$1:$1,0))","v":0},{"$f":"IFERROR(VLOOKUP(INDEX($A:$O,ROW(),MATCH('Rapportage per vraag'!$C$12,'Data leveranciersbeoordeling'!$1:$1,0)),Leveranciersbeoordeling!$H$1:$I$5,2,FALSE),0)","v":0},0]
["",null,null,null,null,null,null,null,null,null,null,null,null,null,null,{"$f":"INDEX($A:$O,ROW(),MATCH('Rapportage per vraag'!$C$12,'Data leveranciersbeoordeling'!$1:$1,0))","v":0},{"$f":"IFERROR(VLOOKUP(INDEX($A:$O,ROW(),MATCH('Rapportage per vraag'!$C$12,'Data leveranciersbeoordeling'!$1:$1,0)),Leveranciersbeoordeling!$H$1:$I$5,2,FALSE),0)","v":0},0]
["",null,null,null,null,null,null,null,null,null,null,null,null,null,null,{"$f":"INDEX($A:$O,ROW(),MATCH('Rapportage per vraag'!$C$12,'Data leveranciersbeoordeling'!$1:$1,0))","v":0},{"$f":"IFERROR(VLOOKUP(INDEX($A:$O,ROW(),MATCH('Rapportage per vraag'!$C$12,'Data leveranciersbeoordeling'!$1:$1,0)),Leveranciersbeoordeling!$H$1:$I$5,2,FALSE),0)","v":0},{"$f":"IF(T(P3398)=P3398,Q3398,P3398)","v":0}]
["",null,null,null,null,null,null,null,null,null,null,null,null,null,null,{"$f":"INDEX($A:$O,ROW(),MATCH('Rapportage per vraag'!$C$12,'Data leveranciersbeoordeling'!$1:$1,0))","v":0},{"$f":"IFERROR(VLOOKUP(INDEX($A:$O,ROW(),MATCH('Rapportage per vraag'!$C$12,'Data leveranciersbeoordeling'!$1:$1,0)),Leveranciersbeoordeling!$H$1:$I$5,2,FALSE),0)","v":0},0]
["",null,null,null,null,null,null,null,null,null,null,null,null,null,null,{"$f":"INDEX($A:$O,ROW(),MATCH('Rapportage per vraag'!$C$12,'Data leveranciersbeoordeling'!$1:$1,0))","v":0},{"$f":"IFERROR(VLOOKUP(INDEX($A:$O,ROW(),MATCH('Rapportage per vraag'!$C$12,'Data leveranciersbeoordeling'!$1:$1,0)),Leveranciersbeoordeling!$H$1:$I$5,2,FALSE),0)","v":0},0]
["",null,null,null,null,null,null,null,null,null,null,null,null,null,null,{"$f":"INDEX($A:$O,ROW(),MATCH('Rapportage per vraag'!$C$12,'Data leveranciersbeoordeling'!$1:$1,0))","v":0},{"$f":"IFERROR(VLOOKUP(INDEX($A:$O,ROW(),MATCH('Rapportage per vraag'!$C$12,'Data leveranciersbeoordeling'!$1:$1,0)),Leveranciersbeoordeling!$H$1:$I$5,2,FALSE),0)","v":0},0]
["",null,null,null,null,null,null,null,null,null,null,null,null,null,null,{"$f":"INDEX($A:$O,ROW(),MATCH('Rapportage per vraag'!$C$12,'Data leveranciersbeoordeling'!$1:$1,0))","v":0},{"$f":"IFERROR(VLOOKUP(INDEX($A:$O,ROW(),MATCH('Rapportage per vraag'!$C$12,'Data leveranciersbeoordeling'!$1:$1,0)),Leveranciersbeoordeling!$H$1:$I$5,2,FALSE),0)","v":0},0]
["",null,null,null,null,null,null,null,null,null,null,null,null,null,null,{"$f":"INDEX($A:$O,ROW(),MATCH('Rapportage per vraag'!$C$12,'Data leveranciersbeoordeling'!$1:$1,0))","v":0},{"$f":"IFERROR(VLOOKUP(INDEX($A:$O,ROW(),MATCH('Rapportage per vraag'!$C$12,'Data leveranciersbeoordeling'!$1:$1,0)),Leveranciersbeoordeling!$H$1:$I$5,2,FALSE),0)","v":0},0]
["",null,null,null,null,null,null,null,null,null,null,null,null,null,null,{"$f":"INDEX($A:$O,ROW(),MATCH('Rapportage per vraag'!$C$12,'Data leveranciersbeoordeling'!$1:$1,0))","v":0},{"$f":"IFERROR(VLOOKUP(INDEX($A:$O,ROW(),MATCH('Rapportage per vraag'!$C$12,'Data leveranciersbeoordeling'!$1:$1,0)),Leveranciersbeoordeling!$H$1:$I$5,2,FALSE),0)","v":0},0]
["",null,null,null,null,null,null,null,null,null,null,null,null,null,null,{"$f":"INDEX($A:$O,ROW(),MATCH('Rapportage per vraag'!$C$12,'Data leveranciersbeoordeling'!$1:$1,0))","v":0},{"$f":"IFERROR(VLOOKUP(INDEX($A:$O,ROW(),MATCH('Rapportage per vraag'!$C$12,'Data leveranciersbeoordeling'!$1:$1,0)),Leveranciersbeoordeling!$H$1:$I$5,2,FALSE),0)","v":0},0]
["",null,null,null,null,null,null,null,null,null,null,null,null,null,null,{"$f":"INDEX($A:$O,ROW(),MATCH('Rapportage per vraag'!$C$12,'Data leveranciersbeoordeling'!$1:$1,0))","v":0},{"$f":"IFERROR(VLOOKUP(INDEX($A:$O,ROW(),MATCH('Rapportage per vraag'!$C$12,'Data leveranciersbeoordeling'!$1:$1,0)),Leveranciersbeoordeling!$H$1:$I$5,2,FALSE),0)","v":0},0]
["",null,null,null,null,null,null,null,null,null,null,null,null,null,null,{"$f":"INDEX($A:$O,ROW(),MATCH('Rapportage per vraag'!$C$12,'Data leveranciersbeoordeling'!$1:$1,0))","v":0},{"$f":"IFERROR(VLOOKUP(INDEX($A:$O,ROW(),MATCH('Rapportage per vraag'!$C$12,'Data leveranciersbeoordeling'!$1:$1,0)),Leveranciersbeoordeling!$H$1:$I$5,2,FALSE),0)","v":0},0]
["",null,null,null,null,null,null,null,null,null,null,null,null,null,null,{"$f":"INDEX($A:$O,ROW(),MATCH('Rapportage per vraag'!$C$12,'Data leveranciersbeoordeling'!$1:$1,0))","v":0},{"$f":"IFERROR(VLOOKUP(INDEX($A:$O,ROW(),MATCH('Rapportage per vraag'!$C$12,'Data leveranciersbeoordeling'!$1:$1,0)),Leveranciersbeoordeling!$H$1:$I$5,2,FALSE),0)","v":0},0]
["",null,null,null,null,null,null,null,null,null,null,null,null,null,null,{"$f":"INDEX($A:$O,ROW(),MATCH('Rapportage per vraag'!$C$12,'Data leveranciersbeoordeling'!$1:$1,0))","v":0},{"$f":"IFERROR(VLOOKUP(INDEX($A:$O,ROW(),MATCH('Rapportage per vraag'!$C$12,'Data leveranciersbeoordeling'!$1:$1,0)),Leveranciersbeoordeling!$H$1:$I$5,2,FALSE),0)","v":0},0]
["",null,null,null,null,null,null,null,null,null,null,null,null,null,null,{"$f":"INDEX($A:$O,ROW(),MATCH('Rapportage per vraag'!$C$12,'Data leveranciersbeoordeling'!$1:$1,0))","v":0},{"$f":"IFERROR(VLOOKUP(INDEX($A:$O,ROW(),MATCH('Rapportage per vraag'!$C$12,'Data leveranciersbeoordeling'!$1:$1,0)),Leveranciersbeoordeling!$H$1:$I$5,2,FALSE),0)","v":0},0]
["",null,null,null,null,null,null,null,null,null,null,null,null,null,null,{"$f":"INDEX($A:$O,ROW(),MATCH('Rapportage per vraag'!$C$12,'Data leveranciersbeoordeling'!$1:$1,0))","v":0},{"$f":"IFERROR(VLOOKUP(INDEX($A:$O,ROW(),MATCH('Rapportage per vraag'!$C$12,'Data leveranciersbeoordeling'!$1:$1,0)),Leveranciersbeoordeling!$H$1:$I$5,2,FALSE),0)","v":0},0]
["",null,null,null,null,null,null,null,null,null,null,null,null,null,null,{"$f":"INDEX($A:$O,ROW(),MATCH('Rapportage per vraag'!$C$12,'Data leveranciersbeoordeling'!$1:$1,0))","v":0},{"$f":"IFERROR(VLOOKUP(INDEX($A:$O,ROW(),MATCH('Rapportage per vraag'!$C$12,'Data leveranciersbeoordeling'!$1:$1,0)),Leveranciersbeoordeling!$H$1:$I$5,2,FALSE),0)","v":0},0]
["",null,null,null,null,null,null,null,null,null,null,null,null,null,null,{"$f":"INDEX($A:$O,ROW(),MATCH('Rapportage per vraag'!$C$12,'Data leveranciersbeoordeling'!$1:$1,0))","v":0},{"$f":"IFERROR(VLOOKUP(INDEX($A:$O,ROW(),MATCH('Rapportage per vraag'!$C$12,'Data leveranciersbeoordeling'!$1:$1,0)),Leveranciersbeoordeling!$H$1:$I$5,2,FALSE),0)","v":0},0]
["",null,null,null,null,null,null,null,null,null,null,null,null,null,null,{"$f":"INDEX($A:$O,ROW(),MATCH('Rapportage per vraag'!$C$12,'Data leveranciersbeoordeling'!$1:$1,0))","v":0},{"$f":"IFERROR(VLOOKUP(INDEX($A:$O,ROW(),MATCH('Rapportage per vraag'!$C$12,'Data leveranciersbeoordeling'!$1:$1,0)),Leveranciersbeoordeling!$H$1:$I$5,2,FALSE),0)","v":0},0]
["",null,null,null,null,null,null,null,null,null,null,null,null,null,null,{"$f":"INDEX($A:$O,ROW(),MATCH('Rapportage per vraag'!$C$12,'Data leveranciersbeoordeling'!$1:$1,0))","v":0},{"$f":"IFERROR(VLOOKUP(INDEX($A:$O,ROW(),MATCH('Rapportage per vraag'!$C$12,'Data leveranciersbeoordeling'!$1:$1,0)),Leveranciersbeoordeling!$H$1:$I$5,2,FALSE),0)","v":0},0]
["",null,null,null,null,null,null,null,null,null,null,null,null,null,null,{"$f":"INDEX($A:$O,ROW(),MATCH('Rapportage per vraag'!$C$12,'Data leveranciersbeoordeling'!$1:$1,0))","v":0},{"$f":"IFERROR(VLOOKUP(INDEX($A:$O,ROW(),MATCH('Rapportage per vraag'!$C$12,'Data leveranciersbeoordeling'!$1:$1,0)),Leveranciersbeoordeling!$H$1:$I$5,2,FALSE),0)","v":0},0]
["",null,null,null,null,null,null,null,null,null,null,null,null,null,null,{"$f":"INDEX($A:$O,ROW(),MATCH('Rapportage per vraag'!$C$12,'Data leveranciersbeoordeling'!$1:$1,0))","v":0},{"$f":"IFERROR(VLOOKUP(INDEX($A:$O,ROW(),MATCH('Rapportage per vraag'!$C$12,'Data leveranciersbeoordeling'!$1:$1,0)),Leveranciersbeoordeling!$H$1:$I$5,2,FALSE),0)","v":0},0]
["",null,null,null,null,null,null,null,null,null,null,null,null,null,null,{"$f":"INDEX($A:$O,ROW(),MATCH('Rapportage per vraag'!$C$12,'Data leveranciersbeoordeling'!$1:$1,0))","v":0},{"$f":"IFERROR(VLOOKUP(INDEX($A:$O,ROW(),MATCH('Rapportage per vraag'!$C$12,'Data leveranciersbeoordeling'!$1:$1,0)),Leveranciersbeoordeling!$H$1:$I$5,2,FALSE),0)","v":0},0]
["",null,null,null,null,null,null,null,null,null,null,null,null,null,null,{"$f":"INDEX($A:$O,ROW(),MATCH('Rapportage per vraag'!$C$12,'Data leveranciersbeoordeling'!$1:$1,0))","v":0},{"$f":"IFERROR(VLOOKUP(INDEX($A:$O,ROW(),MATCH('Rapportage per vraag'!$C$12,'Data leveranciersbeoordeling'!$1:$1,0)),Leveranciersbeoordeling!$H$1:$I$5,2,FALSE),0)","v":0},0]
["",null,null,null,null,null,null,null,null,null,null,null,null,null,null,{"$f":"INDEX($A:$O,ROW(),MATCH('Rapportage per vraag'!$C$12,'Data leveranciersbeoordeling'!$1:$1,0))","v":0},{"$f":"IFERROR(VLOOKUP(INDEX($A:$O,ROW(),MATCH('Rapportage per vraag'!$C$12,'Data leveranciersbeoordeling'!$1:$1,0)),Leveranciersbeoordeling!$H$1:$I$5,2,FALSE),0)","v":0},0]
["",null,null,null,null,null,null,null,null,null,null,null,null,null,null,{"$f":"INDEX($A:$O,ROW(),MATCH('Rapportage per vraag'!$C$12,'Data leveranciersbeoordeling'!$1:$1,0))","v":0},{"$f":"IFERROR(VLOOKUP(INDEX($A:$O,ROW(),MATCH('Rapportage per vraag'!$C$12,'Data leveranciersbeoordeling'!$1:$1,0)),Leveranciersbeoordeling!$H$1:$I$5,2,FALSE),0)","v":0},0]
["",null,null,null,null,null,null,null,null,null,null,null,null,null,null,{"$f":"INDEX($A:$O,ROW(),MATCH('Rapportage per vraag'!$C$12,'Data leveranciersbeoordeling'!$1:$1,0))","v":0},{"$f":"IFERROR(VLOOKUP(INDEX($A:$O,ROW(),MATCH('Rapportage per vraag'!$C$12,'Data leveranciersbeoordeling'!$1:$1,0)),Leveranciersbeoordeling!$H$1:$I$5,2,FALSE),0)","v":0},0]
["",null,null,null,null,null,null,null,null,null,null,null,null,null,null,{"$f":"INDEX($A:$O,ROW(),MATCH('Rapportage per vraag'!$C$12,'Data leveranciersbeoordeling'!$1:$1,0))","v":0},{"$f":"IFERROR(VLOOKUP(INDEX($A:$O,ROW(),MATCH('Rapportage per vraag'!$C$12,'Data leveranciersbeoordeling'!$1:$1,0)),Leveranciersbeoordeling!$H$1:$I$5,2,FALSE),0)","v":0},0]
["",null,null,null,null,null,null,null,null,null,null,null,null,null,null,{"$f":"INDEX($A:$O,ROW(),MATCH('Rapportage per vraag'!$C$12,'Data leveranciersbeoordeling'!$1:$1,0))","v":0},{"$f":"IFERROR(VLOOKUP(INDEX($A:$O,ROW(),MATCH('Rapportage per vraag'!$C$12,'Data leveranciersbeoordeling'!$1:$1,0)),Leveranciersbeoordeling!$H$1:$I$5,2,FALSE),0)","v":0},0]
["",null,null,null,null,null,null,null,null,null,null,null,null,null,null,{"$f":"INDEX($A:$O,ROW(),MATCH('Rapportage per vraag'!$C$12,'Data leveranciersbeoordeling'!$1:$1,0))","v":0},{"$f":"IFERROR(VLOOKUP(INDEX($A:$O,ROW(),MATCH('Rapportage per vraag'!$C$12,'Data leveranciersbeoordeling'!$1:$1,0)),Leveranciersbeoordeling!$H$1:$I$5,2,FALSE),0)","v":0},0]
["",null,null,null,null,null,null,null,null,null,null,null,null,null,null,{"$f":"INDEX($A:$O,ROW(),MATCH('Rapportage per vraag'!$C$12,'Data leveranciersbeoordeling'!$1:$1,0))","v":0},{"$f":"IFERROR(VLOOKUP(INDEX($A:$O,ROW(),MATCH('Rapportage per vraag'!$C$12,'Data leveranciersbeoordeling'!$1:$1,0)),Leveranciersbeoordeling!$H$1:$I$5,2,FALSE),0)","v":0},0]
["",null,null,null,null,null,null,null,null,null,null,null,null,null,null,{"$f":"INDEX($A:$O,ROW(),MATCH('Rapportage per vraag'!$C$12,'Data leveranciersbeoordeling'!$1:$1,0))","v":0},{"$f":"IFERROR(VLOOKUP(INDEX($A:$O,ROW(),MATCH('Rapportage per vraag'!$C$12,'Data leveranciersbeoordeling'!$1:$1,0)),Leveranciersbeoordeling!$H$1:$I$5,2,FALSE),0)","v":0},0]
["",null,null,null,null,null,null,null,null,null,null,null,null,null,null,{"$f":"INDEX($A:$O,ROW(),MATCH('Rapportage per vraag'!$C$12,'Data leveranciersbeoordeling'!$1:$1,0))","v":0},{"$f":"IFERROR(VLOOKUP(INDEX($A:$O,ROW(),MATCH('Rapportage per vraag'!$C$12,'Data leveranciersbeoordeling'!$1:$1,0)),Leveranciersbeoordeling!$H$1:$I$5,2,FALSE),0)","v":0},0]
["",null,null,null,null,null,null,null,null,null,null,null,null,null,null,{"$f":"INDEX($A:$O,ROW(),MATCH('Rapportage per vraag'!$C$12,'Data leveranciersbeoordeling'!$1:$1,0))","v":0},{"$f":"IFERROR(VLOOKUP(INDEX($A:$O,ROW(),MATCH('Rapportage per vraag'!$C$12,'Data leveranciersbeoordeling'!$1:$1,0)),Leveranciersbeoordeling!$H$1:$I$5,2,FALSE),0)","v":0},0]
["",null,null,null,null,null,null,null,null,null,null,null,null,null,null,{"$f":"INDEX($A:$O,ROW(),MATCH('Rapportage per vraag'!$C$12,'Data leveranciersbeoordeling'!$1:$1,0))","v":0},{"$f":"IFERROR(VLOOKUP(INDEX($A:$O,ROW(),MATCH('Rapportage per vraag'!$C$12,'Data leveranciersbeoordeling'!$1:$1,0)),Leveranciersbeoordeling!$H$1:$I$5,2,FALSE),0)","v":0},0]
["",null,null,null,null,null,null,null,null,null,null,null,null,null,null,{"$f":"INDEX($A:$O,ROW(),MATCH('Rapportage per vraag'!$C$12,'Data leveranciersbeoordeling'!$1:$1,0))","v":0},{"$f":"IFERROR(VLOOKUP(INDEX($A:$O,ROW(),MATCH('Rapportage per vraag'!$C$12,'Data leveranciersbeoordeling'!$1:$1,0)),Leveranciersbeoordeling!$H$1:$I$5,2,FALSE),0)","v":0},0]
["",null,null,null,null,null,null,null,null,null,null,null,null,null,null,{"$f":"INDEX($A:$O,ROW(),MATCH('Rapportage per vraag'!$C$12,'Data leveranciersbeoordeling'!$1:$1,0))","v":0},{"$f":"IFERROR(VLOOKUP(INDEX($A:$O,ROW(),MATCH('Rapportage per vraag'!$C$12,'Data leveranciersbeoordeling'!$1:$1,0)),Leveranciersbeoordeling!$H$1:$I$5,2,FALSE),0)","v":0},{"$f":"IF(T(P3526)=P3526,Q3526,P3526)","v":0}]
["",null,null,null,null,null,null,null,null,null,null,null,null,null,null,{"$f":"INDEX($A:$O,ROW(),MATCH('Rapportage per vraag'!$C$12,'Data leveranciersbeoordeling'!$1:$1,0))","v":0},{"$f":"IFERROR(VLOOKUP(INDEX($A:$O,ROW(),MATCH('Rapportage per vraag'!$C$12,'Data leveranciersbeoordeling'!$1:$1,0)),Leveranciersbeoordeling!$H$1:$I$5,2,FALSE),0)","v":0},0]
["",null,null,null,null,null,null,null,null,null,null,null,null,null,null,{"$f":"INDEX($A:$O,ROW(),MATCH('Rapportage per vraag'!$C$12,'Data leveranciersbeoordeling'!$1:$1,0))","v":0},{"$f":"IFERROR(VLOOKUP(INDEX($A:$O,ROW(),MATCH('Rapportage per vraag'!$C$12,'Data leveranciersbeoordeling'!$1:$1,0)),Leveranciersbeoordeling!$H$1:$I$5,2,FALSE),0)","v":0},0]
["",null,null,null,null,null,null,null,null,null,null,null,null,null,null,{"$f":"INDEX($A:$O,ROW(),MATCH('Rapportage per vraag'!$C$12,'Data leveranciersbeoordeling'!$1:$1,0))","v":0},{"$f":"IFERROR(VLOOKUP(INDEX($A:$O,ROW(),MATCH('Rapportage per vraag'!$C$12,'Data leveranciersbeoordeling'!$1:$1,0)),Leveranciersbeoordeling!$H$1:$I$5,2,FALSE),0)","v":0},0]
["",null,null,null,null,null,null,null,null,null,null,null,null,null,null,{"$f":"INDEX($A:$O,ROW(),MATCH('Rapportage per vraag'!$C$12,'Data leveranciersbeoordeling'!$1:$1,0))","v":0},{"$f":"IFERROR(VLOOKUP(INDEX($A:$O,ROW(),MATCH('Rapportage per vraag'!$C$12,'Data leveranciersbeoordeling'!$1:$1,0)),Leveranciersbeoordeling!$H$1:$I$5,2,FALSE),0)","v":0},0]
["",null,null,null,null,null,null,null,null,null,null,null,null,null,null,{"$f":"INDEX($A:$O,ROW(),MATCH('Rapportage per vraag'!$C$12,'Data leveranciersbeoordeling'!$1:$1,0))","v":0},{"$f":"IFERROR(VLOOKUP(INDEX($A:$O,ROW(),MATCH('Rapportage per vraag'!$C$12,'Data leveranciersbeoordeling'!$1:$1,0)),Leveranciersbeoordeling!$H$1:$I$5,2,FALSE),0)","v":0},0]
["",null,null,null,null,null,null,null,null,null,null,null,null,null,null,{"$f":"INDEX($A:$O,ROW(),MATCH('Rapportage per vraag'!$C$12,'Data leveranciersbeoordeling'!$1:$1,0))","v":0},{"$f":"IFERROR(VLOOKUP(INDEX($A:$O,ROW(),MATCH('Rapportage per vraag'!$C$12,'Data leveranciersbeoordeling'!$1:$1,0)),Leveranciersbeoordeling!$H$1:$I$5,2,FALSE),0)","v":0},0]
["",null,null,null,null,null,null,null,null,null,null,null,null,null,null,{"$f":"INDEX($A:$O,ROW(),MATCH('Rapportage per vraag'!$C$12,'Data leveranciersbeoordeling'!$1:$1,0))","v":0},{"$f":"IFERROR(VLOOKUP(INDEX($A:$O,ROW(),MATCH('Rapportage per vraag'!$C$12,'Data leveranciersbeoordeling'!$1:$1,0)),Leveranciersbeoordeling!$H$1:$I$5,2,FALSE),0)","v":0},0]
["",null,null,null,null,null,null,null,null,null,null,null,null,null,null,{"$f":"INDEX($A:$O,ROW(),MATCH('Rapportage per vraag'!$C$12,'Data leveranciersbeoordeling'!$1:$1,0))","v":0},{"$f":"IFERROR(VLOOKUP(INDEX($A:$O,ROW(),MATCH('Rapportage per vraag'!$C$12,'Data leveranciersbeoordeling'!$1:$1,0)),Leveranciersbeoordeling!$H$1:$I$5,2,FALSE),0)","v":0},0]
["",null,null,null,null,null,null,null,null,null,null,null,null,null,null,{"$f":"INDEX($A:$O,ROW(),MATCH('Rapportage per vraag'!$C$12,'Data leveranciersbeoordeling'!$1:$1,0))","v":0},{"$f":"IFERROR(VLOOKUP(INDEX($A:$O,ROW(),MATCH('Rapportage per vraag'!$C$12,'Data leveranciersbeoordeling'!$1:$1,0)),Leveranciersbeoordeling!$H$1:$I$5,2,FALSE),0)","v":0},0]
["",null,null,null,null,null,null,null,null,null,null,null,null,null,null,{"$f":"INDEX($A:$O,ROW(),MATCH('Rapportage per vraag'!$C$12,'Data leveranciersbeoordeling'!$1:$1,0))","v":0},{"$f":"IFERROR(VLOOKUP(INDEX($A:$O,ROW(),MATCH('Rapportage per vraag'!$C$12,'Data leveranciersbeoordeling'!$1:$1,0)),Leveranciersbeoordeling!$H$1:$I$5,2,FALSE),0)","v":0},0]
["",null,null,null,null,null,null,null,null,null,null,null,null,null,null,{"$f":"INDEX($A:$O,ROW(),MATCH('Rapportage per vraag'!$C$12,'Data leveranciersbeoordeling'!$1:$1,0))","v":0},{"$f":"IFERROR(VLOOKUP(INDEX($A:$O,ROW(),MATCH('Rapportage per vraag'!$C$12,'Data leveranciersbeoordeling'!$1:$1,0)),Leveranciersbeoordeling!$H$1:$I$5,2,FALSE),0)","v":0},0]
["",null,null,null,null,null,null,null,null,null,null,null,null,null,null,{"$f":"INDEX($A:$O,ROW(),MATCH('Rapportage per vraag'!$C$12,'Data leveranciersbeoordeling'!$1:$1,0))","v":0},{"$f":"IFERROR(VLOOKUP(INDEX($A:$O,ROW(),MATCH('Rapportage per vraag'!$C$12,'Data leveranciersbeoordeling'!$1:$1,0)),Leveranciersbeoordeling!$H$1:$I$5,2,FALSE),0)","v":0},0]
["",null,null,null,null,null,null,null,null,null,null,null,null,null,null,{"$f":"INDEX($A:$O,ROW(),MATCH('Rapportage per vraag'!$C$12,'Data leveranciersbeoordeling'!$1:$1,0))","v":0},{"$f":"IFERROR(VLOOKUP(INDEX($A:$O,ROW(),MATCH('Rapportage per vraag'!$C$12,'Data leveranciersbeoordeling'!$1:$1,0)),Leveranciersbeoordeling!$H$1:$I$5,2,FALSE),0)","v":0},0]
["",null,null,null,null,null,null,null,null,null,null,null,null,null,null,{"$f":"INDEX($A:$O,ROW(),MATCH('Rapportage per vraag'!$C$12,'Data leveranciersbeoordeling'!$1:$1,0))","v":0},{"$f":"IFERROR(VLOOKUP(INDEX($A:$O,ROW(),MATCH('Rapportage per vraag'!$C$12,'Data leveranciersbeoordeling'!$1:$1,0)),Leveranciersbeoordeling!$H$1:$I$5,2,FALSE),0)","v":0},0]
["",null,null,null,null,null,null,null,null,null,null,null,null,null,null,{"$f":"INDEX($A:$O,ROW(),MATCH('Rapportage per vraag'!$C$12,'Data leveranciersbeoordeling'!$1:$1,0))","v":0},{"$f":"IFERROR(VLOOKUP(INDEX($A:$O,ROW(),MATCH('Rapportage per vraag'!$C$12,'Data leveranciersbeoordeling'!$1:$1,0)),Leveranciersbeoordeling!$H$1:$I$5,2,FALSE),0)","v":0},0]
["",null,null,null,null,null,null,null,null,null,null,null,null,null,null,{"$f":"INDEX($A:$O,ROW(),MATCH('Rapportage per vraag'!$C$12,'Data leveranciersbeoordeling'!$1:$1,0))","v":0},{"$f":"IFERROR(VLOOKUP(INDEX($A:$O,ROW(),MATCH('Rapportage per vraag'!$C$12,'Data leveranciersbeoordeling'!$1:$1,0)),Leveranciersbeoordeling!$H$1:$I$5,2,FALSE),0)","v":0},0]
[{"$f":"CONCATENATE(B3587,C3587,D3587)","v":""},null,null,null,null,null,null,null,null,null,null,null,null,null,null,{"$f":"INDEX($A:$O,ROW(),MATCH('Rapportage per vraag'!$C$12,'Data leveranciersbeoordeling'!$1:$1,0))","v":0},{"$f":"IFERROR(VLOOKUP(INDEX($A:$O,ROW(),MATCH('Rapportage per vraag'!$C$12,'Data leveranciersbeoordeling'!$1:$1,0)),Leveranciersbeoordeling!$H$1:$I$5,2,FALSE),0)","v":0},0]
["",null,null,null,null,null,null,null,null,null,null,null,null,null,null,{"$f":"INDEX($A:$O,ROW(),MATCH('Rapportage per vraag'!$C$12,'Data leveranciersbeoordeling'!$1:$1,0))","v":0},{"$f":"IFERROR(VLOOKUP(INDEX($A:$O,ROW(),MATCH('Rapportage per vraag'!$C$12,'Data leveranciersbeoordeling'!$1:$1,0)),Leveranciersbeoordeling!$H$1:$I$5,2,FALSE),0)","v":0},0]
["",null,null,null,null,null,null,null,null,null,null,null,null,null,null,{"$f":"INDEX($A:$O,ROW(),MATCH('Rapportage per vraag'!$C$12,'Data leveranciersbeoordeling'!$1:$1,0))","v":0},{"$f":"IFERROR(VLOOKUP(INDEX($A:$O,ROW(),MATCH('Rapportage per vraag'!$C$12,'Data leveranciersbeoordeling'!$1:$1,0)),Leveranciersbeoordeling!$H$1:$I$5,2,FALSE),0)","v":0},0]
["",null,null,null,null,null,null,null,null,null,null,null,null,null,null,{"$f":"INDEX($A:$O,ROW(),MATCH('Rapportage per vraag'!$C$12,'Data leveranciersbeoordeling'!$1:$1,0))","v":0},{"$f":"IFERROR(VLOOKUP(INDEX($A:$O,ROW(),MATCH('Rapportage per vraag'!$C$12,'Data leveranciersbeoordeling'!$1:$1,0)),Leveranciersbeoordeling!$H$1:$I$5,2,FALSE),0)","v":0},0]
["",null,null,null,null,null,null,null,null,null,null,null,null,null,null,{"$f":"INDEX($A:$O,ROW(),MATCH('Rapportage per vraag'!$C$12,'Data leveranciersbeoordeling'!$1:$1,0))","v":0},{"$f":"IFERROR(VLOOKUP(INDEX($A:$O,ROW(),MATCH('Rapportage per vraag'!$C$12,'Data leveranciersbeoordeling'!$1:$1,0)),Leveranciersbeoordeling!$H$1:$I$5,2,FALSE),0)","v":0},0]
["",null,null,null,null,null,null,null,null,null,null,null,null,null,null,{"$f":"INDEX($A:$O,ROW(),MATCH('Rapportage per vraag'!$C$12,'Data leveranciersbeoordeling'!$1:$1,0))","v":0},{"$f":"IFERROR(VLOOKUP(INDEX($A:$O,ROW(),MATCH('Rapportage per vraag'!$C$12,'Data leveranciersbeoordeling'!$1:$1,0)),Leveranciersbeoordeling!$H$1:$I$5,2,FALSE),0)","v":0},0]
["",null,null,null,null,null,null,null,null,null,null,null,null,null,null,{"$f":"INDEX($A:$O,ROW(),MATCH('Rapportage per vraag'!$C$12,'Data leveranciersbeoordeling'!$1:$1,0))","v":0},{"$f":"IFERROR(VLOOKUP(INDEX($A:$O,ROW(),MATCH('Rapportage per vraag'!$C$12,'Data leveranciersbeoordeling'!$1:$1,0)),Leveranciersbeoordeling!$H$1:$I$5,2,FALSE),0)","v":0},0]
["",null,null,null,null,null,null,null,null,null,null,null,null,null,null,{"$f":"INDEX($A:$O,ROW(),MATCH('Rapportage per vraag'!$C$12,'Data leveranciersbeoordeling'!$1:$1,0))","v":0},{"$f":"IFERROR(VLOOKUP(INDEX($A:$O,ROW(),MATCH('Rapportage per vraag'!$C$12,'Data leveranciersbeoordeling'!$1:$1,0)),Leveranciersbeoordeling!$H$1:$I$5,2,FALSE),0)","v":0},0]
["",null,null,null,null,null,null,null,null,null,null,null,null,null,null,{"$f":"INDEX($A:$O,ROW(),MATCH('Rapportage per vraag'!$C$12,'Data leveranciersbeoordeling'!$1:$1,0))","v":0},{"$f":"IFERROR(VLOOKUP(INDEX($A:$O,ROW(),MATCH('Rapportage per vraag'!$C$12,'Data leveranciersbeoordeling'!$1:$1,0)),Leveranciersbeoordeling!$H$1:$I$5,2,FALSE),0)","v":0},0]
["",null,null,null,null,null,null,null,null,null,null,null,null,null,null,{"$f":"INDEX($A:$O,ROW(),MATCH('Rapportage per vraag'!$C$12,'Data leveranciersbeoordeling'!$1:$1,0))","v":0},{"$f":"IFERROR(VLOOKUP(INDEX($A:$O,ROW(),MATCH('Rapportage per vraag'!$C$12,'Data leveranciersbeoordeling'!$1:$1,0)),Leveranciersbeoordeling!$H$1:$I$5,2,FALSE),0)","v":0},0]
["",null,null,null,null,null,null,null,null,null,null,null,null,null,null,{"$f":"INDEX($A:$O,ROW(),MATCH('Rapportage per vraag'!$C$12,'Data leveranciersbeoordeling'!$1:$1,0))","v":0},{"$f":"IFERROR(VLOOKUP(INDEX($A:$O,ROW(),MATCH('Rapportage per vraag'!$C$12,'Data leveranciersbeoordeling'!$1:$1,0)),Leveranciersbeoordeling!$H$1:$I$5,2,FALSE),0)","v":0},0]
["",null,null,null,null,null,null,null,null,null,null,null,null,null,null,{"$f":"INDEX($A:$O,ROW(),MATCH('Rapportage per vraag'!$C$12,'Data leveranciersbeoordeling'!$1:$1,0))","v":0},{"$f":"IFERROR(VLOOKUP(INDEX($A:$O,ROW(),MATCH('Rapportage per vraag'!$C$12,'Data leveranciersbeoordeling'!$1:$1,0)),Leveranciersbeoordeling!$H$1:$I$5,2,FALSE),0)","v":0},0]
["",null,null,null,null,null,null,null,null,null,null,null,null,null,null,{"$f":"INDEX($A:$O,ROW(),MATCH('Rapportage per vraag'!$C$12,'Data leveranciersbeoordeling'!$1:$1,0))","v":0},{"$f":"IFERROR(VLOOKUP(INDEX($A:$O,ROW(),MATCH('Rapportage per vraag'!$C$12,'Data leveranciersbeoordeling'!$1:$1,0)),Leveranciersbeoordeling!$H$1:$I$5,2,FALSE),0)","v":0},0]
["",null,null,null,null,null,null,null,null,null,null,null,null,null,null,{"$f":"INDEX($A:$O,ROW(),MATCH('Rapportage per vraag'!$C$12,'Data leveranciersbeoordeling'!$1:$1,0))","v":0},{"$f":"IFERROR(VLOOKUP(INDEX($A:$O,ROW(),MATCH('Rapportage per vraag'!$C$12,'Data leveranciersbeoordeling'!$1:$1,0)),Leveranciersbeoordeling!$H$1:$I$5,2,FALSE),0)","v":0},0]
["",null,null,null,null,null,null,null,null,null,null,null,null,null,null,{"$f":"INDEX($A:$O,ROW(),MATCH('Rapportage per vraag'!$C$12,'Data leveranciersbeoordeling'!$1:$1,0))","v":0},{"$f":"IFERROR(VLOOKUP(INDEX($A:$O,ROW(),MATCH('Rapportage per vraag'!$C$12,'Data leveranciersbeoordeling'!$1:$1,0)),Leveranciersbeoordeling!$H$1:$I$5,2,FALSE),0)","v":0},0]
["",null,null,null,null,null,null,null,null,null,null,null,null,null,null,{"$f":"INDEX($A:$O,ROW(),MATCH('Rapportage per vraag'!$C$12,'Data leveranciersbeoordeling'!$1:$1,0))","v":0},{"$f":"IFERROR(VLOOKUP(INDEX($A:$O,ROW(),MATCH('Rapportage per vraag'!$C$12,'Data leveranciersbeoordeling'!$1:$1,0)),Leveranciersbeoordeling!$H$1:$I$5,2,FALSE),0)","v":0},0]
["",null,null,null,null,null,null,null,null,null,null,null,null,null,null,{"$f":"INDEX($A:$O,ROW(),MATCH('Rapportage per vraag'!$C$12,'Data leveranciersbeoordeling'!$1:$1,0))","v":0},{"$f":"IFERROR(VLOOKUP(INDEX($A:$O,ROW(),MATCH('Rapportage per vraag'!$C$12,'Data leveranciersbeoordeling'!$1:$1,0)),Leveranciersbeoordeling!$H$1:$I$5,2,FALSE),0)","v":0},0]
["",null,null,null,null,null,null,null,null,null,null,null,null,null,null,{"$f":"INDEX($A:$O,ROW(),MATCH('Rapportage per vraag'!$C$12,'Data leveranciersbeoordeling'!$1:$1,0))","v":0},{"$f":"IFERROR(VLOOKUP(INDEX($A:$O,ROW(),MATCH('Rapportage per vraag'!$C$12,'Data leveranciersbeoordeling'!$1:$1,0)),Leveranciersbeoordeling!$H$1:$I$5,2,FALSE),0)","v":0},0]
["",null,null,null,null,null,null,null,null,null,null,null,null,null,null,{"$f":"INDEX($A:$O,ROW(),MATCH('Rapportage per vraag'!$C$12,'Data leveranciersbeoordeling'!$1:$1,0))","v":0},{"$f":"IFERROR(VLOOKUP(INDEX($A:$O,ROW(),MATCH('Rapportage per vraag'!$C$12,'Data leveranciersbeoordeling'!$1:$1,0)),Leveranciersbeoordeling!$H$1:$I$5,2,FALSE),0)","v":0},0]
["",null,null,null,null,null,null,null,null,null,null,null,null,null,null,{"$f":"INDEX($A:$O,ROW(),MATCH('Rapportage per vraag'!$C$12,'Data leveranciersbeoordeling'!$1:$1,0))","v":0},{"$f":"IFERROR(VLOOKUP(INDEX($A:$O,ROW(),MATCH('Rapportage per vraag'!$C$12,'Data leveranciersbeoordeling'!$1:$1,0)),Leveranciersbeoordeling!$H$1:$I$5,2,FALSE),0)","v":0},0]
["",null,null,null,null,null,null,null,null,null,null,null,null,null,null,{"$f":"INDEX($A:$O,ROW(),MATCH('Rapportage per vraag'!$C$12,'Data leveranciersbeoordeling'!$1:$1,0))","v":0},{"$f":"IFERROR(VLOOKUP(INDEX($A:$O,ROW(),MATCH('Rapportage per vraag'!$C$12,'Data leveranciersbeoordeling'!$1:$1,0)),Leveranciersbeoordeling!$H$1:$I$5,2,FALSE),0)","v":0},0]
["",null,null,null,null,null,null,null,null,null,null,null,null,null,null,{"$f":"INDEX($A:$O,ROW(),MATCH('Rapportage per vraag'!$C$12,'Data leveranciersbeoordeling'!$1:$1,0))","v":0},{"$f":"IFERROR(VLOOKUP(INDEX($A:$O,ROW(),MATCH('Rapportage per vraag'!$C$12,'Data leveranciersbeoordeling'!$1:$1,0)),Leveranciersbeoordeling!$H$1:$I$5,2,FALSE),0)","v":0},0]
["",null,null,null,null,null,null,null,null,null,null,null,null,null,null,{"$f":"INDEX($A:$O,ROW(),MATCH('Rapportage per vraag'!$C$12,'Data leveranciersbeoordeling'!$1:$1,0))","v":0},{"$f":"IFERROR(VLOOKUP(INDEX($A:$O,ROW(),MATCH('Rapportage per vraag'!$C$12,'Data leveranciersbeoordeling'!$1:$1,0)),Leveranciersbeoordeling!$H$1:$I$5,2,FALSE),0)","v":0},0]
["",null,null,null,null,null,null,null,null,null,null,null,null,null,null,{"$f":"INDEX($A:$O,ROW(),MATCH('Rapportage per vraag'!$C$12,'Data leveranciersbeoordeling'!$1:$1,0))","v":0},{"$f":"IFERROR(VLOOKUP(INDEX($A:$O,ROW(),MATCH('Rapportage per vraag'!$C$12,'Data leveranciersbeoordeling'!$1:$1,0)),Leveranciersbeoordeling!$H$1:$I$5,2,FALSE),0)","v":0},0]
["",null,null,null,null,null,null,null,null,null,null,null,null,null,null,{"$f":"INDEX($A:$O,ROW(),MATCH('Rapportage per vraag'!$C$12,'Data leveranciersbeoordeling'!$1:$1,0))","v":0},{"$f":"IFERROR(VLOOKUP(INDEX($A:$O,ROW(),MATCH('Rapportage per vraag'!$C$12,'Data leveranciersbeoordeling'!$1:$1,0)),Leveranciersbeoordeling!$H$1:$I$5,2,FALSE),0)","v":0},0]
["",null,null,null,null,null,null,null,null,null,null,null,null,null,null,{"$f":"INDEX($A:$O,ROW(),MATCH('Rapportage per vraag'!$C$12,'Data leveranciersbeoordeling'!$1:$1,0))","v":0},{"$f":"IFERROR(VLOOKUP(INDEX($A:$O,ROW(),MATCH('Rapportage per vraag'!$C$12,'Data leveranciersbeoordeling'!$1:$1,0)),Leveranciersbeoordeling!$H$1:$I$5,2,FALSE),0)","v":0},0]
["",null,null,null,null,null,null,null,null,null,null,null,null,null,null,{"$f":"INDEX($A:$O,ROW(),MATCH('Rapportage per vraag'!$C$12,'Data leveranciersbeoordeling'!$1:$1,0))","v":0},{"$f":"IFERROR(VLOOKUP(INDEX($A:$O,ROW(),MATCH('Rapportage per vraag'!$C$12,'Data leveranciersbeoordeling'!$1:$1,0)),Leveranciersbeoordeling!$H$1:$I$5,2,FALSE),0)","v":0},0]
["",null,null,null,null,null,null,null,null,null,null,null,null,null,null,{"$f":"INDEX($A:$O,ROW(),MATCH('Rapportage per vraag'!$C$12,'Data leveranciersbeoordeling'!$1:$1,0))","v":0},{"$f":"IFERROR(VLOOKUP(INDEX($A:$O,ROW(),MATCH('Rapportage per vraag'!$C$12,'Data leveranciersbeoordeling'!$1:$1,0)),Leveranciersbeoordeling!$H$1:$I$5,2,FALSE),0)","v":0},0]
["",null,null,null,null,null,null,null,null,null,null,null,null,null,null,{"$f":"INDEX($A:$O,ROW(),MATCH('Rapportage per vraag'!$C$12,'Data leveranciersbeoordeling'!$1:$1,0))","v":0},{"$f":"IFERROR(VLOOKUP(INDEX($A:$O,ROW(),MATCH('Rapportage per vraag'!$C$12,'Data leveranciersbeoordeling'!$1:$1,0)),Leveranciersbeoordeling!$H$1:$I$5,2,FALSE),0)","v":0},0]
["",null,null,null,null,null,null,null,null,null,null,null,null,null,null,{"$f":"INDEX($A:$O,ROW(),MATCH('Rapportage per vraag'!$C$12,'Data leveranciersbeoordeling'!$1:$1,0))","v":0},{"$f":"IFERROR(VLOOKUP(INDEX($A:$O,ROW(),MATCH('Rapportage per vraag'!$C$12,'Data leveranciersbeoordeling'!$1:$1,0)),Leveranciersbeoordeling!$H$1:$I$5,2,FALSE),0)","v":0},0]
["",null,null,null,null,null,null,null,null,null,null,null,null,null,null,{"$f":"INDEX($A:$O,ROW(),MATCH('Rapportage per vraag'!$C$12,'Data leveranciersbeoordeling'!$1:$1,0))","v":0},{"$f":"IFERROR(VLOOKUP(INDEX($A:$O,ROW(),MATCH('Rapportage per vraag'!$C$12,'Data leveranciersbeoordeling'!$1:$1,0)),Leveranciersbeoordeling!$H$1:$I$5,2,FALSE),0)","v":0},0]
["",null,null,null,null,null,null,null,null,null,null,null,null,null,null,{"$f":"INDEX($A:$O,ROW(),MATCH('Rapportage per vraag'!$C$12,'Data leveranciersbeoordeling'!$1:$1,0))","v":0},{"$f":"IFERROR(VLOOKUP(INDEX($A:$O,ROW(),MATCH('Rapportage per vraag'!$C$12,'Data leveranciersbeoordeling'!$1:$1,0)),Leveranciersbeoordeling!$H$1:$I$5,2,FALSE),0)","v":0},0]
["",null,null,null,null,null,null,null,null,null,null,null,null,null,null,{"$f":"INDEX($A:$O,ROW(),MATCH('Rapportage per vraag'!$C$12,'Data leveranciersbeoordeling'!$1:$1,0))","v":0},{"$f":"IFERROR(VLOOKUP(INDEX($A:$O,ROW(),MATCH('Rapportage per vraag'!$C$12,'Data leveranciersbeoordeling'!$1:$1,0)),Leveranciersbeoordeling!$H$1:$I$5,2,FALSE),0)","v":0},0]
["",null,null,null,null,null,null,null,null,null,null,null,null,null,null,{"$f":"INDEX($A:$O,ROW(),MATCH('Rapportage per vraag'!$C$12,'Data leveranciersbeoordeling'!$1:$1,0))","v":0},{"$f":"IFERROR(VLOOKUP(INDEX($A:$O,ROW(),MATCH('Rapportage per vraag'!$C$12,'Data leveranciersbeoordeling'!$1:$1,0)),Leveranciersbeoordeling!$H$1:$I$5,2,FALSE),0)","v":0},0]
["",null,null,null,null,null,null,null,null,null,null,null,null,null,null,{"$f":"INDEX($A:$O,ROW(),MATCH('Rapportage per vraag'!$C$12,'Data leveranciersbeoordeling'!$1:$1,0))","v":0},{"$f":"IFERROR(VLOOKUP(INDEX($A:$O,ROW(),MATCH('Rapportage per vraag'!$C$12,'Data leveranciersbeoordeling'!$1:$1,0)),Leveranciersbeoordeling!$H$1:$I$5,2,FALSE),0)","v":0},0]
["",null,null,null,null,null,null,null,null,null,null,null,null,null,null,{"$f":"INDEX($A:$O,ROW(),MATCH('Rapportage per vraag'!$C$12,'Data leveranciersbeoordeling'!$1:$1,0))","v":0},{"$f":"IFERROR(VLOOKUP(INDEX($A:$O,ROW(),MATCH('Rapportage per vraag'!$C$12,'Data leveranciersbeoordeling'!$1:$1,0)),Leveranciersbeoordeling!$H$1:$I$5,2,FALSE),0)","v":0},0]
["",null,null,null,null,null,null,null,null,null,null,null,null,null,null,{"$f":"INDEX($A:$O,ROW(),MATCH('Rapportage per vraag'!$C$12,'Data leveranciersbeoordeling'!$1:$1,0))","v":0},{"$f":"IFERROR(VLOOKUP(INDEX($A:$O,ROW(),MATCH('Rapportage per vraag'!$C$12,'Data leveranciersbeoordeling'!$1:$1,0)),Leveranciersbeoordeling!$H$1:$I$5,2,FALSE),0)","v":0},0]
["",null,null,null,null,null,null,null,null,null,null,null,null,null,null,{"$f":"INDEX($A:$O,ROW(),MATCH('Rapportage per vraag'!$C$12,'Data leveranciersbeoordeling'!$1:$1,0))","v":0},{"$f":"IFERROR(VLOOKUP(INDEX($A:$O,ROW(),MATCH('Rapportage per vraag'!$C$12,'Data leveranciersbeoordeling'!$1:$1,0)),Leveranciersbeoordeling!$H$1:$I$5,2,FALSE),0)","v":0},0]
["",null,null,null,null,null,null,null,null,null,null,null,null,null,null,{"$f":"INDEX($A:$O,ROW(),MATCH('Rapportage per vraag'!$C$12,'Data leveranciersbeoordeling'!$1:$1,0))","v":0},{"$f":"IFERROR(VLOOKUP(INDEX($A:$O,ROW(),MATCH('Rapportage per vraag'!$C$12,'Data leveranciersbeoordeling'!$1:$1,0)),Leveranciersbeoordeling!$H$1:$I$5,2,FALSE),0)","v":0},0]
["",null,null,null,null,null,null,null,null,null,null,null,null,null,null,{"$f":"INDEX($A:$O,ROW(),MATCH('Rapportage per vraag'!$C$12,'Data leveranciersbeoordeling'!$1:$1,0))","v":0},{"$f":"IFERROR(VLOOKUP(INDEX($A:$O,ROW(),MATCH('Rapportage per vraag'!$C$12,'Data leveranciersbeoordeling'!$1:$1,0)),Leveranciersbeoordeling!$H$1:$I$5,2,FALSE),0)","v":0},0]
["",null,null,null,null,null,null,null,null,null,null,null,null,null,null,{"$f":"INDEX($A:$O,ROW(),MATCH('Rapportage per vraag'!$C$12,'Data leveranciersbeoordeling'!$1:$1,0))","v":0},{"$f":"IFERROR(VLOOKUP(INDEX($A:$O,ROW(),MATCH('Rapportage per vraag'!$C$12,'Data leveranciersbeoordeling'!$1:$1,0)),Leveranciersbeoordeling!$H$1:$I$5,2,FALSE),0)","v":0},0]
["",null,null,null,null,null,null,null,null,null,null,null,null,null,null,{"$f":"INDEX($A:$O,ROW(),MATCH('Rapportage per vraag'!$C$12,'Data leveranciersbeoordeling'!$1:$1,0))","v":0},{"$f":"IFERROR(VLOOKUP(INDEX($A:$O,ROW(),MATCH('Rapportage per vraag'!$C$12,'Data leveranciersbeoordeling'!$1:$1,0)),Leveranciersbeoordeling!$H$1:$I$5,2,FALSE),0)","v":0},0]
["",null,null,null,null,null,null,null,null,null,null,null,null,null,null,{"$f":"INDEX($A:$O,ROW(),MATCH('Rapportage per vraag'!$C$12,'Data leveranciersbeoordeling'!$1:$1,0))","v":0},{"$f":"IFERROR(VLOOKUP(INDEX($A:$O,ROW(),MATCH('Rapportage per vraag'!$C$12,'Data leveranciersbeoordeling'!$1:$1,0)),Leveranciersbeoordeling!$H$1:$I$5,2,FALSE),0)","v":0},0]
["",null,null,null,null,null,null,null,null,null,null,null,null,null,null,{"$f":"INDEX($A:$O,ROW(),MATCH('Rapportage per vraag'!$C$12,'Data leveranciersbeoordeling'!$1:$1,0))","v":0},{"$f":"IFERROR(VLOOKUP(INDEX($A:$O,ROW(),MATCH('Rapportage per vraag'!$C$12,'Data leveranciersbeoordeling'!$1:$1,0)),Leveranciersbeoordeling!$H$1:$I$5,2,FALSE),0)","v":0},0]
["",null,null,null,null,null,null,null,null,null,null,null,null,null,null,{"$f":"INDEX($A:$O,ROW(),MATCH('Rapportage per vraag'!$C$12,'Data leveranciersbeoordeling'!$1:$1,0))","v":0},{"$f":"IFERROR(VLOOKUP(INDEX($A:$O,ROW(),MATCH('Rapportage per vraag'!$C$12,'Data leveranciersbeoordeling'!$1:$1,0)),Leveranciersbeoordeling!$H$1:$I$5,2,FALSE),0)","v":0},0]
["",null,null,null,null,null,null,null,null,null,null,null,null,null,null,{"$f":"INDEX($A:$O,ROW(),MATCH('Rapportage per vraag'!$C$12,'Data leveranciersbeoordeling'!$1:$1,0))","v":0},{"$f":"IFERROR(VLOOKUP(INDEX($A:$O,ROW(),MATCH('Rapportage per vraag'!$C$12,'Data leveranciersbeoordeling'!$1:$1,0)),Leveranciersbeoordeling!$H$1:$I$5,2,FALSE),0)","v":0},0]
["",null,null,null,null,null,null,null,null,null,null,null,null,null,null,{"$f":"INDEX($A:$O,ROW(),MATCH('Rapportage per vraag'!$C$12,'Data leveranciersbeoordeling'!$1:$1,0))","v":0},{"$f":"IFERROR(VLOOKUP(INDEX($A:$O,ROW(),MATCH('Rapportage per vraag'!$C$12,'Data leveranciersbeoordeling'!$1:$1,0)),Leveranciersbeoordeling!$H$1:$I$5,2,FALSE),0)","v":0},0]
["",null,null,null,null,null,null,null,null,null,null,null,null,null,null,{"$f":"INDEX($A:$O,ROW(),MATCH('Rapportage per vraag'!$C$12,'Data leveranciersbeoordeling'!$1:$1,0))","v":0},{"$f":"IFERROR(VLOOKUP(INDEX($A:$O,ROW(),MATCH('Rapportage per vraag'!$C$12,'Data leveranciersbeoordeling'!$1:$1,0)),Leveranciersbeoordeling!$H$1:$I$5,2,FALSE),0)","v":0},0]
["",null,null,null,null,null,null,null,null,null,null,null,null,null,null,{"$f":"INDEX($A:$O,ROW(),MATCH('Rapportage per vraag'!$C$12,'Data leveranciersbeoordeling'!$1:$1,0))","v":0},{"$f":"IFERROR(VLOOKUP(INDEX($A:$O,ROW(),MATCH('Rapportage per vraag'!$C$12,'Data leveranciersbeoordeling'!$1:$1,0)),Leveranciersbeoordeling!$H$1:$I$5,2,FALSE),0)","v":0},0]
["",null,null,null,null,null,null,null,null,null,null,null,null,null,null,{"$f":"INDEX($A:$O,ROW(),MATCH('Rapportage per vraag'!$C$12,'Data leveranciersbeoordeling'!$1:$1,0))","v":0},{"$f":"IFERROR(VLOOKUP(INDEX($A:$O,ROW(),MATCH('Rapportage per vraag'!$C$12,'Data leveranciersbeoordeling'!$1:$1,0)),Leveranciersbeoordeling!$H$1:$I$5,2,FALSE),0)","v":0},0]
["",null,null,null,null,null,null,null,null,null,null,null,null,null,null,{"$f":"INDEX($A:$O,ROW(),MATCH('Rapportage per vraag'!$C$12,'Data leveranciersbeoordeling'!$1:$1,0))","v":0},{"$f":"IFERROR(VLOOKUP(INDEX($A:$O,ROW(),MATCH('Rapportage per vraag'!$C$12,'Data leveranciersbeoordeling'!$1:$1,0)),Leveranciersbeoordeling!$H$1:$I$5,2,FALSE),0)","v":0},0]
["",null,null,null,null,null,null,null,null,null,null,null,null,null,null,{"$f":"INDEX($A:$O,ROW(),MATCH('Rapportage per vraag'!$C$12,'Data leveranciersbeoordeling'!$1:$1,0))","v":0},{"$f":"IFERROR(VLOOKUP(INDEX($A:$O,ROW(),MATCH('Rapportage per vraag'!$C$12,'Data leveranciersbeoordeling'!$1:$1,0)),Leveranciersbeoordeling!$H$1:$I$5,2,FALSE),0)","v":0},0]
["",null,null,null,null,null,null,null,null,null,null,null,null,null,null,{"$f":"INDEX($A:$O,ROW(),MATCH('Rapportage per vraag'!$C$12,'Data leveranciersbeoordeling'!$1:$1,0))","v":0},{"$f":"IFERROR(VLOOKUP(INDEX($A:$O,ROW(),MATCH('Rapportage per vraag'!$C$12,'Data leveranciersbeoordeling'!$1:$1,0)),Leveranciersbeoordeling!$H$1:$I$5,2,FALSE),0)","v":0},{"$f":"IF(T(P3782)=P3782,Q3782,P3782)","v":0}]
["",null,null,null,null,null,null,null,null,null,null,null,null,null,null,{"$f":"INDEX($A:$O,ROW(),MATCH('Rapportage per vraag'!$C$12,'Data leveranciersbeoordeling'!$1:$1,0))","v":0},{"$f":"IFERROR(VLOOKUP(INDEX($A:$O,ROW(),MATCH('Rapportage per vraag'!$C$12,'Data leveranciersbeoordeling'!$1:$1,0)),Leveranciersbeoordeling!$H$1:$I$5,2,FALSE),0)","v":0},0]
["",null,null,null,null,null,null,null,null,null,null,null,null,null,null,{"$f":"INDEX($A:$O,ROW(),MATCH('Rapportage per vraag'!$C$12,'Data leveranciersbeoordeling'!$1:$1,0))","v":0},{"$f":"IFERROR(VLOOKUP(INDEX($A:$O,ROW(),MATCH('Rapportage per vraag'!$C$12,'Data leveranciersbeoordeling'!$1:$1,0)),Leveranciersbeoordeling!$H$1:$I$5,2,FALSE),0)","v":0},0]
["",null,null,null,null,null,null,null,null,null,null,null,null,null,null,{"$f":"INDEX($A:$O,ROW(),MATCH('Rapportage per vraag'!$C$12,'Data leveranciersbeoordeling'!$1:$1,0))","v":0},{"$f":"IFERROR(VLOOKUP(INDEX($A:$O,ROW(),MATCH('Rapportage per vraag'!$C$12,'Data leveranciersbeoordeling'!$1:$1,0)),Leveranciersbeoordeling!$H$1:$I$5,2,FALSE),0)","v":0},0]
["",null,null,null,null,null,null,null,null,null,null,null,null,null,null,{"$f":"INDEX($A:$O,ROW(),MATCH('Rapportage per vraag'!$C$12,'Data leveranciersbeoordeling'!$1:$1,0))","v":0},{"$f":"IFERROR(VLOOKUP(INDEX($A:$O,ROW(),MATCH('Rapportage per vraag'!$C$12,'Data leveranciersbeoordeling'!$1:$1,0)),Leveranciersbeoordeling!$H$1:$I$5,2,FALSE),0)","v":0},0]
["",null,null,null,null,null,null,null,null,null,null,null,null,null,null,{"$f":"INDEX($A:$O,ROW(),MATCH('Rapportage per vraag'!$C$12,'Data leveranciersbeoordeling'!$1:$1,0))","v":0},{"$f":"IFERROR(VLOOKUP(INDEX($A:$O,ROW(),MATCH('Rapportage per vraag'!$C$12,'Data leveranciersbeoordeling'!$1:$1,0)),Leveranciersbeoordeling!$H$1:$I$5,2,FALSE),0)","v":0},0]
["",null,null,null,null,null,null,null,null,null,null,null,null,null,null,{"$f":"INDEX($A:$O,ROW(),MATCH('Rapportage per vraag'!$C$12,'Data leveranciersbeoordeling'!$1:$1,0))","v":0},{"$f":"IFERROR(VLOOKUP(INDEX($A:$O,ROW(),MATCH('Rapportage per vraag'!$C$12,'Data leveranciersbeoordeling'!$1:$1,0)),Leveranciersbeoordeling!$H$1:$I$5,2,FALSE),0)","v":0},0]
["",null,null,null,null,null,null,null,null,null,null,null,null,null,null,{"$f":"INDEX($A:$O,ROW(),MATCH('Rapportage per vraag'!$C$12,'Data leveranciersbeoordeling'!$1:$1,0))","v":0},{"$f":"IFERROR(VLOOKUP(INDEX($A:$O,ROW(),MATCH('Rapportage per vraag'!$C$12,'Data leveranciersbeoordeling'!$1:$1,0)),Leveranciersbeoordeling!$H$1:$I$5,2,FALSE),0)","v":0},0]
["",null,null,null,null,null,null,null,null,null,null,null,null,null,null,{"$f":"INDEX($A:$O,ROW(),MATCH('Rapportage per vraag'!$C$12,'Data leveranciersbeoordeling'!$1:$1,0))","v":0},{"$f":"IFERROR(VLOOKUP(INDEX($A:$O,ROW(),MATCH('Rapportage per vraag'!$C$12,'Data leveranciersbeoordeling'!$1:$1,0)),Leveranciersbeoordeling!$H$1:$I$5,2,FALSE),0)","v":0},0]
["",null,null,null,null,null,null,null,null,null,null,null,null,null,null,{"$f":"INDEX($A:$O,ROW(),MATCH('Rapportage per vraag'!$C$12,'Data leveranciersbeoordeling'!$1:$1,0))","v":0},{"$f":"IFERROR(VLOOKUP(INDEX($A:$O,ROW(),MATCH('Rapportage per vraag'!$C$12,'Data leveranciersbeoordeling'!$1:$1,0)),Leveranciersbeoordeling!$H$1:$I$5,2,FALSE),0)","v":0},0]
["",null,null,null,null,null,null,null,null,null,null,null,null,null,null,{"$f":"INDEX($A:$O,ROW(),MATCH('Rapportage per vraag'!$C$12,'Data leveranciersbeoordeling'!$1:$1,0))","v":0},{"$f":"IFERROR(VLOOKUP(INDEX($A:$O,ROW(),MATCH('Rapportage per vraag'!$C$12,'Data leveranciersbeoordeling'!$1:$1,0)),Leveranciersbeoordeling!$H$1:$I$5,2,FALSE),0)","v":0},0]
["",null,null,null,null,null,null,null,null,null,null,null,null,null,null,{"$f":"INDEX($A:$O,ROW(),MATCH('Rapportage per vraag'!$C$12,'Data leveranciersbeoordeling'!$1:$1,0))","v":0},{"$f":"IFERROR(VLOOKUP(INDEX($A:$O,ROW(),MATCH('Rapportage per vraag'!$C$12,'Data leveranciersbeoordeling'!$1:$1,0)),Leveranciersbeoordeling!$H$1:$I$5,2,FALSE),0)","v":0},0]
["",null,null,null,null,null,null,null,null,null,null,null,null,null,null,{"$f":"INDEX($A:$O,ROW(),MATCH('Rapportage per vraag'!$C$12,'Data leveranciersbeoordeling'!$1:$1,0))","v":0},{"$f":"IFERROR(VLOOKUP(INDEX($A:$O,ROW(),MATCH('Rapportage per vraag'!$C$12,'Data leveranciersbeoordeling'!$1:$1,0)),Leveranciersbeoordeling!$H$1:$I$5,2,FALSE),0)","v":0},0]
["",null,null,null,null,null,null,null,null,null,null,null,null,null,null,{"$f":"INDEX($A:$O,ROW(),MATCH('Rapportage per vraag'!$C$12,'Data leveranciersbeoordeling'!$1:$1,0))","v":0},{"$f":"IFERROR(VLOOKUP(INDEX($A:$O,ROW(),MATCH('Rapportage per vraag'!$C$12,'Data leveranciersbeoordeling'!$1:$1,0)),Leveranciersbeoordeling!$H$1:$I$5,2,FALSE),0)","v":0},0]
["",null,null,null,null,null,null,null,null,null,null,null,null,null,null,{"$f":"INDEX($A:$O,ROW(),MATCH('Rapportage per vraag'!$C$12,'Data leveranciersbeoordeling'!$1:$1,0))","v":0},{"$f":"IFERROR(VLOOKUP(INDEX($A:$O,ROW(),MATCH('Rapportage per vraag'!$C$12,'Data leveranciersbeoordeling'!$1:$1,0)),Leveranciersbeoordeling!$H$1:$I$5,2,FALSE),0)","v":0},0]
["",null,null,null,null,null,null,null,null,null,null,null,null,null,null,{"$f":"INDEX($A:$O,ROW(),MATCH('Rapportage per vraag'!$C$12,'Data leveranciersbeoordeling'!$1:$1,0))","v":0},{"$f":"IFERROR(VLOOKUP(INDEX($A:$O,ROW(),MATCH('Rapportage per vraag'!$C$12,'Data leveranciersbeoordeling'!$1:$1,0)),Leveranciersbeoordeling!$H$1:$I$5,2,FALSE),0)","v":0},0]
["",null,null,null,null,null,null,null,null,null,null,null,null,null,null,{"$f":"INDEX($A:$O,ROW(),MATCH('Rapportage per vraag'!$C$12,'Data leveranciersbeoordeling'!$1:$1,0))","v":0},{"$f":"IFERROR(VLOOKUP(INDEX($A:$O,ROW(),MATCH('Rapportage per vraag'!$C$12,'Data leveranciersbeoordeling'!$1:$1,0)),Leveranciersbeoordeling!$H$1:$I$5,2,FALSE),0)","v":0},0]
["",null,null,null,null,null,null,null,null,null,null,null,null,null,null,{"$f":"INDEX($A:$O,ROW(),MATCH('Rapportage per vraag'!$C$12,'Data leveranciersbeoordeling'!$1:$1,0))","v":0},{"$f":"IFERROR(VLOOKUP(INDEX($A:$O,ROW(),MATCH('Rapportage per vraag'!$C$12,'Data leveranciersbeoordeling'!$1:$1,0)),Leveranciersbeoordeling!$H$1:$I$5,2,FALSE),0)","v":0},0]
["",null,null,null,null,null,null,null,null,null,null,null,null,null,null,{"$f":"INDEX($A:$O,ROW(),MATCH('Rapportage per vraag'!$C$12,'Data leveranciersbeoordeling'!$1:$1,0))","v":0},{"$f":"IFERROR(VLOOKUP(INDEX($A:$O,ROW(),MATCH('Rapportage per vraag'!$C$12,'Data leveranciersbeoordeling'!$1:$1,0)),Leveranciersbeoordeling!$H$1:$I$5,2,FALSE),0)","v":0},0]
["",null,null,null,null,null,null,null,null,null,null,null,null,null,null,{"$f":"INDEX($A:$O,ROW(),MATCH('Rapportage per vraag'!$C$12,'Data leveranciersbeoordeling'!$1:$1,0))","v":0},{"$f":"IFERROR(VLOOKUP(INDEX($A:$O,ROW(),MATCH('Rapportage per vraag'!$C$12,'Data leveranciersbeoordeling'!$1:$1,0)),Leveranciersbeoordeling!$H$1:$I$5,2,FALSE),0)","v":0},0]
["",null,null,null,null,null,null,null,null,null,null,null,null,null,null,{"$f":"INDEX($A:$O,ROW(),MATCH('Rapportage per vraag'!$C$12,'Data leveranciersbeoordeling'!$1:$1,0))","v":0},{"$f":"IFERROR(VLOOKUP(INDEX($A:$O,ROW(),MATCH('Rapportage per vraag'!$C$12,'Data leveranciersbeoordeling'!$1:$1,0)),Leveranciersbeoordeling!$H$1:$I$5,2,FALSE),0)","v":0},0]
["",null,null,null,null,null,null,null,null,null,null,null,null,null,null,{"$f":"INDEX($A:$O,ROW(),MATCH('Rapportage per vraag'!$C$12,'Data leveranciersbeoordeling'!$1:$1,0))","v":0},{"$f":"IFERROR(VLOOKUP(INDEX($A:$O,ROW(),MATCH('Rapportage per vraag'!$C$12,'Data leveranciersbeoordeling'!$1:$1,0)),Leveranciersbeoordeling!$H$1:$I$5,2,FALSE),0)","v":0},0]
["",null,null,null,null,null,null,null,null,null,null,null,null,null,null,{"$f":"INDEX($A:$O,ROW(),MATCH('Rapportage per vraag'!$C$12,'Data leveranciersbeoordeling'!$1:$1,0))","v":0},{"$f":"IFERROR(VLOOKUP(INDEX($A:$O,ROW(),MATCH('Rapportage per vraag'!$C$12,'Data leveranciersbeoordeling'!$1:$1,0)),Leveranciersbeoordeling!$H$1:$I$5,2,FALSE),0)","v":0},0]
["",null,null,null,null,null,null,null,null,null,null,null,null,null,null,{"$f":"INDEX($A:$O,ROW(),MATCH('Rapportage per vraag'!$C$12,'Data leveranciersbeoordeling'!$1:$1,0))","v":0},{"$f":"IFERROR(VLOOKUP(INDEX($A:$O,ROW(),MATCH('Rapportage per vraag'!$C$12,'Data leveranciersbeoordeling'!$1:$1,0)),Leveranciersbeoordeling!$H$1:$I$5,2,FALSE),0)","v":0},0]
["",null,null,null,null,null,null,null,null,null,null,null,null,null,null,{"$f":"INDEX($A:$O,ROW(),MATCH('Rapportage per vraag'!$C$12,'Data leveranciersbeoordeling'!$1:$1,0))","v":0},{"$f":"IFERROR(VLOOKUP(INDEX($A:$O,ROW(),MATCH('Rapportage per vraag'!$C$12,'Data leveranciersbeoordeling'!$1:$1,0)),Leveranciersbeoordeling!$H$1:$I$5,2,FALSE),0)","v":0},0]
["",null,null,null,null,null,null,null,null,null,null,null,null,null,null,{"$f":"INDEX($A:$O,ROW(),MATCH('Rapportage per vraag'!$C$12,'Data leveranciersbeoordeling'!$1:$1,0))","v":0},{"$f":"IFERROR(VLOOKUP(INDEX($A:$O,ROW(),MATCH('Rapportage per vraag'!$C$12,'Data leveranciersbeoordeling'!$1:$1,0)),Leveranciersbeoordeling!$H$1:$I$5,2,FALSE),0)","v":0},0]
["",null,null,null,null,null,null,null,null,null,null,null,null,null,null,{"$f":"INDEX($A:$O,ROW(),MATCH('Rapportage per vraag'!$C$12,'Data leveranciersbeoordeling'!$1:$1,0))","v":0},{"$f":"IFERROR(VLOOKUP(INDEX($A:$O,ROW(),MATCH('Rapportage per vraag'!$C$12,'Data leveranciersbeoordeling'!$1:$1,0)),Leveranciersbeoordeling!$H$1:$I$5,2,FALSE),0)","v":0},0]
["",null,null,null,null,null,null,null,null,null,null,null,null,null,null,{"$f":"INDEX($A:$O,ROW(),MATCH('Rapportage per vraag'!$C$12,'Data leveranciersbeoordeling'!$1:$1,0))","v":0},{"$f":"IFERROR(VLOOKUP(INDEX($A:$O,ROW(),MATCH('Rapportage per vraag'!$C$12,'Data leveranciersbeoordeling'!$1:$1,0)),Leveranciersbeoordeling!$H$1:$I$5,2,FALSE),0)","v":0},0]
["",null,null,null,null,null,null,null,null,null,null,null,null,null,null,{"$f":"INDEX($A:$O,ROW(),MATCH('Rapportage per vraag'!$C$12,'Data leveranciersbeoordeling'!$1:$1,0))","v":0},{"$f":"IFERROR(VLOOKUP(INDEX($A:$O,ROW(),MATCH('Rapportage per vraag'!$C$12,'Data leveranciersbeoordeling'!$1:$1,0)),Leveranciersbeoordeling!$H$1:$I$5,2,FALSE),0)","v":0},0]
["",null,null,null,null,null,null,null,null,null,null,null,null,null,null,{"$f":"INDEX($A:$O,ROW(),MATCH('Rapportage per vraag'!$C$12,'Data leveranciersbeoordeling'!$1:$1,0))","v":0},{"$f":"IFERROR(VLOOKUP(INDEX($A:$O,ROW(),MATCH('Rapportage per vraag'!$C$12,'Data leveranciersbeoordeling'!$1:$1,0)),Leveranciersbeoordeling!$H$1:$I$5,2,FALSE),0)","v":0},0]
["",null,null,null,null,null,null,null,null,null,null,null,null,null,null,{"$f":"INDEX($A:$O,ROW(),MATCH('Rapportage per vraag'!$C$12,'Data leveranciersbeoordeling'!$1:$1,0))","v":0},{"$f":"IFERROR(VLOOKUP(INDEX($A:$O,ROW(),MATCH('Rapportage per vraag'!$C$12,'Data leveranciersbeoordeling'!$1:$1,0)),Leveranciersbeoordeling!$H$1:$I$5,2,FALSE),0)","v":0},0]
["",null,null,null,null,null,null,null,null,null,null,null,null,null,null,{"$f":"INDEX($A:$O,ROW(),MATCH('Rapportage per vraag'!$C$12,'Data leveranciersbeoordeling'!$1:$1,0))","v":0},{"$f":"IFERROR(VLOOKUP(INDEX($A:$O,ROW(),MATCH('Rapportage per vraag'!$C$12,'Data leveranciersbeoordeling'!$1:$1,0)),Leveranciersbeoordeling!$H$1:$I$5,2,FALSE),0)","v":0},0]
["",null,null,null,null,null,null,null,null,null,null,null,null,null,null,{"$f":"INDEX($A:$O,ROW(),MATCH('Rapportage per vraag'!$C$12,'Data leveranciersbeoordeling'!$1:$1,0))","v":0},{"$f":"IFERROR(VLOOKUP(INDEX($A:$O,ROW(),MATCH('Rapportage per vraag'!$C$12,'Data leveranciersbeoordeling'!$1:$1,0)),Leveranciersbeoordeling!$H$1:$I$5,2,FALSE),0)","v":0},0]
[{"$f":"CONCATENATE(B3907,C3907,D3907)","v":""},null,null,null,null,null,null,null,null,null,null,null,null,null,null,{"$f":"INDEX($A:$O,ROW(),MATCH('Rapportage per vraag'!$C$12,'Data leveranciersbeoordeling'!$1:$1,0))","v":0},{"$f":"IFERROR(VLOOKUP(INDEX($A:$O,ROW(),MATCH('Rapportage per vraag'!$C$12,'Data leveranciersbeoordeling'!$1:$1,0)),Leveranciersbeoordeling!$H$1:$I$5,2,FALSE),0)","v":0},0]
["",null,null,null,null,null,null,null,null,null,null,null,null,null,null,{"$f":"INDEX($A:$O,ROW(),MATCH('Rapportage per vraag'!$C$12,'Data leveranciersbeoordeling'!$1:$1,0))","v":0},{"$f":"IFERROR(VLOOKUP(INDEX($A:$O,ROW(),MATCH('Rapportage per vraag'!$C$12,'Data leveranciersbeoordeling'!$1:$1,0)),Leveranciersbeoordeling!$H$1:$I$5,2,FALSE),0)","v":0},{"$f":"IF(T(P3910)=P3910,Q3910,P3910)","v":0}]
["",null,null,null,null,null,null,null,null,null,null,null,null,null,null,{"$f":"INDEX($A:$O,ROW(),MATCH('Rapportage per vraag'!$C$12,'Data leveranciersbeoordeling'!$1:$1,0))","v":0},{"$f":"IFERROR(VLOOKUP(INDEX($A:$O,ROW(),MATCH('Rapportage per vraag'!$C$12,'Data leveranciersbeoordeling'!$1:$1,0)),Leveranciersbeoordeling!$H$1:$I$5,2,FALSE),0)","v":0},0]
["",null,null,null,null,null,null,null,null,null,null,null,null,null,null,{"$f":"INDEX($A:$O,ROW(),MATCH('Rapportage per vraag'!$C$12,'Data leveranciersbeoordeling'!$1:$1,0))","v":0},{"$f":"IFERROR(VLOOKUP(INDEX($A:$O,ROW(),MATCH('Rapportage per vraag'!$C$12,'Data leveranciersbeoordeling'!$1:$1,0)),Leveranciersbeoordeling!$H$1:$I$5,2,FALSE),0)","v":0},0]
["",null,null,null,null,null,null,null,null,null,null,null,null,null,null,{"$f":"INDEX($A:$O,ROW(),MATCH('Rapportage per vraag'!$C$12,'Data leveranciersbeoordeling'!$1:$1,0))","v":0},{"$f":"IFERROR(VLOOKUP(INDEX($A:$O,ROW(),MATCH('Rapportage per vraag'!$C$12,'Data leveranciersbeoordeling'!$1:$1,0)),Leveranciersbeoordeling!$H$1:$I$5,2,FALSE),0)","v":0},0]
["",null,null,null,null,null,null,null,null,null,null,null,null,null,null,{"$f":"INDEX($A:$O,ROW(),MATCH('Rapportage per vraag'!$C$12,'Data leveranciersbeoordeling'!$1:$1,0))","v":0},{"$f":"IFERROR(VLOOKUP(INDEX($A:$O,ROW(),MATCH('Rapportage per vraag'!$C$12,'Data leveranciersbeoordeling'!$1:$1,0)),Leveranciersbeoordeling!$H$1:$I$5,2,FALSE),0)","v":0},0]
["",null,null,null,null,null,null,null,null,null,null,null,null,null,null,{"$f":"INDEX($A:$O,ROW(),MATCH('Rapportage per vraag'!$C$12,'Data leveranciersbeoordeling'!$1:$1,0))","v":0},{"$f":"IFERROR(VLOOKUP(INDEX($A:$O,ROW(),MATCH('Rapportage per vraag'!$C$12,'Data leveranciersbeoordeling'!$1:$1,0)),Leveranciersbeoordeling!$H$1:$I$5,2,FALSE),0)","v":0},0]
["",null,null,null,null,null,null,null,null,null,null,null,null,null,null,{"$f":"INDEX($A:$O,ROW(),MATCH('Rapportage per vraag'!$C$12,'Data leveranciersbeoordeling'!$1:$1,0))","v":0},{"$f":"IFERROR(VLOOKUP(INDEX($A:$O,ROW(),MATCH('Rapportage per vraag'!$C$12,'Data leveranciersbeoordeling'!$1:$1,0)),Leveranciersbeoordeling!$H$1:$I$5,2,FALSE),0)","v":0},0]
["",null,null,null,null,null,null,null,null,null,null,null,null,null,null,{"$f":"INDEX($A:$O,ROW(),MATCH('Rapportage per vraag'!$C$12,'Data leveranciersbeoordeling'!$1:$1,0))","v":0},{"$f":"IFERROR(VLOOKUP(INDEX($A:$O,ROW(),MATCH('Rapportage per vraag'!$C$12,'Data leveranciersbeoordeling'!$1:$1,0)),Leveranciersbeoordeling!$H$1:$I$5,2,FALSE),0)","v":0},0]
["",null,null,null,null,null,null,null,null,null,null,null,null,null,null,{"$f":"INDEX($A:$O,ROW(),MATCH('Rapportage per vraag'!$C$12,'Data leveranciersbeoordeling'!$1:$1,0))","v":0},{"$f":"IFERROR(VLOOKUP(INDEX($A:$O,ROW(),MATCH('Rapportage per vraag'!$C$12,'Data leveranciersbeoordeling'!$1:$1,0)),Leveranciersbeoordeling!$H$1:$I$5,2,FALSE),0)","v":0},0]
["",null,null,null,null,null,null,null,null,null,null,null,null,null,null,{"$f":"INDEX($A:$O,ROW(),MATCH('Rapportage per vraag'!$C$12,'Data leveranciersbeoordeling'!$1:$1,0))","v":0},{"$f":"IFERROR(VLOOKUP(INDEX($A:$O,ROW(),MATCH('Rapportage per vraag'!$C$12,'Data leveranciersbeoordeling'!$1:$1,0)),Leveranciersbeoordeling!$H$1:$I$5,2,FALSE),0)","v":0},0]
["",null,null,null,null,null,null,null,null,null,null,null,null,null,null,{"$f":"INDEX($A:$O,ROW(),MATCH('Rapportage per vraag'!$C$12,'Data leveranciersbeoordeling'!$1:$1,0))","v":0},{"$f":"IFERROR(VLOOKUP(INDEX($A:$O,ROW(),MATCH('Rapportage per vraag'!$C$12,'Data leveranciersbeoordeling'!$1:$1,0)),Leveranciersbeoordeling!$H$1:$I$5,2,FALSE),0)","v":0},0]
["",null,null,null,null,null,null,null,null,null,null,null,null,null,null,{"$f":"INDEX($A:$O,ROW(),MATCH('Rapportage per vraag'!$C$12,'Data leveranciersbeoordeling'!$1:$1,0))","v":0},{"$f":"IFERROR(VLOOKUP(INDEX($A:$O,ROW(),MATCH('Rapportage per vraag'!$C$12,'Data leveranciersbeoordeling'!$1:$1,0)),Leveranciersbeoordeling!$H$1:$I$5,2,FALSE),0)","v":0},0]
["",null,null,null,null,null,null,null,null,null,null,null,null,null,null,{"$f":"INDEX($A:$O,ROW(),MATCH('Rapportage per vraag'!$C$12,'Data leveranciersbeoordeling'!$1:$1,0))","v":0},{"$f":"IFERROR(VLOOKUP(INDEX($A:$O,ROW(),MATCH('Rapportage per vraag'!$C$12,'Data leveranciersbeoordeling'!$1:$1,0)),Leveranciersbeoordeling!$H$1:$I$5,2,FALSE),0)","v":0},0]
["",null,null,null,null,null,null,null,null,null,null,null,null,null,null,{"$f":"INDEX($A:$O,ROW(),MATCH('Rapportage per vraag'!$C$12,'Data leveranciersbeoordeling'!$1:$1,0))","v":0},{"$f":"IFERROR(VLOOKUP(INDEX($A:$O,ROW(),MATCH('Rapportage per vraag'!$C$12,'Data leveranciersbeoordeling'!$1:$1,0)),Leveranciersbeoordeling!$H$1:$I$5,2,FALSE),0)","v":0},0]
["",null,null,null,null,null,null,null,null,null,null,null,null,null,null,{"$f":"INDEX($A:$O,ROW(),MATCH('Rapportage per vraag'!$C$12,'Data leveranciersbeoordeling'!$1:$1,0))","v":0},{"$f":"IFERROR(VLOOKUP(INDEX($A:$O,ROW(),MATCH('Rapportage per vraag'!$C$12,'Data leveranciersbeoordeling'!$1:$1,0)),Leveranciersbeoordeling!$H$1:$I$5,2,FALSE),0)","v":0},0]
["",null,null,null,null,null,null,null,null,null,null,null,null,null,null,{"$f":"INDEX($A:$O,ROW(),MATCH('Rapportage per vraag'!$C$12,'Data leveranciersbeoordeling'!$1:$1,0))","v":0},{"$f":"IFERROR(VLOOKUP(INDEX($A:$O,ROW(),MATCH('Rapportage per vraag'!$C$12,'Data leveranciersbeoordeling'!$1:$1,0)),Leveranciersbeoordeling!$H$1:$I$5,2,FALSE),0)","v":0},0]
["",null,null,null,null,null,null,null,null,null,null,null,null,null,null,{"$f":"INDEX($A:$O,ROW(),MATCH('Rapportage per vraag'!$C$12,'Data leveranciersbeoordeling'!$1:$1,0))","v":0},{"$f":"IFERROR(VLOOKUP(INDEX($A:$O,ROW(),MATCH('Rapportage per vraag'!$C$12,'Data leveranciersbeoordeling'!$1:$1,0)),Leveranciersbeoordeling!$H$1:$I$5,2,FALSE),0)","v":0},0]
["",null,null,null,null,null,null,null,null,null,null,null,null,null,null,{"$f":"INDEX($A:$O,ROW(),MATCH('Rapportage per vraag'!$C$12,'Data leveranciersbeoordeling'!$1:$1,0))","v":0},{"$f":"IFERROR(VLOOKUP(INDEX($A:$O,ROW(),MATCH('Rapportage per vraag'!$C$12,'Data leveranciersbeoordeling'!$1:$1,0)),Leveranciersbeoordeling!$H$1:$I$5,2,FALSE),0)","v":0},0]
["",null,null,null,null,null,null,null,null,null,null,null,null,null,null,{"$f":"INDEX($A:$O,ROW(),MATCH('Rapportage per vraag'!$C$12,'Data leveranciersbeoordeling'!$1:$1,0))","v":0},{"$f":"IFERROR(VLOOKUP(INDEX($A:$O,ROW(),MATCH('Rapportage per vraag'!$C$12,'Data leveranciersbeoordeling'!$1:$1,0)),Leveranciersbeoordeling!$H$1:$I$5,2,FALSE),0)","v":0},0]
["",null,null,null,null,null,null,null,null,null,null,null,null,null,null,{"$f":"INDEX($A:$O,ROW(),MATCH('Rapportage per vraag'!$C$12,'Data leveranciersbeoordeling'!$1:$1,0))","v":0},{"$f":"IFERROR(VLOOKUP(INDEX($A:$O,ROW(),MATCH('Rapportage per vraag'!$C$12,'Data leveranciersbeoordeling'!$1:$1,0)),Leveranciersbeoordeling!$H$1:$I$5,2,FALSE),0)","v":0},0]
["",null,null,null,null,null,null,null,null,null,null,null,null,null,null,{"$f":"INDEX($A:$O,ROW(),MATCH('Rapportage per vraag'!$C$12,'Data leveranciersbeoordeling'!$1:$1,0))","v":0},{"$f":"IFERROR(VLOOKUP(INDEX($A:$O,ROW(),MATCH('Rapportage per vraag'!$C$12,'Data leveranciersbeoordeling'!$1:$1,0)),Leveranciersbeoordeling!$H$1:$I$5,2,FALSE),0)","v":0},0]
["",null,null,null,null,null,null,null,null,null,null,null,null,null,null,{"$f":"INDEX($A:$O,ROW(),MATCH('Rapportage per vraag'!$C$12,'Data leveranciersbeoordeling'!$1:$1,0))","v":0},{"$f":"IFERROR(VLOOKUP(INDEX($A:$O,ROW(),MATCH('Rapportage per vraag'!$C$12,'Data leveranciersbeoordeling'!$1:$1,0)),Leveranciersbeoordeling!$H$1:$I$5,2,FALSE),0)","v":0},0]
["",null,null,null,null,null,null,null,null,null,null,null,null,null,null,{"$f":"INDEX($A:$O,ROW(),MATCH('Rapportage per vraag'!$C$12,'Data leveranciersbeoordeling'!$1:$1,0))","v":0},{"$f":"IFERROR(VLOOKUP(INDEX($A:$O,ROW(),MATCH('Rapportage per vraag'!$C$12,'Data leveranciersbeoordeling'!$1:$1,0)),Leveranciersbeoordeling!$H$1:$I$5,2,FALSE),0)","v":0},0]
["",null,null,null,null,null,null,null,null,null,null,null,null,null,null,{"$f":"INDEX($A:$O,ROW(),MATCH('Rapportage per vraag'!$C$12,'Data leveranciersbeoordeling'!$1:$1,0))","v":0},{"$f":"IFERROR(VLOOKUP(INDEX($A:$O,ROW(),MATCH('Rapportage per vraag'!$C$12,'Data leveranciersbeoordeling'!$1:$1,0)),Leveranciersbeoordeling!$H$1:$I$5,2,FALSE),0)","v":0},0]
["",null,null,null,null,null,null,null,null,null,null,null,null,null,null,{"$f":"INDEX($A:$O,ROW(),MATCH('Rapportage per vraag'!$C$12,'Data leveranciersbeoordeling'!$1:$1,0))","v":0},{"$f":"IFERROR(VLOOKUP(INDEX($A:$O,ROW(),MATCH('Rapportage per vraag'!$C$12,'Data leveranciersbeoordeling'!$1:$1,0)),Leveranciersbeoordeling!$H$1:$I$5,2,FALSE),0)","v":0},0]
["",null,null,null,null,null,null,null,null,null,null,null,null,null,null,{"$f":"INDEX($A:$O,ROW(),MATCH('Rapportage per vraag'!$C$12,'Data leveranciersbeoordeling'!$1:$1,0))","v":0},{"$f":"IFERROR(VLOOKUP(INDEX($A:$O,ROW(),MATCH('Rapportage per vraag'!$C$12,'Data leveranciersbeoordeling'!$1:$1,0)),Leveranciersbeoordeling!$H$1:$I$5,2,FALSE),0)","v":0},0]
["",null,null,null,null,null,null,null,null,null,null,null,null,null,null,{"$f":"INDEX($A:$O,ROW(),MATCH('Rapportage per vraag'!$C$12,'Data leveranciersbeoordeling'!$1:$1,0))","v":0},{"$f":"IFERROR(VLOOKUP(INDEX($A:$O,ROW(),MATCH('Rapportage per vraag'!$C$12,'Data leveranciersbeoordeling'!$1:$1,0)),Leveranciersbeoordeling!$H$1:$I$5,2,FALSE),0)","v":0},0]
["",null,null,null,null,null,null,null,null,null,null,null,null,null,null,{"$f":"INDEX($A:$O,ROW(),MATCH('Rapportage per vraag'!$C$12,'Data leveranciersbeoordeling'!$1:$1,0))","v":0},{"$f":"IFERROR(VLOOKUP(INDEX($A:$O,ROW(),MATCH('Rapportage per vraag'!$C$12,'Data leveranciersbeoordeling'!$1:$1,0)),Leveranciersbeoordeling!$H$1:$I$5,2,FALSE),0)","v":0},0]
["",null,null,null,null,null,null,null,null,null,null,null,null,null,null,{"$f":"INDEX($A:$O,ROW(),MATCH('Rapportage per vraag'!$C$12,'Data leveranciersbeoordeling'!$1:$1,0))","v":0},{"$f":"IFERROR(VLOOKUP(INDEX($A:$O,ROW(),MATCH('Rapportage per vraag'!$C$12,'Data leveranciersbeoordeling'!$1:$1,0)),Leveranciersbeoordeling!$H$1:$I$5,2,FALSE),0)","v":0},0]
["",null,null,null,null,null,null,null,null,null,null,null,null,null,null,{"$f":"INDEX($A:$O,ROW(),MATCH('Rapportage per vraag'!$C$12,'Data leveranciersbeoordeling'!$1:$1,0))","v":0},{"$f":"IFERROR(VLOOKUP(INDEX($A:$O,ROW(),MATCH('Rapportage per vraag'!$C$12,'Data leveranciersbeoordeling'!$1:$1,0)),Leveranciersbeoordeling!$H$1:$I$5,2,FALSE),0)","v":0},0]
["",null,null,null,null,null,null,null,null,null,null,null,null,null,null,{"$f":"INDEX($A:$O,ROW(),MATCH('Rapportage per vraag'!$C$12,'Data leveranciersbeoordeling'!$1:$1,0))","v":0},{"$f":"IFERROR(VLOOKUP(INDEX($A:$O,ROW(),MATCH('Rapportage per vraag'!$C$12,'Data leveranciersbeoordeling'!$1:$1,0)),Leveranciersbeoordeling!$H$1:$I$5,2,FALSE),0)","v":0},0]
["",null,null,null,null,null,null,null,null,null,null,null,null,null,null,{"$f":"INDEX($A:$O,ROW(),MATCH('Rapportage per vraag'!$C$12,'Data leveranciersbeoordeling'!$1:$1,0))","v":0},{"$f":"IFERROR(VLOOKUP(INDEX($A:$O,ROW(),MATCH('Rapportage per vraag'!$C$12,'Data leveranciersbeoordeling'!$1:$1,0)),Leveranciersbeoordeling!$H$1:$I$5,2,FALSE),0)","v":0},0]
["",null,null,null,null,null,null,null,null,null,null,null,null,null,null,{"$f":"INDEX($A:$O,ROW(),MATCH('Rapportage per vraag'!$C$12,'Data leveranciersbeoordeling'!$1:$1,0))","v":0},{"$f":"IFERROR(VLOOKUP(INDEX($A:$O,ROW(),MATCH('Rapportage per vraag'!$C$12,'Data leveranciersbeoordeling'!$1:$1,0)),Leveranciersbeoordeling!$H$1:$I$5,2,FALSE),0)","v":0},0]
["",null,null,null,null,null,null,null,null,null,null,null,null,null,null,{"$f":"INDEX($A:$O,ROW(),MATCH('Rapportage per vraag'!$C$12,'Data leveranciersbeoordeling'!$1:$1,0))","v":0},{"$f":"IFERROR(VLOOKUP(INDEX($A:$O,ROW(),MATCH('Rapportage per vraag'!$C$12,'Data leveranciersbeoordeling'!$1:$1,0)),Leveranciersbeoordeling!$H$1:$I$5,2,FALSE),0)","v":0},0]
["",null,null,null,null,null,null,null,null,null,null,null,null,null,null,{"$f":"INDEX($A:$O,ROW(),MATCH('Rapportage per vraag'!$C$12,'Data leveranciersbeoordeling'!$1:$1,0))","v":0},{"$f":"IFERROR(VLOOKUP(INDEX($A:$O,ROW(),MATCH('Rapportage per vraag'!$C$12,'Data leveranciersbeoordeling'!$1:$1,0)),Leveranciersbeoordeling!$H$1:$I$5,2,FALSE),0)","v":0},0]
["",null,null,null,null,null,null,null,null,null,null,null,null,null,null,{"$f":"INDEX($A:$O,ROW(),MATCH('Rapportage per vraag'!$C$12,'Data leveranciersbeoordeling'!$1:$1,0))","v":0},{"$f":"IFERROR(VLOOKUP(INDEX($A:$O,ROW(),MATCH('Rapportage per vraag'!$C$12,'Data leveranciersbeoordeling'!$1:$1,0)),Leveranciersbeoordeling!$H$1:$I$5,2,FALSE),0)","v":0},0]
["",null,null,null,null,null,null,null,null,null,null,null,null,null,null,{"$f":"INDEX($A:$O,ROW(),MATCH('Rapportage per vraag'!$C$12,'Data leveranciersbeoordeling'!$1:$1,0))","v":0},{"$f":"IFERROR(VLOOKUP(INDEX($A:$O,ROW(),MATCH('Rapportage per vraag'!$C$12,'Data leveranciersbeoordeling'!$1:$1,0)),Leveranciersbeoordeling!$H$1:$I$5,2,FALSE),0)","v":0},0]
["",null,null,null,null,null,null,null,null,null,null,null,null,null,null,{"$f":"INDEX($A:$O,ROW(),MATCH('Rapportage per vraag'!$C$12,'Data leveranciersbeoordeling'!$1:$1,0))","v":0},{"$f":"IFERROR(VLOOKUP(INDEX($A:$O,ROW(),MATCH('Rapportage per vraag'!$C$12,'Data leveranciersbeoordeling'!$1:$1,0)),Leveranciersbeoordeling!$H$1:$I$5,2,FALSE),0)","v":0},0]
["",null,null,null,null,null,null,null,null,null,null,null,null,null,null,{"$f":"INDEX($A:$O,ROW(),MATCH('Rapportage per vraag'!$C$12,'Data leveranciersbeoordeling'!$1:$1,0))","v":0},{"$f":"IFERROR(VLOOKUP(INDEX($A:$O,ROW(),MATCH('Rapportage per vraag'!$C$12,'Data leveranciersbeoordeling'!$1:$1,0)),Leveranciersbeoordeling!$H$1:$I$5,2,FALSE),0)","v":0},0]
["",null,null,null,null,null,null,null,null,null,null,null,null,null,null,{"$f":"INDEX($A:$O,ROW(),MATCH('Rapportage per vraag'!$C$12,'Data leveranciersbeoordeling'!$1:$1,0))","v":0},{"$f":"IFERROR(VLOOKUP(INDEX($A:$O,ROW(),MATCH('Rapportage per vraag'!$C$12,'Data leveranciersbeoordeling'!$1:$1,0)),Leveranciersbeoordeling!$H$1:$I$5,2,FALSE),0)","v":0},0]
["",null,null,null,null,null,null,null,null,null,null,null,null,null,null,{"$f":"INDEX($A:$O,ROW(),MATCH('Rapportage per vraag'!$C$12,'Data leveranciersbeoordeling'!$1:$1,0))","v":0},{"$f":"IFERROR(VLOOKUP(INDEX($A:$O,ROW(),MATCH('Rapportage per vraag'!$C$12,'Data leveranciersbeoordeling'!$1:$1,0)),Leveranciersbeoordeling!$H$1:$I$5,2,FALSE),0)","v":0},0]
["",null,null,null,null,null,null,null,null,null,null,null,null,null,null,{"$f":"INDEX($A:$O,ROW(),MATCH('Rapportage per vraag'!$C$12,'Data leveranciersbeoordeling'!$1:$1,0))","v":0},{"$f":"IFERROR(VLOOKUP(INDEX($A:$O,ROW(),MATCH('Rapportage per vraag'!$C$12,'Data leveranciersbeoordeling'!$1:$1,0)),Leveranciersbeoordeling!$H$1:$I$5,2,FALSE),0)","v":0},0]
["",null,null,null,null,null,null,null,null,null,null,null,null,null,null,{"$f":"INDEX($A:$O,ROW(),MATCH('Rapportage per vraag'!$C$12,'Data leveranciersbeoordeling'!$1:$1,0))","v":0},{"$f":"IFERROR(VLOOKUP(INDEX($A:$O,ROW(),MATCH('Rapportage per vraag'!$C$12,'Data leveranciersbeoordeling'!$1:$1,0)),Leveranciersbeoordeling!$H$1:$I$5,2,FALSE),0)","v":0},0]
["",null,null,null,null,null,null,null,null,null,null,null,null,null,null,{"$f":"INDEX($A:$O,ROW(),MATCH('Rapportage per vraag'!$C$12,'Data leveranciersbeoordeling'!$1:$1,0))","v":0},{"$f":"IFERROR(VLOOKUP(INDEX($A:$O,ROW(),MATCH('Rapportage per vraag'!$C$12,'Data leveranciersbeoordeling'!$1:$1,0)),Leveranciersbeoordeling!$H$1:$I$5,2,FALSE),0)","v":0},0]
["",null,null,null,null,null,null,null,null,null,null,null,null,null,null,{"$f":"INDEX($A:$O,ROW(),MATCH('Rapportage per vraag'!$C$12,'Data leveranciersbeoordeling'!$1:$1,0))","v":0},{"$f":"IFERROR(VLOOKUP(INDEX($A:$O,ROW(),MATCH('Rapportage per vraag'!$C$12,'Data leveranciersbeoordeling'!$1:$1,0)),Leveranciersbeoordeling!$H$1:$I$5,2,FALSE),0)","v":0},0]
["",null,null,null,null,null,null,null,null,null,null,null,null,null,null,{"$f":"INDEX($A:$O,ROW(),MATCH('Rapportage per vraag'!$C$12,'Data leveranciersbeoordeling'!$1:$1,0))","v":0},{"$f":"IFERROR(VLOOKUP(INDEX($A:$O,ROW(),MATCH('Rapportage per vraag'!$C$12,'Data leveranciersbeoordeling'!$1:$1,0)),Leveranciersbeoordeling!$H$1:$I$5,2,FALSE),0)","v":0},0]
["",null,null,null,null,null,null,null,null,null,null,null,null,null,null,{"$f":"INDEX($A:$O,ROW(),MATCH('Rapportage per vraag'!$C$12,'Data leveranciersbeoordeling'!$1:$1,0))","v":0},{"$f":"IFERROR(VLOOKUP(INDEX($A:$O,ROW(),MATCH('Rapportage per vraag'!$C$12,'Data leveranciersbeoordeling'!$1:$1,0)),Leveranciersbeoordeling!$H$1:$I$5,2,FALSE),0)","v":0},0]
["",null,null,null,null,null,null,null,null,null,null,null,null,null,null,{"$f":"INDEX($A:$O,ROW(),MATCH('Rapportage per vraag'!$C$12,'Data leveranciersbeoordeling'!$1:$1,0))","v":0},{"$f":"IFERROR(VLOOKUP(INDEX($A:$O,ROW(),MATCH('Rapportage per vraag'!$C$12,'Data leveranciersbeoordeling'!$1:$1,0)),Leveranciersbeoordeling!$H$1:$I$5,2,FALSE),0)","v":0},0]
["",null,null,null,null,null,null,null,null,null,null,null,null,null,null,{"$f":"INDEX($A:$O,ROW(),MATCH('Rapportage per vraag'!$C$12,'Data leveranciersbeoordeling'!$1:$1,0))","v":0},{"$f":"IFERROR(VLOOKUP(INDEX($A:$O,ROW(),MATCH('Rapportage per vraag'!$C$12,'Data leveranciersbeoordeling'!$1:$1,0)),Leveranciersbeoordeling!$H$1:$I$5,2,FALSE),0)","v":0},0]
["",null,null,null,null,null,null,null,null,null,null,null,null,null,null,{"$f":"INDEX($A:$O,ROW(),MATCH('Rapportage per vraag'!$C$12,'Data leveranciersbeoordeling'!$1:$1,0))","v":0},{"$f":"IFERROR(VLOOKUP(INDEX($A:$O,ROW(),MATCH('Rapportage per vraag'!$C$12,'Data leveranciersbeoordeling'!$1:$1,0)),Leveranciersbeoordeling!$H$1:$I$5,2,FALSE),0)","v":0},0]
["",null,null,null,null,null,null,null,null,null,null,null,null,null,null,{"$f":"INDEX($A:$O,ROW(),MATCH('Rapportage per vraag'!$C$12,'Data leveranciersbeoordeling'!$1:$1,0))","v":0},{"$f":"IFERROR(VLOOKUP(INDEX($A:$O,ROW(),MATCH('Rapportage per vraag'!$C$12,'Data leveranciersbeoordeling'!$1:$1,0)),Leveranciersbeoordeling!$H$1:$I$5,2,FALSE),0)","v":0},0]
["",null,null,null,null,null,null,null,null,null,null,null,null,null,null,{"$f":"INDEX($A:$O,ROW(),MATCH('Rapportage per vraag'!$C$12,'Data leveranciersbeoordeling'!$1:$1,0))","v":0},{"$f":"IFERROR(VLOOKUP(INDEX($A:$O,ROW(),MATCH('Rapportage per vraag'!$C$12,'Data leveranciersbeoordeling'!$1:$1,0)),Leveranciersbeoordeling!$H$1:$I$5,2,FALSE),0)","v":0},{"$f":"IF(T(P4102)=P4102,Q4102,P4102)","v":0}]
["",null,null,null,null,null,null,null,null,null,null,null,null,null,null,{"$f":"INDEX($A:$O,ROW(),MATCH('Rapportage per vraag'!$C$12,'Data leveranciersbeoordeling'!$1:$1,0))","v":0},{"$f":"IFERROR(VLOOKUP(INDEX($A:$O,ROW(),MATCH('Rapportage per vraag'!$C$12,'Data leveranciersbeoordeling'!$1:$1,0)),Leveranciersbeoordeling!$H$1:$I$5,2,FALSE),0)","v":0},0]
["",null,null,null,null,null,null,null,null,null,null,null,null,null,null,{"$f":"INDEX($A:$O,ROW(),MATCH('Rapportage per vraag'!$C$12,'Data leveranciersbeoordeling'!$1:$1,0))","v":0},{"$f":"IFERROR(VLOOKUP(INDEX($A:$O,ROW(),MATCH('Rapportage per vraag'!$C$12,'Data leveranciersbeoordeling'!$1:$1,0)),Leveranciersbeoordeling!$H$1:$I$5,2,FALSE),0)","v":0},0]
["",null,null,null,null,null,null,null,null,null,null,null,null,null,null,{"$f":"INDEX($A:$O,ROW(),MATCH('Rapportage per vraag'!$C$12,'Data leveranciersbeoordeling'!$1:$1,0))","v":0},{"$f":"IFERROR(VLOOKUP(INDEX($A:$O,ROW(),MATCH('Rapportage per vraag'!$C$12,'Data leveranciersbeoordeling'!$1:$1,0)),Leveranciersbeoordeling!$H$1:$I$5,2,FALSE),0)","v":0},0]
["",null,null,null,null,null,null,null,null,null,null,null,null,null,null,{"$f":"INDEX($A:$O,ROW(),MATCH('Rapportage per vraag'!$C$12,'Data leveranciersbeoordeling'!$1:$1,0))","v":0},{"$f":"IFERROR(VLOOKUP(INDEX($A:$O,ROW(),MATCH('Rapportage per vraag'!$C$12,'Data leveranciersbeoordeling'!$1:$1,0)),Leveranciersbeoordeling!$H$1:$I$5,2,FALSE),0)","v":0},0]
["",null,null,null,null,null,null,null,null,null,null,null,null,null,null,{"$f":"INDEX($A:$O,ROW(),MATCH('Rapportage per vraag'!$C$12,'Data leveranciersbeoordeling'!$1:$1,0))","v":0},{"$f":"IFERROR(VLOOKUP(INDEX($A:$O,ROW(),MATCH('Rapportage per vraag'!$C$12,'Data leveranciersbeoordeling'!$1:$1,0)),Leveranciersbeoordeling!$H$1:$I$5,2,FALSE),0)","v":0},0]
["",null,null,null,null,null,null,null,null,null,null,null,null,null,null,{"$f":"INDEX($A:$O,ROW(),MATCH('Rapportage per vraag'!$C$12,'Data leveranciersbeoordeling'!$1:$1,0))","v":0},{"$f":"IFERROR(VLOOKUP(INDEX($A:$O,ROW(),MATCH('Rapportage per vraag'!$C$12,'Data leveranciersbeoordeling'!$1:$1,0)),Leveranciersbeoordeling!$H$1:$I$5,2,FALSE),0)","v":0},0]
["",null,null,null,null,null,null,null,null,null,null,null,null,null,null,{"$f":"INDEX($A:$O,ROW(),MATCH('Rapportage per vraag'!$C$12,'Data leveranciersbeoordeling'!$1:$1,0))","v":0},{"$f":"IFERROR(VLOOKUP(INDEX($A:$O,ROW(),MATCH('Rapportage per vraag'!$C$12,'Data leveranciersbeoordeling'!$1:$1,0)),Leveranciersbeoordeling!$H$1:$I$5,2,FALSE),0)","v":0},0]
["",null,null,null,null,null,null,null,null,null,null,null,null,null,null,{"$f":"INDEX($A:$O,ROW(),MATCH('Rapportage per vraag'!$C$12,'Data leveranciersbeoordeling'!$1:$1,0))","v":0},{"$f":"IFERROR(VLOOKUP(INDEX($A:$O,ROW(),MATCH('Rapportage per vraag'!$C$12,'Data leveranciersbeoordeling'!$1:$1,0)),Leveranciersbeoordeling!$H$1:$I$5,2,FALSE),0)","v":0},0]
["",null,null,null,null,null,null,null,null,null,null,null,null,null,null,{"$f":"INDEX($A:$O,ROW(),MATCH('Rapportage per vraag'!$C$12,'Data leveranciersbeoordeling'!$1:$1,0))","v":0},{"$f":"IFERROR(VLOOKUP(INDEX($A:$O,ROW(),MATCH('Rapportage per vraag'!$C$12,'Data leveranciersbeoordeling'!$1:$1,0)),Leveranciersbeoordeling!$H$1:$I$5,2,FALSE),0)","v":0},0]
["",null,null,null,null,null,null,null,null,null,null,null,null,null,null,{"$f":"INDEX($A:$O,ROW(),MATCH('Rapportage per vraag'!$C$12,'Data leveranciersbeoordeling'!$1:$1,0))","v":0},{"$f":"IFERROR(VLOOKUP(INDEX($A:$O,ROW(),MATCH('Rapportage per vraag'!$C$12,'Data leveranciersbeoordeling'!$1:$1,0)),Leveranciersbeoordeling!$H$1:$I$5,2,FALSE),0)","v":0},0]
["",null,null,null,null,null,null,null,null,null,null,null,null,null,null,{"$f":"INDEX($A:$O,ROW(),MATCH('Rapportage per vraag'!$C$12,'Data leveranciersbeoordeling'!$1:$1,0))","v":0},{"$f":"IFERROR(VLOOKUP(INDEX($A:$O,ROW(),MATCH('Rapportage per vraag'!$C$12,'Data leveranciersbeoordeling'!$1:$1,0)),Leveranciersbeoordeling!$H$1:$I$5,2,FALSE),0)","v":0},0]
["",null,null,null,null,null,null,null,null,null,null,null,null,null,null,{"$f":"INDEX($A:$O,ROW(),MATCH('Rapportage per vraag'!$C$12,'Data leveranciersbeoordeling'!$1:$1,0))","v":0},{"$f":"IFERROR(VLOOKUP(INDEX($A:$O,ROW(),MATCH('Rapportage per vraag'!$C$12,'Data leveranciersbeoordeling'!$1:$1,0)),Leveranciersbeoordeling!$H$1:$I$5,2,FALSE),0)","v":0},0]
["",null,null,null,null,null,null,null,null,null,null,null,null,null,null,{"$f":"INDEX($A:$O,ROW(),MATCH('Rapportage per vraag'!$C$12,'Data leveranciersbeoordeling'!$1:$1,0))","v":0},{"$f":"IFERROR(VLOOKUP(INDEX($A:$O,ROW(),MATCH('Rapportage per vraag'!$C$12,'Data leveranciersbeoordeling'!$1:$1,0)),Leveranciersbeoordeling!$H$1:$I$5,2,FALSE),0)","v":0},0]
["",null,null,null,null,null,null,null,null,null,null,null,null,null,null,{"$f":"INDEX($A:$O,ROW(),MATCH('Rapportage per vraag'!$C$12,'Data leveranciersbeoordeling'!$1:$1,0))","v":0},{"$f":"IFERROR(VLOOKUP(INDEX($A:$O,ROW(),MATCH('Rapportage per vraag'!$C$12,'Data leveranciersbeoordeling'!$1:$1,0)),Leveranciersbeoordeling!$H$1:$I$5,2,FALSE),0)","v":0},0]
["",null,null,null,null,null,null,null,null,null,null,null,null,null,null,{"$f":"INDEX($A:$O,ROW(),MATCH('Rapportage per vraag'!$C$12,'Data leveranciersbeoordeling'!$1:$1,0))","v":0},{"$f":"IFERROR(VLOOKUP(INDEX($A:$O,ROW(),MATCH('Rapportage per vraag'!$C$12,'Data leveranciersbeoordeling'!$1:$1,0)),Leveranciersbeoordeling!$H$1:$I$5,2,FALSE),0)","v":0},0]
["",null,null,null,null,null,null,null,null,null,null,null,null,null,null,{"$f":"INDEX($A:$O,ROW(),MATCH('Rapportage per vraag'!$C$12,'Data leveranciersbeoordeling'!$1:$1,0))","v":0},{"$f":"IFERROR(VLOOKUP(INDEX($A:$O,ROW(),MATCH('Rapportage per vraag'!$C$12,'Data leveranciersbeoordeling'!$1:$1,0)),Leveranciersbeoordeling!$H$1:$I$5,2,FALSE),0)","v":0},0]
["",null,null,null,null,null,null,null,null,null,null,null,null,null,null,{"$f":"INDEX($A:$O,ROW(),MATCH('Rapportage per vraag'!$C$12,'Data leveranciersbeoordeling'!$1:$1,0))","v":0},{"$f":"IFERROR(VLOOKUP(INDEX($A:$O,ROW(),MATCH('Rapportage per vraag'!$C$12,'Data leveranciersbeoordeling'!$1:$1,0)),Leveranciersbeoordeling!$H$1:$I$5,2,FALSE),0)","v":0},0]
["",null,null,null,null,null,null,null,null,null,null,null,null,null,null,{"$f":"INDEX($A:$O,ROW(),MATCH('Rapportage per vraag'!$C$12,'Data leveranciersbeoordeling'!$1:$1,0))","v":0},{"$f":"IFERROR(VLOOKUP(INDEX($A:$O,ROW(),MATCH('Rapportage per vraag'!$C$12,'Data leveranciersbeoordeling'!$1:$1,0)),Leveranciersbeoordeling!$H$1:$I$5,2,FALSE),0)","v":0},0]
["",null,null,null,null,null,null,null,null,null,null,null,null,null,null,{"$f":"INDEX($A:$O,ROW(),MATCH('Rapportage per vraag'!$C$12,'Data leveranciersbeoordeling'!$1:$1,0))","v":0},{"$f":"IFERROR(VLOOKUP(INDEX($A:$O,ROW(),MATCH('Rapportage per vraag'!$C$12,'Data leveranciersbeoordeling'!$1:$1,0)),Leveranciersbeoordeling!$H$1:$I$5,2,FALSE),0)","v":0},0]
["",null,null,null,null,null,null,null,null,null,null,null,null,null,null,{"$f":"INDEX($A:$O,ROW(),MATCH('Rapportage per vraag'!$C$12,'Data leveranciersbeoordeling'!$1:$1,0))","v":0},{"$f":"IFERROR(VLOOKUP(INDEX($A:$O,ROW(),MATCH('Rapportage per vraag'!$C$12,'Data leveranciersbeoordeling'!$1:$1,0)),Leveranciersbeoordeling!$H$1:$I$5,2,FALSE),0)","v":0},0]
["",null,null,null,null,null,null,null,null,null,null,null,null,null,null,{"$f":"INDEX($A:$O,ROW(),MATCH('Rapportage per vraag'!$C$12,'Data leveranciersbeoordeling'!$1:$1,0))","v":0},{"$f":"IFERROR(VLOOKUP(INDEX($A:$O,ROW(),MATCH('Rapportage per vraag'!$C$12,'Data leveranciersbeoordeling'!$1:$1,0)),Leveranciersbeoordeling!$H$1:$I$5,2,FALSE),0)","v":0},0]
["",null,null,null,null,null,null,null,null,null,null,null,null,null,null,{"$f":"INDEX($A:$O,ROW(),MATCH('Rapportage per vraag'!$C$12,'Data leveranciersbeoordeling'!$1:$1,0))","v":0},{"$f":"IFERROR(VLOOKUP(INDEX($A:$O,ROW(),MATCH('Rapportage per vraag'!$C$12,'Data leveranciersbeoordeling'!$1:$1,0)),Leveranciersbeoordeling!$H$1:$I$5,2,FALSE),0)","v":0},0]
["",null,null,null,null,null,null,null,null,null,null,null,null,null,null,{"$f":"INDEX($A:$O,ROW(),MATCH('Rapportage per vraag'!$C$12,'Data leveranciersbeoordeling'!$1:$1,0))","v":0},{"$f":"IFERROR(VLOOKUP(INDEX($A:$O,ROW(),MATCH('Rapportage per vraag'!$C$12,'Data leveranciersbeoordeling'!$1:$1,0)),Leveranciersbeoordeling!$H$1:$I$5,2,FALSE),0)","v":0},0]
["",null,null,null,null,null,null,null,null,null,null,null,null,null,null,{"$f":"INDEX($A:$O,ROW(),MATCH('Rapportage per vraag'!$C$12,'Data leveranciersbeoordeling'!$1:$1,0))","v":0},{"$f":"IFERROR(VLOOKUP(INDEX($A:$O,ROW(),MATCH('Rapportage per vraag'!$C$12,'Data leveranciersbeoordeling'!$1:$1,0)),Leveranciersbeoordeling!$H$1:$I$5,2,FALSE),0)","v":0},0]
["",null,null,null,null,null,null,null,null,null,null,null,null,null,null,{"$f":"INDEX($A:$O,ROW(),MATCH('Rapportage per vraag'!$C$12,'Data leveranciersbeoordeling'!$1:$1,0))","v":0},{"$f":"IFERROR(VLOOKUP(INDEX($A:$O,ROW(),MATCH('Rapportage per vraag'!$C$12,'Data leveranciersbeoordeling'!$1:$1,0)),Leveranciersbeoordeling!$H$1:$I$5,2,FALSE),0)","v":0},0]
["",null,null,null,null,null,null,null,null,null,null,null,null,null,null,{"$f":"INDEX($A:$O,ROW(),MATCH('Rapportage per vraag'!$C$12,'Data leveranciersbeoordeling'!$1:$1,0))","v":0},{"$f":"IFERROR(VLOOKUP(INDEX($A:$O,ROW(),MATCH('Rapportage per vraag'!$C$12,'Data leveranciersbeoordeling'!$1:$1,0)),Leveranciersbeoordeling!$H$1:$I$5,2,FALSE),0)","v":0},0]
["",null,null,null,null,null,null,null,null,null,null,null,null,null,null,{"$f":"INDEX($A:$O,ROW(),MATCH('Rapportage per vraag'!$C$12,'Data leveranciersbeoordeling'!$1:$1,0))","v":0},{"$f":"IFERROR(VLOOKUP(INDEX($A:$O,ROW(),MATCH('Rapportage per vraag'!$C$12,'Data leveranciersbeoordeling'!$1:$1,0)),Leveranciersbeoordeling!$H$1:$I$5,2,FALSE),0)","v":0},0]
["",null,null,null,null,null,null,null,null,null,null,null,null,null,null,{"$f":"INDEX($A:$O,ROW(),MATCH('Rapportage per vraag'!$C$12,'Data leveranciersbeoordeling'!$1:$1,0))","v":0},{"$f":"IFERROR(VLOOKUP(INDEX($A:$O,ROW(),MATCH('Rapportage per vraag'!$C$12,'Data leveranciersbeoordeling'!$1:$1,0)),Leveranciersbeoordeling!$H$1:$I$5,2,FALSE),0)","v":0},0]
["",null,null,null,null,null,null,null,null,null,null,null,null,null,null,{"$f":"INDEX($A:$O,ROW(),MATCH('Rapportage per vraag'!$C$12,'Data leveranciersbeoordeling'!$1:$1,0))","v":0},{"$f":"IFERROR(VLOOKUP(INDEX($A:$O,ROW(),MATCH('Rapportage per vraag'!$C$12,'Data leveranciersbeoordeling'!$1:$1,0)),Leveranciersbeoordeling!$H$1:$I$5,2,FALSE),0)","v":0},0]
["",null,null,null,null,null,null,null,null,null,null,null,null,null,null,{"$f":"INDEX($A:$O,ROW(),MATCH('Rapportage per vraag'!$C$12,'Data leveranciersbeoordeling'!$1:$1,0))","v":0},{"$f":"IFERROR(VLOOKUP(INDEX($A:$O,ROW(),MATCH('Rapportage per vraag'!$C$12,'Data leveranciersbeoordeling'!$1:$1,0)),Leveranciersbeoordeling!$H$1:$I$5,2,FALSE),0)","v":0},0]
["",null,null,null,null,null,null,null,null,null,null,null,null,null,null,{"$f":"INDEX($A:$O,ROW(),MATCH('Rapportage per vraag'!$C$12,'Data leveranciersbeoordeling'!$1:$1,0))","v":0},{"$f":"IFERROR(VLOOKUP(INDEX($A:$O,ROW(),MATCH('Rapportage per vraag'!$C$12,'Data leveranciersbeoordeling'!$1:$1,0)),Leveranciersbeoordeling!$H$1:$I$5,2,FALSE),0)","v":0},0]
["",null,null,null,null,null,null,null,null,null,null,null,null,null,null,{"$f":"INDEX($A:$O,ROW(),MATCH('Rapportage per vraag'!$C$12,'Data leveranciersbeoordeling'!$1:$1,0))","v":0},{"$f":"IFERROR(VLOOKUP(INDEX($A:$O,ROW(),MATCH('Rapportage per vraag'!$C$12,'Data leveranciersbeoordeling'!$1:$1,0)),Leveranciersbeoordeling!$H$1:$I$5,2,FALSE),0)","v":0},0]
[{"$f":"CONCATENATE(B4227,C4227,D4227)","v":""},null,null,null,null,null,null,null,null,null,null,null,null,null,null,{"$f":"INDEX($A:$O,ROW(),MATCH('Rapportage per vraag'!$C$12,'Data leveranciersbeoordeling'!$1:$1,0))","v":0},{"$f":"IFERROR(VLOOKUP(INDEX($A:$O,ROW(),MATCH('Rapportage per vraag'!$C$12,'Data leveranciersbeoordeling'!$1:$1,0)),Leveranciersbeoordeling!$H$1:$I$5,2,FALSE),0)","v":0},0]
["",null,null,null,null,null,null,null,null,null,null,null,null,null,null,{"$f":"INDEX($A:$O,ROW(),MATCH('Rapportage per vraag'!$C$12,'Data leveranciersbeoordeling'!$1:$1,0))","v":0},{"$f":"IFERROR(VLOOKUP(INDEX($A:$O,ROW(),MATCH('Rapportage per vraag'!$C$12,'Data leveranciersbeoordeling'!$1:$1,0)),Leveranciersbeoordeling!$H$1:$I$5,2,FALSE),0)","v":0},0]
["",null,null,null,null,null,null,null,null,null,null,null,null,null,null,{"$f":"INDEX($A:$O,ROW(),MATCH('Rapportage per vraag'!$C$12,'Data leveranciersbeoordeling'!$1:$1,0))","v":0},{"$f":"IFERROR(VLOOKUP(INDEX($A:$O,ROW(),MATCH('Rapportage per vraag'!$C$12,'Data leveranciersbeoordeling'!$1:$1,0)),Leveranciersbeoordeling!$H$1:$I$5,2,FALSE),0)","v":0},0]
["",null,null,null,null,null,null,null,null,null,null,null,null,null,null,{"$f":"INDEX($A:$O,ROW(),MATCH('Rapportage per vraag'!$C$12,'Data leveranciersbeoordeling'!$1:$1,0))","v":0},{"$f":"IFERROR(VLOOKUP(INDEX($A:$O,ROW(),MATCH('Rapportage per vraag'!$C$12,'Data leveranciersbeoordeling'!$1:$1,0)),Leveranciersbeoordeling!$H$1:$I$5,2,FALSE),0)","v":0},0]
["",null,null,null,null,null,null,null,null,null,null,null,null,null,null,{"$f":"INDEX($A:$O,ROW(),MATCH('Rapportage per vraag'!$C$12,'Data leveranciersbeoordeling'!$1:$1,0))","v":0},{"$f":"IFERROR(VLOOKUP(INDEX($A:$O,ROW(),MATCH('Rapportage per vraag'!$C$12,'Data leveranciersbeoordeling'!$1:$1,0)),Leveranciersbeoordeling!$H$1:$I$5,2,FALSE),0)","v":0},0]
["",null,null,null,null,null,null,null,null,null,null,null,null,null,null,{"$f":"INDEX($A:$O,ROW(),MATCH('Rapportage per vraag'!$C$12,'Data leveranciersbeoordeling'!$1:$1,0))","v":0},{"$f":"IFERROR(VLOOKUP(INDEX($A:$O,ROW(),MATCH('Rapportage per vraag'!$C$12,'Data leveranciersbeoordeling'!$1:$1,0)),Leveranciersbeoordeling!$H$1:$I$5,2,FALSE),0)","v":0},0]
["",null,null,null,null,null,null,null,null,null,null,null,null,null,null,{"$f":"INDEX($A:$O,ROW(),MATCH('Rapportage per vraag'!$C$12,'Data leveranciersbeoordeling'!$1:$1,0))","v":0},{"$f":"IFERROR(VLOOKUP(INDEX($A:$O,ROW(),MATCH('Rapportage per vraag'!$C$12,'Data leveranciersbeoordeling'!$1:$1,0)),Leveranciersbeoordeling!$H$1:$I$5,2,FALSE),0)","v":0},0]
["",null,null,null,null,null,null,null,null,null,null,null,null,null,null,{"$f":"INDEX($A:$O,ROW(),MATCH('Rapportage per vraag'!$C$12,'Data leveranciersbeoordeling'!$1:$1,0))","v":0},{"$f":"IFERROR(VLOOKUP(INDEX($A:$O,ROW(),MATCH('Rapportage per vraag'!$C$12,'Data leveranciersbeoordeling'!$1:$1,0)),Leveranciersbeoordeling!$H$1:$I$5,2,FALSE),0)","v":0},0]
["",null,null,null,null,null,null,null,null,null,null,null,null,null,null,{"$f":"INDEX($A:$O,ROW(),MATCH('Rapportage per vraag'!$C$12,'Data leveranciersbeoordeling'!$1:$1,0))","v":0},{"$f":"IFERROR(VLOOKUP(INDEX($A:$O,ROW(),MATCH('Rapportage per vraag'!$C$12,'Data leveranciersbeoordeling'!$1:$1,0)),Leveranciersbeoordeling!$H$1:$I$5,2,FALSE),0)","v":0},0]
["",null,null,null,null,null,null,null,null,null,null,null,null,null,null,{"$f":"INDEX($A:$O,ROW(),MATCH('Rapportage per vraag'!$C$12,'Data leveranciersbeoordeling'!$1:$1,0))","v":0},{"$f":"IFERROR(VLOOKUP(INDEX($A:$O,ROW(),MATCH('Rapportage per vraag'!$C$12,'Data leveranciersbeoordeling'!$1:$1,0)),Leveranciersbeoordeling!$H$1:$I$5,2,FALSE),0)","v":0},0]
["",null,null,null,null,null,null,null,null,null,null,null,null,null,null,{"$f":"INDEX($A:$O,ROW(),MATCH('Rapportage per vraag'!$C$12,'Data leveranciersbeoordeling'!$1:$1,0))","v":0},{"$f":"IFERROR(VLOOKUP(INDEX($A:$O,ROW(),MATCH('Rapportage per vraag'!$C$12,'Data leveranciersbeoordeling'!$1:$1,0)),Leveranciersbeoordeling!$H$1:$I$5,2,FALSE),0)","v":0},0]
["",null,null,null,null,null,null,null,null,null,null,null,null,null,null,{"$f":"INDEX($A:$O,ROW(),MATCH('Rapportage per vraag'!$C$12,'Data leveranciersbeoordeling'!$1:$1,0))","v":0},{"$f":"IFERROR(VLOOKUP(INDEX($A:$O,ROW(),MATCH('Rapportage per vraag'!$C$12,'Data leveranciersbeoordeling'!$1:$1,0)),Leveranciersbeoordeling!$H$1:$I$5,2,FALSE),0)","v":0},0]
["",null,null,null,null,null,null,null,null,null,null,null,null,null,null,{"$f":"INDEX($A:$O,ROW(),MATCH('Rapportage per vraag'!$C$12,'Data leveranciersbeoordeling'!$1:$1,0))","v":0},{"$f":"IFERROR(VLOOKUP(INDEX($A:$O,ROW(),MATCH('Rapportage per vraag'!$C$12,'Data leveranciersbeoordeling'!$1:$1,0)),Leveranciersbeoordeling!$H$1:$I$5,2,FALSE),0)","v":0},0]
["",null,null,null,null,null,null,null,null,null,null,null,null,null,null,{"$f":"INDEX($A:$O,ROW(),MATCH('Rapportage per vraag'!$C$12,'Data leveranciersbeoordeling'!$1:$1,0))","v":0},{"$f":"IFERROR(VLOOKUP(INDEX($A:$O,ROW(),MATCH('Rapportage per vraag'!$C$12,'Data leveranciersbeoordeling'!$1:$1,0)),Leveranciersbeoordeling!$H$1:$I$5,2,FALSE),0)","v":0},0]
["",null,null,null,null,null,null,null,null,null,null,null,null,null,null,{"$f":"INDEX($A:$O,ROW(),MATCH('Rapportage per vraag'!$C$12,'Data leveranciersbeoordeling'!$1:$1,0))","v":0},{"$f":"IFERROR(VLOOKUP(INDEX($A:$O,ROW(),MATCH('Rapportage per vraag'!$C$12,'Data leveranciersbeoordeling'!$1:$1,0)),Leveranciersbeoordeling!$H$1:$I$5,2,FALSE),0)","v":0},0]
["",null,null,null,null,null,null,null,null,null,null,null,null,null,null,{"$f":"INDEX($A:$O,ROW(),MATCH('Rapportage per vraag'!$C$12,'Data leveranciersbeoordeling'!$1:$1,0))","v":0},{"$f":"IFERROR(VLOOKUP(INDEX($A:$O,ROW(),MATCH('Rapportage per vraag'!$C$12,'Data leveranciersbeoordeling'!$1:$1,0)),Leveranciersbeoordeling!$H$1:$I$5,2,FALSE),0)","v":0},0]
["",null,null,null,null,null,null,null,null,null,null,null,null,null,null,{"$f":"INDEX($A:$O,ROW(),MATCH('Rapportage per vraag'!$C$12,'Data leveranciersbeoordeling'!$1:$1,0))","v":0},{"$f":"IFERROR(VLOOKUP(INDEX($A:$O,ROW(),MATCH('Rapportage per vraag'!$C$12,'Data leveranciersbeoordeling'!$1:$1,0)),Leveranciersbeoordeling!$H$1:$I$5,2,FALSE),0)","v":0},0]
[{"$f":"CONCATENATE(B4291,C4291,D4291)","v":""},null,null,null,null,null,null,null,null,null,null,null,null,null,null,{"$f":"INDEX($A:$O,ROW(),MATCH('Rapportage per vraag'!$C$12,'Data leveranciersbeoordeling'!$1:$1,0))","v":0},{"$f":"IFERROR(VLOOKUP(INDEX($A:$O,ROW(),MATCH('Rapportage per vraag'!$C$12,'Data leveranciersbeoordeling'!$1:$1,0)),Leveranciersbeoordeling!$H$1:$I$5,2,FALSE),0)","v":0},0]
["",null,null,null,null,null,null,null,null,null,null,null,null,null,null,{"$f":"INDEX($A:$O,ROW(),MATCH('Rapportage per vraag'!$C$12,'Data leveranciersbeoordeling'!$1:$1,0))","v":0},{"$f":"IFERROR(VLOOKUP(INDEX($A:$O,ROW(),MATCH('Rapportage per vraag'!$C$12,'Data leveranciersbeoordeling'!$1:$1,0)),Leveranciersbeoordeling!$H$1:$I$5,2,FALSE),0)","v":0},0]
["",null,null,null,null,null,null,null,null,null,null,null,null,null,null,{"$f":"INDEX($A:$O,ROW(),MATCH('Rapportage per vraag'!$C$12,'Data leveranciersbeoordeling'!$1:$1,0))","v":0},{"$f":"IFERROR(VLOOKUP(INDEX($A:$O,ROW(),MATCH('Rapportage per vraag'!$C$12,'Data leveranciersbeoordeling'!$1:$1,0)),Leveranciersbeoordeling!$H$1:$I$5,2,FALSE),0)","v":0},0]
["",null,null,null,null,null,null,null,null,null,null,null,null,null,null,{"$f":"INDEX($A:$O,ROW(),MATCH('Rapportage per vraag'!$C$12,'Data leveranciersbeoordeling'!$1:$1,0))","v":0},{"$f":"IFERROR(VLOOKUP(INDEX($A:$O,ROW(),MATCH('Rapportage per vraag'!$C$12,'Data leveranciersbeoordeling'!$1:$1,0)),Leveranciersbeoordeling!$H$1:$I$5,2,FALSE),0)","v":0},0]
["",null,null,null,null,null,null,null,null,null,null,null,null,null,null,{"$f":"INDEX($A:$O,ROW(),MATCH('Rapportage per vraag'!$C$12,'Data leveranciersbeoordeling'!$1:$1,0))","v":0},{"$f":"IFERROR(VLOOKUP(INDEX($A:$O,ROW(),MATCH('Rapportage per vraag'!$C$12,'Data leveranciersbeoordeling'!$1:$1,0)),Leveranciersbeoordeling!$H$1:$I$5,2,FALSE),0)","v":0},0]
["",null,null,null,null,null,null,null,null,null,null,null,null,null,null,{"$f":"INDEX($A:$O,ROW(),MATCH('Rapportage per vraag'!$C$12,'Data leveranciersbeoordeling'!$1:$1,0))","v":0},{"$f":"IFERROR(VLOOKUP(INDEX($A:$O,ROW(),MATCH('Rapportage per vraag'!$C$12,'Data leveranciersbeoordeling'!$1:$1,0)),Leveranciersbeoordeling!$H$1:$I$5,2,FALSE),0)","v":0},0]
["",null,null,null,null,null,null,null,null,null,null,null,null,null,null,{"$f":"INDEX($A:$O,ROW(),MATCH('Rapportage per vraag'!$C$12,'Data leveranciersbeoordeling'!$1:$1,0))","v":0},{"$f":"IFERROR(VLOOKUP(INDEX($A:$O,ROW(),MATCH('Rapportage per vraag'!$C$12,'Data leveranciersbeoordeling'!$1:$1,0)),Leveranciersbeoordeling!$H$1:$I$5,2,FALSE),0)","v":0},0]
["",null,null,null,null,null,null,null,null,null,null,null,null,null,null,{"$f":"INDEX($A:$O,ROW(),MATCH('Rapportage per vraag'!$C$12,'Data leveranciersbeoordeling'!$1:$1,0))","v":0},{"$f":"IFERROR(VLOOKUP(INDEX($A:$O,ROW(),MATCH('Rapportage per vraag'!$C$12,'Data leveranciersbeoordeling'!$1:$1,0)),Leveranciersbeoordeling!$H$1:$I$5,2,FALSE),0)","v":0},0]
["",null,null,null,null,null,null,null,null,null,null,null,null,null,null,{"$f":"INDEX($A:$O,ROW(),MATCH('Rapportage per vraag'!$C$12,'Data leveranciersbeoordeling'!$1:$1,0))","v":0},{"$f":"IFERROR(VLOOKUP(INDEX($A:$O,ROW(),MATCH('Rapportage per vraag'!$C$12,'Data leveranciersbeoordeling'!$1:$1,0)),Leveranciersbeoordeling!$H$1:$I$5,2,FALSE),0)","v":0},0]
["",null,null,null,null,null,null,null,null,null,null,null,null,null,null,{"$f":"INDEX($A:$O,ROW(),MATCH('Rapportage per vraag'!$C$12,'Data leveranciersbeoordeling'!$1:$1,0))","v":0},{"$f":"IFERROR(VLOOKUP(INDEX($A:$O,ROW(),MATCH('Rapportage per vraag'!$C$12,'Data leveranciersbeoordeling'!$1:$1,0)),Leveranciersbeoordeling!$H$1:$I$5,2,FALSE),0)","v":0},0]
["",null,null,null,null,null,null,null,null,null,null,null,null,null,null,{"$f":"INDEX($A:$O,ROW(),MATCH('Rapportage per vraag'!$C$12,'Data leveranciersbeoordeling'!$1:$1,0))","v":0},{"$f":"IFERROR(VLOOKUP(INDEX($A:$O,ROW(),MATCH('Rapportage per vraag'!$C$12,'Data leveranciersbeoordeling'!$1:$1,0)),Leveranciersbeoordeling!$H$1:$I$5,2,FALSE),0)","v":0},0]
["",null,null,null,null,null,null,null,null,null,null,null,null,null,null,{"$f":"INDEX($A:$O,ROW(),MATCH('Rapportage per vraag'!$C$12,'Data leveranciersbeoordeling'!$1:$1,0))","v":0},{"$f":"IFERROR(VLOOKUP(INDEX($A:$O,ROW(),MATCH('Rapportage per vraag'!$C$12,'Data leveranciersbeoordeling'!$1:$1,0)),Leveranciersbeoordeling!$H$1:$I$5,2,FALSE),0)","v":0},0]
["",null,null,null,null,null,null,null,null,null,null,null,null,null,null,{"$f":"INDEX($A:$O,ROW(),MATCH('Rapportage per vraag'!$C$12,'Data leveranciersbeoordeling'!$1:$1,0))","v":0},{"$f":"IFERROR(VLOOKUP(INDEX($A:$O,ROW(),MATCH('Rapportage per vraag'!$C$12,'Data leveranciersbeoordeling'!$1:$1,0)),Leveranciersbeoordeling!$H$1:$I$5,2,FALSE),0)","v":0},0]
["",null,null,null,null,null,null,null,null,null,null,null,null,null,null,{"$f":"INDEX($A:$O,ROW(),MATCH('Rapportage per vraag'!$C$12,'Data leveranciersbeoordeling'!$1:$1,0))","v":0},{"$f":"IFERROR(VLOOKUP(INDEX($A:$O,ROW(),MATCH('Rapportage per vraag'!$C$12,'Data leveranciersbeoordeling'!$1:$1,0)),Leveranciersbeoordeling!$H$1:$I$5,2,FALSE),0)","v":0},0]
["",null,null,null,null,null,null,null,null,null,null,null,null,null,null,{"$f":"INDEX($A:$O,ROW(),MATCH('Rapportage per vraag'!$C$12,'Data leveranciersbeoordeling'!$1:$1,0))","v":0},{"$f":"IFERROR(VLOOKUP(INDEX($A:$O,ROW(),MATCH('Rapportage per vraag'!$C$12,'Data leveranciersbeoordeling'!$1:$1,0)),Leveranciersbeoordeling!$H$1:$I$5,2,FALSE),0)","v":0},0]
["",null,null,null,null,null,null,null,null,null,null,null,null,null,null,{"$f":"INDEX($A:$O,ROW(),MATCH('Rapportage per vraag'!$C$12,'Data leveranciersbeoordeling'!$1:$1,0))","v":0},{"$f":"IFERROR(VLOOKUP(INDEX($A:$O,ROW(),MATCH('Rapportage per vraag'!$C$12,'Data leveranciersbeoordeling'!$1:$1,0)),Leveranciersbeoordeling!$H$1:$I$5,2,FALSE),0)","v":0},0]
["",null,null,null,null,null,null,null,null,null,null,null,null,null,null,{"$f":"INDEX($A:$O,ROW(),MATCH('Rapportage per vraag'!$C$12,'Data leveranciersbeoordeling'!$1:$1,0))","v":0},{"$f":"IFERROR(VLOOKUP(INDEX($A:$O,ROW(),MATCH('Rapportage per vraag'!$C$12,'Data leveranciersbeoordeling'!$1:$1,0)),Leveranciersbeoordeling!$H$1:$I$5,2,FALSE),0)","v":0},0]
["",null,null,null,null,null,null,null,null,null,null,null,null,null,null,{"$f":"INDEX($A:$O,ROW(),MATCH('Rapportage per vraag'!$C$12,'Data leveranciersbeoordeling'!$1:$1,0))","v":0},{"$f":"IFERROR(VLOOKUP(INDEX($A:$O,ROW(),MATCH('Rapportage per vraag'!$C$12,'Data leveranciersbeoordeling'!$1:$1,0)),Leveranciersbeoordeling!$H$1:$I$5,2,FALSE),0)","v":0},0]
["",null,null,null,null,null,null,null,null,null,null,null,null,null,null,{"$f":"INDEX($A:$O,ROW(),MATCH('Rapportage per vraag'!$C$12,'Data leveranciersbeoordeling'!$1:$1,0))","v":0},{"$f":"IFERROR(VLOOKUP(INDEX($A:$O,ROW(),MATCH('Rapportage per vraag'!$C$12,'Data leveranciersbeoordeling'!$1:$1,0)),Leveranciersbeoordeling!$H$1:$I$5,2,FALSE),0)","v":0},0]
["",null,null,null,null,null,null,null,null,null,null,null,null,null,null,{"$f":"INDEX($A:$O,ROW(),MATCH('Rapportage per vraag'!$C$12,'Data leveranciersbeoordeling'!$1:$1,0))","v":0},{"$f":"IFERROR(VLOOKUP(INDEX($A:$O,ROW(),MATCH('Rapportage per vraag'!$C$12,'Data leveranciersbeoordeling'!$1:$1,0)),Leveranciersbeoordeling!$H$1:$I$5,2,FALSE),0)","v":0},0]
["",null,null,null,null,null,null,null,null,null,null,null,null,null,null,{"$f":"INDEX($A:$O,ROW(),MATCH('Rapportage per vraag'!$C$12,'Data leveranciersbeoordeling'!$1:$1,0))","v":0},{"$f":"IFERROR(VLOOKUP(INDEX($A:$O,ROW(),MATCH('Rapportage per vraag'!$C$12,'Data leveranciersbeoordeling'!$1:$1,0)),Leveranciersbeoordeling!$H$1:$I$5,2,FALSE),0)","v":0},0]
["",null,null,null,null,null,null,null,null,null,null,null,null,null,null,{"$f":"INDEX($A:$O,ROW(),MATCH('Rapportage per vraag'!$C$12,'Data leveranciersbeoordeling'!$1:$1,0))","v":0},{"$f":"IFERROR(VLOOKUP(INDEX($A:$O,ROW(),MATCH('Rapportage per vraag'!$C$12,'Data leveranciersbeoordeling'!$1:$1,0)),Leveranciersbeoordeling!$H$1:$I$5,2,FALSE),0)","v":0},0]
["",null,null,null,null,null,null,null,null,null,null,null,null,null,null,{"$f":"INDEX($A:$O,ROW(),MATCH('Rapportage per vraag'!$C$12,'Data leveranciersbeoordeling'!$1:$1,0))","v":0},{"$f":"IFERROR(VLOOKUP(INDEX($A:$O,ROW(),MATCH('Rapportage per vraag'!$C$12,'Data leveranciersbeoordeling'!$1:$1,0)),Leveranciersbeoordeling!$H$1:$I$5,2,FALSE),0)","v":0},0]
["",null,null,null,null,null,null,null,null,null,null,null,null,null,null,{"$f":"INDEX($A:$O,ROW(),MATCH('Rapportage per vraag'!$C$12,'Data leveranciersbeoordeling'!$1:$1,0))","v":0},{"$f":"IFERROR(VLOOKUP(INDEX($A:$O,ROW(),MATCH('Rapportage per vraag'!$C$12,'Data leveranciersbeoordeling'!$1:$1,0)),Leveranciersbeoordeling!$H$1:$I$5,2,FALSE),0)","v":0},0]
["",null,null,null,null,null,null,null,null,null,null,null,null,null,null,{"$f":"INDEX($A:$O,ROW(),MATCH('Rapportage per vraag'!$C$12,'Data leveranciersbeoordeling'!$1:$1,0))","v":0},{"$f":"IFERROR(VLOOKUP(INDEX($A:$O,ROW(),MATCH('Rapportage per vraag'!$C$12,'Data leveranciersbeoordeling'!$1:$1,0)),Leveranciersbeoordeling!$H$1:$I$5,2,FALSE),0)","v":0},0]
["",null,null,null,null,null,null,null,null,null,null,null,null,null,null,{"$f":"INDEX($A:$O,ROW(),MATCH('Rapportage per vraag'!$C$12,'Data leveranciersbeoordeling'!$1:$1,0))","v":0},{"$f":"IFERROR(VLOOKUP(INDEX($A:$O,ROW(),MATCH('Rapportage per vraag'!$C$12,'Data leveranciersbeoordeling'!$1:$1,0)),Leveranciersbeoordeling!$H$1:$I$5,2,FALSE),0)","v":0},0]
["",null,null,null,null,null,null,null,null,null,null,null,null,null,null,{"$f":"INDEX($A:$O,ROW(),MATCH('Rapportage per vraag'!$C$12,'Data leveranciersbeoordeling'!$1:$1,0))","v":0},{"$f":"IFERROR(VLOOKUP(INDEX($A:$O,ROW(),MATCH('Rapportage per vraag'!$C$12,'Data leveranciersbeoordeling'!$1:$1,0)),Leveranciersbeoordeling!$H$1:$I$5,2,FALSE),0)","v":0},0]
["",null,null,null,null,null,null,null,null,null,null,null,null,null,null,{"$f":"INDEX($A:$O,ROW(),MATCH('Rapportage per vraag'!$C$12,'Data leveranciersbeoordeling'!$1:$1,0))","v":0},{"$f":"IFERROR(VLOOKUP(INDEX($A:$O,ROW(),MATCH('Rapportage per vraag'!$C$12,'Data leveranciersbeoordeling'!$1:$1,0)),Leveranciersbeoordeling!$H$1:$I$5,2,FALSE),0)","v":0},0]
["",null,null,null,null,null,null,null,null,null,null,null,null,null,null,{"$f":"INDEX($A:$O,ROW(),MATCH('Rapportage per vraag'!$C$12,'Data leveranciersbeoordeling'!$1:$1,0))","v":0},{"$f":"IFERROR(VLOOKUP(INDEX($A:$O,ROW(),MATCH('Rapportage per vraag'!$C$12,'Data leveranciersbeoordeling'!$1:$1,0)),Leveranciersbeoordeling!$H$1:$I$5,2,FALSE),0)","v":0},0]
["",null,null,null,null,null,null,null,null,null,null,null,null,null,null,{"$f":"INDEX($A:$O,ROW(),MATCH('Rapportage per vraag'!$C$12,'Data leveranciersbeoordeling'!$1:$1,0))","v":0},{"$f":"IFERROR(VLOOKUP(INDEX($A:$O,ROW(),MATCH('Rapportage per vraag'!$C$12,'Data leveranciersbeoordeling'!$1:$1,0)),Leveranciersbeoordeling!$H$1:$I$5,2,FALSE),0)","v":0},0]
["",null,null,null,null,null,null,null,null,null,null,null,null,null,null,{"$f":"INDEX($A:$O,ROW(),MATCH('Rapportage per vraag'!$C$12,'Data leveranciersbeoordeling'!$1:$1,0))","v":0},{"$f":"IFERROR(VLOOKUP(INDEX($A:$O,ROW(),MATCH('Rapportage per vraag'!$C$12,'Data leveranciersbeoordeling'!$1:$1,0)),Leveranciersbeoordeling!$H$1:$I$5,2,FALSE),0)","v":0},0]
["",null,null,null,null,null,null,null,null,null,null,null,null,null,null,{"$f":"INDEX($A:$O,ROW(),MATCH('Rapportage per vraag'!$C$12,'Data leveranciersbeoordeling'!$1:$1,0))","v":0},{"$f":"IFERROR(VLOOKUP(INDEX($A:$O,ROW(),MATCH('Rapportage per vraag'!$C$12,'Data leveranciersbeoordeling'!$1:$1,0)),Leveranciersbeoordeling!$H$1:$I$5,2,FALSE),0)","v":0},0]
["",null,null,null,null,null,null,null,null,null,null,null,null,null,null,{"$f":"INDEX($A:$O,ROW(),MATCH('Rapportage per vraag'!$C$12,'Data leveranciersbeoordeling'!$1:$1,0))","v":0},{"$f":"IFERROR(VLOOKUP(INDEX($A:$O,ROW(),MATCH('Rapportage per vraag'!$C$12,'Data leveranciersbeoordeling'!$1:$1,0)),Leveranciersbeoordeling!$H$1:$I$5,2,FALSE),0)","v":0},0]
["",null,null,null,null,null,null,null,null,null,null,null,null,null,null,{"$f":"INDEX($A:$O,ROW(),MATCH('Rapportage per vraag'!$C$12,'Data leveranciersbeoordeling'!$1:$1,0))","v":0},{"$f":"IFERROR(VLOOKUP(INDEX($A:$O,ROW(),MATCH('Rapportage per vraag'!$C$12,'Data leveranciersbeoordeling'!$1:$1,0)),Leveranciersbeoordeling!$H$1:$I$5,2,FALSE),0)","v":0},0]
["",null,null,null,null,null,null,null,null,null,null,null,null,null,null,{"$f":"INDEX($A:$O,ROW(),MATCH('Rapportage per vraag'!$C$12,'Data leveranciersbeoordeling'!$1:$1,0))","v":0},{"$f":"IFERROR(VLOOKUP(INDEX($A:$O,ROW(),MATCH('Rapportage per vraag'!$C$12,'Data leveranciersbeoordeling'!$1:$1,0)),Leveranciersbeoordeling!$H$1:$I$5,2,FALSE),0)","v":0},0]
["",null,null,null,null,null,null,null,null,null,null,null,null,null,null,{"$f":"INDEX($A:$O,ROW(),MATCH('Rapportage per vraag'!$C$12,'Data leveranciersbeoordeling'!$1:$1,0))","v":0},{"$f":"IFERROR(VLOOKUP(INDEX($A:$O,ROW(),MATCH('Rapportage per vraag'!$C$12,'Data leveranciersbeoordeling'!$1:$1,0)),Leveranciersbeoordeling!$H$1:$I$5,2,FALSE),0)","v":0},0]
["",null,null,null,null,null,null,null,null,null,null,null,null,null,null,{"$f":"INDEX($A:$O,ROW(),MATCH('Rapportage per vraag'!$C$12,'Data leveranciersbeoordeling'!$1:$1,0))","v":0},{"$f":"IFERROR(VLOOKUP(INDEX($A:$O,ROW(),MATCH('Rapportage per vraag'!$C$12,'Data leveranciersbeoordeling'!$1:$1,0)),Leveranciersbeoordeling!$H$1:$I$5,2,FALSE),0)","v":0},0]
["",null,null,null,null,null,null,null,null,null,null,null,null,null,null,{"$f":"INDEX($A:$O,ROW(),MATCH('Rapportage per vraag'!$C$12,'Data leveranciersbeoordeling'!$1:$1,0))","v":0},{"$f":"IFERROR(VLOOKUP(INDEX($A:$O,ROW(),MATCH('Rapportage per vraag'!$C$12,'Data leveranciersbeoordeling'!$1:$1,0)),Leveranciersbeoordeling!$H$1:$I$5,2,FALSE),0)","v":0},0]
["",null,null,null,null,null,null,null,null,null,null,null,null,null,null,{"$f":"INDEX($A:$O,ROW(),MATCH('Rapportage per vraag'!$C$12,'Data leveranciersbeoordeling'!$1:$1,0))","v":0},{"$f":"IFERROR(VLOOKUP(INDEX($A:$O,ROW(),MATCH('Rapportage per vraag'!$C$12,'Data leveranciersbeoordeling'!$1:$1,0)),Leveranciersbeoordeling!$H$1:$I$5,2,FALSE),0)","v":0},0]
["",null,null,null,null,null,null,null,null,null,null,null,null,null,null,{"$f":"INDEX($A:$O,ROW(),MATCH('Rapportage per vraag'!$C$12,'Data leveranciersbeoordeling'!$1:$1,0))","v":0},{"$f":"IFERROR(VLOOKUP(INDEX($A:$O,ROW(),MATCH('Rapportage per vraag'!$C$12,'Data leveranciersbeoordeling'!$1:$1,0)),Leveranciersbeoordeling!$H$1:$I$5,2,FALSE),0)","v":0},0]
["",null,null,null,null,null,null,null,null,null,null,null,null,null,null,{"$f":"INDEX($A:$O,ROW(),MATCH('Rapportage per vraag'!$C$12,'Data leveranciersbeoordeling'!$1:$1,0))","v":0},{"$f":"IFERROR(VLOOKUP(INDEX($A:$O,ROW(),MATCH('Rapportage per vraag'!$C$12,'Data leveranciersbeoordeling'!$1:$1,0)),Leveranciersbeoordeling!$H$1:$I$5,2,FALSE),0)","v":0},0]
["",null,null,null,null,null,null,null,null,null,null,null,null,null,null,{"$f":"INDEX($A:$O,ROW(),MATCH('Rapportage per vraag'!$C$12,'Data leveranciersbeoordeling'!$1:$1,0))","v":0},{"$f":"IFERROR(VLOOKUP(INDEX($A:$O,ROW(),MATCH('Rapportage per vraag'!$C$12,'Data leveranciersbeoordeling'!$1:$1,0)),Leveranciersbeoordeling!$H$1:$I$5,2,FALSE),0)","v":0},0]
["",null,null,null,null,null,null,null,null,null,null,null,null,null,null,{"$f":"INDEX($A:$O,ROW(),MATCH('Rapportage per vraag'!$C$12,'Data leveranciersbeoordeling'!$1:$1,0))","v":0},{"$f":"IFERROR(VLOOKUP(INDEX($A:$O,ROW(),MATCH('Rapportage per vraag'!$C$12,'Data leveranciersbeoordeling'!$1:$1,0)),Leveranciersbeoordeling!$H$1:$I$5,2,FALSE),0)","v":0},0]
["",null,null,null,null,null,null,null,null,null,null,null,null,null,null,{"$f":"INDEX($A:$O,ROW(),MATCH('Rapportage per vraag'!$C$12,'Data leveranciersbeoordeling'!$1:$1,0))","v":0},{"$f":"IFERROR(VLOOKUP(INDEX($A:$O,ROW(),MATCH('Rapportage per vraag'!$C$12,'Data leveranciersbeoordeling'!$1:$1,0)),Leveranciersbeoordeling!$H$1:$I$5,2,FALSE),0)","v":0},0]
["",null,null,null,null,null,null,null,null,null,null,null,null,null,null,{"$f":"INDEX($A:$O,ROW(),MATCH('Rapportage per vraag'!$C$12,'Data leveranciersbeoordeling'!$1:$1,0))","v":0},{"$f":"IFERROR(VLOOKUP(INDEX($A:$O,ROW(),MATCH('Rapportage per vraag'!$C$12,'Data leveranciersbeoordeling'!$1:$1,0)),Leveranciersbeoordeling!$H$1:$I$5,2,FALSE),0)","v":0},0]
["",null,null,null,null,null,null,null,null,null,null,null,null,null,null,{"$f":"INDEX($A:$O,ROW(),MATCH('Rapportage per vraag'!$C$12,'Data leveranciersbeoordeling'!$1:$1,0))","v":0},{"$f":"IFERROR(VLOOKUP(INDEX($A:$O,ROW(),MATCH('Rapportage per vraag'!$C$12,'Data leveranciersbeoordeling'!$1:$1,0)),Leveranciersbeoordeling!$H$1:$I$5,2,FALSE),0)","v":0},0]
["",null,null,null,null,null,null,null,null,null,null,null,null,null,null,{"$f":"INDEX($A:$O,ROW(),MATCH('Rapportage per vraag'!$C$12,'Data leveranciersbeoordeling'!$1:$1,0))","v":0},{"$f":"IFERROR(VLOOKUP(INDEX($A:$O,ROW(),MATCH('Rapportage per vraag'!$C$12,'Data leveranciersbeoordeling'!$1:$1,0)),Leveranciersbeoordeling!$H$1:$I$5,2,FALSE),0)","v":0},0]
["",null,null,null,null,null,null,null,null,null,null,null,null,null,null,{"$f":"INDEX($A:$O,ROW(),MATCH('Rapportage per vraag'!$C$12,'Data leveranciersbeoordeling'!$1:$1,0))","v":0},{"$f":"IFERROR(VLOOKUP(INDEX($A:$O,ROW(),MATCH('Rapportage per vraag'!$C$12,'Data leveranciersbeoordeling'!$1:$1,0)),Leveranciersbeoordeling!$H$1:$I$5,2,FALSE),0)","v":0},0]
["",null,null,null,null,null,null,null,null,null,null,null,null,null,null,{"$f":"INDEX($A:$O,ROW(),MATCH('Rapportage per vraag'!$C$12,'Data leveranciersbeoordeling'!$1:$1,0))","v":0},{"$f":"IFERROR(VLOOKUP(INDEX($A:$O,ROW(),MATCH('Rapportage per vraag'!$C$12,'Data leveranciersbeoordeling'!$1:$1,0)),Leveranciersbeoordeling!$H$1:$I$5,2,FALSE),0)","v":0},0]
["",null,null,null,null,null,null,null,null,null,null,null,null,null,null,{"$f":"INDEX($A:$O,ROW(),MATCH('Rapportage per vraag'!$C$12,'Data leveranciersbeoordeling'!$1:$1,0))","v":0},{"$f":"IFERROR(VLOOKUP(INDEX($A:$O,ROW(),MATCH('Rapportage per vraag'!$C$12,'Data leveranciersbeoordeling'!$1:$1,0)),Leveranciersbeoordeling!$H$1:$I$5,2,FALSE),0)","v":0},0]
["",null,null,null,null,null,null,null,null,null,null,null,null,null,null,{"$f":"INDEX($A:$O,ROW(),MATCH('Rapportage per vraag'!$C$12,'Data leveranciersbeoordeling'!$1:$1,0))","v":0},{"$f":"IFERROR(VLOOKUP(INDEX($A:$O,ROW(),MATCH('Rapportage per vraag'!$C$12,'Data leveranciersbeoordeling'!$1:$1,0)),Leveranciersbeoordeling!$H$1:$I$5,2,FALSE),0)","v":0},0]
["",null,null,null,null,null,null,null,null,null,null,null,null,null,null,{"$f":"INDEX($A:$O,ROW(),MATCH('Rapportage per vraag'!$C$12,'Data leveranciersbeoordeling'!$1:$1,0))","v":0},{"$f":"IFERROR(VLOOKUP(INDEX($A:$O,ROW(),MATCH('Rapportage per vraag'!$C$12,'Data leveranciersbeoordeling'!$1:$1,0)),Leveranciersbeoordeling!$H$1:$I$5,2,FALSE),0)","v":0},0]
["",null,null,null,null,null,null,null,null,null,null,null,null,null,null,{"$f":"INDEX($A:$O,ROW(),MATCH('Rapportage per vraag'!$C$12,'Data leveranciersbeoordeling'!$1:$1,0))","v":0},{"$f":"IFERROR(VLOOKUP(INDEX($A:$O,ROW(),MATCH('Rapportage per vraag'!$C$12,'Data leveranciersbeoordeling'!$1:$1,0)),Leveranciersbeoordeling!$H$1:$I$5,2,FALSE),0)","v":0},{"$f":"IF(T(P4486)=P4486,Q4486,P4486)","v":0}]
["",null,null,null,null,null,null,null,null,null,null,null,null,null,null,{"$f":"INDEX($A:$O,ROW(),MATCH('Rapportage per vraag'!$C$12,'Data leveranciersbeoordeling'!$1:$1,0))","v":0},{"$f":"IFERROR(VLOOKUP(INDEX($A:$O,ROW(),MATCH('Rapportage per vraag'!$C$12,'Data leveranciersbeoordeling'!$1:$1,0)),Leveranciersbeoordeling!$H$1:$I$5,2,FALSE),0)","v":0},0]
["",null,null,null,null,null,null,null,null,null,null,null,null,null,null,{"$f":"INDEX($A:$O,ROW(),MATCH('Rapportage per vraag'!$C$12,'Data leveranciersbeoordeling'!$1:$1,0))","v":0},{"$f":"IFERROR(VLOOKUP(INDEX($A:$O,ROW(),MATCH('Rapportage per vraag'!$C$12,'Data leveranciersbeoordeling'!$1:$1,0)),Leveranciersbeoordeling!$H$1:$I$5,2,FALSE),0)","v":0},0]
["",null,null,null,null,null,null,null,null,null,null,null,null,null,null,{"$f":"INDEX($A:$O,ROW(),MATCH('Rapportage per vraag'!$C$12,'Data leveranciersbeoordeling'!$1:$1,0))","v":0},{"$f":"IFERROR(VLOOKUP(INDEX($A:$O,ROW(),MATCH('Rapportage per vraag'!$C$12,'Data leveranciersbeoordeling'!$1:$1,0)),Leveranciersbeoordeling!$H$1:$I$5,2,FALSE),0)","v":0},0]
["",null,null,null,null,null,null,null,null,null,null,null,null,null,null,{"$f":"INDEX($A:$O,ROW(),MATCH('Rapportage per vraag'!$C$12,'Data leveranciersbeoordeling'!$1:$1,0))","v":0},{"$f":"IFERROR(VLOOKUP(INDEX($A:$O,ROW(),MATCH('Rapportage per vraag'!$C$12,'Data leveranciersbeoordeling'!$1:$1,0)),Leveranciersbeoordeling!$H$1:$I$5,2,FALSE),0)","v":0},0]
["",null,null,null,null,null,null,null,null,null,null,null,null,null,null,{"$f":"INDEX($A:$O,ROW(),MATCH('Rapportage per vraag'!$C$12,'Data leveranciersbeoordeling'!$1:$1,0))","v":0},{"$f":"IFERROR(VLOOKUP(INDEX($A:$O,ROW(),MATCH('Rapportage per vraag'!$C$12,'Data leveranciersbeoordeling'!$1:$1,0)),Leveranciersbeoordeling!$H$1:$I$5,2,FALSE),0)","v":0},0]
["",null,null,null,null,null,null,null,null,null,null,null,null,null,null,{"$f":"INDEX($A:$O,ROW(),MATCH('Rapportage per vraag'!$C$12,'Data leveranciersbeoordeling'!$1:$1,0))","v":0},{"$f":"IFERROR(VLOOKUP(INDEX($A:$O,ROW(),MATCH('Rapportage per vraag'!$C$12,'Data leveranciersbeoordeling'!$1:$1,0)),Leveranciersbeoordeling!$H$1:$I$5,2,FALSE),0)","v":0},0]
["",null,null,null,null,null,null,null,null,null,null,null,null,null,null,{"$f":"INDEX($A:$O,ROW(),MATCH('Rapportage per vraag'!$C$12,'Data leveranciersbeoordeling'!$1:$1,0))","v":0},{"$f":"IFERROR(VLOOKUP(INDEX($A:$O,ROW(),MATCH('Rapportage per vraag'!$C$12,'Data leveranciersbeoordeling'!$1:$1,0)),Leveranciersbeoordeling!$H$1:$I$5,2,FALSE),0)","v":0},0]
["",null,null,null,null,null,null,null,null,null,null,null,null,null,null,{"$f":"INDEX($A:$O,ROW(),MATCH('Rapportage per vraag'!$C$12,'Data leveranciersbeoordeling'!$1:$1,0))","v":0},{"$f":"IFERROR(VLOOKUP(INDEX($A:$O,ROW(),MATCH('Rapportage per vraag'!$C$12,'Data leveranciersbeoordeling'!$1:$1,0)),Leveranciersbeoordeling!$H$1:$I$5,2,FALSE),0)","v":0},0]
["",null,null,null,null,null,null,null,null,null,null,null,null,null,null,{"$f":"INDEX($A:$O,ROW(),MATCH('Rapportage per vraag'!$C$12,'Data leveranciersbeoordeling'!$1:$1,0))","v":0},{"$f":"IFERROR(VLOOKUP(INDEX($A:$O,ROW(),MATCH('Rapportage per vraag'!$C$12,'Data leveranciersbeoordeling'!$1:$1,0)),Leveranciersbeoordeling!$H$1:$I$5,2,FALSE),0)","v":0},0]
["",null,null,null,null,null,null,null,null,null,null,null,null,null,null,{"$f":"INDEX($A:$O,ROW(),MATCH('Rapportage per vraag'!$C$12,'Data leveranciersbeoordeling'!$1:$1,0))","v":0},{"$f":"IFERROR(VLOOKUP(INDEX($A:$O,ROW(),MATCH('Rapportage per vraag'!$C$12,'Data leveranciersbeoordeling'!$1:$1,0)),Leveranciersbeoordeling!$H$1:$I$5,2,FALSE),0)","v":0},0]
["",null,null,null,null,null,null,null,null,null,null,null,null,null,null,{"$f":"INDEX($A:$O,ROW(),MATCH('Rapportage per vraag'!$C$12,'Data leveranciersbeoordeling'!$1:$1,0))","v":0},{"$f":"IFERROR(VLOOKUP(INDEX($A:$O,ROW(),MATCH('Rapportage per vraag'!$C$12,'Data leveranciersbeoordeling'!$1:$1,0)),Leveranciersbeoordeling!$H$1:$I$5,2,FALSE),0)","v":0},0]
["",null,null,null,null,null,null,null,null,null,null,null,null,null,null,{"$f":"INDEX($A:$O,ROW(),MATCH('Rapportage per vraag'!$C$12,'Data leveranciersbeoordeling'!$1:$1,0))","v":0},{"$f":"IFERROR(VLOOKUP(INDEX($A:$O,ROW(),MATCH('Rapportage per vraag'!$C$12,'Data leveranciersbeoordeling'!$1:$1,0)),Leveranciersbeoordeling!$H$1:$I$5,2,FALSE),0)","v":0},0]
["",null,null,null,null,null,null,null,null,null,null,null,null,null,null,{"$f":"INDEX($A:$O,ROW(),MATCH('Rapportage per vraag'!$C$12,'Data leveranciersbeoordeling'!$1:$1,0))","v":0},{"$f":"IFERROR(VLOOKUP(INDEX($A:$O,ROW(),MATCH('Rapportage per vraag'!$C$12,'Data leveranciersbeoordeling'!$1:$1,0)),Leveranciersbeoordeling!$H$1:$I$5,2,FALSE),0)","v":0},0]
["",null,null,null,null,null,null,null,null,null,null,null,null,null,null,{"$f":"INDEX($A:$O,ROW(),MATCH('Rapportage per vraag'!$C$12,'Data leveranciersbeoordeling'!$1:$1,0))","v":0},{"$f":"IFERROR(VLOOKUP(INDEX($A:$O,ROW(),MATCH('Rapportage per vraag'!$C$12,'Data leveranciersbeoordeling'!$1:$1,0)),Leveranciersbeoordeling!$H$1:$I$5,2,FALSE),0)","v":0},0]
["",null,null,null,null,null,null,null,null,null,null,null,null,null,null,{"$f":"INDEX($A:$O,ROW(),MATCH('Rapportage per vraag'!$C$12,'Data leveranciersbeoordeling'!$1:$1,0))","v":0},{"$f":"IFERROR(VLOOKUP(INDEX($A:$O,ROW(),MATCH('Rapportage per vraag'!$C$12,'Data leveranciersbeoordeling'!$1:$1,0)),Leveranciersbeoordeling!$H$1:$I$5,2,FALSE),0)","v":0},0]
["",null,null,null,null,null,null,null,null,null,null,null,null,null,null,{"$f":"INDEX($A:$O,ROW(),MATCH('Rapportage per vraag'!$C$12,'Data leveranciersbeoordeling'!$1:$1,0))","v":0},{"$f":"IFERROR(VLOOKUP(INDEX($A:$O,ROW(),MATCH('Rapportage per vraag'!$C$12,'Data leveranciersbeoordeling'!$1:$1,0)),Leveranciersbeoordeling!$H$1:$I$5,2,FALSE),0)","v":0},0]
[{"$f":"CONCATENATE(B4547,C4547,D4547)","v":""},null,null,null,null,null,null,null,null,null,null,null,null,null,null,{"$f":"INDEX($A:$O,ROW(),MATCH('Rapportage per vraag'!$C$12,'Data leveranciersbeoordeling'!$1:$1,0))","v":0},{"$f":"IFERROR(VLOOKUP(INDEX($A:$O,ROW(),MATCH('Rapportage per vraag'!$C$12,'Data leveranciersbeoordeling'!$1:$1,0)),Leveranciersbeoordeling!$H$1:$I$5,2,FALSE),0)","v":0},0]
["",null,null,null,null,null,null,null,null,null,null,null,null,null,null,{"$f":"INDEX($A:$O,ROW(),MATCH('Rapportage per vraag'!$C$12,'Data leveranciersbeoordeling'!$1:$1,0))","v":0},{"$f":"IFERROR(VLOOKUP(INDEX($A:$O,ROW(),MATCH('Rapportage per vraag'!$C$12,'Data leveranciersbeoordeling'!$1:$1,0)),Leveranciersbeoordeling!$H$1:$I$5,2,FALSE),0)","v":0},0]
["",null,null,null,null,null,null,null,null,null,null,null,null,null,null,{"$f":"INDEX($A:$O,ROW(),MATCH('Rapportage per vraag'!$C$12,'Data leveranciersbeoordeling'!$1:$1,0))","v":0},{"$f":"IFERROR(VLOOKUP(INDEX($A:$O,ROW(),MATCH('Rapportage per vraag'!$C$12,'Data leveranciersbeoordeling'!$1:$1,0)),Leveranciersbeoordeling!$H$1:$I$5,2,FALSE),0)","v":0},0]
["",null,null,null,null,null,null,null,null,null,null,null,null,null,null,{"$f":"INDEX($A:$O,ROW(),MATCH('Rapportage per vraag'!$C$12,'Data leveranciersbeoordeling'!$1:$1,0))","v":0},{"$f":"IFERROR(VLOOKUP(INDEX($A:$O,ROW(),MATCH('Rapportage per vraag'!$C$12,'Data leveranciersbeoordeling'!$1:$1,0)),Leveranciersbeoordeling!$H$1:$I$5,2,FALSE),0)","v":0},0]
["",null,null,null,null,null,null,null,null,null,null,null,null,null,null,{"$f":"INDEX($A:$O,ROW(),MATCH('Rapportage per vraag'!$C$12,'Data leveranciersbeoordeling'!$1:$1,0))","v":0},{"$f":"IFERROR(VLOOKUP(INDEX($A:$O,ROW(),MATCH('Rapportage per vraag'!$C$12,'Data leveranciersbeoordeling'!$1:$1,0)),Leveranciersbeoordeling!$H$1:$I$5,2,FALSE),0)","v":0},0]
["",null,null,null,null,null,null,null,null,null,null,null,null,null,null,{"$f":"INDEX($A:$O,ROW(),MATCH('Rapportage per vraag'!$C$12,'Data leveranciersbeoordeling'!$1:$1,0))","v":0},{"$f":"IFERROR(VLOOKUP(INDEX($A:$O,ROW(),MATCH('Rapportage per vraag'!$C$12,'Data leveranciersbeoordeling'!$1:$1,0)),Leveranciersbeoordeling!$H$1:$I$5,2,FALSE),0)","v":0},0]
["",null,null,null,null,null,null,null,null,null,null,null,null,null,null,{"$f":"INDEX($A:$O,ROW(),MATCH('Rapportage per vraag'!$C$12,'Data leveranciersbeoordeling'!$1:$1,0))","v":0},{"$f":"IFERROR(VLOOKUP(INDEX($A:$O,ROW(),MATCH('Rapportage per vraag'!$C$12,'Data leveranciersbeoordeling'!$1:$1,0)),Leveranciersbeoordeling!$H$1:$I$5,2,FALSE),0)","v":0},0]
["",null,null,null,null,null,null,null,null,null,null,null,null,null,null,{"$f":"INDEX($A:$O,ROW(),MATCH('Rapportage per vraag'!$C$12,'Data leveranciersbeoordeling'!$1:$1,0))","v":0},{"$f":"IFERROR(VLOOKUP(INDEX($A:$O,ROW(),MATCH('Rapportage per vraag'!$C$12,'Data leveranciersbeoordeling'!$1:$1,0)),Leveranciersbeoordeling!$H$1:$I$5,2,FALSE),0)","v":0},0]
["",null,null,null,null,null,null,null,null,null,null,null,null,null,null,{"$f":"INDEX($A:$O,ROW(),MATCH('Rapportage per vraag'!$C$12,'Data leveranciersbeoordeling'!$1:$1,0))","v":0},{"$f":"IFERROR(VLOOKUP(INDEX($A:$O,ROW(),MATCH('Rapportage per vraag'!$C$12,'Data leveranciersbeoordeling'!$1:$1,0)),Leveranciersbeoordeling!$H$1:$I$5,2,FALSE),0)","v":0},0]
["",null,null,null,null,null,null,null,null,null,null,null,null,null,null,{"$f":"INDEX($A:$O,ROW(),MATCH('Rapportage per vraag'!$C$12,'Data leveranciersbeoordeling'!$1:$1,0))","v":0},{"$f":"IFERROR(VLOOKUP(INDEX($A:$O,ROW(),MATCH('Rapportage per vraag'!$C$12,'Data leveranciersbeoordeling'!$1:$1,0)),Leveranciersbeoordeling!$H$1:$I$5,2,FALSE),0)","v":0},0]
["",null,null,null,null,null,null,null,null,null,null,null,null,null,null,{"$f":"INDEX($A:$O,ROW(),MATCH('Rapportage per vraag'!$C$12,'Data leveranciersbeoordeling'!$1:$1,0))","v":0},{"$f":"IFERROR(VLOOKUP(INDEX($A:$O,ROW(),MATCH('Rapportage per vraag'!$C$12,'Data leveranciersbeoordeling'!$1:$1,0)),Leveranciersbeoordeling!$H$1:$I$5,2,FALSE),0)","v":0},0]
["",null,null,null,null,null,null,null,null,null,null,null,null,null,null,{"$f":"INDEX($A:$O,ROW(),MATCH('Rapportage per vraag'!$C$12,'Data leveranciersbeoordeling'!$1:$1,0))","v":0},{"$f":"IFERROR(VLOOKUP(INDEX($A:$O,ROW(),MATCH('Rapportage per vraag'!$C$12,'Data leveranciersbeoordeling'!$1:$1,0)),Leveranciersbeoordeling!$H$1:$I$5,2,FALSE),0)","v":0},0]
["",null,null,null,null,null,null,null,null,null,null,null,null,null,null,{"$f":"INDEX($A:$O,ROW(),MATCH('Rapportage per vraag'!$C$12,'Data leveranciersbeoordeling'!$1:$1,0))","v":0},{"$f":"IFERROR(VLOOKUP(INDEX($A:$O,ROW(),MATCH('Rapportage per vraag'!$C$12,'Data leveranciersbeoordeling'!$1:$1,0)),Leveranciersbeoordeling!$H$1:$I$5,2,FALSE),0)","v":0},0]
["",null,null,null,null,null,null,null,null,null,null,null,null,null,null,{"$f":"INDEX($A:$O,ROW(),MATCH('Rapportage per vraag'!$C$12,'Data leveranciersbeoordeling'!$1:$1,0))","v":0},{"$f":"IFERROR(VLOOKUP(INDEX($A:$O,ROW(),MATCH('Rapportage per vraag'!$C$12,'Data leveranciersbeoordeling'!$1:$1,0)),Leveranciersbeoordeling!$H$1:$I$5,2,FALSE),0)","v":0},0]
["",null,null,null,null,null,null,null,null,null,null,null,null,null,null,{"$f":"INDEX($A:$O,ROW(),MATCH('Rapportage per vraag'!$C$12,'Data leveranciersbeoordeling'!$1:$1,0))","v":0},{"$f":"IFERROR(VLOOKUP(INDEX($A:$O,ROW(),MATCH('Rapportage per vraag'!$C$12,'Data leveranciersbeoordeling'!$1:$1,0)),Leveranciersbeoordeling!$H$1:$I$5,2,FALSE),0)","v":0},0]
["",null,null,null,null,null,null,null,null,null,null,null,null,null,null,{"$f":"INDEX($A:$O,ROW(),MATCH('Rapportage per vraag'!$C$12,'Data leveranciersbeoordeling'!$1:$1,0))","v":0},{"$f":"IFERROR(VLOOKUP(INDEX($A:$O,ROW(),MATCH('Rapportage per vraag'!$C$12,'Data leveranciersbeoordeling'!$1:$1,0)),Leveranciersbeoordeling!$H$1:$I$5,2,FALSE),0)","v":0},0]
["",null,null,null,null,null,null,null,null,null,null,null,null,null,null,{"$f":"INDEX($A:$O,ROW(),MATCH('Rapportage per vraag'!$C$12,'Data leveranciersbeoordeling'!$1:$1,0))","v":0},{"$f":"IFERROR(VLOOKUP(INDEX($A:$O,ROW(),MATCH('Rapportage per vraag'!$C$12,'Data leveranciersbeoordeling'!$1:$1,0)),Leveranciersbeoordeling!$H$1:$I$5,2,FALSE),0)","v":0},0]
["",null,null,null,null,null,null,null,null,null,null,null,null,null,null,{"$f":"INDEX($A:$O,ROW(),MATCH('Rapportage per vraag'!$C$12,'Data leveranciersbeoordeling'!$1:$1,0))","v":0},{"$f":"IFERROR(VLOOKUP(INDEX($A:$O,ROW(),MATCH('Rapportage per vraag'!$C$12,'Data leveranciersbeoordeling'!$1:$1,0)),Leveranciersbeoordeling!$H$1:$I$5,2,FALSE),0)","v":0},0]
["",null,null,null,null,null,null,null,null,null,null,null,null,null,null,{"$f":"INDEX($A:$O,ROW(),MATCH('Rapportage per vraag'!$C$12,'Data leveranciersbeoordeling'!$1:$1,0))","v":0},{"$f":"IFERROR(VLOOKUP(INDEX($A:$O,ROW(),MATCH('Rapportage per vraag'!$C$12,'Data leveranciersbeoordeling'!$1:$1,0)),Leveranciersbeoordeling!$H$1:$I$5,2,FALSE),0)","v":0},0]
["",null,null,null,null,null,null,null,null,null,null,null,null,null,null,{"$f":"INDEX($A:$O,ROW(),MATCH('Rapportage per vraag'!$C$12,'Data leveranciersbeoordeling'!$1:$1,0))","v":0},{"$f":"IFERROR(VLOOKUP(INDEX($A:$O,ROW(),MATCH('Rapportage per vraag'!$C$12,'Data leveranciersbeoordeling'!$1:$1,0)),Leveranciersbeoordeling!$H$1:$I$5,2,FALSE),0)","v":0},0]
["",null,null,null,null,null,null,null,null,null,null,null,null,null,null,{"$f":"INDEX($A:$O,ROW(),MATCH('Rapportage per vraag'!$C$12,'Data leveranciersbeoordeling'!$1:$1,0))","v":0},{"$f":"IFERROR(VLOOKUP(INDEX($A:$O,ROW(),MATCH('Rapportage per vraag'!$C$12,'Data leveranciersbeoordeling'!$1:$1,0)),Leveranciersbeoordeling!$H$1:$I$5,2,FALSE),0)","v":0},0]
["",null,null,null,null,null,null,null,null,null,null,null,null,null,null,{"$f":"INDEX($A:$O,ROW(),MATCH('Rapportage per vraag'!$C$12,'Data leveranciersbeoordeling'!$1:$1,0))","v":0},{"$f":"IFERROR(VLOOKUP(INDEX($A:$O,ROW(),MATCH('Rapportage per vraag'!$C$12,'Data leveranciersbeoordeling'!$1:$1,0)),Leveranciersbeoordeling!$H$1:$I$5,2,FALSE),0)","v":0},0]
["",null,null,null,null,null,null,null,null,null,null,null,null,null,null,{"$f":"INDEX($A:$O,ROW(),MATCH('Rapportage per vraag'!$C$12,'Data leveranciersbeoordeling'!$1:$1,0))","v":0},{"$f":"IFERROR(VLOOKUP(INDEX($A:$O,ROW(),MATCH('Rapportage per vraag'!$C$12,'Data leveranciersbeoordeling'!$1:$1,0)),Leveranciersbeoordeling!$H$1:$I$5,2,FALSE),0)","v":0},0]
["",null,null,null,null,null,null,null,null,null,null,null,null,null,null,{"$f":"INDEX($A:$O,ROW(),MATCH('Rapportage per vraag'!$C$12,'Data leveranciersbeoordeling'!$1:$1,0))","v":0},{"$f":"IFERROR(VLOOKUP(INDEX($A:$O,ROW(),MATCH('Rapportage per vraag'!$C$12,'Data leveranciersbeoordeling'!$1:$1,0)),Leveranciersbeoordeling!$H$1:$I$5,2,FALSE),0)","v":0},0]
["",null,null,null,null,null,null,null,null,null,null,null,null,null,null,{"$f":"INDEX($A:$O,ROW(),MATCH('Rapportage per vraag'!$C$12,'Data leveranciersbeoordeling'!$1:$1,0))","v":0},{"$f":"IFERROR(VLOOKUP(INDEX($A:$O,ROW(),MATCH('Rapportage per vraag'!$C$12,'Data leveranciersbeoordeling'!$1:$1,0)),Leveranciersbeoordeling!$H$1:$I$5,2,FALSE),0)","v":0},0]
["",null,null,null,null,null,null,null,null,null,null,null,null,null,null,{"$f":"INDEX($A:$O,ROW(),MATCH('Rapportage per vraag'!$C$12,'Data leveranciersbeoordeling'!$1:$1,0))","v":0},{"$f":"IFERROR(VLOOKUP(INDEX($A:$O,ROW(),MATCH('Rapportage per vraag'!$C$12,'Data leveranciersbeoordeling'!$1:$1,0)),Leveranciersbeoordeling!$H$1:$I$5,2,FALSE),0)","v":0},0]
["",null,null,null,null,null,null,null,null,null,null,null,null,null,null,{"$f":"INDEX($A:$O,ROW(),MATCH('Rapportage per vraag'!$C$12,'Data leveranciersbeoordeling'!$1:$1,0))","v":0},{"$f":"IFERROR(VLOOKUP(INDEX($A:$O,ROW(),MATCH('Rapportage per vraag'!$C$12,'Data leveranciersbeoordeling'!$1:$1,0)),Leveranciersbeoordeling!$H$1:$I$5,2,FALSE),0)","v":0},0]
["",null,null,null,null,null,null,null,null,null,null,null,null,null,null,{"$f":"INDEX($A:$O,ROW(),MATCH('Rapportage per vraag'!$C$12,'Data leveranciersbeoordeling'!$1:$1,0))","v":0},{"$f":"IFERROR(VLOOKUP(INDEX($A:$O,ROW(),MATCH('Rapportage per vraag'!$C$12,'Data leveranciersbeoordeling'!$1:$1,0)),Leveranciersbeoordeling!$H$1:$I$5,2,FALSE),0)","v":0},0]
["",null,null,null,null,null,null,null,null,null,null,null,null,null,null,{"$f":"INDEX($A:$O,ROW(),MATCH('Rapportage per vraag'!$C$12,'Data leveranciersbeoordeling'!$1:$1,0))","v":0},{"$f":"IFERROR(VLOOKUP(INDEX($A:$O,ROW(),MATCH('Rapportage per vraag'!$C$12,'Data leveranciersbeoordeling'!$1:$1,0)),Leveranciersbeoordeling!$H$1:$I$5,2,FALSE),0)","v":0},0]
["",null,null,null,null,null,null,null,null,null,null,null,null,null,null,{"$f":"INDEX($A:$O,ROW(),MATCH('Rapportage per vraag'!$C$12,'Data leveranciersbeoordeling'!$1:$1,0))","v":0},{"$f":"IFERROR(VLOOKUP(INDEX($A:$O,ROW(),MATCH('Rapportage per vraag'!$C$12,'Data leveranciersbeoordeling'!$1:$1,0)),Leveranciersbeoordeling!$H$1:$I$5,2,FALSE),0)","v":0},0]
["",null,null,null,null,null,null,null,null,null,null,null,null,null,null,{"$f":"INDEX($A:$O,ROW(),MATCH('Rapportage per vraag'!$C$12,'Data leveranciersbeoordeling'!$1:$1,0))","v":0},{"$f":"IFERROR(VLOOKUP(INDEX($A:$O,ROW(),MATCH('Rapportage per vraag'!$C$12,'Data leveranciersbeoordeling'!$1:$1,0)),Leveranciersbeoordeling!$H$1:$I$5,2,FALSE),0)","v":0},0]
["",null,null,null,null,null,null,null,null,null,null,null,null,null,null,{"$f":"INDEX($A:$O,ROW(),MATCH('Rapportage per vraag'!$C$12,'Data leveranciersbeoordeling'!$1:$1,0))","v":0},{"$f":"IFERROR(VLOOKUP(INDEX($A:$O,ROW(),MATCH('Rapportage per vraag'!$C$12,'Data leveranciersbeoordeling'!$1:$1,0)),Leveranciersbeoordeling!$H$1:$I$5,2,FALSE),0)","v":0},0]
["",null,null,null,null,null,null,null,null,null,null,null,null,null,null,{"$f":"INDEX($A:$O,ROW(),MATCH('Rapportage per vraag'!$C$12,'Data leveranciersbeoordeling'!$1:$1,0))","v":0},{"$f":"IFERROR(VLOOKUP(INDEX($A:$O,ROW(),MATCH('Rapportage per vraag'!$C$12,'Data leveranciersbeoordeling'!$1:$1,0)),Leveranciersbeoordeling!$H$1:$I$5,2,FALSE),0)","v":0},0]
["",null,null,null,null,null,null,null,null,null,null,null,null,null,null,{"$f":"INDEX($A:$O,ROW(),MATCH('Rapportage per vraag'!$C$12,'Data leveranciersbeoordeling'!$1:$1,0))","v":0},{"$f":"IFERROR(VLOOKUP(INDEX($A:$O,ROW(),MATCH('Rapportage per vraag'!$C$12,'Data leveranciersbeoordeling'!$1:$1,0)),Leveranciersbeoordeling!$H$1:$I$5,2,FALSE),0)","v":0},0]
[{"$f":"CONCATENATE(B4675,C4675,D4675)","v":""},null,null,null,null,null,null,null,null,null,null,null,null,null,null,{"$f":"INDEX($A:$O,ROW(),MATCH('Rapportage per vraag'!$C$12,'Data leveranciersbeoordeling'!$1:$1,0))","v":0},{"$f":"IFERROR(VLOOKUP(INDEX($A:$O,ROW(),MATCH('Rapportage per vraag'!$C$12,'Data leveranciersbeoordeling'!$1:$1,0)),Leveranciersbeoordeling!$H$1:$I$5,2,FALSE),0)","v":0},0]
["",null,null,null,null,null,null,null,null,null,null,null,null,null,null,{"$f":"INDEX($A:$O,ROW(),MATCH('Rapportage per vraag'!$C$12,'Data leveranciersbeoordeling'!$1:$1,0))","v":0},{"$f":"IFERROR(VLOOKUP(INDEX($A:$O,ROW(),MATCH('Rapportage per vraag'!$C$12,'Data leveranciersbeoordeling'!$1:$1,0)),Leveranciersbeoordeling!$H$1:$I$5,2,FALSE),0)","v":0},0]
["",null,null,null,null,null,null,null,null,null,null,null,null,null,null,{"$f":"INDEX($A:$O,ROW(),MATCH('Rapportage per vraag'!$C$12,'Data leveranciersbeoordeling'!$1:$1,0))","v":0},{"$f":"IFERROR(VLOOKUP(INDEX($A:$O,ROW(),MATCH('Rapportage per vraag'!$C$12,'Data leveranciersbeoordeling'!$1:$1,0)),Leveranciersbeoordeling!$H$1:$I$5,2,FALSE),0)","v":0},0]
["",null,null,null,null,null,null,null,null,null,null,null,null,null,null,{"$f":"INDEX($A:$O,ROW(),MATCH('Rapportage per vraag'!$C$12,'Data leveranciersbeoordeling'!$1:$1,0))","v":0},{"$f":"IFERROR(VLOOKUP(INDEX($A:$O,ROW(),MATCH('Rapportage per vraag'!$C$12,'Data leveranciersbeoordeling'!$1:$1,0)),Leveranciersbeoordeling!$H$1:$I$5,2,FALSE),0)","v":0},0]
["",null,null,null,null,null,null,null,null,null,null,null,null,null,null,{"$f":"INDEX($A:$O,ROW(),MATCH('Rapportage per vraag'!$C$12,'Data leveranciersbeoordeling'!$1:$1,0))","v":0},{"$f":"IFERROR(VLOOKUP(INDEX($A:$O,ROW(),MATCH('Rapportage per vraag'!$C$12,'Data leveranciersbeoordeling'!$1:$1,0)),Leveranciersbeoordeling!$H$1:$I$5,2,FALSE),0)","v":0},0]
["",null,null,null,null,null,null,null,null,null,null,null,null,null,null,{"$f":"INDEX($A:$O,ROW(),MATCH('Rapportage per vraag'!$C$12,'Data leveranciersbeoordeling'!$1:$1,0))","v":0},{"$f":"IFERROR(VLOOKUP(INDEX($A:$O,ROW(),MATCH('Rapportage per vraag'!$C$12,'Data leveranciersbeoordeling'!$1:$1,0)),Leveranciersbeoordeling!$H$1:$I$5,2,FALSE),0)","v":0},0]
["",null,null,null,null,null,null,null,null,null,null,null,null,null,null,{"$f":"INDEX($A:$O,ROW(),MATCH('Rapportage per vraag'!$C$12,'Data leveranciersbeoordeling'!$1:$1,0))","v":0},{"$f":"IFERROR(VLOOKUP(INDEX($A:$O,ROW(),MATCH('Rapportage per vraag'!$C$12,'Data leveranciersbeoordeling'!$1:$1,0)),Leveranciersbeoordeling!$H$1:$I$5,2,FALSE),0)","v":0},0]
["",null,null,null,null,null,null,null,null,null,null,null,null,null,null,{"$f":"INDEX($A:$O,ROW(),MATCH('Rapportage per vraag'!$C$12,'Data leveranciersbeoordeling'!$1:$1,0))","v":0},{"$f":"IFERROR(VLOOKUP(INDEX($A:$O,ROW(),MATCH('Rapportage per vraag'!$C$12,'Data leveranciersbeoordeling'!$1:$1,0)),Leveranciersbeoordeling!$H$1:$I$5,2,FALSE),0)","v":0},0]
["",null,null,null,null,null,null,null,null,null,null,null,null,null,null,{"$f":"INDEX($A:$O,ROW(),MATCH('Rapportage per vraag'!$C$12,'Data leveranciersbeoordeling'!$1:$1,0))","v":0},{"$f":"IFERROR(VLOOKUP(INDEX($A:$O,ROW(),MATCH('Rapportage per vraag'!$C$12,'Data leveranciersbeoordeling'!$1:$1,0)),Leveranciersbeoordeling!$H$1:$I$5,2,FALSE),0)","v":0},0]
["",null,null,null,null,null,null,null,null,null,null,null,null,null,null,{"$f":"INDEX($A:$O,ROW(),MATCH('Rapportage per vraag'!$C$12,'Data leveranciersbeoordeling'!$1:$1,0))","v":0},{"$f":"IFERROR(VLOOKUP(INDEX($A:$O,ROW(),MATCH('Rapportage per vraag'!$C$12,'Data leveranciersbeoordeling'!$1:$1,0)),Leveranciersbeoordeling!$H$1:$I$5,2,FALSE),0)","v":0},0]
["",null,null,null,null,null,null,null,null,null,null,null,null,null,null,{"$f":"INDEX($A:$O,ROW(),MATCH('Rapportage per vraag'!$C$12,'Data leveranciersbeoordeling'!$1:$1,0))","v":0},{"$f":"IFERROR(VLOOKUP(INDEX($A:$O,ROW(),MATCH('Rapportage per vraag'!$C$12,'Data leveranciersbeoordeling'!$1:$1,0)),Leveranciersbeoordeling!$H$1:$I$5,2,FALSE),0)","v":0},0]
["",null,null,null,null,null,null,null,null,null,null,null,null,null,null,{"$f":"INDEX($A:$O,ROW(),MATCH('Rapportage per vraag'!$C$12,'Data leveranciersbeoordeling'!$1:$1,0))","v":0},{"$f":"IFERROR(VLOOKUP(INDEX($A:$O,ROW(),MATCH('Rapportage per vraag'!$C$12,'Data leveranciersbeoordeling'!$1:$1,0)),Leveranciersbeoordeling!$H$1:$I$5,2,FALSE),0)","v":0},0]
["",null,null,null,null,null,null,null,null,null,null,null,null,null,null,{"$f":"INDEX($A:$O,ROW(),MATCH('Rapportage per vraag'!$C$12,'Data leveranciersbeoordeling'!$1:$1,0))","v":0},{"$f":"IFERROR(VLOOKUP(INDEX($A:$O,ROW(),MATCH('Rapportage per vraag'!$C$12,'Data leveranciersbeoordeling'!$1:$1,0)),Leveranciersbeoordeling!$H$1:$I$5,2,FALSE),0)","v":0},0]
["",null,null,null,null,null,null,null,null,null,null,null,null,null,null,{"$f":"INDEX($A:$O,ROW(),MATCH('Rapportage per vraag'!$C$12,'Data leveranciersbeoordeling'!$1:$1,0))","v":0},{"$f":"IFERROR(VLOOKUP(INDEX($A:$O,ROW(),MATCH('Rapportage per vraag'!$C$12,'Data leveranciersbeoordeling'!$1:$1,0)),Leveranciersbeoordeling!$H$1:$I$5,2,FALSE),0)","v":0},0]
["",null,null,null,null,null,null,null,null,null,null,null,null,null,null,{"$f":"INDEX($A:$O,ROW(),MATCH('Rapportage per vraag'!$C$12,'Data leveranciersbeoordeling'!$1:$1,0))","v":0},{"$f":"IFERROR(VLOOKUP(INDEX($A:$O,ROW(),MATCH('Rapportage per vraag'!$C$12,'Data leveranciersbeoordeling'!$1:$1,0)),Leveranciersbeoordeling!$H$1:$I$5,2,FALSE),0)","v":0},0]
["",null,null,null,null,null,null,null,null,null,null,null,null,null,null,{"$f":"INDEX($A:$O,ROW(),MATCH('Rapportage per vraag'!$C$12,'Data leveranciersbeoordeling'!$1:$1,0))","v":0},{"$f":"IFERROR(VLOOKUP(INDEX($A:$O,ROW(),MATCH('Rapportage per vraag'!$C$12,'Data leveranciersbeoordeling'!$1:$1,0)),Leveranciersbeoordeling!$H$1:$I$5,2,FALSE),0)","v":0},0]
["",null,null,null,null,null,null,null,null,null,null,null,null,null,null,{"$f":"INDEX($A:$O,ROW(),MATCH('Rapportage per vraag'!$C$12,'Data leveranciersbeoordeling'!$1:$1,0))","v":0},{"$f":"IFERROR(VLOOKUP(INDEX($A:$O,ROW(),MATCH('Rapportage per vraag'!$C$12,'Data leveranciersbeoordeling'!$1:$1,0)),Leveranciersbeoordeling!$H$1:$I$5,2,FALSE),0)","v":0},0]
["",null,null,null,null,null,null,null,null,null,null,null,null,null,null,{"$f":"INDEX($A:$O,ROW(),MATCH('Rapportage per vraag'!$C$12,'Data leveranciersbeoordeling'!$1:$1,0))","v":0},{"$f":"IFERROR(VLOOKUP(INDEX($A:$O,ROW(),MATCH('Rapportage per vraag'!$C$12,'Data leveranciersbeoordeling'!$1:$1,0)),Leveranciersbeoordeling!$H$1:$I$5,2,FALSE),0)","v":0},0]
["",null,null,null,null,null,null,null,null,null,null,null,null,null,null,{"$f":"INDEX($A:$O,ROW(),MATCH('Rapportage per vraag'!$C$12,'Data leveranciersbeoordeling'!$1:$1,0))","v":0},{"$f":"IFERROR(VLOOKUP(INDEX($A:$O,ROW(),MATCH('Rapportage per vraag'!$C$12,'Data leveranciersbeoordeling'!$1:$1,0)),Leveranciersbeoordeling!$H$1:$I$5,2,FALSE),0)","v":0},{"$f":"IF(T(P4742)=P4742,Q4742,P4742)","v":0}]
["",null,null,null,null,null,null,null,null,null,null,null,null,null,null,{"$f":"INDEX($A:$O,ROW(),MATCH('Rapportage per vraag'!$C$12,'Data leveranciersbeoordeling'!$1:$1,0))","v":0},{"$f":"IFERROR(VLOOKUP(INDEX($A:$O,ROW(),MATCH('Rapportage per vraag'!$C$12,'Data leveranciersbeoordeling'!$1:$1,0)),Leveranciersbeoordeling!$H$1:$I$5,2,FALSE),0)","v":0},0]
["",null,null,null,null,null,null,null,null,null,null,null,null,null,null,{"$f":"INDEX($A:$O,ROW(),MATCH('Rapportage per vraag'!$C$12,'Data leveranciersbeoordeling'!$1:$1,0))","v":0},{"$f":"IFERROR(VLOOKUP(INDEX($A:$O,ROW(),MATCH('Rapportage per vraag'!$C$12,'Data leveranciersbeoordeling'!$1:$1,0)),Leveranciersbeoordeling!$H$1:$I$5,2,FALSE),0)","v":0},0]
["",null,null,null,null,null,null,null,null,null,null,null,null,null,null,{"$f":"INDEX($A:$O,ROW(),MATCH('Rapportage per vraag'!$C$12,'Data leveranciersbeoordeling'!$1:$1,0))","v":0},{"$f":"IFERROR(VLOOKUP(INDEX($A:$O,ROW(),MATCH('Rapportage per vraag'!$C$12,'Data leveranciersbeoordeling'!$1:$1,0)),Leveranciersbeoordeling!$H$1:$I$5,2,FALSE),0)","v":0},0]
["",null,null,null,null,null,null,null,null,null,null,null,null,null,null,{"$f":"INDEX($A:$O,ROW(),MATCH('Rapportage per vraag'!$C$12,'Data leveranciersbeoordeling'!$1:$1,0))","v":0},{"$f":"IFERROR(VLOOKUP(INDEX($A:$O,ROW(),MATCH('Rapportage per vraag'!$C$12,'Data leveranciersbeoordeling'!$1:$1,0)),Leveranciersbeoordeling!$H$1:$I$5,2,FALSE),0)","v":0},0]
["",null,null,null,null,null,null,null,null,null,null,null,null,null,null,{"$f":"INDEX($A:$O,ROW(),MATCH('Rapportage per vraag'!$C$12,'Data leveranciersbeoordeling'!$1:$1,0))","v":0},{"$f":"IFERROR(VLOOKUP(INDEX($A:$O,ROW(),MATCH('Rapportage per vraag'!$C$12,'Data leveranciersbeoordeling'!$1:$1,0)),Leveranciersbeoordeling!$H$1:$I$5,2,FALSE),0)","v":0},0]
["",null,null,null,null,null,null,null,null,null,null,null,null,null,null,{"$f":"INDEX($A:$O,ROW(),MATCH('Rapportage per vraag'!$C$12,'Data leveranciersbeoordeling'!$1:$1,0))","v":0},{"$f":"IFERROR(VLOOKUP(INDEX($A:$O,ROW(),MATCH('Rapportage per vraag'!$C$12,'Data leveranciersbeoordeling'!$1:$1,0)),Leveranciersbeoordeling!$H$1:$I$5,2,FALSE),0)","v":0},0]
["",null,null,null,null,null,null,null,null,null,null,null,null,null,null,{"$f":"INDEX($A:$O,ROW(),MATCH('Rapportage per vraag'!$C$12,'Data leveranciersbeoordeling'!$1:$1,0))","v":0},{"$f":"IFERROR(VLOOKUP(INDEX($A:$O,ROW(),MATCH('Rapportage per vraag'!$C$12,'Data leveranciersbeoordeling'!$1:$1,0)),Leveranciersbeoordeling!$H$1:$I$5,2,FALSE),0)","v":0},0]
["",null,null,null,null,null,null,null,null,null,null,null,null,null,null,{"$f":"INDEX($A:$O,ROW(),MATCH('Rapportage per vraag'!$C$12,'Data leveranciersbeoordeling'!$1:$1,0))","v":0},{"$f":"IFERROR(VLOOKUP(INDEX($A:$O,ROW(),MATCH('Rapportage per vraag'!$C$12,'Data leveranciersbeoordeling'!$1:$1,0)),Leveranciersbeoordeling!$H$1:$I$5,2,FALSE),0)","v":0},0]
["",null,null,null,null,null,null,null,null,null,null,null,null,null,null,{"$f":"INDEX($A:$O,ROW(),MATCH('Rapportage per vraag'!$C$12,'Data leveranciersbeoordeling'!$1:$1,0))","v":0},{"$f":"IFERROR(VLOOKUP(INDEX($A:$O,ROW(),MATCH('Rapportage per vraag'!$C$12,'Data leveranciersbeoordeling'!$1:$1,0)),Leveranciersbeoordeling!$H$1:$I$5,2,FALSE),0)","v":0},0]
["",null,null,null,null,null,null,null,null,null,null,null,null,null,null,{"$f":"INDEX($A:$O,ROW(),MATCH('Rapportage per vraag'!$C$12,'Data leveranciersbeoordeling'!$1:$1,0))","v":0},{"$f":"IFERROR(VLOOKUP(INDEX($A:$O,ROW(),MATCH('Rapportage per vraag'!$C$12,'Data leveranciersbeoordeling'!$1:$1,0)),Leveranciersbeoordeling!$H$1:$I$5,2,FALSE),0)","v":0},0]
["",null,null,null,null,null,null,null,null,null,null,null,null,null,null,{"$f":"INDEX($A:$O,ROW(),MATCH('Rapportage per vraag'!$C$12,'Data leveranciersbeoordeling'!$1:$1,0))","v":0},{"$f":"IFERROR(VLOOKUP(INDEX($A:$O,ROW(),MATCH('Rapportage per vraag'!$C$12,'Data leveranciersbeoordeling'!$1:$1,0)),Leveranciersbeoordeling!$H$1:$I$5,2,FALSE),0)","v":0},0]
["",null,null,null,null,null,null,null,null,null,null,null,null,null,null,{"$f":"INDEX($A:$O,ROW(),MATCH('Rapportage per vraag'!$C$12,'Data leveranciersbeoordeling'!$1:$1,0))","v":0},{"$f":"IFERROR(VLOOKUP(INDEX($A:$O,ROW(),MATCH('Rapportage per vraag'!$C$12,'Data leveranciersbeoordeling'!$1:$1,0)),Leveranciersbeoordeling!$H$1:$I$5,2,FALSE),0)","v":0},0]
["",null,null,null,null,null,null,null,null,null,null,null,null,null,null,{"$f":"INDEX($A:$O,ROW(),MATCH('Rapportage per vraag'!$C$12,'Data leveranciersbeoordeling'!$1:$1,0))","v":0},{"$f":"IFERROR(VLOOKUP(INDEX($A:$O,ROW(),MATCH('Rapportage per vraag'!$C$12,'Data leveranciersbeoordeling'!$1:$1,0)),Leveranciersbeoordeling!$H$1:$I$5,2,FALSE),0)","v":0},0]
["",null,null,null,null,null,null,null,null,null,null,null,null,null,null,{"$f":"INDEX($A:$O,ROW(),MATCH('Rapportage per vraag'!$C$12,'Data leveranciersbeoordeling'!$1:$1,0))","v":0},{"$f":"IFERROR(VLOOKUP(INDEX($A:$O,ROW(),MATCH('Rapportage per vraag'!$C$12,'Data leveranciersbeoordeling'!$1:$1,0)),Leveranciersbeoordeling!$H$1:$I$5,2,FALSE),0)","v":0},0]
["",null,null,null,null,null,null,null,null,null,null,null,null,null,null,{"$f":"INDEX($A:$O,ROW(),MATCH('Rapportage per vraag'!$C$12,'Data leveranciersbeoordeling'!$1:$1,0))","v":0},{"$f":"IFERROR(VLOOKUP(INDEX($A:$O,ROW(),MATCH('Rapportage per vraag'!$C$12,'Data leveranciersbeoordeling'!$1:$1,0)),Leveranciersbeoordeling!$H$1:$I$5,2,FALSE),0)","v":0},0]
["",null,null,null,null,null,null,null,null,null,null,null,null,null,null,{"$f":"INDEX($A:$O,ROW(),MATCH('Rapportage per vraag'!$C$12,'Data leveranciersbeoordeling'!$1:$1,0))","v":0},{"$f":"IFERROR(VLOOKUP(INDEX($A:$O,ROW(),MATCH('Rapportage per vraag'!$C$12,'Data leveranciersbeoordeling'!$1:$1,0)),Leveranciersbeoordeling!$H$1:$I$5,2,FALSE),0)","v":0},0]
["",null,null,null,null,null,null,null,null,null,null,null,null,null,null,{"$f":"INDEX($A:$O,ROW(),MATCH('Rapportage per vraag'!$C$12,'Data leveranciersbeoordeling'!$1:$1,0))","v":0},{"$f":"IFERROR(VLOOKUP(INDEX($A:$O,ROW(),MATCH('Rapportage per vraag'!$C$12,'Data leveranciersbeoordeling'!$1:$1,0)),Leveranciersbeoordeling!$H$1:$I$5,2,FALSE),0)","v":0},0]
["",null,null,null,null,null,null,null,null,null,null,null,null,null,null,{"$f":"INDEX($A:$O,ROW(),MATCH('Rapportage per vraag'!$C$12,'Data leveranciersbeoordeling'!$1:$1,0))","v":0},{"$f":"IFERROR(VLOOKUP(INDEX($A:$O,ROW(),MATCH('Rapportage per vraag'!$C$12,'Data leveranciersbeoordeling'!$1:$1,0)),Leveranciersbeoordeling!$H$1:$I$5,2,FALSE),0)","v":0},0]
["",null,null,null,null,null,null,null,null,null,null,null,null,null,null,{"$f":"INDEX($A:$O,ROW(),MATCH('Rapportage per vraag'!$C$12,'Data leveranciersbeoordeling'!$1:$1,0))","v":0},{"$f":"IFERROR(VLOOKUP(INDEX($A:$O,ROW(),MATCH('Rapportage per vraag'!$C$12,'Data leveranciersbeoordeling'!$1:$1,0)),Leveranciersbeoordeling!$H$1:$I$5,2,FALSE),0)","v":0},0]
["",null,null,null,null,null,null,null,null,null,null,null,null,null,null,{"$f":"INDEX($A:$O,ROW(),MATCH('Rapportage per vraag'!$C$12,'Data leveranciersbeoordeling'!$1:$1,0))","v":0},{"$f":"IFERROR(VLOOKUP(INDEX($A:$O,ROW(),MATCH('Rapportage per vraag'!$C$12,'Data leveranciersbeoordeling'!$1:$1,0)),Leveranciersbeoordeling!$H$1:$I$5,2,FALSE),0)","v":0},0]
["",null,null,null,null,null,null,null,null,null,null,null,null,null,null,{"$f":"INDEX($A:$O,ROW(),MATCH('Rapportage per vraag'!$C$12,'Data leveranciersbeoordeling'!$1:$1,0))","v":0},{"$f":"IFERROR(VLOOKUP(INDEX($A:$O,ROW(),MATCH('Rapportage per vraag'!$C$12,'Data leveranciersbeoordeling'!$1:$1,0)),Leveranciersbeoordeling!$H$1:$I$5,2,FALSE),0)","v":0},0]
["",null,null,null,null,null,null,null,null,null,null,null,null,null,null,{"$f":"INDEX($A:$O,ROW(),MATCH('Rapportage per vraag'!$C$12,'Data leveranciersbeoordeling'!$1:$1,0))","v":0},{"$f":"IFERROR(VLOOKUP(INDEX($A:$O,ROW(),MATCH('Rapportage per vraag'!$C$12,'Data leveranciersbeoordeling'!$1:$1,0)),Leveranciersbeoordeling!$H$1:$I$5,2,FALSE),0)","v":0},0]
["",null,null,null,null,null,null,null,null,null,null,null,null,null,null,{"$f":"INDEX($A:$O,ROW(),MATCH('Rapportage per vraag'!$C$12,'Data leveranciersbeoordeling'!$1:$1,0))","v":0},{"$f":"IFERROR(VLOOKUP(INDEX($A:$O,ROW(),MATCH('Rapportage per vraag'!$C$12,'Data leveranciersbeoordeling'!$1:$1,0)),Leveranciersbeoordeling!$H$1:$I$5,2,FALSE),0)","v":0},0]
["",null,null,null,null,null,null,null,null,null,null,null,null,null,null,{"$f":"INDEX($A:$O,ROW(),MATCH('Rapportage per vraag'!$C$12,'Data leveranciersbeoordeling'!$1:$1,0))","v":0},{"$f":"IFERROR(VLOOKUP(INDEX($A:$O,ROW(),MATCH('Rapportage per vraag'!$C$12,'Data leveranciersbeoordeling'!$1:$1,0)),Leveranciersbeoordeling!$H$1:$I$5,2,FALSE),0)","v":0},0]
["",null,null,null,null,null,null,null,null,null,null,null,null,null,null,{"$f":"INDEX($A:$O,ROW(),MATCH('Rapportage per vraag'!$C$12,'Data leveranciersbeoordeling'!$1:$1,0))","v":0},{"$f":"IFERROR(VLOOKUP(INDEX($A:$O,ROW(),MATCH('Rapportage per vraag'!$C$12,'Data leveranciersbeoordeling'!$1:$1,0)),Leveranciersbeoordeling!$H$1:$I$5,2,FALSE),0)","v":0},0]
["",null,null,null,null,null,null,null,null,null,null,null,null,null,null,{"$f":"INDEX($A:$O,ROW(),MATCH('Rapportage per vraag'!$C$12,'Data leveranciersbeoordeling'!$1:$1,0))","v":0},{"$f":"IFERROR(VLOOKUP(INDEX($A:$O,ROW(),MATCH('Rapportage per vraag'!$C$12,'Data leveranciersbeoordeling'!$1:$1,0)),Leveranciersbeoordeling!$H$1:$I$5,2,FALSE),0)","v":0},0]
["",null,null,null,null,null,null,null,null,null,null,null,null,null,null,{"$f":"INDEX($A:$O,ROW(),MATCH('Rapportage per vraag'!$C$12,'Data leveranciersbeoordeling'!$1:$1,0))","v":0},{"$f":"IFERROR(VLOOKUP(INDEX($A:$O,ROW(),MATCH('Rapportage per vraag'!$C$12,'Data leveranciersbeoordeling'!$1:$1,0)),Leveranciersbeoordeling!$H$1:$I$5,2,FALSE),0)","v":0},0]
["",null,null,null,null,null,null,null,null,null,null,null,null,null,null,{"$f":"INDEX($A:$O,ROW(),MATCH('Rapportage per vraag'!$C$12,'Data leveranciersbeoordeling'!$1:$1,0))","v":0},{"$f":"IFERROR(VLOOKUP(INDEX($A:$O,ROW(),MATCH('Rapportage per vraag'!$C$12,'Data leveranciersbeoordeling'!$1:$1,0)),Leveranciersbeoordeling!$H$1:$I$5,2,FALSE),0)","v":0},0]
["",null,null,null,null,null,null,null,null,null,null,null,null,null,null,{"$f":"INDEX($A:$O,ROW(),MATCH('Rapportage per vraag'!$C$12,'Data leveranciersbeoordeling'!$1:$1,0))","v":0},{"$f":"IFERROR(VLOOKUP(INDEX($A:$O,ROW(),MATCH('Rapportage per vraag'!$C$12,'Data leveranciersbeoordeling'!$1:$1,0)),Leveranciersbeoordeling!$H$1:$I$5,2,FALSE),0)","v":0},0]
["",null,null,null,null,null,null,null,null,null,null,null,null,null,null,{"$f":"INDEX($A:$O,ROW(),MATCH('Rapportage per vraag'!$C$12,'Data leveranciersbeoordeling'!$1:$1,0))","v":0},{"$f":"IFERROR(VLOOKUP(INDEX($A:$O,ROW(),MATCH('Rapportage per vraag'!$C$12,'Data leveranciersbeoordeling'!$1:$1,0)),Leveranciersbeoordeling!$H$1:$I$5,2,FALSE),0)","v":0},0]
["",null,null,null,null,null,null,null,null,null,null,null,null,null,null,{"$f":"INDEX($A:$O,ROW(),MATCH('Rapportage per vraag'!$C$12,'Data leveranciersbeoordeling'!$1:$1,0))","v":0},{"$f":"IFERROR(VLOOKUP(INDEX($A:$O,ROW(),MATCH('Rapportage per vraag'!$C$12,'Data leveranciersbeoordeling'!$1:$1,0)),Leveranciersbeoordeling!$H$1:$I$5,2,FALSE),0)","v":0},0]
["",null,null,null,null,null,null,null,null,null,null,null,null,null,null,{"$f":"INDEX($A:$O,ROW(),MATCH('Rapportage per vraag'!$C$12,'Data leveranciersbeoordeling'!$1:$1,0))","v":0},{"$f":"IFERROR(VLOOKUP(INDEX($A:$O,ROW(),MATCH('Rapportage per vraag'!$C$12,'Data leveranciersbeoordeling'!$1:$1,0)),Leveranciersbeoordeling!$H$1:$I$5,2,FALSE),0)","v":0},0]
[{"$f":"CONCATENATE(B4867,C4867,D4867)","v":""},null,null,null,null,null,null,null,null,null,null,null,null,null,null,{"$f":"INDEX($A:$O,ROW(),MATCH('Rapportage per vraag'!$C$12,'Data leveranciersbeoordeling'!$1:$1,0))","v":0},{"$f":"IFERROR(VLOOKUP(INDEX($A:$O,ROW(),MATCH('Rapportage per vraag'!$C$12,'Data leveranciersbeoordeling'!$1:$1,0)),Leveranciersbeoordeling!$H$1:$I$5,2,FALSE),0)","v":0},0]
["",null,null,null,null,null,null,null,null,null,null,null,null,null,null,{"$f":"INDEX($A:$O,ROW(),MATCH('Rapportage per vraag'!$C$12,'Data leveranciersbeoordeling'!$1:$1,0))","v":0},{"$f":"IFERROR(VLOOKUP(INDEX($A:$O,ROW(),MATCH('Rapportage per vraag'!$C$12,'Data leveranciersbeoordeling'!$1:$1,0)),Leveranciersbeoordeling!$H$1:$I$5,2,FALSE),0)","v":0},0]
["",null,null,null,null,null,null,null,null,null,null,null,null,null,null,{"$f":"INDEX($A:$O,ROW(),MATCH('Rapportage per vraag'!$C$12,'Data leveranciersbeoordeling'!$1:$1,0))","v":0},{"$f":"IFERROR(VLOOKUP(INDEX($A:$O,ROW(),MATCH('Rapportage per vraag'!$C$12,'Data leveranciersbeoordeling'!$1:$1,0)),Leveranciersbeoordeling!$H$1:$I$5,2,FALSE),0)","v":0},0]
["",null,null,null,null,null,null,null,null,null,null,null,null,null,null,{"$f":"INDEX($A:$O,ROW(),MATCH('Rapportage per vraag'!$C$12,'Data leveranciersbeoordeling'!$1:$1,0))","v":0},{"$f":"IFERROR(VLOOKUP(INDEX($A:$O,ROW(),MATCH('Rapportage per vraag'!$C$12,'Data leveranciersbeoordeling'!$1:$1,0)),Leveranciersbeoordeling!$H$1:$I$5,2,FALSE),0)","v":0},0]
["",null,null,null,null,null,null,null,null,null,null,null,null,null,null,{"$f":"INDEX($A:$O,ROW(),MATCH('Rapportage per vraag'!$C$12,'Data leveranciersbeoordeling'!$1:$1,0))","v":0},{"$f":"IFERROR(VLOOKUP(INDEX($A:$O,ROW(),MATCH('Rapportage per vraag'!$C$12,'Data leveranciersbeoordeling'!$1:$1,0)),Leveranciersbeoordeling!$H$1:$I$5,2,FALSE),0)","v":0},0]
["",null,null,null,null,null,null,null,null,null,null,null,null,null,null,{"$f":"INDEX($A:$O,ROW(),MATCH('Rapportage per vraag'!$C$12,'Data leveranciersbeoordeling'!$1:$1,0))","v":0},{"$f":"IFERROR(VLOOKUP(INDEX($A:$O,ROW(),MATCH('Rapportage per vraag'!$C$12,'Data leveranciersbeoordeling'!$1:$1,0)),Leveranciersbeoordeling!$H$1:$I$5,2,FALSE),0)","v":0},0]
["",null,null,null,null,null,null,null,null,null,null,null,null,null,null,{"$f":"INDEX($A:$O,ROW(),MATCH('Rapportage per vraag'!$C$12,'Data leveranciersbeoordeling'!$1:$1,0))","v":0},{"$f":"IFERROR(VLOOKUP(INDEX($A:$O,ROW(),MATCH('Rapportage per vraag'!$C$12,'Data leveranciersbeoordeling'!$1:$1,0)),Leveranciersbeoordeling!$H$1:$I$5,2,FALSE),0)","v":0},0]
["",null,null,null,null,null,null,null,null,null,null,null,null,null,null,{"$f":"INDEX($A:$O,ROW(),MATCH('Rapportage per vraag'!$C$12,'Data leveranciersbeoordeling'!$1:$1,0))","v":0},{"$f":"IFERROR(VLOOKUP(INDEX($A:$O,ROW(),MATCH('Rapportage per vraag'!$C$12,'Data leveranciersbeoordeling'!$1:$1,0)),Leveranciersbeoordeling!$H$1:$I$5,2,FALSE),0)","v":0},0]
["",null,null,null,null,null,null,null,null,null,null,null,null,null,null,{"$f":"INDEX($A:$O,ROW(),MATCH('Rapportage per vraag'!$C$12,'Data leveranciersbeoordeling'!$1:$1,0))","v":0},{"$f":"IFERROR(VLOOKUP(INDEX($A:$O,ROW(),MATCH('Rapportage per vraag'!$C$12,'Data leveranciersbeoordeling'!$1:$1,0)),Leveranciersbeoordeling!$H$1:$I$5,2,FALSE),0)","v":0},0]
["",null,null,null,null,null,null,null,null,null,null,null,null,null,null,{"$f":"INDEX($A:$O,ROW(),MATCH('Rapportage per vraag'!$C$12,'Data leveranciersbeoordeling'!$1:$1,0))","v":0},{"$f":"IFERROR(VLOOKUP(INDEX($A:$O,ROW(),MATCH('Rapportage per vraag'!$C$12,'Data leveranciersbeoordeling'!$1:$1,0)),Leveranciersbeoordeling!$H$1:$I$5,2,FALSE),0)","v":0},0]
["",null,null,null,null,null,null,null,null,null,null,null,null,null,null,{"$f":"INDEX($A:$O,ROW(),MATCH('Rapportage per vraag'!$C$12,'Data leveranciersbeoordeling'!$1:$1,0))","v":0},{"$f":"IFERROR(VLOOKUP(INDEX($A:$O,ROW(),MATCH('Rapportage per vraag'!$C$12,'Data leveranciersbeoordeling'!$1:$1,0)),Leveranciersbeoordeling!$H$1:$I$5,2,FALSE),0)","v":0},0]
["",null,null,null,null,null,null,null,null,null,null,null,null,null,null,{"$f":"INDEX($A:$O,ROW(),MATCH('Rapportage per vraag'!$C$12,'Data leveranciersbeoordeling'!$1:$1,0))","v":0},{"$f":"IFERROR(VLOOKUP(INDEX($A:$O,ROW(),MATCH('Rapportage per vraag'!$C$12,'Data leveranciersbeoordeling'!$1:$1,0)),Leveranciersbeoordeling!$H$1:$I$5,2,FALSE),0)","v":0},0]
["",null,null,null,null,null,null,null,null,null,null,null,null,null,null,{"$f":"INDEX($A:$O,ROW(),MATCH('Rapportage per vraag'!$C$12,'Data leveranciersbeoordeling'!$1:$1,0))","v":0},{"$f":"IFERROR(VLOOKUP(INDEX($A:$O,ROW(),MATCH('Rapportage per vraag'!$C$12,'Data leveranciersbeoordeling'!$1:$1,0)),Leveranciersbeoordeling!$H$1:$I$5,2,FALSE),0)","v":0},0]
["",null,null,null,null,null,null,null,null,null,null,null,null,null,null,{"$f":"INDEX($A:$O,ROW(),MATCH('Rapportage per vraag'!$C$12,'Data leveranciersbeoordeling'!$1:$1,0))","v":0},{"$f":"IFERROR(VLOOKUP(INDEX($A:$O,ROW(),MATCH('Rapportage per vraag'!$C$12,'Data leveranciersbeoordeling'!$1:$1,0)),Leveranciersbeoordeling!$H$1:$I$5,2,FALSE),0)","v":0},0]
["",null,null,null,null,null,null,null,null,null,null,null,null,null,null,{"$f":"INDEX($A:$O,ROW(),MATCH('Rapportage per vraag'!$C$12,'Data leveranciersbeoordeling'!$1:$1,0))","v":0},{"$f":"IFERROR(VLOOKUP(INDEX($A:$O,ROW(),MATCH('Rapportage per vraag'!$C$12,'Data leveranciersbeoordeling'!$1:$1,0)),Leveranciersbeoordeling!$H$1:$I$5,2,FALSE),0)","v":0},0]
["",null,null,null,null,null,null,null,null,null,null,null,null,null,null,{"$f":"INDEX($A:$O,ROW(),MATCH('Rapportage per vraag'!$C$12,'Data leveranciersbeoordeling'!$1:$1,0))","v":0},{"$f":"IFERROR(VLOOKUP(INDEX($A:$O,ROW(),MATCH('Rapportage per vraag'!$C$12,'Data leveranciersbeoordeling'!$1:$1,0)),Leveranciersbeoordeling!$H$1:$I$5,2,FALSE),0)","v":0},0]
["",null,null,null,null,null,null,null,null,null,null,null,null,null,null,{"$f":"INDEX($A:$O,ROW(),MATCH('Rapportage per vraag'!$C$12,'Data leveranciersbeoordeling'!$1:$1,0))","v":0},{"$f":"IFERROR(VLOOKUP(INDEX($A:$O,ROW(),MATCH('Rapportage per vraag'!$C$12,'Data leveranciersbeoordeling'!$1:$1,0)),Leveranciersbeoordeling!$H$1:$I$5,2,FALSE),0)","v":0},0]
["",null,null,null,null,null,null,null,null,null,null,null,null,null,null,{"$f":"INDEX($A:$O,ROW(),MATCH('Rapportage per vraag'!$C$12,'Data leveranciersbeoordeling'!$1:$1,0))","v":0},{"$f":"IFERROR(VLOOKUP(INDEX($A:$O,ROW(),MATCH('Rapportage per vraag'!$C$12,'Data leveranciersbeoordeling'!$1:$1,0)),Leveranciersbeoordeling!$H$1:$I$5,2,FALSE),0)","v":0},0]
["",null,null,null,null,null,null,null,null,null,null,null,null,null,null,{"$f":"INDEX($A:$O,ROW(),MATCH('Rapportage per vraag'!$C$12,'Data leveranciersbeoordeling'!$1:$1,0))","v":0},{"$f":"IFERROR(VLOOKUP(INDEX($A:$O,ROW(),MATCH('Rapportage per vraag'!$C$12,'Data leveranciersbeoordeling'!$1:$1,0)),Leveranciersbeoordeling!$H$1:$I$5,2,FALSE),0)","v":0},0]
["",null,null,null,null,null,null,null,null,null,null,null,null,null,null,{"$f":"INDEX($A:$O,ROW(),MATCH('Rapportage per vraag'!$C$12,'Data leveranciersbeoordeling'!$1:$1,0))","v":0},{"$f":"IFERROR(VLOOKUP(INDEX($A:$O,ROW(),MATCH('Rapportage per vraag'!$C$12,'Data leveranciersbeoordeling'!$1:$1,0)),Leveranciersbeoordeling!$H$1:$I$5,2,FALSE),0)","v":0},0]
["",null,null,null,null,null,null,null,null,null,null,null,null,null,null,{"$f":"INDEX($A:$O,ROW(),MATCH('Rapportage per vraag'!$C$12,'Data leveranciersbeoordeling'!$1:$1,0))","v":0},{"$f":"IFERROR(VLOOKUP(INDEX($A:$O,ROW(),MATCH('Rapportage per vraag'!$C$12,'Data leveranciersbeoordeling'!$1:$1,0)),Leveranciersbeoordeling!$H$1:$I$5,2,FALSE),0)","v":0},0]
["",null,null,null,null,null,null,null,null,null,null,null,null,null,null,{"$f":"INDEX($A:$O,ROW(),MATCH('Rapportage per vraag'!$C$12,'Data leveranciersbeoordeling'!$1:$1,0))","v":0},{"$f":"IFERROR(VLOOKUP(INDEX($A:$O,ROW(),MATCH('Rapportage per vraag'!$C$12,'Data leveranciersbeoordeling'!$1:$1,0)),Leveranciersbeoordeling!$H$1:$I$5,2,FALSE),0)","v":0},0]
["",null,null,null,null,null,null,null,null,null,null,null,null,null,null,{"$f":"INDEX($A:$O,ROW(),MATCH('Rapportage per vraag'!$C$12,'Data leveranciersbeoordeling'!$1:$1,0))","v":0},{"$f":"IFERROR(VLOOKUP(INDEX($A:$O,ROW(),MATCH('Rapportage per vraag'!$C$12,'Data leveranciersbeoordeling'!$1:$1,0)),Leveranciersbeoordeling!$H$1:$I$5,2,FALSE),0)","v":0},0]
["",null,null,null,null,null,null,null,null,null,null,null,null,null,null,{"$f":"INDEX($A:$O,ROW(),MATCH('Rapportage per vraag'!$C$12,'Data leveranciersbeoordeling'!$1:$1,0))","v":0},{"$f":"IFERROR(VLOOKUP(INDEX($A:$O,ROW(),MATCH('Rapportage per vraag'!$C$12,'Data leveranciersbeoordeling'!$1:$1,0)),Leveranciersbeoordeling!$H$1:$I$5,2,FALSE),0)","v":0},0]
["",null,null,null,null,null,null,null,null,null,null,null,null,null,null,{"$f":"INDEX($A:$O,ROW(),MATCH('Rapportage per vraag'!$C$12,'Data leveranciersbeoordeling'!$1:$1,0))","v":0},{"$f":"IFERROR(VLOOKUP(INDEX($A:$O,ROW(),MATCH('Rapportage per vraag'!$C$12,'Data leveranciersbeoordeling'!$1:$1,0)),Leveranciersbeoordeling!$H$1:$I$5,2,FALSE),0)","v":0},0]
["",null,null,null,null,null,null,null,null,null,null,null,null,null,null,{"$f":"INDEX($A:$O,ROW(),MATCH('Rapportage per vraag'!$C$12,'Data leveranciersbeoordeling'!$1:$1,0))","v":0},{"$f":"IFERROR(VLOOKUP(INDEX($A:$O,ROW(),MATCH('Rapportage per vraag'!$C$12,'Data leveranciersbeoordeling'!$1:$1,0)),Leveranciersbeoordeling!$H$1:$I$5,2,FALSE),0)","v":0},0]
["",null,null,null,null,null,null,null,null,null,null,null,null,null,null,{"$f":"INDEX($A:$O,ROW(),MATCH('Rapportage per vraag'!$C$12,'Data leveranciersbeoordeling'!$1:$1,0))","v":0},{"$f":"IFERROR(VLOOKUP(INDEX($A:$O,ROW(),MATCH('Rapportage per vraag'!$C$12,'Data leveranciersbeoordeling'!$1:$1,0)),Leveranciersbeoordeling!$H$1:$I$5,2,FALSE),0)","v":0},0]
["",null,null,null,null,null,null,null,null,null,null,null,null,null,null,{"$f":"INDEX($A:$O,ROW(),MATCH('Rapportage per vraag'!$C$12,'Data leveranciersbeoordeling'!$1:$1,0))","v":0},{"$f":"IFERROR(VLOOKUP(INDEX($A:$O,ROW(),MATCH('Rapportage per vraag'!$C$12,'Data leveranciersbeoordeling'!$1:$1,0)),Leveranciersbeoordeling!$H$1:$I$5,2,FALSE),0)","v":0},0]
["",null,null,null,null,null,null,null,null,null,null,null,null,null,null,{"$f":"INDEX($A:$O,ROW(),MATCH('Rapportage per vraag'!$C$12,'Data leveranciersbeoordeling'!$1:$1,0))","v":0},{"$f":"IFERROR(VLOOKUP(INDEX($A:$O,ROW(),MATCH('Rapportage per vraag'!$C$12,'Data leveranciersbeoordeling'!$1:$1,0)),Leveranciersbeoordeling!$H$1:$I$5,2,FALSE),0)","v":0},0]
["",null,null,null,null,null,null,null,null,null,null,null,null,null,null,{"$f":"INDEX($A:$O,ROW(),MATCH('Rapportage per vraag'!$C$12,'Data leveranciersbeoordeling'!$1:$1,0))","v":0},{"$f":"IFERROR(VLOOKUP(INDEX($A:$O,ROW(),MATCH('Rapportage per vraag'!$C$12,'Data leveranciersbeoordeling'!$1:$1,0)),Leveranciersbeoordeling!$H$1:$I$5,2,FALSE),0)","v":0},0]
["",null,null,null,null,null,null,null,null,null,null,null,null,null,null,{"$f":"INDEX($A:$O,ROW(),MATCH('Rapportage per vraag'!$C$12,'Data leveranciersbeoordeling'!$1:$1,0))","v":0},{"$f":"IFERROR(VLOOKUP(INDEX($A:$O,ROW(),MATCH('Rapportage per vraag'!$C$12,'Data leveranciersbeoordeling'!$1:$1,0)),Leveranciersbeoordeling!$H$1:$I$5,2,FALSE),0)","v":0},0]
["",null,null,null,null,null,null,null,null,null,null,null,null,null,null,{"$f":"INDEX($A:$O,ROW(),MATCH('Rapportage per vraag'!$C$12,'Data leveranciersbeoordeling'!$1:$1,0))","v":0},{"$f":"IFERROR(VLOOKUP(INDEX($A:$O,ROW(),MATCH('Rapportage per vraag'!$C$12,'Data leveranciersbeoordeling'!$1:$1,0)),Leveranciersbeoordeling!$H$1:$I$5,2,FALSE),0)","v":0},0]
["",null,null,null,null,null,null,null,null,null,null,null,null,null,null,{"$f":"INDEX($A:$O,ROW(),MATCH('Rapportage per vraag'!$C$12,'Data leveranciersbeoordeling'!$1:$1,0))","v":0},{"$f":"IFERROR(VLOOKUP(INDEX($A:$O,ROW(),MATCH('Rapportage per vraag'!$C$12,'Data leveranciersbeoordeling'!$1:$1,0)),Leveranciersbeoordeling!$H$1:$I$5,2,FALSE),0)","v":0},0]
["",null,null,null,null,null,null,null,null,null,null,null,null,null,null,{"$f":"INDEX($A:$O,ROW(),MATCH('Rapportage per vraag'!$C$12,'Data leveranciersbeoordeling'!$1:$1,0))","v":0},{"$f":"IFERROR(VLOOKUP(INDEX($A:$O,ROW(),MATCH('Rapportage per vraag'!$C$12,'Data leveranciersbeoordeling'!$1:$1,0)),Leveranciersbeoordeling!$H$1:$I$5,2,FALSE),0)","v":0},0]
["",null,null,null,null,null,null,null,null,null,null,null,null,null,null,{"$f":"INDEX($A:$O,ROW(),MATCH('Rapportage per vraag'!$C$12,'Data leveranciersbeoordeling'!$1:$1,0))","v":0},{"$f":"IFERROR(VLOOKUP(INDEX($A:$O,ROW(),MATCH('Rapportage per vraag'!$C$12,'Data leveranciersbeoordeling'!$1:$1,0)),Leveranciersbeoordeling!$H$1:$I$5,2,FALSE),0)","v":0},0]
["",null,null,null,null,null,null,null,null,null,null,null,null,null,null,{"$f":"INDEX($A:$O,ROW(),MATCH('Rapportage per vraag'!$C$12,'Data leveranciersbeoordeling'!$1:$1,0))","v":0},{"$f":"IFERROR(VLOOKUP(INDEX($A:$O,ROW(),MATCH('Rapportage per vraag'!$C$12,'Data leveranciersbeoordeling'!$1:$1,0)),Leveranciersbeoordeling!$H$1:$I$5,2,FALSE),0)","v":0},0]
["",null,null,null,null,null,null,null,null,null,null,null,null,null,null,{"$f":"INDEX($A:$O,ROW(),MATCH('Rapportage per vraag'!$C$12,'Data leveranciersbeoordeling'!$1:$1,0))","v":0},{"$f":"IFERROR(VLOOKUP(INDEX($A:$O,ROW(),MATCH('Rapportage per vraag'!$C$12,'Data leveranciersbeoordeling'!$1:$1,0)),Leveranciersbeoordeling!$H$1:$I$5,2,FALSE),0)","v":0},0]
["",null,null,null,null,null,null,null,null,null,null,null,null,null,null,{"$f":"INDEX($A:$O,ROW(),MATCH('Rapportage per vraag'!$C$12,'Data leveranciersbeoordeling'!$1:$1,0))","v":0},{"$f":"IFERROR(VLOOKUP(INDEX($A:$O,ROW(),MATCH('Rapportage per vraag'!$C$12,'Data leveranciersbeoordeling'!$1:$1,0)),Leveranciersbeoordeling!$H$1:$I$5,2,FALSE),0)","v":0},0]
["",null,null,null,null,null,null,null,null,null,null,null,null,null,null,{"$f":"INDEX($A:$O,ROW(),MATCH('Rapportage per vraag'!$C$12,'Data leveranciersbeoordeling'!$1:$1,0))","v":0},{"$f":"IFERROR(VLOOKUP(INDEX($A:$O,ROW(),MATCH('Rapportage per vraag'!$C$12,'Data leveranciersbeoordeling'!$1:$1,0)),Leveranciersbeoordeling!$H$1:$I$5,2,FALSE),0)","v":0},0]
["",null,null,null,null,null,null,null,null,null,null,null,null,null,null,{"$f":"INDEX($A:$O,ROW(),MATCH('Rapportage per vraag'!$C$12,'Data leveranciersbeoordeling'!$1:$1,0))","v":0},{"$f":"IFERROR(VLOOKUP(INDEX($A:$O,ROW(),MATCH('Rapportage per vraag'!$C$12,'Data leveranciersbeoordeling'!$1:$1,0)),Leveranciersbeoordeling!$H$1:$I$5,2,FALSE),0)","v":0},0]
["",null,null,null,null,null,null,null,null,null,null,null,null,null,null,{"$f":"INDEX($A:$O,ROW(),MATCH('Rapportage per vraag'!$C$12,'Data leveranciersbeoordeling'!$1:$1,0))","v":0},{"$f":"IFERROR(VLOOKUP(INDEX($A:$O,ROW(),MATCH('Rapportage per vraag'!$C$12,'Data leveranciersbeoordeling'!$1:$1,0)),Leveranciersbeoordeling!$H$1:$I$5,2,FALSE),0)","v":0},0]
["",null,null,null,null,null,null,null,null,null,null,null,null,null,null,{"$f":"INDEX($A:$O,ROW(),MATCH('Rapportage per vraag'!$C$12,'Data leveranciersbeoordeling'!$1:$1,0))","v":0},{"$f":"IFERROR(VLOOKUP(INDEX($A:$O,ROW(),MATCH('Rapportage per vraag'!$C$12,'Data leveranciersbeoordeling'!$1:$1,0)),Leveranciersbeoordeling!$H$1:$I$5,2,FALSE),0)","v":0},0]
["",null,null,null,null,null,null,null,null,null,null,null,null,null,null,{"$f":"INDEX($A:$O,ROW(),MATCH('Rapportage per vraag'!$C$12,'Data leveranciersbeoordeling'!$1:$1,0))","v":0},{"$f":"IFERROR(VLOOKUP(INDEX($A:$O,ROW(),MATCH('Rapportage per vraag'!$C$12,'Data leveranciersbeoordeling'!$1:$1,0)),Leveranciersbeoordeling!$H$1:$I$5,2,FALSE),0)","v":0},0]
["",null,null,null,null,null,null,null,null,null,null,null,null,null,null,{"$f":"INDEX($A:$O,ROW(),MATCH('Rapportage per vraag'!$C$12,'Data leveranciersbeoordeling'!$1:$1,0))","v":0},{"$f":"IFERROR(VLOOKUP(INDEX($A:$O,ROW(),MATCH('Rapportage per vraag'!$C$12,'Data leveranciersbeoordeling'!$1:$1,0)),Leveranciersbeoordeling!$H$1:$I$5,2,FALSE),0)","v":0},0]
["",null,null,null,null,null,null,null,null,null,null,null,null,null,null,{"$f":"INDEX($A:$O,ROW(),MATCH('Rapportage per vraag'!$C$12,'Data leveranciersbeoordeling'!$1:$1,0))","v":0},{"$f":"IFERROR(VLOOKUP(INDEX($A:$O,ROW(),MATCH('Rapportage per vraag'!$C$12,'Data leveranciersbeoordeling'!$1:$1,0)),Leveranciersbeoordeling!$H$1:$I$5,2,FALSE),0)","v":0},0]
["",null,null,null,null,null,null,null,null,null,null,null,null,null,null,{"$f":"INDEX($A:$O,ROW(),MATCH('Rapportage per vraag'!$C$12,'Data leveranciersbeoordeling'!$1:$1,0))","v":0},{"$f":"IFERROR(VLOOKUP(INDEX($A:$O,ROW(),MATCH('Rapportage per vraag'!$C$12,'Data leveranciersbeoordeling'!$1:$1,0)),Leveranciersbeoordeling!$H$1:$I$5,2,FALSE),0)","v":0},0]
["",null,null,null,null,null,null,null,null,null,null,null,null,null,null,{"$f":"INDEX($A:$O,ROW(),MATCH('Rapportage per vraag'!$C$12,'Data leveranciersbeoordeling'!$1:$1,0))","v":0},{"$f":"IFERROR(VLOOKUP(INDEX($A:$O,ROW(),MATCH('Rapportage per vraag'!$C$12,'Data leveranciersbeoordeling'!$1:$1,0)),Leveranciersbeoordeling!$H$1:$I$5,2,FALSE),0)","v":0},0]
["",null,null,null,null,null,null,null,null,null,null,null,null,null,null,{"$f":"INDEX($A:$O,ROW(),MATCH('Rapportage per vraag'!$C$12,'Data leveranciersbeoordeling'!$1:$1,0))","v":0},{"$f":"IFERROR(VLOOKUP(INDEX($A:$O,ROW(),MATCH('Rapportage per vraag'!$C$12,'Data leveranciersbeoordeling'!$1:$1,0)),Leveranciersbeoordeling!$H$1:$I$5,2,FALSE),0)","v":0},0]
["",null,null,null,null,null,null,null,null,null,null,null,null,null,null,{"$f":"INDEX($A:$O,ROW(),MATCH('Rapportage per vraag'!$C$12,'Data leveranciersbeoordeling'!$1:$1,0))","v":0},{"$f":"IFERROR(VLOOKUP(INDEX($A:$O,ROW(),MATCH('Rapportage per vraag'!$C$12,'Data leveranciersbeoordeling'!$1:$1,0)),Leveranciersbeoordeling!$H$1:$I$5,2,FALSE),0)","v":0},0]
["",null,null,null,null,null,null,null,null,null,null,null,null,null,null,{"$f":"INDEX($A:$O,ROW(),MATCH('Rapportage per vraag'!$C$12,'Data leveranciersbeoordeling'!$1:$1,0))","v":0},{"$f":"IFERROR(VLOOKUP(INDEX($A:$O,ROW(),MATCH('Rapportage per vraag'!$C$12,'Data leveranciersbeoordeling'!$1:$1,0)),Leveranciersbeoordeling!$H$1:$I$5,2,FALSE),0)","v":0},0]
["",null,null,null,null,null,null,null,null,null,null,null,null,null,null,{"$f":"INDEX($A:$O,ROW(),MATCH('Rapportage per vraag'!$C$12,'Data leveranciersbeoordeling'!$1:$1,0))","v":0},{"$f":"IFERROR(VLOOKUP(INDEX($A:$O,ROW(),MATCH('Rapportage per vraag'!$C$12,'Data leveranciersbeoordeling'!$1:$1,0)),Leveranciersbeoordeling!$H$1:$I$5,2,FALSE),0)","v":0},0]
["",null,null,null,null,null,null,null,null,null,null,null,null,null,null,{"$f":"INDEX($A:$O,ROW(),MATCH('Rapportage per vraag'!$C$12,'Data leveranciersbeoordeling'!$1:$1,0))","v":0},{"$f":"IFERROR(VLOOKUP(INDEX($A:$O,ROW(),MATCH('Rapportage per vraag'!$C$12,'Data leveranciersbeoordeling'!$1:$1,0)),Leveranciersbeoordeling!$H$1:$I$5,2,FALSE),0)","v":0},0]
["",null,null,null,null,null,null,null,null,null,null,null,null,null,null,{"$f":"INDEX($A:$O,ROW(),MATCH('Rapportage per vraag'!$C$12,'Data leveranciersbeoordeling'!$1:$1,0))","v":0},{"$f":"IFERROR(VLOOKUP(INDEX($A:$O,ROW(),MATCH('Rapportage per vraag'!$C$12,'Data leveranciersbeoordeling'!$1:$1,0)),Leveranciersbeoordeling!$H$1:$I$5,2,FALSE),0)","v":0},{"$f":"IF(T(P5062)=P5062,Q5062,P5062)","v":0}]
["",null,null,null,null,null,null,null,null,null,null,null,null,null,null,{"$f":"INDEX($A:$O,ROW(),MATCH('Rapportage per vraag'!$C$12,'Data leveranciersbeoordeling'!$1:$1,0))","v":0},{"$f":"IFERROR(VLOOKUP(INDEX($A:$O,ROW(),MATCH('Rapportage per vraag'!$C$12,'Data leveranciersbeoordeling'!$1:$1,0)),Leveranciersbeoordeling!$H$1:$I$5,2,FALSE),0)","v":0},0]
["",null,null,null,null,null,null,null,null,null,null,null,null,null,null,{"$f":"INDEX($A:$O,ROW(),MATCH('Rapportage per vraag'!$C$12,'Data leveranciersbeoordeling'!$1:$1,0))","v":0},{"$f":"IFERROR(VLOOKUP(INDEX($A:$O,ROW(),MATCH('Rapportage per vraag'!$C$12,'Data leveranciersbeoordeling'!$1:$1,0)),Leveranciersbeoordeling!$H$1:$I$5,2,FALSE),0)","v":0},0]
["",null,null,null,null,null,null,null,null,null,null,null,null,null,null,{"$f":"INDEX($A:$O,ROW(),MATCH('Rapportage per vraag'!$C$12,'Data leveranciersbeoordeling'!$1:$1,0))","v":0},{"$f":"IFERROR(VLOOKUP(INDEX($A:$O,ROW(),MATCH('Rapportage per vraag'!$C$12,'Data leveranciersbeoordeling'!$1:$1,0)),Leveranciersbeoordeling!$H$1:$I$5,2,FALSE),0)","v":0},0]
["",null,null,null,null,null,null,null,null,null,null,null,null,null,null,{"$f":"INDEX($A:$O,ROW(),MATCH('Rapportage per vraag'!$C$12,'Data leveranciersbeoordeling'!$1:$1,0))","v":0},{"$f":"IFERROR(VLOOKUP(INDEX($A:$O,ROW(),MATCH('Rapportage per vraag'!$C$12,'Data leveranciersbeoordeling'!$1:$1,0)),Leveranciersbeoordeling!$H$1:$I$5,2,FALSE),0)","v":0},0]
["",null,null,null,null,null,null,null,null,null,null,null,null,null,null,{"$f":"INDEX($A:$O,ROW(),MATCH('Rapportage per vraag'!$C$12,'Data leveranciersbeoordeling'!$1:$1,0))","v":0},{"$f":"IFERROR(VLOOKUP(INDEX($A:$O,ROW(),MATCH('Rapportage per vraag'!$C$12,'Data leveranciersbeoordeling'!$1:$1,0)),Leveranciersbeoordeling!$H$1:$I$5,2,FALSE),0)","v":0},0]
["",null,null,null,null,null,null,null,null,null,null,null,null,null,null,{"$f":"INDEX($A:$O,ROW(),MATCH('Rapportage per vraag'!$C$12,'Data leveranciersbeoordeling'!$1:$1,0))","v":0},{"$f":"IFERROR(VLOOKUP(INDEX($A:$O,ROW(),MATCH('Rapportage per vraag'!$C$12,'Data leveranciersbeoordeling'!$1:$1,0)),Leveranciersbeoordeling!$H$1:$I$5,2,FALSE),0)","v":0},0]
["",null,null,null,null,null,null,null,null,null,null,null,null,null,null,{"$f":"INDEX($A:$O,ROW(),MATCH('Rapportage per vraag'!$C$12,'Data leveranciersbeoordeling'!$1:$1,0))","v":0},{"$f":"IFERROR(VLOOKUP(INDEX($A:$O,ROW(),MATCH('Rapportage per vraag'!$C$12,'Data leveranciersbeoordeling'!$1:$1,0)),Leveranciersbeoordeling!$H$1:$I$5,2,FALSE),0)","v":0},0]
["",null,null,null,null,null,null,null,null,null,null,null,null,null,null,{"$f":"INDEX($A:$O,ROW(),MATCH('Rapportage per vraag'!$C$12,'Data leveranciersbeoordeling'!$1:$1,0))","v":0},{"$f":"IFERROR(VLOOKUP(INDEX($A:$O,ROW(),MATCH('Rapportage per vraag'!$C$12,'Data leveranciersbeoordeling'!$1:$1,0)),Leveranciersbeoordeling!$H$1:$I$5,2,FALSE),0)","v":0},0]
["",null,null,null,null,null,null,null,null,null,null,null,null,null,null,{"$f":"INDEX($A:$O,ROW(),MATCH('Rapportage per vraag'!$C$12,'Data leveranciersbeoordeling'!$1:$1,0))","v":0},{"$f":"IFERROR(VLOOKUP(INDEX($A:$O,ROW(),MATCH('Rapportage per vraag'!$C$12,'Data leveranciersbeoordeling'!$1:$1,0)),Leveranciersbeoordeling!$H$1:$I$5,2,FALSE),0)","v":0},0]
["",null,null,null,null,null,null,null,null,null,null,null,null,null,null,{"$f":"INDEX($A:$O,ROW(),MATCH('Rapportage per vraag'!$C$12,'Data leveranciersbeoordeling'!$1:$1,0))","v":0},{"$f":"IFERROR(VLOOKUP(INDEX($A:$O,ROW(),MATCH('Rapportage per vraag'!$C$12,'Data leveranciersbeoordeling'!$1:$1,0)),Leveranciersbeoordeling!$H$1:$I$5,2,FALSE),0)","v":0},0]
["",null,null,null,null,null,null,null,null,null,null,null,null,null,null,{"$f":"INDEX($A:$O,ROW(),MATCH('Rapportage per vraag'!$C$12,'Data leveranciersbeoordeling'!$1:$1,0))","v":0},{"$f":"IFERROR(VLOOKUP(INDEX($A:$O,ROW(),MATCH('Rapportage per vraag'!$C$12,'Data leveranciersbeoordeling'!$1:$1,0)),Leveranciersbeoordeling!$H$1:$I$5,2,FALSE),0)","v":0},0]
["",null,null,null,null,null,null,null,null,null,null,null,null,null,null,{"$f":"INDEX($A:$O,ROW(),MATCH('Rapportage per vraag'!$C$12,'Data leveranciersbeoordeling'!$1:$1,0))","v":0},{"$f":"IFERROR(VLOOKUP(INDEX($A:$O,ROW(),MATCH('Rapportage per vraag'!$C$12,'Data leveranciersbeoordeling'!$1:$1,0)),Leveranciersbeoordeling!$H$1:$I$5,2,FALSE),0)","v":0},0]
["",null,null,null,null,null,null,null,null,null,null,null,null,null,null,{"$f":"INDEX($A:$O,ROW(),MATCH('Rapportage per vraag'!$C$12,'Data leveranciersbeoordeling'!$1:$1,0))","v":0},{"$f":"IFERROR(VLOOKUP(INDEX($A:$O,ROW(),MATCH('Rapportage per vraag'!$C$12,'Data leveranciersbeoordeling'!$1:$1,0)),Leveranciersbeoordeling!$H$1:$I$5,2,FALSE),0)","v":0},0]
["",null,null,null,null,null,null,null,null,null,null,null,null,null,null,{"$f":"INDEX($A:$O,ROW(),MATCH('Rapportage per vraag'!$C$12,'Data leveranciersbeoordeling'!$1:$1,0))","v":0},{"$f":"IFERROR(VLOOKUP(INDEX($A:$O,ROW(),MATCH('Rapportage per vraag'!$C$12,'Data leveranciersbeoordeling'!$1:$1,0)),Leveranciersbeoordeling!$H$1:$I$5,2,FALSE),0)","v":0},0]
["",null,null,null,null,null,null,null,null,null,null,null,null,null,null,{"$f":"INDEX($A:$O,ROW(),MATCH('Rapportage per vraag'!$C$12,'Data leveranciersbeoordeling'!$1:$1,0))","v":0},{"$f":"IFERROR(VLOOKUP(INDEX($A:$O,ROW(),MATCH('Rapportage per vraag'!$C$12,'Data leveranciersbeoordeling'!$1:$1,0)),Leveranciersbeoordeling!$H$1:$I$5,2,FALSE),0)","v":0},0]
["",null,null,null,null,null,null,null,null,null,null,null,null,null,null,{"$f":"INDEX($A:$O,ROW(),MATCH('Rapportage per vraag'!$C$12,'Data leveranciersbeoordeling'!$1:$1,0))","v":0},{"$f":"IFERROR(VLOOKUP(INDEX($A:$O,ROW(),MATCH('Rapportage per vraag'!$C$12,'Data leveranciersbeoordeling'!$1:$1,0)),Leveranciersbeoordeling!$H$1:$I$5,2,FALSE),0)","v":0},0]
["",null,null,null,null,null,null,null,null,null,null,null,null,null,null,{"$f":"INDEX($A:$O,ROW(),MATCH('Rapportage per vraag'!$C$12,'Data leveranciersbeoordeling'!$1:$1,0))","v":0},{"$f":"IFERROR(VLOOKUP(INDEX($A:$O,ROW(),MATCH('Rapportage per vraag'!$C$12,'Data leveranciersbeoordeling'!$1:$1,0)),Leveranciersbeoordeling!$H$1:$I$5,2,FALSE),0)","v":0},{"$f":"IF(T(P5126)=P5126,Q5126,P5126)","v":0}]
["",null,null,null,null,null,null,null,null,null,null,null,null,null,null,{"$f":"INDEX($A:$O,ROW(),MATCH('Rapportage per vraag'!$C$12,'Data leveranciersbeoordeling'!$1:$1,0))","v":0},{"$f":"IFERROR(VLOOKUP(INDEX($A:$O,ROW(),MATCH('Rapportage per vraag'!$C$12,'Data leveranciersbeoordeling'!$1:$1,0)),Leveranciersbeoordeling!$H$1:$I$5,2,FALSE),0)","v":0},0]
["",null,null,null,null,null,null,null,null,null,null,null,null,null,null,{"$f":"INDEX($A:$O,ROW(),MATCH('Rapportage per vraag'!$C$12,'Data leveranciersbeoordeling'!$1:$1,0))","v":0},{"$f":"IFERROR(VLOOKUP(INDEX($A:$O,ROW(),MATCH('Rapportage per vraag'!$C$12,'Data leveranciersbeoordeling'!$1:$1,0)),Leveranciersbeoordeling!$H$1:$I$5,2,FALSE),0)","v":0},0]
["",null,null,null,null,null,null,null,null,null,null,null,null,null,null,{"$f":"INDEX($A:$O,ROW(),MATCH('Rapportage per vraag'!$C$12,'Data leveranciersbeoordeling'!$1:$1,0))","v":0},{"$f":"IFERROR(VLOOKUP(INDEX($A:$O,ROW(),MATCH('Rapportage per vraag'!$C$12,'Data leveranciersbeoordeling'!$1:$1,0)),Leveranciersbeoordeling!$H$1:$I$5,2,FALSE),0)","v":0},0]
["",null,null,null,null,null,null,null,null,null,null,null,null,null,null,{"$f":"INDEX($A:$O,ROW(),MATCH('Rapportage per vraag'!$C$12,'Data leveranciersbeoordeling'!$1:$1,0))","v":0},{"$f":"IFERROR(VLOOKUP(INDEX($A:$O,ROW(),MATCH('Rapportage per vraag'!$C$12,'Data leveranciersbeoordeling'!$1:$1,0)),Leveranciersbeoordeling!$H$1:$I$5,2,FALSE),0)","v":0},0]
["",null,null,null,null,null,null,null,null,null,null,null,null,null,null,{"$f":"INDEX($A:$O,ROW(),MATCH('Rapportage per vraag'!$C$12,'Data leveranciersbeoordeling'!$1:$1,0))","v":0},{"$f":"IFERROR(VLOOKUP(INDEX($A:$O,ROW(),MATCH('Rapportage per vraag'!$C$12,'Data leveranciersbeoordeling'!$1:$1,0)),Leveranciersbeoordeling!$H$1:$I$5,2,FALSE),0)","v":0},0]
["",null,null,null,null,null,null,null,null,null,null,null,null,null,null,{"$f":"INDEX($A:$O,ROW(),MATCH('Rapportage per vraag'!$C$12,'Data leveranciersbeoordeling'!$1:$1,0))","v":0},{"$f":"IFERROR(VLOOKUP(INDEX($A:$O,ROW(),MATCH('Rapportage per vraag'!$C$12,'Data leveranciersbeoordeling'!$1:$1,0)),Leveranciersbeoordeling!$H$1:$I$5,2,FALSE),0)","v":0},0]
["",null,null,null,null,null,null,null,null,null,null,null,null,null,null,{"$f":"INDEX($A:$O,ROW(),MATCH('Rapportage per vraag'!$C$12,'Data leveranciersbeoordeling'!$1:$1,0))","v":0},{"$f":"IFERROR(VLOOKUP(INDEX($A:$O,ROW(),MATCH('Rapportage per vraag'!$C$12,'Data leveranciersbeoordeling'!$1:$1,0)),Leveranciersbeoordeling!$H$1:$I$5,2,FALSE),0)","v":0},0]
["",null,null,null,null,null,null,null,null,null,null,null,null,null,null,{"$f":"INDEX($A:$O,ROW(),MATCH('Rapportage per vraag'!$C$12,'Data leveranciersbeoordeling'!$1:$1,0))","v":0},{"$f":"IFERROR(VLOOKUP(INDEX($A:$O,ROW(),MATCH('Rapportage per vraag'!$C$12,'Data leveranciersbeoordeling'!$1:$1,0)),Leveranciersbeoordeling!$H$1:$I$5,2,FALSE),0)","v":0},0]
["",null,null,null,null,null,null,null,null,null,null,null,null,null,null,{"$f":"INDEX($A:$O,ROW(),MATCH('Rapportage per vraag'!$C$12,'Data leveranciersbeoordeling'!$1:$1,0))","v":0},{"$f":"IFERROR(VLOOKUP(INDEX($A:$O,ROW(),MATCH('Rapportage per vraag'!$C$12,'Data leveranciersbeoordeling'!$1:$1,0)),Leveranciersbeoordeling!$H$1:$I$5,2,FALSE),0)","v":0},0]
["",null,null,null,null,null,null,null,null,null,null,null,null,null,null,{"$f":"INDEX($A:$O,ROW(),MATCH('Rapportage per vraag'!$C$12,'Data leveranciersbeoordeling'!$1:$1,0))","v":0},{"$f":"IFERROR(VLOOKUP(INDEX($A:$O,ROW(),MATCH('Rapportage per vraag'!$C$12,'Data leveranciersbeoordeling'!$1:$1,0)),Leveranciersbeoordeling!$H$1:$I$5,2,FALSE),0)","v":0},0]
["",null,null,null,null,null,null,null,null,null,null,null,null,null,null,{"$f":"INDEX($A:$O,ROW(),MATCH('Rapportage per vraag'!$C$12,'Data leveranciersbeoordeling'!$1:$1,0))","v":0},{"$f":"IFERROR(VLOOKUP(INDEX($A:$O,ROW(),MATCH('Rapportage per vraag'!$C$12,'Data leveranciersbeoordeling'!$1:$1,0)),Leveranciersbeoordeling!$H$1:$I$5,2,FALSE),0)","v":0},0]
["",null,null,null,null,null,null,null,null,null,null,null,null,null,null,{"$f":"INDEX($A:$O,ROW(),MATCH('Rapportage per vraag'!$C$12,'Data leveranciersbeoordeling'!$1:$1,0))","v":0},{"$f":"IFERROR(VLOOKUP(INDEX($A:$O,ROW(),MATCH('Rapportage per vraag'!$C$12,'Data leveranciersbeoordeling'!$1:$1,0)),Leveranciersbeoordeling!$H$1:$I$5,2,FALSE),0)","v":0},0]
["",null,null,null,null,null,null,null,null,null,null,null,null,null,null,{"$f":"INDEX($A:$O,ROW(),MATCH('Rapportage per vraag'!$C$12,'Data leveranciersbeoordeling'!$1:$1,0))","v":0},{"$f":"IFERROR(VLOOKUP(INDEX($A:$O,ROW(),MATCH('Rapportage per vraag'!$C$12,'Data leveranciersbeoordeling'!$1:$1,0)),Leveranciersbeoordeling!$H$1:$I$5,2,FALSE),0)","v":0},0]
["",null,null,null,null,null,null,null,null,null,null,null,null,null,null,{"$f":"INDEX($A:$O,ROW(),MATCH('Rapportage per vraag'!$C$12,'Data leveranciersbeoordeling'!$1:$1,0))","v":0},{"$f":"IFERROR(VLOOKUP(INDEX($A:$O,ROW(),MATCH('Rapportage per vraag'!$C$12,'Data leveranciersbeoordeling'!$1:$1,0)),Leveranciersbeoordeling!$H$1:$I$5,2,FALSE),0)","v":0},0]
["",null,null,null,null,null,null,null,null,null,null,null,null,null,null,{"$f":"INDEX($A:$O,ROW(),MATCH('Rapportage per vraag'!$C$12,'Data leveranciersbeoordeling'!$1:$1,0))","v":0},{"$f":"IFERROR(VLOOKUP(INDEX($A:$O,ROW(),MATCH('Rapportage per vraag'!$C$12,'Data leveranciersbeoordeling'!$1:$1,0)),Leveranciersbeoordeling!$H$1:$I$5,2,FALSE),0)","v":0},0]
["",null,null,null,null,null,null,null,null,null,null,null,null,null,null,{"$f":"INDEX($A:$O,ROW(),MATCH('Rapportage per vraag'!$C$12,'Data leveranciersbeoordeling'!$1:$1,0))","v":0},{"$f":"IFERROR(VLOOKUP(INDEX($A:$O,ROW(),MATCH('Rapportage per vraag'!$C$12,'Data leveranciersbeoordeling'!$1:$1,0)),Leveranciersbeoordeling!$H$1:$I$5,2,FALSE),0)","v":0},0]
["",null,null,null,null,null,null,null,null,null,null,null,null,null,null,{"$f":"INDEX($A:$O,ROW(),MATCH('Rapportage per vraag'!$C$12,'Data leveranciersbeoordeling'!$1:$1,0))","v":0},{"$f":"IFERROR(VLOOKUP(INDEX($A:$O,ROW(),MATCH('Rapportage per vraag'!$C$12,'Data leveranciersbeoordeling'!$1:$1,0)),Leveranciersbeoordeling!$H$1:$I$5,2,FALSE),0)","v":0},0]
["",null,null,null,null,null,null,null,null,null,null,null,null,null,null,{"$f":"INDEX($A:$O,ROW(),MATCH('Rapportage per vraag'!$C$12,'Data leveranciersbeoordeling'!$1:$1,0))","v":0},{"$f":"IFERROR(VLOOKUP(INDEX($A:$O,ROW(),MATCH('Rapportage per vraag'!$C$12,'Data leveranciersbeoordeling'!$1:$1,0)),Leveranciersbeoordeling!$H$1:$I$5,2,FALSE),0)","v":0},0]
["",null,null,null,null,null,null,null,null,null,null,null,null,null,null,{"$f":"INDEX($A:$O,ROW(),MATCH('Rapportage per vraag'!$C$12,'Data leveranciersbeoordeling'!$1:$1,0))","v":0},{"$f":"IFERROR(VLOOKUP(INDEX($A:$O,ROW(),MATCH('Rapportage per vraag'!$C$12,'Data leveranciersbeoordeling'!$1:$1,0)),Leveranciersbeoordeling!$H$1:$I$5,2,FALSE),0)","v":0},0]
["",null,null,null,null,null,null,null,null,null,null,null,null,null,null,{"$f":"INDEX($A:$O,ROW(),MATCH('Rapportage per vraag'!$C$12,'Data leveranciersbeoordeling'!$1:$1,0))","v":0},{"$f":"IFERROR(VLOOKUP(INDEX($A:$O,ROW(),MATCH('Rapportage per vraag'!$C$12,'Data leveranciersbeoordeling'!$1:$1,0)),Leveranciersbeoordeling!$H$1:$I$5,2,FALSE),0)","v":0},0]
["",null,null,null,null,null,null,null,null,null,null,null,null,null,null,{"$f":"INDEX($A:$O,ROW(),MATCH('Rapportage per vraag'!$C$12,'Data leveranciersbeoordeling'!$1:$1,0))","v":0},{"$f":"IFERROR(VLOOKUP(INDEX($A:$O,ROW(),MATCH('Rapportage per vraag'!$C$12,'Data leveranciersbeoordeling'!$1:$1,0)),Leveranciersbeoordeling!$H$1:$I$5,2,FALSE),0)","v":0},0]
["",null,null,null,null,null,null,null,null,null,null,null,null,null,null,{"$f":"INDEX($A:$O,ROW(),MATCH('Rapportage per vraag'!$C$12,'Data leveranciersbeoordeling'!$1:$1,0))","v":0},{"$f":"IFERROR(VLOOKUP(INDEX($A:$O,ROW(),MATCH('Rapportage per vraag'!$C$12,'Data leveranciersbeoordeling'!$1:$1,0)),Leveranciersbeoordeling!$H$1:$I$5,2,FALSE),0)","v":0},0]
["",null,null,null,null,null,null,null,null,null,null,null,null,null,null,{"$f":"INDEX($A:$O,ROW(),MATCH('Rapportage per vraag'!$C$12,'Data leveranciersbeoordeling'!$1:$1,0))","v":0},{"$f":"IFERROR(VLOOKUP(INDEX($A:$O,ROW(),MATCH('Rapportage per vraag'!$C$12,'Data leveranciersbeoordeling'!$1:$1,0)),Leveranciersbeoordeling!$H$1:$I$5,2,FALSE),0)","v":0},0]
["",null,null,null,null,null,null,null,null,null,null,null,null,null,null,{"$f":"INDEX($A:$O,ROW(),MATCH('Rapportage per vraag'!$C$12,'Data leveranciersbeoordeling'!$1:$1,0))","v":0},{"$f":"IFERROR(VLOOKUP(INDEX($A:$O,ROW(),MATCH('Rapportage per vraag'!$C$12,'Data leveranciersbeoordeling'!$1:$1,0)),Leveranciersbeoordeling!$H$1:$I$5,2,FALSE),0)","v":0},0]
["",null,null,null,null,null,null,null,null,null,null,null,null,null,null,{"$f":"INDEX($A:$O,ROW(),MATCH('Rapportage per vraag'!$C$12,'Data leveranciersbeoordeling'!$1:$1,0))","v":0},{"$f":"IFERROR(VLOOKUP(INDEX($A:$O,ROW(),MATCH('Rapportage per vraag'!$C$12,'Data leveranciersbeoordeling'!$1:$1,0)),Leveranciersbeoordeling!$H$1:$I$5,2,FALSE),0)","v":0},0]
["",null,null,null,null,null,null,null,null,null,null,null,null,null,null,{"$f":"INDEX($A:$O,ROW(),MATCH('Rapportage per vraag'!$C$12,'Data leveranciersbeoordeling'!$1:$1,0))","v":0},{"$f":"IFERROR(VLOOKUP(INDEX($A:$O,ROW(),MATCH('Rapportage per vraag'!$C$12,'Data leveranciersbeoordeling'!$1:$1,0)),Leveranciersbeoordeling!$H$1:$I$5,2,FALSE),0)","v":0},0]
["",null,null,null,null,null,null,null,null,null,null,null,null,null,null,{"$f":"INDEX($A:$O,ROW(),MATCH('Rapportage per vraag'!$C$12,'Data leveranciersbeoordeling'!$1:$1,0))","v":0},{"$f":"IFERROR(VLOOKUP(INDEX($A:$O,ROW(),MATCH('Rapportage per vraag'!$C$12,'Data leveranciersbeoordeling'!$1:$1,0)),Leveranciersbeoordeling!$H$1:$I$5,2,FALSE),0)","v":0},0]
["",null,null,null,null,null,null,null,null,null,null,null,null,null,null,{"$f":"INDEX($A:$O,ROW(),MATCH('Rapportage per vraag'!$C$12,'Data leveranciersbeoordeling'!$1:$1,0))","v":0},{"$f":"IFERROR(VLOOKUP(INDEX($A:$O,ROW(),MATCH('Rapportage per vraag'!$C$12,'Data leveranciersbeoordeling'!$1:$1,0)),Leveranciersbeoordeling!$H$1:$I$5,2,FALSE),0)","v":0},0]
["",null,null,null,null,null,null,null,null,null,null,null,null,null,null,{"$f":"INDEX($A:$O,ROW(),MATCH('Rapportage per vraag'!$C$12,'Data leveranciersbeoordeling'!$1:$1,0))","v":0},{"$f":"IFERROR(VLOOKUP(INDEX($A:$O,ROW(),MATCH('Rapportage per vraag'!$C$12,'Data leveranciersbeoordeling'!$1:$1,0)),Leveranciersbeoordeling!$H$1:$I$5,2,FALSE),0)","v":0},0]
["",null,null,null,null,null,null,null,null,null,null,null,null,null,null,{"$f":"INDEX($A:$O,ROW(),MATCH('Rapportage per vraag'!$C$12,'Data leveranciersbeoordeling'!$1:$1,0))","v":0},{"$f":"IFERROR(VLOOKUP(INDEX($A:$O,ROW(),MATCH('Rapportage per vraag'!$C$12,'Data leveranciersbeoordeling'!$1:$1,0)),Leveranciersbeoordeling!$H$1:$I$5,2,FALSE),0)","v":0},0]
["",null,null,null,null,null,null,null,null,null,null,null,null,null,null,{"$f":"INDEX($A:$O,ROW(),MATCH('Rapportage per vraag'!$C$12,'Data leveranciersbeoordeling'!$1:$1,0))","v":0},{"$f":"IFERROR(VLOOKUP(INDEX($A:$O,ROW(),MATCH('Rapportage per vraag'!$C$12,'Data leveranciersbeoordeling'!$1:$1,0)),Leveranciersbeoordeling!$H$1:$I$5,2,FALSE),0)","v":0},0]
["",null,null,null,null,null,null,null,null,null,null,null,null,null,null,{"$f":"INDEX($A:$O,ROW(),MATCH('Rapportage per vraag'!$C$12,'Data leveranciersbeoordeling'!$1:$1,0))","v":0},{"$f":"IFERROR(VLOOKUP(INDEX($A:$O,ROW(),MATCH('Rapportage per vraag'!$C$12,'Data leveranciersbeoordeling'!$1:$1,0)),Leveranciersbeoordeling!$H$1:$I$5,2,FALSE),0)","v":0},0]
[{"$f":"CONCATENATE(B5251,C5251,D5251)","v":""},null,null,null,null,null,null,null,null,null,null,null,null,null,null,{"$f":"INDEX($A:$O,ROW(),MATCH('Rapportage per vraag'!$C$12,'Data leveranciersbeoordeling'!$1:$1,0))","v":0},{"$f":"IFERROR(VLOOKUP(INDEX($A:$O,ROW(),MATCH('Rapportage per vraag'!$C$12,'Data leveranciersbeoordeling'!$1:$1,0)),Leveranciersbeoordeling!$H$1:$I$5,2,FALSE),0)","v":0},0]
["",null,null,null,null,null,null,null,null,null,null,null,null,null,null,{"$f":"INDEX($A:$O,ROW(),MATCH('Rapportage per vraag'!$C$12,'Data leveranciersbeoordeling'!$1:$1,0))","v":0},{"$f":"IFERROR(VLOOKUP(INDEX($A:$O,ROW(),MATCH('Rapportage per vraag'!$C$12,'Data leveranciersbeoordeling'!$1:$1,0)),Leveranciersbeoordeling!$H$1:$I$5,2,FALSE),0)","v":0},0]
["",null,null,null,null,null,null,null,null,null,null,null,null,null,null,{"$f":"INDEX($A:$O,ROW(),MATCH('Rapportage per vraag'!$C$12,'Data leveranciersbeoordeling'!$1:$1,0))","v":0},{"$f":"IFERROR(VLOOKUP(INDEX($A:$O,ROW(),MATCH('Rapportage per vraag'!$C$12,'Data leveranciersbeoordeling'!$1:$1,0)),Leveranciersbeoordeling!$H$1:$I$5,2,FALSE),0)","v":0},0]
["",null,null,null,null,null,null,null,null,null,null,null,null,null,null,{"$f":"INDEX($A:$O,ROW(),MATCH('Rapportage per vraag'!$C$12,'Data leveranciersbeoordeling'!$1:$1,0))","v":0},{"$f":"IFERROR(VLOOKUP(INDEX($A:$O,ROW(),MATCH('Rapportage per vraag'!$C$12,'Data leveranciersbeoordeling'!$1:$1,0)),Leveranciersbeoordeling!$H$1:$I$5,2,FALSE),0)","v":0},0]
["",null,null,null,null,null,null,null,null,null,null,null,null,null,null,{"$f":"INDEX($A:$O,ROW(),MATCH('Rapportage per vraag'!$C$12,'Data leveranciersbeoordeling'!$1:$1,0))","v":0},{"$f":"IFERROR(VLOOKUP(INDEX($A:$O,ROW(),MATCH('Rapportage per vraag'!$C$12,'Data leveranciersbeoordeling'!$1:$1,0)),Leveranciersbeoordeling!$H$1:$I$5,2,FALSE),0)","v":0},0]
["",null,null,null,null,null,null,null,null,null,null,null,null,null,null,{"$f":"INDEX($A:$O,ROW(),MATCH('Rapportage per vraag'!$C$12,'Data leveranciersbeoordeling'!$1:$1,0))","v":0},{"$f":"IFERROR(VLOOKUP(INDEX($A:$O,ROW(),MATCH('Rapportage per vraag'!$C$12,'Data leveranciersbeoordeling'!$1:$1,0)),Leveranciersbeoordeling!$H$1:$I$5,2,FALSE),0)","v":0},0]
["",null,null,null,null,null,null,null,null,null,null,null,null,null,null,{"$f":"INDEX($A:$O,ROW(),MATCH('Rapportage per vraag'!$C$12,'Data leveranciersbeoordeling'!$1:$1,0))","v":0},{"$f":"IFERROR(VLOOKUP(INDEX($A:$O,ROW(),MATCH('Rapportage per vraag'!$C$12,'Data leveranciersbeoordeling'!$1:$1,0)),Leveranciersbeoordeling!$H$1:$I$5,2,FALSE),0)","v":0},0]
["",null,null,null,null,null,null,null,null,null,null,null,null,null,null,{"$f":"INDEX($A:$O,ROW(),MATCH('Rapportage per vraag'!$C$12,'Data leveranciersbeoordeling'!$1:$1,0))","v":0},{"$f":"IFERROR(VLOOKUP(INDEX($A:$O,ROW(),MATCH('Rapportage per vraag'!$C$12,'Data leveranciersbeoordeling'!$1:$1,0)),Leveranciersbeoordeling!$H$1:$I$5,2,FALSE),0)","v":0},0]
["",null,null,null,null,null,null,null,null,null,null,null,null,null,null,{"$f":"INDEX($A:$O,ROW(),MATCH('Rapportage per vraag'!$C$12,'Data leveranciersbeoordeling'!$1:$1,0))","v":0},{"$f":"IFERROR(VLOOKUP(INDEX($A:$O,ROW(),MATCH('Rapportage per vraag'!$C$12,'Data leveranciersbeoordeling'!$1:$1,0)),Leveranciersbeoordeling!$H$1:$I$5,2,FALSE),0)","v":0},0]
["",null,null,null,null,null,null,null,null,null,null,null,null,null,null,{"$f":"INDEX($A:$O,ROW(),MATCH('Rapportage per vraag'!$C$12,'Data leveranciersbeoordeling'!$1:$1,0))","v":0},{"$f":"IFERROR(VLOOKUP(INDEX($A:$O,ROW(),MATCH('Rapportage per vraag'!$C$12,'Data leveranciersbeoordeling'!$1:$1,0)),Leveranciersbeoordeling!$H$1:$I$5,2,FALSE),0)","v":0},0]
["",null,null,null,null,null,null,null,null,null,null,null,null,null,null,{"$f":"INDEX($A:$O,ROW(),MATCH('Rapportage per vraag'!$C$12,'Data leveranciersbeoordeling'!$1:$1,0))","v":0},{"$f":"IFERROR(VLOOKUP(INDEX($A:$O,ROW(),MATCH('Rapportage per vraag'!$C$12,'Data leveranciersbeoordeling'!$1:$1,0)),Leveranciersbeoordeling!$H$1:$I$5,2,FALSE),0)","v":0},0]
["",null,null,null,null,null,null,null,null,null,null,null,null,null,null,{"$f":"INDEX($A:$O,ROW(),MATCH('Rapportage per vraag'!$C$12,'Data leveranciersbeoordeling'!$1:$1,0))","v":0},{"$f":"IFERROR(VLOOKUP(INDEX($A:$O,ROW(),MATCH('Rapportage per vraag'!$C$12,'Data leveranciersbeoordeling'!$1:$1,0)),Leveranciersbeoordeling!$H$1:$I$5,2,FALSE),0)","v":0},0]
["",null,null,null,null,null,null,null,null,null,null,null,null,null,null,{"$f":"INDEX($A:$O,ROW(),MATCH('Rapportage per vraag'!$C$12,'Data leveranciersbeoordeling'!$1:$1,0))","v":0},{"$f":"IFERROR(VLOOKUP(INDEX($A:$O,ROW(),MATCH('Rapportage per vraag'!$C$12,'Data leveranciersbeoordeling'!$1:$1,0)),Leveranciersbeoordeling!$H$1:$I$5,2,FALSE),0)","v":0},0]
["",null,null,null,null,null,null,null,null,null,null,null,null,null,null,{"$f":"INDEX($A:$O,ROW(),MATCH('Rapportage per vraag'!$C$12,'Data leveranciersbeoordeling'!$1:$1,0))","v":0},{"$f":"IFERROR(VLOOKUP(INDEX($A:$O,ROW(),MATCH('Rapportage per vraag'!$C$12,'Data leveranciersbeoordeling'!$1:$1,0)),Leveranciersbeoordeling!$H$1:$I$5,2,FALSE),0)","v":0},0]
["",null,null,null,null,null,null,null,null,null,null,null,null,null,null,{"$f":"INDEX($A:$O,ROW(),MATCH('Rapportage per vraag'!$C$12,'Data leveranciersbeoordeling'!$1:$1,0))","v":0},{"$f":"IFERROR(VLOOKUP(INDEX($A:$O,ROW(),MATCH('Rapportage per vraag'!$C$12,'Data leveranciersbeoordeling'!$1:$1,0)),Leveranciersbeoordeling!$H$1:$I$5,2,FALSE),0)","v":0},0]
["",null,null,null,null,null,null,null,null,null,null,null,null,null,null,{"$f":"INDEX($A:$O,ROW(),MATCH('Rapportage per vraag'!$C$12,'Data leveranciersbeoordeling'!$1:$1,0))","v":0},{"$f":"IFERROR(VLOOKUP(INDEX($A:$O,ROW(),MATCH('Rapportage per vraag'!$C$12,'Data leveranciersbeoordeling'!$1:$1,0)),Leveranciersbeoordeling!$H$1:$I$5,2,FALSE),0)","v":0},0]
["",null,null,null,null,null,null,null,null,null,null,null,null,null,null,{"$f":"INDEX($A:$O,ROW(),MATCH('Rapportage per vraag'!$C$12,'Data leveranciersbeoordeling'!$1:$1,0))","v":0},{"$f":"IFERROR(VLOOKUP(INDEX($A:$O,ROW(),MATCH('Rapportage per vraag'!$C$12,'Data leveranciersbeoordeling'!$1:$1,0)),Leveranciersbeoordeling!$H$1:$I$5,2,FALSE),0)","v":0},0]
["",null,null,null,null,null,null,null,null,null,null,null,null,null,null,{"$f":"INDEX($A:$O,ROW(),MATCH('Rapportage per vraag'!$C$12,'Data leveranciersbeoordeling'!$1:$1,0))","v":0},{"$f":"IFERROR(VLOOKUP(INDEX($A:$O,ROW(),MATCH('Rapportage per vraag'!$C$12,'Data leveranciersbeoordeling'!$1:$1,0)),Leveranciersbeoordeling!$H$1:$I$5,2,FALSE),0)","v":0},0]
["",null,null,null,null,null,null,null,null,null,null,null,null,null,null,{"$f":"INDEX($A:$O,ROW(),MATCH('Rapportage per vraag'!$C$12,'Data leveranciersbeoordeling'!$1:$1,0))","v":0},{"$f":"IFERROR(VLOOKUP(INDEX($A:$O,ROW(),MATCH('Rapportage per vraag'!$C$12,'Data leveranciersbeoordeling'!$1:$1,0)),Leveranciersbeoordeling!$H$1:$I$5,2,FALSE),0)","v":0},0]
["",null,null,null,null,null,null,null,null,null,null,null,null,null,null,{"$f":"INDEX($A:$O,ROW(),MATCH('Rapportage per vraag'!$C$12,'Data leveranciersbeoordeling'!$1:$1,0))","v":0},{"$f":"IFERROR(VLOOKUP(INDEX($A:$O,ROW(),MATCH('Rapportage per vraag'!$C$12,'Data leveranciersbeoordeling'!$1:$1,0)),Leveranciersbeoordeling!$H$1:$I$5,2,FALSE),0)","v":0},0]
["",null,null,null,null,null,null,null,null,null,null,null,null,null,null,{"$f":"INDEX($A:$O,ROW(),MATCH('Rapportage per vraag'!$C$12,'Data leveranciersbeoordeling'!$1:$1,0))","v":0},{"$f":"IFERROR(VLOOKUP(INDEX($A:$O,ROW(),MATCH('Rapportage per vraag'!$C$12,'Data leveranciersbeoordeling'!$1:$1,0)),Leveranciersbeoordeling!$H$1:$I$5,2,FALSE),0)","v":0},0]
["",null,null,null,null,null,null,null,null,null,null,null,null,null,null,{"$f":"INDEX($A:$O,ROW(),MATCH('Rapportage per vraag'!$C$12,'Data leveranciersbeoordeling'!$1:$1,0))","v":0},{"$f":"IFERROR(VLOOKUP(INDEX($A:$O,ROW(),MATCH('Rapportage per vraag'!$C$12,'Data leveranciersbeoordeling'!$1:$1,0)),Leveranciersbeoordeling!$H$1:$I$5,2,FALSE),0)","v":0},0]
["",null,null,null,null,null,null,null,null,null,null,null,null,null,null,{"$f":"INDEX($A:$O,ROW(),MATCH('Rapportage per vraag'!$C$12,'Data leveranciersbeoordeling'!$1:$1,0))","v":0},{"$f":"IFERROR(VLOOKUP(INDEX($A:$O,ROW(),MATCH('Rapportage per vraag'!$C$12,'Data leveranciersbeoordeling'!$1:$1,0)),Leveranciersbeoordeling!$H$1:$I$5,2,FALSE),0)","v":0},0]
["",null,null,null,null,null,null,null,null,null,null,null,null,null,null,{"$f":"INDEX($A:$O,ROW(),MATCH('Rapportage per vraag'!$C$12,'Data leveranciersbeoordeling'!$1:$1,0))","v":0},{"$f":"IFERROR(VLOOKUP(INDEX($A:$O,ROW(),MATCH('Rapportage per vraag'!$C$12,'Data leveranciersbeoordeling'!$1:$1,0)),Leveranciersbeoordeling!$H$1:$I$5,2,FALSE),0)","v":0},0]
["",null,null,null,null,null,null,null,null,null,null,null,null,null,null,{"$f":"INDEX($A:$O,ROW(),MATCH('Rapportage per vraag'!$C$12,'Data leveranciersbeoordeling'!$1:$1,0))","v":0},{"$f":"IFERROR(VLOOKUP(INDEX($A:$O,ROW(),MATCH('Rapportage per vraag'!$C$12,'Data leveranciersbeoordeling'!$1:$1,0)),Leveranciersbeoordeling!$H$1:$I$5,2,FALSE),0)","v":0},0]
["",null,null,null,null,null,null,null,null,null,null,null,null,null,null,{"$f":"INDEX($A:$O,ROW(),MATCH('Rapportage per vraag'!$C$12,'Data leveranciersbeoordeling'!$1:$1,0))","v":0},{"$f":"IFERROR(VLOOKUP(INDEX($A:$O,ROW(),MATCH('Rapportage per vraag'!$C$12,'Data leveranciersbeoordeling'!$1:$1,0)),Leveranciersbeoordeling!$H$1:$I$5,2,FALSE),0)","v":0},0]
["",null,null,null,null,null,null,null,null,null,null,null,null,null,null,{"$f":"INDEX($A:$O,ROW(),MATCH('Rapportage per vraag'!$C$12,'Data leveranciersbeoordeling'!$1:$1,0))","v":0},{"$f":"IFERROR(VLOOKUP(INDEX($A:$O,ROW(),MATCH('Rapportage per vraag'!$C$12,'Data leveranciersbeoordeling'!$1:$1,0)),Leveranciersbeoordeling!$H$1:$I$5,2,FALSE),0)","v":0},0]
["",null,null,null,null,null,null,null,null,null,null,null,null,null,null,{"$f":"INDEX($A:$O,ROW(),MATCH('Rapportage per vraag'!$C$12,'Data leveranciersbeoordeling'!$1:$1,0))","v":0},{"$f":"IFERROR(VLOOKUP(INDEX($A:$O,ROW(),MATCH('Rapportage per vraag'!$C$12,'Data leveranciersbeoordeling'!$1:$1,0)),Leveranciersbeoordeling!$H$1:$I$5,2,FALSE),0)","v":0},0]
["",null,null,null,null,null,null,null,null,null,null,null,null,null,null,{"$f":"INDEX($A:$O,ROW(),MATCH('Rapportage per vraag'!$C$12,'Data leveranciersbeoordeling'!$1:$1,0))","v":0},{"$f":"IFERROR(VLOOKUP(INDEX($A:$O,ROW(),MATCH('Rapportage per vraag'!$C$12,'Data leveranciersbeoordeling'!$1:$1,0)),Leveranciersbeoordeling!$H$1:$I$5,2,FALSE),0)","v":0},0]
["",null,null,null,null,null,null,null,null,null,null,null,null,null,null,{"$f":"INDEX($A:$O,ROW(),MATCH('Rapportage per vraag'!$C$12,'Data leveranciersbeoordeling'!$1:$1,0))","v":0},{"$f":"IFERROR(VLOOKUP(INDEX($A:$O,ROW(),MATCH('Rapportage per vraag'!$C$12,'Data leveranciersbeoordeling'!$1:$1,0)),Leveranciersbeoordeling!$H$1:$I$5,2,FALSE),0)","v":0},0]
["",null,null,null,null,null,null,null,null,null,null,null,null,null,null,{"$f":"INDEX($A:$O,ROW(),MATCH('Rapportage per vraag'!$C$12,'Data leveranciersbeoordeling'!$1:$1,0))","v":0},{"$f":"IFERROR(VLOOKUP(INDEX($A:$O,ROW(),MATCH('Rapportage per vraag'!$C$12,'Data leveranciersbeoordeling'!$1:$1,0)),Leveranciersbeoordeling!$H$1:$I$5,2,FALSE),0)","v":0},0]
["",null,null,null,null,null,null,null,null,null,null,null,null,null,null,{"$f":"INDEX($A:$O,ROW(),MATCH('Rapportage per vraag'!$C$12,'Data leveranciersbeoordeling'!$1:$1,0))","v":0},{"$f":"IFERROR(VLOOKUP(INDEX($A:$O,ROW(),MATCH('Rapportage per vraag'!$C$12,'Data leveranciersbeoordeling'!$1:$1,0)),Leveranciersbeoordeling!$H$1:$I$5,2,FALSE),0)","v":0},0]
["",null,null,null,null,null,null,null,null,null,null,null,null,null,null,{"$f":"INDEX($A:$O,ROW(),MATCH('Rapportage per vraag'!$C$12,'Data leveranciersbeoordeling'!$1:$1,0))","v":0},{"$f":"IFERROR(VLOOKUP(INDEX($A:$O,ROW(),MATCH('Rapportage per vraag'!$C$12,'Data leveranciersbeoordeling'!$1:$1,0)),Leveranciersbeoordeling!$H$1:$I$5,2,FALSE),0)","v":0},0]
["",null,null,null,null,null,null,null,null,null,null,null,null,null,null,{"$f":"INDEX($A:$O,ROW(),MATCH('Rapportage per vraag'!$C$12,'Data leveranciersbeoordeling'!$1:$1,0))","v":0},{"$f":"IFERROR(VLOOKUP(INDEX($A:$O,ROW(),MATCH('Rapportage per vraag'!$C$12,'Data leveranciersbeoordeling'!$1:$1,0)),Leveranciersbeoordeling!$H$1:$I$5,2,FALSE),0)","v":0},0]
["",null,null,null,null,null,null,null,null,null,null,null,null,null,null,{"$f":"INDEX($A:$O,ROW(),MATCH('Rapportage per vraag'!$C$12,'Data leveranciersbeoordeling'!$1:$1,0))","v":0},{"$f":"IFERROR(VLOOKUP(INDEX($A:$O,ROW(),MATCH('Rapportage per vraag'!$C$12,'Data leveranciersbeoordeling'!$1:$1,0)),Leveranciersbeoordeling!$H$1:$I$5,2,FALSE),0)","v":0},0]
["",null,null,null,null,null,null,null,null,null,null,null,null,null,null,{"$f":"INDEX($A:$O,ROW(),MATCH('Rapportage per vraag'!$C$12,'Data leveranciersbeoordeling'!$1:$1,0))","v":0},{"$f":"IFERROR(VLOOKUP(INDEX($A:$O,ROW(),MATCH('Rapportage per vraag'!$C$12,'Data leveranciersbeoordeling'!$1:$1,0)),Leveranciersbeoordeling!$H$1:$I$5,2,FALSE),0)","v":0},0]
["",null,null,null,null,null,null,null,null,null,null,null,null,null,null,{"$f":"INDEX($A:$O,ROW(),MATCH('Rapportage per vraag'!$C$12,'Data leveranciersbeoordeling'!$1:$1,0))","v":0},{"$f":"IFERROR(VLOOKUP(INDEX($A:$O,ROW(),MATCH('Rapportage per vraag'!$C$12,'Data leveranciersbeoordeling'!$1:$1,0)),Leveranciersbeoordeling!$H$1:$I$5,2,FALSE),0)","v":0},0]
["",null,null,null,null,null,null,null,null,null,null,null,null,null,null,{"$f":"INDEX($A:$O,ROW(),MATCH('Rapportage per vraag'!$C$12,'Data leveranciersbeoordeling'!$1:$1,0))","v":0},{"$f":"IFERROR(VLOOKUP(INDEX($A:$O,ROW(),MATCH('Rapportage per vraag'!$C$12,'Data leveranciersbeoordeling'!$1:$1,0)),Leveranciersbeoordeling!$H$1:$I$5,2,FALSE),0)","v":0},0]
["",null,null,null,null,null,null,null,null,null,null,null,null,null,null,{"$f":"INDEX($A:$O,ROW(),MATCH('Rapportage per vraag'!$C$12,'Data leveranciersbeoordeling'!$1:$1,0))","v":0},{"$f":"IFERROR(VLOOKUP(INDEX($A:$O,ROW(),MATCH('Rapportage per vraag'!$C$12,'Data leveranciersbeoordeling'!$1:$1,0)),Leveranciersbeoordeling!$H$1:$I$5,2,FALSE),0)","v":0},0]
["",null,null,null,null,null,null,null,null,null,null,null,null,null,null,{"$f":"INDEX($A:$O,ROW(),MATCH('Rapportage per vraag'!$C$12,'Data leveranciersbeoordeling'!$1:$1,0))","v":0},{"$f":"IFERROR(VLOOKUP(INDEX($A:$O,ROW(),MATCH('Rapportage per vraag'!$C$12,'Data leveranciersbeoordeling'!$1:$1,0)),Leveranciersbeoordeling!$H$1:$I$5,2,FALSE),0)","v":0},0]
["",null,null,null,null,null,null,null,null,null,null,null,null,null,null,{"$f":"INDEX($A:$O,ROW(),MATCH('Rapportage per vraag'!$C$12,'Data leveranciersbeoordeling'!$1:$1,0))","v":0},{"$f":"IFERROR(VLOOKUP(INDEX($A:$O,ROW(),MATCH('Rapportage per vraag'!$C$12,'Data leveranciersbeoordeling'!$1:$1,0)),Leveranciersbeoordeling!$H$1:$I$5,2,FALSE),0)","v":0},0]
["",null,null,null,null,null,null,null,null,null,null,null,null,null,null,{"$f":"INDEX($A:$O,ROW(),MATCH('Rapportage per vraag'!$C$12,'Data leveranciersbeoordeling'!$1:$1,0))","v":0},{"$f":"IFERROR(VLOOKUP(INDEX($A:$O,ROW(),MATCH('Rapportage per vraag'!$C$12,'Data leveranciersbeoordeling'!$1:$1,0)),Leveranciersbeoordeling!$H$1:$I$5,2,FALSE),0)","v":0},0]
["",null,null,null,null,null,null,null,null,null,null,null,null,null,null,{"$f":"INDEX($A:$O,ROW(),MATCH('Rapportage per vraag'!$C$12,'Data leveranciersbeoordeling'!$1:$1,0))","v":0},{"$f":"IFERROR(VLOOKUP(INDEX($A:$O,ROW(),MATCH('Rapportage per vraag'!$C$12,'Data leveranciersbeoordeling'!$1:$1,0)),Leveranciersbeoordeling!$H$1:$I$5,2,FALSE),0)","v":0},0]
["",null,null,null,null,null,null,null,null,null,null,null,null,null,null,{"$f":"INDEX($A:$O,ROW(),MATCH('Rapportage per vraag'!$C$12,'Data leveranciersbeoordeling'!$1:$1,0))","v":0},{"$f":"IFERROR(VLOOKUP(INDEX($A:$O,ROW(),MATCH('Rapportage per vraag'!$C$12,'Data leveranciersbeoordeling'!$1:$1,0)),Leveranciersbeoordeling!$H$1:$I$5,2,FALSE),0)","v":0},0]
["",null,null,null,null,null,null,null,null,null,null,null,null,null,null,{"$f":"INDEX($A:$O,ROW(),MATCH('Rapportage per vraag'!$C$12,'Data leveranciersbeoordeling'!$1:$1,0))","v":0},{"$f":"IFERROR(VLOOKUP(INDEX($A:$O,ROW(),MATCH('Rapportage per vraag'!$C$12,'Data leveranciersbeoordeling'!$1:$1,0)),Leveranciersbeoordeling!$H$1:$I$5,2,FALSE),0)","v":0},0]
["",null,null,null,null,null,null,null,null,null,null,null,null,null,null,{"$f":"INDEX($A:$O,ROW(),MATCH('Rapportage per vraag'!$C$12,'Data leveranciersbeoordeling'!$1:$1,0))","v":0},{"$f":"IFERROR(VLOOKUP(INDEX($A:$O,ROW(),MATCH('Rapportage per vraag'!$C$12,'Data leveranciersbeoordeling'!$1:$1,0)),Leveranciersbeoordeling!$H$1:$I$5,2,FALSE),0)","v":0},0]
["",null,null,null,null,null,null,null,null,null,null,null,null,null,null,{"$f":"INDEX($A:$O,ROW(),MATCH('Rapportage per vraag'!$C$12,'Data leveranciersbeoordeling'!$1:$1,0))","v":0},{"$f":"IFERROR(VLOOKUP(INDEX($A:$O,ROW(),MATCH('Rapportage per vraag'!$C$12,'Data leveranciersbeoordeling'!$1:$1,0)),Leveranciersbeoordeling!$H$1:$I$5,2,FALSE),0)","v":0},0]
["",null,null,null,null,null,null,null,null,null,null,null,null,null,null,{"$f":"INDEX($A:$O,ROW(),MATCH('Rapportage per vraag'!$C$12,'Data leveranciersbeoordeling'!$1:$1,0))","v":0},{"$f":"IFERROR(VLOOKUP(INDEX($A:$O,ROW(),MATCH('Rapportage per vraag'!$C$12,'Data leveranciersbeoordeling'!$1:$1,0)),Leveranciersbeoordeling!$H$1:$I$5,2,FALSE),0)","v":0},0]
["",null,null,null,null,null,null,null,null,null,null,null,null,null,null,{"$f":"INDEX($A:$O,ROW(),MATCH('Rapportage per vraag'!$C$12,'Data leveranciersbeoordeling'!$1:$1,0))","v":0},{"$f":"IFERROR(VLOOKUP(INDEX($A:$O,ROW(),MATCH('Rapportage per vraag'!$C$12,'Data leveranciersbeoordeling'!$1:$1,0)),Leveranciersbeoordeling!$H$1:$I$5,2,FALSE),0)","v":0},0]
["",null,null,null,null,null,null,null,null,null,null,null,null,null,null,{"$f":"INDEX($A:$O,ROW(),MATCH('Rapportage per vraag'!$C$12,'Data leveranciersbeoordeling'!$1:$1,0))","v":0},{"$f":"IFERROR(VLOOKUP(INDEX($A:$O,ROW(),MATCH('Rapportage per vraag'!$C$12,'Data leveranciersbeoordeling'!$1:$1,0)),Leveranciersbeoordeling!$H$1:$I$5,2,FALSE),0)","v":0},0]
["",null,null,null,null,null,null,null,null,null,null,null,null,null,null,{"$f":"INDEX($A:$O,ROW(),MATCH('Rapportage per vraag'!$C$12,'Data leveranciersbeoordeling'!$1:$1,0))","v":0},{"$f":"IFERROR(VLOOKUP(INDEX($A:$O,ROW(),MATCH('Rapportage per vraag'!$C$12,'Data leveranciersbeoordeling'!$1:$1,0)),Leveranciersbeoordeling!$H$1:$I$5,2,FALSE),0)","v":0},0]
["",null,null,null,null,null,null,null,null,null,null,null,null,null,null,{"$f":"INDEX($A:$O,ROW(),MATCH('Rapportage per vraag'!$C$12,'Data leveranciersbeoordeling'!$1:$1,0))","v":0},{"$f":"IFERROR(VLOOKUP(INDEX($A:$O,ROW(),MATCH('Rapportage per vraag'!$C$12,'Data leveranciersbeoordeling'!$1:$1,0)),Leveranciersbeoordeling!$H$1:$I$5,2,FALSE),0)","v":0},0]
["",null,null,null,null,null,null,null,null,null,null,null,null,null,null,{"$f":"INDEX($A:$O,ROW(),MATCH('Rapportage per vraag'!$C$12,'Data leveranciersbeoordeling'!$1:$1,0))","v":0},{"$f":"IFERROR(VLOOKUP(INDEX($A:$O,ROW(),MATCH('Rapportage per vraag'!$C$12,'Data leveranciersbeoordeling'!$1:$1,0)),Leveranciersbeoordeling!$H$1:$I$5,2,FALSE),0)","v":0},{"$f":"IF(T(P5446)=P5446,Q5446,P5446)","v":0}]
["",null,null,null,null,null,null,null,null,null,null,null,null,null,null,{"$f":"INDEX($A:$O,ROW(),MATCH('Rapportage per vraag'!$C$12,'Data leveranciersbeoordeling'!$1:$1,0))","v":0},{"$f":"IFERROR(VLOOKUP(INDEX($A:$O,ROW(),MATCH('Rapportage per vraag'!$C$12,'Data leveranciersbeoordeling'!$1:$1,0)),Leveranciersbeoordeling!$H$1:$I$5,2,FALSE),0)","v":0},0]
["",null,null,null,null,null,null,null,null,null,null,null,null,null,null,{"$f":"INDEX($A:$O,ROW(),MATCH('Rapportage per vraag'!$C$12,'Data leveranciersbeoordeling'!$1:$1,0))","v":0},{"$f":"IFERROR(VLOOKUP(INDEX($A:$O,ROW(),MATCH('Rapportage per vraag'!$C$12,'Data leveranciersbeoordeling'!$1:$1,0)),Leveranciersbeoordeling!$H$1:$I$5,2,FALSE),0)","v":0},0]
["",null,null,null,null,null,null,null,null,null,null,null,null,null,null,{"$f":"INDEX($A:$O,ROW(),MATCH('Rapportage per vraag'!$C$12,'Data leveranciersbeoordeling'!$1:$1,0))","v":0},{"$f":"IFERROR(VLOOKUP(INDEX($A:$O,ROW(),MATCH('Rapportage per vraag'!$C$12,'Data leveranciersbeoordeling'!$1:$1,0)),Leveranciersbeoordeling!$H$1:$I$5,2,FALSE),0)","v":0},0]
["",null,null,null,null,null,null,null,null,null,null,null,null,null,null,{"$f":"INDEX($A:$O,ROW(),MATCH('Rapportage per vraag'!$C$12,'Data leveranciersbeoordeling'!$1:$1,0))","v":0},{"$f":"IFERROR(VLOOKUP(INDEX($A:$O,ROW(),MATCH('Rapportage per vraag'!$C$12,'Data leveranciersbeoordeling'!$1:$1,0)),Leveranciersbeoordeling!$H$1:$I$5,2,FALSE),0)","v":0},0]
["",null,null,null,null,null,null,null,null,null,null,null,null,null,null,{"$f":"INDEX($A:$O,ROW(),MATCH('Rapportage per vraag'!$C$12,'Data leveranciersbeoordeling'!$1:$1,0))","v":0},{"$f":"IFERROR(VLOOKUP(INDEX($A:$O,ROW(),MATCH('Rapportage per vraag'!$C$12,'Data leveranciersbeoordeling'!$1:$1,0)),Leveranciersbeoordeling!$H$1:$I$5,2,FALSE),0)","v":0},0]
["",null,null,null,null,null,null,null,null,null,null,null,null,null,null,{"$f":"INDEX($A:$O,ROW(),MATCH('Rapportage per vraag'!$C$12,'Data leveranciersbeoordeling'!$1:$1,0))","v":0},{"$f":"IFERROR(VLOOKUP(INDEX($A:$O,ROW(),MATCH('Rapportage per vraag'!$C$12,'Data leveranciersbeoordeling'!$1:$1,0)),Leveranciersbeoordeling!$H$1:$I$5,2,FALSE),0)","v":0},0]
["",null,null,null,null,null,null,null,null,null,null,null,null,null,null,{"$f":"INDEX($A:$O,ROW(),MATCH('Rapportage per vraag'!$C$12,'Data leveranciersbeoordeling'!$1:$1,0))","v":0},{"$f":"IFERROR(VLOOKUP(INDEX($A:$O,ROW(),MATCH('Rapportage per vraag'!$C$12,'Data leveranciersbeoordeling'!$1:$1,0)),Leveranciersbeoordeling!$H$1:$I$5,2,FALSE),0)","v":0},0]
["",null,null,null,null,null,null,null,null,null,null,null,null,null,null,{"$f":"INDEX($A:$O,ROW(),MATCH('Rapportage per vraag'!$C$12,'Data leveranciersbeoordeling'!$1:$1,0))","v":0},{"$f":"IFERROR(VLOOKUP(INDEX($A:$O,ROW(),MATCH('Rapportage per vraag'!$C$12,'Data leveranciersbeoordeling'!$1:$1,0)),Leveranciersbeoordeling!$H$1:$I$5,2,FALSE),0)","v":0},0]
["",null,null,null,null,null,null,null,null,null,null,null,null,null,null,{"$f":"INDEX($A:$O,ROW(),MATCH('Rapportage per vraag'!$C$12,'Data leveranciersbeoordeling'!$1:$1,0))","v":0},{"$f":"IFERROR(VLOOKUP(INDEX($A:$O,ROW(),MATCH('Rapportage per vraag'!$C$12,'Data leveranciersbeoordeling'!$1:$1,0)),Leveranciersbeoordeling!$H$1:$I$5,2,FALSE),0)","v":0},0]
["",null,null,null,null,null,null,null,null,null,null,null,null,null,null,{"$f":"INDEX($A:$O,ROW(),MATCH('Rapportage per vraag'!$C$12,'Data leveranciersbeoordeling'!$1:$1,0))","v":0},{"$f":"IFERROR(VLOOKUP(INDEX($A:$O,ROW(),MATCH('Rapportage per vraag'!$C$12,'Data leveranciersbeoordeling'!$1:$1,0)),Leveranciersbeoordeling!$H$1:$I$5,2,FALSE),0)","v":0},0]
["",null,null,null,null,null,null,null,null,null,null,null,null,null,null,{"$f":"INDEX($A:$O,ROW(),MATCH('Rapportage per vraag'!$C$12,'Data leveranciersbeoordeling'!$1:$1,0))","v":0},{"$f":"IFERROR(VLOOKUP(INDEX($A:$O,ROW(),MATCH('Rapportage per vraag'!$C$12,'Data leveranciersbeoordeling'!$1:$1,0)),Leveranciersbeoordeling!$H$1:$I$5,2,FALSE),0)","v":0},0]
["",null,null,null,null,null,null,null,null,null,null,null,null,null,null,{"$f":"INDEX($A:$O,ROW(),MATCH('Rapportage per vraag'!$C$12,'Data leveranciersbeoordeling'!$1:$1,0))","v":0},{"$f":"IFERROR(VLOOKUP(INDEX($A:$O,ROW(),MATCH('Rapportage per vraag'!$C$12,'Data leveranciersbeoordeling'!$1:$1,0)),Leveranciersbeoordeling!$H$1:$I$5,2,FALSE),0)","v":0},0]
["",null,null,null,null,null,null,null,null,null,null,null,null,null,null,{"$f":"INDEX($A:$O,ROW(),MATCH('Rapportage per vraag'!$C$12,'Data leveranciersbeoordeling'!$1:$1,0))","v":0},{"$f":"IFERROR(VLOOKUP(INDEX($A:$O,ROW(),MATCH('Rapportage per vraag'!$C$12,'Data leveranciersbeoordeling'!$1:$1,0)),Leveranciersbeoordeling!$H$1:$I$5,2,FALSE),0)","v":0},0]
["",null,null,null,null,null,null,null,null,null,null,null,null,null,null,{"$f":"INDEX($A:$O,ROW(),MATCH('Rapportage per vraag'!$C$12,'Data leveranciersbeoordeling'!$1:$1,0))","v":0},{"$f":"IFERROR(VLOOKUP(INDEX($A:$O,ROW(),MATCH('Rapportage per vraag'!$C$12,'Data leveranciersbeoordeling'!$1:$1,0)),Leveranciersbeoordeling!$H$1:$I$5,2,FALSE),0)","v":0},0]
["",null,null,null,null,null,null,null,null,null,null,null,null,null,null,{"$f":"INDEX($A:$O,ROW(),MATCH('Rapportage per vraag'!$C$12,'Data leveranciersbeoordeling'!$1:$1,0))","v":0},{"$f":"IFERROR(VLOOKUP(INDEX($A:$O,ROW(),MATCH('Rapportage per vraag'!$C$12,'Data leveranciersbeoordeling'!$1:$1,0)),Leveranciersbeoordeling!$H$1:$I$5,2,FALSE),0)","v":0},0]
["",null,null,null,null,null,null,null,null,null,null,null,null,null,null,{"$f":"INDEX($A:$O,ROW(),MATCH('Rapportage per vraag'!$C$12,'Data leveranciersbeoordeling'!$1:$1,0))","v":0},{"$f":"IFERROR(VLOOKUP(INDEX($A:$O,ROW(),MATCH('Rapportage per vraag'!$C$12,'Data leveranciersbeoordeling'!$1:$1,0)),Leveranciersbeoordeling!$H$1:$I$5,2,FALSE),0)","v":0},0]
[{"$f":"CONCATENATE(B5507,C5507,D5507)","v":""},null,null,null,null,null,null,null,null,null,null,null,null,null,null,{"$f":"INDEX($A:$O,ROW(),MATCH('Rapportage per vraag'!$C$12,'Data leveranciersbeoordeling'!$1:$1,0))","v":0},{"$f":"IFERROR(VLOOKUP(INDEX($A:$O,ROW(),MATCH('Rapportage per vraag'!$C$12,'Data leveranciersbeoordeling'!$1:$1,0)),Leveranciersbeoordeling!$H$1:$I$5,2,FALSE),0)","v":0},0]
["",null,null,null,null,null,null,null,null,null,null,null,null,null,null,{"$f":"INDEX($A:$O,ROW(),MATCH('Rapportage per vraag'!$C$12,'Data leveranciersbeoordeling'!$1:$1,0))","v":0},{"$f":"IFERROR(VLOOKUP(INDEX($A:$O,ROW(),MATCH('Rapportage per vraag'!$C$12,'Data leveranciersbeoordeling'!$1:$1,0)),Leveranciersbeoordeling!$H$1:$I$5,2,FALSE),0)","v":0},0]
["",null,null,null,null,null,null,null,null,null,null,null,null,null,null,{"$f":"INDEX($A:$O,ROW(),MATCH('Rapportage per vraag'!$C$12,'Data leveranciersbeoordeling'!$1:$1,0))","v":0},{"$f":"IFERROR(VLOOKUP(INDEX($A:$O,ROW(),MATCH('Rapportage per vraag'!$C$12,'Data leveranciersbeoordeling'!$1:$1,0)),Leveranciersbeoordeling!$H$1:$I$5,2,FALSE),0)","v":0},0]
["",null,null,null,null,null,null,null,null,null,null,null,null,null,null,{"$f":"INDEX($A:$O,ROW(),MATCH('Rapportage per vraag'!$C$12,'Data leveranciersbeoordeling'!$1:$1,0))","v":0},{"$f":"IFERROR(VLOOKUP(INDEX($A:$O,ROW(),MATCH('Rapportage per vraag'!$C$12,'Data leveranciersbeoordeling'!$1:$1,0)),Leveranciersbeoordeling!$H$1:$I$5,2,FALSE),0)","v":0},0]
["",null,null,null,null,null,null,null,null,null,null,null,null,null,null,{"$f":"INDEX($A:$O,ROW(),MATCH('Rapportage per vraag'!$C$12,'Data leveranciersbeoordeling'!$1:$1,0))","v":0},{"$f":"IFERROR(VLOOKUP(INDEX($A:$O,ROW(),MATCH('Rapportage per vraag'!$C$12,'Data leveranciersbeoordeling'!$1:$1,0)),Leveranciersbeoordeling!$H$1:$I$5,2,FALSE),0)","v":0},0]
["",null,null,null,null,null,null,null,null,null,null,null,null,null,null,{"$f":"INDEX($A:$O,ROW(),MATCH('Rapportage per vraag'!$C$12,'Data leveranciersbeoordeling'!$1:$1,0))","v":0},{"$f":"IFERROR(VLOOKUP(INDEX($A:$O,ROW(),MATCH('Rapportage per vraag'!$C$12,'Data leveranciersbeoordeling'!$1:$1,0)),Leveranciersbeoordeling!$H$1:$I$5,2,FALSE),0)","v":0},0]
["",null,null,null,null,null,null,null,null,null,null,null,null,null,null,{"$f":"INDEX($A:$O,ROW(),MATCH('Rapportage per vraag'!$C$12,'Data leveranciersbeoordeling'!$1:$1,0))","v":0},{"$f":"IFERROR(VLOOKUP(INDEX($A:$O,ROW(),MATCH('Rapportage per vraag'!$C$12,'Data leveranciersbeoordeling'!$1:$1,0)),Leveranciersbeoordeling!$H$1:$I$5,2,FALSE),0)","v":0},0]
["",null,null,null,null,null,null,null,null,null,null,null,null,null,null,{"$f":"INDEX($A:$O,ROW(),MATCH('Rapportage per vraag'!$C$12,'Data leveranciersbeoordeling'!$1:$1,0))","v":0},{"$f":"IFERROR(VLOOKUP(INDEX($A:$O,ROW(),MATCH('Rapportage per vraag'!$C$12,'Data leveranciersbeoordeling'!$1:$1,0)),Leveranciersbeoordeling!$H$1:$I$5,2,FALSE),0)","v":0},0]
["",null,null,null,null,null,null,null,null,null,null,null,null,null,null,{"$f":"INDEX($A:$O,ROW(),MATCH('Rapportage per vraag'!$C$12,'Data leveranciersbeoordeling'!$1:$1,0))","v":0},{"$f":"IFERROR(VLOOKUP(INDEX($A:$O,ROW(),MATCH('Rapportage per vraag'!$C$12,'Data leveranciersbeoordeling'!$1:$1,0)),Leveranciersbeoordeling!$H$1:$I$5,2,FALSE),0)","v":0},0]
["",null,null,null,null,null,null,null,null,null,null,null,null,null,null,{"$f":"INDEX($A:$O,ROW(),MATCH('Rapportage per vraag'!$C$12,'Data leveranciersbeoordeling'!$1:$1,0))","v":0},{"$f":"IFERROR(VLOOKUP(INDEX($A:$O,ROW(),MATCH('Rapportage per vraag'!$C$12,'Data leveranciersbeoordeling'!$1:$1,0)),Leveranciersbeoordeling!$H$1:$I$5,2,FALSE),0)","v":0},0]
["",null,null,null,null,null,null,null,null,null,null,null,null,null,null,{"$f":"INDEX($A:$O,ROW(),MATCH('Rapportage per vraag'!$C$12,'Data leveranciersbeoordeling'!$1:$1,0))","v":0},{"$f":"IFERROR(VLOOKUP(INDEX($A:$O,ROW(),MATCH('Rapportage per vraag'!$C$12,'Data leveranciersbeoordeling'!$1:$1,0)),Leveranciersbeoordeling!$H$1:$I$5,2,FALSE),0)","v":0},0]
["",null,null,null,null,null,null,null,null,null,null,null,null,null,null,{"$f":"INDEX($A:$O,ROW(),MATCH('Rapportage per vraag'!$C$12,'Data leveranciersbeoordeling'!$1:$1,0))","v":0},{"$f":"IFERROR(VLOOKUP(INDEX($A:$O,ROW(),MATCH('Rapportage per vraag'!$C$12,'Data leveranciersbeoordeling'!$1:$1,0)),Leveranciersbeoordeling!$H$1:$I$5,2,FALSE),0)","v":0},0]
["",null,null,null,null,null,null,null,null,null,null,null,null,null,null,{"$f":"INDEX($A:$O,ROW(),MATCH('Rapportage per vraag'!$C$12,'Data leveranciersbeoordeling'!$1:$1,0))","v":0},{"$f":"IFERROR(VLOOKUP(INDEX($A:$O,ROW(),MATCH('Rapportage per vraag'!$C$12,'Data leveranciersbeoordeling'!$1:$1,0)),Leveranciersbeoordeling!$H$1:$I$5,2,FALSE),0)","v":0},0]
["",null,null,null,null,null,null,null,null,null,null,null,null,null,null,{"$f":"INDEX($A:$O,ROW(),MATCH('Rapportage per vraag'!$C$12,'Data leveranciersbeoordeling'!$1:$1,0))","v":0},{"$f":"IFERROR(VLOOKUP(INDEX($A:$O,ROW(),MATCH('Rapportage per vraag'!$C$12,'Data leveranciersbeoordeling'!$1:$1,0)),Leveranciersbeoordeling!$H$1:$I$5,2,FALSE),0)","v":0},0]
["",null,null,null,null,null,null,null,null,null,null,null,null,null,null,{"$f":"INDEX($A:$O,ROW(),MATCH('Rapportage per vraag'!$C$12,'Data leveranciersbeoordeling'!$1:$1,0))","v":0},{"$f":"IFERROR(VLOOKUP(INDEX($A:$O,ROW(),MATCH('Rapportage per vraag'!$C$12,'Data leveranciersbeoordeling'!$1:$1,0)),Leveranciersbeoordeling!$H$1:$I$5,2,FALSE),0)","v":0},0]
["",null,null,null,null,null,null,null,null,null,null,null,null,null,null,{"$f":"INDEX($A:$O,ROW(),MATCH('Rapportage per vraag'!$C$12,'Data leveranciersbeoordeling'!$1:$1,0))","v":0},{"$f":"IFERROR(VLOOKUP(INDEX($A:$O,ROW(),MATCH('Rapportage per vraag'!$C$12,'Data leveranciersbeoordeling'!$1:$1,0)),Leveranciersbeoordeling!$H$1:$I$5,2,FALSE),0)","v":0},0]
["",null,null,null,null,null,null,null,null,null,null,null,null,null,null,{"$f":"INDEX($A:$O,ROW(),MATCH('Rapportage per vraag'!$C$12,'Data leveranciersbeoordeling'!$1:$1,0))","v":0},{"$f":"IFERROR(VLOOKUP(INDEX($A:$O,ROW(),MATCH('Rapportage per vraag'!$C$12,'Data leveranciersbeoordeling'!$1:$1,0)),Leveranciersbeoordeling!$H$1:$I$5,2,FALSE),0)","v":0},0]
["",null,null,null,null,null,null,null,null,null,null,null,null,null,null,{"$f":"INDEX($A:$O,ROW(),MATCH('Rapportage per vraag'!$C$12,'Data leveranciersbeoordeling'!$1:$1,0))","v":0},{"$f":"IFERROR(VLOOKUP(INDEX($A:$O,ROW(),MATCH('Rapportage per vraag'!$C$12,'Data leveranciersbeoordeling'!$1:$1,0)),Leveranciersbeoordeling!$H$1:$I$5,2,FALSE),0)","v":0},0]
["",null,null,null,null,null,null,null,null,null,null,null,null,null,null,{"$f":"INDEX($A:$O,ROW(),MATCH('Rapportage per vraag'!$C$12,'Data leveranciersbeoordeling'!$1:$1,0))","v":0},{"$f":"IFERROR(VLOOKUP(INDEX($A:$O,ROW(),MATCH('Rapportage per vraag'!$C$12,'Data leveranciersbeoordeling'!$1:$1,0)),Leveranciersbeoordeling!$H$1:$I$5,2,FALSE),0)","v":0},0]
["",null,null,null,null,null,null,null,null,null,null,null,null,null,null,{"$f":"INDEX($A:$O,ROW(),MATCH('Rapportage per vraag'!$C$12,'Data leveranciersbeoordeling'!$1:$1,0))","v":0},{"$f":"IFERROR(VLOOKUP(INDEX($A:$O,ROW(),MATCH('Rapportage per vraag'!$C$12,'Data leveranciersbeoordeling'!$1:$1,0)),Leveranciersbeoordeling!$H$1:$I$5,2,FALSE),0)","v":0},0]
["",null,null,null,null,null,null,null,null,null,null,null,null,null,null,{"$f":"INDEX($A:$O,ROW(),MATCH('Rapportage per vraag'!$C$12,'Data leveranciersbeoordeling'!$1:$1,0))","v":0},{"$f":"IFERROR(VLOOKUP(INDEX($A:$O,ROW(),MATCH('Rapportage per vraag'!$C$12,'Data leveranciersbeoordeling'!$1:$1,0)),Leveranciersbeoordeling!$H$1:$I$5,2,FALSE),0)","v":0},0]
["",null,null,null,null,null,null,null,null,null,null,null,null,null,null,{"$f":"INDEX($A:$O,ROW(),MATCH('Rapportage per vraag'!$C$12,'Data leveranciersbeoordeling'!$1:$1,0))","v":0},{"$f":"IFERROR(VLOOKUP(INDEX($A:$O,ROW(),MATCH('Rapportage per vraag'!$C$12,'Data leveranciersbeoordeling'!$1:$1,0)),Leveranciersbeoordeling!$H$1:$I$5,2,FALSE),0)","v":0},0]
["",null,null,null,null,null,null,null,null,null,null,null,null,null,null,{"$f":"INDEX($A:$O,ROW(),MATCH('Rapportage per vraag'!$C$12,'Data leveranciersbeoordeling'!$1:$1,0))","v":0},{"$f":"IFERROR(VLOOKUP(INDEX($A:$O,ROW(),MATCH('Rapportage per vraag'!$C$12,'Data leveranciersbeoordeling'!$1:$1,0)),Leveranciersbeoordeling!$H$1:$I$5,2,FALSE),0)","v":0},0]
["",null,null,null,null,null,null,null,null,null,null,null,null,null,null,{"$f":"INDEX($A:$O,ROW(),MATCH('Rapportage per vraag'!$C$12,'Data leveranciersbeoordeling'!$1:$1,0))","v":0},{"$f":"IFERROR(VLOOKUP(INDEX($A:$O,ROW(),MATCH('Rapportage per vraag'!$C$12,'Data leveranciersbeoordeling'!$1:$1,0)),Leveranciersbeoordeling!$H$1:$I$5,2,FALSE),0)","v":0},0]
["",null,null,null,null,null,null,null,null,null,null,null,null,null,null,{"$f":"INDEX($A:$O,ROW(),MATCH('Rapportage per vraag'!$C$12,'Data leveranciersbeoordeling'!$1:$1,0))","v":0},{"$f":"IFERROR(VLOOKUP(INDEX($A:$O,ROW(),MATCH('Rapportage per vraag'!$C$12,'Data leveranciersbeoordeling'!$1:$1,0)),Leveranciersbeoordeling!$H$1:$I$5,2,FALSE),0)","v":0},0]
["",null,null,null,null,null,null,null,null,null,null,null,null,null,null,{"$f":"INDEX($A:$O,ROW(),MATCH('Rapportage per vraag'!$C$12,'Data leveranciersbeoordeling'!$1:$1,0))","v":0},{"$f":"IFERROR(VLOOKUP(INDEX($A:$O,ROW(),MATCH('Rapportage per vraag'!$C$12,'Data leveranciersbeoordeling'!$1:$1,0)),Leveranciersbeoordeling!$H$1:$I$5,2,FALSE),0)","v":0},0]
["",null,null,null,null,null,null,null,null,null,null,null,null,null,null,{"$f":"INDEX($A:$O,ROW(),MATCH('Rapportage per vraag'!$C$12,'Data leveranciersbeoordeling'!$1:$1,0))","v":0},{"$f":"IFERROR(VLOOKUP(INDEX($A:$O,ROW(),MATCH('Rapportage per vraag'!$C$12,'Data leveranciersbeoordeling'!$1:$1,0)),Leveranciersbeoordeling!$H$1:$I$5,2,FALSE),0)","v":0},0]
["",null,null,null,null,null,null,null,null,null,null,null,null,null,null,{"$f":"INDEX($A:$O,ROW(),MATCH('Rapportage per vraag'!$C$12,'Data leveranciersbeoordeling'!$1:$1,0))","v":0},{"$f":"IFERROR(VLOOKUP(INDEX($A:$O,ROW(),MATCH('Rapportage per vraag'!$C$12,'Data leveranciersbeoordeling'!$1:$1,0)),Leveranciersbeoordeling!$H$1:$I$5,2,FALSE),0)","v":0},0]
["",null,null,null,null,null,null,null,null,null,null,null,null,null,null,{"$f":"INDEX($A:$O,ROW(),MATCH('Rapportage per vraag'!$C$12,'Data leveranciersbeoordeling'!$1:$1,0))","v":0},{"$f":"IFERROR(VLOOKUP(INDEX($A:$O,ROW(),MATCH('Rapportage per vraag'!$C$12,'Data leveranciersbeoordeling'!$1:$1,0)),Leveranciersbeoordeling!$H$1:$I$5,2,FALSE),0)","v":0},0]
["",null,null,null,null,null,null,null,null,null,null,null,null,null,null,{"$f":"INDEX($A:$O,ROW(),MATCH('Rapportage per vraag'!$C$12,'Data leveranciersbeoordeling'!$1:$1,0))","v":0},{"$f":"IFERROR(VLOOKUP(INDEX($A:$O,ROW(),MATCH('Rapportage per vraag'!$C$12,'Data leveranciersbeoordeling'!$1:$1,0)),Leveranciersbeoordeling!$H$1:$I$5,2,FALSE),0)","v":0},0]
["",null,null,null,null,null,null,null,null,null,null,null,null,null,null,{"$f":"INDEX($A:$O,ROW(),MATCH('Rapportage per vraag'!$C$12,'Data leveranciersbeoordeling'!$1:$1,0))","v":0},{"$f":"IFERROR(VLOOKUP(INDEX($A:$O,ROW(),MATCH('Rapportage per vraag'!$C$12,'Data leveranciersbeoordeling'!$1:$1,0)),Leveranciersbeoordeling!$H$1:$I$5,2,FALSE),0)","v":0},0]
["",null,null,null,null,null,null,null,null,null,null,null,null,null,null,{"$f":"INDEX($A:$O,ROW(),MATCH('Rapportage per vraag'!$C$12,'Data leveranciersbeoordeling'!$1:$1,0))","v":0},{"$f":"IFERROR(VLOOKUP(INDEX($A:$O,ROW(),MATCH('Rapportage per vraag'!$C$12,'Data leveranciersbeoordeling'!$1:$1,0)),Leveranciersbeoordeling!$H$1:$I$5,2,FALSE),0)","v":0},0]
["",null,null,null,null,null,null,null,null,null,null,null,null,null,null,{"$f":"INDEX($A:$O,ROW(),MATCH('Rapportage per vraag'!$C$12,'Data leveranciersbeoordeling'!$1:$1,0))","v":0},{"$f":"IFERROR(VLOOKUP(INDEX($A:$O,ROW(),MATCH('Rapportage per vraag'!$C$12,'Data leveranciersbeoordeling'!$1:$1,0)),Leveranciersbeoordeling!$H$1:$I$5,2,FALSE),0)","v":0},0]
["",null,null,null,null,null,null,null,null,null,null,null,null,null,null,{"$f":"INDEX($A:$O,ROW(),MATCH('Rapportage per vraag'!$C$12,'Data leveranciersbeoordeling'!$1:$1,0))","v":0},{"$f":"IFERROR(VLOOKUP(INDEX($A:$O,ROW(),MATCH('Rapportage per vraag'!$C$12,'Data leveranciersbeoordeling'!$1:$1,0)),Leveranciersbeoordeling!$H$1:$I$5,2,FALSE),0)","v":0},0]
["",null,null,null,null,null,null,null,null,null,null,null,null,null,null,{"$f":"INDEX($A:$O,ROW(),MATCH('Rapportage per vraag'!$C$12,'Data leveranciersbeoordeling'!$1:$1,0))","v":0},{"$f":"IFERROR(VLOOKUP(INDEX($A:$O,ROW(),MATCH('Rapportage per vraag'!$C$12,'Data leveranciersbeoordeling'!$1:$1,0)),Leveranciersbeoordeling!$H$1:$I$5,2,FALSE),0)","v":0},0]
["",null,null,null,null,null,null,null,null,null,null,null,null,null,null,{"$f":"INDEX($A:$O,ROW(),MATCH('Rapportage per vraag'!$C$12,'Data leveranciersbeoordeling'!$1:$1,0))","v":0},{"$f":"IFERROR(VLOOKUP(INDEX($A:$O,ROW(),MATCH('Rapportage per vraag'!$C$12,'Data leveranciersbeoordeling'!$1:$1,0)),Leveranciersbeoordeling!$H$1:$I$5,2,FALSE),0)","v":0},0]
["",null,null,null,null,null,null,null,null,null,null,null,null,null,null,{"$f":"INDEX($A:$O,ROW(),MATCH('Rapportage per vraag'!$C$12,'Data leveranciersbeoordeling'!$1:$1,0))","v":0},{"$f":"IFERROR(VLOOKUP(INDEX($A:$O,ROW(),MATCH('Rapportage per vraag'!$C$12,'Data leveranciersbeoordeling'!$1:$1,0)),Leveranciersbeoordeling!$H$1:$I$5,2,FALSE),0)","v":0},0]
["",null,null,null,null,null,null,null,null,null,null,null,null,null,null,{"$f":"INDEX($A:$O,ROW(),MATCH('Rapportage per vraag'!$C$12,'Data leveranciersbeoordeling'!$1:$1,0))","v":0},{"$f":"IFERROR(VLOOKUP(INDEX($A:$O,ROW(),MATCH('Rapportage per vraag'!$C$12,'Data leveranciersbeoordeling'!$1:$1,0)),Leveranciersbeoordeling!$H$1:$I$5,2,FALSE),0)","v":0},0]
["",null,null,null,null,null,null,null,null,null,null,null,null,null,null,{"$f":"INDEX($A:$O,ROW(),MATCH('Rapportage per vraag'!$C$12,'Data leveranciersbeoordeling'!$1:$1,0))","v":0},{"$f":"IFERROR(VLOOKUP(INDEX($A:$O,ROW(),MATCH('Rapportage per vraag'!$C$12,'Data leveranciersbeoordeling'!$1:$1,0)),Leveranciersbeoordeling!$H$1:$I$5,2,FALSE),0)","v":0},0]
["",null,null,null,null,null,null,null,null,null,null,null,null,null,null,{"$f":"INDEX($A:$O,ROW(),MATCH('Rapportage per vraag'!$C$12,'Data leveranciersbeoordeling'!$1:$1,0))","v":0},{"$f":"IFERROR(VLOOKUP(INDEX($A:$O,ROW(),MATCH('Rapportage per vraag'!$C$12,'Data leveranciersbeoordeling'!$1:$1,0)),Leveranciersbeoordeling!$H$1:$I$5,2,FALSE),0)","v":0},0]
["",null,null,null,null,null,null,null,null,null,null,null,null,null,null,{"$f":"INDEX($A:$O,ROW(),MATCH('Rapportage per vraag'!$C$12,'Data leveranciersbeoordeling'!$1:$1,0))","v":0},{"$f":"IFERROR(VLOOKUP(INDEX($A:$O,ROW(),MATCH('Rapportage per vraag'!$C$12,'Data leveranciersbeoordeling'!$1:$1,0)),Leveranciersbeoordeling!$H$1:$I$5,2,FALSE),0)","v":0},0]
["",null,null,null,null,null,null,null,null,null,null,null,null,null,null,{"$f":"INDEX($A:$O,ROW(),MATCH('Rapportage per vraag'!$C$12,'Data leveranciersbeoordeling'!$1:$1,0))","v":0},{"$f":"IFERROR(VLOOKUP(INDEX($A:$O,ROW(),MATCH('Rapportage per vraag'!$C$12,'Data leveranciersbeoordeling'!$1:$1,0)),Leveranciersbeoordeling!$H$1:$I$5,2,FALSE),0)","v":0},0]
["",null,null,null,null,null,null,null,null,null,null,null,null,null,null,{"$f":"INDEX($A:$O,ROW(),MATCH('Rapportage per vraag'!$C$12,'Data leveranciersbeoordeling'!$1:$1,0))","v":0},{"$f":"IFERROR(VLOOKUP(INDEX($A:$O,ROW(),MATCH('Rapportage per vraag'!$C$12,'Data leveranciersbeoordeling'!$1:$1,0)),Leveranciersbeoordeling!$H$1:$I$5,2,FALSE),0)","v":0},0]
["",null,null,null,null,null,null,null,null,null,null,null,null,null,null,{"$f":"INDEX($A:$O,ROW(),MATCH('Rapportage per vraag'!$C$12,'Data leveranciersbeoordeling'!$1:$1,0))","v":0},{"$f":"IFERROR(VLOOKUP(INDEX($A:$O,ROW(),MATCH('Rapportage per vraag'!$C$12,'Data leveranciersbeoordeling'!$1:$1,0)),Leveranciersbeoordeling!$H$1:$I$5,2,FALSE),0)","v":0},0]
["",null,null,null,null,null,null,null,null,null,null,null,null,null,null,{"$f":"INDEX($A:$O,ROW(),MATCH('Rapportage per vraag'!$C$12,'Data leveranciersbeoordeling'!$1:$1,0))","v":0},{"$f":"IFERROR(VLOOKUP(INDEX($A:$O,ROW(),MATCH('Rapportage per vraag'!$C$12,'Data leveranciersbeoordeling'!$1:$1,0)),Leveranciersbeoordeling!$H$1:$I$5,2,FALSE),0)","v":0},0]
["",null,null,null,null,null,null,null,null,null,null,null,null,null,null,{"$f":"INDEX($A:$O,ROW(),MATCH('Rapportage per vraag'!$C$12,'Data leveranciersbeoordeling'!$1:$1,0))","v":0},{"$f":"IFERROR(VLOOKUP(INDEX($A:$O,ROW(),MATCH('Rapportage per vraag'!$C$12,'Data leveranciersbeoordeling'!$1:$1,0)),Leveranciersbeoordeling!$H$1:$I$5,2,FALSE),0)","v":0},0]
["",null,null,null,null,null,null,null,null,null,null,null,null,null,null,{"$f":"INDEX($A:$O,ROW(),MATCH('Rapportage per vraag'!$C$12,'Data leveranciersbeoordeling'!$1:$1,0))","v":0},{"$f":"IFERROR(VLOOKUP(INDEX($A:$O,ROW(),MATCH('Rapportage per vraag'!$C$12,'Data leveranciersbeoordeling'!$1:$1,0)),Leveranciersbeoordeling!$H$1:$I$5,2,FALSE),0)","v":0},0]
["",null,null,null,null,null,null,null,null,null,null,null,null,null,null,{"$f":"INDEX($A:$O,ROW(),MATCH('Rapportage per vraag'!$C$12,'Data leveranciersbeoordeling'!$1:$1,0))","v":0},{"$f":"IFERROR(VLOOKUP(INDEX($A:$O,ROW(),MATCH('Rapportage per vraag'!$C$12,'Data leveranciersbeoordeling'!$1:$1,0)),Leveranciersbeoordeling!$H$1:$I$5,2,FALSE),0)","v":0},0]
["",null,null,null,null,null,null,null,null,null,null,null,null,null,null,{"$f":"INDEX($A:$O,ROW(),MATCH('Rapportage per vraag'!$C$12,'Data leveranciersbeoordeling'!$1:$1,0))","v":0},{"$f":"IFERROR(VLOOKUP(INDEX($A:$O,ROW(),MATCH('Rapportage per vraag'!$C$12,'Data leveranciersbeoordeling'!$1:$1,0)),Leveranciersbeoordeling!$H$1:$I$5,2,FALSE),0)","v":0},0]
["",null,null,null,null,null,null,null,null,null,null,null,null,null,null,{"$f":"INDEX($A:$O,ROW(),MATCH('Rapportage per vraag'!$C$12,'Data leveranciersbeoordeling'!$1:$1,0))","v":0},{"$f":"IFERROR(VLOOKUP(INDEX($A:$O,ROW(),MATCH('Rapportage per vraag'!$C$12,'Data leveranciersbeoordeling'!$1:$1,0)),Leveranciersbeoordeling!$H$1:$I$5,2,FALSE),0)","v":0},0]
["",null,null,null,null,null,null,null,null,null,null,null,null,null,null,{"$f":"INDEX($A:$O,ROW(),MATCH('Rapportage per vraag'!$C$12,'Data leveranciersbeoordeling'!$1:$1,0))","v":0},{"$f":"IFERROR(VLOOKUP(INDEX($A:$O,ROW(),MATCH('Rapportage per vraag'!$C$12,'Data leveranciersbeoordeling'!$1:$1,0)),Leveranciersbeoordeling!$H$1:$I$5,2,FALSE),0)","v":0},0]
["",null,null,null,null,null,null,null,null,null,null,null,null,null,null,{"$f":"INDEX($A:$O,ROW(),MATCH('Rapportage per vraag'!$C$12,'Data leveranciersbeoordeling'!$1:$1,0))","v":0},{"$f":"IFERROR(VLOOKUP(INDEX($A:$O,ROW(),MATCH('Rapportage per vraag'!$C$12,'Data leveranciersbeoordeling'!$1:$1,0)),Leveranciersbeoordeling!$H$1:$I$5,2,FALSE),0)","v":0},0]
["",null,null,null,null,null,null,null,null,null,null,null,null,null,null,{"$f":"INDEX($A:$O,ROW(),MATCH('Rapportage per vraag'!$C$12,'Data leveranciersbeoordeling'!$1:$1,0))","v":0},{"$f":"IFERROR(VLOOKUP(INDEX($A:$O,ROW(),MATCH('Rapportage per vraag'!$C$12,'Data leveranciersbeoordeling'!$1:$1,0)),Leveranciersbeoordeling!$H$1:$I$5,2,FALSE),0)","v":0},{"$f":"IF(T(P5702)=P5702,Q5702,P5702)","v":0}]
["",null,null,null,null,null,null,null,null,null,null,null,null,null,null,{"$f":"INDEX($A:$O,ROW(),MATCH('Rapportage per vraag'!$C$12,'Data leveranciersbeoordeling'!$1:$1,0))","v":0},{"$f":"IFERROR(VLOOKUP(INDEX($A:$O,ROW(),MATCH('Rapportage per vraag'!$C$12,'Data leveranciersbeoordeling'!$1:$1,0)),Leveranciersbeoordeling!$H$1:$I$5,2,FALSE),0)","v":0},0]
["",null,null,null,null,null,null,null,null,null,null,null,null,null,null,{"$f":"INDEX($A:$O,ROW(),MATCH('Rapportage per vraag'!$C$12,'Data leveranciersbeoordeling'!$1:$1,0))","v":0},{"$f":"IFERROR(VLOOKUP(INDEX($A:$O,ROW(),MATCH('Rapportage per vraag'!$C$12,'Data leveranciersbeoordeling'!$1:$1,0)),Leveranciersbeoordeling!$H$1:$I$5,2,FALSE),0)","v":0},0]
["",null,null,null,null,null,null,null,null,null,null,null,null,null,null,{"$f":"INDEX($A:$O,ROW(),MATCH('Rapportage per vraag'!$C$12,'Data leveranciersbeoordeling'!$1:$1,0))","v":0},{"$f":"IFERROR(VLOOKUP(INDEX($A:$O,ROW(),MATCH('Rapportage per vraag'!$C$12,'Data leveranciersbeoordeling'!$1:$1,0)),Leveranciersbeoordeling!$H$1:$I$5,2,FALSE),0)","v":0},0]
["",null,null,null,null,null,null,null,null,null,null,null,null,null,null,{"$f":"INDEX($A:$O,ROW(),MATCH('Rapportage per vraag'!$C$12,'Data leveranciersbeoordeling'!$1:$1,0))","v":0},{"$f":"IFERROR(VLOOKUP(INDEX($A:$O,ROW(),MATCH('Rapportage per vraag'!$C$12,'Data leveranciersbeoordeling'!$1:$1,0)),Leveranciersbeoordeling!$H$1:$I$5,2,FALSE),0)","v":0},0]
["",null,null,null,null,null,null,null,null,null,null,null,null,null,null,{"$f":"INDEX($A:$O,ROW(),MATCH('Rapportage per vraag'!$C$12,'Data leveranciersbeoordeling'!$1:$1,0))","v":0},{"$f":"IFERROR(VLOOKUP(INDEX($A:$O,ROW(),MATCH('Rapportage per vraag'!$C$12,'Data leveranciersbeoordeling'!$1:$1,0)),Leveranciersbeoordeling!$H$1:$I$5,2,FALSE),0)","v":0},0]
["",null,null,null,null,null,null,null,null,null,null,null,null,null,null,{"$f":"INDEX($A:$O,ROW(),MATCH('Rapportage per vraag'!$C$12,'Data leveranciersbeoordeling'!$1:$1,0))","v":0},{"$f":"IFERROR(VLOOKUP(INDEX($A:$O,ROW(),MATCH('Rapportage per vraag'!$C$12,'Data leveranciersbeoordeling'!$1:$1,0)),Leveranciersbeoordeling!$H$1:$I$5,2,FALSE),0)","v":0},0]
["",null,null,null,null,null,null,null,null,null,null,null,null,null,null,{"$f":"INDEX($A:$O,ROW(),MATCH('Rapportage per vraag'!$C$12,'Data leveranciersbeoordeling'!$1:$1,0))","v":0},{"$f":"IFERROR(VLOOKUP(INDEX($A:$O,ROW(),MATCH('Rapportage per vraag'!$C$12,'Data leveranciersbeoordeling'!$1:$1,0)),Leveranciersbeoordeling!$H$1:$I$5,2,FALSE),0)","v":0},0]
["",null,null,null,null,null,null,null,null,null,null,null,null,null,null,{"$f":"INDEX($A:$O,ROW(),MATCH('Rapportage per vraag'!$C$12,'Data leveranciersbeoordeling'!$1:$1,0))","v":0},{"$f":"IFERROR(VLOOKUP(INDEX($A:$O,ROW(),MATCH('Rapportage per vraag'!$C$12,'Data leveranciersbeoordeling'!$1:$1,0)),Leveranciersbeoordeling!$H$1:$I$5,2,FALSE),0)","v":0},0]
["",null,null,null,null,null,null,null,null,null,null,null,null,null,null,{"$f":"INDEX($A:$O,ROW(),MATCH('Rapportage per vraag'!$C$12,'Data leveranciersbeoordeling'!$1:$1,0))","v":0},{"$f":"IFERROR(VLOOKUP(INDEX($A:$O,ROW(),MATCH('Rapportage per vraag'!$C$12,'Data leveranciersbeoordeling'!$1:$1,0)),Leveranciersbeoordeling!$H$1:$I$5,2,FALSE),0)","v":0},0]
["",null,null,null,null,null,null,null,null,null,null,null,null,null,null,{"$f":"INDEX($A:$O,ROW(),MATCH('Rapportage per vraag'!$C$12,'Data leveranciersbeoordeling'!$1:$1,0))","v":0},{"$f":"IFERROR(VLOOKUP(INDEX($A:$O,ROW(),MATCH('Rapportage per vraag'!$C$12,'Data leveranciersbeoordeling'!$1:$1,0)),Leveranciersbeoordeling!$H$1:$I$5,2,FALSE),0)","v":0},0]
["",null,null,null,null,null,null,null,null,null,null,null,null,null,null,{"$f":"INDEX($A:$O,ROW(),MATCH('Rapportage per vraag'!$C$12,'Data leveranciersbeoordeling'!$1:$1,0))","v":0},{"$f":"IFERROR(VLOOKUP(INDEX($A:$O,ROW(),MATCH('Rapportage per vraag'!$C$12,'Data leveranciersbeoordeling'!$1:$1,0)),Leveranciersbeoordeling!$H$1:$I$5,2,FALSE),0)","v":0},0]
["",null,null,null,null,null,null,null,null,null,null,null,null,null,null,{"$f":"INDEX($A:$O,ROW(),MATCH('Rapportage per vraag'!$C$12,'Data leveranciersbeoordeling'!$1:$1,0))","v":0},{"$f":"IFERROR(VLOOKUP(INDEX($A:$O,ROW(),MATCH('Rapportage per vraag'!$C$12,'Data leveranciersbeoordeling'!$1:$1,0)),Leveranciersbeoordeling!$H$1:$I$5,2,FALSE),0)","v":0},0]
["",null,null,null,null,null,null,null,null,null,null,null,null,null,null,{"$f":"INDEX($A:$O,ROW(),MATCH('Rapportage per vraag'!$C$12,'Data leveranciersbeoordeling'!$1:$1,0))","v":0},{"$f":"IFERROR(VLOOKUP(INDEX($A:$O,ROW(),MATCH('Rapportage per vraag'!$C$12,'Data leveranciersbeoordeling'!$1:$1,0)),Leveranciersbeoordeling!$H$1:$I$5,2,FALSE),0)","v":0},0]
["",null,null,null,null,null,null,null,null,null,null,null,null,null,null,{"$f":"INDEX($A:$O,ROW(),MATCH('Rapportage per vraag'!$C$12,'Data leveranciersbeoordeling'!$1:$1,0))","v":0},{"$f":"IFERROR(VLOOKUP(INDEX($A:$O,ROW(),MATCH('Rapportage per vraag'!$C$12,'Data leveranciersbeoordeling'!$1:$1,0)),Leveranciersbeoordeling!$H$1:$I$5,2,FALSE),0)","v":0},0]
["",null,null,null,null,null,null,null,null,null,null,null,null,null,null,{"$f":"INDEX($A:$O,ROW(),MATCH('Rapportage per vraag'!$C$12,'Data leveranciersbeoordeling'!$1:$1,0))","v":0},{"$f":"IFERROR(VLOOKUP(INDEX($A:$O,ROW(),MATCH('Rapportage per vraag'!$C$12,'Data leveranciersbeoordeling'!$1:$1,0)),Leveranciersbeoordeling!$H$1:$I$5,2,FALSE),0)","v":0},0]
["",null,null,null,null,null,null,null,null,null,null,null,null,null,null,{"$f":"INDEX($A:$O,ROW(),MATCH('Rapportage per vraag'!$C$12,'Data leveranciersbeoordeling'!$1:$1,0))","v":0},{"$f":"IFERROR(VLOOKUP(INDEX($A:$O,ROW(),MATCH('Rapportage per vraag'!$C$12,'Data leveranciersbeoordeling'!$1:$1,0)),Leveranciersbeoordeling!$H$1:$I$5,2,FALSE),0)","v":0},0]
["",null,null,null,null,null,null,null,null,null,null,null,null,null,null,{"$f":"INDEX($A:$O,ROW(),MATCH('Rapportage per vraag'!$C$12,'Data leveranciersbeoordeling'!$1:$1,0))","v":0},{"$f":"IFERROR(VLOOKUP(INDEX($A:$O,ROW(),MATCH('Rapportage per vraag'!$C$12,'Data leveranciersbeoordeling'!$1:$1,0)),Leveranciersbeoordeling!$H$1:$I$5,2,FALSE),0)","v":0},0]
["",null,null,null,null,null,null,null,null,null,null,null,null,null,null,{"$f":"INDEX($A:$O,ROW(),MATCH('Rapportage per vraag'!$C$12,'Data leveranciersbeoordeling'!$1:$1,0))","v":0},{"$f":"IFERROR(VLOOKUP(INDEX($A:$O,ROW(),MATCH('Rapportage per vraag'!$C$12,'Data leveranciersbeoordeling'!$1:$1,0)),Leveranciersbeoordeling!$H$1:$I$5,2,FALSE),0)","v":0},0]
["",null,null,null,null,null,null,null,null,null,null,null,null,null,null,{"$f":"INDEX($A:$O,ROW(),MATCH('Rapportage per vraag'!$C$12,'Data leveranciersbeoordeling'!$1:$1,0))","v":0},{"$f":"IFERROR(VLOOKUP(INDEX($A:$O,ROW(),MATCH('Rapportage per vraag'!$C$12,'Data leveranciersbeoordeling'!$1:$1,0)),Leveranciersbeoordeling!$H$1:$I$5,2,FALSE),0)","v":0},0]
["",null,null,null,null,null,null,null,null,null,null,null,null,null,null,{"$f":"INDEX($A:$O,ROW(),MATCH('Rapportage per vraag'!$C$12,'Data leveranciersbeoordeling'!$1:$1,0))","v":0},{"$f":"IFERROR(VLOOKUP(INDEX($A:$O,ROW(),MATCH('Rapportage per vraag'!$C$12,'Data leveranciersbeoordeling'!$1:$1,0)),Leveranciersbeoordeling!$H$1:$I$5,2,FALSE),0)","v":0},0]
["",null,null,null,null,null,null,null,null,null,null,null,null,null,null,{"$f":"INDEX($A:$O,ROW(),MATCH('Rapportage per vraag'!$C$12,'Data leveranciersbeoordeling'!$1:$1,0))","v":0},{"$f":"IFERROR(VLOOKUP(INDEX($A:$O,ROW(),MATCH('Rapportage per vraag'!$C$12,'Data leveranciersbeoordeling'!$1:$1,0)),Leveranciersbeoordeling!$H$1:$I$5,2,FALSE),0)","v":0},0]
["",null,null,null,null,null,null,null,null,null,null,null,null,null,null,{"$f":"INDEX($A:$O,ROW(),MATCH('Rapportage per vraag'!$C$12,'Data leveranciersbeoordeling'!$1:$1,0))","v":0},{"$f":"IFERROR(VLOOKUP(INDEX($A:$O,ROW(),MATCH('Rapportage per vraag'!$C$12,'Data leveranciersbeoordeling'!$1:$1,0)),Leveranciersbeoordeling!$H$1:$I$5,2,FALSE),0)","v":0},0]
["",null,null,null,null,null,null,null,null,null,null,null,null,null,null,{"$f":"INDEX($A:$O,ROW(),MATCH('Rapportage per vraag'!$C$12,'Data leveranciersbeoordeling'!$1:$1,0))","v":0},{"$f":"IFERROR(VLOOKUP(INDEX($A:$O,ROW(),MATCH('Rapportage per vraag'!$C$12,'Data leveranciersbeoordeling'!$1:$1,0)),Leveranciersbeoordeling!$H$1:$I$5,2,FALSE),0)","v":0},0]
["",null,null,null,null,null,null,null,null,null,null,null,null,null,null,{"$f":"INDEX($A:$O,ROW(),MATCH('Rapportage per vraag'!$C$12,'Data leveranciersbeoordeling'!$1:$1,0))","v":0},{"$f":"IFERROR(VLOOKUP(INDEX($A:$O,ROW(),MATCH('Rapportage per vraag'!$C$12,'Data leveranciersbeoordeling'!$1:$1,0)),Leveranciersbeoordeling!$H$1:$I$5,2,FALSE),0)","v":0},0]
["",null,null,null,null,null,null,null,null,null,null,null,null,null,null,{"$f":"INDEX($A:$O,ROW(),MATCH('Rapportage per vraag'!$C$12,'Data leveranciersbeoordeling'!$1:$1,0))","v":0},{"$f":"IFERROR(VLOOKUP(INDEX($A:$O,ROW(),MATCH('Rapportage per vraag'!$C$12,'Data leveranciersbeoordeling'!$1:$1,0)),Leveranciersbeoordeling!$H$1:$I$5,2,FALSE),0)","v":0},0]
["",null,null,null,null,null,null,null,null,null,null,null,null,null,null,{"$f":"INDEX($A:$O,ROW(),MATCH('Rapportage per vraag'!$C$12,'Data leveranciersbeoordeling'!$1:$1,0))","v":0},{"$f":"IFERROR(VLOOKUP(INDEX($A:$O,ROW(),MATCH('Rapportage per vraag'!$C$12,'Data leveranciersbeoordeling'!$1:$1,0)),Leveranciersbeoordeling!$H$1:$I$5,2,FALSE),0)","v":0},0]
["",null,null,null,null,null,null,null,null,null,null,null,null,null,null,{"$f":"INDEX($A:$O,ROW(),MATCH('Rapportage per vraag'!$C$12,'Data leveranciersbeoordeling'!$1:$1,0))","v":0},{"$f":"IFERROR(VLOOKUP(INDEX($A:$O,ROW(),MATCH('Rapportage per vraag'!$C$12,'Data leveranciersbeoordeling'!$1:$1,0)),Leveranciersbeoordeling!$H$1:$I$5,2,FALSE),0)","v":0},0]
["",null,null,null,null,null,null,null,null,null,null,null,null,null,null,{"$f":"INDEX($A:$O,ROW(),MATCH('Rapportage per vraag'!$C$12,'Data leveranciersbeoordeling'!$1:$1,0))","v":0},{"$f":"IFERROR(VLOOKUP(INDEX($A:$O,ROW(),MATCH('Rapportage per vraag'!$C$12,'Data leveranciersbeoordeling'!$1:$1,0)),Leveranciersbeoordeling!$H$1:$I$5,2,FALSE),0)","v":0},0]
["",null,null,null,null,null,null,null,null,null,null,null,null,null,null,{"$f":"INDEX($A:$O,ROW(),MATCH('Rapportage per vraag'!$C$12,'Data leveranciersbeoordeling'!$1:$1,0))","v":0},{"$f":"IFERROR(VLOOKUP(INDEX($A:$O,ROW(),MATCH('Rapportage per vraag'!$C$12,'Data leveranciersbeoordeling'!$1:$1,0)),Leveranciersbeoordeling!$H$1:$I$5,2,FALSE),0)","v":0},0]
["",null,null,null,null,null,null,null,null,null,null,null,null,null,null,{"$f":"INDEX($A:$O,ROW(),MATCH('Rapportage per vraag'!$C$12,'Data leveranciersbeoordeling'!$1:$1,0))","v":0},{"$f":"IFERROR(VLOOKUP(INDEX($A:$O,ROW(),MATCH('Rapportage per vraag'!$C$12,'Data leveranciersbeoordeling'!$1:$1,0)),Leveranciersbeoordeling!$H$1:$I$5,2,FALSE),0)","v":0},0]
["",null,null,null,null,null,null,null,null,null,null,null,null,null,null,{"$f":"INDEX($A:$O,ROW(),MATCH('Rapportage per vraag'!$C$12,'Data leveranciersbeoordeling'!$1:$1,0))","v":0},{"$f":"IFERROR(VLOOKUP(INDEX($A:$O,ROW(),MATCH('Rapportage per vraag'!$C$12,'Data leveranciersbeoordeling'!$1:$1,0)),Leveranciersbeoordeling!$H$1:$I$5,2,FALSE),0)","v":0},0]
["",null,null,null,null,null,null,null,null,null,null,null,null,null,null,{"$f":"INDEX($A:$O,ROW(),MATCH('Rapportage per vraag'!$C$12,'Data leveranciersbeoordeling'!$1:$1,0))","v":0},{"$f":"IFERROR(VLOOKUP(INDEX($A:$O,ROW(),MATCH('Rapportage per vraag'!$C$12,'Data leveranciersbeoordeling'!$1:$1,0)),Leveranciersbeoordeling!$H$1:$I$5,2,FALSE),0)","v":0},0]
[{"$f":"CONCATENATE(B5827,C5827,D5827)","v":""},null,null,null,null,null,null,null,null,null,null,null,null,null,null,{"$f":"INDEX($A:$O,ROW(),MATCH('Rapportage per vraag'!$C$12,'Data leveranciersbeoordeling'!$1:$1,0))","v":0},{"$f":"IFERROR(VLOOKUP(INDEX($A:$O,ROW(),MATCH('Rapportage per vraag'!$C$12,'Data leveranciersbeoordeling'!$1:$1,0)),Leveranciersbeoordeling!$H$1:$I$5,2,FALSE),0)","v":0},0]
["",null,null,null,null,null,null,null,null,null,null,null,null,null,null,{"$f":"INDEX($A:$O,ROW(),MATCH('Rapportage per vraag'!$C$12,'Data leveranciersbeoordeling'!$1:$1,0))","v":0},{"$f":"IFERROR(VLOOKUP(INDEX($A:$O,ROW(),MATCH('Rapportage per vraag'!$C$12,'Data leveranciersbeoordeling'!$1:$1,0)),Leveranciersbeoordeling!$H$1:$I$5,2,FALSE),0)","v":0},0]
["",null,null,null,null,null,null,null,null,null,null,null,null,null,null,{"$f":"INDEX($A:$O,ROW(),MATCH('Rapportage per vraag'!$C$12,'Data leveranciersbeoordeling'!$1:$1,0))","v":0},{"$f":"IFERROR(VLOOKUP(INDEX($A:$O,ROW(),MATCH('Rapportage per vraag'!$C$12,'Data leveranciersbeoordeling'!$1:$1,0)),Leveranciersbeoordeling!$H$1:$I$5,2,FALSE),0)","v":0},0]
["",null,null,null,null,null,null,null,null,null,null,null,null,null,null,{"$f":"INDEX($A:$O,ROW(),MATCH('Rapportage per vraag'!$C$12,'Data leveranciersbeoordeling'!$1:$1,0))","v":0},{"$f":"IFERROR(VLOOKUP(INDEX($A:$O,ROW(),MATCH('Rapportage per vraag'!$C$12,'Data leveranciersbeoordeling'!$1:$1,0)),Leveranciersbeoordeling!$H$1:$I$5,2,FALSE),0)","v":0},0]
["",null,null,null,null,null,null,null,null,null,null,null,null,null,null,{"$f":"INDEX($A:$O,ROW(),MATCH('Rapportage per vraag'!$C$12,'Data leveranciersbeoordeling'!$1:$1,0))","v":0},{"$f":"IFERROR(VLOOKUP(INDEX($A:$O,ROW(),MATCH('Rapportage per vraag'!$C$12,'Data leveranciersbeoordeling'!$1:$1,0)),Leveranciersbeoordeling!$H$1:$I$5,2,FALSE),0)","v":0},0]
["",null,null,null,null,null,null,null,null,null,null,null,null,null,null,{"$f":"INDEX($A:$O,ROW(),MATCH('Rapportage per vraag'!$C$12,'Data leveranciersbeoordeling'!$1:$1,0))","v":0},{"$f":"IFERROR(VLOOKUP(INDEX($A:$O,ROW(),MATCH('Rapportage per vraag'!$C$12,'Data leveranciersbeoordeling'!$1:$1,0)),Leveranciersbeoordeling!$H$1:$I$5,2,FALSE),0)","v":0},0]
["",null,null,null,null,null,null,null,null,null,null,null,null,null,null,{"$f":"INDEX($A:$O,ROW(),MATCH('Rapportage per vraag'!$C$12,'Data leveranciersbeoordeling'!$1:$1,0))","v":0},{"$f":"IFERROR(VLOOKUP(INDEX($A:$O,ROW(),MATCH('Rapportage per vraag'!$C$12,'Data leveranciersbeoordeling'!$1:$1,0)),Leveranciersbeoordeling!$H$1:$I$5,2,FALSE),0)","v":0},0]
["",null,null,null,null,null,null,null,null,null,null,null,null,null,null,{"$f":"INDEX($A:$O,ROW(),MATCH('Rapportage per vraag'!$C$12,'Data leveranciersbeoordeling'!$1:$1,0))","v":0},{"$f":"IFERROR(VLOOKUP(INDEX($A:$O,ROW(),MATCH('Rapportage per vraag'!$C$12,'Data leveranciersbeoordeling'!$1:$1,0)),Leveranciersbeoordeling!$H$1:$I$5,2,FALSE),0)","v":0},0]
["",null,null,null,null,null,null,null,null,null,null,null,null,null,null,{"$f":"INDEX($A:$O,ROW(),MATCH('Rapportage per vraag'!$C$12,'Data leveranciersbeoordeling'!$1:$1,0))","v":0},{"$f":"IFERROR(VLOOKUP(INDEX($A:$O,ROW(),MATCH('Rapportage per vraag'!$C$12,'Data leveranciersbeoordeling'!$1:$1,0)),Leveranciersbeoordeling!$H$1:$I$5,2,FALSE),0)","v":0},0]
["",null,null,null,null,null,null,null,null,null,null,null,null,null,null,{"$f":"INDEX($A:$O,ROW(),MATCH('Rapportage per vraag'!$C$12,'Data leveranciersbeoordeling'!$1:$1,0))","v":0},{"$f":"IFERROR(VLOOKUP(INDEX($A:$O,ROW(),MATCH('Rapportage per vraag'!$C$12,'Data leveranciersbeoordeling'!$1:$1,0)),Leveranciersbeoordeling!$H$1:$I$5,2,FALSE),0)","v":0},0]
["",null,null,null,null,null,null,null,null,null,null,null,null,null,null,{"$f":"INDEX($A:$O,ROW(),MATCH('Rapportage per vraag'!$C$12,'Data leveranciersbeoordeling'!$1:$1,0))","v":0},{"$f":"IFERROR(VLOOKUP(INDEX($A:$O,ROW(),MATCH('Rapportage per vraag'!$C$12,'Data leveranciersbeoordeling'!$1:$1,0)),Leveranciersbeoordeling!$H$1:$I$5,2,FALSE),0)","v":0},0]
["",null,null,null,null,null,null,null,null,null,null,null,null,null,null,{"$f":"INDEX($A:$O,ROW(),MATCH('Rapportage per vraag'!$C$12,'Data leveranciersbeoordeling'!$1:$1,0))","v":0},{"$f":"IFERROR(VLOOKUP(INDEX($A:$O,ROW(),MATCH('Rapportage per vraag'!$C$12,'Data leveranciersbeoordeling'!$1:$1,0)),Leveranciersbeoordeling!$H$1:$I$5,2,FALSE),0)","v":0},0]
["",null,null,null,null,null,null,null,null,null,null,null,null,null,null,{"$f":"INDEX($A:$O,ROW(),MATCH('Rapportage per vraag'!$C$12,'Data leveranciersbeoordeling'!$1:$1,0))","v":0},{"$f":"IFERROR(VLOOKUP(INDEX($A:$O,ROW(),MATCH('Rapportage per vraag'!$C$12,'Data leveranciersbeoordeling'!$1:$1,0)),Leveranciersbeoordeling!$H$1:$I$5,2,FALSE),0)","v":0},0]
["",null,null,null,null,null,null,null,null,null,null,null,null,null,null,{"$f":"INDEX($A:$O,ROW(),MATCH('Rapportage per vraag'!$C$12,'Data leveranciersbeoordeling'!$1:$1,0))","v":0},{"$f":"IFERROR(VLOOKUP(INDEX($A:$O,ROW(),MATCH('Rapportage per vraag'!$C$12,'Data leveranciersbeoordeling'!$1:$1,0)),Leveranciersbeoordeling!$H$1:$I$5,2,FALSE),0)","v":0},0]
["",null,null,null,null,null,null,null,null,null,null,null,null,null,null,{"$f":"INDEX($A:$O,ROW(),MATCH('Rapportage per vraag'!$C$12,'Data leveranciersbeoordeling'!$1:$1,0))","v":0},{"$f":"IFERROR(VLOOKUP(INDEX($A:$O,ROW(),MATCH('Rapportage per vraag'!$C$12,'Data leveranciersbeoordeling'!$1:$1,0)),Leveranciersbeoordeling!$H$1:$I$5,2,FALSE),0)","v":0},0]
["",null,null,null,null,null,null,null,null,null,null,null,null,null,null,{"$f":"INDEX($A:$O,ROW(),MATCH('Rapportage per vraag'!$C$12,'Data leveranciersbeoordeling'!$1:$1,0))","v":0},{"$f":"IFERROR(VLOOKUP(INDEX($A:$O,ROW(),MATCH('Rapportage per vraag'!$C$12,'Data leveranciersbeoordeling'!$1:$1,0)),Leveranciersbeoordeling!$H$1:$I$5,2,FALSE),0)","v":0},0]
["",null,null,null,null,null,null,null,null,null,null,null,null,null,null,{"$f":"INDEX($A:$O,ROW(),MATCH('Rapportage per vraag'!$C$12,'Data leveranciersbeoordeling'!$1:$1,0))","v":0},{"$f":"IFERROR(VLOOKUP(INDEX($A:$O,ROW(),MATCH('Rapportage per vraag'!$C$12,'Data leveranciersbeoordeling'!$1:$1,0)),Leveranciersbeoordeling!$H$1:$I$5,2,FALSE),0)","v":0},0]
["",null,null,null,null,null,null,null,null,null,null,null,null,null,null,{"$f":"INDEX($A:$O,ROW(),MATCH('Rapportage per vraag'!$C$12,'Data leveranciersbeoordeling'!$1:$1,0))","v":0},{"$f":"IFERROR(VLOOKUP(INDEX($A:$O,ROW(),MATCH('Rapportage per vraag'!$C$12,'Data leveranciersbeoordeling'!$1:$1,0)),Leveranciersbeoordeling!$H$1:$I$5,2,FALSE),0)","v":0},0]
["",null,null,null,null,null,null,null,null,null,null,null,null,null,null,{"$f":"INDEX($A:$O,ROW(),MATCH('Rapportage per vraag'!$C$12,'Data leveranciersbeoordeling'!$1:$1,0))","v":0},{"$f":"IFERROR(VLOOKUP(INDEX($A:$O,ROW(),MATCH('Rapportage per vraag'!$C$12,'Data leveranciersbeoordeling'!$1:$1,0)),Leveranciersbeoordeling!$H$1:$I$5,2,FALSE),0)","v":0},0]
["",null,null,null,null,null,null,null,null,null,null,null,null,null,null,{"$f":"INDEX($A:$O,ROW(),MATCH('Rapportage per vraag'!$C$12,'Data leveranciersbeoordeling'!$1:$1,0))","v":0},{"$f":"IFERROR(VLOOKUP(INDEX($A:$O,ROW(),MATCH('Rapportage per vraag'!$C$12,'Data leveranciersbeoordeling'!$1:$1,0)),Leveranciersbeoordeling!$H$1:$I$5,2,FALSE),0)","v":0},0]
["",null,null,null,null,null,null,null,null,null,null,null,null,null,null,{"$f":"INDEX($A:$O,ROW(),MATCH('Rapportage per vraag'!$C$12,'Data leveranciersbeoordeling'!$1:$1,0))","v":0},{"$f":"IFERROR(VLOOKUP(INDEX($A:$O,ROW(),MATCH('Rapportage per vraag'!$C$12,'Data leveranciersbeoordeling'!$1:$1,0)),Leveranciersbeoordeling!$H$1:$I$5,2,FALSE),0)","v":0},0]
["",null,null,null,null,null,null,null,null,null,null,null,null,null,null,{"$f":"INDEX($A:$O,ROW(),MATCH('Rapportage per vraag'!$C$12,'Data leveranciersbeoordeling'!$1:$1,0))","v":0},{"$f":"IFERROR(VLOOKUP(INDEX($A:$O,ROW(),MATCH('Rapportage per vraag'!$C$12,'Data leveranciersbeoordeling'!$1:$1,0)),Leveranciersbeoordeling!$H$1:$I$5,2,FALSE),0)","v":0},0]
["",null,null,null,null,null,null,null,null,null,null,null,null,null,null,{"$f":"INDEX($A:$O,ROW(),MATCH('Rapportage per vraag'!$C$12,'Data leveranciersbeoordeling'!$1:$1,0))","v":0},{"$f":"IFERROR(VLOOKUP(INDEX($A:$O,ROW(),MATCH('Rapportage per vraag'!$C$12,'Data leveranciersbeoordeling'!$1:$1,0)),Leveranciersbeoordeling!$H$1:$I$5,2,FALSE),0)","v":0},0]
["",null,null,null,null,null,null,null,null,null,null,null,null,null,null,{"$f":"INDEX($A:$O,ROW(),MATCH('Rapportage per vraag'!$C$12,'Data leveranciersbeoordeling'!$1:$1,0))","v":0},{"$f":"IFERROR(VLOOKUP(INDEX($A:$O,ROW(),MATCH('Rapportage per vraag'!$C$12,'Data leveranciersbeoordeling'!$1:$1,0)),Leveranciersbeoordeling!$H$1:$I$5,2,FALSE),0)","v":0},0]
["",null,null,null,null,null,null,null,null,null,null,null,null,null,null,{"$f":"INDEX($A:$O,ROW(),MATCH('Rapportage per vraag'!$C$12,'Data leveranciersbeoordeling'!$1:$1,0))","v":0},{"$f":"IFERROR(VLOOKUP(INDEX($A:$O,ROW(),MATCH('Rapportage per vraag'!$C$12,'Data leveranciersbeoordeling'!$1:$1,0)),Leveranciersbeoordeling!$H$1:$I$5,2,FALSE),0)","v":0},0]
["",null,null,null,null,null,null,null,null,null,null,null,null,null,null,{"$f":"INDEX($A:$O,ROW(),MATCH('Rapportage per vraag'!$C$12,'Data leveranciersbeoordeling'!$1:$1,0))","v":0},{"$f":"IFERROR(VLOOKUP(INDEX($A:$O,ROW(),MATCH('Rapportage per vraag'!$C$12,'Data leveranciersbeoordeling'!$1:$1,0)),Leveranciersbeoordeling!$H$1:$I$5,2,FALSE),0)","v":0},0]
["",null,null,null,null,null,null,null,null,null,null,null,null,null,null,{"$f":"INDEX($A:$O,ROW(),MATCH('Rapportage per vraag'!$C$12,'Data leveranciersbeoordeling'!$1:$1,0))","v":0},{"$f":"IFERROR(VLOOKUP(INDEX($A:$O,ROW(),MATCH('Rapportage per vraag'!$C$12,'Data leveranciersbeoordeling'!$1:$1,0)),Leveranciersbeoordeling!$H$1:$I$5,2,FALSE),0)","v":0},0]
["",null,null,null,null,null,null,null,null,null,null,null,null,null,null,{"$f":"INDEX($A:$O,ROW(),MATCH('Rapportage per vraag'!$C$12,'Data leveranciersbeoordeling'!$1:$1,0))","v":0},{"$f":"IFERROR(VLOOKUP(INDEX($A:$O,ROW(),MATCH('Rapportage per vraag'!$C$12,'Data leveranciersbeoordeling'!$1:$1,0)),Leveranciersbeoordeling!$H$1:$I$5,2,FALSE),0)","v":0},0]
["",null,null,null,null,null,null,null,null,null,null,null,null,null,null,{"$f":"INDEX($A:$O,ROW(),MATCH('Rapportage per vraag'!$C$12,'Data leveranciersbeoordeling'!$1:$1,0))","v":0},{"$f":"IFERROR(VLOOKUP(INDEX($A:$O,ROW(),MATCH('Rapportage per vraag'!$C$12,'Data leveranciersbeoordeling'!$1:$1,0)),Leveranciersbeoordeling!$H$1:$I$5,2,FALSE),0)","v":0},0]
["",null,null,null,null,null,null,null,null,null,null,null,null,null,null,{"$f":"INDEX($A:$O,ROW(),MATCH('Rapportage per vraag'!$C$12,'Data leveranciersbeoordeling'!$1:$1,0))","v":0},{"$f":"IFERROR(VLOOKUP(INDEX($A:$O,ROW(),MATCH('Rapportage per vraag'!$C$12,'Data leveranciersbeoordeling'!$1:$1,0)),Leveranciersbeoordeling!$H$1:$I$5,2,FALSE),0)","v":0},0]
["",null,null,null,null,null,null,null,null,null,null,null,null,null,null,{"$f":"INDEX($A:$O,ROW(),MATCH('Rapportage per vraag'!$C$12,'Data leveranciersbeoordeling'!$1:$1,0))","v":0},{"$f":"IFERROR(VLOOKUP(INDEX($A:$O,ROW(),MATCH('Rapportage per vraag'!$C$12,'Data leveranciersbeoordeling'!$1:$1,0)),Leveranciersbeoordeling!$H$1:$I$5,2,FALSE),0)","v":0},0]
["",null,null,null,null,null,null,null,null,null,null,null,null,null,null,{"$f":"INDEX($A:$O,ROW(),MATCH('Rapportage per vraag'!$C$12,'Data leveranciersbeoordeling'!$1:$1,0))","v":0},{"$f":"IFERROR(VLOOKUP(INDEX($A:$O,ROW(),MATCH('Rapportage per vraag'!$C$12,'Data leveranciersbeoordeling'!$1:$1,0)),Leveranciersbeoordeling!$H$1:$I$5,2,FALSE),0)","v":0},0]
["",null,null,null,null,null,null,null,null,null,null,null,null,null,null,{"$f":"INDEX($A:$O,ROW(),MATCH('Rapportage per vraag'!$C$12,'Data leveranciersbeoordeling'!$1:$1,0))","v":0},{"$f":"IFERROR(VLOOKUP(INDEX($A:$O,ROW(),MATCH('Rapportage per vraag'!$C$12,'Data leveranciersbeoordeling'!$1:$1,0)),Leveranciersbeoordeling!$H$1:$I$5,2,FALSE),0)","v":0},0]
["",null,null,null,null,null,null,null,null,null,null,null,null,null,null,{"$f":"INDEX($A:$O,ROW(),MATCH('Rapportage per vraag'!$C$12,'Data leveranciersbeoordeling'!$1:$1,0))","v":0},{"$f":"IFERROR(VLOOKUP(INDEX($A:$O,ROW(),MATCH('Rapportage per vraag'!$C$12,'Data leveranciersbeoordeling'!$1:$1,0)),Leveranciersbeoordeling!$H$1:$I$5,2,FALSE),0)","v":0},0]
[{"$f":"CONCATENATE(B5955,C5955,D5955)","v":""},null,null,null,null,null,null,null,null,null,null,null,null,null,null,{"$f":"INDEX($A:$O,ROW(),MATCH('Rapportage per vraag'!$C$12,'Data leveranciersbeoordeling'!$1:$1,0))","v":0},{"$f":"IFERROR(VLOOKUP(INDEX($A:$O,ROW(),MATCH('Rapportage per vraag'!$C$12,'Data leveranciersbeoordeling'!$1:$1,0)),Leveranciersbeoordeling!$H$1:$I$5,2,FALSE),0)","v":0},0]
["",null,null,null,null,null,null,null,null,null,null,null,null,null,null,{"$f":"INDEX($A:$O,ROW(),MATCH('Rapportage per vraag'!$C$12,'Data leveranciersbeoordeling'!$1:$1,0))","v":0},{"$f":"IFERROR(VLOOKUP(INDEX($A:$O,ROW(),MATCH('Rapportage per vraag'!$C$12,'Data leveranciersbeoordeling'!$1:$1,0)),Leveranciersbeoordeling!$H$1:$I$5,2,FALSE),0)","v":0},0]
["",null,null,null,null,null,null,null,null,null,null,null,null,null,null,{"$f":"INDEX($A:$O,ROW(),MATCH('Rapportage per vraag'!$C$12,'Data leveranciersbeoordeling'!$1:$1,0))","v":0},{"$f":"IFERROR(VLOOKUP(INDEX($A:$O,ROW(),MATCH('Rapportage per vraag'!$C$12,'Data leveranciersbeoordeling'!$1:$1,0)),Leveranciersbeoordeling!$H$1:$I$5,2,FALSE),0)","v":0},0]
["",null,null,null,null,null,null,null,null,null,null,null,null,null,null,{"$f":"INDEX($A:$O,ROW(),MATCH('Rapportage per vraag'!$C$12,'Data leveranciersbeoordeling'!$1:$1,0))","v":0},{"$f":"IFERROR(VLOOKUP(INDEX($A:$O,ROW(),MATCH('Rapportage per vraag'!$C$12,'Data leveranciersbeoordeling'!$1:$1,0)),Leveranciersbeoordeling!$H$1:$I$5,2,FALSE),0)","v":0},0]
["",null,null,null,null,null,null,null,null,null,null,null,null,null,null,{"$f":"INDEX($A:$O,ROW(),MATCH('Rapportage per vraag'!$C$12,'Data leveranciersbeoordeling'!$1:$1,0))","v":0},{"$f":"IFERROR(VLOOKUP(INDEX($A:$O,ROW(),MATCH('Rapportage per vraag'!$C$12,'Data leveranciersbeoordeling'!$1:$1,0)),Leveranciersbeoordeling!$H$1:$I$5,2,FALSE),0)","v":0},0]
["",null,null,null,null,null,null,null,null,null,null,null,null,null,null,{"$f":"INDEX($A:$O,ROW(),MATCH('Rapportage per vraag'!$C$12,'Data leveranciersbeoordeling'!$1:$1,0))","v":0},{"$f":"IFERROR(VLOOKUP(INDEX($A:$O,ROW(),MATCH('Rapportage per vraag'!$C$12,'Data leveranciersbeoordeling'!$1:$1,0)),Leveranciersbeoordeling!$H$1:$I$5,2,FALSE),0)","v":0},0]
["",null,null,null,null,null,null,null,null,null,null,null,null,null,null,{"$f":"INDEX($A:$O,ROW(),MATCH('Rapportage per vraag'!$C$12,'Data leveranciersbeoordeling'!$1:$1,0))","v":0},{"$f":"IFERROR(VLOOKUP(INDEX($A:$O,ROW(),MATCH('Rapportage per vraag'!$C$12,'Data leveranciersbeoordeling'!$1:$1,0)),Leveranciersbeoordeling!$H$1:$I$5,2,FALSE),0)","v":0},0]
["",null,null,null,null,null,null,null,null,null,null,null,null,null,null,{"$f":"INDEX($A:$O,ROW(),MATCH('Rapportage per vraag'!$C$12,'Data leveranciersbeoordeling'!$1:$1,0))","v":0},{"$f":"IFERROR(VLOOKUP(INDEX($A:$O,ROW(),MATCH('Rapportage per vraag'!$C$12,'Data leveranciersbeoordeling'!$1:$1,0)),Leveranciersbeoordeling!$H$1:$I$5,2,FALSE),0)","v":0},0]
["",null,null,null,null,null,null,null,null,null,null,null,null,null,null,{"$f":"INDEX($A:$O,ROW(),MATCH('Rapportage per vraag'!$C$12,'Data leveranciersbeoordeling'!$1:$1,0))","v":0},{"$f":"IFERROR(VLOOKUP(INDEX($A:$O,ROW(),MATCH('Rapportage per vraag'!$C$12,'Data leveranciersbeoordeling'!$1:$1,0)),Leveranciersbeoordeling!$H$1:$I$5,2,FALSE),0)","v":0},0]
["",null,null,null,null,null,null,null,null,null,null,null,null,null,null,{"$f":"INDEX($A:$O,ROW(),MATCH('Rapportage per vraag'!$C$12,'Data leveranciersbeoordeling'!$1:$1,0))","v":0},{"$f":"IFERROR(VLOOKUP(INDEX($A:$O,ROW(),MATCH('Rapportage per vraag'!$C$12,'Data leveranciersbeoordeling'!$1:$1,0)),Leveranciersbeoordeling!$H$1:$I$5,2,FALSE),0)","v":0},0]
["",null,null,null,null,null,null,null,null,null,null,null,null,null,null,{"$f":"INDEX($A:$O,ROW(),MATCH('Rapportage per vraag'!$C$12,'Data leveranciersbeoordeling'!$1:$1,0))","v":0},{"$f":"IFERROR(VLOOKUP(INDEX($A:$O,ROW(),MATCH('Rapportage per vraag'!$C$12,'Data leveranciersbeoordeling'!$1:$1,0)),Leveranciersbeoordeling!$H$1:$I$5,2,FALSE),0)","v":0},0]
["",null,null,null,null,null,null,null,null,null,null,null,null,null,null,{"$f":"INDEX($A:$O,ROW(),MATCH('Rapportage per vraag'!$C$12,'Data leveranciersbeoordeling'!$1:$1,0))","v":0},{"$f":"IFERROR(VLOOKUP(INDEX($A:$O,ROW(),MATCH('Rapportage per vraag'!$C$12,'Data leveranciersbeoordeling'!$1:$1,0)),Leveranciersbeoordeling!$H$1:$I$5,2,FALSE),0)","v":0},0]
["",null,null,null,null,null,null,null,null,null,null,null,null,null,null,{"$f":"INDEX($A:$O,ROW(),MATCH('Rapportage per vraag'!$C$12,'Data leveranciersbeoordeling'!$1:$1,0))","v":0},{"$f":"IFERROR(VLOOKUP(INDEX($A:$O,ROW(),MATCH('Rapportage per vraag'!$C$12,'Data leveranciersbeoordeling'!$1:$1,0)),Leveranciersbeoordeling!$H$1:$I$5,2,FALSE),0)","v":0},0]
["",null,null,null,null,null,null,null,null,null,null,null,null,null,null,{"$f":"INDEX($A:$O,ROW(),MATCH('Rapportage per vraag'!$C$12,'Data leveranciersbeoordeling'!$1:$1,0))","v":0},{"$f":"IFERROR(VLOOKUP(INDEX($A:$O,ROW(),MATCH('Rapportage per vraag'!$C$12,'Data leveranciersbeoordeling'!$1:$1,0)),Leveranciersbeoordeling!$H$1:$I$5,2,FALSE),0)","v":0},0]
["",null,null,null,null,null,null,null,null,null,null,null,null,null,null,{"$f":"INDEX($A:$O,ROW(),MATCH('Rapportage per vraag'!$C$12,'Data leveranciersbeoordeling'!$1:$1,0))","v":0},{"$f":"IFERROR(VLOOKUP(INDEX($A:$O,ROW(),MATCH('Rapportage per vraag'!$C$12,'Data leveranciersbeoordeling'!$1:$1,0)),Leveranciersbeoordeling!$H$1:$I$5,2,FALSE),0)","v":0},0]
["",null,null,null,null,null,null,null,null,null,null,null,null,null,null,{"$f":"INDEX($A:$O,ROW(),MATCH('Rapportage per vraag'!$C$12,'Data leveranciersbeoordeling'!$1:$1,0))","v":0},{"$f":"IFERROR(VLOOKUP(INDEX($A:$O,ROW(),MATCH('Rapportage per vraag'!$C$12,'Data leveranciersbeoordeling'!$1:$1,0)),Leveranciersbeoordeling!$H$1:$I$5,2,FALSE),0)","v":0},0]
["",null,null,null,null,null,null,null,null,null,null,null,null,null,null,{"$f":"INDEX($A:$O,ROW(),MATCH('Rapportage per vraag'!$C$12,'Data leveranciersbeoordeling'!$1:$1,0))","v":0},{"$f":"IFERROR(VLOOKUP(INDEX($A:$O,ROW(),MATCH('Rapportage per vraag'!$C$12,'Data leveranciersbeoordeling'!$1:$1,0)),Leveranciersbeoordeling!$H$1:$I$5,2,FALSE),0)","v":0},0]
["",null,null,null,null,null,null,null,null,null,null,null,null,null,null,{"$f":"INDEX($A:$O,ROW(),MATCH('Rapportage per vraag'!$C$12,'Data leveranciersbeoordeling'!$1:$1,0))","v":0},{"$f":"IFERROR(VLOOKUP(INDEX($A:$O,ROW(),MATCH('Rapportage per vraag'!$C$12,'Data leveranciersbeoordeling'!$1:$1,0)),Leveranciersbeoordeling!$H$1:$I$5,2,FALSE),0)","v":0},0]
["",null,null,null,null,null,null,null,null,null,null,null,null,null,null,{"$f":"INDEX($A:$O,ROW(),MATCH('Rapportage per vraag'!$C$12,'Data leveranciersbeoordeling'!$1:$1,0))","v":0},{"$f":"IFERROR(VLOOKUP(INDEX($A:$O,ROW(),MATCH('Rapportage per vraag'!$C$12,'Data leveranciersbeoordeling'!$1:$1,0)),Leveranciersbeoordeling!$H$1:$I$5,2,FALSE),0)","v":0},{"$f":"IF(T(P6022)=P6022,Q6022,P6022)","v":0}]
["",null,null,null,null,null,null,null,null,null,null,null,null,null,null,{"$f":"INDEX($A:$O,ROW(),MATCH('Rapportage per vraag'!$C$12,'Data leveranciersbeoordeling'!$1:$1,0))","v":0},{"$f":"IFERROR(VLOOKUP(INDEX($A:$O,ROW(),MATCH('Rapportage per vraag'!$C$12,'Data leveranciersbeoordeling'!$1:$1,0)),Leveranciersbeoordeling!$H$1:$I$5,2,FALSE),0)","v":0},0]
["",null,null,null,null,null,null,null,null,null,null,null,null,null,null,{"$f":"INDEX($A:$O,ROW(),MATCH('Rapportage per vraag'!$C$12,'Data leveranciersbeoordeling'!$1:$1,0))","v":0},{"$f":"IFERROR(VLOOKUP(INDEX($A:$O,ROW(),MATCH('Rapportage per vraag'!$C$12,'Data leveranciersbeoordeling'!$1:$1,0)),Leveranciersbeoordeling!$H$1:$I$5,2,FALSE),0)","v":0},0]
["",null,null,null,null,null,null,null,null,null,null,null,null,null,null,{"$f":"INDEX($A:$O,ROW(),MATCH('Rapportage per vraag'!$C$12,'Data leveranciersbeoordeling'!$1:$1,0))","v":0},{"$f":"IFERROR(VLOOKUP(INDEX($A:$O,ROW(),MATCH('Rapportage per vraag'!$C$12,'Data leveranciersbeoordeling'!$1:$1,0)),Leveranciersbeoordeling!$H$1:$I$5,2,FALSE),0)","v":0},0]
["",null,null,null,null,null,null,null,null,null,null,null,null,null,null,{"$f":"INDEX($A:$O,ROW(),MATCH('Rapportage per vraag'!$C$12,'Data leveranciersbeoordeling'!$1:$1,0))","v":0},{"$f":"IFERROR(VLOOKUP(INDEX($A:$O,ROW(),MATCH('Rapportage per vraag'!$C$12,'Data leveranciersbeoordeling'!$1:$1,0)),Leveranciersbeoordeling!$H$1:$I$5,2,FALSE),0)","v":0},0]
["",null,null,null,null,null,null,null,null,null,null,null,null,null,null,{"$f":"INDEX($A:$O,ROW(),MATCH('Rapportage per vraag'!$C$12,'Data leveranciersbeoordeling'!$1:$1,0))","v":0},{"$f":"IFERROR(VLOOKUP(INDEX($A:$O,ROW(),MATCH('Rapportage per vraag'!$C$12,'Data leveranciersbeoordeling'!$1:$1,0)),Leveranciersbeoordeling!$H$1:$I$5,2,FALSE),0)","v":0},0]
["",null,null,null,null,null,null,null,null,null,null,null,null,null,null,{"$f":"INDEX($A:$O,ROW(),MATCH('Rapportage per vraag'!$C$12,'Data leveranciersbeoordeling'!$1:$1,0))","v":0},{"$f":"IFERROR(VLOOKUP(INDEX($A:$O,ROW(),MATCH('Rapportage per vraag'!$C$12,'Data leveranciersbeoordeling'!$1:$1,0)),Leveranciersbeoordeling!$H$1:$I$5,2,FALSE),0)","v":0},0]
["",null,null,null,null,null,null,null,null,null,null,null,null,null,null,{"$f":"INDEX($A:$O,ROW(),MATCH('Rapportage per vraag'!$C$12,'Data leveranciersbeoordeling'!$1:$1,0))","v":0},{"$f":"IFERROR(VLOOKUP(INDEX($A:$O,ROW(),MATCH('Rapportage per vraag'!$C$12,'Data leveranciersbeoordeling'!$1:$1,0)),Leveranciersbeoordeling!$H$1:$I$5,2,FALSE),0)","v":0},0]
["",null,null,null,null,null,null,null,null,null,null,null,null,null,null,{"$f":"INDEX($A:$O,ROW(),MATCH('Rapportage per vraag'!$C$12,'Data leveranciersbeoordeling'!$1:$1,0))","v":0},{"$f":"IFERROR(VLOOKUP(INDEX($A:$O,ROW(),MATCH('Rapportage per vraag'!$C$12,'Data leveranciersbeoordeling'!$1:$1,0)),Leveranciersbeoordeling!$H$1:$I$5,2,FALSE),0)","v":0},0]
["",null,null,null,null,null,null,null,null,null,null,null,null,null,null,{"$f":"INDEX($A:$O,ROW(),MATCH('Rapportage per vraag'!$C$12,'Data leveranciersbeoordeling'!$1:$1,0))","v":0},{"$f":"IFERROR(VLOOKUP(INDEX($A:$O,ROW(),MATCH('Rapportage per vraag'!$C$12,'Data leveranciersbeoordeling'!$1:$1,0)),Leveranciersbeoordeling!$H$1:$I$5,2,FALSE),0)","v":0},0]
["",null,null,null,null,null,null,null,null,null,null,null,null,null,null,{"$f":"INDEX($A:$O,ROW(),MATCH('Rapportage per vraag'!$C$12,'Data leveranciersbeoordeling'!$1:$1,0))","v":0},{"$f":"IFERROR(VLOOKUP(INDEX($A:$O,ROW(),MATCH('Rapportage per vraag'!$C$12,'Data leveranciersbeoordeling'!$1:$1,0)),Leveranciersbeoordeling!$H$1:$I$5,2,FALSE),0)","v":0},0]
["",null,null,null,null,null,null,null,null,null,null,null,null,null,null,{"$f":"INDEX($A:$O,ROW(),MATCH('Rapportage per vraag'!$C$12,'Data leveranciersbeoordeling'!$1:$1,0))","v":0},{"$f":"IFERROR(VLOOKUP(INDEX($A:$O,ROW(),MATCH('Rapportage per vraag'!$C$12,'Data leveranciersbeoordeling'!$1:$1,0)),Leveranciersbeoordeling!$H$1:$I$5,2,FALSE),0)","v":0},0]
["",null,null,null,null,null,null,null,null,null,null,null,null,null,null,{"$f":"INDEX($A:$O,ROW(),MATCH('Rapportage per vraag'!$C$12,'Data leveranciersbeoordeling'!$1:$1,0))","v":0},{"$f":"IFERROR(VLOOKUP(INDEX($A:$O,ROW(),MATCH('Rapportage per vraag'!$C$12,'Data leveranciersbeoordeling'!$1:$1,0)),Leveranciersbeoordeling!$H$1:$I$5,2,FALSE),0)","v":0},0]
["",null,null,null,null,null,null,null,null,null,null,null,null,null,null,{"$f":"INDEX($A:$O,ROW(),MATCH('Rapportage per vraag'!$C$12,'Data leveranciersbeoordeling'!$1:$1,0))","v":0},{"$f":"IFERROR(VLOOKUP(INDEX($A:$O,ROW(),MATCH('Rapportage per vraag'!$C$12,'Data leveranciersbeoordeling'!$1:$1,0)),Leveranciersbeoordeling!$H$1:$I$5,2,FALSE),0)","v":0},0]
["",null,null,null,null,null,null,null,null,null,null,null,null,null,null,{"$f":"INDEX($A:$O,ROW(),MATCH('Rapportage per vraag'!$C$12,'Data leveranciersbeoordeling'!$1:$1,0))","v":0},{"$f":"IFERROR(VLOOKUP(INDEX($A:$O,ROW(),MATCH('Rapportage per vraag'!$C$12,'Data leveranciersbeoordeling'!$1:$1,0)),Leveranciersbeoordeling!$H$1:$I$5,2,FALSE),0)","v":0},0]
["",null,null,null,null,null,null,null,null,null,null,null,null,null,null,{"$f":"INDEX($A:$O,ROW(),MATCH('Rapportage per vraag'!$C$12,'Data leveranciersbeoordeling'!$1:$1,0))","v":0},{"$f":"IFERROR(VLOOKUP(INDEX($A:$O,ROW(),MATCH('Rapportage per vraag'!$C$12,'Data leveranciersbeoordeling'!$1:$1,0)),Leveranciersbeoordeling!$H$1:$I$5,2,FALSE),0)","v":0},0]
["",null,null,null,null,null,null,null,null,null,null,null,null,null,null,{"$f":"INDEX($A:$O,ROW(),MATCH('Rapportage per vraag'!$C$12,'Data leveranciersbeoordeling'!$1:$1,0))","v":0},{"$f":"IFERROR(VLOOKUP(INDEX($A:$O,ROW(),MATCH('Rapportage per vraag'!$C$12,'Data leveranciersbeoordeling'!$1:$1,0)),Leveranciersbeoordeling!$H$1:$I$5,2,FALSE),0)","v":0},0]
["",null,null,null,null,null,null,null,null,null,null,null,null,null,null,{"$f":"INDEX($A:$O,ROW(),MATCH('Rapportage per vraag'!$C$12,'Data leveranciersbeoordeling'!$1:$1,0))","v":0},{"$f":"IFERROR(VLOOKUP(INDEX($A:$O,ROW(),MATCH('Rapportage per vraag'!$C$12,'Data leveranciersbeoordeling'!$1:$1,0)),Leveranciersbeoordeling!$H$1:$I$5,2,FALSE),0)","v":0},0]
["",null,null,null,null,null,null,null,null,null,null,null,null,null,null,{"$f":"INDEX($A:$O,ROW(),MATCH('Rapportage per vraag'!$C$12,'Data leveranciersbeoordeling'!$1:$1,0))","v":0},{"$f":"IFERROR(VLOOKUP(INDEX($A:$O,ROW(),MATCH('Rapportage per vraag'!$C$12,'Data leveranciersbeoordeling'!$1:$1,0)),Leveranciersbeoordeling!$H$1:$I$5,2,FALSE),0)","v":0},0]
["",null,null,null,null,null,null,null,null,null,null,null,null,null,null,{"$f":"INDEX($A:$O,ROW(),MATCH('Rapportage per vraag'!$C$12,'Data leveranciersbeoordeling'!$1:$1,0))","v":0},{"$f":"IFERROR(VLOOKUP(INDEX($A:$O,ROW(),MATCH('Rapportage per vraag'!$C$12,'Data leveranciersbeoordeling'!$1:$1,0)),Leveranciersbeoordeling!$H$1:$I$5,2,FALSE),0)","v":0},0]
["",null,null,null,null,null,null,null,null,null,null,null,null,null,null,{"$f":"INDEX($A:$O,ROW(),MATCH('Rapportage per vraag'!$C$12,'Data leveranciersbeoordeling'!$1:$1,0))","v":0},{"$f":"IFERROR(VLOOKUP(INDEX($A:$O,ROW(),MATCH('Rapportage per vraag'!$C$12,'Data leveranciersbeoordeling'!$1:$1,0)),Leveranciersbeoordeling!$H$1:$I$5,2,FALSE),0)","v":0},0]
["",null,null,null,null,null,null,null,null,null,null,null,null,null,null,{"$f":"INDEX($A:$O,ROW(),MATCH('Rapportage per vraag'!$C$12,'Data leveranciersbeoordeling'!$1:$1,0))","v":0},{"$f":"IFERROR(VLOOKUP(INDEX($A:$O,ROW(),MATCH('Rapportage per vraag'!$C$12,'Data leveranciersbeoordeling'!$1:$1,0)),Leveranciersbeoordeling!$H$1:$I$5,2,FALSE),0)","v":0},0]
["",null,null,null,null,null,null,null,null,null,null,null,null,null,null,{"$f":"INDEX($A:$O,ROW(),MATCH('Rapportage per vraag'!$C$12,'Data leveranciersbeoordeling'!$1:$1,0))","v":0},{"$f":"IFERROR(VLOOKUP(INDEX($A:$O,ROW(),MATCH('Rapportage per vraag'!$C$12,'Data leveranciersbeoordeling'!$1:$1,0)),Leveranciersbeoordeling!$H$1:$I$5,2,FALSE),0)","v":0},0]
["",null,null,null,null,null,null,null,null,null,null,null,null,null,null,{"$f":"INDEX($A:$O,ROW(),MATCH('Rapportage per vraag'!$C$12,'Data leveranciersbeoordeling'!$1:$1,0))","v":0},{"$f":"IFERROR(VLOOKUP(INDEX($A:$O,ROW(),MATCH('Rapportage per vraag'!$C$12,'Data leveranciersbeoordeling'!$1:$1,0)),Leveranciersbeoordeling!$H$1:$I$5,2,FALSE),0)","v":0},0]
["",null,null,null,null,null,null,null,null,null,null,null,null,null,null,{"$f":"INDEX($A:$O,ROW(),MATCH('Rapportage per vraag'!$C$12,'Data leveranciersbeoordeling'!$1:$1,0))","v":0},{"$f":"IFERROR(VLOOKUP(INDEX($A:$O,ROW(),MATCH('Rapportage per vraag'!$C$12,'Data leveranciersbeoordeling'!$1:$1,0)),Leveranciersbeoordeling!$H$1:$I$5,2,FALSE),0)","v":0},0]
["",null,null,null,null,null,null,null,null,null,null,null,null,null,null,{"$f":"INDEX($A:$O,ROW(),MATCH('Rapportage per vraag'!$C$12,'Data leveranciersbeoordeling'!$1:$1,0))","v":0},{"$f":"IFERROR(VLOOKUP(INDEX($A:$O,ROW(),MATCH('Rapportage per vraag'!$C$12,'Data leveranciersbeoordeling'!$1:$1,0)),Leveranciersbeoordeling!$H$1:$I$5,2,FALSE),0)","v":0},0]
["",null,null,null,null,null,null,null,null,null,null,null,null,null,null,{"$f":"INDEX($A:$O,ROW(),MATCH('Rapportage per vraag'!$C$12,'Data leveranciersbeoordeling'!$1:$1,0))","v":0},{"$f":"IFERROR(VLOOKUP(INDEX($A:$O,ROW(),MATCH('Rapportage per vraag'!$C$12,'Data leveranciersbeoordeling'!$1:$1,0)),Leveranciersbeoordeling!$H$1:$I$5,2,FALSE),0)","v":0},0]
["",null,null,null,null,null,null,null,null,null,null,null,null,null,null,{"$f":"INDEX($A:$O,ROW(),MATCH('Rapportage per vraag'!$C$12,'Data leveranciersbeoordeling'!$1:$1,0))","v":0},{"$f":"IFERROR(VLOOKUP(INDEX($A:$O,ROW(),MATCH('Rapportage per vraag'!$C$12,'Data leveranciersbeoordeling'!$1:$1,0)),Leveranciersbeoordeling!$H$1:$I$5,2,FALSE),0)","v":0},0]
["",null,null,null,null,null,null,null,null,null,null,null,null,null,null,{"$f":"INDEX($A:$O,ROW(),MATCH('Rapportage per vraag'!$C$12,'Data leveranciersbeoordeling'!$1:$1,0))","v":0},{"$f":"IFERROR(VLOOKUP(INDEX($A:$O,ROW(),MATCH('Rapportage per vraag'!$C$12,'Data leveranciersbeoordeling'!$1:$1,0)),Leveranciersbeoordeling!$H$1:$I$5,2,FALSE),0)","v":0},0]
["",null,null,null,null,null,null,null,null,null,null,null,null,null,null,{"$f":"INDEX($A:$O,ROW(),MATCH('Rapportage per vraag'!$C$12,'Data leveranciersbeoordeling'!$1:$1,0))","v":0},{"$f":"IFERROR(VLOOKUP(INDEX($A:$O,ROW(),MATCH('Rapportage per vraag'!$C$12,'Data leveranciersbeoordeling'!$1:$1,0)),Leveranciersbeoordeling!$H$1:$I$5,2,FALSE),0)","v":0},0]
["",null,null,null,null,null,null,null,null,null,null,null,null,null,null,{"$f":"INDEX($A:$O,ROW(),MATCH('Rapportage per vraag'!$C$12,'Data leveranciersbeoordeling'!$1:$1,0))","v":0},{"$f":"IFERROR(VLOOKUP(INDEX($A:$O,ROW(),MATCH('Rapportage per vraag'!$C$12,'Data leveranciersbeoordeling'!$1:$1,0)),Leveranciersbeoordeling!$H$1:$I$5,2,FALSE),0)","v":0},0]
["",null,null,null,null,null,null,null,null,null,null,null,null,null,null,{"$f":"INDEX($A:$O,ROW(),MATCH('Rapportage per vraag'!$C$12,'Data leveranciersbeoordeling'!$1:$1,0))","v":0},{"$f":"IFERROR(VLOOKUP(INDEX($A:$O,ROW(),MATCH('Rapportage per vraag'!$C$12,'Data leveranciersbeoordeling'!$1:$1,0)),Leveranciersbeoordeling!$H$1:$I$5,2,FALSE),0)","v":0},0]
["",null,null,null,null,null,null,null,null,null,null,null,null,null,null,{"$f":"INDEX($A:$O,ROW(),MATCH('Rapportage per vraag'!$C$12,'Data leveranciersbeoordeling'!$1:$1,0))","v":0},{"$f":"IFERROR(VLOOKUP(INDEX($A:$O,ROW(),MATCH('Rapportage per vraag'!$C$12,'Data leveranciersbeoordeling'!$1:$1,0)),Leveranciersbeoordeling!$H$1:$I$5,2,FALSE),0)","v":0},0]
[{"$f":"CONCATENATE(B6147,C6147,D6147)","v":""},null,null,null,null,null,null,null,null,null,null,null,null,null,null,{"$f":"INDEX($A:$O,ROW(),MATCH('Rapportage per vraag'!$C$12,'Data leveranciersbeoordeling'!$1:$1,0))","v":0},{"$f":"IFERROR(VLOOKUP(INDEX($A:$O,ROW(),MATCH('Rapportage per vraag'!$C$12,'Data leveranciersbeoordeling'!$1:$1,0)),Leveranciersbeoordeling!$H$1:$I$5,2,FALSE),0)","v":0},0]
["",null,null,null,null,null,null,null,null,null,null,null,null,null,null,{"$f":"INDEX($A:$O,ROW(),MATCH('Rapportage per vraag'!$C$12,'Data leveranciersbeoordeling'!$1:$1,0))","v":0},{"$f":"IFERROR(VLOOKUP(INDEX($A:$O,ROW(),MATCH('Rapportage per vraag'!$C$12,'Data leveranciersbeoordeling'!$1:$1,0)),Leveranciersbeoordeling!$H$1:$I$5,2,FALSE),0)","v":0},0]
["",null,null,null,null,null,null,null,null,null,null,null,null,null,null,{"$f":"INDEX($A:$O,ROW(),MATCH('Rapportage per vraag'!$C$12,'Data leveranciersbeoordeling'!$1:$1,0))","v":0},{"$f":"IFERROR(VLOOKUP(INDEX($A:$O,ROW(),MATCH('Rapportage per vraag'!$C$12,'Data leveranciersbeoordeling'!$1:$1,0)),Leveranciersbeoordeling!$H$1:$I$5,2,FALSE),0)","v":0},0]
["",null,null,null,null,null,null,null,null,null,null,null,null,null,null,{"$f":"INDEX($A:$O,ROW(),MATCH('Rapportage per vraag'!$C$12,'Data leveranciersbeoordeling'!$1:$1,0))","v":0},{"$f":"IFERROR(VLOOKUP(INDEX($A:$O,ROW(),MATCH('Rapportage per vraag'!$C$12,'Data leveranciersbeoordeling'!$1:$1,0)),Leveranciersbeoordeling!$H$1:$I$5,2,FALSE),0)","v":0},0]
["",null,null,null,null,null,null,null,null,null,null,null,null,null,null,{"$f":"INDEX($A:$O,ROW(),MATCH('Rapportage per vraag'!$C$12,'Data leveranciersbeoordeling'!$1:$1,0))","v":0},{"$f":"IFERROR(VLOOKUP(INDEX($A:$O,ROW(),MATCH('Rapportage per vraag'!$C$12,'Data leveranciersbeoordeling'!$1:$1,0)),Leveranciersbeoordeling!$H$1:$I$5,2,FALSE),0)","v":0},0]
["",null,null,null,null,null,null,null,null,null,null,null,null,null,null,{"$f":"INDEX($A:$O,ROW(),MATCH('Rapportage per vraag'!$C$12,'Data leveranciersbeoordeling'!$1:$1,0))","v":0},{"$f":"IFERROR(VLOOKUP(INDEX($A:$O,ROW(),MATCH('Rapportage per vraag'!$C$12,'Data leveranciersbeoordeling'!$1:$1,0)),Leveranciersbeoordeling!$H$1:$I$5,2,FALSE),0)","v":0},0]
["",null,null,null,null,null,null,null,null,null,null,null,null,null,null,{"$f":"INDEX($A:$O,ROW(),MATCH('Rapportage per vraag'!$C$12,'Data leveranciersbeoordeling'!$1:$1,0))","v":0},{"$f":"IFERROR(VLOOKUP(INDEX($A:$O,ROW(),MATCH('Rapportage per vraag'!$C$12,'Data leveranciersbeoordeling'!$1:$1,0)),Leveranciersbeoordeling!$H$1:$I$5,2,FALSE),0)","v":0},0]
["",null,null,null,null,null,null,null,null,null,null,null,null,null,null,{"$f":"INDEX($A:$O,ROW(),MATCH('Rapportage per vraag'!$C$12,'Data leveranciersbeoordeling'!$1:$1,0))","v":0},{"$f":"IFERROR(VLOOKUP(INDEX($A:$O,ROW(),MATCH('Rapportage per vraag'!$C$12,'Data leveranciersbeoordeling'!$1:$1,0)),Leveranciersbeoordeling!$H$1:$I$5,2,FALSE),0)","v":0},0]
["",null,null,null,null,null,null,null,null,null,null,null,null,null,null,{"$f":"INDEX($A:$O,ROW(),MATCH('Rapportage per vraag'!$C$12,'Data leveranciersbeoordeling'!$1:$1,0))","v":0},{"$f":"IFERROR(VLOOKUP(INDEX($A:$O,ROW(),MATCH('Rapportage per vraag'!$C$12,'Data leveranciersbeoordeling'!$1:$1,0)),Leveranciersbeoordeling!$H$1:$I$5,2,FALSE),0)","v":0},0]
["",null,null,null,null,null,null,null,null,null,null,null,null,null,null,{"$f":"INDEX($A:$O,ROW(),MATCH('Rapportage per vraag'!$C$12,'Data leveranciersbeoordeling'!$1:$1,0))","v":0},{"$f":"IFERROR(VLOOKUP(INDEX($A:$O,ROW(),MATCH('Rapportage per vraag'!$C$12,'Data leveranciersbeoordeling'!$1:$1,0)),Leveranciersbeoordeling!$H$1:$I$5,2,FALSE),0)","v":0},0]
["",null,null,null,null,null,null,null,null,null,null,null,null,null,null,{"$f":"INDEX($A:$O,ROW(),MATCH('Rapportage per vraag'!$C$12,'Data leveranciersbeoordeling'!$1:$1,0))","v":0},{"$f":"IFERROR(VLOOKUP(INDEX($A:$O,ROW(),MATCH('Rapportage per vraag'!$C$12,'Data leveranciersbeoordeling'!$1:$1,0)),Leveranciersbeoordeling!$H$1:$I$5,2,FALSE),0)","v":0},0]
["",null,null,null,null,null,null,null,null,null,null,null,null,null,null,{"$f":"INDEX($A:$O,ROW(),MATCH('Rapportage per vraag'!$C$12,'Data leveranciersbeoordeling'!$1:$1,0))","v":0},{"$f":"IFERROR(VLOOKUP(INDEX($A:$O,ROW(),MATCH('Rapportage per vraag'!$C$12,'Data leveranciersbeoordeling'!$1:$1,0)),Leveranciersbeoordeling!$H$1:$I$5,2,FALSE),0)","v":0},0]
["",null,null,null,null,null,null,null,null,null,null,null,null,null,null,{"$f":"INDEX($A:$O,ROW(),MATCH('Rapportage per vraag'!$C$12,'Data leveranciersbeoordeling'!$1:$1,0))","v":0},{"$f":"IFERROR(VLOOKUP(INDEX($A:$O,ROW(),MATCH('Rapportage per vraag'!$C$12,'Data leveranciersbeoordeling'!$1:$1,0)),Leveranciersbeoordeling!$H$1:$I$5,2,FALSE),0)","v":0},0]
["",null,null,null,null,null,null,null,null,null,null,null,null,null,null,{"$f":"INDEX($A:$O,ROW(),MATCH('Rapportage per vraag'!$C$12,'Data leveranciersbeoordeling'!$1:$1,0))","v":0},{"$f":"IFERROR(VLOOKUP(INDEX($A:$O,ROW(),MATCH('Rapportage per vraag'!$C$12,'Data leveranciersbeoordeling'!$1:$1,0)),Leveranciersbeoordeling!$H$1:$I$5,2,FALSE),0)","v":0},0]
["",null,null,null,null,null,null,null,null,null,null,null,null,null,null,{"$f":"INDEX($A:$O,ROW(),MATCH('Rapportage per vraag'!$C$12,'Data leveranciersbeoordeling'!$1:$1,0))","v":0},{"$f":"IFERROR(VLOOKUP(INDEX($A:$O,ROW(),MATCH('Rapportage per vraag'!$C$12,'Data leveranciersbeoordeling'!$1:$1,0)),Leveranciersbeoordeling!$H$1:$I$5,2,FALSE),0)","v":0},0]
["",null,null,null,null,null,null,null,null,null,null,null,null,null,null,{"$f":"INDEX($A:$O,ROW(),MATCH('Rapportage per vraag'!$C$12,'Data leveranciersbeoordeling'!$1:$1,0))","v":0},{"$f":"IFERROR(VLOOKUP(INDEX($A:$O,ROW(),MATCH('Rapportage per vraag'!$C$12,'Data leveranciersbeoordeling'!$1:$1,0)),Leveranciersbeoordeling!$H$1:$I$5,2,FALSE),0)","v":0},0]
["",null,null,null,null,null,null,null,null,null,null,null,null,null,null,{"$f":"INDEX($A:$O,ROW(),MATCH('Rapportage per vraag'!$C$12,'Data leveranciersbeoordeling'!$1:$1,0))","v":0},{"$f":"IFERROR(VLOOKUP(INDEX($A:$O,ROW(),MATCH('Rapportage per vraag'!$C$12,'Data leveranciersbeoordeling'!$1:$1,0)),Leveranciersbeoordeling!$H$1:$I$5,2,FALSE),0)","v":0},0]
["",null,null,null,null,null,null,null,null,null,null,null,null,null,null,{"$f":"INDEX($A:$O,ROW(),MATCH('Rapportage per vraag'!$C$12,'Data leveranciersbeoordeling'!$1:$1,0))","v":0},{"$f":"IFERROR(VLOOKUP(INDEX($A:$O,ROW(),MATCH('Rapportage per vraag'!$C$12,'Data leveranciersbeoordeling'!$1:$1,0)),Leveranciersbeoordeling!$H$1:$I$5,2,FALSE),0)","v":0},0]
["",null,null,null,null,null,null,null,null,null,null,null,null,null,null,{"$f":"INDEX($A:$O,ROW(),MATCH('Rapportage per vraag'!$C$12,'Data leveranciersbeoordeling'!$1:$1,0))","v":0},{"$f":"IFERROR(VLOOKUP(INDEX($A:$O,ROW(),MATCH('Rapportage per vraag'!$C$12,'Data leveranciersbeoordeling'!$1:$1,0)),Leveranciersbeoordeling!$H$1:$I$5,2,FALSE),0)","v":0},0]
["",null,null,null,null,null,null,null,null,null,null,null,null,null,null,{"$f":"INDEX($A:$O,ROW(),MATCH('Rapportage per vraag'!$C$12,'Data leveranciersbeoordeling'!$1:$1,0))","v":0},{"$f":"IFERROR(VLOOKUP(INDEX($A:$O,ROW(),MATCH('Rapportage per vraag'!$C$12,'Data leveranciersbeoordeling'!$1:$1,0)),Leveranciersbeoordeling!$H$1:$I$5,2,FALSE),0)","v":0},0]
["",null,null,null,null,null,null,null,null,null,null,null,null,null,null,{"$f":"INDEX($A:$O,ROW(),MATCH('Rapportage per vraag'!$C$12,'Data leveranciersbeoordeling'!$1:$1,0))","v":0},{"$f":"IFERROR(VLOOKUP(INDEX($A:$O,ROW(),MATCH('Rapportage per vraag'!$C$12,'Data leveranciersbeoordeling'!$1:$1,0)),Leveranciersbeoordeling!$H$1:$I$5,2,FALSE),0)","v":0},0]
["",null,null,null,null,null,null,null,null,null,null,null,null,null,null,{"$f":"INDEX($A:$O,ROW(),MATCH('Rapportage per vraag'!$C$12,'Data leveranciersbeoordeling'!$1:$1,0))","v":0},{"$f":"IFERROR(VLOOKUP(INDEX($A:$O,ROW(),MATCH('Rapportage per vraag'!$C$12,'Data leveranciersbeoordeling'!$1:$1,0)),Leveranciersbeoordeling!$H$1:$I$5,2,FALSE),0)","v":0},0]
["",null,null,null,null,null,null,null,null,null,null,null,null,null,null,{"$f":"INDEX($A:$O,ROW(),MATCH('Rapportage per vraag'!$C$12,'Data leveranciersbeoordeling'!$1:$1,0))","v":0},{"$f":"IFERROR(VLOOKUP(INDEX($A:$O,ROW(),MATCH('Rapportage per vraag'!$C$12,'Data leveranciersbeoordeling'!$1:$1,0)),Leveranciersbeoordeling!$H$1:$I$5,2,FALSE),0)","v":0},0]
["",null,null,null,null,null,null,null,null,null,null,null,null,null,null,{"$f":"INDEX($A:$O,ROW(),MATCH('Rapportage per vraag'!$C$12,'Data leveranciersbeoordeling'!$1:$1,0))","v":0},{"$f":"IFERROR(VLOOKUP(INDEX($A:$O,ROW(),MATCH('Rapportage per vraag'!$C$12,'Data leveranciersbeoordeling'!$1:$1,0)),Leveranciersbeoordeling!$H$1:$I$5,2,FALSE),0)","v":0},0]
["",null,null,null,null,null,null,null,null,null,null,null,null,null,null,{"$f":"INDEX($A:$O,ROW(),MATCH('Rapportage per vraag'!$C$12,'Data leveranciersbeoordeling'!$1:$1,0))","v":0},{"$f":"IFERROR(VLOOKUP(INDEX($A:$O,ROW(),MATCH('Rapportage per vraag'!$C$12,'Data leveranciersbeoordeling'!$1:$1,0)),Leveranciersbeoordeling!$H$1:$I$5,2,FALSE),0)","v":0},0]
["",null,null,null,null,null,null,null,null,null,null,null,null,null,null,{"$f":"INDEX($A:$O,ROW(),MATCH('Rapportage per vraag'!$C$12,'Data leveranciersbeoordeling'!$1:$1,0))","v":0},{"$f":"IFERROR(VLOOKUP(INDEX($A:$O,ROW(),MATCH('Rapportage per vraag'!$C$12,'Data leveranciersbeoordeling'!$1:$1,0)),Leveranciersbeoordeling!$H$1:$I$5,2,FALSE),0)","v":0},0]
["",null,null,null,null,null,null,null,null,null,null,null,null,null,null,{"$f":"INDEX($A:$O,ROW(),MATCH('Rapportage per vraag'!$C$12,'Data leveranciersbeoordeling'!$1:$1,0))","v":0},{"$f":"IFERROR(VLOOKUP(INDEX($A:$O,ROW(),MATCH('Rapportage per vraag'!$C$12,'Data leveranciersbeoordeling'!$1:$1,0)),Leveranciersbeoordeling!$H$1:$I$5,2,FALSE),0)","v":0},0]
["",null,null,null,null,null,null,null,null,null,null,null,null,null,null,{"$f":"INDEX($A:$O,ROW(),MATCH('Rapportage per vraag'!$C$12,'Data leveranciersbeoordeling'!$1:$1,0))","v":0},{"$f":"IFERROR(VLOOKUP(INDEX($A:$O,ROW(),MATCH('Rapportage per vraag'!$C$12,'Data leveranciersbeoordeling'!$1:$1,0)),Leveranciersbeoordeling!$H$1:$I$5,2,FALSE),0)","v":0},0]
["",null,null,null,null,null,null,null,null,null,null,null,null,null,null,{"$f":"INDEX($A:$O,ROW(),MATCH('Rapportage per vraag'!$C$12,'Data leveranciersbeoordeling'!$1:$1,0))","v":0},{"$f":"IFERROR(VLOOKUP(INDEX($A:$O,ROW(),MATCH('Rapportage per vraag'!$C$12,'Data leveranciersbeoordeling'!$1:$1,0)),Leveranciersbeoordeling!$H$1:$I$5,2,FALSE),0)","v":0},0]
["",null,null,null,null,null,null,null,null,null,null,null,null,null,null,{"$f":"INDEX($A:$O,ROW(),MATCH('Rapportage per vraag'!$C$12,'Data leveranciersbeoordeling'!$1:$1,0))","v":0},{"$f":"IFERROR(VLOOKUP(INDEX($A:$O,ROW(),MATCH('Rapportage per vraag'!$C$12,'Data leveranciersbeoordeling'!$1:$1,0)),Leveranciersbeoordeling!$H$1:$I$5,2,FALSE),0)","v":0},0]
["",null,null,null,null,null,null,null,null,null,null,null,null,null,null,{"$f":"INDEX($A:$O,ROW(),MATCH('Rapportage per vraag'!$C$12,'Data leveranciersbeoordeling'!$1:$1,0))","v":0},{"$f":"IFERROR(VLOOKUP(INDEX($A:$O,ROW(),MATCH('Rapportage per vraag'!$C$12,'Data leveranciersbeoordeling'!$1:$1,0)),Leveranciersbeoordeling!$H$1:$I$5,2,FALSE),0)","v":0},0]
["",null,null,null,null,null,null,null,null,null,null,null,null,null,null,{"$f":"INDEX($A:$O,ROW(),MATCH('Rapportage per vraag'!$C$12,'Data leveranciersbeoordeling'!$1:$1,0))","v":0},{"$f":"IFERROR(VLOOKUP(INDEX($A:$O,ROW(),MATCH('Rapportage per vraag'!$C$12,'Data leveranciersbeoordeling'!$1:$1,0)),Leveranciersbeoordeling!$H$1:$I$5,2,FALSE),0)","v":0},0]
["",null,null,null,null,null,null,null,null,null,null,null,null,null,null,{"$f":"INDEX($A:$O,ROW(),MATCH('Rapportage per vraag'!$C$12,'Data leveranciersbeoordeling'!$1:$1,0))","v":0},{"$f":"IFERROR(VLOOKUP(INDEX($A:$O,ROW(),MATCH('Rapportage per vraag'!$C$12,'Data leveranciersbeoordeling'!$1:$1,0)),Leveranciersbeoordeling!$H$1:$I$5,2,FALSE),0)","v":0},0]
["",null,null,null,null,null,null,null,null,null,null,null,null,null,null,{"$f":"INDEX($A:$O,ROW(),MATCH('Rapportage per vraag'!$C$12,'Data leveranciersbeoordeling'!$1:$1,0))","v":0},{"$f":"IFERROR(VLOOKUP(INDEX($A:$O,ROW(),MATCH('Rapportage per vraag'!$C$12,'Data leveranciersbeoordeling'!$1:$1,0)),Leveranciersbeoordeling!$H$1:$I$5,2,FALSE),0)","v":0},0]
["",null,null,null,null,null,null,null,null,null,null,null,null,null,null,{"$f":"INDEX($A:$O,ROW(),MATCH('Rapportage per vraag'!$C$12,'Data leveranciersbeoordeling'!$1:$1,0))","v":0},{"$f":"IFERROR(VLOOKUP(INDEX($A:$O,ROW(),MATCH('Rapportage per vraag'!$C$12,'Data leveranciersbeoordeling'!$1:$1,0)),Leveranciersbeoordeling!$H$1:$I$5,2,FALSE),0)","v":0},0]
["",null,null,null,null,null,null,null,null,null,null,null,null,null,null,{"$f":"INDEX($A:$O,ROW(),MATCH('Rapportage per vraag'!$C$12,'Data leveranciersbeoordeling'!$1:$1,0))","v":0},{"$f":"IFERROR(VLOOKUP(INDEX($A:$O,ROW(),MATCH('Rapportage per vraag'!$C$12,'Data leveranciersbeoordeling'!$1:$1,0)),Leveranciersbeoordeling!$H$1:$I$5,2,FALSE),0)","v":0},0]
["",null,null,null,null,null,null,null,null,null,null,null,null,null,null,{"$f":"INDEX($A:$O,ROW(),MATCH('Rapportage per vraag'!$C$12,'Data leveranciersbeoordeling'!$1:$1,0))","v":0},{"$f":"IFERROR(VLOOKUP(INDEX($A:$O,ROW(),MATCH('Rapportage per vraag'!$C$12,'Data leveranciersbeoordeling'!$1:$1,0)),Leveranciersbeoordeling!$H$1:$I$5,2,FALSE),0)","v":0},0]
["",null,null,null,null,null,null,null,null,null,null,null,null,null,null,{"$f":"INDEX($A:$O,ROW(),MATCH('Rapportage per vraag'!$C$12,'Data leveranciersbeoordeling'!$1:$1,0))","v":0},{"$f":"IFERROR(VLOOKUP(INDEX($A:$O,ROW(),MATCH('Rapportage per vraag'!$C$12,'Data leveranciersbeoordeling'!$1:$1,0)),Leveranciersbeoordeling!$H$1:$I$5,2,FALSE),0)","v":0},0]
["",null,null,null,null,null,null,null,null,null,null,null,null,null,null,{"$f":"INDEX($A:$O,ROW(),MATCH('Rapportage per vraag'!$C$12,'Data leveranciersbeoordeling'!$1:$1,0))","v":0},{"$f":"IFERROR(VLOOKUP(INDEX($A:$O,ROW(),MATCH('Rapportage per vraag'!$C$12,'Data leveranciersbeoordeling'!$1:$1,0)),Leveranciersbeoordeling!$H$1:$I$5,2,FALSE),0)","v":0},0]
["",null,null,null,null,null,null,null,null,null,null,null,null,null,null,{"$f":"INDEX($A:$O,ROW(),MATCH('Rapportage per vraag'!$C$12,'Data leveranciersbeoordeling'!$1:$1,0))","v":0},{"$f":"IFERROR(VLOOKUP(INDEX($A:$O,ROW(),MATCH('Rapportage per vraag'!$C$12,'Data leveranciersbeoordeling'!$1:$1,0)),Leveranciersbeoordeling!$H$1:$I$5,2,FALSE),0)","v":0},0]
["",null,null,null,null,null,null,null,null,null,null,null,null,null,null,{"$f":"INDEX($A:$O,ROW(),MATCH('Rapportage per vraag'!$C$12,'Data leveranciersbeoordeling'!$1:$1,0))","v":0},{"$f":"IFERROR(VLOOKUP(INDEX($A:$O,ROW(),MATCH('Rapportage per vraag'!$C$12,'Data leveranciersbeoordeling'!$1:$1,0)),Leveranciersbeoordeling!$H$1:$I$5,2,FALSE),0)","v":0},0]
["",null,null,null,null,null,null,null,null,null,null,null,null,null,null,{"$f":"INDEX($A:$O,ROW(),MATCH('Rapportage per vraag'!$C$12,'Data leveranciersbeoordeling'!$1:$1,0))","v":0},{"$f":"IFERROR(VLOOKUP(INDEX($A:$O,ROW(),MATCH('Rapportage per vraag'!$C$12,'Data leveranciersbeoordeling'!$1:$1,0)),Leveranciersbeoordeling!$H$1:$I$5,2,FALSE),0)","v":0},0]
["",null,null,null,null,null,null,null,null,null,null,null,null,null,null,{"$f":"INDEX($A:$O,ROW(),MATCH('Rapportage per vraag'!$C$12,'Data leveranciersbeoordeling'!$1:$1,0))","v":0},{"$f":"IFERROR(VLOOKUP(INDEX($A:$O,ROW(),MATCH('Rapportage per vraag'!$C$12,'Data leveranciersbeoordeling'!$1:$1,0)),Leveranciersbeoordeling!$H$1:$I$5,2,FALSE),0)","v":0},0]
["",null,null,null,null,null,null,null,null,null,null,null,null,null,null,{"$f":"INDEX($A:$O,ROW(),MATCH('Rapportage per vraag'!$C$12,'Data leveranciersbeoordeling'!$1:$1,0))","v":0},{"$f":"IFERROR(VLOOKUP(INDEX($A:$O,ROW(),MATCH('Rapportage per vraag'!$C$12,'Data leveranciersbeoordeling'!$1:$1,0)),Leveranciersbeoordeling!$H$1:$I$5,2,FALSE),0)","v":0},0]
["",null,null,null,null,null,null,null,null,null,null,null,null,null,null,{"$f":"INDEX($A:$O,ROW(),MATCH('Rapportage per vraag'!$C$12,'Data leveranciersbeoordeling'!$1:$1,0))","v":0},{"$f":"IFERROR(VLOOKUP(INDEX($A:$O,ROW(),MATCH('Rapportage per vraag'!$C$12,'Data leveranciersbeoordeling'!$1:$1,0)),Leveranciersbeoordeling!$H$1:$I$5,2,FALSE),0)","v":0},0]
["",null,null,null,null,null,null,null,null,null,null,null,null,null,null,{"$f":"INDEX($A:$O,ROW(),MATCH('Rapportage per vraag'!$C$12,'Data leveranciersbeoordeling'!$1:$1,0))","v":0},{"$f":"IFERROR(VLOOKUP(INDEX($A:$O,ROW(),MATCH('Rapportage per vraag'!$C$12,'Data leveranciersbeoordeling'!$1:$1,0)),Leveranciersbeoordeling!$H$1:$I$5,2,FALSE),0)","v":0},0]
["",null,null,null,null,null,null,null,null,null,null,null,null,null,null,{"$f":"INDEX($A:$O,ROW(),MATCH('Rapportage per vraag'!$C$12,'Data leveranciersbeoordeling'!$1:$1,0))","v":0},{"$f":"IFERROR(VLOOKUP(INDEX($A:$O,ROW(),MATCH('Rapportage per vraag'!$C$12,'Data leveranciersbeoordeling'!$1:$1,0)),Leveranciersbeoordeling!$H$1:$I$5,2,FALSE),0)","v":0},0]
["",null,null,null,null,null,null,null,null,null,null,null,null,null,null,{"$f":"INDEX($A:$O,ROW(),MATCH('Rapportage per vraag'!$C$12,'Data leveranciersbeoordeling'!$1:$1,0))","v":0},{"$f":"IFERROR(VLOOKUP(INDEX($A:$O,ROW(),MATCH('Rapportage per vraag'!$C$12,'Data leveranciersbeoordeling'!$1:$1,0)),Leveranciersbeoordeling!$H$1:$I$5,2,FALSE),0)","v":0},0]
["",null,null,null,null,null,null,null,null,null,null,null,null,null,null,{"$f":"INDEX($A:$O,ROW(),MATCH('Rapportage per vraag'!$C$12,'Data leveranciersbeoordeling'!$1:$1,0))","v":0},{"$f":"IFERROR(VLOOKUP(INDEX($A:$O,ROW(),MATCH('Rapportage per vraag'!$C$12,'Data leveranciersbeoordeling'!$1:$1,0)),Leveranciersbeoordeling!$H$1:$I$5,2,FALSE),0)","v":0},0]
["",null,null,null,null,null,null,null,null,null,null,null,null,null,null,{"$f":"INDEX($A:$O,ROW(),MATCH('Rapportage per vraag'!$C$12,'Data leveranciersbeoordeling'!$1:$1,0))","v":0},{"$f":"IFERROR(VLOOKUP(INDEX($A:$O,ROW(),MATCH('Rapportage per vraag'!$C$12,'Data leveranciersbeoordeling'!$1:$1,0)),Leveranciersbeoordeling!$H$1:$I$5,2,FALSE),0)","v":0},0]
["",null,null,null,null,null,null,null,null,null,null,null,null,null,null,{"$f":"INDEX($A:$O,ROW(),MATCH('Rapportage per vraag'!$C$12,'Data leveranciersbeoordeling'!$1:$1,0))","v":0},{"$f":"IFERROR(VLOOKUP(INDEX($A:$O,ROW(),MATCH('Rapportage per vraag'!$C$12,'Data leveranciersbeoordeling'!$1:$1,0)),Leveranciersbeoordeling!$H$1:$I$5,2,FALSE),0)","v":0},0]
["",null,null,null,null,null,null,null,null,null,null,null,null,null,null,{"$f":"INDEX($A:$O,ROW(),MATCH('Rapportage per vraag'!$C$12,'Data leveranciersbeoordeling'!$1:$1,0))","v":0},{"$f":"IFERROR(VLOOKUP(INDEX($A:$O,ROW(),MATCH('Rapportage per vraag'!$C$12,'Data leveranciersbeoordeling'!$1:$1,0)),Leveranciersbeoordeling!$H$1:$I$5,2,FALSE),0)","v":0},0]
["",null,null,null,null,null,null,null,null,null,null,null,null,null,null,{"$f":"INDEX($A:$O,ROW(),MATCH('Rapportage per vraag'!$C$12,'Data leveranciersbeoordeling'!$1:$1,0))","v":0},{"$f":"IFERROR(VLOOKUP(INDEX($A:$O,ROW(),MATCH('Rapportage per vraag'!$C$12,'Data leveranciersbeoordeling'!$1:$1,0)),Leveranciersbeoordeling!$H$1:$I$5,2,FALSE),0)","v":0},{"$f":"IF(T(P6342)=P6342,Q6342,P6342)","v":0}]
["",null,null,null,null,null,null,null,null,null,null,null,null,null,null,{"$f":"INDEX($A:$O,ROW(),MATCH('Rapportage per vraag'!$C$12,'Data leveranciersbeoordeling'!$1:$1,0))","v":0},{"$f":"IFERROR(VLOOKUP(INDEX($A:$O,ROW(),MATCH('Rapportage per vraag'!$C$12,'Data leveranciersbeoordeling'!$1:$1,0)),Leveranciersbeoordeling!$H$1:$I$5,2,FALSE),0)","v":0},0]
["",null,null,null,null,null,null,null,null,null,null,null,null,null,null,{"$f":"INDEX($A:$O,ROW(),MATCH('Rapportage per vraag'!$C$12,'Data leveranciersbeoordeling'!$1:$1,0))","v":0},{"$f":"IFERROR(VLOOKUP(INDEX($A:$O,ROW(),MATCH('Rapportage per vraag'!$C$12,'Data leveranciersbeoordeling'!$1:$1,0)),Leveranciersbeoordeling!$H$1:$I$5,2,FALSE),0)","v":0},0]
["",null,null,null,null,null,null,null,null,null,null,null,null,null,null,{"$f":"INDEX($A:$O,ROW(),MATCH('Rapportage per vraag'!$C$12,'Data leveranciersbeoordeling'!$1:$1,0))","v":0},{"$f":"IFERROR(VLOOKUP(INDEX($A:$O,ROW(),MATCH('Rapportage per vraag'!$C$12,'Data leveranciersbeoordeling'!$1:$1,0)),Leveranciersbeoordeling!$H$1:$I$5,2,FALSE),0)","v":0},0]
["",null,null,null,null,null,null,null,null,null,null,null,null,null,null,{"$f":"INDEX($A:$O,ROW(),MATCH('Rapportage per vraag'!$C$12,'Data leveranciersbeoordeling'!$1:$1,0))","v":0},{"$f":"IFERROR(VLOOKUP(INDEX($A:$O,ROW(),MATCH('Rapportage per vraag'!$C$12,'Data leveranciersbeoordeling'!$1:$1,0)),Leveranciersbeoordeling!$H$1:$I$5,2,FALSE),0)","v":0},0]
["",null,null,null,null,null,null,null,null,null,null,null,null,null,null,{"$f":"INDEX($A:$O,ROW(),MATCH('Rapportage per vraag'!$C$12,'Data leveranciersbeoordeling'!$1:$1,0))","v":0},{"$f":"IFERROR(VLOOKUP(INDEX($A:$O,ROW(),MATCH('Rapportage per vraag'!$C$12,'Data leveranciersbeoordeling'!$1:$1,0)),Leveranciersbeoordeling!$H$1:$I$5,2,FALSE),0)","v":0},0]
["",null,null,null,null,null,null,null,null,null,null,null,null,null,null,{"$f":"INDEX($A:$O,ROW(),MATCH('Rapportage per vraag'!$C$12,'Data leveranciersbeoordeling'!$1:$1,0))","v":0},{"$f":"IFERROR(VLOOKUP(INDEX($A:$O,ROW(),MATCH('Rapportage per vraag'!$C$12,'Data leveranciersbeoordeling'!$1:$1,0)),Leveranciersbeoordeling!$H$1:$I$5,2,FALSE),0)","v":0},0]
["",null,null,null,null,null,null,null,null,null,null,null,null,null,null,{"$f":"INDEX($A:$O,ROW(),MATCH('Rapportage per vraag'!$C$12,'Data leveranciersbeoordeling'!$1:$1,0))","v":0},{"$f":"IFERROR(VLOOKUP(INDEX($A:$O,ROW(),MATCH('Rapportage per vraag'!$C$12,'Data leveranciersbeoordeling'!$1:$1,0)),Leveranciersbeoordeling!$H$1:$I$5,2,FALSE),0)","v":0},0]
["",null,null,null,null,null,null,null,null,null,null,null,null,null,null,{"$f":"INDEX($A:$O,ROW(),MATCH('Rapportage per vraag'!$C$12,'Data leveranciersbeoordeling'!$1:$1,0))","v":0},{"$f":"IFERROR(VLOOKUP(INDEX($A:$O,ROW(),MATCH('Rapportage per vraag'!$C$12,'Data leveranciersbeoordeling'!$1:$1,0)),Leveranciersbeoordeling!$H$1:$I$5,2,FALSE),0)","v":0},0]
["",null,null,null,null,null,null,null,null,null,null,null,null,null,null,{"$f":"INDEX($A:$O,ROW(),MATCH('Rapportage per vraag'!$C$12,'Data leveranciersbeoordeling'!$1:$1,0))","v":0},{"$f":"IFERROR(VLOOKUP(INDEX($A:$O,ROW(),MATCH('Rapportage per vraag'!$C$12,'Data leveranciersbeoordeling'!$1:$1,0)),Leveranciersbeoordeling!$H$1:$I$5,2,FALSE),0)","v":0},0]
["",null,null,null,null,null,null,null,null,null,null,null,null,null,null,{"$f":"INDEX($A:$O,ROW(),MATCH('Rapportage per vraag'!$C$12,'Data leveranciersbeoordeling'!$1:$1,0))","v":0},{"$f":"IFERROR(VLOOKUP(INDEX($A:$O,ROW(),MATCH('Rapportage per vraag'!$C$12,'Data leveranciersbeoordeling'!$1:$1,0)),Leveranciersbeoordeling!$H$1:$I$5,2,FALSE),0)","v":0},0]
["",null,null,null,null,null,null,null,null,null,null,null,null,null,null,{"$f":"INDEX($A:$O,ROW(),MATCH('Rapportage per vraag'!$C$12,'Data leveranciersbeoordeling'!$1:$1,0))","v":0},{"$f":"IFERROR(VLOOKUP(INDEX($A:$O,ROW(),MATCH('Rapportage per vraag'!$C$12,'Data leveranciersbeoordeling'!$1:$1,0)),Leveranciersbeoordeling!$H$1:$I$5,2,FALSE),0)","v":0},0]
["",null,null,null,null,null,null,null,null,null,null,null,null,null,null,{"$f":"INDEX($A:$O,ROW(),MATCH('Rapportage per vraag'!$C$12,'Data leveranciersbeoordeling'!$1:$1,0))","v":0},{"$f":"IFERROR(VLOOKUP(INDEX($A:$O,ROW(),MATCH('Rapportage per vraag'!$C$12,'Data leveranciersbeoordeling'!$1:$1,0)),Leveranciersbeoordeling!$H$1:$I$5,2,FALSE),0)","v":0},0]
["",null,null,null,null,null,null,null,null,null,null,null,null,null,null,{"$f":"INDEX($A:$O,ROW(),MATCH('Rapportage per vraag'!$C$12,'Data leveranciersbeoordeling'!$1:$1,0))","v":0},{"$f":"IFERROR(VLOOKUP(INDEX($A:$O,ROW(),MATCH('Rapportage per vraag'!$C$12,'Data leveranciersbeoordeling'!$1:$1,0)),Leveranciersbeoordeling!$H$1:$I$5,2,FALSE),0)","v":0},0]
["",null,null,null,null,null,null,null,null,null,null,null,null,null,null,{"$f":"INDEX($A:$O,ROW(),MATCH('Rapportage per vraag'!$C$12,'Data leveranciersbeoordeling'!$1:$1,0))","v":0},{"$f":"IFERROR(VLOOKUP(INDEX($A:$O,ROW(),MATCH('Rapportage per vraag'!$C$12,'Data leveranciersbeoordeling'!$1:$1,0)),Leveranciersbeoordeling!$H$1:$I$5,2,FALSE),0)","v":0},0]
["",null,null,null,null,null,null,null,null,null,null,null,null,null,null,{"$f":"INDEX($A:$O,ROW(),MATCH('Rapportage per vraag'!$C$12,'Data leveranciersbeoordeling'!$1:$1,0))","v":0},{"$f":"IFERROR(VLOOKUP(INDEX($A:$O,ROW(),MATCH('Rapportage per vraag'!$C$12,'Data leveranciersbeoordeling'!$1:$1,0)),Leveranciersbeoordeling!$H$1:$I$5,2,FALSE),0)","v":0},0]
["",null,null,null,null,null,null,null,null,null,null,null,null,null,null,{"$f":"INDEX($A:$O,ROW(),MATCH('Rapportage per vraag'!$C$12,'Data leveranciersbeoordeling'!$1:$1,0))","v":0},{"$f":"IFERROR(VLOOKUP(INDEX($A:$O,ROW(),MATCH('Rapportage per vraag'!$C$12,'Data leveranciersbeoordeling'!$1:$1,0)),Leveranciersbeoordeling!$H$1:$I$5,2,FALSE),0)","v":0},0]
["",null,null,null,null,null,null,null,null,null,null,null,null,null,null,{"$f":"INDEX($A:$O,ROW(),MATCH('Rapportage per vraag'!$C$12,'Data leveranciersbeoordeling'!$1:$1,0))","v":0},{"$f":"IFERROR(VLOOKUP(INDEX($A:$O,ROW(),MATCH('Rapportage per vraag'!$C$12,'Data leveranciersbeoordeling'!$1:$1,0)),Leveranciersbeoordeling!$H$1:$I$5,2,FALSE),0)","v":0},{"$f":"IF(T(P6406)=P6406,Q6406,P6406)","v":0}]
["",null,null,null,null,null,null,null,null,null,null,null,null,null,null,{"$f":"INDEX($A:$O,ROW(),MATCH('Rapportage per vraag'!$C$12,'Data leveranciersbeoordeling'!$1:$1,0))","v":0},{"$f":"IFERROR(VLOOKUP(INDEX($A:$O,ROW(),MATCH('Rapportage per vraag'!$C$12,'Data leveranciersbeoordeling'!$1:$1,0)),Leveranciersbeoordeling!$H$1:$I$5,2,FALSE),0)","v":0},0]
["",null,null,null,null,null,null,null,null,null,null,null,null,null,null,{"$f":"INDEX($A:$O,ROW(),MATCH('Rapportage per vraag'!$C$12,'Data leveranciersbeoordeling'!$1:$1,0))","v":0},{"$f":"IFERROR(VLOOKUP(INDEX($A:$O,ROW(),MATCH('Rapportage per vraag'!$C$12,'Data leveranciersbeoordeling'!$1:$1,0)),Leveranciersbeoordeling!$H$1:$I$5,2,FALSE),0)","v":0},0]
["",null,null,null,null,null,null,null,null,null,null,null,null,null,null,{"$f":"INDEX($A:$O,ROW(),MATCH('Rapportage per vraag'!$C$12,'Data leveranciersbeoordeling'!$1:$1,0))","v":0},{"$f":"IFERROR(VLOOKUP(INDEX($A:$O,ROW(),MATCH('Rapportage per vraag'!$C$12,'Data leveranciersbeoordeling'!$1:$1,0)),Leveranciersbeoordeling!$H$1:$I$5,2,FALSE),0)","v":0},0]
["",null,null,null,null,null,null,null,null,null,null,null,null,null,null,{"$f":"INDEX($A:$O,ROW(),MATCH('Rapportage per vraag'!$C$12,'Data leveranciersbeoordeling'!$1:$1,0))","v":0},{"$f":"IFERROR(VLOOKUP(INDEX($A:$O,ROW(),MATCH('Rapportage per vraag'!$C$12,'Data leveranciersbeoordeling'!$1:$1,0)),Leveranciersbeoordeling!$H$1:$I$5,2,FALSE),0)","v":0},0]
["",null,null,null,null,null,null,null,null,null,null,null,null,null,null,{"$f":"INDEX($A:$O,ROW(),MATCH('Rapportage per vraag'!$C$12,'Data leveranciersbeoordeling'!$1:$1,0))","v":0},{"$f":"IFERROR(VLOOKUP(INDEX($A:$O,ROW(),MATCH('Rapportage per vraag'!$C$12,'Data leveranciersbeoordeling'!$1:$1,0)),Leveranciersbeoordeling!$H$1:$I$5,2,FALSE),0)","v":0},0]
["",null,null,null,null,null,null,null,null,null,null,null,null,null,null,{"$f":"INDEX($A:$O,ROW(),MATCH('Rapportage per vraag'!$C$12,'Data leveranciersbeoordeling'!$1:$1,0))","v":0},{"$f":"IFERROR(VLOOKUP(INDEX($A:$O,ROW(),MATCH('Rapportage per vraag'!$C$12,'Data leveranciersbeoordeling'!$1:$1,0)),Leveranciersbeoordeling!$H$1:$I$5,2,FALSE),0)","v":0},0]
["",null,null,null,null,null,null,null,null,null,null,null,null,null,null,{"$f":"INDEX($A:$O,ROW(),MATCH('Rapportage per vraag'!$C$12,'Data leveranciersbeoordeling'!$1:$1,0))","v":0},{"$f":"IFERROR(VLOOKUP(INDEX($A:$O,ROW(),MATCH('Rapportage per vraag'!$C$12,'Data leveranciersbeoordeling'!$1:$1,0)),Leveranciersbeoordeling!$H$1:$I$5,2,FALSE),0)","v":0},0]
["",null,null,null,null,null,null,null,null,null,null,null,null,null,null,{"$f":"INDEX($A:$O,ROW(),MATCH('Rapportage per vraag'!$C$12,'Data leveranciersbeoordeling'!$1:$1,0))","v":0},{"$f":"IFERROR(VLOOKUP(INDEX($A:$O,ROW(),MATCH('Rapportage per vraag'!$C$12,'Data leveranciersbeoordeling'!$1:$1,0)),Leveranciersbeoordeling!$H$1:$I$5,2,FALSE),0)","v":0},0]
["",null,null,null,null,null,null,null,null,null,null,null,null,null,null,{"$f":"INDEX($A:$O,ROW(),MATCH('Rapportage per vraag'!$C$12,'Data leveranciersbeoordeling'!$1:$1,0))","v":0},{"$f":"IFERROR(VLOOKUP(INDEX($A:$O,ROW(),MATCH('Rapportage per vraag'!$C$12,'Data leveranciersbeoordeling'!$1:$1,0)),Leveranciersbeoordeling!$H$1:$I$5,2,FALSE),0)","v":0},0]
["",null,null,null,null,null,null,null,null,null,null,null,null,null,null,{"$f":"INDEX($A:$O,ROW(),MATCH('Rapportage per vraag'!$C$12,'Data leveranciersbeoordeling'!$1:$1,0))","v":0},{"$f":"IFERROR(VLOOKUP(INDEX($A:$O,ROW(),MATCH('Rapportage per vraag'!$C$12,'Data leveranciersbeoordeling'!$1:$1,0)),Leveranciersbeoordeling!$H$1:$I$5,2,FALSE),0)","v":0},0]
["",null,null,null,null,null,null,null,null,null,null,null,null,null,null,{"$f":"INDEX($A:$O,ROW(),MATCH('Rapportage per vraag'!$C$12,'Data leveranciersbeoordeling'!$1:$1,0))","v":0},{"$f":"IFERROR(VLOOKUP(INDEX($A:$O,ROW(),MATCH('Rapportage per vraag'!$C$12,'Data leveranciersbeoordeling'!$1:$1,0)),Leveranciersbeoordeling!$H$1:$I$5,2,FALSE),0)","v":0},0]
["",null,null,null,null,null,null,null,null,null,null,null,null,null,null,{"$f":"INDEX($A:$O,ROW(),MATCH('Rapportage per vraag'!$C$12,'Data leveranciersbeoordeling'!$1:$1,0))","v":0},{"$f":"IFERROR(VLOOKUP(INDEX($A:$O,ROW(),MATCH('Rapportage per vraag'!$C$12,'Data leveranciersbeoordeling'!$1:$1,0)),Leveranciersbeoordeling!$H$1:$I$5,2,FALSE),0)","v":0},0]
["",null,null,null,null,null,null,null,null,null,null,null,null,null,null,{"$f":"INDEX($A:$O,ROW(),MATCH('Rapportage per vraag'!$C$12,'Data leveranciersbeoordeling'!$1:$1,0))","v":0},{"$f":"IFERROR(VLOOKUP(INDEX($A:$O,ROW(),MATCH('Rapportage per vraag'!$C$12,'Data leveranciersbeoordeling'!$1:$1,0)),Leveranciersbeoordeling!$H$1:$I$5,2,FALSE),0)","v":0},0]
["",null,null,null,null,null,null,null,null,null,null,null,null,null,null,{"$f":"INDEX($A:$O,ROW(),MATCH('Rapportage per vraag'!$C$12,'Data leveranciersbeoordeling'!$1:$1,0))","v":0},{"$f":"IFERROR(VLOOKUP(INDEX($A:$O,ROW(),MATCH('Rapportage per vraag'!$C$12,'Data leveranciersbeoordeling'!$1:$1,0)),Leveranciersbeoordeling!$H$1:$I$5,2,FALSE),0)","v":0},0]
["",null,null,null,null,null,null,null,null,null,null,null,null,null,null,{"$f":"INDEX($A:$O,ROW(),MATCH('Rapportage per vraag'!$C$12,'Data leveranciersbeoordeling'!$1:$1,0))","v":0},{"$f":"IFERROR(VLOOKUP(INDEX($A:$O,ROW(),MATCH('Rapportage per vraag'!$C$12,'Data leveranciersbeoordeling'!$1:$1,0)),Leveranciersbeoordeling!$H$1:$I$5,2,FALSE),0)","v":0},0]
["",null,null,null,null,null,null,null,null,null,null,null,null,null,null,{"$f":"INDEX($A:$O,ROW(),MATCH('Rapportage per vraag'!$C$12,'Data leveranciersbeoordeling'!$1:$1,0))","v":0},{"$f":"IFERROR(VLOOKUP(INDEX($A:$O,ROW(),MATCH('Rapportage per vraag'!$C$12,'Data leveranciersbeoordeling'!$1:$1,0)),Leveranciersbeoordeling!$H$1:$I$5,2,FALSE),0)","v":0},0]
[{"$f":"CONCATENATE(B6467,C6467,D6467)","v":""},null,null,null,null,null,null,null,null,null,null,null,null,null,null,{"$f":"INDEX($A:$O,ROW(),MATCH('Rapportage per vraag'!$C$12,'Data leveranciersbeoordeling'!$1:$1,0))","v":0},{"$f":"IFERROR(VLOOKUP(INDEX($A:$O,ROW(),MATCH('Rapportage per vraag'!$C$12,'Data leveranciersbeoordeling'!$1:$1,0)),Leveranciersbeoordeling!$H$1:$I$5,2,FALSE),0)","v":0},0]
["",null,null,null,null,null,null,null,null,null,null,null,null,null,null,{"$f":"INDEX($A:$O,ROW(),MATCH('Rapportage per vraag'!$C$12,'Data leveranciersbeoordeling'!$1:$1,0))","v":0},{"$f":"IFERROR(VLOOKUP(INDEX($A:$O,ROW(),MATCH('Rapportage per vraag'!$C$12,'Data leveranciersbeoordeling'!$1:$1,0)),Leveranciersbeoordeling!$H$1:$I$5,2,FALSE),0)","v":0},0]
["",null,null,null,null,null,null,null,null,null,null,null,null,null,null,{"$f":"INDEX($A:$O,ROW(),MATCH('Rapportage per vraag'!$C$12,'Data leveranciersbeoordeling'!$1:$1,0))","v":0},{"$f":"IFERROR(VLOOKUP(INDEX($A:$O,ROW(),MATCH('Rapportage per vraag'!$C$12,'Data leveranciersbeoordeling'!$1:$1,0)),Leveranciersbeoordeling!$H$1:$I$5,2,FALSE),0)","v":0},0]
["",null,null,null,null,null,null,null,null,null,null,null,null,null,null,{"$f":"INDEX($A:$O,ROW(),MATCH('Rapportage per vraag'!$C$12,'Data leveranciersbeoordeling'!$1:$1,0))","v":0},{"$f":"IFERROR(VLOOKUP(INDEX($A:$O,ROW(),MATCH('Rapportage per vraag'!$C$12,'Data leveranciersbeoordeling'!$1:$1,0)),Leveranciersbeoordeling!$H$1:$I$5,2,FALSE),0)","v":0},0]
["",null,null,null,null,null,null,null,null,null,null,null,null,null,null,{"$f":"INDEX($A:$O,ROW(),MATCH('Rapportage per vraag'!$C$12,'Data leveranciersbeoordeling'!$1:$1,0))","v":0},{"$f":"IFERROR(VLOOKUP(INDEX($A:$O,ROW(),MATCH('Rapportage per vraag'!$C$12,'Data leveranciersbeoordeling'!$1:$1,0)),Leveranciersbeoordeling!$H$1:$I$5,2,FALSE),0)","v":0},0]
["",null,null,null,null,null,null,null,null,null,null,null,null,null,null,{"$f":"INDEX($A:$O,ROW(),MATCH('Rapportage per vraag'!$C$12,'Data leveranciersbeoordeling'!$1:$1,0))","v":0},{"$f":"IFERROR(VLOOKUP(INDEX($A:$O,ROW(),MATCH('Rapportage per vraag'!$C$12,'Data leveranciersbeoordeling'!$1:$1,0)),Leveranciersbeoordeling!$H$1:$I$5,2,FALSE),0)","v":0},0]
["",null,null,null,null,null,null,null,null,null,null,null,null,null,null,{"$f":"INDEX($A:$O,ROW(),MATCH('Rapportage per vraag'!$C$12,'Data leveranciersbeoordeling'!$1:$1,0))","v":0},{"$f":"IFERROR(VLOOKUP(INDEX($A:$O,ROW(),MATCH('Rapportage per vraag'!$C$12,'Data leveranciersbeoordeling'!$1:$1,0)),Leveranciersbeoordeling!$H$1:$I$5,2,FALSE),0)","v":0},0]
["",null,null,null,null,null,null,null,null,null,null,null,null,null,null,{"$f":"INDEX($A:$O,ROW(),MATCH('Rapportage per vraag'!$C$12,'Data leveranciersbeoordeling'!$1:$1,0))","v":0},{"$f":"IFERROR(VLOOKUP(INDEX($A:$O,ROW(),MATCH('Rapportage per vraag'!$C$12,'Data leveranciersbeoordeling'!$1:$1,0)),Leveranciersbeoordeling!$H$1:$I$5,2,FALSE),0)","v":0},0]
["",null,null,null,null,null,null,null,null,null,null,null,null,null,null,{"$f":"INDEX($A:$O,ROW(),MATCH('Rapportage per vraag'!$C$12,'Data leveranciersbeoordeling'!$1:$1,0))","v":0},{"$f":"IFERROR(VLOOKUP(INDEX($A:$O,ROW(),MATCH('Rapportage per vraag'!$C$12,'Data leveranciersbeoordeling'!$1:$1,0)),Leveranciersbeoordeling!$H$1:$I$5,2,FALSE),0)","v":0},0]
["",null,null,null,null,null,null,null,null,null,null,null,null,null,null,{"$f":"INDEX($A:$O,ROW(),MATCH('Rapportage per vraag'!$C$12,'Data leveranciersbeoordeling'!$1:$1,0))","v":0},{"$f":"IFERROR(VLOOKUP(INDEX($A:$O,ROW(),MATCH('Rapportage per vraag'!$C$12,'Data leveranciersbeoordeling'!$1:$1,0)),Leveranciersbeoordeling!$H$1:$I$5,2,FALSE),0)","v":0},0]
["",null,null,null,null,null,null,null,null,null,null,null,null,null,null,{"$f":"INDEX($A:$O,ROW(),MATCH('Rapportage per vraag'!$C$12,'Data leveranciersbeoordeling'!$1:$1,0))","v":0},{"$f":"IFERROR(VLOOKUP(INDEX($A:$O,ROW(),MATCH('Rapportage per vraag'!$C$12,'Data leveranciersbeoordeling'!$1:$1,0)),Leveranciersbeoordeling!$H$1:$I$5,2,FALSE),0)","v":0},0]
["",null,null,null,null,null,null,null,null,null,null,null,null,null,null,{"$f":"INDEX($A:$O,ROW(),MATCH('Rapportage per vraag'!$C$12,'Data leveranciersbeoordeling'!$1:$1,0))","v":0},{"$f":"IFERROR(VLOOKUP(INDEX($A:$O,ROW(),MATCH('Rapportage per vraag'!$C$12,'Data leveranciersbeoordeling'!$1:$1,0)),Leveranciersbeoordeling!$H$1:$I$5,2,FALSE),0)","v":0},0]
["",null,null,null,null,null,null,null,null,null,null,null,null,null,null,{"$f":"INDEX($A:$O,ROW(),MATCH('Rapportage per vraag'!$C$12,'Data leveranciersbeoordeling'!$1:$1,0))","v":0},{"$f":"IFERROR(VLOOKUP(INDEX($A:$O,ROW(),MATCH('Rapportage per vraag'!$C$12,'Data leveranciersbeoordeling'!$1:$1,0)),Leveranciersbeoordeling!$H$1:$I$5,2,FALSE),0)","v":0},0]
["",null,null,null,null,null,null,null,null,null,null,null,null,null,null,{"$f":"INDEX($A:$O,ROW(),MATCH('Rapportage per vraag'!$C$12,'Data leveranciersbeoordeling'!$1:$1,0))","v":0},{"$f":"IFERROR(VLOOKUP(INDEX($A:$O,ROW(),MATCH('Rapportage per vraag'!$C$12,'Data leveranciersbeoordeling'!$1:$1,0)),Leveranciersbeoordeling!$H$1:$I$5,2,FALSE),0)","v":0},0]
["",null,null,null,null,null,null,null,null,null,null,null,null,null,null,{"$f":"INDEX($A:$O,ROW(),MATCH('Rapportage per vraag'!$C$12,'Data leveranciersbeoordeling'!$1:$1,0))","v":0},{"$f":"IFERROR(VLOOKUP(INDEX($A:$O,ROW(),MATCH('Rapportage per vraag'!$C$12,'Data leveranciersbeoordeling'!$1:$1,0)),Leveranciersbeoordeling!$H$1:$I$5,2,FALSE),0)","v":0},0]
["",null,null,null,null,null,null,null,null,null,null,null,null,null,null,{"$f":"INDEX($A:$O,ROW(),MATCH('Rapportage per vraag'!$C$12,'Data leveranciersbeoordeling'!$1:$1,0))","v":0},{"$f":"IFERROR(VLOOKUP(INDEX($A:$O,ROW(),MATCH('Rapportage per vraag'!$C$12,'Data leveranciersbeoordeling'!$1:$1,0)),Leveranciersbeoordeling!$H$1:$I$5,2,FALSE),0)","v":0},0]
["",null,null,null,null,null,null,null,null,null,null,null,null,null,null,{"$f":"INDEX($A:$O,ROW(),MATCH('Rapportage per vraag'!$C$12,'Data leveranciersbeoordeling'!$1:$1,0))","v":0},{"$f":"IFERROR(VLOOKUP(INDEX($A:$O,ROW(),MATCH('Rapportage per vraag'!$C$12,'Data leveranciersbeoordeling'!$1:$1,0)),Leveranciersbeoordeling!$H$1:$I$5,2,FALSE),0)","v":0},0]
["",null,null,null,null,null,null,null,null,null,null,null,null,null,null,{"$f":"INDEX($A:$O,ROW(),MATCH('Rapportage per vraag'!$C$12,'Data leveranciersbeoordeling'!$1:$1,0))","v":0},{"$f":"IFERROR(VLOOKUP(INDEX($A:$O,ROW(),MATCH('Rapportage per vraag'!$C$12,'Data leveranciersbeoordeling'!$1:$1,0)),Leveranciersbeoordeling!$H$1:$I$5,2,FALSE),0)","v":0},0]
["",null,null,null,null,null,null,null,null,null,null,null,null,null,null,{"$f":"INDEX($A:$O,ROW(),MATCH('Rapportage per vraag'!$C$12,'Data leveranciersbeoordeling'!$1:$1,0))","v":0},{"$f":"IFERROR(VLOOKUP(INDEX($A:$O,ROW(),MATCH('Rapportage per vraag'!$C$12,'Data leveranciersbeoordeling'!$1:$1,0)),Leveranciersbeoordeling!$H$1:$I$5,2,FALSE),0)","v":0},0]
["",null,null,null,null,null,null,null,null,null,null,null,null,null,null,{"$f":"INDEX($A:$O,ROW(),MATCH('Rapportage per vraag'!$C$12,'Data leveranciersbeoordeling'!$1:$1,0))","v":0},{"$f":"IFERROR(VLOOKUP(INDEX($A:$O,ROW(),MATCH('Rapportage per vraag'!$C$12,'Data leveranciersbeoordeling'!$1:$1,0)),Leveranciersbeoordeling!$H$1:$I$5,2,FALSE),0)","v":0},0]
["",null,null,null,null,null,null,null,null,null,null,null,null,null,null,{"$f":"INDEX($A:$O,ROW(),MATCH('Rapportage per vraag'!$C$12,'Data leveranciersbeoordeling'!$1:$1,0))","v":0},{"$f":"IFERROR(VLOOKUP(INDEX($A:$O,ROW(),MATCH('Rapportage per vraag'!$C$12,'Data leveranciersbeoordeling'!$1:$1,0)),Leveranciersbeoordeling!$H$1:$I$5,2,FALSE),0)","v":0},0]
["",null,null,null,null,null,null,null,null,null,null,null,null,null,null,{"$f":"INDEX($A:$O,ROW(),MATCH('Rapportage per vraag'!$C$12,'Data leveranciersbeoordeling'!$1:$1,0))","v":0},{"$f":"IFERROR(VLOOKUP(INDEX($A:$O,ROW(),MATCH('Rapportage per vraag'!$C$12,'Data leveranciersbeoordeling'!$1:$1,0)),Leveranciersbeoordeling!$H$1:$I$5,2,FALSE),0)","v":0},0]
["",null,null,null,null,null,null,null,null,null,null,null,null,null,null,{"$f":"INDEX($A:$O,ROW(),MATCH('Rapportage per vraag'!$C$12,'Data leveranciersbeoordeling'!$1:$1,0))","v":0},{"$f":"IFERROR(VLOOKUP(INDEX($A:$O,ROW(),MATCH('Rapportage per vraag'!$C$12,'Data leveranciersbeoordeling'!$1:$1,0)),Leveranciersbeoordeling!$H$1:$I$5,2,FALSE),0)","v":0},0]
["",null,null,null,null,null,null,null,null,null,null,null,null,null,null,{"$f":"INDEX($A:$O,ROW(),MATCH('Rapportage per vraag'!$C$12,'Data leveranciersbeoordeling'!$1:$1,0))","v":0},{"$f":"IFERROR(VLOOKUP(INDEX($A:$O,ROW(),MATCH('Rapportage per vraag'!$C$12,'Data leveranciersbeoordeling'!$1:$1,0)),Leveranciersbeoordeling!$H$1:$I$5,2,FALSE),0)","v":0},0]
["",null,null,null,null,null,null,null,null,null,null,null,null,null,null,{"$f":"INDEX($A:$O,ROW(),MATCH('Rapportage per vraag'!$C$12,'Data leveranciersbeoordeling'!$1:$1,0))","v":0},{"$f":"IFERROR(VLOOKUP(INDEX($A:$O,ROW(),MATCH('Rapportage per vraag'!$C$12,'Data leveranciersbeoordeling'!$1:$1,0)),Leveranciersbeoordeling!$H$1:$I$5,2,FALSE),0)","v":0},0]
["",null,null,null,null,null,null,null,null,null,null,null,null,null,null,{"$f":"INDEX($A:$O,ROW(),MATCH('Rapportage per vraag'!$C$12,'Data leveranciersbeoordeling'!$1:$1,0))","v":0},{"$f":"IFERROR(VLOOKUP(INDEX($A:$O,ROW(),MATCH('Rapportage per vraag'!$C$12,'Data leveranciersbeoordeling'!$1:$1,0)),Leveranciersbeoordeling!$H$1:$I$5,2,FALSE),0)","v":0},0]
["",null,null,null,null,null,null,null,null,null,null,null,null,null,null,{"$f":"INDEX($A:$O,ROW(),MATCH('Rapportage per vraag'!$C$12,'Data leveranciersbeoordeling'!$1:$1,0))","v":0},{"$f":"IFERROR(VLOOKUP(INDEX($A:$O,ROW(),MATCH('Rapportage per vraag'!$C$12,'Data leveranciersbeoordeling'!$1:$1,0)),Leveranciersbeoordeling!$H$1:$I$5,2,FALSE),0)","v":0},0]
["",null,null,null,null,null,null,null,null,null,null,null,null,null,null,{"$f":"INDEX($A:$O,ROW(),MATCH('Rapportage per vraag'!$C$12,'Data leveranciersbeoordeling'!$1:$1,0))","v":0},{"$f":"IFERROR(VLOOKUP(INDEX($A:$O,ROW(),MATCH('Rapportage per vraag'!$C$12,'Data leveranciersbeoordeling'!$1:$1,0)),Leveranciersbeoordeling!$H$1:$I$5,2,FALSE),0)","v":0},0]
["",null,null,null,null,null,null,null,null,null,null,null,null,null,null,{"$f":"INDEX($A:$O,ROW(),MATCH('Rapportage per vraag'!$C$12,'Data leveranciersbeoordeling'!$1:$1,0))","v":0},{"$f":"IFERROR(VLOOKUP(INDEX($A:$O,ROW(),MATCH('Rapportage per vraag'!$C$12,'Data leveranciersbeoordeling'!$1:$1,0)),Leveranciersbeoordeling!$H$1:$I$5,2,FALSE),0)","v":0},0]
["",null,null,null,null,null,null,null,null,null,null,null,null,null,null,{"$f":"INDEX($A:$O,ROW(),MATCH('Rapportage per vraag'!$C$12,'Data leveranciersbeoordeling'!$1:$1,0))","v":0},{"$f":"IFERROR(VLOOKUP(INDEX($A:$O,ROW(),MATCH('Rapportage per vraag'!$C$12,'Data leveranciersbeoordeling'!$1:$1,0)),Leveranciersbeoordeling!$H$1:$I$5,2,FALSE),0)","v":0},0]
["",null,null,null,null,null,null,null,null,null,null,null,null,null,null,{"$f":"INDEX($A:$O,ROW(),MATCH('Rapportage per vraag'!$C$12,'Data leveranciersbeoordeling'!$1:$1,0))","v":0},{"$f":"IFERROR(VLOOKUP(INDEX($A:$O,ROW(),MATCH('Rapportage per vraag'!$C$12,'Data leveranciersbeoordeling'!$1:$1,0)),Leveranciersbeoordeling!$H$1:$I$5,2,FALSE),0)","v":0},0]
["",null,null,null,null,null,null,null,null,null,null,null,null,null,null,{"$f":"INDEX($A:$O,ROW(),MATCH('Rapportage per vraag'!$C$12,'Data leveranciersbeoordeling'!$1:$1,0))","v":0},{"$f":"IFERROR(VLOOKUP(INDEX($A:$O,ROW(),MATCH('Rapportage per vraag'!$C$12,'Data leveranciersbeoordeling'!$1:$1,0)),Leveranciersbeoordeling!$H$1:$I$5,2,FALSE),0)","v":0},0]
["",null,null,null,null,null,null,null,null,null,null,null,null,null,null,{"$f":"INDEX($A:$O,ROW(),MATCH('Rapportage per vraag'!$C$12,'Data leveranciersbeoordeling'!$1:$1,0))","v":0},{"$f":"IFERROR(VLOOKUP(INDEX($A:$O,ROW(),MATCH('Rapportage per vraag'!$C$12,'Data leveranciersbeoordeling'!$1:$1,0)),Leveranciersbeoordeling!$H$1:$I$5,2,FALSE),0)","v":0},0]
["",null,null,null,null,null,null,null,null,null,null,null,null,null,null,{"$f":"INDEX($A:$O,ROW(),MATCH('Rapportage per vraag'!$C$12,'Data leveranciersbeoordeling'!$1:$1,0))","v":0},{"$f":"IFERROR(VLOOKUP(INDEX($A:$O,ROW(),MATCH('Rapportage per vraag'!$C$12,'Data leveranciersbeoordeling'!$1:$1,0)),Leveranciersbeoordeling!$H$1:$I$5,2,FALSE),0)","v":0},0]
["",null,null,null,null,null,null,null,null,null,null,null,null,null,null,{"$f":"INDEX($A:$O,ROW(),MATCH('Rapportage per vraag'!$C$12,'Data leveranciersbeoordeling'!$1:$1,0))","v":0},{"$f":"IFERROR(VLOOKUP(INDEX($A:$O,ROW(),MATCH('Rapportage per vraag'!$C$12,'Data leveranciersbeoordeling'!$1:$1,0)),Leveranciersbeoordeling!$H$1:$I$5,2,FALSE),0)","v":0},0]
["",null,null,null,null,null,null,null,null,null,null,null,null,null,null,{"$f":"INDEX($A:$O,ROW(),MATCH('Rapportage per vraag'!$C$12,'Data leveranciersbeoordeling'!$1:$1,0))","v":0},{"$f":"IFERROR(VLOOKUP(INDEX($A:$O,ROW(),MATCH('Rapportage per vraag'!$C$12,'Data leveranciersbeoordeling'!$1:$1,0)),Leveranciersbeoordeling!$H$1:$I$5,2,FALSE),0)","v":0},0]
["",null,null,null,null,null,null,null,null,null,null,null,null,null,null,{"$f":"INDEX($A:$O,ROW(),MATCH('Rapportage per vraag'!$C$12,'Data leveranciersbeoordeling'!$1:$1,0))","v":0},{"$f":"IFERROR(VLOOKUP(INDEX($A:$O,ROW(),MATCH('Rapportage per vraag'!$C$12,'Data leveranciersbeoordeling'!$1:$1,0)),Leveranciersbeoordeling!$H$1:$I$5,2,FALSE),0)","v":0},0]
["",null,null,null,null,null,null,null,null,null,null,null,null,null,null,{"$f":"INDEX($A:$O,ROW(),MATCH('Rapportage per vraag'!$C$12,'Data leveranciersbeoordeling'!$1:$1,0))","v":0},{"$f":"IFERROR(VLOOKUP(INDEX($A:$O,ROW(),MATCH('Rapportage per vraag'!$C$12,'Data leveranciersbeoordeling'!$1:$1,0)),Leveranciersbeoordeling!$H$1:$I$5,2,FALSE),0)","v":0},0]
["",null,null,null,null,null,null,null,null,null,null,null,null,null,null,{"$f":"INDEX($A:$O,ROW(),MATCH('Rapportage per vraag'!$C$12,'Data leveranciersbeoordeling'!$1:$1,0))","v":0},{"$f":"IFERROR(VLOOKUP(INDEX($A:$O,ROW(),MATCH('Rapportage per vraag'!$C$12,'Data leveranciersbeoordeling'!$1:$1,0)),Leveranciersbeoordeling!$H$1:$I$5,2,FALSE),0)","v":0},0]
["",null,null,null,null,null,null,null,null,null,null,null,null,null,null,{"$f":"INDEX($A:$O,ROW(),MATCH('Rapportage per vraag'!$C$12,'Data leveranciersbeoordeling'!$1:$1,0))","v":0},{"$f":"IFERROR(VLOOKUP(INDEX($A:$O,ROW(),MATCH('Rapportage per vraag'!$C$12,'Data leveranciersbeoordeling'!$1:$1,0)),Leveranciersbeoordeling!$H$1:$I$5,2,FALSE),0)","v":0},0]
["",null,null,null,null,null,null,null,null,null,null,null,null,null,null,{"$f":"INDEX($A:$O,ROW(),MATCH('Rapportage per vraag'!$C$12,'Data leveranciersbeoordeling'!$1:$1,0))","v":0},{"$f":"IFERROR(VLOOKUP(INDEX($A:$O,ROW(),MATCH('Rapportage per vraag'!$C$12,'Data leveranciersbeoordeling'!$1:$1,0)),Leveranciersbeoordeling!$H$1:$I$5,2,FALSE),0)","v":0},0]
["",null,null,null,null,null,null,null,null,null,null,null,null,null,null,{"$f":"INDEX($A:$O,ROW(),MATCH('Rapportage per vraag'!$C$12,'Data leveranciersbeoordeling'!$1:$1,0))","v":0},{"$f":"IFERROR(VLOOKUP(INDEX($A:$O,ROW(),MATCH('Rapportage per vraag'!$C$12,'Data leveranciersbeoordeling'!$1:$1,0)),Leveranciersbeoordeling!$H$1:$I$5,2,FALSE),0)","v":0},0]
["",null,null,null,null,null,null,null,null,null,null,null,null,null,null,{"$f":"INDEX($A:$O,ROW(),MATCH('Rapportage per vraag'!$C$12,'Data leveranciersbeoordeling'!$1:$1,0))","v":0},{"$f":"IFERROR(VLOOKUP(INDEX($A:$O,ROW(),MATCH('Rapportage per vraag'!$C$12,'Data leveranciersbeoordeling'!$1:$1,0)),Leveranciersbeoordeling!$H$1:$I$5,2,FALSE),0)","v":0},0]
["",null,null,null,null,null,null,null,null,null,null,null,null,null,null,{"$f":"INDEX($A:$O,ROW(),MATCH('Rapportage per vraag'!$C$12,'Data leveranciersbeoordeling'!$1:$1,0))","v":0},{"$f":"IFERROR(VLOOKUP(INDEX($A:$O,ROW(),MATCH('Rapportage per vraag'!$C$12,'Data leveranciersbeoordeling'!$1:$1,0)),Leveranciersbeoordeling!$H$1:$I$5,2,FALSE),0)","v":0},0]
["",null,null,null,null,null,null,null,null,null,null,null,null,null,null,{"$f":"INDEX($A:$O,ROW(),MATCH('Rapportage per vraag'!$C$12,'Data leveranciersbeoordeling'!$1:$1,0))","v":0},{"$f":"IFERROR(VLOOKUP(INDEX($A:$O,ROW(),MATCH('Rapportage per vraag'!$C$12,'Data leveranciersbeoordeling'!$1:$1,0)),Leveranciersbeoordeling!$H$1:$I$5,2,FALSE),0)","v":0},0]
["",null,null,null,null,null,null,null,null,null,null,null,null,null,null,{"$f":"INDEX($A:$O,ROW(),MATCH('Rapportage per vraag'!$C$12,'Data leveranciersbeoordeling'!$1:$1,0))","v":0},{"$f":"IFERROR(VLOOKUP(INDEX($A:$O,ROW(),MATCH('Rapportage per vraag'!$C$12,'Data leveranciersbeoordeling'!$1:$1,0)),Leveranciersbeoordeling!$H$1:$I$5,2,FALSE),0)","v":0},0]
["",null,null,null,null,null,null,null,null,null,null,null,null,null,null,{"$f":"INDEX($A:$O,ROW(),MATCH('Rapportage per vraag'!$C$12,'Data leveranciersbeoordeling'!$1:$1,0))","v":0},{"$f":"IFERROR(VLOOKUP(INDEX($A:$O,ROW(),MATCH('Rapportage per vraag'!$C$12,'Data leveranciersbeoordeling'!$1:$1,0)),Leveranciersbeoordeling!$H$1:$I$5,2,FALSE),0)","v":0},0]
["",null,null,null,null,null,null,null,null,null,null,null,null,null,null,{"$f":"INDEX($A:$O,ROW(),MATCH('Rapportage per vraag'!$C$12,'Data leveranciersbeoordeling'!$1:$1,0))","v":0},{"$f":"IFERROR(VLOOKUP(INDEX($A:$O,ROW(),MATCH('Rapportage per vraag'!$C$12,'Data leveranciersbeoordeling'!$1:$1,0)),Leveranciersbeoordeling!$H$1:$I$5,2,FALSE),0)","v":0},0]
["",null,null,null,null,null,null,null,null,null,null,null,null,null,null,{"$f":"INDEX($A:$O,ROW(),MATCH('Rapportage per vraag'!$C$12,'Data leveranciersbeoordeling'!$1:$1,0))","v":0},{"$f":"IFERROR(VLOOKUP(INDEX($A:$O,ROW(),MATCH('Rapportage per vraag'!$C$12,'Data leveranciersbeoordeling'!$1:$1,0)),Leveranciersbeoordeling!$H$1:$I$5,2,FALSE),0)","v":0},0]
["",null,null,null,null,null,null,null,null,null,null,null,null,null,null,{"$f":"INDEX($A:$O,ROW(),MATCH('Rapportage per vraag'!$C$12,'Data leveranciersbeoordeling'!$1:$1,0))","v":0},{"$f":"IFERROR(VLOOKUP(INDEX($A:$O,ROW(),MATCH('Rapportage per vraag'!$C$12,'Data leveranciersbeoordeling'!$1:$1,0)),Leveranciersbeoordeling!$H$1:$I$5,2,FALSE),0)","v":0},0]
["",null,null,null,null,null,null,null,null,null,null,null,null,null,null,{"$f":"INDEX($A:$O,ROW(),MATCH('Rapportage per vraag'!$C$12,'Data leveranciersbeoordeling'!$1:$1,0))","v":0},{"$f":"IFERROR(VLOOKUP(INDEX($A:$O,ROW(),MATCH('Rapportage per vraag'!$C$12,'Data leveranciersbeoordeling'!$1:$1,0)),Leveranciersbeoordeling!$H$1:$I$5,2,FALSE),0)","v":0},0]
["",null,null,null,null,null,null,null,null,null,null,null,null,null,null,{"$f":"INDEX($A:$O,ROW(),MATCH('Rapportage per vraag'!$C$12,'Data leveranciersbeoordeling'!$1:$1,0))","v":0},{"$f":"IFERROR(VLOOKUP(INDEX($A:$O,ROW(),MATCH('Rapportage per vraag'!$C$12,'Data leveranciersbeoordeling'!$1:$1,0)),Leveranciersbeoordeling!$H$1:$I$5,2,FALSE),0)","v":0},0]
["",null,null,null,null,null,null,null,null,null,null,null,null,null,null,{"$f":"INDEX($A:$O,ROW(),MATCH('Rapportage per vraag'!$C$12,'Data leveranciersbeoordeling'!$1:$1,0))","v":0},{"$f":"IFERROR(VLOOKUP(INDEX($A:$O,ROW(),MATCH('Rapportage per vraag'!$C$12,'Data leveranciersbeoordeling'!$1:$1,0)),Leveranciersbeoordeling!$H$1:$I$5,2,FALSE),0)","v":0},{"$f":"IF(T(P6662)=P6662,Q6662,P6662)","v":0}]
["",null,null,null,null,null,null,null,null,null,null,null,null,null,null,{"$f":"INDEX($A:$O,ROW(),MATCH('Rapportage per vraag'!$C$12,'Data leveranciersbeoordeling'!$1:$1,0))","v":0},{"$f":"IFERROR(VLOOKUP(INDEX($A:$O,ROW(),MATCH('Rapportage per vraag'!$C$12,'Data leveranciersbeoordeling'!$1:$1,0)),Leveranciersbeoordeling!$H$1:$I$5,2,FALSE),0)","v":0},0]
["",null,null,null,null,null,null,null,null,null,null,null,null,null,null,{"$f":"INDEX($A:$O,ROW(),MATCH('Rapportage per vraag'!$C$12,'Data leveranciersbeoordeling'!$1:$1,0))","v":0},{"$f":"IFERROR(VLOOKUP(INDEX($A:$O,ROW(),MATCH('Rapportage per vraag'!$C$12,'Data leveranciersbeoordeling'!$1:$1,0)),Leveranciersbeoordeling!$H$1:$I$5,2,FALSE),0)","v":0},0]
["",null,null,null,null,null,null,null,null,null,null,null,null,null,null,{"$f":"INDEX($A:$O,ROW(),MATCH('Rapportage per vraag'!$C$12,'Data leveranciersbeoordeling'!$1:$1,0))","v":0},{"$f":"IFERROR(VLOOKUP(INDEX($A:$O,ROW(),MATCH('Rapportage per vraag'!$C$12,'Data leveranciersbeoordeling'!$1:$1,0)),Leveranciersbeoordeling!$H$1:$I$5,2,FALSE),0)","v":0},0]
["",null,null,null,null,null,null,null,null,null,null,null,null,null,null,{"$f":"INDEX($A:$O,ROW(),MATCH('Rapportage per vraag'!$C$12,'Data leveranciersbeoordeling'!$1:$1,0))","v":0},{"$f":"IFERROR(VLOOKUP(INDEX($A:$O,ROW(),MATCH('Rapportage per vraag'!$C$12,'Data leveranciersbeoordeling'!$1:$1,0)),Leveranciersbeoordeling!$H$1:$I$5,2,FALSE),0)","v":0},0]
["",null,null,null,null,null,null,null,null,null,null,null,null,null,null,{"$f":"INDEX($A:$O,ROW(),MATCH('Rapportage per vraag'!$C$12,'Data leveranciersbeoordeling'!$1:$1,0))","v":0},{"$f":"IFERROR(VLOOKUP(INDEX($A:$O,ROW(),MATCH('Rapportage per vraag'!$C$12,'Data leveranciersbeoordeling'!$1:$1,0)),Leveranciersbeoordeling!$H$1:$I$5,2,FALSE),0)","v":0},0]
["",null,null,null,null,null,null,null,null,null,null,null,null,null,null,{"$f":"INDEX($A:$O,ROW(),MATCH('Rapportage per vraag'!$C$12,'Data leveranciersbeoordeling'!$1:$1,0))","v":0},{"$f":"IFERROR(VLOOKUP(INDEX($A:$O,ROW(),MATCH('Rapportage per vraag'!$C$12,'Data leveranciersbeoordeling'!$1:$1,0)),Leveranciersbeoordeling!$H$1:$I$5,2,FALSE),0)","v":0},0]
["",null,null,null,null,null,null,null,null,null,null,null,null,null,null,{"$f":"INDEX($A:$O,ROW(),MATCH('Rapportage per vraag'!$C$12,'Data leveranciersbeoordeling'!$1:$1,0))","v":0},{"$f":"IFERROR(VLOOKUP(INDEX($A:$O,ROW(),MATCH('Rapportage per vraag'!$C$12,'Data leveranciersbeoordeling'!$1:$1,0)),Leveranciersbeoordeling!$H$1:$I$5,2,FALSE),0)","v":0},0]
["",null,null,null,null,null,null,null,null,null,null,null,null,null,null,{"$f":"INDEX($A:$O,ROW(),MATCH('Rapportage per vraag'!$C$12,'Data leveranciersbeoordeling'!$1:$1,0))","v":0},{"$f":"IFERROR(VLOOKUP(INDEX($A:$O,ROW(),MATCH('Rapportage per vraag'!$C$12,'Data leveranciersbeoordeling'!$1:$1,0)),Leveranciersbeoordeling!$H$1:$I$5,2,FALSE),0)","v":0},0]
["",null,null,null,null,null,null,null,null,null,null,null,null,null,null,{"$f":"INDEX($A:$O,ROW(),MATCH('Rapportage per vraag'!$C$12,'Data leveranciersbeoordeling'!$1:$1,0))","v":0},{"$f":"IFERROR(VLOOKUP(INDEX($A:$O,ROW(),MATCH('Rapportage per vraag'!$C$12,'Data leveranciersbeoordeling'!$1:$1,0)),Leveranciersbeoordeling!$H$1:$I$5,2,FALSE),0)","v":0},0]
["",null,null,null,null,null,null,null,null,null,null,null,null,null,null,{"$f":"INDEX($A:$O,ROW(),MATCH('Rapportage per vraag'!$C$12,'Data leveranciersbeoordeling'!$1:$1,0))","v":0},{"$f":"IFERROR(VLOOKUP(INDEX($A:$O,ROW(),MATCH('Rapportage per vraag'!$C$12,'Data leveranciersbeoordeling'!$1:$1,0)),Leveranciersbeoordeling!$H$1:$I$5,2,FALSE),0)","v":0},0]
["",null,null,null,null,null,null,null,null,null,null,null,null,null,null,{"$f":"INDEX($A:$O,ROW(),MATCH('Rapportage per vraag'!$C$12,'Data leveranciersbeoordeling'!$1:$1,0))","v":0},{"$f":"IFERROR(VLOOKUP(INDEX($A:$O,ROW(),MATCH('Rapportage per vraag'!$C$12,'Data leveranciersbeoordeling'!$1:$1,0)),Leveranciersbeoordeling!$H$1:$I$5,2,FALSE),0)","v":0},0]
["",null,null,null,null,null,null,null,null,null,null,null,null,null,null,{"$f":"INDEX($A:$O,ROW(),MATCH('Rapportage per vraag'!$C$12,'Data leveranciersbeoordeling'!$1:$1,0))","v":0},{"$f":"IFERROR(VLOOKUP(INDEX($A:$O,ROW(),MATCH('Rapportage per vraag'!$C$12,'Data leveranciersbeoordeling'!$1:$1,0)),Leveranciersbeoordeling!$H$1:$I$5,2,FALSE),0)","v":0},0]
["",null,null,null,null,null,null,null,null,null,null,null,null,null,null,{"$f":"INDEX($A:$O,ROW(),MATCH('Rapportage per vraag'!$C$12,'Data leveranciersbeoordeling'!$1:$1,0))","v":0},{"$f":"IFERROR(VLOOKUP(INDEX($A:$O,ROW(),MATCH('Rapportage per vraag'!$C$12,'Data leveranciersbeoordeling'!$1:$1,0)),Leveranciersbeoordeling!$H$1:$I$5,2,FALSE),0)","v":0},0]
["",null,null,null,null,null,null,null,null,null,null,null,null,null,null,{"$f":"INDEX($A:$O,ROW(),MATCH('Rapportage per vraag'!$C$12,'Data leveranciersbeoordeling'!$1:$1,0))","v":0},{"$f":"IFERROR(VLOOKUP(INDEX($A:$O,ROW(),MATCH('Rapportage per vraag'!$C$12,'Data leveranciersbeoordeling'!$1:$1,0)),Leveranciersbeoordeling!$H$1:$I$5,2,FALSE),0)","v":0},0]
["",null,null,null,null,null,null,null,null,null,null,null,null,null,null,{"$f":"INDEX($A:$O,ROW(),MATCH('Rapportage per vraag'!$C$12,'Data leveranciersbeoordeling'!$1:$1,0))","v":0},{"$f":"IFERROR(VLOOKUP(INDEX($A:$O,ROW(),MATCH('Rapportage per vraag'!$C$12,'Data leveranciersbeoordeling'!$1:$1,0)),Leveranciersbeoordeling!$H$1:$I$5,2,FALSE),0)","v":0},0]
["",null,null,null,null,null,null,null,null,null,null,null,null,null,null,{"$f":"INDEX($A:$O,ROW(),MATCH('Rapportage per vraag'!$C$12,'Data leveranciersbeoordeling'!$1:$1,0))","v":0},{"$f":"IFERROR(VLOOKUP(INDEX($A:$O,ROW(),MATCH('Rapportage per vraag'!$C$12,'Data leveranciersbeoordeling'!$1:$1,0)),Leveranciersbeoordeling!$H$1:$I$5,2,FALSE),0)","v":0},0]
["",null,null,null,null,null,null,null,null,null,null,null,null,null,null,{"$f":"INDEX($A:$O,ROW(),MATCH('Rapportage per vraag'!$C$12,'Data leveranciersbeoordeling'!$1:$1,0))","v":0},{"$f":"IFERROR(VLOOKUP(INDEX($A:$O,ROW(),MATCH('Rapportage per vraag'!$C$12,'Data leveranciersbeoordeling'!$1:$1,0)),Leveranciersbeoordeling!$H$1:$I$5,2,FALSE),0)","v":0},0]
["",null,null,null,null,null,null,null,null,null,null,null,null,null,null,{"$f":"INDEX($A:$O,ROW(),MATCH('Rapportage per vraag'!$C$12,'Data leveranciersbeoordeling'!$1:$1,0))","v":0},{"$f":"IFERROR(VLOOKUP(INDEX($A:$O,ROW(),MATCH('Rapportage per vraag'!$C$12,'Data leveranciersbeoordeling'!$1:$1,0)),Leveranciersbeoordeling!$H$1:$I$5,2,FALSE),0)","v":0},0]
["",null,null,null,null,null,null,null,null,null,null,null,null,null,null,{"$f":"INDEX($A:$O,ROW(),MATCH('Rapportage per vraag'!$C$12,'Data leveranciersbeoordeling'!$1:$1,0))","v":0},{"$f":"IFERROR(VLOOKUP(INDEX($A:$O,ROW(),MATCH('Rapportage per vraag'!$C$12,'Data leveranciersbeoordeling'!$1:$1,0)),Leveranciersbeoordeling!$H$1:$I$5,2,FALSE),0)","v":0},0]
["",null,null,null,null,null,null,null,null,null,null,null,null,null,null,{"$f":"INDEX($A:$O,ROW(),MATCH('Rapportage per vraag'!$C$12,'Data leveranciersbeoordeling'!$1:$1,0))","v":0},{"$f":"IFERROR(VLOOKUP(INDEX($A:$O,ROW(),MATCH('Rapportage per vraag'!$C$12,'Data leveranciersbeoordeling'!$1:$1,0)),Leveranciersbeoordeling!$H$1:$I$5,2,FALSE),0)","v":0},0]
["",null,null,null,null,null,null,null,null,null,null,null,null,null,null,{"$f":"INDEX($A:$O,ROW(),MATCH('Rapportage per vraag'!$C$12,'Data leveranciersbeoordeling'!$1:$1,0))","v":0},{"$f":"IFERROR(VLOOKUP(INDEX($A:$O,ROW(),MATCH('Rapportage per vraag'!$C$12,'Data leveranciersbeoordeling'!$1:$1,0)),Leveranciersbeoordeling!$H$1:$I$5,2,FALSE),0)","v":0},0]
["",null,null,null,null,null,null,null,null,null,null,null,null,null,null,{"$f":"INDEX($A:$O,ROW(),MATCH('Rapportage per vraag'!$C$12,'Data leveranciersbeoordeling'!$1:$1,0))","v":0},{"$f":"IFERROR(VLOOKUP(INDEX($A:$O,ROW(),MATCH('Rapportage per vraag'!$C$12,'Data leveranciersbeoordeling'!$1:$1,0)),Leveranciersbeoordeling!$H$1:$I$5,2,FALSE),0)","v":0},0]
["",null,null,null,null,null,null,null,null,null,null,null,null,null,null,{"$f":"INDEX($A:$O,ROW(),MATCH('Rapportage per vraag'!$C$12,'Data leveranciersbeoordeling'!$1:$1,0))","v":0},{"$f":"IFERROR(VLOOKUP(INDEX($A:$O,ROW(),MATCH('Rapportage per vraag'!$C$12,'Data leveranciersbeoordeling'!$1:$1,0)),Leveranciersbeoordeling!$H$1:$I$5,2,FALSE),0)","v":0},0]
["",null,null,null,null,null,null,null,null,null,null,null,null,null,null,{"$f":"INDEX($A:$O,ROW(),MATCH('Rapportage per vraag'!$C$12,'Data leveranciersbeoordeling'!$1:$1,0))","v":0},{"$f":"IFERROR(VLOOKUP(INDEX($A:$O,ROW(),MATCH('Rapportage per vraag'!$C$12,'Data leveranciersbeoordeling'!$1:$1,0)),Leveranciersbeoordeling!$H$1:$I$5,2,FALSE),0)","v":0},0]
["",null,null,null,null,null,null,null,null,null,null,null,null,null,null,{"$f":"INDEX($A:$O,ROW(),MATCH('Rapportage per vraag'!$C$12,'Data leveranciersbeoordeling'!$1:$1,0))","v":0},{"$f":"IFERROR(VLOOKUP(INDEX($A:$O,ROW(),MATCH('Rapportage per vraag'!$C$12,'Data leveranciersbeoordeling'!$1:$1,0)),Leveranciersbeoordeling!$H$1:$I$5,2,FALSE),0)","v":0},0]
["",null,null,null,null,null,null,null,null,null,null,null,null,null,null,{"$f":"INDEX($A:$O,ROW(),MATCH('Rapportage per vraag'!$C$12,'Data leveranciersbeoordeling'!$1:$1,0))","v":0},{"$f":"IFERROR(VLOOKUP(INDEX($A:$O,ROW(),MATCH('Rapportage per vraag'!$C$12,'Data leveranciersbeoordeling'!$1:$1,0)),Leveranciersbeoordeling!$H$1:$I$5,2,FALSE),0)","v":0},0]
["",null,null,null,null,null,null,null,null,null,null,null,null,null,null,{"$f":"INDEX($A:$O,ROW(),MATCH('Rapportage per vraag'!$C$12,'Data leveranciersbeoordeling'!$1:$1,0))","v":0},{"$f":"IFERROR(VLOOKUP(INDEX($A:$O,ROW(),MATCH('Rapportage per vraag'!$C$12,'Data leveranciersbeoordeling'!$1:$1,0)),Leveranciersbeoordeling!$H$1:$I$5,2,FALSE),0)","v":0},0]
["",null,null,null,null,null,null,null,null,null,null,null,null,null,null,{"$f":"INDEX($A:$O,ROW(),MATCH('Rapportage per vraag'!$C$12,'Data leveranciersbeoordeling'!$1:$1,0))","v":0},{"$f":"IFERROR(VLOOKUP(INDEX($A:$O,ROW(),MATCH('Rapportage per vraag'!$C$12,'Data leveranciersbeoordeling'!$1:$1,0)),Leveranciersbeoordeling!$H$1:$I$5,2,FALSE),0)","v":0},0]
["",null,null,null,null,null,null,null,null,null,null,null,null,null,null,{"$f":"INDEX($A:$O,ROW(),MATCH('Rapportage per vraag'!$C$12,'Data leveranciersbeoordeling'!$1:$1,0))","v":0},{"$f":"IFERROR(VLOOKUP(INDEX($A:$O,ROW(),MATCH('Rapportage per vraag'!$C$12,'Data leveranciersbeoordeling'!$1:$1,0)),Leveranciersbeoordeling!$H$1:$I$5,2,FALSE),0)","v":0},0]
["",null,null,null,null,null,null,null,null,null,null,null,null,null,null,{"$f":"INDEX($A:$O,ROW(),MATCH('Rapportage per vraag'!$C$12,'Data leveranciersbeoordeling'!$1:$1,0))","v":0},{"$f":"IFERROR(VLOOKUP(INDEX($A:$O,ROW(),MATCH('Rapportage per vraag'!$C$12,'Data leveranciersbeoordeling'!$1:$1,0)),Leveranciersbeoordeling!$H$1:$I$5,2,FALSE),0)","v":0},0]
["",null,null,null,null,null,null,null,null,null,null,null,null,null,null,{"$f":"INDEX($A:$O,ROW(),MATCH('Rapportage per vraag'!$C$12,'Data leveranciersbeoordeling'!$1:$1,0))","v":0},{"$f":"IFERROR(VLOOKUP(INDEX($A:$O,ROW(),MATCH('Rapportage per vraag'!$C$12,'Data leveranciersbeoordeling'!$1:$1,0)),Leveranciersbeoordeling!$H$1:$I$5,2,FALSE),0)","v":0},0]
["",null,null,null,null,null,null,null,null,null,null,null,null,null,null,{"$f":"INDEX($A:$O,ROW(),MATCH('Rapportage per vraag'!$C$12,'Data leveranciersbeoordeling'!$1:$1,0))","v":0},{"$f":"IFERROR(VLOOKUP(INDEX($A:$O,ROW(),MATCH('Rapportage per vraag'!$C$12,'Data leveranciersbeoordeling'!$1:$1,0)),Leveranciersbeoordeling!$H$1:$I$5,2,FALSE),0)","v":0},0]
[{"$f":"CONCATENATE(B6787,C6787,D6787)","v":""},null,null,null,null,null,null,null,null,null,null,null,null,null,null,{"$f":"INDEX($A:$O,ROW(),MATCH('Rapportage per vraag'!$C$12,'Data leveranciersbeoordeling'!$1:$1,0))","v":0},{"$f":"IFERROR(VLOOKUP(INDEX($A:$O,ROW(),MATCH('Rapportage per vraag'!$C$12,'Data leveranciersbeoordeling'!$1:$1,0)),Leveranciersbeoordeling!$H$1:$I$5,2,FALSE),0)","v":0},0]
["",null,null,null,null,null,null,null,null,null,null,null,null,null,null,{"$f":"INDEX($A:$O,ROW(),MATCH('Rapportage per vraag'!$C$12,'Data leveranciersbeoordeling'!$1:$1,0))","v":0},{"$f":"IFERROR(VLOOKUP(INDEX($A:$O,ROW(),MATCH('Rapportage per vraag'!$C$12,'Data leveranciersbeoordeling'!$1:$1,0)),Leveranciersbeoordeling!$H$1:$I$5,2,FALSE),0)","v":0},0]
["",null,null,null,null,null,null,null,null,null,null,null,null,null,null,{"$f":"INDEX($A:$O,ROW(),MATCH('Rapportage per vraag'!$C$12,'Data leveranciersbeoordeling'!$1:$1,0))","v":0},{"$f":"IFERROR(VLOOKUP(INDEX($A:$O,ROW(),MATCH('Rapportage per vraag'!$C$12,'Data leveranciersbeoordeling'!$1:$1,0)),Leveranciersbeoordeling!$H$1:$I$5,2,FALSE),0)","v":0},0]
["",null,null,null,null,null,null,null,null,null,null,null,null,null,null,{"$f":"INDEX($A:$O,ROW(),MATCH('Rapportage per vraag'!$C$12,'Data leveranciersbeoordeling'!$1:$1,0))","v":0},{"$f":"IFERROR(VLOOKUP(INDEX($A:$O,ROW(),MATCH('Rapportage per vraag'!$C$12,'Data leveranciersbeoordeling'!$1:$1,0)),Leveranciersbeoordeling!$H$1:$I$5,2,FALSE),0)","v":0},0]
["",null,null,null,null,null,null,null,null,null,null,null,null,null,null,{"$f":"INDEX($A:$O,ROW(),MATCH('Rapportage per vraag'!$C$12,'Data leveranciersbeoordeling'!$1:$1,0))","v":0},{"$f":"IFERROR(VLOOKUP(INDEX($A:$O,ROW(),MATCH('Rapportage per vraag'!$C$12,'Data leveranciersbeoordeling'!$1:$1,0)),Leveranciersbeoordeling!$H$1:$I$5,2,FALSE),0)","v":0},0]
["",null,null,null,null,null,null,null,null,null,null,null,null,null,null,{"$f":"INDEX($A:$O,ROW(),MATCH('Rapportage per vraag'!$C$12,'Data leveranciersbeoordeling'!$1:$1,0))","v":0},{"$f":"IFERROR(VLOOKUP(INDEX($A:$O,ROW(),MATCH('Rapportage per vraag'!$C$12,'Data leveranciersbeoordeling'!$1:$1,0)),Leveranciersbeoordeling!$H$1:$I$5,2,FALSE),0)","v":0},0]
["",null,null,null,null,null,null,null,null,null,null,null,null,null,null,{"$f":"INDEX($A:$O,ROW(),MATCH('Rapportage per vraag'!$C$12,'Data leveranciersbeoordeling'!$1:$1,0))","v":0},{"$f":"IFERROR(VLOOKUP(INDEX($A:$O,ROW(),MATCH('Rapportage per vraag'!$C$12,'Data leveranciersbeoordeling'!$1:$1,0)),Leveranciersbeoordeling!$H$1:$I$5,2,FALSE),0)","v":0},0]
["",null,null,null,null,null,null,null,null,null,null,null,null,null,null,{"$f":"INDEX($A:$O,ROW(),MATCH('Rapportage per vraag'!$C$12,'Data leveranciersbeoordeling'!$1:$1,0))","v":0},{"$f":"IFERROR(VLOOKUP(INDEX($A:$O,ROW(),MATCH('Rapportage per vraag'!$C$12,'Data leveranciersbeoordeling'!$1:$1,0)),Leveranciersbeoordeling!$H$1:$I$5,2,FALSE),0)","v":0},0]
["",null,null,null,null,null,null,null,null,null,null,null,null,null,null,{"$f":"INDEX($A:$O,ROW(),MATCH('Rapportage per vraag'!$C$12,'Data leveranciersbeoordeling'!$1:$1,0))","v":0},{"$f":"IFERROR(VLOOKUP(INDEX($A:$O,ROW(),MATCH('Rapportage per vraag'!$C$12,'Data leveranciersbeoordeling'!$1:$1,0)),Leveranciersbeoordeling!$H$1:$I$5,2,FALSE),0)","v":0},0]
["",null,null,null,null,null,null,null,null,null,null,null,null,null,null,{"$f":"INDEX($A:$O,ROW(),MATCH('Rapportage per vraag'!$C$12,'Data leveranciersbeoordeling'!$1:$1,0))","v":0},{"$f":"IFERROR(VLOOKUP(INDEX($A:$O,ROW(),MATCH('Rapportage per vraag'!$C$12,'Data leveranciersbeoordeling'!$1:$1,0)),Leveranciersbeoordeling!$H$1:$I$5,2,FALSE),0)","v":0},0]
["",null,null,null,null,null,null,null,null,null,null,null,null,null,null,{"$f":"INDEX($A:$O,ROW(),MATCH('Rapportage per vraag'!$C$12,'Data leveranciersbeoordeling'!$1:$1,0))","v":0},{"$f":"IFERROR(VLOOKUP(INDEX($A:$O,ROW(),MATCH('Rapportage per vraag'!$C$12,'Data leveranciersbeoordeling'!$1:$1,0)),Leveranciersbeoordeling!$H$1:$I$5,2,FALSE),0)","v":0},0]
["",null,null,null,null,null,null,null,null,null,null,null,null,null,null,{"$f":"INDEX($A:$O,ROW(),MATCH('Rapportage per vraag'!$C$12,'Data leveranciersbeoordeling'!$1:$1,0))","v":0},{"$f":"IFERROR(VLOOKUP(INDEX($A:$O,ROW(),MATCH('Rapportage per vraag'!$C$12,'Data leveranciersbeoordeling'!$1:$1,0)),Leveranciersbeoordeling!$H$1:$I$5,2,FALSE),0)","v":0},0]
["",null,null,null,null,null,null,null,null,null,null,null,null,null,null,{"$f":"INDEX($A:$O,ROW(),MATCH('Rapportage per vraag'!$C$12,'Data leveranciersbeoordeling'!$1:$1,0))","v":0},{"$f":"IFERROR(VLOOKUP(INDEX($A:$O,ROW(),MATCH('Rapportage per vraag'!$C$12,'Data leveranciersbeoordeling'!$1:$1,0)),Leveranciersbeoordeling!$H$1:$I$5,2,FALSE),0)","v":0},0]
["",null,null,null,null,null,null,null,null,null,null,null,null,null,null,{"$f":"INDEX($A:$O,ROW(),MATCH('Rapportage per vraag'!$C$12,'Data leveranciersbeoordeling'!$1:$1,0))","v":0},{"$f":"IFERROR(VLOOKUP(INDEX($A:$O,ROW(),MATCH('Rapportage per vraag'!$C$12,'Data leveranciersbeoordeling'!$1:$1,0)),Leveranciersbeoordeling!$H$1:$I$5,2,FALSE),0)","v":0},0]
["",null,null,null,null,null,null,null,null,null,null,null,null,null,null,{"$f":"INDEX($A:$O,ROW(),MATCH('Rapportage per vraag'!$C$12,'Data leveranciersbeoordeling'!$1:$1,0))","v":0},{"$f":"IFERROR(VLOOKUP(INDEX($A:$O,ROW(),MATCH('Rapportage per vraag'!$C$12,'Data leveranciersbeoordeling'!$1:$1,0)),Leveranciersbeoordeling!$H$1:$I$5,2,FALSE),0)","v":0},0]
["",null,null,null,null,null,null,null,null,null,null,null,null,null,null,{"$f":"INDEX($A:$O,ROW(),MATCH('Rapportage per vraag'!$C$12,'Data leveranciersbeoordeling'!$1:$1,0))","v":0},{"$f":"IFERROR(VLOOKUP(INDEX($A:$O,ROW(),MATCH('Rapportage per vraag'!$C$12,'Data leveranciersbeoordeling'!$1:$1,0)),Leveranciersbeoordeling!$H$1:$I$5,2,FALSE),0)","v":0},0]
["",null,null,null,null,null,null,null,null,null,null,null,null,null,null,{"$f":"INDEX($A:$O,ROW(),MATCH('Rapportage per vraag'!$C$12,'Data leveranciersbeoordeling'!$1:$1,0))","v":0},{"$f":"IFERROR(VLOOKUP(INDEX($A:$O,ROW(),MATCH('Rapportage per vraag'!$C$12,'Data leveranciersbeoordeling'!$1:$1,0)),Leveranciersbeoordeling!$H$1:$I$5,2,FALSE),0)","v":0},0]
["",null,null,null,null,null,null,null,null,null,null,null,null,null,null,{"$f":"INDEX($A:$O,ROW(),MATCH('Rapportage per vraag'!$C$12,'Data leveranciersbeoordeling'!$1:$1,0))","v":0},{"$f":"IFERROR(VLOOKUP(INDEX($A:$O,ROW(),MATCH('Rapportage per vraag'!$C$12,'Data leveranciersbeoordeling'!$1:$1,0)),Leveranciersbeoordeling!$H$1:$I$5,2,FALSE),0)","v":0},0]
["",null,null,null,null,null,null,null,null,null,null,null,null,null,null,{"$f":"INDEX($A:$O,ROW(),MATCH('Rapportage per vraag'!$C$12,'Data leveranciersbeoordeling'!$1:$1,0))","v":0},{"$f":"IFERROR(VLOOKUP(INDEX($A:$O,ROW(),MATCH('Rapportage per vraag'!$C$12,'Data leveranciersbeoordeling'!$1:$1,0)),Leveranciersbeoordeling!$H$1:$I$5,2,FALSE),0)","v":0},{"$f":"IF(T(P6854)=P6854,Q6854,P6854)","v":0}]
["",null,null,null,null,null,null,null,null,null,null,null,null,null,null,{"$f":"INDEX($A:$O,ROW(),MATCH('Rapportage per vraag'!$C$12,'Data leveranciersbeoordeling'!$1:$1,0))","v":0},{"$f":"IFERROR(VLOOKUP(INDEX($A:$O,ROW(),MATCH('Rapportage per vraag'!$C$12,'Data leveranciersbeoordeling'!$1:$1,0)),Leveranciersbeoordeling!$H$1:$I$5,2,FALSE),0)","v":0},0]
["",null,null,null,null,null,null,null,null,null,null,null,null,null,null,{"$f":"INDEX($A:$O,ROW(),MATCH('Rapportage per vraag'!$C$12,'Data leveranciersbeoordeling'!$1:$1,0))","v":0},{"$f":"IFERROR(VLOOKUP(INDEX($A:$O,ROW(),MATCH('Rapportage per vraag'!$C$12,'Data leveranciersbeoordeling'!$1:$1,0)),Leveranciersbeoordeling!$H$1:$I$5,2,FALSE),0)","v":0},0]
["",null,null,null,null,null,null,null,null,null,null,null,null,null,null,{"$f":"INDEX($A:$O,ROW(),MATCH('Rapportage per vraag'!$C$12,'Data leveranciersbeoordeling'!$1:$1,0))","v":0},{"$f":"IFERROR(VLOOKUP(INDEX($A:$O,ROW(),MATCH('Rapportage per vraag'!$C$12,'Data leveranciersbeoordeling'!$1:$1,0)),Leveranciersbeoordeling!$H$1:$I$5,2,FALSE),0)","v":0},0]
["",null,null,null,null,null,null,null,null,null,null,null,null,null,null,{"$f":"INDEX($A:$O,ROW(),MATCH('Rapportage per vraag'!$C$12,'Data leveranciersbeoordeling'!$1:$1,0))","v":0},{"$f":"IFERROR(VLOOKUP(INDEX($A:$O,ROW(),MATCH('Rapportage per vraag'!$C$12,'Data leveranciersbeoordeling'!$1:$1,0)),Leveranciersbeoordeling!$H$1:$I$5,2,FALSE),0)","v":0},0]
["",null,null,null,null,null,null,null,null,null,null,null,null,null,null,{"$f":"INDEX($A:$O,ROW(),MATCH('Rapportage per vraag'!$C$12,'Data leveranciersbeoordeling'!$1:$1,0))","v":0},{"$f":"IFERROR(VLOOKUP(INDEX($A:$O,ROW(),MATCH('Rapportage per vraag'!$C$12,'Data leveranciersbeoordeling'!$1:$1,0)),Leveranciersbeoordeling!$H$1:$I$5,2,FALSE),0)","v":0},0]
["",null,null,null,null,null,null,null,null,null,null,null,null,null,null,{"$f":"INDEX($A:$O,ROW(),MATCH('Rapportage per vraag'!$C$12,'Data leveranciersbeoordeling'!$1:$1,0))","v":0},{"$f":"IFERROR(VLOOKUP(INDEX($A:$O,ROW(),MATCH('Rapportage per vraag'!$C$12,'Data leveranciersbeoordeling'!$1:$1,0)),Leveranciersbeoordeling!$H$1:$I$5,2,FALSE),0)","v":0},0]
["",null,null,null,null,null,null,null,null,null,null,null,null,null,null,{"$f":"INDEX($A:$O,ROW(),MATCH('Rapportage per vraag'!$C$12,'Data leveranciersbeoordeling'!$1:$1,0))","v":0},{"$f":"IFERROR(VLOOKUP(INDEX($A:$O,ROW(),MATCH('Rapportage per vraag'!$C$12,'Data leveranciersbeoordeling'!$1:$1,0)),Leveranciersbeoordeling!$H$1:$I$5,2,FALSE),0)","v":0},0]
["",null,null,null,null,null,null,null,null,null,null,null,null,null,null,{"$f":"INDEX($A:$O,ROW(),MATCH('Rapportage per vraag'!$C$12,'Data leveranciersbeoordeling'!$1:$1,0))","v":0},{"$f":"IFERROR(VLOOKUP(INDEX($A:$O,ROW(),MATCH('Rapportage per vraag'!$C$12,'Data leveranciersbeoordeling'!$1:$1,0)),Leveranciersbeoordeling!$H$1:$I$5,2,FALSE),0)","v":0},0]
["",null,null,null,null,null,null,null,null,null,null,null,null,null,null,{"$f":"INDEX($A:$O,ROW(),MATCH('Rapportage per vraag'!$C$12,'Data leveranciersbeoordeling'!$1:$1,0))","v":0},{"$f":"IFERROR(VLOOKUP(INDEX($A:$O,ROW(),MATCH('Rapportage per vraag'!$C$12,'Data leveranciersbeoordeling'!$1:$1,0)),Leveranciersbeoordeling!$H$1:$I$5,2,FALSE),0)","v":0},0]
["",null,null,null,null,null,null,null,null,null,null,null,null,null,null,{"$f":"INDEX($A:$O,ROW(),MATCH('Rapportage per vraag'!$C$12,'Data leveranciersbeoordeling'!$1:$1,0))","v":0},{"$f":"IFERROR(VLOOKUP(INDEX($A:$O,ROW(),MATCH('Rapportage per vraag'!$C$12,'Data leveranciersbeoordeling'!$1:$1,0)),Leveranciersbeoordeling!$H$1:$I$5,2,FALSE),0)","v":0},0]
["",null,null,null,null,null,null,null,null,null,null,null,null,null,null,{"$f":"INDEX($A:$O,ROW(),MATCH('Rapportage per vraag'!$C$12,'Data leveranciersbeoordeling'!$1:$1,0))","v":0},{"$f":"IFERROR(VLOOKUP(INDEX($A:$O,ROW(),MATCH('Rapportage per vraag'!$C$12,'Data leveranciersbeoordeling'!$1:$1,0)),Leveranciersbeoordeling!$H$1:$I$5,2,FALSE),0)","v":0},0]
["",null,null,null,null,null,null,null,null,null,null,null,null,null,null,{"$f":"INDEX($A:$O,ROW(),MATCH('Rapportage per vraag'!$C$12,'Data leveranciersbeoordeling'!$1:$1,0))","v":0},{"$f":"IFERROR(VLOOKUP(INDEX($A:$O,ROW(),MATCH('Rapportage per vraag'!$C$12,'Data leveranciersbeoordeling'!$1:$1,0)),Leveranciersbeoordeling!$H$1:$I$5,2,FALSE),0)","v":0},0]
["",null,null,null,null,null,null,null,null,null,null,null,null,null,null,{"$f":"INDEX($A:$O,ROW(),MATCH('Rapportage per vraag'!$C$12,'Data leveranciersbeoordeling'!$1:$1,0))","v":0},{"$f":"IFERROR(VLOOKUP(INDEX($A:$O,ROW(),MATCH('Rapportage per vraag'!$C$12,'Data leveranciersbeoordeling'!$1:$1,0)),Leveranciersbeoordeling!$H$1:$I$5,2,FALSE),0)","v":0},0]
["",null,null,null,null,null,null,null,null,null,null,null,null,null,null,{"$f":"INDEX($A:$O,ROW(),MATCH('Rapportage per vraag'!$C$12,'Data leveranciersbeoordeling'!$1:$1,0))","v":0},{"$f":"IFERROR(VLOOKUP(INDEX($A:$O,ROW(),MATCH('Rapportage per vraag'!$C$12,'Data leveranciersbeoordeling'!$1:$1,0)),Leveranciersbeoordeling!$H$1:$I$5,2,FALSE),0)","v":0},0]
["",null,null,null,null,null,null,null,null,null,null,null,null,null,null,{"$f":"INDEX($A:$O,ROW(),MATCH('Rapportage per vraag'!$C$12,'Data leveranciersbeoordeling'!$1:$1,0))","v":0},{"$f":"IFERROR(VLOOKUP(INDEX($A:$O,ROW(),MATCH('Rapportage per vraag'!$C$12,'Data leveranciersbeoordeling'!$1:$1,0)),Leveranciersbeoordeling!$H$1:$I$5,2,FALSE),0)","v":0},0]
["",null,null,null,null,null,null,null,null,null,null,null,null,null,null,{"$f":"INDEX($A:$O,ROW(),MATCH('Rapportage per vraag'!$C$12,'Data leveranciersbeoordeling'!$1:$1,0))","v":0},{"$f":"IFERROR(VLOOKUP(INDEX($A:$O,ROW(),MATCH('Rapportage per vraag'!$C$12,'Data leveranciersbeoordeling'!$1:$1,0)),Leveranciersbeoordeling!$H$1:$I$5,2,FALSE),0)","v":0},0]
["",null,null,null,null,null,null,null,null,null,null,null,null,null,null,{"$f":"INDEX($A:$O,ROW(),MATCH('Rapportage per vraag'!$C$12,'Data leveranciersbeoordeling'!$1:$1,0))","v":0},{"$f":"IFERROR(VLOOKUP(INDEX($A:$O,ROW(),MATCH('Rapportage per vraag'!$C$12,'Data leveranciersbeoordeling'!$1:$1,0)),Leveranciersbeoordeling!$H$1:$I$5,2,FALSE),0)","v":0},0]
["",null,null,null,null,null,null,null,null,null,null,null,null,null,null,{"$f":"INDEX($A:$O,ROW(),MATCH('Rapportage per vraag'!$C$12,'Data leveranciersbeoordeling'!$1:$1,0))","v":0},{"$f":"IFERROR(VLOOKUP(INDEX($A:$O,ROW(),MATCH('Rapportage per vraag'!$C$12,'Data leveranciersbeoordeling'!$1:$1,0)),Leveranciersbeoordeling!$H$1:$I$5,2,FALSE),0)","v":0},0]
["",null,null,null,null,null,null,null,null,null,null,null,null,null,null,{"$f":"INDEX($A:$O,ROW(),MATCH('Rapportage per vraag'!$C$12,'Data leveranciersbeoordeling'!$1:$1,0))","v":0},{"$f":"IFERROR(VLOOKUP(INDEX($A:$O,ROW(),MATCH('Rapportage per vraag'!$C$12,'Data leveranciersbeoordeling'!$1:$1,0)),Leveranciersbeoordeling!$H$1:$I$5,2,FALSE),0)","v":0},0]
["",null,null,null,null,null,null,null,null,null,null,null,null,null,null,{"$f":"INDEX($A:$O,ROW(),MATCH('Rapportage per vraag'!$C$12,'Data leveranciersbeoordeling'!$1:$1,0))","v":0},{"$f":"IFERROR(VLOOKUP(INDEX($A:$O,ROW(),MATCH('Rapportage per vraag'!$C$12,'Data leveranciersbeoordeling'!$1:$1,0)),Leveranciersbeoordeling!$H$1:$I$5,2,FALSE),0)","v":0},0]
["",null,null,null,null,null,null,null,null,null,null,null,null,null,null,{"$f":"INDEX($A:$O,ROW(),MATCH('Rapportage per vraag'!$C$12,'Data leveranciersbeoordeling'!$1:$1,0))","v":0},{"$f":"IFERROR(VLOOKUP(INDEX($A:$O,ROW(),MATCH('Rapportage per vraag'!$C$12,'Data leveranciersbeoordeling'!$1:$1,0)),Leveranciersbeoordeling!$H$1:$I$5,2,FALSE),0)","v":0},0]
["",null,null,null,null,null,null,null,null,null,null,null,null,null,null,{"$f":"INDEX($A:$O,ROW(),MATCH('Rapportage per vraag'!$C$12,'Data leveranciersbeoordeling'!$1:$1,0))","v":0},{"$f":"IFERROR(VLOOKUP(INDEX($A:$O,ROW(),MATCH('Rapportage per vraag'!$C$12,'Data leveranciersbeoordeling'!$1:$1,0)),Leveranciersbeoordeling!$H$1:$I$5,2,FALSE),0)","v":0},0]
["",null,null,null,null,null,null,null,null,null,null,null,null,null,null,{"$f":"INDEX($A:$O,ROW(),MATCH('Rapportage per vraag'!$C$12,'Data leveranciersbeoordeling'!$1:$1,0))","v":0},{"$f":"IFERROR(VLOOKUP(INDEX($A:$O,ROW(),MATCH('Rapportage per vraag'!$C$12,'Data leveranciersbeoordeling'!$1:$1,0)),Leveranciersbeoordeling!$H$1:$I$5,2,FALSE),0)","v":0},0]
["",null,null,null,null,null,null,null,null,null,null,null,null,null,null,{"$f":"INDEX($A:$O,ROW(),MATCH('Rapportage per vraag'!$C$12,'Data leveranciersbeoordeling'!$1:$1,0))","v":0},{"$f":"IFERROR(VLOOKUP(INDEX($A:$O,ROW(),MATCH('Rapportage per vraag'!$C$12,'Data leveranciersbeoordeling'!$1:$1,0)),Leveranciersbeoordeling!$H$1:$I$5,2,FALSE),0)","v":0},0]
["",null,null,null,null,null,null,null,null,null,null,null,null,null,null,{"$f":"INDEX($A:$O,ROW(),MATCH('Rapportage per vraag'!$C$12,'Data leveranciersbeoordeling'!$1:$1,0))","v":0},{"$f":"IFERROR(VLOOKUP(INDEX($A:$O,ROW(),MATCH('Rapportage per vraag'!$C$12,'Data leveranciersbeoordeling'!$1:$1,0)),Leveranciersbeoordeling!$H$1:$I$5,2,FALSE),0)","v":0},0]
["",null,null,null,null,null,null,null,null,null,null,null,null,null,null,{"$f":"INDEX($A:$O,ROW(),MATCH('Rapportage per vraag'!$C$12,'Data leveranciersbeoordeling'!$1:$1,0))","v":0},{"$f":"IFERROR(VLOOKUP(INDEX($A:$O,ROW(),MATCH('Rapportage per vraag'!$C$12,'Data leveranciersbeoordeling'!$1:$1,0)),Leveranciersbeoordeling!$H$1:$I$5,2,FALSE),0)","v":0},0]
["",null,null,null,null,null,null,null,null,null,null,null,null,null,null,{"$f":"INDEX($A:$O,ROW(),MATCH('Rapportage per vraag'!$C$12,'Data leveranciersbeoordeling'!$1:$1,0))","v":0},{"$f":"IFERROR(VLOOKUP(INDEX($A:$O,ROW(),MATCH('Rapportage per vraag'!$C$12,'Data leveranciersbeoordeling'!$1:$1,0)),Leveranciersbeoordeling!$H$1:$I$5,2,FALSE),0)","v":0},0]
["",null,null,null,null,null,null,null,null,null,null,null,null,null,null,{"$f":"INDEX($A:$O,ROW(),MATCH('Rapportage per vraag'!$C$12,'Data leveranciersbeoordeling'!$1:$1,0))","v":0},{"$f":"IFERROR(VLOOKUP(INDEX($A:$O,ROW(),MATCH('Rapportage per vraag'!$C$12,'Data leveranciersbeoordeling'!$1:$1,0)),Leveranciersbeoordeling!$H$1:$I$5,2,FALSE),0)","v":0},0]
["",null,null,null,null,null,null,null,null,null,null,null,null,null,null,{"$f":"INDEX($A:$O,ROW(),MATCH('Rapportage per vraag'!$C$12,'Data leveranciersbeoordeling'!$1:$1,0))","v":0},{"$f":"IFERROR(VLOOKUP(INDEX($A:$O,ROW(),MATCH('Rapportage per vraag'!$C$12,'Data leveranciersbeoordeling'!$1:$1,0)),Leveranciersbeoordeling!$H$1:$I$5,2,FALSE),0)","v":0},0]
["",null,null,null,null,null,null,null,null,null,null,null,null,null,null,{"$f":"INDEX($A:$O,ROW(),MATCH('Rapportage per vraag'!$C$12,'Data leveranciersbeoordeling'!$1:$1,0))","v":0},{"$f":"IFERROR(VLOOKUP(INDEX($A:$O,ROW(),MATCH('Rapportage per vraag'!$C$12,'Data leveranciersbeoordeling'!$1:$1,0)),Leveranciersbeoordeling!$H$1:$I$5,2,FALSE),0)","v":0},0]
["",null,null,null,null,null,null,null,null,null,null,null,null,null,null,{"$f":"INDEX($A:$O,ROW(),MATCH('Rapportage per vraag'!$C$12,'Data leveranciersbeoordeling'!$1:$1,0))","v":0},{"$f":"IFERROR(VLOOKUP(INDEX($A:$O,ROW(),MATCH('Rapportage per vraag'!$C$12,'Data leveranciersbeoordeling'!$1:$1,0)),Leveranciersbeoordeling!$H$1:$I$5,2,FALSE),0)","v":0},0]
["",null,null,null,null,null,null,null,null,null,null,null,null,null,null,{"$f":"INDEX($A:$O,ROW(),MATCH('Rapportage per vraag'!$C$12,'Data leveranciersbeoordeling'!$1:$1,0))","v":0},{"$f":"IFERROR(VLOOKUP(INDEX($A:$O,ROW(),MATCH('Rapportage per vraag'!$C$12,'Data leveranciersbeoordeling'!$1:$1,0)),Leveranciersbeoordeling!$H$1:$I$5,2,FALSE),0)","v":0},0]
["",null,null,null,null,null,null,null,null,null,null,null,null,null,null,{"$f":"INDEX($A:$O,ROW(),MATCH('Rapportage per vraag'!$C$12,'Data leveranciersbeoordeling'!$1:$1,0))","v":0},{"$f":"IFERROR(VLOOKUP(INDEX($A:$O,ROW(),MATCH('Rapportage per vraag'!$C$12,'Data leveranciersbeoordeling'!$1:$1,0)),Leveranciersbeoordeling!$H$1:$I$5,2,FALSE),0)","v":0},0]
["",null,null,null,null,null,null,null,null,null,null,null,null,null,null,{"$f":"INDEX($A:$O,ROW(),MATCH('Rapportage per vraag'!$C$12,'Data leveranciersbeoordeling'!$1:$1,0))","v":0},{"$f":"IFERROR(VLOOKUP(INDEX($A:$O,ROW(),MATCH('Rapportage per vraag'!$C$12,'Data leveranciersbeoordeling'!$1:$1,0)),Leveranciersbeoordeling!$H$1:$I$5,2,FALSE),0)","v":0},{"$f":"IF(T(P6982)=P6982,Q6982,P6982)","v":0}]
["",null,null,null,null,null,null,null,null,null,null,null,null,null,null,{"$f":"INDEX($A:$O,ROW(),MATCH('Rapportage per vraag'!$C$12,'Data leveranciersbeoordeling'!$1:$1,0))","v":0},{"$f":"IFERROR(VLOOKUP(INDEX($A:$O,ROW(),MATCH('Rapportage per vraag'!$C$12,'Data leveranciersbeoordeling'!$1:$1,0)),Leveranciersbeoordeling!$H$1:$I$5,2,FALSE),0)","v":0},0]
["",null,null,null,null,null,null,null,null,null,null,null,null,null,null,{"$f":"INDEX($A:$O,ROW(),MATCH('Rapportage per vraag'!$C$12,'Data leveranciersbeoordeling'!$1:$1,0))","v":0},{"$f":"IFERROR(VLOOKUP(INDEX($A:$O,ROW(),MATCH('Rapportage per vraag'!$C$12,'Data leveranciersbeoordeling'!$1:$1,0)),Leveranciersbeoordeling!$H$1:$I$5,2,FALSE),0)","v":0},0]
["",null,null,null,null,null,null,null,null,null,null,null,null,null,null,{"$f":"INDEX($A:$O,ROW(),MATCH('Rapportage per vraag'!$C$12,'Data leveranciersbeoordeling'!$1:$1,0))","v":0},{"$f":"IFERROR(VLOOKUP(INDEX($A:$O,ROW(),MATCH('Rapportage per vraag'!$C$12,'Data leveranciersbeoordeling'!$1:$1,0)),Leveranciersbeoordeling!$H$1:$I$5,2,FALSE),0)","v":0},0]
["",null,null,null,null,null,null,null,null,null,null,null,null,null,null,{"$f":"INDEX($A:$O,ROW(),MATCH('Rapportage per vraag'!$C$12,'Data leveranciersbeoordeling'!$1:$1,0))","v":0},{"$f":"IFERROR(VLOOKUP(INDEX($A:$O,ROW(),MATCH('Rapportage per vraag'!$C$12,'Data leveranciersbeoordeling'!$1:$1,0)),Leveranciersbeoordeling!$H$1:$I$5,2,FALSE),0)","v":0},0]
["",null,null,null,null,null,null,null,null,null,null,null,null,null,null,{"$f":"INDEX($A:$O,ROW(),MATCH('Rapportage per vraag'!$C$12,'Data leveranciersbeoordeling'!$1:$1,0))","v":0},{"$f":"IFERROR(VLOOKUP(INDEX($A:$O,ROW(),MATCH('Rapportage per vraag'!$C$12,'Data leveranciersbeoordeling'!$1:$1,0)),Leveranciersbeoordeling!$H$1:$I$5,2,FALSE),0)","v":0},0]
["",null,null,null,null,null,null,null,null,null,null,null,null,null,null,{"$f":"INDEX($A:$O,ROW(),MATCH('Rapportage per vraag'!$C$12,'Data leveranciersbeoordeling'!$1:$1,0))","v":0},{"$f":"IFERROR(VLOOKUP(INDEX($A:$O,ROW(),MATCH('Rapportage per vraag'!$C$12,'Data leveranciersbeoordeling'!$1:$1,0)),Leveranciersbeoordeling!$H$1:$I$5,2,FALSE),0)","v":0},0]
["",null,null,null,null,null,null,null,null,null,null,null,null,null,null,{"$f":"INDEX($A:$O,ROW(),MATCH('Rapportage per vraag'!$C$12,'Data leveranciersbeoordeling'!$1:$1,0))","v":0},{"$f":"IFERROR(VLOOKUP(INDEX($A:$O,ROW(),MATCH('Rapportage per vraag'!$C$12,'Data leveranciersbeoordeling'!$1:$1,0)),Leveranciersbeoordeling!$H$1:$I$5,2,FALSE),0)","v":0},0]
["",null,null,null,null,null,null,null,null,null,null,null,null,null,null,{"$f":"INDEX($A:$O,ROW(),MATCH('Rapportage per vraag'!$C$12,'Data leveranciersbeoordeling'!$1:$1,0))","v":0},{"$f":"IFERROR(VLOOKUP(INDEX($A:$O,ROW(),MATCH('Rapportage per vraag'!$C$12,'Data leveranciersbeoordeling'!$1:$1,0)),Leveranciersbeoordeling!$H$1:$I$5,2,FALSE),0)","v":0},0]
["",null,null,null,null,null,null,null,null,null,null,null,null,null,null,{"$f":"INDEX($A:$O,ROW(),MATCH('Rapportage per vraag'!$C$12,'Data leveranciersbeoordeling'!$1:$1,0))","v":0},{"$f":"IFERROR(VLOOKUP(INDEX($A:$O,ROW(),MATCH('Rapportage per vraag'!$C$12,'Data leveranciersbeoordeling'!$1:$1,0)),Leveranciersbeoordeling!$H$1:$I$5,2,FALSE),0)","v":0},0]
["",null,null,null,null,null,null,null,null,null,null,null,null,null,null,{"$f":"INDEX($A:$O,ROW(),MATCH('Rapportage per vraag'!$C$12,'Data leveranciersbeoordeling'!$1:$1,0))","v":0},{"$f":"IFERROR(VLOOKUP(INDEX($A:$O,ROW(),MATCH('Rapportage per vraag'!$C$12,'Data leveranciersbeoordeling'!$1:$1,0)),Leveranciersbeoordeling!$H$1:$I$5,2,FALSE),0)","v":0},0]
["",null,null,null,null,null,null,null,null,null,null,null,null,null,null,{"$f":"INDEX($A:$O,ROW(),MATCH('Rapportage per vraag'!$C$12,'Data leveranciersbeoordeling'!$1:$1,0))","v":0},{"$f":"IFERROR(VLOOKUP(INDEX($A:$O,ROW(),MATCH('Rapportage per vraag'!$C$12,'Data leveranciersbeoordeling'!$1:$1,0)),Leveranciersbeoordeling!$H$1:$I$5,2,FALSE),0)","v":0},0]
["",null,null,null,null,null,null,null,null,null,null,null,null,null,null,{"$f":"INDEX($A:$O,ROW(),MATCH('Rapportage per vraag'!$C$12,'Data leveranciersbeoordeling'!$1:$1,0))","v":0},{"$f":"IFERROR(VLOOKUP(INDEX($A:$O,ROW(),MATCH('Rapportage per vraag'!$C$12,'Data leveranciersbeoordeling'!$1:$1,0)),Leveranciersbeoordeling!$H$1:$I$5,2,FALSE),0)","v":0},0]
["",null,null,null,null,null,null,null,null,null,null,null,null,null,null,{"$f":"INDEX($A:$O,ROW(),MATCH('Rapportage per vraag'!$C$12,'Data leveranciersbeoordeling'!$1:$1,0))","v":0},{"$f":"IFERROR(VLOOKUP(INDEX($A:$O,ROW(),MATCH('Rapportage per vraag'!$C$12,'Data leveranciersbeoordeling'!$1:$1,0)),Leveranciersbeoordeling!$H$1:$I$5,2,FALSE),0)","v":0},0]
["",null,null,null,null,null,null,null,null,null,null,null,null,null,null,{"$f":"INDEX($A:$O,ROW(),MATCH('Rapportage per vraag'!$C$12,'Data leveranciersbeoordeling'!$1:$1,0))","v":0},{"$f":"IFERROR(VLOOKUP(INDEX($A:$O,ROW(),MATCH('Rapportage per vraag'!$C$12,'Data leveranciersbeoordeling'!$1:$1,0)),Leveranciersbeoordeling!$H$1:$I$5,2,FALSE),0)","v":0},0]
["",null,null,null,null,null,null,null,null,null,null,null,null,null,null,{"$f":"INDEX($A:$O,ROW(),MATCH('Rapportage per vraag'!$C$12,'Data leveranciersbeoordeling'!$1:$1,0))","v":0},{"$f":"IFERROR(VLOOKUP(INDEX($A:$O,ROW(),MATCH('Rapportage per vraag'!$C$12,'Data leveranciersbeoordeling'!$1:$1,0)),Leveranciersbeoordeling!$H$1:$I$5,2,FALSE),0)","v":0},0]
["",null,null,null,null,null,null,null,null,null,null,null,null,null,null,{"$f":"INDEX($A:$O,ROW(),MATCH('Rapportage per vraag'!$C$12,'Data leveranciersbeoordeling'!$1:$1,0))","v":0},{"$f":"IFERROR(VLOOKUP(INDEX($A:$O,ROW(),MATCH('Rapportage per vraag'!$C$12,'Data leveranciersbeoordeling'!$1:$1,0)),Leveranciersbeoordeling!$H$1:$I$5,2,FALSE),0)","v":0},0]
["",null,null,null,null,null,null,null,null,null,null,null,null,null,null,{"$f":"INDEX($A:$O,ROW(),MATCH('Rapportage per vraag'!$C$12,'Data leveranciersbeoordeling'!$1:$1,0))","v":0},{"$f":"IFERROR(VLOOKUP(INDEX($A:$O,ROW(),MATCH('Rapportage per vraag'!$C$12,'Data leveranciersbeoordeling'!$1:$1,0)),Leveranciersbeoordeling!$H$1:$I$5,2,FALSE),0)","v":0},0]
["",null,null,null,null,null,null,null,null,null,null,null,null,null,null,{"$f":"INDEX($A:$O,ROW(),MATCH('Rapportage per vraag'!$C$12,'Data leveranciersbeoordeling'!$1:$1,0))","v":0},{"$f":"IFERROR(VLOOKUP(INDEX($A:$O,ROW(),MATCH('Rapportage per vraag'!$C$12,'Data leveranciersbeoordeling'!$1:$1,0)),Leveranciersbeoordeling!$H$1:$I$5,2,FALSE),0)","v":0},0]
["",null,null,null,null,null,null,null,null,null,null,null,null,null,null,{"$f":"INDEX($A:$O,ROW(),MATCH('Rapportage per vraag'!$C$12,'Data leveranciersbeoordeling'!$1:$1,0))","v":0},{"$f":"IFERROR(VLOOKUP(INDEX($A:$O,ROW(),MATCH('Rapportage per vraag'!$C$12,'Data leveranciersbeoordeling'!$1:$1,0)),Leveranciersbeoordeling!$H$1:$I$5,2,FALSE),0)","v":0},0]
["",null,null,null,null,null,null,null,null,null,null,null,null,null,null,{"$f":"INDEX($A:$O,ROW(),MATCH('Rapportage per vraag'!$C$12,'Data leveranciersbeoordeling'!$1:$1,0))","v":0},{"$f":"IFERROR(VLOOKUP(INDEX($A:$O,ROW(),MATCH('Rapportage per vraag'!$C$12,'Data leveranciersbeoordeling'!$1:$1,0)),Leveranciersbeoordeling!$H$1:$I$5,2,FALSE),0)","v":0},0]
["",null,null,null,null,null,null,null,null,null,null,null,null,null,null,{"$f":"INDEX($A:$O,ROW(),MATCH('Rapportage per vraag'!$C$12,'Data leveranciersbeoordeling'!$1:$1,0))","v":0},{"$f":"IFERROR(VLOOKUP(INDEX($A:$O,ROW(),MATCH('Rapportage per vraag'!$C$12,'Data leveranciersbeoordeling'!$1:$1,0)),Leveranciersbeoordeling!$H$1:$I$5,2,FALSE),0)","v":0},0]
["",null,null,null,null,null,null,null,null,null,null,null,null,null,null,{"$f":"INDEX($A:$O,ROW(),MATCH('Rapportage per vraag'!$C$12,'Data leveranciersbeoordeling'!$1:$1,0))","v":0},{"$f":"IFERROR(VLOOKUP(INDEX($A:$O,ROW(),MATCH('Rapportage per vraag'!$C$12,'Data leveranciersbeoordeling'!$1:$1,0)),Leveranciersbeoordeling!$H$1:$I$5,2,FALSE),0)","v":0},0]
["",null,null,null,null,null,null,null,null,null,null,null,null,null,null,{"$f":"INDEX($A:$O,ROW(),MATCH('Rapportage per vraag'!$C$12,'Data leveranciersbeoordeling'!$1:$1,0))","v":0},{"$f":"IFERROR(VLOOKUP(INDEX($A:$O,ROW(),MATCH('Rapportage per vraag'!$C$12,'Data leveranciersbeoordeling'!$1:$1,0)),Leveranciersbeoordeling!$H$1:$I$5,2,FALSE),0)","v":0},0]
["",null,null,null,null,null,null,null,null,null,null,null,null,null,null,{"$f":"INDEX($A:$O,ROW(),MATCH('Rapportage per vraag'!$C$12,'Data leveranciersbeoordeling'!$1:$1,0))","v":0},{"$f":"IFERROR(VLOOKUP(INDEX($A:$O,ROW(),MATCH('Rapportage per vraag'!$C$12,'Data leveranciersbeoordeling'!$1:$1,0)),Leveranciersbeoordeling!$H$1:$I$5,2,FALSE),0)","v":0},0]
["",null,null,null,null,null,null,null,null,null,null,null,null,null,null,{"$f":"INDEX($A:$O,ROW(),MATCH('Rapportage per vraag'!$C$12,'Data leveranciersbeoordeling'!$1:$1,0))","v":0},{"$f":"IFERROR(VLOOKUP(INDEX($A:$O,ROW(),MATCH('Rapportage per vraag'!$C$12,'Data leveranciersbeoordeling'!$1:$1,0)),Leveranciersbeoordeling!$H$1:$I$5,2,FALSE),0)","v":0},0]
["",null,null,null,null,null,null,null,null,null,null,null,null,null,null,{"$f":"INDEX($A:$O,ROW(),MATCH('Rapportage per vraag'!$C$12,'Data leveranciersbeoordeling'!$1:$1,0))","v":0},{"$f":"IFERROR(VLOOKUP(INDEX($A:$O,ROW(),MATCH('Rapportage per vraag'!$C$12,'Data leveranciersbeoordeling'!$1:$1,0)),Leveranciersbeoordeling!$H$1:$I$5,2,FALSE),0)","v":0},0]
["",null,null,null,null,null,null,null,null,null,null,null,null,null,null,{"$f":"INDEX($A:$O,ROW(),MATCH('Rapportage per vraag'!$C$12,'Data leveranciersbeoordeling'!$1:$1,0))","v":0},{"$f":"IFERROR(VLOOKUP(INDEX($A:$O,ROW(),MATCH('Rapportage per vraag'!$C$12,'Data leveranciersbeoordeling'!$1:$1,0)),Leveranciersbeoordeling!$H$1:$I$5,2,FALSE),0)","v":0},0]
["",null,null,null,null,null,null,null,null,null,null,null,null,null,null,{"$f":"INDEX($A:$O,ROW(),MATCH('Rapportage per vraag'!$C$12,'Data leveranciersbeoordeling'!$1:$1,0))","v":0},{"$f":"IFERROR(VLOOKUP(INDEX($A:$O,ROW(),MATCH('Rapportage per vraag'!$C$12,'Data leveranciersbeoordeling'!$1:$1,0)),Leveranciersbeoordeling!$H$1:$I$5,2,FALSE),0)","v":0},0]
["",null,null,null,null,null,null,null,null,null,null,null,null,null,null,{"$f":"INDEX($A:$O,ROW(),MATCH('Rapportage per vraag'!$C$12,'Data leveranciersbeoordeling'!$1:$1,0))","v":0},{"$f":"IFERROR(VLOOKUP(INDEX($A:$O,ROW(),MATCH('Rapportage per vraag'!$C$12,'Data leveranciersbeoordeling'!$1:$1,0)),Leveranciersbeoordeling!$H$1:$I$5,2,FALSE),0)","v":0},0]
["",null,null,null,null,null,null,null,null,null,null,null,null,null,null,{"$f":"INDEX($A:$O,ROW(),MATCH('Rapportage per vraag'!$C$12,'Data leveranciersbeoordeling'!$1:$1,0))","v":0},{"$f":"IFERROR(VLOOKUP(INDEX($A:$O,ROW(),MATCH('Rapportage per vraag'!$C$12,'Data leveranciersbeoordeling'!$1:$1,0)),Leveranciersbeoordeling!$H$1:$I$5,2,FALSE),0)","v":0},0]
["",null,null,null,null,null,null,null,null,null,null,null,null,null,null,{"$f":"INDEX($A:$O,ROW(),MATCH('Rapportage per vraag'!$C$12,'Data leveranciersbeoordeling'!$1:$1,0))","v":0},{"$f":"IFERROR(VLOOKUP(INDEX($A:$O,ROW(),MATCH('Rapportage per vraag'!$C$12,'Data leveranciersbeoordeling'!$1:$1,0)),Leveranciersbeoordeling!$H$1:$I$5,2,FALSE),0)","v":0},0]
["",null,null,null,null,null,null,null,null,null,null,null,null,null,null,{"$f":"INDEX($A:$O,ROW(),MATCH('Rapportage per vraag'!$C$12,'Data leveranciersbeoordeling'!$1:$1,0))","v":0},{"$f":"IFERROR(VLOOKUP(INDEX($A:$O,ROW(),MATCH('Rapportage per vraag'!$C$12,'Data leveranciersbeoordeling'!$1:$1,0)),Leveranciersbeoordeling!$H$1:$I$5,2,FALSE),0)","v":0},0]
[{"$f":"CONCATENATE(B7107,C7107,D7107)","v":""},null,null,null,null,null,null,null,null,null,null,null,null,null,null,{"$f":"INDEX($A:$O,ROW(),MATCH('Rapportage per vraag'!$C$12,'Data leveranciersbeoordeling'!$1:$1,0))","v":0},{"$f":"IFERROR(VLOOKUP(INDEX($A:$O,ROW(),MATCH('Rapportage per vraag'!$C$12,'Data leveranciersbeoordeling'!$1:$1,0)),Leveranciersbeoordeling!$H$1:$I$5,2,FALSE),0)","v":0},0]
["",null,null,null,null,null,null,null,null,null,null,null,null,null,null,{"$f":"INDEX($A:$O,ROW(),MATCH('Rapportage per vraag'!$C$12,'Data leveranciersbeoordeling'!$1:$1,0))","v":0},{"$f":"IFERROR(VLOOKUP(INDEX($A:$O,ROW(),MATCH('Rapportage per vraag'!$C$12,'Data leveranciersbeoordeling'!$1:$1,0)),Leveranciersbeoordeling!$H$1:$I$5,2,FALSE),0)","v":0},0]
["",null,null,null,null,null,null,null,null,null,null,null,null,null,null,{"$f":"INDEX($A:$O,ROW(),MATCH('Rapportage per vraag'!$C$12,'Data leveranciersbeoordeling'!$1:$1,0))","v":0},{"$f":"IFERROR(VLOOKUP(INDEX($A:$O,ROW(),MATCH('Rapportage per vraag'!$C$12,'Data leveranciersbeoordeling'!$1:$1,0)),Leveranciersbeoordeling!$H$1:$I$5,2,FALSE),0)","v":0},0]
["",null,null,null,null,null,null,null,null,null,null,null,null,null,null,{"$f":"INDEX($A:$O,ROW(),MATCH('Rapportage per vraag'!$C$12,'Data leveranciersbeoordeling'!$1:$1,0))","v":0},{"$f":"IFERROR(VLOOKUP(INDEX($A:$O,ROW(),MATCH('Rapportage per vraag'!$C$12,'Data leveranciersbeoordeling'!$1:$1,0)),Leveranciersbeoordeling!$H$1:$I$5,2,FALSE),0)","v":0},0]
["",null,null,null,null,null,null,null,null,null,null,null,null,null,null,{"$f":"INDEX($A:$O,ROW(),MATCH('Rapportage per vraag'!$C$12,'Data leveranciersbeoordeling'!$1:$1,0))","v":0},{"$f":"IFERROR(VLOOKUP(INDEX($A:$O,ROW(),MATCH('Rapportage per vraag'!$C$12,'Data leveranciersbeoordeling'!$1:$1,0)),Leveranciersbeoordeling!$H$1:$I$5,2,FALSE),0)","v":0},0]
["",null,null,null,null,null,null,null,null,null,null,null,null,null,null,{"$f":"INDEX($A:$O,ROW(),MATCH('Rapportage per vraag'!$C$12,'Data leveranciersbeoordeling'!$1:$1,0))","v":0},{"$f":"IFERROR(VLOOKUP(INDEX($A:$O,ROW(),MATCH('Rapportage per vraag'!$C$12,'Data leveranciersbeoordeling'!$1:$1,0)),Leveranciersbeoordeling!$H$1:$I$5,2,FALSE),0)","v":0},0]
["",null,null,null,null,null,null,null,null,null,null,null,null,null,null,{"$f":"INDEX($A:$O,ROW(),MATCH('Rapportage per vraag'!$C$12,'Data leveranciersbeoordeling'!$1:$1,0))","v":0},{"$f":"IFERROR(VLOOKUP(INDEX($A:$O,ROW(),MATCH('Rapportage per vraag'!$C$12,'Data leveranciersbeoordeling'!$1:$1,0)),Leveranciersbeoordeling!$H$1:$I$5,2,FALSE),0)","v":0},0]
["",null,null,null,null,null,null,null,null,null,null,null,null,null,null,{"$f":"INDEX($A:$O,ROW(),MATCH('Rapportage per vraag'!$C$12,'Data leveranciersbeoordeling'!$1:$1,0))","v":0},{"$f":"IFERROR(VLOOKUP(INDEX($A:$O,ROW(),MATCH('Rapportage per vraag'!$C$12,'Data leveranciersbeoordeling'!$1:$1,0)),Leveranciersbeoordeling!$H$1:$I$5,2,FALSE),0)","v":0},0]
["",null,null,null,null,null,null,null,null,null,null,null,null,null,null,{"$f":"INDEX($A:$O,ROW(),MATCH('Rapportage per vraag'!$C$12,'Data leveranciersbeoordeling'!$1:$1,0))","v":0},{"$f":"IFERROR(VLOOKUP(INDEX($A:$O,ROW(),MATCH('Rapportage per vraag'!$C$12,'Data leveranciersbeoordeling'!$1:$1,0)),Leveranciersbeoordeling!$H$1:$I$5,2,FALSE),0)","v":0},0]
["",null,null,null,null,null,null,null,null,null,null,null,null,null,null,{"$f":"INDEX($A:$O,ROW(),MATCH('Rapportage per vraag'!$C$12,'Data leveranciersbeoordeling'!$1:$1,0))","v":0},{"$f":"IFERROR(VLOOKUP(INDEX($A:$O,ROW(),MATCH('Rapportage per vraag'!$C$12,'Data leveranciersbeoordeling'!$1:$1,0)),Leveranciersbeoordeling!$H$1:$I$5,2,FALSE),0)","v":0},0]
["",null,null,null,null,null,null,null,null,null,null,null,null,null,null,{"$f":"INDEX($A:$O,ROW(),MATCH('Rapportage per vraag'!$C$12,'Data leveranciersbeoordeling'!$1:$1,0))","v":0},{"$f":"IFERROR(VLOOKUP(INDEX($A:$O,ROW(),MATCH('Rapportage per vraag'!$C$12,'Data leveranciersbeoordeling'!$1:$1,0)),Leveranciersbeoordeling!$H$1:$I$5,2,FALSE),0)","v":0},0]
["",null,null,null,null,null,null,null,null,null,null,null,null,null,null,{"$f":"INDEX($A:$O,ROW(),MATCH('Rapportage per vraag'!$C$12,'Data leveranciersbeoordeling'!$1:$1,0))","v":0},{"$f":"IFERROR(VLOOKUP(INDEX($A:$O,ROW(),MATCH('Rapportage per vraag'!$C$12,'Data leveranciersbeoordeling'!$1:$1,0)),Leveranciersbeoordeling!$H$1:$I$5,2,FALSE),0)","v":0},0]
["",null,null,null,null,null,null,null,null,null,null,null,null,null,null,{"$f":"INDEX($A:$O,ROW(),MATCH('Rapportage per vraag'!$C$12,'Data leveranciersbeoordeling'!$1:$1,0))","v":0},{"$f":"IFERROR(VLOOKUP(INDEX($A:$O,ROW(),MATCH('Rapportage per vraag'!$C$12,'Data leveranciersbeoordeling'!$1:$1,0)),Leveranciersbeoordeling!$H$1:$I$5,2,FALSE),0)","v":0},0]
["",null,null,null,null,null,null,null,null,null,null,null,null,null,null,{"$f":"INDEX($A:$O,ROW(),MATCH('Rapportage per vraag'!$C$12,'Data leveranciersbeoordeling'!$1:$1,0))","v":0},{"$f":"IFERROR(VLOOKUP(INDEX($A:$O,ROW(),MATCH('Rapportage per vraag'!$C$12,'Data leveranciersbeoordeling'!$1:$1,0)),Leveranciersbeoordeling!$H$1:$I$5,2,FALSE),0)","v":0},0]
["",null,null,null,null,null,null,null,null,null,null,null,null,null,null,{"$f":"INDEX($A:$O,ROW(),MATCH('Rapportage per vraag'!$C$12,'Data leveranciersbeoordeling'!$1:$1,0))","v":0},{"$f":"IFERROR(VLOOKUP(INDEX($A:$O,ROW(),MATCH('Rapportage per vraag'!$C$12,'Data leveranciersbeoordeling'!$1:$1,0)),Leveranciersbeoordeling!$H$1:$I$5,2,FALSE),0)","v":0},0]
["",null,null,null,null,null,null,null,null,null,null,null,null,null,null,{"$f":"INDEX($A:$O,ROW(),MATCH('Rapportage per vraag'!$C$12,'Data leveranciersbeoordeling'!$1:$1,0))","v":0},{"$f":"IFERROR(VLOOKUP(INDEX($A:$O,ROW(),MATCH('Rapportage per vraag'!$C$12,'Data leveranciersbeoordeling'!$1:$1,0)),Leveranciersbeoordeling!$H$1:$I$5,2,FALSE),0)","v":0},0]
["",null,null,null,null,null,null,null,null,null,null,null,null,null,null,{"$f":"INDEX($A:$O,ROW(),MATCH('Rapportage per vraag'!$C$12,'Data leveranciersbeoordeling'!$1:$1,0))","v":0},{"$f":"IFERROR(VLOOKUP(INDEX($A:$O,ROW(),MATCH('Rapportage per vraag'!$C$12,'Data leveranciersbeoordeling'!$1:$1,0)),Leveranciersbeoordeling!$H$1:$I$5,2,FALSE),0)","v":0},0]
[{"$f":"CONCATENATE(B7171,C7171,D7171)","v":""},null,null,null,null,null,null,null,null,null,null,null,null,null,null,{"$f":"INDEX($A:$O,ROW(),MATCH('Rapportage per vraag'!$C$12,'Data leveranciersbeoordeling'!$1:$1,0))","v":0},{"$f":"IFERROR(VLOOKUP(INDEX($A:$O,ROW(),MATCH('Rapportage per vraag'!$C$12,'Data leveranciersbeoordeling'!$1:$1,0)),Leveranciersbeoordeling!$H$1:$I$5,2,FALSE),0)","v":0},0]
["",null,null,null,null,null,null,null,null,null,null,null,null,null,null,{"$f":"INDEX($A:$O,ROW(),MATCH('Rapportage per vraag'!$C$12,'Data leveranciersbeoordeling'!$1:$1,0))","v":0},{"$f":"IFERROR(VLOOKUP(INDEX($A:$O,ROW(),MATCH('Rapportage per vraag'!$C$12,'Data leveranciersbeoordeling'!$1:$1,0)),Leveranciersbeoordeling!$H$1:$I$5,2,FALSE),0)","v":0},0]
["",null,null,null,null,null,null,null,null,null,null,null,null,null,null,{"$f":"INDEX($A:$O,ROW(),MATCH('Rapportage per vraag'!$C$12,'Data leveranciersbeoordeling'!$1:$1,0))","v":0},{"$f":"IFERROR(VLOOKUP(INDEX($A:$O,ROW(),MATCH('Rapportage per vraag'!$C$12,'Data leveranciersbeoordeling'!$1:$1,0)),Leveranciersbeoordeling!$H$1:$I$5,2,FALSE),0)","v":0},0]
["",null,null,null,null,null,null,null,null,null,null,null,null,null,null,{"$f":"INDEX($A:$O,ROW(),MATCH('Rapportage per vraag'!$C$12,'Data leveranciersbeoordeling'!$1:$1,0))","v":0},{"$f":"IFERROR(VLOOKUP(INDEX($A:$O,ROW(),MATCH('Rapportage per vraag'!$C$12,'Data leveranciersbeoordeling'!$1:$1,0)),Leveranciersbeoordeling!$H$1:$I$5,2,FALSE),0)","v":0},0]
["",null,null,null,null,null,null,null,null,null,null,null,null,null,null,{"$f":"INDEX($A:$O,ROW(),MATCH('Rapportage per vraag'!$C$12,'Data leveranciersbeoordeling'!$1:$1,0))","v":0},{"$f":"IFERROR(VLOOKUP(INDEX($A:$O,ROW(),MATCH('Rapportage per vraag'!$C$12,'Data leveranciersbeoordeling'!$1:$1,0)),Leveranciersbeoordeling!$H$1:$I$5,2,FALSE),0)","v":0},0]
["",null,null,null,null,null,null,null,null,null,null,null,null,null,null,{"$f":"INDEX($A:$O,ROW(),MATCH('Rapportage per vraag'!$C$12,'Data leveranciersbeoordeling'!$1:$1,0))","v":0},{"$f":"IFERROR(VLOOKUP(INDEX($A:$O,ROW(),MATCH('Rapportage per vraag'!$C$12,'Data leveranciersbeoordeling'!$1:$1,0)),Leveranciersbeoordeling!$H$1:$I$5,2,FALSE),0)","v":0},0]
["",null,null,null,null,null,null,null,null,null,null,null,null,null,null,{"$f":"INDEX($A:$O,ROW(),MATCH('Rapportage per vraag'!$C$12,'Data leveranciersbeoordeling'!$1:$1,0))","v":0},{"$f":"IFERROR(VLOOKUP(INDEX($A:$O,ROW(),MATCH('Rapportage per vraag'!$C$12,'Data leveranciersbeoordeling'!$1:$1,0)),Leveranciersbeoordeling!$H$1:$I$5,2,FALSE),0)","v":0},0]
["",null,null,null,null,null,null,null,null,null,null,null,null,null,null,{"$f":"INDEX($A:$O,ROW(),MATCH('Rapportage per vraag'!$C$12,'Data leveranciersbeoordeling'!$1:$1,0))","v":0},{"$f":"IFERROR(VLOOKUP(INDEX($A:$O,ROW(),MATCH('Rapportage per vraag'!$C$12,'Data leveranciersbeoordeling'!$1:$1,0)),Leveranciersbeoordeling!$H$1:$I$5,2,FALSE),0)","v":0},0]
["",null,null,null,null,null,null,null,null,null,null,null,null,null,null,{"$f":"INDEX($A:$O,ROW(),MATCH('Rapportage per vraag'!$C$12,'Data leveranciersbeoordeling'!$1:$1,0))","v":0},{"$f":"IFERROR(VLOOKUP(INDEX($A:$O,ROW(),MATCH('Rapportage per vraag'!$C$12,'Data leveranciersbeoordeling'!$1:$1,0)),Leveranciersbeoordeling!$H$1:$I$5,2,FALSE),0)","v":0},0]
["",null,null,null,null,null,null,null,null,null,null,null,null,null,null,{"$f":"INDEX($A:$O,ROW(),MATCH('Rapportage per vraag'!$C$12,'Data leveranciersbeoordeling'!$1:$1,0))","v":0},{"$f":"IFERROR(VLOOKUP(INDEX($A:$O,ROW(),MATCH('Rapportage per vraag'!$C$12,'Data leveranciersbeoordeling'!$1:$1,0)),Leveranciersbeoordeling!$H$1:$I$5,2,FALSE),0)","v":0},0]
["",null,null,null,null,null,null,null,null,null,null,null,null,null,null,{"$f":"INDEX($A:$O,ROW(),MATCH('Rapportage per vraag'!$C$12,'Data leveranciersbeoordeling'!$1:$1,0))","v":0},{"$f":"IFERROR(VLOOKUP(INDEX($A:$O,ROW(),MATCH('Rapportage per vraag'!$C$12,'Data leveranciersbeoordeling'!$1:$1,0)),Leveranciersbeoordeling!$H$1:$I$5,2,FALSE),0)","v":0},0]
["",null,null,null,null,null,null,null,null,null,null,null,null,null,null,{"$f":"INDEX($A:$O,ROW(),MATCH('Rapportage per vraag'!$C$12,'Data leveranciersbeoordeling'!$1:$1,0))","v":0},{"$f":"IFERROR(VLOOKUP(INDEX($A:$O,ROW(),MATCH('Rapportage per vraag'!$C$12,'Data leveranciersbeoordeling'!$1:$1,0)),Leveranciersbeoordeling!$H$1:$I$5,2,FALSE),0)","v":0},0]
["",null,null,null,null,null,null,null,null,null,null,null,null,null,null,{"$f":"INDEX($A:$O,ROW(),MATCH('Rapportage per vraag'!$C$12,'Data leveranciersbeoordeling'!$1:$1,0))","v":0},{"$f":"IFERROR(VLOOKUP(INDEX($A:$O,ROW(),MATCH('Rapportage per vraag'!$C$12,'Data leveranciersbeoordeling'!$1:$1,0)),Leveranciersbeoordeling!$H$1:$I$5,2,FALSE),0)","v":0},0]
["",null,null,null,null,null,null,null,null,null,null,null,null,null,null,{"$f":"INDEX($A:$O,ROW(),MATCH('Rapportage per vraag'!$C$12,'Data leveranciersbeoordeling'!$1:$1,0))","v":0},{"$f":"IFERROR(VLOOKUP(INDEX($A:$O,ROW(),MATCH('Rapportage per vraag'!$C$12,'Data leveranciersbeoordeling'!$1:$1,0)),Leveranciersbeoordeling!$H$1:$I$5,2,FALSE),0)","v":0},0]
["",null,null,null,null,null,null,null,null,null,null,null,null,null,null,{"$f":"INDEX($A:$O,ROW(),MATCH('Rapportage per vraag'!$C$12,'Data leveranciersbeoordeling'!$1:$1,0))","v":0},{"$f":"IFERROR(VLOOKUP(INDEX($A:$O,ROW(),MATCH('Rapportage per vraag'!$C$12,'Data leveranciersbeoordeling'!$1:$1,0)),Leveranciersbeoordeling!$H$1:$I$5,2,FALSE),0)","v":0},0]
["",null,null,null,null,null,null,null,null,null,null,null,null,null,null,{"$f":"INDEX($A:$O,ROW(),MATCH('Rapportage per vraag'!$C$12,'Data leveranciersbeoordeling'!$1:$1,0))","v":0},{"$f":"IFERROR(VLOOKUP(INDEX($A:$O,ROW(),MATCH('Rapportage per vraag'!$C$12,'Data leveranciersbeoordeling'!$1:$1,0)),Leveranciersbeoordeling!$H$1:$I$5,2,FALSE),0)","v":0},0]
["",null,null,null,null,null,null,null,null,null,null,null,null,null,null,{"$f":"INDEX($A:$O,ROW(),MATCH('Rapportage per vraag'!$C$12,'Data leveranciersbeoordeling'!$1:$1,0))","v":0},{"$f":"IFERROR(VLOOKUP(INDEX($A:$O,ROW(),MATCH('Rapportage per vraag'!$C$12,'Data leveranciersbeoordeling'!$1:$1,0)),Leveranciersbeoordeling!$H$1:$I$5,2,FALSE),0)","v":0},0]
["",null,null,null,null,null,null,null,null,null,null,null,null,null,null,{"$f":"INDEX($A:$O,ROW(),MATCH('Rapportage per vraag'!$C$12,'Data leveranciersbeoordeling'!$1:$1,0))","v":0},{"$f":"IFERROR(VLOOKUP(INDEX($A:$O,ROW(),MATCH('Rapportage per vraag'!$C$12,'Data leveranciersbeoordeling'!$1:$1,0)),Leveranciersbeoordeling!$H$1:$I$5,2,FALSE),0)","v":0},0]
["",null,null,null,null,null,null,null,null,null,null,null,null,null,null,{"$f":"INDEX($A:$O,ROW(),MATCH('Rapportage per vraag'!$C$12,'Data leveranciersbeoordeling'!$1:$1,0))","v":0},{"$f":"IFERROR(VLOOKUP(INDEX($A:$O,ROW(),MATCH('Rapportage per vraag'!$C$12,'Data leveranciersbeoordeling'!$1:$1,0)),Leveranciersbeoordeling!$H$1:$I$5,2,FALSE),0)","v":0},0]
["",null,null,null,null,null,null,null,null,null,null,null,null,null,null,{"$f":"INDEX($A:$O,ROW(),MATCH('Rapportage per vraag'!$C$12,'Data leveranciersbeoordeling'!$1:$1,0))","v":0},{"$f":"IFERROR(VLOOKUP(INDEX($A:$O,ROW(),MATCH('Rapportage per vraag'!$C$12,'Data leveranciersbeoordeling'!$1:$1,0)),Leveranciersbeoordeling!$H$1:$I$5,2,FALSE),0)","v":0},0]
["",null,null,null,null,null,null,null,null,null,null,null,null,null,null,{"$f":"INDEX($A:$O,ROW(),MATCH('Rapportage per vraag'!$C$12,'Data leveranciersbeoordeling'!$1:$1,0))","v":0},{"$f":"IFERROR(VLOOKUP(INDEX($A:$O,ROW(),MATCH('Rapportage per vraag'!$C$12,'Data leveranciersbeoordeling'!$1:$1,0)),Leveranciersbeoordeling!$H$1:$I$5,2,FALSE),0)","v":0},0]
["",null,null,null,null,null,null,null,null,null,null,null,null,null,null,{"$f":"INDEX($A:$O,ROW(),MATCH('Rapportage per vraag'!$C$12,'Data leveranciersbeoordeling'!$1:$1,0))","v":0},{"$f":"IFERROR(VLOOKUP(INDEX($A:$O,ROW(),MATCH('Rapportage per vraag'!$C$12,'Data leveranciersbeoordeling'!$1:$1,0)),Leveranciersbeoordeling!$H$1:$I$5,2,FALSE),0)","v":0},0]
["",null,null,null,null,null,null,null,null,null,null,null,null,null,null,{"$f":"INDEX($A:$O,ROW(),MATCH('Rapportage per vraag'!$C$12,'Data leveranciersbeoordeling'!$1:$1,0))","v":0},{"$f":"IFERROR(VLOOKUP(INDEX($A:$O,ROW(),MATCH('Rapportage per vraag'!$C$12,'Data leveranciersbeoordeling'!$1:$1,0)),Leveranciersbeoordeling!$H$1:$I$5,2,FALSE),0)","v":0},0]
["",null,null,null,null,null,null,null,null,null,null,null,null,null,null,{"$f":"INDEX($A:$O,ROW(),MATCH('Rapportage per vraag'!$C$12,'Data leveranciersbeoordeling'!$1:$1,0))","v":0},{"$f":"IFERROR(VLOOKUP(INDEX($A:$O,ROW(),MATCH('Rapportage per vraag'!$C$12,'Data leveranciersbeoordeling'!$1:$1,0)),Leveranciersbeoordeling!$H$1:$I$5,2,FALSE),0)","v":0},0]
["",null,null,null,null,null,null,null,null,null,null,null,null,null,null,{"$f":"INDEX($A:$O,ROW(),MATCH('Rapportage per vraag'!$C$12,'Data leveranciersbeoordeling'!$1:$1,0))","v":0},{"$f":"IFERROR(VLOOKUP(INDEX($A:$O,ROW(),MATCH('Rapportage per vraag'!$C$12,'Data leveranciersbeoordeling'!$1:$1,0)),Leveranciersbeoordeling!$H$1:$I$5,2,FALSE),0)","v":0},0]
["",null,null,null,null,null,null,null,null,null,null,null,null,null,null,{"$f":"INDEX($A:$O,ROW(),MATCH('Rapportage per vraag'!$C$12,'Data leveranciersbeoordeling'!$1:$1,0))","v":0},{"$f":"IFERROR(VLOOKUP(INDEX($A:$O,ROW(),MATCH('Rapportage per vraag'!$C$12,'Data leveranciersbeoordeling'!$1:$1,0)),Leveranciersbeoordeling!$H$1:$I$5,2,FALSE),0)","v":0},0]
["",null,null,null,null,null,null,null,null,null,null,null,null,null,null,{"$f":"INDEX($A:$O,ROW(),MATCH('Rapportage per vraag'!$C$12,'Data leveranciersbeoordeling'!$1:$1,0))","v":0},{"$f":"IFERROR(VLOOKUP(INDEX($A:$O,ROW(),MATCH('Rapportage per vraag'!$C$12,'Data leveranciersbeoordeling'!$1:$1,0)),Leveranciersbeoordeling!$H$1:$I$5,2,FALSE),0)","v":0},0]
["",null,null,null,null,null,null,null,null,null,null,null,null,null,null,{"$f":"INDEX($A:$O,ROW(),MATCH('Rapportage per vraag'!$C$12,'Data leveranciersbeoordeling'!$1:$1,0))","v":0},{"$f":"IFERROR(VLOOKUP(INDEX($A:$O,ROW(),MATCH('Rapportage per vraag'!$C$12,'Data leveranciersbeoordeling'!$1:$1,0)),Leveranciersbeoordeling!$H$1:$I$5,2,FALSE),0)","v":0},0]
["",null,null,null,null,null,null,null,null,null,null,null,null,null,null,{"$f":"INDEX($A:$O,ROW(),MATCH('Rapportage per vraag'!$C$12,'Data leveranciersbeoordeling'!$1:$1,0))","v":0},{"$f":"IFERROR(VLOOKUP(INDEX($A:$O,ROW(),MATCH('Rapportage per vraag'!$C$12,'Data leveranciersbeoordeling'!$1:$1,0)),Leveranciersbeoordeling!$H$1:$I$5,2,FALSE),0)","v":0},0]
["",null,null,null,null,null,null,null,null,null,null,null,null,null,null,{"$f":"INDEX($A:$O,ROW(),MATCH('Rapportage per vraag'!$C$12,'Data leveranciersbeoordeling'!$1:$1,0))","v":0},{"$f":"IFERROR(VLOOKUP(INDEX($A:$O,ROW(),MATCH('Rapportage per vraag'!$C$12,'Data leveranciersbeoordeling'!$1:$1,0)),Leveranciersbeoordeling!$H$1:$I$5,2,FALSE),0)","v":0},0]
["",null,null,null,null,null,null,null,null,null,null,null,null,null,null,{"$f":"INDEX($A:$O,ROW(),MATCH('Rapportage per vraag'!$C$12,'Data leveranciersbeoordeling'!$1:$1,0))","v":0},{"$f":"IFERROR(VLOOKUP(INDEX($A:$O,ROW(),MATCH('Rapportage per vraag'!$C$12,'Data leveranciersbeoordeling'!$1:$1,0)),Leveranciersbeoordeling!$H$1:$I$5,2,FALSE),0)","v":0},0]
["",null,null,null,null,null,null,null,null,null,null,null,null,null,null,{"$f":"INDEX($A:$O,ROW(),MATCH('Rapportage per vraag'!$C$12,'Data leveranciersbeoordeling'!$1:$1,0))","v":0},{"$f":"IFERROR(VLOOKUP(INDEX($A:$O,ROW(),MATCH('Rapportage per vraag'!$C$12,'Data leveranciersbeoordeling'!$1:$1,0)),Leveranciersbeoordeling!$H$1:$I$5,2,FALSE),0)","v":0},0]
["",null,null,null,null,null,null,null,null,null,null,null,null,null,null,{"$f":"INDEX($A:$O,ROW(),MATCH('Rapportage per vraag'!$C$12,'Data leveranciersbeoordeling'!$1:$1,0))","v":0},{"$f":"IFERROR(VLOOKUP(INDEX($A:$O,ROW(),MATCH('Rapportage per vraag'!$C$12,'Data leveranciersbeoordeling'!$1:$1,0)),Leveranciersbeoordeling!$H$1:$I$5,2,FALSE),0)","v":0},0]
["",null,null,null,null,null,null,null,null,null,null,null,null,null,null,{"$f":"INDEX($A:$O,ROW(),MATCH('Rapportage per vraag'!$C$12,'Data leveranciersbeoordeling'!$1:$1,0))","v":0},{"$f":"IFERROR(VLOOKUP(INDEX($A:$O,ROW(),MATCH('Rapportage per vraag'!$C$12,'Data leveranciersbeoordeling'!$1:$1,0)),Leveranciersbeoordeling!$H$1:$I$5,2,FALSE),0)","v":0},0]
["",null,null,null,null,null,null,null,null,null,null,null,null,null,null,{"$f":"INDEX($A:$O,ROW(),MATCH('Rapportage per vraag'!$C$12,'Data leveranciersbeoordeling'!$1:$1,0))","v":0},{"$f":"IFERROR(VLOOKUP(INDEX($A:$O,ROW(),MATCH('Rapportage per vraag'!$C$12,'Data leveranciersbeoordeling'!$1:$1,0)),Leveranciersbeoordeling!$H$1:$I$5,2,FALSE),0)","v":0},0]
["",null,null,null,null,null,null,null,null,null,null,null,null,null,null,{"$f":"INDEX($A:$O,ROW(),MATCH('Rapportage per vraag'!$C$12,'Data leveranciersbeoordeling'!$1:$1,0))","v":0},{"$f":"IFERROR(VLOOKUP(INDEX($A:$O,ROW(),MATCH('Rapportage per vraag'!$C$12,'Data leveranciersbeoordeling'!$1:$1,0)),Leveranciersbeoordeling!$H$1:$I$5,2,FALSE),0)","v":0},{"$f":"IF(T(P7302)=P7302,Q7302,P7302)","v":0}]
["",null,null,null,null,null,null,null,null,null,null,null,null,null,null,{"$f":"INDEX($A:$O,ROW(),MATCH('Rapportage per vraag'!$C$12,'Data leveranciersbeoordeling'!$1:$1,0))","v":0},{"$f":"IFERROR(VLOOKUP(INDEX($A:$O,ROW(),MATCH('Rapportage per vraag'!$C$12,'Data leveranciersbeoordeling'!$1:$1,0)),Leveranciersbeoordeling!$H$1:$I$5,2,FALSE),0)","v":0},0]
["",null,null,null,null,null,null,null,null,null,null,null,null,null,null,{"$f":"INDEX($A:$O,ROW(),MATCH('Rapportage per vraag'!$C$12,'Data leveranciersbeoordeling'!$1:$1,0))","v":0},{"$f":"IFERROR(VLOOKUP(INDEX($A:$O,ROW(),MATCH('Rapportage per vraag'!$C$12,'Data leveranciersbeoordeling'!$1:$1,0)),Leveranciersbeoordeling!$H$1:$I$5,2,FALSE),0)","v":0},0]
["",null,null,null,null,null,null,null,null,null,null,null,null,null,null,{"$f":"INDEX($A:$O,ROW(),MATCH('Rapportage per vraag'!$C$12,'Data leveranciersbeoordeling'!$1:$1,0))","v":0},{"$f":"IFERROR(VLOOKUP(INDEX($A:$O,ROW(),MATCH('Rapportage per vraag'!$C$12,'Data leveranciersbeoordeling'!$1:$1,0)),Leveranciersbeoordeling!$H$1:$I$5,2,FALSE),0)","v":0},0]
["",null,null,null,null,null,null,null,null,null,null,null,null,null,null,{"$f":"INDEX($A:$O,ROW(),MATCH('Rapportage per vraag'!$C$12,'Data leveranciersbeoordeling'!$1:$1,0))","v":0},{"$f":"IFERROR(VLOOKUP(INDEX($A:$O,ROW(),MATCH('Rapportage per vraag'!$C$12,'Data leveranciersbeoordeling'!$1:$1,0)),Leveranciersbeoordeling!$H$1:$I$5,2,FALSE),0)","v":0},0]
["",null,null,null,null,null,null,null,null,null,null,null,null,null,null,{"$f":"INDEX($A:$O,ROW(),MATCH('Rapportage per vraag'!$C$12,'Data leveranciersbeoordeling'!$1:$1,0))","v":0},{"$f":"IFERROR(VLOOKUP(INDEX($A:$O,ROW(),MATCH('Rapportage per vraag'!$C$12,'Data leveranciersbeoordeling'!$1:$1,0)),Leveranciersbeoordeling!$H$1:$I$5,2,FALSE),0)","v":0},0]
["",null,null,null,null,null,null,null,null,null,null,null,null,null,null,{"$f":"INDEX($A:$O,ROW(),MATCH('Rapportage per vraag'!$C$12,'Data leveranciersbeoordeling'!$1:$1,0))","v":0},{"$f":"IFERROR(VLOOKUP(INDEX($A:$O,ROW(),MATCH('Rapportage per vraag'!$C$12,'Data leveranciersbeoordeling'!$1:$1,0)),Leveranciersbeoordeling!$H$1:$I$5,2,FALSE),0)","v":0},0]
["",null,null,null,null,null,null,null,null,null,null,null,null,null,null,{"$f":"INDEX($A:$O,ROW(),MATCH('Rapportage per vraag'!$C$12,'Data leveranciersbeoordeling'!$1:$1,0))","v":0},{"$f":"IFERROR(VLOOKUP(INDEX($A:$O,ROW(),MATCH('Rapportage per vraag'!$C$12,'Data leveranciersbeoordeling'!$1:$1,0)),Leveranciersbeoordeling!$H$1:$I$5,2,FALSE),0)","v":0},0]
["",null,null,null,null,null,null,null,null,null,null,null,null,null,null,{"$f":"INDEX($A:$O,ROW(),MATCH('Rapportage per vraag'!$C$12,'Data leveranciersbeoordeling'!$1:$1,0))","v":0},{"$f":"IFERROR(VLOOKUP(INDEX($A:$O,ROW(),MATCH('Rapportage per vraag'!$C$12,'Data leveranciersbeoordeling'!$1:$1,0)),Leveranciersbeoordeling!$H$1:$I$5,2,FALSE),0)","v":0},0]
["",null,null,null,null,null,null,null,null,null,null,null,null,null,null,{"$f":"INDEX($A:$O,ROW(),MATCH('Rapportage per vraag'!$C$12,'Data leveranciersbeoordeling'!$1:$1,0))","v":0},{"$f":"IFERROR(VLOOKUP(INDEX($A:$O,ROW(),MATCH('Rapportage per vraag'!$C$12,'Data leveranciersbeoordeling'!$1:$1,0)),Leveranciersbeoordeling!$H$1:$I$5,2,FALSE),0)","v":0},0]
["",null,null,null,null,null,null,null,null,null,null,null,null,null,null,{"$f":"INDEX($A:$O,ROW(),MATCH('Rapportage per vraag'!$C$12,'Data leveranciersbeoordeling'!$1:$1,0))","v":0},{"$f":"IFERROR(VLOOKUP(INDEX($A:$O,ROW(),MATCH('Rapportage per vraag'!$C$12,'Data leveranciersbeoordeling'!$1:$1,0)),Leveranciersbeoordeling!$H$1:$I$5,2,FALSE),0)","v":0},0]
["",null,null,null,null,null,null,null,null,null,null,null,null,null,null,{"$f":"INDEX($A:$O,ROW(),MATCH('Rapportage per vraag'!$C$12,'Data leveranciersbeoordeling'!$1:$1,0))","v":0},{"$f":"IFERROR(VLOOKUP(INDEX($A:$O,ROW(),MATCH('Rapportage per vraag'!$C$12,'Data leveranciersbeoordeling'!$1:$1,0)),Leveranciersbeoordeling!$H$1:$I$5,2,FALSE),0)","v":0},0]
["",null,null,null,null,null,null,null,null,null,null,null,null,null,null,{"$f":"INDEX($A:$O,ROW(),MATCH('Rapportage per vraag'!$C$12,'Data leveranciersbeoordeling'!$1:$1,0))","v":0},{"$f":"IFERROR(VLOOKUP(INDEX($A:$O,ROW(),MATCH('Rapportage per vraag'!$C$12,'Data leveranciersbeoordeling'!$1:$1,0)),Leveranciersbeoordeling!$H$1:$I$5,2,FALSE),0)","v":0},0]
["",null,null,null,null,null,null,null,null,null,null,null,null,null,null,{"$f":"INDEX($A:$O,ROW(),MATCH('Rapportage per vraag'!$C$12,'Data leveranciersbeoordeling'!$1:$1,0))","v":0},{"$f":"IFERROR(VLOOKUP(INDEX($A:$O,ROW(),MATCH('Rapportage per vraag'!$C$12,'Data leveranciersbeoordeling'!$1:$1,0)),Leveranciersbeoordeling!$H$1:$I$5,2,FALSE),0)","v":0},0]
["",null,null,null,null,null,null,null,null,null,null,null,null,null,null,{"$f":"INDEX($A:$O,ROW(),MATCH('Rapportage per vraag'!$C$12,'Data leveranciersbeoordeling'!$1:$1,0))","v":0},{"$f":"IFERROR(VLOOKUP(INDEX($A:$O,ROW(),MATCH('Rapportage per vraag'!$C$12,'Data leveranciersbeoordeling'!$1:$1,0)),Leveranciersbeoordeling!$H$1:$I$5,2,FALSE),0)","v":0},0]
["",null,null,null,null,null,null,null,null,null,null,null,null,null,null,{"$f":"INDEX($A:$O,ROW(),MATCH('Rapportage per vraag'!$C$12,'Data leveranciersbeoordeling'!$1:$1,0))","v":0},{"$f":"IFERROR(VLOOKUP(INDEX($A:$O,ROW(),MATCH('Rapportage per vraag'!$C$12,'Data leveranciersbeoordeling'!$1:$1,0)),Leveranciersbeoordeling!$H$1:$I$5,2,FALSE),0)","v":0},0]
["",null,null,null,null,null,null,null,null,null,null,null,null,null,null,{"$f":"INDEX($A:$O,ROW(),MATCH('Rapportage per vraag'!$C$12,'Data leveranciersbeoordeling'!$1:$1,0))","v":0},{"$f":"IFERROR(VLOOKUP(INDEX($A:$O,ROW(),MATCH('Rapportage per vraag'!$C$12,'Data leveranciersbeoordeling'!$1:$1,0)),Leveranciersbeoordeling!$H$1:$I$5,2,FALSE),0)","v":0},0]
["",null,null,null,null,null,null,null,null,null,null,null,null,null,null,{"$f":"INDEX($A:$O,ROW(),MATCH('Rapportage per vraag'!$C$12,'Data leveranciersbeoordeling'!$1:$1,0))","v":0},{"$f":"IFERROR(VLOOKUP(INDEX($A:$O,ROW(),MATCH('Rapportage per vraag'!$C$12,'Data leveranciersbeoordeling'!$1:$1,0)),Leveranciersbeoordeling!$H$1:$I$5,2,FALSE),0)","v":0},0]
["",null,null,null,null,null,null,null,null,null,null,null,null,null,null,{"$f":"INDEX($A:$O,ROW(),MATCH('Rapportage per vraag'!$C$12,'Data leveranciersbeoordeling'!$1:$1,0))","v":0},{"$f":"IFERROR(VLOOKUP(INDEX($A:$O,ROW(),MATCH('Rapportage per vraag'!$C$12,'Data leveranciersbeoordeling'!$1:$1,0)),Leveranciersbeoordeling!$H$1:$I$5,2,FALSE),0)","v":0},0]
["",null,null,null,null,null,null,null,null,null,null,null,null,null,null,{"$f":"INDEX($A:$O,ROW(),MATCH('Rapportage per vraag'!$C$12,'Data leveranciersbeoordeling'!$1:$1,0))","v":0},{"$f":"IFERROR(VLOOKUP(INDEX($A:$O,ROW(),MATCH('Rapportage per vraag'!$C$12,'Data leveranciersbeoordeling'!$1:$1,0)),Leveranciersbeoordeling!$H$1:$I$5,2,FALSE),0)","v":0},0]
["",null,null,null,null,null,null,null,null,null,null,null,null,null,null,{"$f":"INDEX($A:$O,ROW(),MATCH('Rapportage per vraag'!$C$12,'Data leveranciersbeoordeling'!$1:$1,0))","v":0},{"$f":"IFERROR(VLOOKUP(INDEX($A:$O,ROW(),MATCH('Rapportage per vraag'!$C$12,'Data leveranciersbeoordeling'!$1:$1,0)),Leveranciersbeoordeling!$H$1:$I$5,2,FALSE),0)","v":0},0]
["",null,null,null,null,null,null,null,null,null,null,null,null,null,null,{"$f":"INDEX($A:$O,ROW(),MATCH('Rapportage per vraag'!$C$12,'Data leveranciersbeoordeling'!$1:$1,0))","v":0},{"$f":"IFERROR(VLOOKUP(INDEX($A:$O,ROW(),MATCH('Rapportage per vraag'!$C$12,'Data leveranciersbeoordeling'!$1:$1,0)),Leveranciersbeoordeling!$H$1:$I$5,2,FALSE),0)","v":0},0]
["",null,null,null,null,null,null,null,null,null,null,null,null,null,null,{"$f":"INDEX($A:$O,ROW(),MATCH('Rapportage per vraag'!$C$12,'Data leveranciersbeoordeling'!$1:$1,0))","v":0},{"$f":"IFERROR(VLOOKUP(INDEX($A:$O,ROW(),MATCH('Rapportage per vraag'!$C$12,'Data leveranciersbeoordeling'!$1:$1,0)),Leveranciersbeoordeling!$H$1:$I$5,2,FALSE),0)","v":0},0]
["",null,null,null,null,null,null,null,null,null,null,null,null,null,null,{"$f":"INDEX($A:$O,ROW(),MATCH('Rapportage per vraag'!$C$12,'Data leveranciersbeoordeling'!$1:$1,0))","v":0},{"$f":"IFERROR(VLOOKUP(INDEX($A:$O,ROW(),MATCH('Rapportage per vraag'!$C$12,'Data leveranciersbeoordeling'!$1:$1,0)),Leveranciersbeoordeling!$H$1:$I$5,2,FALSE),0)","v":0},0]
["",null,null,null,null,null,null,null,null,null,null,null,null,null,null,{"$f":"INDEX($A:$O,ROW(),MATCH('Rapportage per vraag'!$C$12,'Data leveranciersbeoordeling'!$1:$1,0))","v":0},{"$f":"IFERROR(VLOOKUP(INDEX($A:$O,ROW(),MATCH('Rapportage per vraag'!$C$12,'Data leveranciersbeoordeling'!$1:$1,0)),Leveranciersbeoordeling!$H$1:$I$5,2,FALSE),0)","v":0},0]
["",null,null,null,null,null,null,null,null,null,null,null,null,null,null,{"$f":"INDEX($A:$O,ROW(),MATCH('Rapportage per vraag'!$C$12,'Data leveranciersbeoordeling'!$1:$1,0))","v":0},{"$f":"IFERROR(VLOOKUP(INDEX($A:$O,ROW(),MATCH('Rapportage per vraag'!$C$12,'Data leveranciersbeoordeling'!$1:$1,0)),Leveranciersbeoordeling!$H$1:$I$5,2,FALSE),0)","v":0},0]
["",null,null,null,null,null,null,null,null,null,null,null,null,null,null,{"$f":"INDEX($A:$O,ROW(),MATCH('Rapportage per vraag'!$C$12,'Data leveranciersbeoordeling'!$1:$1,0))","v":0},{"$f":"IFERROR(VLOOKUP(INDEX($A:$O,ROW(),MATCH('Rapportage per vraag'!$C$12,'Data leveranciersbeoordeling'!$1:$1,0)),Leveranciersbeoordeling!$H$1:$I$5,2,FALSE),0)","v":0},0]
["",null,null,null,null,null,null,null,null,null,null,null,null,null,null,{"$f":"INDEX($A:$O,ROW(),MATCH('Rapportage per vraag'!$C$12,'Data leveranciersbeoordeling'!$1:$1,0))","v":0},{"$f":"IFERROR(VLOOKUP(INDEX($A:$O,ROW(),MATCH('Rapportage per vraag'!$C$12,'Data leveranciersbeoordeling'!$1:$1,0)),Leveranciersbeoordeling!$H$1:$I$5,2,FALSE),0)","v":0},0]
["",null,null,null,null,null,null,null,null,null,null,null,null,null,null,{"$f":"INDEX($A:$O,ROW(),MATCH('Rapportage per vraag'!$C$12,'Data leveranciersbeoordeling'!$1:$1,0))","v":0},{"$f":"IFERROR(VLOOKUP(INDEX($A:$O,ROW(),MATCH('Rapportage per vraag'!$C$12,'Data leveranciersbeoordeling'!$1:$1,0)),Leveranciersbeoordeling!$H$1:$I$5,2,FALSE),0)","v":0},0]
["",null,null,null,null,null,null,null,null,null,null,null,null,null,null,{"$f":"INDEX($A:$O,ROW(),MATCH('Rapportage per vraag'!$C$12,'Data leveranciersbeoordeling'!$1:$1,0))","v":0},{"$f":"IFERROR(VLOOKUP(INDEX($A:$O,ROW(),MATCH('Rapportage per vraag'!$C$12,'Data leveranciersbeoordeling'!$1:$1,0)),Leveranciersbeoordeling!$H$1:$I$5,2,FALSE),0)","v":0},0]
["",null,null,null,null,null,null,null,null,null,null,null,null,null,null,{"$f":"INDEX($A:$O,ROW(),MATCH('Rapportage per vraag'!$C$12,'Data leveranciersbeoordeling'!$1:$1,0))","v":0},{"$f":"IFERROR(VLOOKUP(INDEX($A:$O,ROW(),MATCH('Rapportage per vraag'!$C$12,'Data leveranciersbeoordeling'!$1:$1,0)),Leveranciersbeoordeling!$H$1:$I$5,2,FALSE),0)","v":0},0]
["",null,null,null,null,null,null,null,null,null,null,null,null,null,null,{"$f":"INDEX($A:$O,ROW(),MATCH('Rapportage per vraag'!$C$12,'Data leveranciersbeoordeling'!$1:$1,0))","v":0},{"$f":"IFERROR(VLOOKUP(INDEX($A:$O,ROW(),MATCH('Rapportage per vraag'!$C$12,'Data leveranciersbeoordeling'!$1:$1,0)),Leveranciersbeoordeling!$H$1:$I$5,2,FALSE),0)","v":0},0]
["",null,null,null,null,null,null,null,null,null,null,null,null,null,null,{"$f":"INDEX($A:$O,ROW(),MATCH('Rapportage per vraag'!$C$12,'Data leveranciersbeoordeling'!$1:$1,0))","v":0},{"$f":"IFERROR(VLOOKUP(INDEX($A:$O,ROW(),MATCH('Rapportage per vraag'!$C$12,'Data leveranciersbeoordeling'!$1:$1,0)),Leveranciersbeoordeling!$H$1:$I$5,2,FALSE),0)","v":0},0]
["",null,null,null,null,null,null,null,null,null,null,null,null,null,null,{"$f":"INDEX($A:$O,ROW(),MATCH('Rapportage per vraag'!$C$12,'Data leveranciersbeoordeling'!$1:$1,0))","v":0},{"$f":"IFERROR(VLOOKUP(INDEX($A:$O,ROW(),MATCH('Rapportage per vraag'!$C$12,'Data leveranciersbeoordeling'!$1:$1,0)),Leveranciersbeoordeling!$H$1:$I$5,2,FALSE),0)","v":0},0]
[{"$f":"CONCATENATE(B7427,C7427,D7427)","v":""},null,null,null,null,null,null,null,null,null,null,null,null,null,null,{"$f":"INDEX($A:$O,ROW(),MATCH('Rapportage per vraag'!$C$12,'Data leveranciersbeoordeling'!$1:$1,0))","v":0},{"$f":"IFERROR(VLOOKUP(INDEX($A:$O,ROW(),MATCH('Rapportage per vraag'!$C$12,'Data leveranciersbeoordeling'!$1:$1,0)),Leveranciersbeoordeling!$H$1:$I$5,2,FALSE),0)","v":0},0]
["",null,null,null,null,null,null,null,null,null,null,null,null,null,null,{"$f":"INDEX($A:$O,ROW(),MATCH('Rapportage per vraag'!$C$12,'Data leveranciersbeoordeling'!$1:$1,0))","v":0},{"$f":"IFERROR(VLOOKUP(INDEX($A:$O,ROW(),MATCH('Rapportage per vraag'!$C$12,'Data leveranciersbeoordeling'!$1:$1,0)),Leveranciersbeoordeling!$H$1:$I$5,2,FALSE),0)","v":0},0]
["",null,null,null,null,null,null,null,null,null,null,null,null,null,null,{"$f":"INDEX($A:$O,ROW(),MATCH('Rapportage per vraag'!$C$12,'Data leveranciersbeoordeling'!$1:$1,0))","v":0},{"$f":"IFERROR(VLOOKUP(INDEX($A:$O,ROW(),MATCH('Rapportage per vraag'!$C$12,'Data leveranciersbeoordeling'!$1:$1,0)),Leveranciersbeoordeling!$H$1:$I$5,2,FALSE),0)","v":0},0]
["",null,null,null,null,null,null,null,null,null,null,null,null,null,null,{"$f":"INDEX($A:$O,ROW(),MATCH('Rapportage per vraag'!$C$12,'Data leveranciersbeoordeling'!$1:$1,0))","v":0},{"$f":"IFERROR(VLOOKUP(INDEX($A:$O,ROW(),MATCH('Rapportage per vraag'!$C$12,'Data leveranciersbeoordeling'!$1:$1,0)),Leveranciersbeoordeling!$H$1:$I$5,2,FALSE),0)","v":0},0]
["",null,null,null,null,null,null,null,null,null,null,null,null,null,null,{"$f":"INDEX($A:$O,ROW(),MATCH('Rapportage per vraag'!$C$12,'Data leveranciersbeoordeling'!$1:$1,0))","v":0},{"$f":"IFERROR(VLOOKUP(INDEX($A:$O,ROW(),MATCH('Rapportage per vraag'!$C$12,'Data leveranciersbeoordeling'!$1:$1,0)),Leveranciersbeoordeling!$H$1:$I$5,2,FALSE),0)","v":0},0]
["",null,null,null,null,null,null,null,null,null,null,null,null,null,null,{"$f":"INDEX($A:$O,ROW(),MATCH('Rapportage per vraag'!$C$12,'Data leveranciersbeoordeling'!$1:$1,0))","v":0},{"$f":"IFERROR(VLOOKUP(INDEX($A:$O,ROW(),MATCH('Rapportage per vraag'!$C$12,'Data leveranciersbeoordeling'!$1:$1,0)),Leveranciersbeoordeling!$H$1:$I$5,2,FALSE),0)","v":0},0]
["",null,null,null,null,null,null,null,null,null,null,null,null,null,null,{"$f":"INDEX($A:$O,ROW(),MATCH('Rapportage per vraag'!$C$12,'Data leveranciersbeoordeling'!$1:$1,0))","v":0},{"$f":"IFERROR(VLOOKUP(INDEX($A:$O,ROW(),MATCH('Rapportage per vraag'!$C$12,'Data leveranciersbeoordeling'!$1:$1,0)),Leveranciersbeoordeling!$H$1:$I$5,2,FALSE),0)","v":0},0]
["",null,null,null,null,null,null,null,null,null,null,null,null,null,null,{"$f":"INDEX($A:$O,ROW(),MATCH('Rapportage per vraag'!$C$12,'Data leveranciersbeoordeling'!$1:$1,0))","v":0},{"$f":"IFERROR(VLOOKUP(INDEX($A:$O,ROW(),MATCH('Rapportage per vraag'!$C$12,'Data leveranciersbeoordeling'!$1:$1,0)),Leveranciersbeoordeling!$H$1:$I$5,2,FALSE),0)","v":0},0]
["",null,null,null,null,null,null,null,null,null,null,null,null,null,null,{"$f":"INDEX($A:$O,ROW(),MATCH('Rapportage per vraag'!$C$12,'Data leveranciersbeoordeling'!$1:$1,0))","v":0},{"$f":"IFERROR(VLOOKUP(INDEX($A:$O,ROW(),MATCH('Rapportage per vraag'!$C$12,'Data leveranciersbeoordeling'!$1:$1,0)),Leveranciersbeoordeling!$H$1:$I$5,2,FALSE),0)","v":0},0]
["",null,null,null,null,null,null,null,null,null,null,null,null,null,null,{"$f":"INDEX($A:$O,ROW(),MATCH('Rapportage per vraag'!$C$12,'Data leveranciersbeoordeling'!$1:$1,0))","v":0},{"$f":"IFERROR(VLOOKUP(INDEX($A:$O,ROW(),MATCH('Rapportage per vraag'!$C$12,'Data leveranciersbeoordeling'!$1:$1,0)),Leveranciersbeoordeling!$H$1:$I$5,2,FALSE),0)","v":0},0]
["",null,null,null,null,null,null,null,null,null,null,null,null,null,null,{"$f":"INDEX($A:$O,ROW(),MATCH('Rapportage per vraag'!$C$12,'Data leveranciersbeoordeling'!$1:$1,0))","v":0},{"$f":"IFERROR(VLOOKUP(INDEX($A:$O,ROW(),MATCH('Rapportage per vraag'!$C$12,'Data leveranciersbeoordeling'!$1:$1,0)),Leveranciersbeoordeling!$H$1:$I$5,2,FALSE),0)","v":0},0]
["",null,null,null,null,null,null,null,null,null,null,null,null,null,null,{"$f":"INDEX($A:$O,ROW(),MATCH('Rapportage per vraag'!$C$12,'Data leveranciersbeoordeling'!$1:$1,0))","v":0},{"$f":"IFERROR(VLOOKUP(INDEX($A:$O,ROW(),MATCH('Rapportage per vraag'!$C$12,'Data leveranciersbeoordeling'!$1:$1,0)),Leveranciersbeoordeling!$H$1:$I$5,2,FALSE),0)","v":0},0]
["",null,null,null,null,null,null,null,null,null,null,null,null,null,null,{"$f":"INDEX($A:$O,ROW(),MATCH('Rapportage per vraag'!$C$12,'Data leveranciersbeoordeling'!$1:$1,0))","v":0},{"$f":"IFERROR(VLOOKUP(INDEX($A:$O,ROW(),MATCH('Rapportage per vraag'!$C$12,'Data leveranciersbeoordeling'!$1:$1,0)),Leveranciersbeoordeling!$H$1:$I$5,2,FALSE),0)","v":0},0]
["",null,null,null,null,null,null,null,null,null,null,null,null,null,null,{"$f":"INDEX($A:$O,ROW(),MATCH('Rapportage per vraag'!$C$12,'Data leveranciersbeoordeling'!$1:$1,0))","v":0},{"$f":"IFERROR(VLOOKUP(INDEX($A:$O,ROW(),MATCH('Rapportage per vraag'!$C$12,'Data leveranciersbeoordeling'!$1:$1,0)),Leveranciersbeoordeling!$H$1:$I$5,2,FALSE),0)","v":0},0]
["",null,null,null,null,null,null,null,null,null,null,null,null,null,null,{"$f":"INDEX($A:$O,ROW(),MATCH('Rapportage per vraag'!$C$12,'Data leveranciersbeoordeling'!$1:$1,0))","v":0},{"$f":"IFERROR(VLOOKUP(INDEX($A:$O,ROW(),MATCH('Rapportage per vraag'!$C$12,'Data leveranciersbeoordeling'!$1:$1,0)),Leveranciersbeoordeling!$H$1:$I$5,2,FALSE),0)","v":0},0]
["",null,null,null,null,null,null,null,null,null,null,null,null,null,null,{"$f":"INDEX($A:$O,ROW(),MATCH('Rapportage per vraag'!$C$12,'Data leveranciersbeoordeling'!$1:$1,0))","v":0},{"$f":"IFERROR(VLOOKUP(INDEX($A:$O,ROW(),MATCH('Rapportage per vraag'!$C$12,'Data leveranciersbeoordeling'!$1:$1,0)),Leveranciersbeoordeling!$H$1:$I$5,2,FALSE),0)","v":0},0]
["",null,null,null,null,null,null,null,null,null,null,null,null,null,null,{"$f":"INDEX($A:$O,ROW(),MATCH('Rapportage per vraag'!$C$12,'Data leveranciersbeoordeling'!$1:$1,0))","v":0},{"$f":"IFERROR(VLOOKUP(INDEX($A:$O,ROW(),MATCH('Rapportage per vraag'!$C$12,'Data leveranciersbeoordeling'!$1:$1,0)),Leveranciersbeoordeling!$H$1:$I$5,2,FALSE),0)","v":0},0]
["",null,null,null,null,null,null,null,null,null,null,null,null,null,null,{"$f":"INDEX($A:$O,ROW(),MATCH('Rapportage per vraag'!$C$12,'Data leveranciersbeoordeling'!$1:$1,0))","v":0},{"$f":"IFERROR(VLOOKUP(INDEX($A:$O,ROW(),MATCH('Rapportage per vraag'!$C$12,'Data leveranciersbeoordeling'!$1:$1,0)),Leveranciersbeoordeling!$H$1:$I$5,2,FALSE),0)","v":0},0]
["",null,null,null,null,null,null,null,null,null,null,null,null,null,null,{"$f":"INDEX($A:$O,ROW(),MATCH('Rapportage per vraag'!$C$12,'Data leveranciersbeoordeling'!$1:$1,0))","v":0},{"$f":"IFERROR(VLOOKUP(INDEX($A:$O,ROW(),MATCH('Rapportage per vraag'!$C$12,'Data leveranciersbeoordeling'!$1:$1,0)),Leveranciersbeoordeling!$H$1:$I$5,2,FALSE),0)","v":0},0]
["",null,null,null,null,null,null,null,null,null,null,null,null,null,null,{"$f":"INDEX($A:$O,ROW(),MATCH('Rapportage per vraag'!$C$12,'Data leveranciersbeoordeling'!$1:$1,0))","v":0},{"$f":"IFERROR(VLOOKUP(INDEX($A:$O,ROW(),MATCH('Rapportage per vraag'!$C$12,'Data leveranciersbeoordeling'!$1:$1,0)),Leveranciersbeoordeling!$H$1:$I$5,2,FALSE),0)","v":0},0]
["",null,null,null,null,null,null,null,null,null,null,null,null,null,null,{"$f":"INDEX($A:$O,ROW(),MATCH('Rapportage per vraag'!$C$12,'Data leveranciersbeoordeling'!$1:$1,0))","v":0},{"$f":"IFERROR(VLOOKUP(INDEX($A:$O,ROW(),MATCH('Rapportage per vraag'!$C$12,'Data leveranciersbeoordeling'!$1:$1,0)),Leveranciersbeoordeling!$H$1:$I$5,2,FALSE),0)","v":0},0]
["",null,null,null,null,null,null,null,null,null,null,null,null,null,null,{"$f":"INDEX($A:$O,ROW(),MATCH('Rapportage per vraag'!$C$12,'Data leveranciersbeoordeling'!$1:$1,0))","v":0},{"$f":"IFERROR(VLOOKUP(INDEX($A:$O,ROW(),MATCH('Rapportage per vraag'!$C$12,'Data leveranciersbeoordeling'!$1:$1,0)),Leveranciersbeoordeling!$H$1:$I$5,2,FALSE),0)","v":0},0]
["",null,null,null,null,null,null,null,null,null,null,null,null,null,null,{"$f":"INDEX($A:$O,ROW(),MATCH('Rapportage per vraag'!$C$12,'Data leveranciersbeoordeling'!$1:$1,0))","v":0},{"$f":"IFERROR(VLOOKUP(INDEX($A:$O,ROW(),MATCH('Rapportage per vraag'!$C$12,'Data leveranciersbeoordeling'!$1:$1,0)),Leveranciersbeoordeling!$H$1:$I$5,2,FALSE),0)","v":0},0]
["",null,null,null,null,null,null,null,null,null,null,null,null,null,null,{"$f":"INDEX($A:$O,ROW(),MATCH('Rapportage per vraag'!$C$12,'Data leveranciersbeoordeling'!$1:$1,0))","v":0},{"$f":"IFERROR(VLOOKUP(INDEX($A:$O,ROW(),MATCH('Rapportage per vraag'!$C$12,'Data leveranciersbeoordeling'!$1:$1,0)),Leveranciersbeoordeling!$H$1:$I$5,2,FALSE),0)","v":0},0]
["",null,null,null,null,null,null,null,null,null,null,null,null,null,null,{"$f":"INDEX($A:$O,ROW(),MATCH('Rapportage per vraag'!$C$12,'Data leveranciersbeoordeling'!$1:$1,0))","v":0},{"$f":"IFERROR(VLOOKUP(INDEX($A:$O,ROW(),MATCH('Rapportage per vraag'!$C$12,'Data leveranciersbeoordeling'!$1:$1,0)),Leveranciersbeoordeling!$H$1:$I$5,2,FALSE),0)","v":0},0]
["",null,null,null,null,null,null,null,null,null,null,null,null,null,null,{"$f":"INDEX($A:$O,ROW(),MATCH('Rapportage per vraag'!$C$12,'Data leveranciersbeoordeling'!$1:$1,0))","v":0},{"$f":"IFERROR(VLOOKUP(INDEX($A:$O,ROW(),MATCH('Rapportage per vraag'!$C$12,'Data leveranciersbeoordeling'!$1:$1,0)),Leveranciersbeoordeling!$H$1:$I$5,2,FALSE),0)","v":0},0]
["",null,null,null,null,null,null,null,null,null,null,null,null,null,null,{"$f":"INDEX($A:$O,ROW(),MATCH('Rapportage per vraag'!$C$12,'Data leveranciersbeoordeling'!$1:$1,0))","v":0},{"$f":"IFERROR(VLOOKUP(INDEX($A:$O,ROW(),MATCH('Rapportage per vraag'!$C$12,'Data leveranciersbeoordeling'!$1:$1,0)),Leveranciersbeoordeling!$H$1:$I$5,2,FALSE),0)","v":0},0]
["",null,null,null,null,null,null,null,null,null,null,null,null,null,null,{"$f":"INDEX($A:$O,ROW(),MATCH('Rapportage per vraag'!$C$12,'Data leveranciersbeoordeling'!$1:$1,0))","v":0},{"$f":"IFERROR(VLOOKUP(INDEX($A:$O,ROW(),MATCH('Rapportage per vraag'!$C$12,'Data leveranciersbeoordeling'!$1:$1,0)),Leveranciersbeoordeling!$H$1:$I$5,2,FALSE),0)","v":0},0]
["",null,null,null,null,null,null,null,null,null,null,null,null,null,null,{"$f":"INDEX($A:$O,ROW(),MATCH('Rapportage per vraag'!$C$12,'Data leveranciersbeoordeling'!$1:$1,0))","v":0},{"$f":"IFERROR(VLOOKUP(INDEX($A:$O,ROW(),MATCH('Rapportage per vraag'!$C$12,'Data leveranciersbeoordeling'!$1:$1,0)),Leveranciersbeoordeling!$H$1:$I$5,2,FALSE),0)","v":0},0]
["",null,null,null,null,null,null,null,null,null,null,null,null,null,null,{"$f":"INDEX($A:$O,ROW(),MATCH('Rapportage per vraag'!$C$12,'Data leveranciersbeoordeling'!$1:$1,0))","v":0},{"$f":"IFERROR(VLOOKUP(INDEX($A:$O,ROW(),MATCH('Rapportage per vraag'!$C$12,'Data leveranciersbeoordeling'!$1:$1,0)),Leveranciersbeoordeling!$H$1:$I$5,2,FALSE),0)","v":0},0]
["",null,null,null,null,null,null,null,null,null,null,null,null,null,null,{"$f":"INDEX($A:$O,ROW(),MATCH('Rapportage per vraag'!$C$12,'Data leveranciersbeoordeling'!$1:$1,0))","v":0},{"$f":"IFERROR(VLOOKUP(INDEX($A:$O,ROW(),MATCH('Rapportage per vraag'!$C$12,'Data leveranciersbeoordeling'!$1:$1,0)),Leveranciersbeoordeling!$H$1:$I$5,2,FALSE),0)","v":0},0]
["",null,null,null,null,null,null,null,null,null,null,null,null,null,null,{"$f":"INDEX($A:$O,ROW(),MATCH('Rapportage per vraag'!$C$12,'Data leveranciersbeoordeling'!$1:$1,0))","v":0},{"$f":"IFERROR(VLOOKUP(INDEX($A:$O,ROW(),MATCH('Rapportage per vraag'!$C$12,'Data leveranciersbeoordeling'!$1:$1,0)),Leveranciersbeoordeling!$H$1:$I$5,2,FALSE),0)","v":0},0]
["",null,null,null,null,null,null,null,null,null,null,null,null,null,null,{"$f":"INDEX($A:$O,ROW(),MATCH('Rapportage per vraag'!$C$12,'Data leveranciersbeoordeling'!$1:$1,0))","v":0},{"$f":"IFERROR(VLOOKUP(INDEX($A:$O,ROW(),MATCH('Rapportage per vraag'!$C$12,'Data leveranciersbeoordeling'!$1:$1,0)),Leveranciersbeoordeling!$H$1:$I$5,2,FALSE),0)","v":0},0]
["",null,null,null,null,null,null,null,null,null,null,null,null,null,null,{"$f":"INDEX($A:$O,ROW(),MATCH('Rapportage per vraag'!$C$12,'Data leveranciersbeoordeling'!$1:$1,0))","v":0},{"$f":"IFERROR(VLOOKUP(INDEX($A:$O,ROW(),MATCH('Rapportage per vraag'!$C$12,'Data leveranciersbeoordeling'!$1:$1,0)),Leveranciersbeoordeling!$H$1:$I$5,2,FALSE),0)","v":0},0]
["",null,null,null,null,null,null,null,null,null,null,null,null,null,null,{"$f":"INDEX($A:$O,ROW(),MATCH('Rapportage per vraag'!$C$12,'Data leveranciersbeoordeling'!$1:$1,0))","v":0},{"$f":"IFERROR(VLOOKUP(INDEX($A:$O,ROW(),MATCH('Rapportage per vraag'!$C$12,'Data leveranciersbeoordeling'!$1:$1,0)),Leveranciersbeoordeling!$H$1:$I$5,2,FALSE),0)","v":0},0]
["",null,null,null,null,null,null,null,null,null,null,null,null,null,null,{"$f":"INDEX($A:$O,ROW(),MATCH('Rapportage per vraag'!$C$12,'Data leveranciersbeoordeling'!$1:$1,0))","v":0},{"$f":"IFERROR(VLOOKUP(INDEX($A:$O,ROW(),MATCH('Rapportage per vraag'!$C$12,'Data leveranciersbeoordeling'!$1:$1,0)),Leveranciersbeoordeling!$H$1:$I$5,2,FALSE),0)","v":0},0]
["",null,null,null,null,null,null,null,null,null,null,null,null,null,null,{"$f":"INDEX($A:$O,ROW(),MATCH('Rapportage per vraag'!$C$12,'Data leveranciersbeoordeling'!$1:$1,0))","v":0},{"$f":"IFERROR(VLOOKUP(INDEX($A:$O,ROW(),MATCH('Rapportage per vraag'!$C$12,'Data leveranciersbeoordeling'!$1:$1,0)),Leveranciersbeoordeling!$H$1:$I$5,2,FALSE),0)","v":0},0]
["",null,null,null,null,null,null,null,null,null,null,null,null,null,null,{"$f":"INDEX($A:$O,ROW(),MATCH('Rapportage per vraag'!$C$12,'Data leveranciersbeoordeling'!$1:$1,0))","v":0},{"$f":"IFERROR(VLOOKUP(INDEX($A:$O,ROW(),MATCH('Rapportage per vraag'!$C$12,'Data leveranciersbeoordeling'!$1:$1,0)),Leveranciersbeoordeling!$H$1:$I$5,2,FALSE),0)","v":0},0]
["",null,null,null,null,null,null,null,null,null,null,null,null,null,null,{"$f":"INDEX($A:$O,ROW(),MATCH('Rapportage per vraag'!$C$12,'Data leveranciersbeoordeling'!$1:$1,0))","v":0},{"$f":"IFERROR(VLOOKUP(INDEX($A:$O,ROW(),MATCH('Rapportage per vraag'!$C$12,'Data leveranciersbeoordeling'!$1:$1,0)),Leveranciersbeoordeling!$H$1:$I$5,2,FALSE),0)","v":0},0]
["",null,null,null,null,null,null,null,null,null,null,null,null,null,null,{"$f":"INDEX($A:$O,ROW(),MATCH('Rapportage per vraag'!$C$12,'Data leveranciersbeoordeling'!$1:$1,0))","v":0},{"$f":"IFERROR(VLOOKUP(INDEX($A:$O,ROW(),MATCH('Rapportage per vraag'!$C$12,'Data leveranciersbeoordeling'!$1:$1,0)),Leveranciersbeoordeling!$H$1:$I$5,2,FALSE),0)","v":0},0]
["",null,null,null,null,null,null,null,null,null,null,null,null,null,null,{"$f":"INDEX($A:$O,ROW(),MATCH('Rapportage per vraag'!$C$12,'Data leveranciersbeoordeling'!$1:$1,0))","v":0},{"$f":"IFERROR(VLOOKUP(INDEX($A:$O,ROW(),MATCH('Rapportage per vraag'!$C$12,'Data leveranciersbeoordeling'!$1:$1,0)),Leveranciersbeoordeling!$H$1:$I$5,2,FALSE),0)","v":0},0]
["",null,null,null,null,null,null,null,null,null,null,null,null,null,null,{"$f":"INDEX($A:$O,ROW(),MATCH('Rapportage per vraag'!$C$12,'Data leveranciersbeoordeling'!$1:$1,0))","v":0},{"$f":"IFERROR(VLOOKUP(INDEX($A:$O,ROW(),MATCH('Rapportage per vraag'!$C$12,'Data leveranciersbeoordeling'!$1:$1,0)),Leveranciersbeoordeling!$H$1:$I$5,2,FALSE),0)","v":0},0]
["",null,null,null,null,null,null,null,null,null,null,null,null,null,null,{"$f":"INDEX($A:$O,ROW(),MATCH('Rapportage per vraag'!$C$12,'Data leveranciersbeoordeling'!$1:$1,0))","v":0},{"$f":"IFERROR(VLOOKUP(INDEX($A:$O,ROW(),MATCH('Rapportage per vraag'!$C$12,'Data leveranciersbeoordeling'!$1:$1,0)),Leveranciersbeoordeling!$H$1:$I$5,2,FALSE),0)","v":0},0]
["",null,null,null,null,null,null,null,null,null,null,null,null,null,null,{"$f":"INDEX($A:$O,ROW(),MATCH('Rapportage per vraag'!$C$12,'Data leveranciersbeoordeling'!$1:$1,0))","v":0},{"$f":"IFERROR(VLOOKUP(INDEX($A:$O,ROW(),MATCH('Rapportage per vraag'!$C$12,'Data leveranciersbeoordeling'!$1:$1,0)),Leveranciersbeoordeling!$H$1:$I$5,2,FALSE),0)","v":0},0]
["",null,null,null,null,null,null,null,null,null,null,null,null,null,null,{"$f":"INDEX($A:$O,ROW(),MATCH('Rapportage per vraag'!$C$12,'Data leveranciersbeoordeling'!$1:$1,0))","v":0},{"$f":"IFERROR(VLOOKUP(INDEX($A:$O,ROW(),MATCH('Rapportage per vraag'!$C$12,'Data leveranciersbeoordeling'!$1:$1,0)),Leveranciersbeoordeling!$H$1:$I$5,2,FALSE),0)","v":0},0]
["",null,null,null,null,null,null,null,null,null,null,null,null,null,null,{"$f":"INDEX($A:$O,ROW(),MATCH('Rapportage per vraag'!$C$12,'Data leveranciersbeoordeling'!$1:$1,0))","v":0},{"$f":"IFERROR(VLOOKUP(INDEX($A:$O,ROW(),MATCH('Rapportage per vraag'!$C$12,'Data leveranciersbeoordeling'!$1:$1,0)),Leveranciersbeoordeling!$H$1:$I$5,2,FALSE),0)","v":0},0]
["",null,null,null,null,null,null,null,null,null,null,null,null,null,null,{"$f":"INDEX($A:$O,ROW(),MATCH('Rapportage per vraag'!$C$12,'Data leveranciersbeoordeling'!$1:$1,0))","v":0},{"$f":"IFERROR(VLOOKUP(INDEX($A:$O,ROW(),MATCH('Rapportage per vraag'!$C$12,'Data leveranciersbeoordeling'!$1:$1,0)),Leveranciersbeoordeling!$H$1:$I$5,2,FALSE),0)","v":0},0]
["",null,null,null,null,null,null,null,null,null,null,null,null,null,null,{"$f":"INDEX($A:$O,ROW(),MATCH('Rapportage per vraag'!$C$12,'Data leveranciersbeoordeling'!$1:$1,0))","v":0},{"$f":"IFERROR(VLOOKUP(INDEX($A:$O,ROW(),MATCH('Rapportage per vraag'!$C$12,'Data leveranciersbeoordeling'!$1:$1,0)),Leveranciersbeoordeling!$H$1:$I$5,2,FALSE),0)","v":0},0]
["",null,null,null,null,null,null,null,null,null,null,null,null,null,null,{"$f":"INDEX($A:$O,ROW(),MATCH('Rapportage per vraag'!$C$12,'Data leveranciersbeoordeling'!$1:$1,0))","v":0},{"$f":"IFERROR(VLOOKUP(INDEX($A:$O,ROW(),MATCH('Rapportage per vraag'!$C$12,'Data leveranciersbeoordeling'!$1:$1,0)),Leveranciersbeoordeling!$H$1:$I$5,2,FALSE),0)","v":0},0]
["",null,null,null,null,null,null,null,null,null,null,null,null,null,null,{"$f":"INDEX($A:$O,ROW(),MATCH('Rapportage per vraag'!$C$12,'Data leveranciersbeoordeling'!$1:$1,0))","v":0},{"$f":"IFERROR(VLOOKUP(INDEX($A:$O,ROW(),MATCH('Rapportage per vraag'!$C$12,'Data leveranciersbeoordeling'!$1:$1,0)),Leveranciersbeoordeling!$H$1:$I$5,2,FALSE),0)","v":0},0]
["",null,null,null,null,null,null,null,null,null,null,null,null,null,null,{"$f":"INDEX($A:$O,ROW(),MATCH('Rapportage per vraag'!$C$12,'Data leveranciersbeoordeling'!$1:$1,0))","v":0},{"$f":"IFERROR(VLOOKUP(INDEX($A:$O,ROW(),MATCH('Rapportage per vraag'!$C$12,'Data leveranciersbeoordeling'!$1:$1,0)),Leveranciersbeoordeling!$H$1:$I$5,2,FALSE),0)","v":0},0]
[{"$f":"CONCATENATE(B7619,C7619,D7619)","v":""},null,null,null,null,null,null,null,null,null,null,null,null,null,null,{"$f":"INDEX($A:$O,ROW(),MATCH('Rapportage per vraag'!$C$12,'Data leveranciersbeoordeling'!$1:$1,0))","v":0},{"$f":"IFERROR(VLOOKUP(INDEX($A:$O,ROW(),MATCH('Rapportage per vraag'!$C$12,'Data leveranciersbeoordeling'!$1:$1,0)),Leveranciersbeoordeling!$H$1:$I$5,2,FALSE),0)","v":0},0]
["",null,null,null,null,null,null,null,null,null,null,null,null,null,null,{"$f":"INDEX($A:$O,ROW(),MATCH('Rapportage per vraag'!$C$12,'Data leveranciersbeoordeling'!$1:$1,0))","v":0},{"$f":"IFERROR(VLOOKUP(INDEX($A:$O,ROW(),MATCH('Rapportage per vraag'!$C$12,'Data leveranciersbeoordeling'!$1:$1,0)),Leveranciersbeoordeling!$H$1:$I$5,2,FALSE),0)","v":0},{"$f":"IF(T(P7622)=P7622,Q7622,P7622)","v":0}]
["",null,null,null,null,null,null,null,null,null,null,null,null,null,null,{"$f":"INDEX($A:$O,ROW(),MATCH('Rapportage per vraag'!$C$12,'Data leveranciersbeoordeling'!$1:$1,0))","v":0},{"$f":"IFERROR(VLOOKUP(INDEX($A:$O,ROW(),MATCH('Rapportage per vraag'!$C$12,'Data leveranciersbeoordeling'!$1:$1,0)),Leveranciersbeoordeling!$H$1:$I$5,2,FALSE),0)","v":0},0]
["",null,null,null,null,null,null,null,null,null,null,null,null,null,null,{"$f":"INDEX($A:$O,ROW(),MATCH('Rapportage per vraag'!$C$12,'Data leveranciersbeoordeling'!$1:$1,0))","v":0},{"$f":"IFERROR(VLOOKUP(INDEX($A:$O,ROW(),MATCH('Rapportage per vraag'!$C$12,'Data leveranciersbeoordeling'!$1:$1,0)),Leveranciersbeoordeling!$H$1:$I$5,2,FALSE),0)","v":0},0]
["",null,null,null,null,null,null,null,null,null,null,null,null,null,null,{"$f":"INDEX($A:$O,ROW(),MATCH('Rapportage per vraag'!$C$12,'Data leveranciersbeoordeling'!$1:$1,0))","v":0},{"$f":"IFERROR(VLOOKUP(INDEX($A:$O,ROW(),MATCH('Rapportage per vraag'!$C$12,'Data leveranciersbeoordeling'!$1:$1,0)),Leveranciersbeoordeling!$H$1:$I$5,2,FALSE),0)","v":0},0]
["",null,null,null,null,null,null,null,null,null,null,null,null,null,null,{"$f":"INDEX($A:$O,ROW(),MATCH('Rapportage per vraag'!$C$12,'Data leveranciersbeoordeling'!$1:$1,0))","v":0},{"$f":"IFERROR(VLOOKUP(INDEX($A:$O,ROW(),MATCH('Rapportage per vraag'!$C$12,'Data leveranciersbeoordeling'!$1:$1,0)),Leveranciersbeoordeling!$H$1:$I$5,2,FALSE),0)","v":0},0]
["",null,null,null,null,null,null,null,null,null,null,null,null,null,null,{"$f":"INDEX($A:$O,ROW(),MATCH('Rapportage per vraag'!$C$12,'Data leveranciersbeoordeling'!$1:$1,0))","v":0},{"$f":"IFERROR(VLOOKUP(INDEX($A:$O,ROW(),MATCH('Rapportage per vraag'!$C$12,'Data leveranciersbeoordeling'!$1:$1,0)),Leveranciersbeoordeling!$H$1:$I$5,2,FALSE),0)","v":0},0]
["",null,null,null,null,null,null,null,null,null,null,null,null,null,null,{"$f":"INDEX($A:$O,ROW(),MATCH('Rapportage per vraag'!$C$12,'Data leveranciersbeoordeling'!$1:$1,0))","v":0},{"$f":"IFERROR(VLOOKUP(INDEX($A:$O,ROW(),MATCH('Rapportage per vraag'!$C$12,'Data leveranciersbeoordeling'!$1:$1,0)),Leveranciersbeoordeling!$H$1:$I$5,2,FALSE),0)","v":0},0]
["",null,null,null,null,null,null,null,null,null,null,null,null,null,null,{"$f":"INDEX($A:$O,ROW(),MATCH('Rapportage per vraag'!$C$12,'Data leveranciersbeoordeling'!$1:$1,0))","v":0},{"$f":"IFERROR(VLOOKUP(INDEX($A:$O,ROW(),MATCH('Rapportage per vraag'!$C$12,'Data leveranciersbeoordeling'!$1:$1,0)),Leveranciersbeoordeling!$H$1:$I$5,2,FALSE),0)","v":0},0]
["",null,null,null,null,null,null,null,null,null,null,null,null,null,null,{"$f":"INDEX($A:$O,ROW(),MATCH('Rapportage per vraag'!$C$12,'Data leveranciersbeoordeling'!$1:$1,0))","v":0},{"$f":"IFERROR(VLOOKUP(INDEX($A:$O,ROW(),MATCH('Rapportage per vraag'!$C$12,'Data leveranciersbeoordeling'!$1:$1,0)),Leveranciersbeoordeling!$H$1:$I$5,2,FALSE),0)","v":0},0]
["",null,null,null,null,null,null,null,null,null,null,null,null,null,null,{"$f":"INDEX($A:$O,ROW(),MATCH('Rapportage per vraag'!$C$12,'Data leveranciersbeoordeling'!$1:$1,0))","v":0},{"$f":"IFERROR(VLOOKUP(INDEX($A:$O,ROW(),MATCH('Rapportage per vraag'!$C$12,'Data leveranciersbeoordeling'!$1:$1,0)),Leveranciersbeoordeling!$H$1:$I$5,2,FALSE),0)","v":0},0]
["",null,null,null,null,null,null,null,null,null,null,null,null,null,null,{"$f":"INDEX($A:$O,ROW(),MATCH('Rapportage per vraag'!$C$12,'Data leveranciersbeoordeling'!$1:$1,0))","v":0},{"$f":"IFERROR(VLOOKUP(INDEX($A:$O,ROW(),MATCH('Rapportage per vraag'!$C$12,'Data leveranciersbeoordeling'!$1:$1,0)),Leveranciersbeoordeling!$H$1:$I$5,2,FALSE),0)","v":0},0]
["",null,null,null,null,null,null,null,null,null,null,null,null,null,null,{"$f":"INDEX($A:$O,ROW(),MATCH('Rapportage per vraag'!$C$12,'Data leveranciersbeoordeling'!$1:$1,0))","v":0},{"$f":"IFERROR(VLOOKUP(INDEX($A:$O,ROW(),MATCH('Rapportage per vraag'!$C$12,'Data leveranciersbeoordeling'!$1:$1,0)),Leveranciersbeoordeling!$H$1:$I$5,2,FALSE),0)","v":0},0]
["",null,null,null,null,null,null,null,null,null,null,null,null,null,null,{"$f":"INDEX($A:$O,ROW(),MATCH('Rapportage per vraag'!$C$12,'Data leveranciersbeoordeling'!$1:$1,0))","v":0},{"$f":"IFERROR(VLOOKUP(INDEX($A:$O,ROW(),MATCH('Rapportage per vraag'!$C$12,'Data leveranciersbeoordeling'!$1:$1,0)),Leveranciersbeoordeling!$H$1:$I$5,2,FALSE),0)","v":0},0]
["",null,null,null,null,null,null,null,null,null,null,null,null,null,null,{"$f":"INDEX($A:$O,ROW(),MATCH('Rapportage per vraag'!$C$12,'Data leveranciersbeoordeling'!$1:$1,0))","v":0},{"$f":"IFERROR(VLOOKUP(INDEX($A:$O,ROW(),MATCH('Rapportage per vraag'!$C$12,'Data leveranciersbeoordeling'!$1:$1,0)),Leveranciersbeoordeling!$H$1:$I$5,2,FALSE),0)","v":0},0]
["",null,null,null,null,null,null,null,null,null,null,null,null,null,null,{"$f":"INDEX($A:$O,ROW(),MATCH('Rapportage per vraag'!$C$12,'Data leveranciersbeoordeling'!$1:$1,0))","v":0},{"$f":"IFERROR(VLOOKUP(INDEX($A:$O,ROW(),MATCH('Rapportage per vraag'!$C$12,'Data leveranciersbeoordeling'!$1:$1,0)),Leveranciersbeoordeling!$H$1:$I$5,2,FALSE),0)","v":0},0]
["",null,null,null,null,null,null,null,null,null,null,null,null,null,null,{"$f":"INDEX($A:$O,ROW(),MATCH('Rapportage per vraag'!$C$12,'Data leveranciersbeoordeling'!$1:$1,0))","v":0},{"$f":"IFERROR(VLOOKUP(INDEX($A:$O,ROW(),MATCH('Rapportage per vraag'!$C$12,'Data leveranciersbeoordeling'!$1:$1,0)),Leveranciersbeoordeling!$H$1:$I$5,2,FALSE),0)","v":0},0]
[{"$f":"CONCATENATE(B7683,C7683,D7683)","v":""},null,null,null,null,null,null,null,null,null,null,null,null,null,null,{"$f":"INDEX($A:$O,ROW(),MATCH('Rapportage per vraag'!$C$12,'Data leveranciersbeoordeling'!$1:$1,0))","v":0},{"$f":"IFERROR(VLOOKUP(INDEX($A:$O,ROW(),MATCH('Rapportage per vraag'!$C$12,'Data leveranciersbeoordeling'!$1:$1,0)),Leveranciersbeoordeling!$H$1:$I$5,2,FALSE),0)","v":0},0]
["",null,null,null,null,null,null,null,null,null,null,null,null,null,null,{"$f":"INDEX($A:$O,ROW(),MATCH('Rapportage per vraag'!$C$12,'Data leveranciersbeoordeling'!$1:$1,0))","v":0},{"$f":"IFERROR(VLOOKUP(INDEX($A:$O,ROW(),MATCH('Rapportage per vraag'!$C$12,'Data leveranciersbeoordeling'!$1:$1,0)),Leveranciersbeoordeling!$H$1:$I$5,2,FALSE),0)","v":0},0]
["",null,null,null,null,null,null,null,null,null,null,null,null,null,null,{"$f":"INDEX($A:$O,ROW(),MATCH('Rapportage per vraag'!$C$12,'Data leveranciersbeoordeling'!$1:$1,0))","v":0},{"$f":"IFERROR(VLOOKUP(INDEX($A:$O,ROW(),MATCH('Rapportage per vraag'!$C$12,'Data leveranciersbeoordeling'!$1:$1,0)),Leveranciersbeoordeling!$H$1:$I$5,2,FALSE),0)","v":0},0]
["",null,null,null,null,null,null,null,null,null,null,null,null,null,null,{"$f":"INDEX($A:$O,ROW(),MATCH('Rapportage per vraag'!$C$12,'Data leveranciersbeoordeling'!$1:$1,0))","v":0},{"$f":"IFERROR(VLOOKUP(INDEX($A:$O,ROW(),MATCH('Rapportage per vraag'!$C$12,'Data leveranciersbeoordeling'!$1:$1,0)),Leveranciersbeoordeling!$H$1:$I$5,2,FALSE),0)","v":0},0]
["",null,null,null,null,null,null,null,null,null,null,null,null,null,null,{"$f":"INDEX($A:$O,ROW(),MATCH('Rapportage per vraag'!$C$12,'Data leveranciersbeoordeling'!$1:$1,0))","v":0},{"$f":"IFERROR(VLOOKUP(INDEX($A:$O,ROW(),MATCH('Rapportage per vraag'!$C$12,'Data leveranciersbeoordeling'!$1:$1,0)),Leveranciersbeoordeling!$H$1:$I$5,2,FALSE),0)","v":0},0]
["",null,null,null,null,null,null,null,null,null,null,null,null,null,null,{"$f":"INDEX($A:$O,ROW(),MATCH('Rapportage per vraag'!$C$12,'Data leveranciersbeoordeling'!$1:$1,0))","v":0},{"$f":"IFERROR(VLOOKUP(INDEX($A:$O,ROW(),MATCH('Rapportage per vraag'!$C$12,'Data leveranciersbeoordeling'!$1:$1,0)),Leveranciersbeoordeling!$H$1:$I$5,2,FALSE),0)","v":0},0]
["",null,null,null,null,null,null,null,null,null,null,null,null,null,null,{"$f":"INDEX($A:$O,ROW(),MATCH('Rapportage per vraag'!$C$12,'Data leveranciersbeoordeling'!$1:$1,0))","v":0},{"$f":"IFERROR(VLOOKUP(INDEX($A:$O,ROW(),MATCH('Rapportage per vraag'!$C$12,'Data leveranciersbeoordeling'!$1:$1,0)),Leveranciersbeoordeling!$H$1:$I$5,2,FALSE),0)","v":0},0]
["",null,null,null,null,null,null,null,null,null,null,null,null,null,null,{"$f":"INDEX($A:$O,ROW(),MATCH('Rapportage per vraag'!$C$12,'Data leveranciersbeoordeling'!$1:$1,0))","v":0},{"$f":"IFERROR(VLOOKUP(INDEX($A:$O,ROW(),MATCH('Rapportage per vraag'!$C$12,'Data leveranciersbeoordeling'!$1:$1,0)),Leveranciersbeoordeling!$H$1:$I$5,2,FALSE),0)","v":0},0]
["",null,null,null,null,null,null,null,null,null,null,null,null,null,null,{"$f":"INDEX($A:$O,ROW(),MATCH('Rapportage per vraag'!$C$12,'Data leveranciersbeoordeling'!$1:$1,0))","v":0},{"$f":"IFERROR(VLOOKUP(INDEX($A:$O,ROW(),MATCH('Rapportage per vraag'!$C$12,'Data leveranciersbeoordeling'!$1:$1,0)),Leveranciersbeoordeling!$H$1:$I$5,2,FALSE),0)","v":0},0]
["",null,null,null,null,null,null,null,null,null,null,null,null,null,null,{"$f":"INDEX($A:$O,ROW(),MATCH('Rapportage per vraag'!$C$12,'Data leveranciersbeoordeling'!$1:$1,0))","v":0},{"$f":"IFERROR(VLOOKUP(INDEX($A:$O,ROW(),MATCH('Rapportage per vraag'!$C$12,'Data leveranciersbeoordeling'!$1:$1,0)),Leveranciersbeoordeling!$H$1:$I$5,2,FALSE),0)","v":0},0]
["",null,null,null,null,null,null,null,null,null,null,null,null,null,null,{"$f":"INDEX($A:$O,ROW(),MATCH('Rapportage per vraag'!$C$12,'Data leveranciersbeoordeling'!$1:$1,0))","v":0},{"$f":"IFERROR(VLOOKUP(INDEX($A:$O,ROW(),MATCH('Rapportage per vraag'!$C$12,'Data leveranciersbeoordeling'!$1:$1,0)),Leveranciersbeoordeling!$H$1:$I$5,2,FALSE),0)","v":0},0]
["",null,null,null,null,null,null,null,null,null,null,null,null,null,null,{"$f":"INDEX($A:$O,ROW(),MATCH('Rapportage per vraag'!$C$12,'Data leveranciersbeoordeling'!$1:$1,0))","v":0},{"$f":"IFERROR(VLOOKUP(INDEX($A:$O,ROW(),MATCH('Rapportage per vraag'!$C$12,'Data leveranciersbeoordeling'!$1:$1,0)),Leveranciersbeoordeling!$H$1:$I$5,2,FALSE),0)","v":0},0]
["",null,null,null,null,null,null,null,null,null,null,null,null,null,null,{"$f":"INDEX($A:$O,ROW(),MATCH('Rapportage per vraag'!$C$12,'Data leveranciersbeoordeling'!$1:$1,0))","v":0},{"$f":"IFERROR(VLOOKUP(INDEX($A:$O,ROW(),MATCH('Rapportage per vraag'!$C$12,'Data leveranciersbeoordeling'!$1:$1,0)),Leveranciersbeoordeling!$H$1:$I$5,2,FALSE),0)","v":0},0]
["",null,null,null,null,null,null,null,null,null,null,null,null,null,null,{"$f":"INDEX($A:$O,ROW(),MATCH('Rapportage per vraag'!$C$12,'Data leveranciersbeoordeling'!$1:$1,0))","v":0},{"$f":"IFERROR(VLOOKUP(INDEX($A:$O,ROW(),MATCH('Rapportage per vraag'!$C$12,'Data leveranciersbeoordeling'!$1:$1,0)),Leveranciersbeoordeling!$H$1:$I$5,2,FALSE),0)","v":0},0]
["",null,null,null,null,null,null,null,null,null,null,null,null,null,null,{"$f":"INDEX($A:$O,ROW(),MATCH('Rapportage per vraag'!$C$12,'Data leveranciersbeoordeling'!$1:$1,0))","v":0},{"$f":"IFERROR(VLOOKUP(INDEX($A:$O,ROW(),MATCH('Rapportage per vraag'!$C$12,'Data leveranciersbeoordeling'!$1:$1,0)),Leveranciersbeoordeling!$H$1:$I$5,2,FALSE),0)","v":0},0]
["",null,null,null,null,null,null,null,null,null,null,null,null,null,null,{"$f":"INDEX($A:$O,ROW(),MATCH('Rapportage per vraag'!$C$12,'Data leveranciersbeoordeling'!$1:$1,0))","v":0},{"$f":"IFERROR(VLOOKUP(INDEX($A:$O,ROW(),MATCH('Rapportage per vraag'!$C$12,'Data leveranciersbeoordeling'!$1:$1,0)),Leveranciersbeoordeling!$H$1:$I$5,2,FALSE),0)","v":0},0]
["",null,null,null,null,null,null,null,null,null,null,null,null,null,null,{"$f":"INDEX($A:$O,ROW(),MATCH('Rapportage per vraag'!$C$12,'Data leveranciersbeoordeling'!$1:$1,0))","v":0},{"$f":"IFERROR(VLOOKUP(INDEX($A:$O,ROW(),MATCH('Rapportage per vraag'!$C$12,'Data leveranciersbeoordeling'!$1:$1,0)),Leveranciersbeoordeling!$H$1:$I$5,2,FALSE),0)","v":0},0]
[{"$f":"CONCATENATE(B7747,C7747,D7747)","v":""},null,null,null,null,null,null,null,null,null,null,null,null,null,null,{"$f":"INDEX($A:$O,ROW(),MATCH('Rapportage per vraag'!$C$12,'Data leveranciersbeoordeling'!$1:$1,0))","v":0},{"$f":"IFERROR(VLOOKUP(INDEX($A:$O,ROW(),MATCH('Rapportage per vraag'!$C$12,'Data leveranciersbeoordeling'!$1:$1,0)),Leveranciersbeoordeling!$H$1:$I$5,2,FALSE),0)","v":0},0]
["",null,null,null,null,null,null,null,null,null,null,null,null,null,null,{"$f":"INDEX($A:$O,ROW(),MATCH('Rapportage per vraag'!$C$12,'Data leveranciersbeoordeling'!$1:$1,0))","v":0},{"$f":"IFERROR(VLOOKUP(INDEX($A:$O,ROW(),MATCH('Rapportage per vraag'!$C$12,'Data leveranciersbeoordeling'!$1:$1,0)),Leveranciersbeoordeling!$H$1:$I$5,2,FALSE),0)","v":0},0]
["",null,null,null,null,null,null,null,null,null,null,null,null,null,null,{"$f":"INDEX($A:$O,ROW(),MATCH('Rapportage per vraag'!$C$12,'Data leveranciersbeoordeling'!$1:$1,0))","v":0},{"$f":"IFERROR(VLOOKUP(INDEX($A:$O,ROW(),MATCH('Rapportage per vraag'!$C$12,'Data leveranciersbeoordeling'!$1:$1,0)),Leveranciersbeoordeling!$H$1:$I$5,2,FALSE),0)","v":0},0]
["",null,null,null,null,null,null,null,null,null,null,null,null,null,null,{"$f":"INDEX($A:$O,ROW(),MATCH('Rapportage per vraag'!$C$12,'Data leveranciersbeoordeling'!$1:$1,0))","v":0},{"$f":"IFERROR(VLOOKUP(INDEX($A:$O,ROW(),MATCH('Rapportage per vraag'!$C$12,'Data leveranciersbeoordeling'!$1:$1,0)),Leveranciersbeoordeling!$H$1:$I$5,2,FALSE),0)","v":0},0]
["",null,null,null,null,null,null,null,null,null,null,null,null,null,null,{"$f":"INDEX($A:$O,ROW(),MATCH('Rapportage per vraag'!$C$12,'Data leveranciersbeoordeling'!$1:$1,0))","v":0},{"$f":"IFERROR(VLOOKUP(INDEX($A:$O,ROW(),MATCH('Rapportage per vraag'!$C$12,'Data leveranciersbeoordeling'!$1:$1,0)),Leveranciersbeoordeling!$H$1:$I$5,2,FALSE),0)","v":0},0]
["",null,null,null,null,null,null,null,null,null,null,null,null,null,null,{"$f":"INDEX($A:$O,ROW(),MATCH('Rapportage per vraag'!$C$12,'Data leveranciersbeoordeling'!$1:$1,0))","v":0},{"$f":"IFERROR(VLOOKUP(INDEX($A:$O,ROW(),MATCH('Rapportage per vraag'!$C$12,'Data leveranciersbeoordeling'!$1:$1,0)),Leveranciersbeoordeling!$H$1:$I$5,2,FALSE),0)","v":0},0]
["",null,null,null,null,null,null,null,null,null,null,null,null,null,null,{"$f":"INDEX($A:$O,ROW(),MATCH('Rapportage per vraag'!$C$12,'Data leveranciersbeoordeling'!$1:$1,0))","v":0},{"$f":"IFERROR(VLOOKUP(INDEX($A:$O,ROW(),MATCH('Rapportage per vraag'!$C$12,'Data leveranciersbeoordeling'!$1:$1,0)),Leveranciersbeoordeling!$H$1:$I$5,2,FALSE),0)","v":0},0]
["",null,null,null,null,null,null,null,null,null,null,null,null,null,null,{"$f":"INDEX($A:$O,ROW(),MATCH('Rapportage per vraag'!$C$12,'Data leveranciersbeoordeling'!$1:$1,0))","v":0},{"$f":"IFERROR(VLOOKUP(INDEX($A:$O,ROW(),MATCH('Rapportage per vraag'!$C$12,'Data leveranciersbeoordeling'!$1:$1,0)),Leveranciersbeoordeling!$H$1:$I$5,2,FALSE),0)","v":0},0]
["",null,null,null,null,null,null,null,null,null,null,null,null,null,null,{"$f":"INDEX($A:$O,ROW(),MATCH('Rapportage per vraag'!$C$12,'Data leveranciersbeoordeling'!$1:$1,0))","v":0},{"$f":"IFERROR(VLOOKUP(INDEX($A:$O,ROW(),MATCH('Rapportage per vraag'!$C$12,'Data leveranciersbeoordeling'!$1:$1,0)),Leveranciersbeoordeling!$H$1:$I$5,2,FALSE),0)","v":0},0]
["",null,null,null,null,null,null,null,null,null,null,null,null,null,null,{"$f":"INDEX($A:$O,ROW(),MATCH('Rapportage per vraag'!$C$12,'Data leveranciersbeoordeling'!$1:$1,0))","v":0},{"$f":"IFERROR(VLOOKUP(INDEX($A:$O,ROW(),MATCH('Rapportage per vraag'!$C$12,'Data leveranciersbeoordeling'!$1:$1,0)),Leveranciersbeoordeling!$H$1:$I$5,2,FALSE),0)","v":0},0]
["",null,null,null,null,null,null,null,null,null,null,null,null,null,null,{"$f":"INDEX($A:$O,ROW(),MATCH('Rapportage per vraag'!$C$12,'Data leveranciersbeoordeling'!$1:$1,0))","v":0},{"$f":"IFERROR(VLOOKUP(INDEX($A:$O,ROW(),MATCH('Rapportage per vraag'!$C$12,'Data leveranciersbeoordeling'!$1:$1,0)),Leveranciersbeoordeling!$H$1:$I$5,2,FALSE),0)","v":0},0]
["",null,null,null,null,null,null,null,null,null,null,null,null,null,null,{"$f":"INDEX($A:$O,ROW(),MATCH('Rapportage per vraag'!$C$12,'Data leveranciersbeoordeling'!$1:$1,0))","v":0},{"$f":"IFERROR(VLOOKUP(INDEX($A:$O,ROW(),MATCH('Rapportage per vraag'!$C$12,'Data leveranciersbeoordeling'!$1:$1,0)),Leveranciersbeoordeling!$H$1:$I$5,2,FALSE),0)","v":0},0]
["",null,null,null,null,null,null,null,null,null,null,null,null,null,null,{"$f":"INDEX($A:$O,ROW(),MATCH('Rapportage per vraag'!$C$12,'Data leveranciersbeoordeling'!$1:$1,0))","v":0},{"$f":"IFERROR(VLOOKUP(INDEX($A:$O,ROW(),MATCH('Rapportage per vraag'!$C$12,'Data leveranciersbeoordeling'!$1:$1,0)),Leveranciersbeoordeling!$H$1:$I$5,2,FALSE),0)","v":0},0]
["",null,null,null,null,null,null,null,null,null,null,null,null,null,null,{"$f":"INDEX($A:$O,ROW(),MATCH('Rapportage per vraag'!$C$12,'Data leveranciersbeoordeling'!$1:$1,0))","v":0},{"$f":"IFERROR(VLOOKUP(INDEX($A:$O,ROW(),MATCH('Rapportage per vraag'!$C$12,'Data leveranciersbeoordeling'!$1:$1,0)),Leveranciersbeoordeling!$H$1:$I$5,2,FALSE),0)","v":0},0]
["",null,null,null,null,null,null,null,null,null,null,null,null,null,null,{"$f":"INDEX($A:$O,ROW(),MATCH('Rapportage per vraag'!$C$12,'Data leveranciersbeoordeling'!$1:$1,0))","v":0},{"$f":"IFERROR(VLOOKUP(INDEX($A:$O,ROW(),MATCH('Rapportage per vraag'!$C$12,'Data leveranciersbeoordeling'!$1:$1,0)),Leveranciersbeoordeling!$H$1:$I$5,2,FALSE),0)","v":0},0]
["",null,null,null,null,null,null,null,null,null,null,null,null,null,null,{"$f":"INDEX($A:$O,ROW(),MATCH('Rapportage per vraag'!$C$12,'Data leveranciersbeoordeling'!$1:$1,0))","v":0},{"$f":"IFERROR(VLOOKUP(INDEX($A:$O,ROW(),MATCH('Rapportage per vraag'!$C$12,'Data leveranciersbeoordeling'!$1:$1,0)),Leveranciersbeoordeling!$H$1:$I$5,2,FALSE),0)","v":0},0]
["",null,null,null,null,null,null,null,null,null,null,null,null,null,null,{"$f":"INDEX($A:$O,ROW(),MATCH('Rapportage per vraag'!$C$12,'Data leveranciersbeoordeling'!$1:$1,0))","v":0},{"$f":"IFERROR(VLOOKUP(INDEX($A:$O,ROW(),MATCH('Rapportage per vraag'!$C$12,'Data leveranciersbeoordeling'!$1:$1,0)),Leveranciersbeoordeling!$H$1:$I$5,2,FALSE),0)","v":0},0]
["",null,null,null,null,null,null,null,null,null,null,null,null,null,null,{"$f":"INDEX($A:$O,ROW(),MATCH('Rapportage per vraag'!$C$12,'Data leveranciersbeoordeling'!$1:$1,0))","v":0},{"$f":"IFERROR(VLOOKUP(INDEX($A:$O,ROW(),MATCH('Rapportage per vraag'!$C$12,'Data leveranciersbeoordeling'!$1:$1,0)),Leveranciersbeoordeling!$H$1:$I$5,2,FALSE),0)","v":0},0]
["",null,null,null,null,null,null,null,null,null,null,null,null,null,null,{"$f":"INDEX($A:$O,ROW(),MATCH('Rapportage per vraag'!$C$12,'Data leveranciersbeoordeling'!$1:$1,0))","v":0},{"$f":"IFERROR(VLOOKUP(INDEX($A:$O,ROW(),MATCH('Rapportage per vraag'!$C$12,'Data leveranciersbeoordeling'!$1:$1,0)),Leveranciersbeoordeling!$H$1:$I$5,2,FALSE),0)","v":0},0]
["",null,null,null,null,null,null,null,null,null,null,null,null,null,null,{"$f":"INDEX($A:$O,ROW(),MATCH('Rapportage per vraag'!$C$12,'Data leveranciersbeoordeling'!$1:$1,0))","v":0},{"$f":"IFERROR(VLOOKUP(INDEX($A:$O,ROW(),MATCH('Rapportage per vraag'!$C$12,'Data leveranciersbeoordeling'!$1:$1,0)),Leveranciersbeoordeling!$H$1:$I$5,2,FALSE),0)","v":0},0]
["",null,null,null,null,null,null,null,null,null,null,null,null,null,null,{"$f":"INDEX($A:$O,ROW(),MATCH('Rapportage per vraag'!$C$12,'Data leveranciersbeoordeling'!$1:$1,0))","v":0},{"$f":"IFERROR(VLOOKUP(INDEX($A:$O,ROW(),MATCH('Rapportage per vraag'!$C$12,'Data leveranciersbeoordeling'!$1:$1,0)),Leveranciersbeoordeling!$H$1:$I$5,2,FALSE),0)","v":0},0]
["",null,null,null,null,null,null,null,null,null,null,null,null,null,null,{"$f":"INDEX($A:$O,ROW(),MATCH('Rapportage per vraag'!$C$12,'Data leveranciersbeoordeling'!$1:$1,0))","v":0},{"$f":"IFERROR(VLOOKUP(INDEX($A:$O,ROW(),MATCH('Rapportage per vraag'!$C$12,'Data leveranciersbeoordeling'!$1:$1,0)),Leveranciersbeoordeling!$H$1:$I$5,2,FALSE),0)","v":0},0]
["",null,null,null,null,null,null,null,null,null,null,null,null,null,null,{"$f":"INDEX($A:$O,ROW(),MATCH('Rapportage per vraag'!$C$12,'Data leveranciersbeoordeling'!$1:$1,0))","v":0},{"$f":"IFERROR(VLOOKUP(INDEX($A:$O,ROW(),MATCH('Rapportage per vraag'!$C$12,'Data leveranciersbeoordeling'!$1:$1,0)),Leveranciersbeoordeling!$H$1:$I$5,2,FALSE),0)","v":0},0]
["",null,null,null,null,null,null,null,null,null,null,null,null,null,null,{"$f":"INDEX($A:$O,ROW(),MATCH('Rapportage per vraag'!$C$12,'Data leveranciersbeoordeling'!$1:$1,0))","v":0},{"$f":"IFERROR(VLOOKUP(INDEX($A:$O,ROW(),MATCH('Rapportage per vraag'!$C$12,'Data leveranciersbeoordeling'!$1:$1,0)),Leveranciersbeoordeling!$H$1:$I$5,2,FALSE),0)","v":0},0]
["",null,null,null,null,null,null,null,null,null,null,null,null,null,null,{"$f":"INDEX($A:$O,ROW(),MATCH('Rapportage per vraag'!$C$12,'Data leveranciersbeoordeling'!$1:$1,0))","v":0},{"$f":"IFERROR(VLOOKUP(INDEX($A:$O,ROW(),MATCH('Rapportage per vraag'!$C$12,'Data leveranciersbeoordeling'!$1:$1,0)),Leveranciersbeoordeling!$H$1:$I$5,2,FALSE),0)","v":0},0]
["",null,null,null,null,null,null,null,null,null,null,null,null,null,null,{"$f":"INDEX($A:$O,ROW(),MATCH('Rapportage per vraag'!$C$12,'Data leveranciersbeoordeling'!$1:$1,0))","v":0},{"$f":"IFERROR(VLOOKUP(INDEX($A:$O,ROW(),MATCH('Rapportage per vraag'!$C$12,'Data leveranciersbeoordeling'!$1:$1,0)),Leveranciersbeoordeling!$H$1:$I$5,2,FALSE),0)","v":0},0]
["",null,null,null,null,null,null,null,null,null,null,null,null,null,null,{"$f":"INDEX($A:$O,ROW(),MATCH('Rapportage per vraag'!$C$12,'Data leveranciersbeoordeling'!$1:$1,0))","v":0},{"$f":"IFERROR(VLOOKUP(INDEX($A:$O,ROW(),MATCH('Rapportage per vraag'!$C$12,'Data leveranciersbeoordeling'!$1:$1,0)),Leveranciersbeoordeling!$H$1:$I$5,2,FALSE),0)","v":0},0]
["",null,null,null,null,null,null,null,null,null,null,null,null,null,null,{"$f":"INDEX($A:$O,ROW(),MATCH('Rapportage per vraag'!$C$12,'Data leveranciersbeoordeling'!$1:$1,0))","v":0},{"$f":"IFERROR(VLOOKUP(INDEX($A:$O,ROW(),MATCH('Rapportage per vraag'!$C$12,'Data leveranciersbeoordeling'!$1:$1,0)),Leveranciersbeoordeling!$H$1:$I$5,2,FALSE),0)","v":0},0]
["",null,null,null,null,null,null,null,null,null,null,null,null,null,null,{"$f":"INDEX($A:$O,ROW(),MATCH('Rapportage per vraag'!$C$12,'Data leveranciersbeoordeling'!$1:$1,0))","v":0},{"$f":"IFERROR(VLOOKUP(INDEX($A:$O,ROW(),MATCH('Rapportage per vraag'!$C$12,'Data leveranciersbeoordeling'!$1:$1,0)),Leveranciersbeoordeling!$H$1:$I$5,2,FALSE),0)","v":0},0]
["",null,null,null,null,null,null,null,null,null,null,null,null,null,null,{"$f":"INDEX($A:$O,ROW(),MATCH('Rapportage per vraag'!$C$12,'Data leveranciersbeoordeling'!$1:$1,0))","v":0},{"$f":"IFERROR(VLOOKUP(INDEX($A:$O,ROW(),MATCH('Rapportage per vraag'!$C$12,'Data leveranciersbeoordeling'!$1:$1,0)),Leveranciersbeoordeling!$H$1:$I$5,2,FALSE),0)","v":0},0]
["",null,null,null,null,null,null,null,null,null,null,null,null,null,null,{"$f":"INDEX($A:$O,ROW(),MATCH('Rapportage per vraag'!$C$12,'Data leveranciersbeoordeling'!$1:$1,0))","v":0},{"$f":"IFERROR(VLOOKUP(INDEX($A:$O,ROW(),MATCH('Rapportage per vraag'!$C$12,'Data leveranciersbeoordeling'!$1:$1,0)),Leveranciersbeoordeling!$H$1:$I$5,2,FALSE),0)","v":0},0]
["",null,null,null,null,null,null,null,null,null,null,null,null,null,null,{"$f":"INDEX($A:$O,ROW(),MATCH('Rapportage per vraag'!$C$12,'Data leveranciersbeoordeling'!$1:$1,0))","v":0},{"$f":"IFERROR(VLOOKUP(INDEX($A:$O,ROW(),MATCH('Rapportage per vraag'!$C$12,'Data leveranciersbeoordeling'!$1:$1,0)),Leveranciersbeoordeling!$H$1:$I$5,2,FALSE),0)","v":0},0]
["",null,null,null,null,null,null,null,null,null,null,null,null,null,null,{"$f":"INDEX($A:$O,ROW(),MATCH('Rapportage per vraag'!$C$12,'Data leveranciersbeoordeling'!$1:$1,0))","v":0},{"$f":"IFERROR(VLOOKUP(INDEX($A:$O,ROW(),MATCH('Rapportage per vraag'!$C$12,'Data leveranciersbeoordeling'!$1:$1,0)),Leveranciersbeoordeling!$H$1:$I$5,2,FALSE),0)","v":0},0]
["",null,null,null,null,null,null,null,null,null,null,null,null,null,null,{"$f":"INDEX($A:$O,ROW(),MATCH('Rapportage per vraag'!$C$12,'Data leveranciersbeoordeling'!$1:$1,0))","v":0},{"$f":"IFERROR(VLOOKUP(INDEX($A:$O,ROW(),MATCH('Rapportage per vraag'!$C$12,'Data leveranciersbeoordeling'!$1:$1,0)),Leveranciersbeoordeling!$H$1:$I$5,2,FALSE),0)","v":0},0]
["",null,null,null,null,null,null,null,null,null,null,null,null,null,null,{"$f":"INDEX($A:$O,ROW(),MATCH('Rapportage per vraag'!$C$12,'Data leveranciersbeoordeling'!$1:$1,0))","v":0},{"$f":"IFERROR(VLOOKUP(INDEX($A:$O,ROW(),MATCH('Rapportage per vraag'!$C$12,'Data leveranciersbeoordeling'!$1:$1,0)),Leveranciersbeoordeling!$H$1:$I$5,2,FALSE),0)","v":0},0]
["",null,null,null,null,null,null,null,null,null,null,null,null,null,null,{"$f":"INDEX($A:$O,ROW(),MATCH('Rapportage per vraag'!$C$12,'Data leveranciersbeoordeling'!$1:$1,0))","v":0},{"$f":"IFERROR(VLOOKUP(INDEX($A:$O,ROW(),MATCH('Rapportage per vraag'!$C$12,'Data leveranciersbeoordeling'!$1:$1,0)),Leveranciersbeoordeling!$H$1:$I$5,2,FALSE),0)","v":0},0]
["",null,null,null,null,null,null,null,null,null,null,null,null,null,null,{"$f":"INDEX($A:$O,ROW(),MATCH('Rapportage per vraag'!$C$12,'Data leveranciersbeoordeling'!$1:$1,0))","v":0},{"$f":"IFERROR(VLOOKUP(INDEX($A:$O,ROW(),MATCH('Rapportage per vraag'!$C$12,'Data leveranciersbeoordeling'!$1:$1,0)),Leveranciersbeoordeling!$H$1:$I$5,2,FALSE),0)","v":0},0]
["",null,null,null,null,null,null,null,null,null,null,null,null,null,null,{"$f":"INDEX($A:$O,ROW(),MATCH('Rapportage per vraag'!$C$12,'Data leveranciersbeoordeling'!$1:$1,0))","v":0},{"$f":"IFERROR(VLOOKUP(INDEX($A:$O,ROW(),MATCH('Rapportage per vraag'!$C$12,'Data leveranciersbeoordeling'!$1:$1,0)),Leveranciersbeoordeling!$H$1:$I$5,2,FALSE),0)","v":0},0]
["",null,null,null,null,null,null,null,null,null,null,null,null,null,null,{"$f":"INDEX($A:$O,ROW(),MATCH('Rapportage per vraag'!$C$12,'Data leveranciersbeoordeling'!$1:$1,0))","v":0},{"$f":"IFERROR(VLOOKUP(INDEX($A:$O,ROW(),MATCH('Rapportage per vraag'!$C$12,'Data leveranciersbeoordeling'!$1:$1,0)),Leveranciersbeoordeling!$H$1:$I$5,2,FALSE),0)","v":0},0]
["",null,null,null,null,null,null,null,null,null,null,null,null,null,null,{"$f":"INDEX($A:$O,ROW(),MATCH('Rapportage per vraag'!$C$12,'Data leveranciersbeoordeling'!$1:$1,0))","v":0},{"$f":"IFERROR(VLOOKUP(INDEX($A:$O,ROW(),MATCH('Rapportage per vraag'!$C$12,'Data leveranciersbeoordeling'!$1:$1,0)),Leveranciersbeoordeling!$H$1:$I$5,2,FALSE),0)","v":0},0]
["",null,null,null,null,null,null,null,null,null,null,null,null,null,null,{"$f":"INDEX($A:$O,ROW(),MATCH('Rapportage per vraag'!$C$12,'Data leveranciersbeoordeling'!$1:$1,0))","v":0},{"$f":"IFERROR(VLOOKUP(INDEX($A:$O,ROW(),MATCH('Rapportage per vraag'!$C$12,'Data leveranciersbeoordeling'!$1:$1,0)),Leveranciersbeoordeling!$H$1:$I$5,2,FALSE),0)","v":0},0]
["",null,null,null,null,null,null,null,null,null,null,null,null,null,null,{"$f":"INDEX($A:$O,ROW(),MATCH('Rapportage per vraag'!$C$12,'Data leveranciersbeoordeling'!$1:$1,0))","v":0},{"$f":"IFERROR(VLOOKUP(INDEX($A:$O,ROW(),MATCH('Rapportage per vraag'!$C$12,'Data leveranciersbeoordeling'!$1:$1,0)),Leveranciersbeoordeling!$H$1:$I$5,2,FALSE),0)","v":0},0]
["",null,null,null,null,null,null,null,null,null,null,null,null,null,null,{"$f":"INDEX($A:$O,ROW(),MATCH('Rapportage per vraag'!$C$12,'Data leveranciersbeoordeling'!$1:$1,0))","v":0},{"$f":"IFERROR(VLOOKUP(INDEX($A:$O,ROW(),MATCH('Rapportage per vraag'!$C$12,'Data leveranciersbeoordeling'!$1:$1,0)),Leveranciersbeoordeling!$H$1:$I$5,2,FALSE),0)","v":0},0]
["",null,null,null,null,null,null,null,null,null,null,null,null,null,null,{"$f":"INDEX($A:$O,ROW(),MATCH('Rapportage per vraag'!$C$12,'Data leveranciersbeoordeling'!$1:$1,0))","v":0},{"$f":"IFERROR(VLOOKUP(INDEX($A:$O,ROW(),MATCH('Rapportage per vraag'!$C$12,'Data leveranciersbeoordeling'!$1:$1,0)),Leveranciersbeoordeling!$H$1:$I$5,2,FALSE),0)","v":0},0]
["",null,null,null,null,null,null,null,null,null,null,null,null,null,null,{"$f":"INDEX($A:$O,ROW(),MATCH('Rapportage per vraag'!$C$12,'Data leveranciersbeoordeling'!$1:$1,0))","v":0},{"$f":"IFERROR(VLOOKUP(INDEX($A:$O,ROW(),MATCH('Rapportage per vraag'!$C$12,'Data leveranciersbeoordeling'!$1:$1,0)),Leveranciersbeoordeling!$H$1:$I$5,2,FALSE),0)","v":0},0]
["",null,null,null,null,null,null,null,null,null,null,null,null,null,null,{"$f":"INDEX($A:$O,ROW(),MATCH('Rapportage per vraag'!$C$12,'Data leveranciersbeoordeling'!$1:$1,0))","v":0},{"$f":"IFERROR(VLOOKUP(INDEX($A:$O,ROW(),MATCH('Rapportage per vraag'!$C$12,'Data leveranciersbeoordeling'!$1:$1,0)),Leveranciersbeoordeling!$H$1:$I$5,2,FALSE),0)","v":0},0]
["",null,null,null,null,null,null,null,null,null,null,null,null,null,null,{"$f":"INDEX($A:$O,ROW(),MATCH('Rapportage per vraag'!$C$12,'Data leveranciersbeoordeling'!$1:$1,0))","v":0},{"$f":"IFERROR(VLOOKUP(INDEX($A:$O,ROW(),MATCH('Rapportage per vraag'!$C$12,'Data leveranciersbeoordeling'!$1:$1,0)),Leveranciersbeoordeling!$H$1:$I$5,2,FALSE),0)","v":0},0]
["",null,null,null,null,null,null,null,null,null,null,null,null,null,null,{"$f":"INDEX($A:$O,ROW(),MATCH('Rapportage per vraag'!$C$12,'Data leveranciersbeoordeling'!$1:$1,0))","v":0},{"$f":"IFERROR(VLOOKUP(INDEX($A:$O,ROW(),MATCH('Rapportage per vraag'!$C$12,'Data leveranciersbeoordeling'!$1:$1,0)),Leveranciersbeoordeling!$H$1:$I$5,2,FALSE),0)","v":0},0]
["",null,null,null,null,null,null,null,null,null,null,null,null,null,null,{"$f":"INDEX($A:$O,ROW(),MATCH('Rapportage per vraag'!$C$12,'Data leveranciersbeoordeling'!$1:$1,0))","v":0},{"$f":"IFERROR(VLOOKUP(INDEX($A:$O,ROW(),MATCH('Rapportage per vraag'!$C$12,'Data leveranciersbeoordeling'!$1:$1,0)),Leveranciersbeoordeling!$H$1:$I$5,2,FALSE),0)","v":0},0]
["",null,null,null,null,null,null,null,null,null,null,null,null,null,null,{"$f":"INDEX($A:$O,ROW(),MATCH('Rapportage per vraag'!$C$12,'Data leveranciersbeoordeling'!$1:$1,0))","v":0},{"$f":"IFERROR(VLOOKUP(INDEX($A:$O,ROW(),MATCH('Rapportage per vraag'!$C$12,'Data leveranciersbeoordeling'!$1:$1,0)),Leveranciersbeoordeling!$H$1:$I$5,2,FALSE),0)","v":0},0]
["",null,null,null,null,null,null,null,null,null,null,null,null,null,null,{"$f":"INDEX($A:$O,ROW(),MATCH('Rapportage per vraag'!$C$12,'Data leveranciersbeoordeling'!$1:$1,0))","v":0},{"$f":"IFERROR(VLOOKUP(INDEX($A:$O,ROW(),MATCH('Rapportage per vraag'!$C$12,'Data leveranciersbeoordeling'!$1:$1,0)),Leveranciersbeoordeling!$H$1:$I$5,2,FALSE),0)","v":0},0]
["",null,null,null,null,null,null,null,null,null,null,null,null,null,null,{"$f":"INDEX($A:$O,ROW(),MATCH('Rapportage per vraag'!$C$12,'Data leveranciersbeoordeling'!$1:$1,0))","v":0},{"$f":"IFERROR(VLOOKUP(INDEX($A:$O,ROW(),MATCH('Rapportage per vraag'!$C$12,'Data leveranciersbeoordeling'!$1:$1,0)),Leveranciersbeoordeling!$H$1:$I$5,2,FALSE),0)","v":0},0]
["",null,null,null,null,null,null,null,null,null,null,null,null,null,null,{"$f":"INDEX($A:$O,ROW(),MATCH('Rapportage per vraag'!$C$12,'Data leveranciersbeoordeling'!$1:$1,0))","v":0},{"$f":"IFERROR(VLOOKUP(INDEX($A:$O,ROW(),MATCH('Rapportage per vraag'!$C$12,'Data leveranciersbeoordeling'!$1:$1,0)),Leveranciersbeoordeling!$H$1:$I$5,2,FALSE),0)","v":0},{"$f":"IF(T(P7942)=P7942,Q7942,P7942)","v":0}]
["",null,null,null,null,null,null,null,null,null,null,null,null,null,null,{"$f":"INDEX($A:$O,ROW(),MATCH('Rapportage per vraag'!$C$12,'Data leveranciersbeoordeling'!$1:$1,0))","v":0},{"$f":"IFERROR(VLOOKUP(INDEX($A:$O,ROW(),MATCH('Rapportage per vraag'!$C$12,'Data leveranciersbeoordeling'!$1:$1,0)),Leveranciersbeoordeling!$H$1:$I$5,2,FALSE),0)","v":0},0]
["",null,null,null,null,null,null,null,null,null,null,null,null,null,null,{"$f":"INDEX($A:$O,ROW(),MATCH('Rapportage per vraag'!$C$12,'Data leveranciersbeoordeling'!$1:$1,0))","v":0},{"$f":"IFERROR(VLOOKUP(INDEX($A:$O,ROW(),MATCH('Rapportage per vraag'!$C$12,'Data leveranciersbeoordeling'!$1:$1,0)),Leveranciersbeoordeling!$H$1:$I$5,2,FALSE),0)","v":0},0]
["",null,null,null,null,null,null,null,null,null,null,null,null,null,null,{"$f":"INDEX($A:$O,ROW(),MATCH('Rapportage per vraag'!$C$12,'Data leveranciersbeoordeling'!$1:$1,0))","v":0},{"$f":"IFERROR(VLOOKUP(INDEX($A:$O,ROW(),MATCH('Rapportage per vraag'!$C$12,'Data leveranciersbeoordeling'!$1:$1,0)),Leveranciersbeoordeling!$H$1:$I$5,2,FALSE),0)","v":0},0]
["",null,null,null,null,null,null,null,null,null,null,null,null,null,null,{"$f":"INDEX($A:$O,ROW(),MATCH('Rapportage per vraag'!$C$12,'Data leveranciersbeoordeling'!$1:$1,0))","v":0},{"$f":"IFERROR(VLOOKUP(INDEX($A:$O,ROW(),MATCH('Rapportage per vraag'!$C$12,'Data leveranciersbeoordeling'!$1:$1,0)),Leveranciersbeoordeling!$H$1:$I$5,2,FALSE),0)","v":0},0]
["",null,null,null,null,null,null,null,null,null,null,null,null,null,null,{"$f":"INDEX($A:$O,ROW(),MATCH('Rapportage per vraag'!$C$12,'Data leveranciersbeoordeling'!$1:$1,0))","v":0},{"$f":"IFERROR(VLOOKUP(INDEX($A:$O,ROW(),MATCH('Rapportage per vraag'!$C$12,'Data leveranciersbeoordeling'!$1:$1,0)),Leveranciersbeoordeling!$H$1:$I$5,2,FALSE),0)","v":0},0]
["",null,null,null,null,null,null,null,null,null,null,null,null,null,null,{"$f":"INDEX($A:$O,ROW(),MATCH('Rapportage per vraag'!$C$12,'Data leveranciersbeoordeling'!$1:$1,0))","v":0},{"$f":"IFERROR(VLOOKUP(INDEX($A:$O,ROW(),MATCH('Rapportage per vraag'!$C$12,'Data leveranciersbeoordeling'!$1:$1,0)),Leveranciersbeoordeling!$H$1:$I$5,2,FALSE),0)","v":0},0]
["",null,null,null,null,null,null,null,null,null,null,null,null,null,null,{"$f":"INDEX($A:$O,ROW(),MATCH('Rapportage per vraag'!$C$12,'Data leveranciersbeoordeling'!$1:$1,0))","v":0},{"$f":"IFERROR(VLOOKUP(INDEX($A:$O,ROW(),MATCH('Rapportage per vraag'!$C$12,'Data leveranciersbeoordeling'!$1:$1,0)),Leveranciersbeoordeling!$H$1:$I$5,2,FALSE),0)","v":0},0]
["",null,null,null,null,null,null,null,null,null,null,null,null,null,null,{"$f":"INDEX($A:$O,ROW(),MATCH('Rapportage per vraag'!$C$12,'Data leveranciersbeoordeling'!$1:$1,0))","v":0},{"$f":"IFERROR(VLOOKUP(INDEX($A:$O,ROW(),MATCH('Rapportage per vraag'!$C$12,'Data leveranciersbeoordeling'!$1:$1,0)),Leveranciersbeoordeling!$H$1:$I$5,2,FALSE),0)","v":0},0]
["",null,null,null,null,null,null,null,null,null,null,null,null,null,null,{"$f":"INDEX($A:$O,ROW(),MATCH('Rapportage per vraag'!$C$12,'Data leveranciersbeoordeling'!$1:$1,0))","v":0},{"$f":"IFERROR(VLOOKUP(INDEX($A:$O,ROW(),MATCH('Rapportage per vraag'!$C$12,'Data leveranciersbeoordeling'!$1:$1,0)),Leveranciersbeoordeling!$H$1:$I$5,2,FALSE),0)","v":0},0]
["",null,null,null,null,null,null,null,null,null,null,null,null,null,null,{"$f":"INDEX($A:$O,ROW(),MATCH('Rapportage per vraag'!$C$12,'Data leveranciersbeoordeling'!$1:$1,0))","v":0},{"$f":"IFERROR(VLOOKUP(INDEX($A:$O,ROW(),MATCH('Rapportage per vraag'!$C$12,'Data leveranciersbeoordeling'!$1:$1,0)),Leveranciersbeoordeling!$H$1:$I$5,2,FALSE),0)","v":0},0]
["",null,null,null,null,null,null,null,null,null,null,null,null,null,null,{"$f":"INDEX($A:$O,ROW(),MATCH('Rapportage per vraag'!$C$12,'Data leveranciersbeoordeling'!$1:$1,0))","v":0},{"$f":"IFERROR(VLOOKUP(INDEX($A:$O,ROW(),MATCH('Rapportage per vraag'!$C$12,'Data leveranciersbeoordeling'!$1:$1,0)),Leveranciersbeoordeling!$H$1:$I$5,2,FALSE),0)","v":0},0]
["",null,null,null,null,null,null,null,null,null,null,null,null,null,null,{"$f":"INDEX($A:$O,ROW(),MATCH('Rapportage per vraag'!$C$12,'Data leveranciersbeoordeling'!$1:$1,0))","v":0},{"$f":"IFERROR(VLOOKUP(INDEX($A:$O,ROW(),MATCH('Rapportage per vraag'!$C$12,'Data leveranciersbeoordeling'!$1:$1,0)),Leveranciersbeoordeling!$H$1:$I$5,2,FALSE),0)","v":0},0]
["",null,null,null,null,null,null,null,null,null,null,null,null,null,null,{"$f":"INDEX($A:$O,ROW(),MATCH('Rapportage per vraag'!$C$12,'Data leveranciersbeoordeling'!$1:$1,0))","v":0},{"$f":"IFERROR(VLOOKUP(INDEX($A:$O,ROW(),MATCH('Rapportage per vraag'!$C$12,'Data leveranciersbeoordeling'!$1:$1,0)),Leveranciersbeoordeling!$H$1:$I$5,2,FALSE),0)","v":0},0]
["",null,null,null,null,null,null,null,null,null,null,null,null,null,null,{"$f":"INDEX($A:$O,ROW(),MATCH('Rapportage per vraag'!$C$12,'Data leveranciersbeoordeling'!$1:$1,0))","v":0},{"$f":"IFERROR(VLOOKUP(INDEX($A:$O,ROW(),MATCH('Rapportage per vraag'!$C$12,'Data leveranciersbeoordeling'!$1:$1,0)),Leveranciersbeoordeling!$H$1:$I$5,2,FALSE),0)","v":0},0]
["",null,null,null,null,null,null,null,null,null,null,null,null,null,null,{"$f":"INDEX($A:$O,ROW(),MATCH('Rapportage per vraag'!$C$12,'Data leveranciersbeoordeling'!$1:$1,0))","v":0},{"$f":"IFERROR(VLOOKUP(INDEX($A:$O,ROW(),MATCH('Rapportage per vraag'!$C$12,'Data leveranciersbeoordeling'!$1:$1,0)),Leveranciersbeoordeling!$H$1:$I$5,2,FALSE),0)","v":0},0]
["",null,null,null,null,null,null,null,null,null,null,null,null,null,null,{"$f":"INDEX($A:$O,ROW(),MATCH('Rapportage per vraag'!$C$12,'Data leveranciersbeoordeling'!$1:$1,0))","v":0},{"$f":"IFERROR(VLOOKUP(INDEX($A:$O,ROW(),MATCH('Rapportage per vraag'!$C$12,'Data leveranciersbeoordeling'!$1:$1,0)),Leveranciersbeoordeling!$H$1:$I$5,2,FALSE),0)","v":0},0]
["",null,null,null,null,null,null,null,null,null,null,null,null,null,null,{"$f":"INDEX($A:$O,ROW(),MATCH('Rapportage per vraag'!$C$12,'Data leveranciersbeoordeling'!$1:$1,0))","v":0},{"$f":"IFERROR(VLOOKUP(INDEX($A:$O,ROW(),MATCH('Rapportage per vraag'!$C$12,'Data leveranciersbeoordeling'!$1:$1,0)),Leveranciersbeoordeling!$H$1:$I$5,2,FALSE),0)","v":0},0]
["",null,null,null,null,null,null,null,null,null,null,null,null,null,null,{"$f":"INDEX($A:$O,ROW(),MATCH('Rapportage per vraag'!$C$12,'Data leveranciersbeoordeling'!$1:$1,0))","v":0},{"$f":"IFERROR(VLOOKUP(INDEX($A:$O,ROW(),MATCH('Rapportage per vraag'!$C$12,'Data leveranciersbeoordeling'!$1:$1,0)),Leveranciersbeoordeling!$H$1:$I$5,2,FALSE),0)","v":0},0]
["",null,null,null,null,null,null,null,null,null,null,null,null,null,null,{"$f":"INDEX($A:$O,ROW(),MATCH('Rapportage per vraag'!$C$12,'Data leveranciersbeoordeling'!$1:$1,0))","v":0},{"$f":"IFERROR(VLOOKUP(INDEX($A:$O,ROW(),MATCH('Rapportage per vraag'!$C$12,'Data leveranciersbeoordeling'!$1:$1,0)),Leveranciersbeoordeling!$H$1:$I$5,2,FALSE),0)","v":0},0]
["",null,null,null,null,null,null,null,null,null,null,null,null,null,null,{"$f":"INDEX($A:$O,ROW(),MATCH('Rapportage per vraag'!$C$12,'Data leveranciersbeoordeling'!$1:$1,0))","v":0},{"$f":"IFERROR(VLOOKUP(INDEX($A:$O,ROW(),MATCH('Rapportage per vraag'!$C$12,'Data leveranciersbeoordeling'!$1:$1,0)),Leveranciersbeoordeling!$H$1:$I$5,2,FALSE),0)","v":0},0]
["",null,null,null,null,null,null,null,null,null,null,null,null,null,null,{"$f":"INDEX($A:$O,ROW(),MATCH('Rapportage per vraag'!$C$12,'Data leveranciersbeoordeling'!$1:$1,0))","v":0},{"$f":"IFERROR(VLOOKUP(INDEX($A:$O,ROW(),MATCH('Rapportage per vraag'!$C$12,'Data leveranciersbeoordeling'!$1:$1,0)),Leveranciersbeoordeling!$H$1:$I$5,2,FALSE),0)","v":0},0]
["",null,null,null,null,null,null,null,null,null,null,null,null,null,null,{"$f":"INDEX($A:$O,ROW(),MATCH('Rapportage per vraag'!$C$12,'Data leveranciersbeoordeling'!$1:$1,0))","v":0},{"$f":"IFERROR(VLOOKUP(INDEX($A:$O,ROW(),MATCH('Rapportage per vraag'!$C$12,'Data leveranciersbeoordeling'!$1:$1,0)),Leveranciersbeoordeling!$H$1:$I$5,2,FALSE),0)","v":0},0]
["",null,null,null,null,null,null,null,null,null,null,null,null,null,null,{"$f":"INDEX($A:$O,ROW(),MATCH('Rapportage per vraag'!$C$12,'Data leveranciersbeoordeling'!$1:$1,0))","v":0},{"$f":"IFERROR(VLOOKUP(INDEX($A:$O,ROW(),MATCH('Rapportage per vraag'!$C$12,'Data leveranciersbeoordeling'!$1:$1,0)),Leveranciersbeoordeling!$H$1:$I$5,2,FALSE),0)","v":0},0]
["",null,null,null,null,null,null,null,null,null,null,null,null,null,null,{"$f":"INDEX($A:$O,ROW(),MATCH('Rapportage per vraag'!$C$12,'Data leveranciersbeoordeling'!$1:$1,0))","v":0},{"$f":"IFERROR(VLOOKUP(INDEX($A:$O,ROW(),MATCH('Rapportage per vraag'!$C$12,'Data leveranciersbeoordeling'!$1:$1,0)),Leveranciersbeoordeling!$H$1:$I$5,2,FALSE),0)","v":0},0]
["",null,null,null,null,null,null,null,null,null,null,null,null,null,null,{"$f":"INDEX($A:$O,ROW(),MATCH('Rapportage per vraag'!$C$12,'Data leveranciersbeoordeling'!$1:$1,0))","v":0},{"$f":"IFERROR(VLOOKUP(INDEX($A:$O,ROW(),MATCH('Rapportage per vraag'!$C$12,'Data leveranciersbeoordeling'!$1:$1,0)),Leveranciersbeoordeling!$H$1:$I$5,2,FALSE),0)","v":0},0]
["",null,null,null,null,null,null,null,null,null,null,null,null,null,null,{"$f":"INDEX($A:$O,ROW(),MATCH('Rapportage per vraag'!$C$12,'Data leveranciersbeoordeling'!$1:$1,0))","v":0},{"$f":"IFERROR(VLOOKUP(INDEX($A:$O,ROW(),MATCH('Rapportage per vraag'!$C$12,'Data leveranciersbeoordeling'!$1:$1,0)),Leveranciersbeoordeling!$H$1:$I$5,2,FALSE),0)","v":0},0]
["",null,null,null,null,null,null,null,null,null,null,null,null,null,null,{"$f":"INDEX($A:$O,ROW(),MATCH('Rapportage per vraag'!$C$12,'Data leveranciersbeoordeling'!$1:$1,0))","v":0},{"$f":"IFERROR(VLOOKUP(INDEX($A:$O,ROW(),MATCH('Rapportage per vraag'!$C$12,'Data leveranciersbeoordeling'!$1:$1,0)),Leveranciersbeoordeling!$H$1:$I$5,2,FALSE),0)","v":0},0]
["",null,null,null,null,null,null,null,null,null,null,null,null,null,null,{"$f":"INDEX($A:$O,ROW(),MATCH('Rapportage per vraag'!$C$12,'Data leveranciersbeoordeling'!$1:$1,0))","v":0},{"$f":"IFERROR(VLOOKUP(INDEX($A:$O,ROW(),MATCH('Rapportage per vraag'!$C$12,'Data leveranciersbeoordeling'!$1:$1,0)),Leveranciersbeoordeling!$H$1:$I$5,2,FALSE),0)","v":0},0]
["",null,null,null,null,null,null,null,null,null,null,null,null,null,null,{"$f":"INDEX($A:$O,ROW(),MATCH('Rapportage per vraag'!$C$12,'Data leveranciersbeoordeling'!$1:$1,0))","v":0},{"$f":"IFERROR(VLOOKUP(INDEX($A:$O,ROW(),MATCH('Rapportage per vraag'!$C$12,'Data leveranciersbeoordeling'!$1:$1,0)),Leveranciersbeoordeling!$H$1:$I$5,2,FALSE),0)","v":0},0]
["",null,null,null,null,null,null,null,null,null,null,null,null,null,null,{"$f":"INDEX($A:$O,ROW(),MATCH('Rapportage per vraag'!$C$12,'Data leveranciersbeoordeling'!$1:$1,0))","v":0},{"$f":"IFERROR(VLOOKUP(INDEX($A:$O,ROW(),MATCH('Rapportage per vraag'!$C$12,'Data leveranciersbeoordeling'!$1:$1,0)),Leveranciersbeoordeling!$H$1:$I$5,2,FALSE),0)","v":0},0]
["",null,null,null,null,null,null,null,null,null,null,null,null,null,null,{"$f":"INDEX($A:$O,ROW(),MATCH('Rapportage per vraag'!$C$12,'Data leveranciersbeoordeling'!$1:$1,0))","v":0},{"$f":"IFERROR(VLOOKUP(INDEX($A:$O,ROW(),MATCH('Rapportage per vraag'!$C$12,'Data leveranciersbeoordeling'!$1:$1,0)),Leveranciersbeoordeling!$H$1:$I$5,2,FALSE),0)","v":0},0]
["",null,null,null,null,null,null,null,null,null,null,null,null,null,null,{"$f":"INDEX($A:$O,ROW(),MATCH('Rapportage per vraag'!$C$12,'Data leveranciersbeoordeling'!$1:$1,0))","v":0},{"$f":"IFERROR(VLOOKUP(INDEX($A:$O,ROW(),MATCH('Rapportage per vraag'!$C$12,'Data leveranciersbeoordeling'!$1:$1,0)),Leveranciersbeoordeling!$H$1:$I$5,2,FALSE),0)","v":0},0]
[{"$f":"CONCATENATE(B8067,C8067,D8067)","v":""},null,null,null,null,null,null,null,null,null,null,null,null,null,null,{"$f":"INDEX($A:$O,ROW(),MATCH('Rapportage per vraag'!$C$12,'Data leveranciersbeoordeling'!$1:$1,0))","v":0},{"$f":"IFERROR(VLOOKUP(INDEX($A:$O,ROW(),MATCH('Rapportage per vraag'!$C$12,'Data leveranciersbeoordeling'!$1:$1,0)),Leveranciersbeoordeling!$H$1:$I$5,2,FALSE),0)","v":0},0]
["",null,null,null,null,null,null,null,null,null,null,null,null,null,null,{"$f":"INDEX($A:$O,ROW(),MATCH('Rapportage per vraag'!$C$12,'Data leveranciersbeoordeling'!$1:$1,0))","v":0},{"$f":"IFERROR(VLOOKUP(INDEX($A:$O,ROW(),MATCH('Rapportage per vraag'!$C$12,'Data leveranciersbeoordeling'!$1:$1,0)),Leveranciersbeoordeling!$H$1:$I$5,2,FALSE),0)","v":0},0]
["",null,null,null,null,null,null,null,null,null,null,null,null,null,null,{"$f":"INDEX($A:$O,ROW(),MATCH('Rapportage per vraag'!$C$12,'Data leveranciersbeoordeling'!$1:$1,0))","v":0},{"$f":"IFERROR(VLOOKUP(INDEX($A:$O,ROW(),MATCH('Rapportage per vraag'!$C$12,'Data leveranciersbeoordeling'!$1:$1,0)),Leveranciersbeoordeling!$H$1:$I$5,2,FALSE),0)","v":0},0]
["",null,null,null,null,null,null,null,null,null,null,null,null,null,null,{"$f":"INDEX($A:$O,ROW(),MATCH('Rapportage per vraag'!$C$12,'Data leveranciersbeoordeling'!$1:$1,0))","v":0},{"$f":"IFERROR(VLOOKUP(INDEX($A:$O,ROW(),MATCH('Rapportage per vraag'!$C$12,'Data leveranciersbeoordeling'!$1:$1,0)),Leveranciersbeoordeling!$H$1:$I$5,2,FALSE),0)","v":0},0]
["",null,null,null,null,null,null,null,null,null,null,null,null,null,null,{"$f":"INDEX($A:$O,ROW(),MATCH('Rapportage per vraag'!$C$12,'Data leveranciersbeoordeling'!$1:$1,0))","v":0},{"$f":"IFERROR(VLOOKUP(INDEX($A:$O,ROW(),MATCH('Rapportage per vraag'!$C$12,'Data leveranciersbeoordeling'!$1:$1,0)),Leveranciersbeoordeling!$H$1:$I$5,2,FALSE),0)","v":0},0]
["",null,null,null,null,null,null,null,null,null,null,null,null,null,null,{"$f":"INDEX($A:$O,ROW(),MATCH('Rapportage per vraag'!$C$12,'Data leveranciersbeoordeling'!$1:$1,0))","v":0},{"$f":"IFERROR(VLOOKUP(INDEX($A:$O,ROW(),MATCH('Rapportage per vraag'!$C$12,'Data leveranciersbeoordeling'!$1:$1,0)),Leveranciersbeoordeling!$H$1:$I$5,2,FALSE),0)","v":0},0]
["",null,null,null,null,null,null,null,null,null,null,null,null,null,null,{"$f":"INDEX($A:$O,ROW(),MATCH('Rapportage per vraag'!$C$12,'Data leveranciersbeoordeling'!$1:$1,0))","v":0},{"$f":"IFERROR(VLOOKUP(INDEX($A:$O,ROW(),MATCH('Rapportage per vraag'!$C$12,'Data leveranciersbeoordeling'!$1:$1,0)),Leveranciersbeoordeling!$H$1:$I$5,2,FALSE),0)","v":0},0]
["",null,null,null,null,null,null,null,null,null,null,null,null,null,null,{"$f":"INDEX($A:$O,ROW(),MATCH('Rapportage per vraag'!$C$12,'Data leveranciersbeoordeling'!$1:$1,0))","v":0},{"$f":"IFERROR(VLOOKUP(INDEX($A:$O,ROW(),MATCH('Rapportage per vraag'!$C$12,'Data leveranciersbeoordeling'!$1:$1,0)),Leveranciersbeoordeling!$H$1:$I$5,2,FALSE),0)","v":0},0]
["",null,null,null,null,null,null,null,null,null,null,null,null,null,null,{"$f":"INDEX($A:$O,ROW(),MATCH('Rapportage per vraag'!$C$12,'Data leveranciersbeoordeling'!$1:$1,0))","v":0},{"$f":"IFERROR(VLOOKUP(INDEX($A:$O,ROW(),MATCH('Rapportage per vraag'!$C$12,'Data leveranciersbeoordeling'!$1:$1,0)),Leveranciersbeoordeling!$H$1:$I$5,2,FALSE),0)","v":0},0]
["",null,null,null,null,null,null,null,null,null,null,null,null,null,null,{"$f":"INDEX($A:$O,ROW(),MATCH('Rapportage per vraag'!$C$12,'Data leveranciersbeoordeling'!$1:$1,0))","v":0},{"$f":"IFERROR(VLOOKUP(INDEX($A:$O,ROW(),MATCH('Rapportage per vraag'!$C$12,'Data leveranciersbeoordeling'!$1:$1,0)),Leveranciersbeoordeling!$H$1:$I$5,2,FALSE),0)","v":0},0]
["",null,null,null,null,null,null,null,null,null,null,null,null,null,null,{"$f":"INDEX($A:$O,ROW(),MATCH('Rapportage per vraag'!$C$12,'Data leveranciersbeoordeling'!$1:$1,0))","v":0},{"$f":"IFERROR(VLOOKUP(INDEX($A:$O,ROW(),MATCH('Rapportage per vraag'!$C$12,'Data leveranciersbeoordeling'!$1:$1,0)),Leveranciersbeoordeling!$H$1:$I$5,2,FALSE),0)","v":0},0]
["",null,null,null,null,null,null,null,null,null,null,null,null,null,null,{"$f":"INDEX($A:$O,ROW(),MATCH('Rapportage per vraag'!$C$12,'Data leveranciersbeoordeling'!$1:$1,0))","v":0},{"$f":"IFERROR(VLOOKUP(INDEX($A:$O,ROW(),MATCH('Rapportage per vraag'!$C$12,'Data leveranciersbeoordeling'!$1:$1,0)),Leveranciersbeoordeling!$H$1:$I$5,2,FALSE),0)","v":0},0]
["",null,null,null,null,null,null,null,null,null,null,null,null,null,null,{"$f":"INDEX($A:$O,ROW(),MATCH('Rapportage per vraag'!$C$12,'Data leveranciersbeoordeling'!$1:$1,0))","v":0},{"$f":"IFERROR(VLOOKUP(INDEX($A:$O,ROW(),MATCH('Rapportage per vraag'!$C$12,'Data leveranciersbeoordeling'!$1:$1,0)),Leveranciersbeoordeling!$H$1:$I$5,2,FALSE),0)","v":0},0]
["",null,null,null,null,null,null,null,null,null,null,null,null,null,null,{"$f":"INDEX($A:$O,ROW(),MATCH('Rapportage per vraag'!$C$12,'Data leveranciersbeoordeling'!$1:$1,0))","v":0},{"$f":"IFERROR(VLOOKUP(INDEX($A:$O,ROW(),MATCH('Rapportage per vraag'!$C$12,'Data leveranciersbeoordeling'!$1:$1,0)),Leveranciersbeoordeling!$H$1:$I$5,2,FALSE),0)","v":0},0]
["",null,null,null,null,null,null,null,null,null,null,null,null,null,null,{"$f":"INDEX($A:$O,ROW(),MATCH('Rapportage per vraag'!$C$12,'Data leveranciersbeoordeling'!$1:$1,0))","v":0},{"$f":"IFERROR(VLOOKUP(INDEX($A:$O,ROW(),MATCH('Rapportage per vraag'!$C$12,'Data leveranciersbeoordeling'!$1:$1,0)),Leveranciersbeoordeling!$H$1:$I$5,2,FALSE),0)","v":0},0]
["",null,null,null,null,null,null,null,null,null,null,null,null,null,null,{"$f":"INDEX($A:$O,ROW(),MATCH('Rapportage per vraag'!$C$12,'Data leveranciersbeoordeling'!$1:$1,0))","v":0},{"$f":"IFERROR(VLOOKUP(INDEX($A:$O,ROW(),MATCH('Rapportage per vraag'!$C$12,'Data leveranciersbeoordeling'!$1:$1,0)),Leveranciersbeoordeling!$H$1:$I$5,2,FALSE),0)","v":0},0]
["",null,null,null,null,null,null,null,null,null,null,null,null,null,null,{"$f":"INDEX($A:$O,ROW(),MATCH('Rapportage per vraag'!$C$12,'Data leveranciersbeoordeling'!$1:$1,0))","v":0},{"$f":"IFERROR(VLOOKUP(INDEX($A:$O,ROW(),MATCH('Rapportage per vraag'!$C$12,'Data leveranciersbeoordeling'!$1:$1,0)),Leveranciersbeoordeling!$H$1:$I$5,2,FALSE),0)","v":0},0]
["",null,null,null,null,null,null,null,null,null,null,null,null,null,null,{"$f":"INDEX($A:$O,ROW(),MATCH('Rapportage per vraag'!$C$12,'Data leveranciersbeoordeling'!$1:$1,0))","v":0},{"$f":"IFERROR(VLOOKUP(INDEX($A:$O,ROW(),MATCH('Rapportage per vraag'!$C$12,'Data leveranciersbeoordeling'!$1:$1,0)),Leveranciersbeoordeling!$H$1:$I$5,2,FALSE),0)","v":0},0]
["",null,null,null,null,null,null,null,null,null,null,null,null,null,null,{"$f":"INDEX($A:$O,ROW(),MATCH('Rapportage per vraag'!$C$12,'Data leveranciersbeoordeling'!$1:$1,0))","v":0},{"$f":"IFERROR(VLOOKUP(INDEX($A:$O,ROW(),MATCH('Rapportage per vraag'!$C$12,'Data leveranciersbeoordeling'!$1:$1,0)),Leveranciersbeoordeling!$H$1:$I$5,2,FALSE),0)","v":0},{"$f":"IF(T(P8134)=P8134,Q8134,P8134)","v":0}]
["",null,null,null,null,null,null,null,null,null,null,null,null,null,null,{"$f":"INDEX($A:$O,ROW(),MATCH('Rapportage per vraag'!$C$12,'Data leveranciersbeoordeling'!$1:$1,0))","v":0},{"$f":"IFERROR(VLOOKUP(INDEX($A:$O,ROW(),MATCH('Rapportage per vraag'!$C$12,'Data leveranciersbeoordeling'!$1:$1,0)),Leveranciersbeoordeling!$H$1:$I$5,2,FALSE),0)","v":0},0]
["",null,null,null,null,null,null,null,null,null,null,null,null,null,null,{"$f":"INDEX($A:$O,ROW(),MATCH('Rapportage per vraag'!$C$12,'Data leveranciersbeoordeling'!$1:$1,0))","v":0},{"$f":"IFERROR(VLOOKUP(INDEX($A:$O,ROW(),MATCH('Rapportage per vraag'!$C$12,'Data leveranciersbeoordeling'!$1:$1,0)),Leveranciersbeoordeling!$H$1:$I$5,2,FALSE),0)","v":0},0]
["",null,null,null,null,null,null,null,null,null,null,null,null,null,null,{"$f":"INDEX($A:$O,ROW(),MATCH('Rapportage per vraag'!$C$12,'Data leveranciersbeoordeling'!$1:$1,0))","v":0},{"$f":"IFERROR(VLOOKUP(INDEX($A:$O,ROW(),MATCH('Rapportage per vraag'!$C$12,'Data leveranciersbeoordeling'!$1:$1,0)),Leveranciersbeoordeling!$H$1:$I$5,2,FALSE),0)","v":0},0]
["",null,null,null,null,null,null,null,null,null,null,null,null,null,null,{"$f":"INDEX($A:$O,ROW(),MATCH('Rapportage per vraag'!$C$12,'Data leveranciersbeoordeling'!$1:$1,0))","v":0},{"$f":"IFERROR(VLOOKUP(INDEX($A:$O,ROW(),MATCH('Rapportage per vraag'!$C$12,'Data leveranciersbeoordeling'!$1:$1,0)),Leveranciersbeoordeling!$H$1:$I$5,2,FALSE),0)","v":0},0]
["",null,null,null,null,null,null,null,null,null,null,null,null,null,null,{"$f":"INDEX($A:$O,ROW(),MATCH('Rapportage per vraag'!$C$12,'Data leveranciersbeoordeling'!$1:$1,0))","v":0},{"$f":"IFERROR(VLOOKUP(INDEX($A:$O,ROW(),MATCH('Rapportage per vraag'!$C$12,'Data leveranciersbeoordeling'!$1:$1,0)),Leveranciersbeoordeling!$H$1:$I$5,2,FALSE),0)","v":0},0]
["",null,null,null,null,null,null,null,null,null,null,null,null,null,null,{"$f":"INDEX($A:$O,ROW(),MATCH('Rapportage per vraag'!$C$12,'Data leveranciersbeoordeling'!$1:$1,0))","v":0},{"$f":"IFERROR(VLOOKUP(INDEX($A:$O,ROW(),MATCH('Rapportage per vraag'!$C$12,'Data leveranciersbeoordeling'!$1:$1,0)),Leveranciersbeoordeling!$H$1:$I$5,2,FALSE),0)","v":0},0]
["",null,null,null,null,null,null,null,null,null,null,null,null,null,null,{"$f":"INDEX($A:$O,ROW(),MATCH('Rapportage per vraag'!$C$12,'Data leveranciersbeoordeling'!$1:$1,0))","v":0},{"$f":"IFERROR(VLOOKUP(INDEX($A:$O,ROW(),MATCH('Rapportage per vraag'!$C$12,'Data leveranciersbeoordeling'!$1:$1,0)),Leveranciersbeoordeling!$H$1:$I$5,2,FALSE),0)","v":0},0]
["",null,null,null,null,null,null,null,null,null,null,null,null,null,null,{"$f":"INDEX($A:$O,ROW(),MATCH('Rapportage per vraag'!$C$12,'Data leveranciersbeoordeling'!$1:$1,0))","v":0},{"$f":"IFERROR(VLOOKUP(INDEX($A:$O,ROW(),MATCH('Rapportage per vraag'!$C$12,'Data leveranciersbeoordeling'!$1:$1,0)),Leveranciersbeoordeling!$H$1:$I$5,2,FALSE),0)","v":0},0]
["",null,null,null,null,null,null,null,null,null,null,null,null,null,null,{"$f":"INDEX($A:$O,ROW(),MATCH('Rapportage per vraag'!$C$12,'Data leveranciersbeoordeling'!$1:$1,0))","v":0},{"$f":"IFERROR(VLOOKUP(INDEX($A:$O,ROW(),MATCH('Rapportage per vraag'!$C$12,'Data leveranciersbeoordeling'!$1:$1,0)),Leveranciersbeoordeling!$H$1:$I$5,2,FALSE),0)","v":0},0]
["",null,null,null,null,null,null,null,null,null,null,null,null,null,null,{"$f":"INDEX($A:$O,ROW(),MATCH('Rapportage per vraag'!$C$12,'Data leveranciersbeoordeling'!$1:$1,0))","v":0},{"$f":"IFERROR(VLOOKUP(INDEX($A:$O,ROW(),MATCH('Rapportage per vraag'!$C$12,'Data leveranciersbeoordeling'!$1:$1,0)),Leveranciersbeoordeling!$H$1:$I$5,2,FALSE),0)","v":0},0]
["",null,null,null,null,null,null,null,null,null,null,null,null,null,null,{"$f":"INDEX($A:$O,ROW(),MATCH('Rapportage per vraag'!$C$12,'Data leveranciersbeoordeling'!$1:$1,0))","v":0},{"$f":"IFERROR(VLOOKUP(INDEX($A:$O,ROW(),MATCH('Rapportage per vraag'!$C$12,'Data leveranciersbeoordeling'!$1:$1,0)),Leveranciersbeoordeling!$H$1:$I$5,2,FALSE),0)","v":0},0]
["",null,null,null,null,null,null,null,null,null,null,null,null,null,null,{"$f":"INDEX($A:$O,ROW(),MATCH('Rapportage per vraag'!$C$12,'Data leveranciersbeoordeling'!$1:$1,0))","v":0},{"$f":"IFERROR(VLOOKUP(INDEX($A:$O,ROW(),MATCH('Rapportage per vraag'!$C$12,'Data leveranciersbeoordeling'!$1:$1,0)),Leveranciersbeoordeling!$H$1:$I$5,2,FALSE),0)","v":0},0]
["",null,null,null,null,null,null,null,null,null,null,null,null,null,null,{"$f":"INDEX($A:$O,ROW(),MATCH('Rapportage per vraag'!$C$12,'Data leveranciersbeoordeling'!$1:$1,0))","v":0},{"$f":"IFERROR(VLOOKUP(INDEX($A:$O,ROW(),MATCH('Rapportage per vraag'!$C$12,'Data leveranciersbeoordeling'!$1:$1,0)),Leveranciersbeoordeling!$H$1:$I$5,2,FALSE),0)","v":0},0]
["",null,null,null,null,null,null,null,null,null,null,null,null,null,null,{"$f":"INDEX($A:$O,ROW(),MATCH('Rapportage per vraag'!$C$12,'Data leveranciersbeoordeling'!$1:$1,0))","v":0},{"$f":"IFERROR(VLOOKUP(INDEX($A:$O,ROW(),MATCH('Rapportage per vraag'!$C$12,'Data leveranciersbeoordeling'!$1:$1,0)),Leveranciersbeoordeling!$H$1:$I$5,2,FALSE),0)","v":0},0]
["",null,null,null,null,null,null,null,null,null,null,null,null,null,null,{"$f":"INDEX($A:$O,ROW(),MATCH('Rapportage per vraag'!$C$12,'Data leveranciersbeoordeling'!$1:$1,0))","v":0},{"$f":"IFERROR(VLOOKUP(INDEX($A:$O,ROW(),MATCH('Rapportage per vraag'!$C$12,'Data leveranciersbeoordeling'!$1:$1,0)),Leveranciersbeoordeling!$H$1:$I$5,2,FALSE),0)","v":0},0]
["",null,null,null,null,null,null,null,null,null,null,null,null,null,null,{"$f":"INDEX($A:$O,ROW(),MATCH('Rapportage per vraag'!$C$12,'Data leveranciersbeoordeling'!$1:$1,0))","v":0},{"$f":"IFERROR(VLOOKUP(INDEX($A:$O,ROW(),MATCH('Rapportage per vraag'!$C$12,'Data leveranciersbeoordeling'!$1:$1,0)),Leveranciersbeoordeling!$H$1:$I$5,2,FALSE),0)","v":0},0]
["",null,null,null,null,null,null,null,null,null,null,null,null,null,null,{"$f":"INDEX($A:$O,ROW(),MATCH('Rapportage per vraag'!$C$12,'Data leveranciersbeoordeling'!$1:$1,0))","v":0},{"$f":"IFERROR(VLOOKUP(INDEX($A:$O,ROW(),MATCH('Rapportage per vraag'!$C$12,'Data leveranciersbeoordeling'!$1:$1,0)),Leveranciersbeoordeling!$H$1:$I$5,2,FALSE),0)","v":0},0]
["",null,null,null,null,null,null,null,null,null,null,null,null,null,null,{"$f":"INDEX($A:$O,ROW(),MATCH('Rapportage per vraag'!$C$12,'Data leveranciersbeoordeling'!$1:$1,0))","v":0},{"$f":"IFERROR(VLOOKUP(INDEX($A:$O,ROW(),MATCH('Rapportage per vraag'!$C$12,'Data leveranciersbeoordeling'!$1:$1,0)),Leveranciersbeoordeling!$H$1:$I$5,2,FALSE),0)","v":0},0]
["",null,null,null,null,null,null,null,null,null,null,null,null,null,null,{"$f":"INDEX($A:$O,ROW(),MATCH('Rapportage per vraag'!$C$12,'Data leveranciersbeoordeling'!$1:$1,0))","v":0},{"$f":"IFERROR(VLOOKUP(INDEX($A:$O,ROW(),MATCH('Rapportage per vraag'!$C$12,'Data leveranciersbeoordeling'!$1:$1,0)),Leveranciersbeoordeling!$H$1:$I$5,2,FALSE),0)","v":0},0]
["",null,null,null,null,null,null,null,null,null,null,null,null,null,null,{"$f":"INDEX($A:$O,ROW(),MATCH('Rapportage per vraag'!$C$12,'Data leveranciersbeoordeling'!$1:$1,0))","v":0},{"$f":"IFERROR(VLOOKUP(INDEX($A:$O,ROW(),MATCH('Rapportage per vraag'!$C$12,'Data leveranciersbeoordeling'!$1:$1,0)),Leveranciersbeoordeling!$H$1:$I$5,2,FALSE),0)","v":0},0]
["",null,null,null,null,null,null,null,null,null,null,null,null,null,null,{"$f":"INDEX($A:$O,ROW(),MATCH('Rapportage per vraag'!$C$12,'Data leveranciersbeoordeling'!$1:$1,0))","v":0},{"$f":"IFERROR(VLOOKUP(INDEX($A:$O,ROW(),MATCH('Rapportage per vraag'!$C$12,'Data leveranciersbeoordeling'!$1:$1,0)),Leveranciersbeoordeling!$H$1:$I$5,2,FALSE),0)","v":0},0]
["",null,null,null,null,null,null,null,null,null,null,null,null,null,null,{"$f":"INDEX($A:$O,ROW(),MATCH('Rapportage per vraag'!$C$12,'Data leveranciersbeoordeling'!$1:$1,0))","v":0},{"$f":"IFERROR(VLOOKUP(INDEX($A:$O,ROW(),MATCH('Rapportage per vraag'!$C$12,'Data leveranciersbeoordeling'!$1:$1,0)),Leveranciersbeoordeling!$H$1:$I$5,2,FALSE),0)","v":0},0]
["",null,null,null,null,null,null,null,null,null,null,null,null,null,null,{"$f":"INDEX($A:$O,ROW(),MATCH('Rapportage per vraag'!$C$12,'Data leveranciersbeoordeling'!$1:$1,0))","v":0},{"$f":"IFERROR(VLOOKUP(INDEX($A:$O,ROW(),MATCH('Rapportage per vraag'!$C$12,'Data leveranciersbeoordeling'!$1:$1,0)),Leveranciersbeoordeling!$H$1:$I$5,2,FALSE),0)","v":0},0]
["",null,null,null,null,null,null,null,null,null,null,null,null,null,null,{"$f":"INDEX($A:$O,ROW(),MATCH('Rapportage per vraag'!$C$12,'Data leveranciersbeoordeling'!$1:$1,0))","v":0},{"$f":"IFERROR(VLOOKUP(INDEX($A:$O,ROW(),MATCH('Rapportage per vraag'!$C$12,'Data leveranciersbeoordeling'!$1:$1,0)),Leveranciersbeoordeling!$H$1:$I$5,2,FALSE),0)","v":0},0]
["",null,null,null,null,null,null,null,null,null,null,null,null,null,null,{"$f":"INDEX($A:$O,ROW(),MATCH('Rapportage per vraag'!$C$12,'Data leveranciersbeoordeling'!$1:$1,0))","v":0},{"$f":"IFERROR(VLOOKUP(INDEX($A:$O,ROW(),MATCH('Rapportage per vraag'!$C$12,'Data leveranciersbeoordeling'!$1:$1,0)),Leveranciersbeoordeling!$H$1:$I$5,2,FALSE),0)","v":0},0]
["",null,null,null,null,null,null,null,null,null,null,null,null,null,null,{"$f":"INDEX($A:$O,ROW(),MATCH('Rapportage per vraag'!$C$12,'Data leveranciersbeoordeling'!$1:$1,0))","v":0},{"$f":"IFERROR(VLOOKUP(INDEX($A:$O,ROW(),MATCH('Rapportage per vraag'!$C$12,'Data leveranciersbeoordeling'!$1:$1,0)),Leveranciersbeoordeling!$H$1:$I$5,2,FALSE),0)","v":0},0]
["",null,null,null,null,null,null,null,null,null,null,null,null,null,null,{"$f":"INDEX($A:$O,ROW(),MATCH('Rapportage per vraag'!$C$12,'Data leveranciersbeoordeling'!$1:$1,0))","v":0},{"$f":"IFERROR(VLOOKUP(INDEX($A:$O,ROW(),MATCH('Rapportage per vraag'!$C$12,'Data leveranciersbeoordeling'!$1:$1,0)),Leveranciersbeoordeling!$H$1:$I$5,2,FALSE),0)","v":0},0]
["",null,null,null,null,null,null,null,null,null,null,null,null,null,null,{"$f":"INDEX($A:$O,ROW(),MATCH('Rapportage per vraag'!$C$12,'Data leveranciersbeoordeling'!$1:$1,0))","v":0},{"$f":"IFERROR(VLOOKUP(INDEX($A:$O,ROW(),MATCH('Rapportage per vraag'!$C$12,'Data leveranciersbeoordeling'!$1:$1,0)),Leveranciersbeoordeling!$H$1:$I$5,2,FALSE),0)","v":0},0]
["",null,null,null,null,null,null,null,null,null,null,null,null,null,null,{"$f":"INDEX($A:$O,ROW(),MATCH('Rapportage per vraag'!$C$12,'Data leveranciersbeoordeling'!$1:$1,0))","v":0},{"$f":"IFERROR(VLOOKUP(INDEX($A:$O,ROW(),MATCH('Rapportage per vraag'!$C$12,'Data leveranciersbeoordeling'!$1:$1,0)),Leveranciersbeoordeling!$H$1:$I$5,2,FALSE),0)","v":0},0]
["",null,null,null,null,null,null,null,null,null,null,null,null,null,null,{"$f":"INDEX($A:$O,ROW(),MATCH('Rapportage per vraag'!$C$12,'Data leveranciersbeoordeling'!$1:$1,0))","v":0},{"$f":"IFERROR(VLOOKUP(INDEX($A:$O,ROW(),MATCH('Rapportage per vraag'!$C$12,'Data leveranciersbeoordeling'!$1:$1,0)),Leveranciersbeoordeling!$H$1:$I$5,2,FALSE),0)","v":0},0]
["",null,null,null,null,null,null,null,null,null,null,null,null,null,null,{"$f":"INDEX($A:$O,ROW(),MATCH('Rapportage per vraag'!$C$12,'Data leveranciersbeoordeling'!$1:$1,0))","v":0},{"$f":"IFERROR(VLOOKUP(INDEX($A:$O,ROW(),MATCH('Rapportage per vraag'!$C$12,'Data leveranciersbeoordeling'!$1:$1,0)),Leveranciersbeoordeling!$H$1:$I$5,2,FALSE),0)","v":0},0]
["",null,null,null,null,null,null,null,null,null,null,null,null,null,null,{"$f":"INDEX($A:$O,ROW(),MATCH('Rapportage per vraag'!$C$12,'Data leveranciersbeoordeling'!$1:$1,0))","v":0},{"$f":"IFERROR(VLOOKUP(INDEX($A:$O,ROW(),MATCH('Rapportage per vraag'!$C$12,'Data leveranciersbeoordeling'!$1:$1,0)),Leveranciersbeoordeling!$H$1:$I$5,2,FALSE),0)","v":0},0]
["",null,null,null,null,null,null,null,null,null,null,null,null,null,null,{"$f":"INDEX($A:$O,ROW(),MATCH('Rapportage per vraag'!$C$12,'Data leveranciersbeoordeling'!$1:$1,0))","v":0},{"$f":"IFERROR(VLOOKUP(INDEX($A:$O,ROW(),MATCH('Rapportage per vraag'!$C$12,'Data leveranciersbeoordeling'!$1:$1,0)),Leveranciersbeoordeling!$H$1:$I$5,2,FALSE),0)","v":0},0]
["",null,null,null,null,null,null,null,null,null,null,null,null,null,null,{"$f":"INDEX($A:$O,ROW(),MATCH('Rapportage per vraag'!$C$12,'Data leveranciersbeoordeling'!$1:$1,0))","v":0},{"$f":"IFERROR(VLOOKUP(INDEX($A:$O,ROW(),MATCH('Rapportage per vraag'!$C$12,'Data leveranciersbeoordeling'!$1:$1,0)),Leveranciersbeoordeling!$H$1:$I$5,2,FALSE),0)","v":0},{"$f":"IF(T(P8262)=P8262,Q8262,P8262)","v":0}]
["",null,null,null,null,null,null,null,null,null,null,null,null,null,null,{"$f":"INDEX($A:$O,ROW(),MATCH('Rapportage per vraag'!$C$12,'Data leveranciersbeoordeling'!$1:$1,0))","v":0},{"$f":"IFERROR(VLOOKUP(INDEX($A:$O,ROW(),MATCH('Rapportage per vraag'!$C$12,'Data leveranciersbeoordeling'!$1:$1,0)),Leveranciersbeoordeling!$H$1:$I$5,2,FALSE),0)","v":0},0]
["",null,null,null,null,null,null,null,null,null,null,null,null,null,null,{"$f":"INDEX($A:$O,ROW(),MATCH('Rapportage per vraag'!$C$12,'Data leveranciersbeoordeling'!$1:$1,0))","v":0},{"$f":"IFERROR(VLOOKUP(INDEX($A:$O,ROW(),MATCH('Rapportage per vraag'!$C$12,'Data leveranciersbeoordeling'!$1:$1,0)),Leveranciersbeoordeling!$H$1:$I$5,2,FALSE),0)","v":0},0]
["",null,null,null,null,null,null,null,null,null,null,null,null,null,null,{"$f":"INDEX($A:$O,ROW(),MATCH('Rapportage per vraag'!$C$12,'Data leveranciersbeoordeling'!$1:$1,0))","v":0},{"$f":"IFERROR(VLOOKUP(INDEX($A:$O,ROW(),MATCH('Rapportage per vraag'!$C$12,'Data leveranciersbeoordeling'!$1:$1,0)),Leveranciersbeoordeling!$H$1:$I$5,2,FALSE),0)","v":0},0]
["",null,null,null,null,null,null,null,null,null,null,null,null,null,null,{"$f":"INDEX($A:$O,ROW(),MATCH('Rapportage per vraag'!$C$12,'Data leveranciersbeoordeling'!$1:$1,0))","v":0},{"$f":"IFERROR(VLOOKUP(INDEX($A:$O,ROW(),MATCH('Rapportage per vraag'!$C$12,'Data leveranciersbeoordeling'!$1:$1,0)),Leveranciersbeoordeling!$H$1:$I$5,2,FALSE),0)","v":0},0]
["",null,null,null,null,null,null,null,null,null,null,null,null,null,null,{"$f":"INDEX($A:$O,ROW(),MATCH('Rapportage per vraag'!$C$12,'Data leveranciersbeoordeling'!$1:$1,0))","v":0},{"$f":"IFERROR(VLOOKUP(INDEX($A:$O,ROW(),MATCH('Rapportage per vraag'!$C$12,'Data leveranciersbeoordeling'!$1:$1,0)),Leveranciersbeoordeling!$H$1:$I$5,2,FALSE),0)","v":0},0]
["",null,null,null,null,null,null,null,null,null,null,null,null,null,null,{"$f":"INDEX($A:$O,ROW(),MATCH('Rapportage per vraag'!$C$12,'Data leveranciersbeoordeling'!$1:$1,0))","v":0},{"$f":"IFERROR(VLOOKUP(INDEX($A:$O,ROW(),MATCH('Rapportage per vraag'!$C$12,'Data leveranciersbeoordeling'!$1:$1,0)),Leveranciersbeoordeling!$H$1:$I$5,2,FALSE),0)","v":0},0]
["",null,null,null,null,null,null,null,null,null,null,null,null,null,null,{"$f":"INDEX($A:$O,ROW(),MATCH('Rapportage per vraag'!$C$12,'Data leveranciersbeoordeling'!$1:$1,0))","v":0},{"$f":"IFERROR(VLOOKUP(INDEX($A:$O,ROW(),MATCH('Rapportage per vraag'!$C$12,'Data leveranciersbeoordeling'!$1:$1,0)),Leveranciersbeoordeling!$H$1:$I$5,2,FALSE),0)","v":0},0]
["",null,null,null,null,null,null,null,null,null,null,null,null,null,null,{"$f":"INDEX($A:$O,ROW(),MATCH('Rapportage per vraag'!$C$12,'Data leveranciersbeoordeling'!$1:$1,0))","v":0},{"$f":"IFERROR(VLOOKUP(INDEX($A:$O,ROW(),MATCH('Rapportage per vraag'!$C$12,'Data leveranciersbeoordeling'!$1:$1,0)),Leveranciersbeoordeling!$H$1:$I$5,2,FALSE),0)","v":0},0]
["",null,null,null,null,null,null,null,null,null,null,null,null,null,null,{"$f":"INDEX($A:$O,ROW(),MATCH('Rapportage per vraag'!$C$12,'Data leveranciersbeoordeling'!$1:$1,0))","v":0},{"$f":"IFERROR(VLOOKUP(INDEX($A:$O,ROW(),MATCH('Rapportage per vraag'!$C$12,'Data leveranciersbeoordeling'!$1:$1,0)),Leveranciersbeoordeling!$H$1:$I$5,2,FALSE),0)","v":0},0]
["",null,null,null,null,null,null,null,null,null,null,null,null,null,null,{"$f":"INDEX($A:$O,ROW(),MATCH('Rapportage per vraag'!$C$12,'Data leveranciersbeoordeling'!$1:$1,0))","v":0},{"$f":"IFERROR(VLOOKUP(INDEX($A:$O,ROW(),MATCH('Rapportage per vraag'!$C$12,'Data leveranciersbeoordeling'!$1:$1,0)),Leveranciersbeoordeling!$H$1:$I$5,2,FALSE),0)","v":0},0]
["",null,null,null,null,null,null,null,null,null,null,null,null,null,null,{"$f":"INDEX($A:$O,ROW(),MATCH('Rapportage per vraag'!$C$12,'Data leveranciersbeoordeling'!$1:$1,0))","v":0},{"$f":"IFERROR(VLOOKUP(INDEX($A:$O,ROW(),MATCH('Rapportage per vraag'!$C$12,'Data leveranciersbeoordeling'!$1:$1,0)),Leveranciersbeoordeling!$H$1:$I$5,2,FALSE),0)","v":0},0]
["",null,null,null,null,null,null,null,null,null,null,null,null,null,null,{"$f":"INDEX($A:$O,ROW(),MATCH('Rapportage per vraag'!$C$12,'Data leveranciersbeoordeling'!$1:$1,0))","v":0},{"$f":"IFERROR(VLOOKUP(INDEX($A:$O,ROW(),MATCH('Rapportage per vraag'!$C$12,'Data leveranciersbeoordeling'!$1:$1,0)),Leveranciersbeoordeling!$H$1:$I$5,2,FALSE),0)","v":0},0]
["",null,null,null,null,null,null,null,null,null,null,null,null,null,null,{"$f":"INDEX($A:$O,ROW(),MATCH('Rapportage per vraag'!$C$12,'Data leveranciersbeoordeling'!$1:$1,0))","v":0},{"$f":"IFERROR(VLOOKUP(INDEX($A:$O,ROW(),MATCH('Rapportage per vraag'!$C$12,'Data leveranciersbeoordeling'!$1:$1,0)),Leveranciersbeoordeling!$H$1:$I$5,2,FALSE),0)","v":0},0]
["",null,null,null,null,null,null,null,null,null,null,null,null,null,null,{"$f":"INDEX($A:$O,ROW(),MATCH('Rapportage per vraag'!$C$12,'Data leveranciersbeoordeling'!$1:$1,0))","v":0},{"$f":"IFERROR(VLOOKUP(INDEX($A:$O,ROW(),MATCH('Rapportage per vraag'!$C$12,'Data leveranciersbeoordeling'!$1:$1,0)),Leveranciersbeoordeling!$H$1:$I$5,2,FALSE),0)","v":0},0]
["",null,null,null,null,null,null,null,null,null,null,null,null,null,null,{"$f":"INDEX($A:$O,ROW(),MATCH('Rapportage per vraag'!$C$12,'Data leveranciersbeoordeling'!$1:$1,0))","v":0},{"$f":"IFERROR(VLOOKUP(INDEX($A:$O,ROW(),MATCH('Rapportage per vraag'!$C$12,'Data leveranciersbeoordeling'!$1:$1,0)),Leveranciersbeoordeling!$H$1:$I$5,2,FALSE),0)","v":0},0]
["",null,null,null,null,null,null,null,null,null,null,null,null,null,null,{"$f":"INDEX($A:$O,ROW(),MATCH('Rapportage per vraag'!$C$12,'Data leveranciersbeoordeling'!$1:$1,0))","v":0},{"$f":"IFERROR(VLOOKUP(INDEX($A:$O,ROW(),MATCH('Rapportage per vraag'!$C$12,'Data leveranciersbeoordeling'!$1:$1,0)),Leveranciersbeoordeling!$H$1:$I$5,2,FALSE),0)","v":0},0]
["",null,null,null,null,null,null,null,null,null,null,null,null,null,null,{"$f":"INDEX($A:$O,ROW(),MATCH('Rapportage per vraag'!$C$12,'Data leveranciersbeoordeling'!$1:$1,0))","v":0},{"$f":"IFERROR(VLOOKUP(INDEX($A:$O,ROW(),MATCH('Rapportage per vraag'!$C$12,'Data leveranciersbeoordeling'!$1:$1,0)),Leveranciersbeoordeling!$H$1:$I$5,2,FALSE),0)","v":0},0]
["",null,null,null,null,null,null,null,null,null,null,null,null,null,null,{"$f":"INDEX($A:$O,ROW(),MATCH('Rapportage per vraag'!$C$12,'Data leveranciersbeoordeling'!$1:$1,0))","v":0},{"$f":"IFERROR(VLOOKUP(INDEX($A:$O,ROW(),MATCH('Rapportage per vraag'!$C$12,'Data leveranciersbeoordeling'!$1:$1,0)),Leveranciersbeoordeling!$H$1:$I$5,2,FALSE),0)","v":0},0]
["",null,null,null,null,null,null,null,null,null,null,null,null,null,null,{"$f":"INDEX($A:$O,ROW(),MATCH('Rapportage per vraag'!$C$12,'Data leveranciersbeoordeling'!$1:$1,0))","v":0},{"$f":"IFERROR(VLOOKUP(INDEX($A:$O,ROW(),MATCH('Rapportage per vraag'!$C$12,'Data leveranciersbeoordeling'!$1:$1,0)),Leveranciersbeoordeling!$H$1:$I$5,2,FALSE),0)","v":0},0]
["",null,null,null,null,null,null,null,null,null,null,null,null,null,null,{"$f":"INDEX($A:$O,ROW(),MATCH('Rapportage per vraag'!$C$12,'Data leveranciersbeoordeling'!$1:$1,0))","v":0},{"$f":"IFERROR(VLOOKUP(INDEX($A:$O,ROW(),MATCH('Rapportage per vraag'!$C$12,'Data leveranciersbeoordeling'!$1:$1,0)),Leveranciersbeoordeling!$H$1:$I$5,2,FALSE),0)","v":0},0]
["",null,null,null,null,null,null,null,null,null,null,null,null,null,null,{"$f":"INDEX($A:$O,ROW(),MATCH('Rapportage per vraag'!$C$12,'Data leveranciersbeoordeling'!$1:$1,0))","v":0},{"$f":"IFERROR(VLOOKUP(INDEX($A:$O,ROW(),MATCH('Rapportage per vraag'!$C$12,'Data leveranciersbeoordeling'!$1:$1,0)),Leveranciersbeoordeling!$H$1:$I$5,2,FALSE),0)","v":0},0]
["",null,null,null,null,null,null,null,null,null,null,null,null,null,null,{"$f":"INDEX($A:$O,ROW(),MATCH('Rapportage per vraag'!$C$12,'Data leveranciersbeoordeling'!$1:$1,0))","v":0},{"$f":"IFERROR(VLOOKUP(INDEX($A:$O,ROW(),MATCH('Rapportage per vraag'!$C$12,'Data leveranciersbeoordeling'!$1:$1,0)),Leveranciersbeoordeling!$H$1:$I$5,2,FALSE),0)","v":0},0]
["",null,null,null,null,null,null,null,null,null,null,null,null,null,null,{"$f":"INDEX($A:$O,ROW(),MATCH('Rapportage per vraag'!$C$12,'Data leveranciersbeoordeling'!$1:$1,0))","v":0},{"$f":"IFERROR(VLOOKUP(INDEX($A:$O,ROW(),MATCH('Rapportage per vraag'!$C$12,'Data leveranciersbeoordeling'!$1:$1,0)),Leveranciersbeoordeling!$H$1:$I$5,2,FALSE),0)","v":0},0]
["",null,null,null,null,null,null,null,null,null,null,null,null,null,null,{"$f":"INDEX($A:$O,ROW(),MATCH('Rapportage per vraag'!$C$12,'Data leveranciersbeoordeling'!$1:$1,0))","v":0},{"$f":"IFERROR(VLOOKUP(INDEX($A:$O,ROW(),MATCH('Rapportage per vraag'!$C$12,'Data leveranciersbeoordeling'!$1:$1,0)),Leveranciersbeoordeling!$H$1:$I$5,2,FALSE),0)","v":0},0]
["",null,null,null,null,null,null,null,null,null,null,null,null,null,null,{"$f":"INDEX($A:$O,ROW(),MATCH('Rapportage per vraag'!$C$12,'Data leveranciersbeoordeling'!$1:$1,0))","v":0},{"$f":"IFERROR(VLOOKUP(INDEX($A:$O,ROW(),MATCH('Rapportage per vraag'!$C$12,'Data leveranciersbeoordeling'!$1:$1,0)),Leveranciersbeoordeling!$H$1:$I$5,2,FALSE),0)","v":0},0]
["",null,null,null,null,null,null,null,null,null,null,null,null,null,null,{"$f":"INDEX($A:$O,ROW(),MATCH('Rapportage per vraag'!$C$12,'Data leveranciersbeoordeling'!$1:$1,0))","v":0},{"$f":"IFERROR(VLOOKUP(INDEX($A:$O,ROW(),MATCH('Rapportage per vraag'!$C$12,'Data leveranciersbeoordeling'!$1:$1,0)),Leveranciersbeoordeling!$H$1:$I$5,2,FALSE),0)","v":0},0]
["",null,null,null,null,null,null,null,null,null,null,null,null,null,null,{"$f":"INDEX($A:$O,ROW(),MATCH('Rapportage per vraag'!$C$12,'Data leveranciersbeoordeling'!$1:$1,0))","v":0},{"$f":"IFERROR(VLOOKUP(INDEX($A:$O,ROW(),MATCH('Rapportage per vraag'!$C$12,'Data leveranciersbeoordeling'!$1:$1,0)),Leveranciersbeoordeling!$H$1:$I$5,2,FALSE),0)","v":0},0]
["",null,null,null,null,null,null,null,null,null,null,null,null,null,null,{"$f":"INDEX($A:$O,ROW(),MATCH('Rapportage per vraag'!$C$12,'Data leveranciersbeoordeling'!$1:$1,0))","v":0},{"$f":"IFERROR(VLOOKUP(INDEX($A:$O,ROW(),MATCH('Rapportage per vraag'!$C$12,'Data leveranciersbeoordeling'!$1:$1,0)),Leveranciersbeoordeling!$H$1:$I$5,2,FALSE),0)","v":0},0]
["",null,null,null,null,null,null,null,null,null,null,null,null,null,null,{"$f":"INDEX($A:$O,ROW(),MATCH('Rapportage per vraag'!$C$12,'Data leveranciersbeoordeling'!$1:$1,0))","v":0},{"$f":"IFERROR(VLOOKUP(INDEX($A:$O,ROW(),MATCH('Rapportage per vraag'!$C$12,'Data leveranciersbeoordeling'!$1:$1,0)),Leveranciersbeoordeling!$H$1:$I$5,2,FALSE),0)","v":0},0]
["",null,null,null,null,null,null,null,null,null,null,null,null,null,null,{"$f":"INDEX($A:$O,ROW(),MATCH('Rapportage per vraag'!$C$12,'Data leveranciersbeoordeling'!$1:$1,0))","v":0},{"$f":"IFERROR(VLOOKUP(INDEX($A:$O,ROW(),MATCH('Rapportage per vraag'!$C$12,'Data leveranciersbeoordeling'!$1:$1,0)),Leveranciersbeoordeling!$H$1:$I$5,2,FALSE),0)","v":0},0]
["",null,null,null,null,null,null,null,null,null,null,null,null,null,null,{"$f":"INDEX($A:$O,ROW(),MATCH('Rapportage per vraag'!$C$12,'Data leveranciersbeoordeling'!$1:$1,0))","v":0},{"$f":"IFERROR(VLOOKUP(INDEX($A:$O,ROW(),MATCH('Rapportage per vraag'!$C$12,'Data leveranciersbeoordeling'!$1:$1,0)),Leveranciersbeoordeling!$H$1:$I$5,2,FALSE),0)","v":0},0]
["",null,null,null,null,null,null,null,null,null,null,null,null,null,null,{"$f":"INDEX($A:$O,ROW(),MATCH('Rapportage per vraag'!$C$12,'Data leveranciersbeoordeling'!$1:$1,0))","v":0},{"$f":"IFERROR(VLOOKUP(INDEX($A:$O,ROW(),MATCH('Rapportage per vraag'!$C$12,'Data leveranciersbeoordeling'!$1:$1,0)),Leveranciersbeoordeling!$H$1:$I$5,2,FALSE),0)","v":0},0]
[{"$f":"CONCATENATE(B8387,C8387,D8387)","v":""},null,null,null,null,null,null,null,null,null,null,null,null,null,null,{"$f":"INDEX($A:$O,ROW(),MATCH('Rapportage per vraag'!$C$12,'Data leveranciersbeoordeling'!$1:$1,0))","v":0},{"$f":"IFERROR(VLOOKUP(INDEX($A:$O,ROW(),MATCH('Rapportage per vraag'!$C$12,'Data leveranciersbeoordeling'!$1:$1,0)),Leveranciersbeoordeling!$H$1:$I$5,2,FALSE),0)","v":0},0]
["",null,null,null,null,null,null,null,null,null,null,null,null,null,null,{"$f":"INDEX($A:$O,ROW(),MATCH('Rapportage per vraag'!$C$12,'Data leveranciersbeoordeling'!$1:$1,0))","v":0},{"$f":"IFERROR(VLOOKUP(INDEX($A:$O,ROW(),MATCH('Rapportage per vraag'!$C$12,'Data leveranciersbeoordeling'!$1:$1,0)),Leveranciersbeoordeling!$H$1:$I$5,2,FALSE),0)","v":0},0]
["",null,null,null,null,null,null,null,null,null,null,null,null,null,null,{"$f":"INDEX($A:$O,ROW(),MATCH('Rapportage per vraag'!$C$12,'Data leveranciersbeoordeling'!$1:$1,0))","v":0},{"$f":"IFERROR(VLOOKUP(INDEX($A:$O,ROW(),MATCH('Rapportage per vraag'!$C$12,'Data leveranciersbeoordeling'!$1:$1,0)),Leveranciersbeoordeling!$H$1:$I$5,2,FALSE),0)","v":0},0]
["",null,null,null,null,null,null,null,null,null,null,null,null,null,null,{"$f":"INDEX($A:$O,ROW(),MATCH('Rapportage per vraag'!$C$12,'Data leveranciersbeoordeling'!$1:$1,0))","v":0},{"$f":"IFERROR(VLOOKUP(INDEX($A:$O,ROW(),MATCH('Rapportage per vraag'!$C$12,'Data leveranciersbeoordeling'!$1:$1,0)),Leveranciersbeoordeling!$H$1:$I$5,2,FALSE),0)","v":0},0]
["",null,null,null,null,null,null,null,null,null,null,null,null,null,null,{"$f":"INDEX($A:$O,ROW(),MATCH('Rapportage per vraag'!$C$12,'Data leveranciersbeoordeling'!$1:$1,0))","v":0},{"$f":"IFERROR(VLOOKUP(INDEX($A:$O,ROW(),MATCH('Rapportage per vraag'!$C$12,'Data leveranciersbeoordeling'!$1:$1,0)),Leveranciersbeoordeling!$H$1:$I$5,2,FALSE),0)","v":0},0]
["",null,null,null,null,null,null,null,null,null,null,null,null,null,null,{"$f":"INDEX($A:$O,ROW(),MATCH('Rapportage per vraag'!$C$12,'Data leveranciersbeoordeling'!$1:$1,0))","v":0},{"$f":"IFERROR(VLOOKUP(INDEX($A:$O,ROW(),MATCH('Rapportage per vraag'!$C$12,'Data leveranciersbeoordeling'!$1:$1,0)),Leveranciersbeoordeling!$H$1:$I$5,2,FALSE),0)","v":0},0]
["",null,null,null,null,null,null,null,null,null,null,null,null,null,null,{"$f":"INDEX($A:$O,ROW(),MATCH('Rapportage per vraag'!$C$12,'Data leveranciersbeoordeling'!$1:$1,0))","v":0},{"$f":"IFERROR(VLOOKUP(INDEX($A:$O,ROW(),MATCH('Rapportage per vraag'!$C$12,'Data leveranciersbeoordeling'!$1:$1,0)),Leveranciersbeoordeling!$H$1:$I$5,2,FALSE),0)","v":0},0]
["",null,null,null,null,null,null,null,null,null,null,null,null,null,null,{"$f":"INDEX($A:$O,ROW(),MATCH('Rapportage per vraag'!$C$12,'Data leveranciersbeoordeling'!$1:$1,0))","v":0},{"$f":"IFERROR(VLOOKUP(INDEX($A:$O,ROW(),MATCH('Rapportage per vraag'!$C$12,'Data leveranciersbeoordeling'!$1:$1,0)),Leveranciersbeoordeling!$H$1:$I$5,2,FALSE),0)","v":0},0]
["",null,null,null,null,null,null,null,null,null,null,null,null,null,null,{"$f":"INDEX($A:$O,ROW(),MATCH('Rapportage per vraag'!$C$12,'Data leveranciersbeoordeling'!$1:$1,0))","v":0},{"$f":"IFERROR(VLOOKUP(INDEX($A:$O,ROW(),MATCH('Rapportage per vraag'!$C$12,'Data leveranciersbeoordeling'!$1:$1,0)),Leveranciersbeoordeling!$H$1:$I$5,2,FALSE),0)","v":0},0]
["",null,null,null,null,null,null,null,null,null,null,null,null,null,null,{"$f":"INDEX($A:$O,ROW(),MATCH('Rapportage per vraag'!$C$12,'Data leveranciersbeoordeling'!$1:$1,0))","v":0},{"$f":"IFERROR(VLOOKUP(INDEX($A:$O,ROW(),MATCH('Rapportage per vraag'!$C$12,'Data leveranciersbeoordeling'!$1:$1,0)),Leveranciersbeoordeling!$H$1:$I$5,2,FALSE),0)","v":0},0]
["",null,null,null,null,null,null,null,null,null,null,null,null,null,null,{"$f":"INDEX($A:$O,ROW(),MATCH('Rapportage per vraag'!$C$12,'Data leveranciersbeoordeling'!$1:$1,0))","v":0},{"$f":"IFERROR(VLOOKUP(INDEX($A:$O,ROW(),MATCH('Rapportage per vraag'!$C$12,'Data leveranciersbeoordeling'!$1:$1,0)),Leveranciersbeoordeling!$H$1:$I$5,2,FALSE),0)","v":0},0]
["",null,null,null,null,null,null,null,null,null,null,null,null,null,null,{"$f":"INDEX($A:$O,ROW(),MATCH('Rapportage per vraag'!$C$12,'Data leveranciersbeoordeling'!$1:$1,0))","v":0},{"$f":"IFERROR(VLOOKUP(INDEX($A:$O,ROW(),MATCH('Rapportage per vraag'!$C$12,'Data leveranciersbeoordeling'!$1:$1,0)),Leveranciersbeoordeling!$H$1:$I$5,2,FALSE),0)","v":0},0]
["",null,null,null,null,null,null,null,null,null,null,null,null,null,null,{"$f":"INDEX($A:$O,ROW(),MATCH('Rapportage per vraag'!$C$12,'Data leveranciersbeoordeling'!$1:$1,0))","v":0},{"$f":"IFERROR(VLOOKUP(INDEX($A:$O,ROW(),MATCH('Rapportage per vraag'!$C$12,'Data leveranciersbeoordeling'!$1:$1,0)),Leveranciersbeoordeling!$H$1:$I$5,2,FALSE),0)","v":0},0]
["",null,null,null,null,null,null,null,null,null,null,null,null,null,null,{"$f":"INDEX($A:$O,ROW(),MATCH('Rapportage per vraag'!$C$12,'Data leveranciersbeoordeling'!$1:$1,0))","v":0},{"$f":"IFERROR(VLOOKUP(INDEX($A:$O,ROW(),MATCH('Rapportage per vraag'!$C$12,'Data leveranciersbeoordeling'!$1:$1,0)),Leveranciersbeoordeling!$H$1:$I$5,2,FALSE),0)","v":0},0]
["",null,null,null,null,null,null,null,null,null,null,null,null,null,null,{"$f":"INDEX($A:$O,ROW(),MATCH('Rapportage per vraag'!$C$12,'Data leveranciersbeoordeling'!$1:$1,0))","v":0},{"$f":"IFERROR(VLOOKUP(INDEX($A:$O,ROW(),MATCH('Rapportage per vraag'!$C$12,'Data leveranciersbeoordeling'!$1:$1,0)),Leveranciersbeoordeling!$H$1:$I$5,2,FALSE),0)","v":0},0]
["",null,null,null,null,null,null,null,null,null,null,null,null,null,null,{"$f":"INDEX($A:$O,ROW(),MATCH('Rapportage per vraag'!$C$12,'Data leveranciersbeoordeling'!$1:$1,0))","v":0},{"$f":"IFERROR(VLOOKUP(INDEX($A:$O,ROW(),MATCH('Rapportage per vraag'!$C$12,'Data leveranciersbeoordeling'!$1:$1,0)),Leveranciersbeoordeling!$H$1:$I$5,2,FALSE),0)","v":0},0]
["",null,null,null,null,null,null,null,null,null,null,null,null,null,null,{"$f":"INDEX($A:$O,ROW(),MATCH('Rapportage per vraag'!$C$12,'Data leveranciersbeoordeling'!$1:$1,0))","v":0},{"$f":"IFERROR(VLOOKUP(INDEX($A:$O,ROW(),MATCH('Rapportage per vraag'!$C$12,'Data leveranciersbeoordeling'!$1:$1,0)),Leveranciersbeoordeling!$H$1:$I$5,2,FALSE),0)","v":0},0]
["",null,null,null,null,null,null,null,null,null,null,null,null,null,null,{"$f":"INDEX($A:$O,ROW(),MATCH('Rapportage per vraag'!$C$12,'Data leveranciersbeoordeling'!$1:$1,0))","v":0},{"$f":"IFERROR(VLOOKUP(INDEX($A:$O,ROW(),MATCH('Rapportage per vraag'!$C$12,'Data leveranciersbeoordeling'!$1:$1,0)),Leveranciersbeoordeling!$H$1:$I$5,2,FALSE),0)","v":0},0]
["",null,null,null,null,null,null,null,null,null,null,null,null,null,null,{"$f":"INDEX($A:$O,ROW(),MATCH('Rapportage per vraag'!$C$12,'Data leveranciersbeoordeling'!$1:$1,0))","v":0},{"$f":"IFERROR(VLOOKUP(INDEX($A:$O,ROW(),MATCH('Rapportage per vraag'!$C$12,'Data leveranciersbeoordeling'!$1:$1,0)),Leveranciersbeoordeling!$H$1:$I$5,2,FALSE),0)","v":0},0]
["",null,null,null,null,null,null,null,null,null,null,null,null,null,null,{"$f":"INDEX($A:$O,ROW(),MATCH('Rapportage per vraag'!$C$12,'Data leveranciersbeoordeling'!$1:$1,0))","v":0},{"$f":"IFERROR(VLOOKUP(INDEX($A:$O,ROW(),MATCH('Rapportage per vraag'!$C$12,'Data leveranciersbeoordeling'!$1:$1,0)),Leveranciersbeoordeling!$H$1:$I$5,2,FALSE),0)","v":0},0]
["",null,null,null,null,null,null,null,null,null,null,null,null,null,null,{"$f":"INDEX($A:$O,ROW(),MATCH('Rapportage per vraag'!$C$12,'Data leveranciersbeoordeling'!$1:$1,0))","v":0},{"$f":"IFERROR(VLOOKUP(INDEX($A:$O,ROW(),MATCH('Rapportage per vraag'!$C$12,'Data leveranciersbeoordeling'!$1:$1,0)),Leveranciersbeoordeling!$H$1:$I$5,2,FALSE),0)","v":0},0]
["",null,null,null,null,null,null,null,null,null,null,null,null,null,null,{"$f":"INDEX($A:$O,ROW(),MATCH('Rapportage per vraag'!$C$12,'Data leveranciersbeoordeling'!$1:$1,0))","v":0},{"$f":"IFERROR(VLOOKUP(INDEX($A:$O,ROW(),MATCH('Rapportage per vraag'!$C$12,'Data leveranciersbeoordeling'!$1:$1,0)),Leveranciersbeoordeling!$H$1:$I$5,2,FALSE),0)","v":0},0]
["",null,null,null,null,null,null,null,null,null,null,null,null,null,null,{"$f":"INDEX($A:$O,ROW(),MATCH('Rapportage per vraag'!$C$12,'Data leveranciersbeoordeling'!$1:$1,0))","v":0},{"$f":"IFERROR(VLOOKUP(INDEX($A:$O,ROW(),MATCH('Rapportage per vraag'!$C$12,'Data leveranciersbeoordeling'!$1:$1,0)),Leveranciersbeoordeling!$H$1:$I$5,2,FALSE),0)","v":0},0]
["",null,null,null,null,null,null,null,null,null,null,null,null,null,null,{"$f":"INDEX($A:$O,ROW(),MATCH('Rapportage per vraag'!$C$12,'Data leveranciersbeoordeling'!$1:$1,0))","v":0},{"$f":"IFERROR(VLOOKUP(INDEX($A:$O,ROW(),MATCH('Rapportage per vraag'!$C$12,'Data leveranciersbeoordeling'!$1:$1,0)),Leveranciersbeoordeling!$H$1:$I$5,2,FALSE),0)","v":0},0]
["",null,null,null,null,null,null,null,null,null,null,null,null,null,null,{"$f":"INDEX($A:$O,ROW(),MATCH('Rapportage per vraag'!$C$12,'Data leveranciersbeoordeling'!$1:$1,0))","v":0},{"$f":"IFERROR(VLOOKUP(INDEX($A:$O,ROW(),MATCH('Rapportage per vraag'!$C$12,'Data leveranciersbeoordeling'!$1:$1,0)),Leveranciersbeoordeling!$H$1:$I$5,2,FALSE),0)","v":0},0]
["",null,null,null,null,null,null,null,null,null,null,null,null,null,null,{"$f":"INDEX($A:$O,ROW(),MATCH('Rapportage per vraag'!$C$12,'Data leveranciersbeoordeling'!$1:$1,0))","v":0},{"$f":"IFERROR(VLOOKUP(INDEX($A:$O,ROW(),MATCH('Rapportage per vraag'!$C$12,'Data leveranciersbeoordeling'!$1:$1,0)),Leveranciersbeoordeling!$H$1:$I$5,2,FALSE),0)","v":0},0]
["",null,null,null,null,null,null,null,null,null,null,null,null,null,null,{"$f":"INDEX($A:$O,ROW(),MATCH('Rapportage per vraag'!$C$12,'Data leveranciersbeoordeling'!$1:$1,0))","v":0},{"$f":"IFERROR(VLOOKUP(INDEX($A:$O,ROW(),MATCH('Rapportage per vraag'!$C$12,'Data leveranciersbeoordeling'!$1:$1,0)),Leveranciersbeoordeling!$H$1:$I$5,2,FALSE),0)","v":0},0]
["",null,null,null,null,null,null,null,null,null,null,null,null,null,null,{"$f":"INDEX($A:$O,ROW(),MATCH('Rapportage per vraag'!$C$12,'Data leveranciersbeoordeling'!$1:$1,0))","v":0},{"$f":"IFERROR(VLOOKUP(INDEX($A:$O,ROW(),MATCH('Rapportage per vraag'!$C$12,'Data leveranciersbeoordeling'!$1:$1,0)),Leveranciersbeoordeling!$H$1:$I$5,2,FALSE),0)","v":0},0]
["",null,null,null,null,null,null,null,null,null,null,null,null,null,null,{"$f":"INDEX($A:$O,ROW(),MATCH('Rapportage per vraag'!$C$12,'Data leveranciersbeoordeling'!$1:$1,0))","v":0},{"$f":"IFERROR(VLOOKUP(INDEX($A:$O,ROW(),MATCH('Rapportage per vraag'!$C$12,'Data leveranciersbeoordeling'!$1:$1,0)),Leveranciersbeoordeling!$H$1:$I$5,2,FALSE),0)","v":0},0]
["",null,null,null,null,null,null,null,null,null,null,null,null,null,null,{"$f":"INDEX($A:$O,ROW(),MATCH('Rapportage per vraag'!$C$12,'Data leveranciersbeoordeling'!$1:$1,0))","v":0},{"$f":"IFERROR(VLOOKUP(INDEX($A:$O,ROW(),MATCH('Rapportage per vraag'!$C$12,'Data leveranciersbeoordeling'!$1:$1,0)),Leveranciersbeoordeling!$H$1:$I$5,2,FALSE),0)","v":0},0]
["",null,null,null,null,null,null,null,null,null,null,null,null,null,null,{"$f":"INDEX($A:$O,ROW(),MATCH('Rapportage per vraag'!$C$12,'Data leveranciersbeoordeling'!$1:$1,0))","v":0},{"$f":"IFERROR(VLOOKUP(INDEX($A:$O,ROW(),MATCH('Rapportage per vraag'!$C$12,'Data leveranciersbeoordeling'!$1:$1,0)),Leveranciersbeoordeling!$H$1:$I$5,2,FALSE),0)","v":0},0]
["",null,null,null,null,null,null,null,null,null,null,null,null,null,null,{"$f":"INDEX($A:$O,ROW(),MATCH('Rapportage per vraag'!$C$12,'Data leveranciersbeoordeling'!$1:$1,0))","v":0},{"$f":"IFERROR(VLOOKUP(INDEX($A:$O,ROW(),MATCH('Rapportage per vraag'!$C$12,'Data leveranciersbeoordeling'!$1:$1,0)),Leveranciersbeoordeling!$H$1:$I$5,2,FALSE),0)","v":0},0]
["",null,null,null,null,null,null,null,null,null,null,null,null,null,null,{"$f":"INDEX($A:$O,ROW(),MATCH('Rapportage per vraag'!$C$12,'Data leveranciersbeoordeling'!$1:$1,0))","v":0},{"$f":"IFERROR(VLOOKUP(INDEX($A:$O,ROW(),MATCH('Rapportage per vraag'!$C$12,'Data leveranciersbeoordeling'!$1:$1,0)),Leveranciersbeoordeling!$H$1:$I$5,2,FALSE),0)","v":0},0]
["",null,null,null,null,null,null,null,null,null,null,null,null,null,null,{"$f":"INDEX($A:$O,ROW(),MATCH('Rapportage per vraag'!$C$12,'Data leveranciersbeoordeling'!$1:$1,0))","v":0},{"$f":"IFERROR(VLOOKUP(INDEX($A:$O,ROW(),MATCH('Rapportage per vraag'!$C$12,'Data leveranciersbeoordeling'!$1:$1,0)),Leveranciersbeoordeling!$H$1:$I$5,2,FALSE),0)","v":0},0]
["",null,null,null,null,null,null,null,null,null,null,null,null,null,null,{"$f":"INDEX($A:$O,ROW(),MATCH('Rapportage per vraag'!$C$12,'Data leveranciersbeoordeling'!$1:$1,0))","v":0},{"$f":"IFERROR(VLOOKUP(INDEX($A:$O,ROW(),MATCH('Rapportage per vraag'!$C$12,'Data leveranciersbeoordeling'!$1:$1,0)),Leveranciersbeoordeling!$H$1:$I$5,2,FALSE),0)","v":0},0]
["",null,null,null,null,null,null,null,null,null,null,null,null,null,null,{"$f":"INDEX($A:$O,ROW(),MATCH('Rapportage per vraag'!$C$12,'Data leveranciersbeoordeling'!$1:$1,0))","v":0},{"$f":"IFERROR(VLOOKUP(INDEX($A:$O,ROW(),MATCH('Rapportage per vraag'!$C$12,'Data leveranciersbeoordeling'!$1:$1,0)),Leveranciersbeoordeling!$H$1:$I$5,2,FALSE),0)","v":0},0]
["",null,null,null,null,null,null,null,null,null,null,null,null,null,null,{"$f":"INDEX($A:$O,ROW(),MATCH('Rapportage per vraag'!$C$12,'Data leveranciersbeoordeling'!$1:$1,0))","v":0},{"$f":"IFERROR(VLOOKUP(INDEX($A:$O,ROW(),MATCH('Rapportage per vraag'!$C$12,'Data leveranciersbeoordeling'!$1:$1,0)),Leveranciersbeoordeling!$H$1:$I$5,2,FALSE),0)","v":0},0]
["",null,null,null,null,null,null,null,null,null,null,null,null,null,null,{"$f":"INDEX($A:$O,ROW(),MATCH('Rapportage per vraag'!$C$12,'Data leveranciersbeoordeling'!$1:$1,0))","v":0},{"$f":"IFERROR(VLOOKUP(INDEX($A:$O,ROW(),MATCH('Rapportage per vraag'!$C$12,'Data leveranciersbeoordeling'!$1:$1,0)),Leveranciersbeoordeling!$H$1:$I$5,2,FALSE),0)","v":0},0]
["",null,null,null,null,null,null,null,null,null,null,null,null,null,null,{"$f":"INDEX($A:$O,ROW(),MATCH('Rapportage per vraag'!$C$12,'Data leveranciersbeoordeling'!$1:$1,0))","v":0},{"$f":"IFERROR(VLOOKUP(INDEX($A:$O,ROW(),MATCH('Rapportage per vraag'!$C$12,'Data leveranciersbeoordeling'!$1:$1,0)),Leveranciersbeoordeling!$H$1:$I$5,2,FALSE),0)","v":0},0]
["",null,null,null,null,null,null,null,null,null,null,null,null,null,null,{"$f":"INDEX($A:$O,ROW(),MATCH('Rapportage per vraag'!$C$12,'Data leveranciersbeoordeling'!$1:$1,0))","v":0},{"$f":"IFERROR(VLOOKUP(INDEX($A:$O,ROW(),MATCH('Rapportage per vraag'!$C$12,'Data leveranciersbeoordeling'!$1:$1,0)),Leveranciersbeoordeling!$H$1:$I$5,2,FALSE),0)","v":0},0]
["",null,null,null,null,null,null,null,null,null,null,null,null,null,null,{"$f":"INDEX($A:$O,ROW(),MATCH('Rapportage per vraag'!$C$12,'Data leveranciersbeoordeling'!$1:$1,0))","v":0},{"$f":"IFERROR(VLOOKUP(INDEX($A:$O,ROW(),MATCH('Rapportage per vraag'!$C$12,'Data leveranciersbeoordeling'!$1:$1,0)),Leveranciersbeoordeling!$H$1:$I$5,2,FALSE),0)","v":0},0]
["",null,null,null,null,null,null,null,null,null,null,null,null,null,null,{"$f":"INDEX($A:$O,ROW(),MATCH('Rapportage per vraag'!$C$12,'Data leveranciersbeoordeling'!$1:$1,0))","v":0},{"$f":"IFERROR(VLOOKUP(INDEX($A:$O,ROW(),MATCH('Rapportage per vraag'!$C$12,'Data leveranciersbeoordeling'!$1:$1,0)),Leveranciersbeoordeling!$H$1:$I$5,2,FALSE),0)","v":0},0]
["",null,null,null,null,null,null,null,null,null,null,null,null,null,null,{"$f":"INDEX($A:$O,ROW(),MATCH('Rapportage per vraag'!$C$12,'Data leveranciersbeoordeling'!$1:$1,0))","v":0},{"$f":"IFERROR(VLOOKUP(INDEX($A:$O,ROW(),MATCH('Rapportage per vraag'!$C$12,'Data leveranciersbeoordeling'!$1:$1,0)),Leveranciersbeoordeling!$H$1:$I$5,2,FALSE),0)","v":0},0]
["",null,null,null,null,null,null,null,null,null,null,null,null,null,null,{"$f":"INDEX($A:$O,ROW(),MATCH('Rapportage per vraag'!$C$12,'Data leveranciersbeoordeling'!$1:$1,0))","v":0},{"$f":"IFERROR(VLOOKUP(INDEX($A:$O,ROW(),MATCH('Rapportage per vraag'!$C$12,'Data leveranciersbeoordeling'!$1:$1,0)),Leveranciersbeoordeling!$H$1:$I$5,2,FALSE),0)","v":0},0]
["",null,null,null,null,null,null,null,null,null,null,null,null,null,null,{"$f":"INDEX($A:$O,ROW(),MATCH('Rapportage per vraag'!$C$12,'Data leveranciersbeoordeling'!$1:$1,0))","v":0},{"$f":"IFERROR(VLOOKUP(INDEX($A:$O,ROW(),MATCH('Rapportage per vraag'!$C$12,'Data leveranciersbeoordeling'!$1:$1,0)),Leveranciersbeoordeling!$H$1:$I$5,2,FALSE),0)","v":0},0]
["",null,null,null,null,null,null,null,null,null,null,null,null,null,null,{"$f":"INDEX($A:$O,ROW(),MATCH('Rapportage per vraag'!$C$12,'Data leveranciersbeoordeling'!$1:$1,0))","v":0},{"$f":"IFERROR(VLOOKUP(INDEX($A:$O,ROW(),MATCH('Rapportage per vraag'!$C$12,'Data leveranciersbeoordeling'!$1:$1,0)),Leveranciersbeoordeling!$H$1:$I$5,2,FALSE),0)","v":0},0]
["",null,null,null,null,null,null,null,null,null,null,null,null,null,null,{"$f":"INDEX($A:$O,ROW(),MATCH('Rapportage per vraag'!$C$12,'Data leveranciersbeoordeling'!$1:$1,0))","v":0},{"$f":"IFERROR(VLOOKUP(INDEX($A:$O,ROW(),MATCH('Rapportage per vraag'!$C$12,'Data leveranciersbeoordeling'!$1:$1,0)),Leveranciersbeoordeling!$H$1:$I$5,2,FALSE),0)","v":0},0]
["",null,null,null,null,null,null,null,null,null,null,null,null,null,null,{"$f":"INDEX($A:$O,ROW(),MATCH('Rapportage per vraag'!$C$12,'Data leveranciersbeoordeling'!$1:$1,0))","v":0},{"$f":"IFERROR(VLOOKUP(INDEX($A:$O,ROW(),MATCH('Rapportage per vraag'!$C$12,'Data leveranciersbeoordeling'!$1:$1,0)),Leveranciersbeoordeling!$H$1:$I$5,2,FALSE),0)","v":0},0]
["",null,null,null,null,null,null,null,null,null,null,null,null,null,null,{"$f":"INDEX($A:$O,ROW(),MATCH('Rapportage per vraag'!$C$12,'Data leveranciersbeoordeling'!$1:$1,0))","v":0},{"$f":"IFERROR(VLOOKUP(INDEX($A:$O,ROW(),MATCH('Rapportage per vraag'!$C$12,'Data leveranciersbeoordeling'!$1:$1,0)),Leveranciersbeoordeling!$H$1:$I$5,2,FALSE),0)","v":0},0]
["",null,null,null,null,null,null,null,null,null,null,null,null,null,null,{"$f":"INDEX($A:$O,ROW(),MATCH('Rapportage per vraag'!$C$12,'Data leveranciersbeoordeling'!$1:$1,0))","v":0},{"$f":"IFERROR(VLOOKUP(INDEX($A:$O,ROW(),MATCH('Rapportage per vraag'!$C$12,'Data leveranciersbeoordeling'!$1:$1,0)),Leveranciersbeoordeling!$H$1:$I$5,2,FALSE),0)","v":0},0]
["",null,null,null,null,null,null,null,null,null,null,null,null,null,null,{"$f":"INDEX($A:$O,ROW(),MATCH('Rapportage per vraag'!$C$12,'Data leveranciersbeoordeling'!$1:$1,0))","v":0},{"$f":"IFERROR(VLOOKUP(INDEX($A:$O,ROW(),MATCH('Rapportage per vraag'!$C$12,'Data leveranciersbeoordeling'!$1:$1,0)),Leveranciersbeoordeling!$H$1:$I$5,2,FALSE),0)","v":0},0]
["",null,null,null,null,null,null,null,null,null,null,null,null,null,null,{"$f":"INDEX($A:$O,ROW(),MATCH('Rapportage per vraag'!$C$12,'Data leveranciersbeoordeling'!$1:$1,0))","v":0},{"$f":"IFERROR(VLOOKUP(INDEX($A:$O,ROW(),MATCH('Rapportage per vraag'!$C$12,'Data leveranciersbeoordeling'!$1:$1,0)),Leveranciersbeoordeling!$H$1:$I$5,2,FALSE),0)","v":0},0]
["",null,null,null,null,null,null,null,null,null,null,null,null,null,null,{"$f":"INDEX($A:$O,ROW(),MATCH('Rapportage per vraag'!$C$12,'Data leveranciersbeoordeling'!$1:$1,0))","v":0},{"$f":"IFERROR(VLOOKUP(INDEX($A:$O,ROW(),MATCH('Rapportage per vraag'!$C$12,'Data leveranciersbeoordeling'!$1:$1,0)),Leveranciersbeoordeling!$H$1:$I$5,2,FALSE),0)","v":0},{"$f":"IF(T(P8582)=P8582,Q8582,P8582)","v":0}]
["",null,null,null,null,null,null,null,null,null,null,null,null,null,null,{"$f":"INDEX($A:$O,ROW(),MATCH('Rapportage per vraag'!$C$12,'Data leveranciersbeoordeling'!$1:$1,0))","v":0},{"$f":"IFERROR(VLOOKUP(INDEX($A:$O,ROW(),MATCH('Rapportage per vraag'!$C$12,'Data leveranciersbeoordeling'!$1:$1,0)),Leveranciersbeoordeling!$H$1:$I$5,2,FALSE),0)","v":0},0]
["",null,null,null,null,null,null,null,null,null,null,null,null,null,null,{"$f":"INDEX($A:$O,ROW(),MATCH('Rapportage per vraag'!$C$12,'Data leveranciersbeoordeling'!$1:$1,0))","v":0},{"$f":"IFERROR(VLOOKUP(INDEX($A:$O,ROW(),MATCH('Rapportage per vraag'!$C$12,'Data leveranciersbeoordeling'!$1:$1,0)),Leveranciersbeoordeling!$H$1:$I$5,2,FALSE),0)","v":0},0]
["",null,null,null,null,null,null,null,null,null,null,null,null,null,null,{"$f":"INDEX($A:$O,ROW(),MATCH('Rapportage per vraag'!$C$12,'Data leveranciersbeoordeling'!$1:$1,0))","v":0},{"$f":"IFERROR(VLOOKUP(INDEX($A:$O,ROW(),MATCH('Rapportage per vraag'!$C$12,'Data leveranciersbeoordeling'!$1:$1,0)),Leveranciersbeoordeling!$H$1:$I$5,2,FALSE),0)","v":0},0]
["",null,null,null,null,null,null,null,null,null,null,null,null,null,null,{"$f":"INDEX($A:$O,ROW(),MATCH('Rapportage per vraag'!$C$12,'Data leveranciersbeoordeling'!$1:$1,0))","v":0},{"$f":"IFERROR(VLOOKUP(INDEX($A:$O,ROW(),MATCH('Rapportage per vraag'!$C$12,'Data leveranciersbeoordeling'!$1:$1,0)),Leveranciersbeoordeling!$H$1:$I$5,2,FALSE),0)","v":0},0]
["",null,null,null,null,null,null,null,null,null,null,null,null,null,null,{"$f":"INDEX($A:$O,ROW(),MATCH('Rapportage per vraag'!$C$12,'Data leveranciersbeoordeling'!$1:$1,0))","v":0},{"$f":"IFERROR(VLOOKUP(INDEX($A:$O,ROW(),MATCH('Rapportage per vraag'!$C$12,'Data leveranciersbeoordeling'!$1:$1,0)),Leveranciersbeoordeling!$H$1:$I$5,2,FALSE),0)","v":0},0]
["",null,null,null,null,null,null,null,null,null,null,null,null,null,null,{"$f":"INDEX($A:$O,ROW(),MATCH('Rapportage per vraag'!$C$12,'Data leveranciersbeoordeling'!$1:$1,0))","v":0},{"$f":"IFERROR(VLOOKUP(INDEX($A:$O,ROW(),MATCH('Rapportage per vraag'!$C$12,'Data leveranciersbeoordeling'!$1:$1,0)),Leveranciersbeoordeling!$H$1:$I$5,2,FALSE),0)","v":0},0]
["",null,null,null,null,null,null,null,null,null,null,null,null,null,null,{"$f":"INDEX($A:$O,ROW(),MATCH('Rapportage per vraag'!$C$12,'Data leveranciersbeoordeling'!$1:$1,0))","v":0},{"$f":"IFERROR(VLOOKUP(INDEX($A:$O,ROW(),MATCH('Rapportage per vraag'!$C$12,'Data leveranciersbeoordeling'!$1:$1,0)),Leveranciersbeoordeling!$H$1:$I$5,2,FALSE),0)","v":0},0]
["",null,null,null,null,null,null,null,null,null,null,null,null,null,null,{"$f":"INDEX($A:$O,ROW(),MATCH('Rapportage per vraag'!$C$12,'Data leveranciersbeoordeling'!$1:$1,0))","v":0},{"$f":"IFERROR(VLOOKUP(INDEX($A:$O,ROW(),MATCH('Rapportage per vraag'!$C$12,'Data leveranciersbeoordeling'!$1:$1,0)),Leveranciersbeoordeling!$H$1:$I$5,2,FALSE),0)","v":0},0]
["",null,null,null,null,null,null,null,null,null,null,null,null,null,null,{"$f":"INDEX($A:$O,ROW(),MATCH('Rapportage per vraag'!$C$12,'Data leveranciersbeoordeling'!$1:$1,0))","v":0},{"$f":"IFERROR(VLOOKUP(INDEX($A:$O,ROW(),MATCH('Rapportage per vraag'!$C$12,'Data leveranciersbeoordeling'!$1:$1,0)),Leveranciersbeoordeling!$H$1:$I$5,2,FALSE),0)","v":0},0]
["",null,null,null,null,null,null,null,null,null,null,null,null,null,null,{"$f":"INDEX($A:$O,ROW(),MATCH('Rapportage per vraag'!$C$12,'Data leveranciersbeoordeling'!$1:$1,0))","v":0},{"$f":"IFERROR(VLOOKUP(INDEX($A:$O,ROW(),MATCH('Rapportage per vraag'!$C$12,'Data leveranciersbeoordeling'!$1:$1,0)),Leveranciersbeoordeling!$H$1:$I$5,2,FALSE),0)","v":0},0]
["",null,null,null,null,null,null,null,null,null,null,null,null,null,null,{"$f":"INDEX($A:$O,ROW(),MATCH('Rapportage per vraag'!$C$12,'Data leveranciersbeoordeling'!$1:$1,0))","v":0},{"$f":"IFERROR(VLOOKUP(INDEX($A:$O,ROW(),MATCH('Rapportage per vraag'!$C$12,'Data leveranciersbeoordeling'!$1:$1,0)),Leveranciersbeoordeling!$H$1:$I$5,2,FALSE),0)","v":0},0]
["",null,null,null,null,null,null,null,null,null,null,null,null,null,null,{"$f":"INDEX($A:$O,ROW(),MATCH('Rapportage per vraag'!$C$12,'Data leveranciersbeoordeling'!$1:$1,0))","v":0},{"$f":"IFERROR(VLOOKUP(INDEX($A:$O,ROW(),MATCH('Rapportage per vraag'!$C$12,'Data leveranciersbeoordeling'!$1:$1,0)),Leveranciersbeoordeling!$H$1:$I$5,2,FALSE),0)","v":0},0]
["",null,null,null,null,null,null,null,null,null,null,null,null,null,null,{"$f":"INDEX($A:$O,ROW(),MATCH('Rapportage per vraag'!$C$12,'Data leveranciersbeoordeling'!$1:$1,0))","v":0},{"$f":"IFERROR(VLOOKUP(INDEX($A:$O,ROW(),MATCH('Rapportage per vraag'!$C$12,'Data leveranciersbeoordeling'!$1:$1,0)),Leveranciersbeoordeling!$H$1:$I$5,2,FALSE),0)","v":0},0]
["",null,null,null,null,null,null,null,null,null,null,null,null,null,null,{"$f":"INDEX($A:$O,ROW(),MATCH('Rapportage per vraag'!$C$12,'Data leveranciersbeoordeling'!$1:$1,0))","v":0},{"$f":"IFERROR(VLOOKUP(INDEX($A:$O,ROW(),MATCH('Rapportage per vraag'!$C$12,'Data leveranciersbeoordeling'!$1:$1,0)),Leveranciersbeoordeling!$H$1:$I$5,2,FALSE),0)","v":0},0]
["",null,null,null,null,null,null,null,null,null,null,null,null,null,null,{"$f":"INDEX($A:$O,ROW(),MATCH('Rapportage per vraag'!$C$12,'Data leveranciersbeoordeling'!$1:$1,0))","v":0},{"$f":"IFERROR(VLOOKUP(INDEX($A:$O,ROW(),MATCH('Rapportage per vraag'!$C$12,'Data leveranciersbeoordeling'!$1:$1,0)),Leveranciersbeoordeling!$H$1:$I$5,2,FALSE),0)","v":0},0]
["",null,null,null,null,null,null,null,null,null,null,null,null,null,null,{"$f":"INDEX($A:$O,ROW(),MATCH('Rapportage per vraag'!$C$12,'Data leveranciersbeoordeling'!$1:$1,0))","v":0},{"$f":"IFERROR(VLOOKUP(INDEX($A:$O,ROW(),MATCH('Rapportage per vraag'!$C$12,'Data leveranciersbeoordeling'!$1:$1,0)),Leveranciersbeoordeling!$H$1:$I$5,2,FALSE),0)","v":0},0]
["",null,null,null,null,null,null,null,null,null,null,null,null,null,null,{"$f":"INDEX($A:$O,ROW(),MATCH('Rapportage per vraag'!$C$12,'Data leveranciersbeoordeling'!$1:$1,0))","v":0},{"$f":"IFERROR(VLOOKUP(INDEX($A:$O,ROW(),MATCH('Rapportage per vraag'!$C$12,'Data leveranciersbeoordeling'!$1:$1,0)),Leveranciersbeoordeling!$H$1:$I$5,2,FALSE),0)","v":0},0]
["",null,null,null,null,null,null,null,null,null,null,null,null,null,null,{"$f":"INDEX($A:$O,ROW(),MATCH('Rapportage per vraag'!$C$12,'Data leveranciersbeoordeling'!$1:$1,0))","v":0},{"$f":"IFERROR(VLOOKUP(INDEX($A:$O,ROW(),MATCH('Rapportage per vraag'!$C$12,'Data leveranciersbeoordeling'!$1:$1,0)),Leveranciersbeoordeling!$H$1:$I$5,2,FALSE),0)","v":0},0]
["",null,null,null,null,null,null,null,null,null,null,null,null,null,null,{"$f":"INDEX($A:$O,ROW(),MATCH('Rapportage per vraag'!$C$12,'Data leveranciersbeoordeling'!$1:$1,0))","v":0},{"$f":"IFERROR(VLOOKUP(INDEX($A:$O,ROW(),MATCH('Rapportage per vraag'!$C$12,'Data leveranciersbeoordeling'!$1:$1,0)),Leveranciersbeoordeling!$H$1:$I$5,2,FALSE),0)","v":0},0]
["",null,null,null,null,null,null,null,null,null,null,null,null,null,null,{"$f":"INDEX($A:$O,ROW(),MATCH('Rapportage per vraag'!$C$12,'Data leveranciersbeoordeling'!$1:$1,0))","v":0},{"$f":"IFERROR(VLOOKUP(INDEX($A:$O,ROW(),MATCH('Rapportage per vraag'!$C$12,'Data leveranciersbeoordeling'!$1:$1,0)),Leveranciersbeoordeling!$H$1:$I$5,2,FALSE),0)","v":0},0]
["",null,null,null,null,null,null,null,null,null,null,null,null,null,null,{"$f":"INDEX($A:$O,ROW(),MATCH('Rapportage per vraag'!$C$12,'Data leveranciersbeoordeling'!$1:$1,0))","v":0},{"$f":"IFERROR(VLOOKUP(INDEX($A:$O,ROW(),MATCH('Rapportage per vraag'!$C$12,'Data leveranciersbeoordeling'!$1:$1,0)),Leveranciersbeoordeling!$H$1:$I$5,2,FALSE),0)","v":0},0]
["",null,null,null,null,null,null,null,null,null,null,null,null,null,null,{"$f":"INDEX($A:$O,ROW(),MATCH('Rapportage per vraag'!$C$12,'Data leveranciersbeoordeling'!$1:$1,0))","v":0},{"$f":"IFERROR(VLOOKUP(INDEX($A:$O,ROW(),MATCH('Rapportage per vraag'!$C$12,'Data leveranciersbeoordeling'!$1:$1,0)),Leveranciersbeoordeling!$H$1:$I$5,2,FALSE),0)","v":0},0]
["",null,null,null,null,null,null,null,null,null,null,null,null,null,null,{"$f":"INDEX($A:$O,ROW(),MATCH('Rapportage per vraag'!$C$12,'Data leveranciersbeoordeling'!$1:$1,0))","v":0},{"$f":"IFERROR(VLOOKUP(INDEX($A:$O,ROW(),MATCH('Rapportage per vraag'!$C$12,'Data leveranciersbeoordeling'!$1:$1,0)),Leveranciersbeoordeling!$H$1:$I$5,2,FALSE),0)","v":0},0]
["",null,null,null,null,null,null,null,null,null,null,null,null,null,null,{"$f":"INDEX($A:$O,ROW(),MATCH('Rapportage per vraag'!$C$12,'Data leveranciersbeoordeling'!$1:$1,0))","v":0},{"$f":"IFERROR(VLOOKUP(INDEX($A:$O,ROW(),MATCH('Rapportage per vraag'!$C$12,'Data leveranciersbeoordeling'!$1:$1,0)),Leveranciersbeoordeling!$H$1:$I$5,2,FALSE),0)","v":0},0]
["",null,null,null,null,null,null,null,null,null,null,null,null,null,null,{"$f":"INDEX($A:$O,ROW(),MATCH('Rapportage per vraag'!$C$12,'Data leveranciersbeoordeling'!$1:$1,0))","v":0},{"$f":"IFERROR(VLOOKUP(INDEX($A:$O,ROW(),MATCH('Rapportage per vraag'!$C$12,'Data leveranciersbeoordeling'!$1:$1,0)),Leveranciersbeoordeling!$H$1:$I$5,2,FALSE),0)","v":0},0]
["",null,null,null,null,null,null,null,null,null,null,null,null,null,null,{"$f":"INDEX($A:$O,ROW(),MATCH('Rapportage per vraag'!$C$12,'Data leveranciersbeoordeling'!$1:$1,0))","v":0},{"$f":"IFERROR(VLOOKUP(INDEX($A:$O,ROW(),MATCH('Rapportage per vraag'!$C$12,'Data leveranciersbeoordeling'!$1:$1,0)),Leveranciersbeoordeling!$H$1:$I$5,2,FALSE),0)","v":0},0]
["",null,null,null,null,null,null,null,null,null,null,null,null,null,null,{"$f":"INDEX($A:$O,ROW(),MATCH('Rapportage per vraag'!$C$12,'Data leveranciersbeoordeling'!$1:$1,0))","v":0},{"$f":"IFERROR(VLOOKUP(INDEX($A:$O,ROW(),MATCH('Rapportage per vraag'!$C$12,'Data leveranciersbeoordeling'!$1:$1,0)),Leveranciersbeoordeling!$H$1:$I$5,2,FALSE),0)","v":0},0]
["",null,null,null,null,null,null,null,null,null,null,null,null,null,null,{"$f":"INDEX($A:$O,ROW(),MATCH('Rapportage per vraag'!$C$12,'Data leveranciersbeoordeling'!$1:$1,0))","v":0},{"$f":"IFERROR(VLOOKUP(INDEX($A:$O,ROW(),MATCH('Rapportage per vraag'!$C$12,'Data leveranciersbeoordeling'!$1:$1,0)),Leveranciersbeoordeling!$H$1:$I$5,2,FALSE),0)","v":0},0]
["",null,null,null,null,null,null,null,null,null,null,null,null,null,null,{"$f":"INDEX($A:$O,ROW(),MATCH('Rapportage per vraag'!$C$12,'Data leveranciersbeoordeling'!$1:$1,0))","v":0},{"$f":"IFERROR(VLOOKUP(INDEX($A:$O,ROW(),MATCH('Rapportage per vraag'!$C$12,'Data leveranciersbeoordeling'!$1:$1,0)),Leveranciersbeoordeling!$H$1:$I$5,2,FALSE),0)","v":0},0]
["",null,null,null,null,null,null,null,null,null,null,null,null,null,null,{"$f":"INDEX($A:$O,ROW(),MATCH('Rapportage per vraag'!$C$12,'Data leveranciersbeoordeling'!$1:$1,0))","v":0},{"$f":"IFERROR(VLOOKUP(INDEX($A:$O,ROW(),MATCH('Rapportage per vraag'!$C$12,'Data leveranciersbeoordeling'!$1:$1,0)),Leveranciersbeoordeling!$H$1:$I$5,2,FALSE),0)","v":0},0]
["",null,null,null,null,null,null,null,null,null,null,null,null,null,null,{"$f":"INDEX($A:$O,ROW(),MATCH('Rapportage per vraag'!$C$12,'Data leveranciersbeoordeling'!$1:$1,0))","v":0},{"$f":"IFERROR(VLOOKUP(INDEX($A:$O,ROW(),MATCH('Rapportage per vraag'!$C$12,'Data leveranciersbeoordeling'!$1:$1,0)),Leveranciersbeoordeling!$H$1:$I$5,2,FALSE),0)","v":0},0]
["",null,null,null,null,null,null,null,null,null,null,null,null,null,null,{"$f":"INDEX($A:$O,ROW(),MATCH('Rapportage per vraag'!$C$12,'Data leveranciersbeoordeling'!$1:$1,0))","v":0},{"$f":"IFERROR(VLOOKUP(INDEX($A:$O,ROW(),MATCH('Rapportage per vraag'!$C$12,'Data leveranciersbeoordeling'!$1:$1,0)),Leveranciersbeoordeling!$H$1:$I$5,2,FALSE),0)","v":0},0]
["",null,null,null,null,null,null,null,null,null,null,null,null,null,null,{"$f":"INDEX($A:$O,ROW(),MATCH('Rapportage per vraag'!$C$12,'Data leveranciersbeoordeling'!$1:$1,0))","v":0},{"$f":"IFERROR(VLOOKUP(INDEX($A:$O,ROW(),MATCH('Rapportage per vraag'!$C$12,'Data leveranciersbeoordeling'!$1:$1,0)),Leveranciersbeoordeling!$H$1:$I$5,2,FALSE),0)","v":0},0]
[{"$f":"CONCATENATE(B8707,C8707,D8707)","v":""},null,null,null,null,null,null,null,null,null,null,null,null,null,null,{"$f":"INDEX($A:$O,ROW(),MATCH('Rapportage per vraag'!$C$12,'Data leveranciersbeoordeling'!$1:$1,0))","v":0},{"$f":"IFERROR(VLOOKUP(INDEX($A:$O,ROW(),MATCH('Rapportage per vraag'!$C$12,'Data leveranciersbeoordeling'!$1:$1,0)),Leveranciersbeoordeling!$H$1:$I$5,2,FALSE),0)","v":0},0]
["",null,null,null,null,null,null,null,null,null,null,null,null,null,null,{"$f":"INDEX($A:$O,ROW(),MATCH('Rapportage per vraag'!$C$12,'Data leveranciersbeoordeling'!$1:$1,0))","v":0},{"$f":"IFERROR(VLOOKUP(INDEX($A:$O,ROW(),MATCH('Rapportage per vraag'!$C$12,'Data leveranciersbeoordeling'!$1:$1,0)),Leveranciersbeoordeling!$H$1:$I$5,2,FALSE),0)","v":0},0]
["",null,null,null,null,null,null,null,null,null,null,null,null,null,null,{"$f":"INDEX($A:$O,ROW(),MATCH('Rapportage per vraag'!$C$12,'Data leveranciersbeoordeling'!$1:$1,0))","v":0},{"$f":"IFERROR(VLOOKUP(INDEX($A:$O,ROW(),MATCH('Rapportage per vraag'!$C$12,'Data leveranciersbeoordeling'!$1:$1,0)),Leveranciersbeoordeling!$H$1:$I$5,2,FALSE),0)","v":0},0]
["",null,null,null,null,null,null,null,null,null,null,null,null,null,null,{"$f":"INDEX($A:$O,ROW(),MATCH('Rapportage per vraag'!$C$12,'Data leveranciersbeoordeling'!$1:$1,0))","v":0},{"$f":"IFERROR(VLOOKUP(INDEX($A:$O,ROW(),MATCH('Rapportage per vraag'!$C$12,'Data leveranciersbeoordeling'!$1:$1,0)),Leveranciersbeoordeling!$H$1:$I$5,2,FALSE),0)","v":0},0]
["",null,null,null,null,null,null,null,null,null,null,null,null,null,null,{"$f":"INDEX($A:$O,ROW(),MATCH('Rapportage per vraag'!$C$12,'Data leveranciersbeoordeling'!$1:$1,0))","v":0},{"$f":"IFERROR(VLOOKUP(INDEX($A:$O,ROW(),MATCH('Rapportage per vraag'!$C$12,'Data leveranciersbeoordeling'!$1:$1,0)),Leveranciersbeoordeling!$H$1:$I$5,2,FALSE),0)","v":0},0]
["",null,null,null,null,null,null,null,null,null,null,null,null,null,null,{"$f":"INDEX($A:$O,ROW(),MATCH('Rapportage per vraag'!$C$12,'Data leveranciersbeoordeling'!$1:$1,0))","v":0},{"$f":"IFERROR(VLOOKUP(INDEX($A:$O,ROW(),MATCH('Rapportage per vraag'!$C$12,'Data leveranciersbeoordeling'!$1:$1,0)),Leveranciersbeoordeling!$H$1:$I$5,2,FALSE),0)","v":0},0]
["",null,null,null,null,null,null,null,null,null,null,null,null,null,null,{"$f":"INDEX($A:$O,ROW(),MATCH('Rapportage per vraag'!$C$12,'Data leveranciersbeoordeling'!$1:$1,0))","v":0},{"$f":"IFERROR(VLOOKUP(INDEX($A:$O,ROW(),MATCH('Rapportage per vraag'!$C$12,'Data leveranciersbeoordeling'!$1:$1,0)),Leveranciersbeoordeling!$H$1:$I$5,2,FALSE),0)","v":0},0]
["",null,null,null,null,null,null,null,null,null,null,null,null,null,null,{"$f":"INDEX($A:$O,ROW(),MATCH('Rapportage per vraag'!$C$12,'Data leveranciersbeoordeling'!$1:$1,0))","v":0},{"$f":"IFERROR(VLOOKUP(INDEX($A:$O,ROW(),MATCH('Rapportage per vraag'!$C$12,'Data leveranciersbeoordeling'!$1:$1,0)),Leveranciersbeoordeling!$H$1:$I$5,2,FALSE),0)","v":0},0]
["",null,null,null,null,null,null,null,null,null,null,null,null,null,null,{"$f":"INDEX($A:$O,ROW(),MATCH('Rapportage per vraag'!$C$12,'Data leveranciersbeoordeling'!$1:$1,0))","v":0},{"$f":"IFERROR(VLOOKUP(INDEX($A:$O,ROW(),MATCH('Rapportage per vraag'!$C$12,'Data leveranciersbeoordeling'!$1:$1,0)),Leveranciersbeoordeling!$H$1:$I$5,2,FALSE),0)","v":0},0]
["",null,null,null,null,null,null,null,null,null,null,null,null,null,null,{"$f":"INDEX($A:$O,ROW(),MATCH('Rapportage per vraag'!$C$12,'Data leveranciersbeoordeling'!$1:$1,0))","v":0},{"$f":"IFERROR(VLOOKUP(INDEX($A:$O,ROW(),MATCH('Rapportage per vraag'!$C$12,'Data leveranciersbeoordeling'!$1:$1,0)),Leveranciersbeoordeling!$H$1:$I$5,2,FALSE),0)","v":0},0]
["",null,null,null,null,null,null,null,null,null,null,null,null,null,null,{"$f":"INDEX($A:$O,ROW(),MATCH('Rapportage per vraag'!$C$12,'Data leveranciersbeoordeling'!$1:$1,0))","v":0},{"$f":"IFERROR(VLOOKUP(INDEX($A:$O,ROW(),MATCH('Rapportage per vraag'!$C$12,'Data leveranciersbeoordeling'!$1:$1,0)),Leveranciersbeoordeling!$H$1:$I$5,2,FALSE),0)","v":0},0]
["",null,null,null,null,null,null,null,null,null,null,null,null,null,null,{"$f":"INDEX($A:$O,ROW(),MATCH('Rapportage per vraag'!$C$12,'Data leveranciersbeoordeling'!$1:$1,0))","v":0},{"$f":"IFERROR(VLOOKUP(INDEX($A:$O,ROW(),MATCH('Rapportage per vraag'!$C$12,'Data leveranciersbeoordeling'!$1:$1,0)),Leveranciersbeoordeling!$H$1:$I$5,2,FALSE),0)","v":0},0]
["",null,null,null,null,null,null,null,null,null,null,null,null,null,null,{"$f":"INDEX($A:$O,ROW(),MATCH('Rapportage per vraag'!$C$12,'Data leveranciersbeoordeling'!$1:$1,0))","v":0},{"$f":"IFERROR(VLOOKUP(INDEX($A:$O,ROW(),MATCH('Rapportage per vraag'!$C$12,'Data leveranciersbeoordeling'!$1:$1,0)),Leveranciersbeoordeling!$H$1:$I$5,2,FALSE),0)","v":0},0]
["",null,null,null,null,null,null,null,null,null,null,null,null,null,null,{"$f":"INDEX($A:$O,ROW(),MATCH('Rapportage per vraag'!$C$12,'Data leveranciersbeoordeling'!$1:$1,0))","v":0},{"$f":"IFERROR(VLOOKUP(INDEX($A:$O,ROW(),MATCH('Rapportage per vraag'!$C$12,'Data leveranciersbeoordeling'!$1:$1,0)),Leveranciersbeoordeling!$H$1:$I$5,2,FALSE),0)","v":0},0]
["",null,null,null,null,null,null,null,null,null,null,null,null,null,null,{"$f":"INDEX($A:$O,ROW(),MATCH('Rapportage per vraag'!$C$12,'Data leveranciersbeoordeling'!$1:$1,0))","v":0},{"$f":"IFERROR(VLOOKUP(INDEX($A:$O,ROW(),MATCH('Rapportage per vraag'!$C$12,'Data leveranciersbeoordeling'!$1:$1,0)),Leveranciersbeoordeling!$H$1:$I$5,2,FALSE),0)","v":0},0]
["",null,null,null,null,null,null,null,null,null,null,null,null,null,null,{"$f":"INDEX($A:$O,ROW(),MATCH('Rapportage per vraag'!$C$12,'Data leveranciersbeoordeling'!$1:$1,0))","v":0},{"$f":"IFERROR(VLOOKUP(INDEX($A:$O,ROW(),MATCH('Rapportage per vraag'!$C$12,'Data leveranciersbeoordeling'!$1:$1,0)),Leveranciersbeoordeling!$H$1:$I$5,2,FALSE),0)","v":0},0]
["",null,null,null,null,null,null,null,null,null,null,null,null,null,null,{"$f":"INDEX($A:$O,ROW(),MATCH('Rapportage per vraag'!$C$12,'Data leveranciersbeoordeling'!$1:$1,0))","v":0},{"$f":"IFERROR(VLOOKUP(INDEX($A:$O,ROW(),MATCH('Rapportage per vraag'!$C$12,'Data leveranciersbeoordeling'!$1:$1,0)),Leveranciersbeoordeling!$H$1:$I$5,2,FALSE),0)","v":0},0]
["",null,null,null,null,null,null,null,null,null,null,null,null,null,null,{"$f":"INDEX($A:$O,ROW(),MATCH('Rapportage per vraag'!$C$12,'Data leveranciersbeoordeling'!$1:$1,0))","v":0},{"$f":"IFERROR(VLOOKUP(INDEX($A:$O,ROW(),MATCH('Rapportage per vraag'!$C$12,'Data leveranciersbeoordeling'!$1:$1,0)),Leveranciersbeoordeling!$H$1:$I$5,2,FALSE),0)","v":0},0]
["",null,null,null,null,null,null,null,null,null,null,null,null,null,null,{"$f":"INDEX($A:$O,ROW(),MATCH('Rapportage per vraag'!$C$12,'Data leveranciersbeoordeling'!$1:$1,0))","v":0},{"$f":"IFERROR(VLOOKUP(INDEX($A:$O,ROW(),MATCH('Rapportage per vraag'!$C$12,'Data leveranciersbeoordeling'!$1:$1,0)),Leveranciersbeoordeling!$H$1:$I$5,2,FALSE),0)","v":0},0]
["",null,null,null,null,null,null,null,null,null,null,null,null,null,null,{"$f":"INDEX($A:$O,ROW(),MATCH('Rapportage per vraag'!$C$12,'Data leveranciersbeoordeling'!$1:$1,0))","v":0},{"$f":"IFERROR(VLOOKUP(INDEX($A:$O,ROW(),MATCH('Rapportage per vraag'!$C$12,'Data leveranciersbeoordeling'!$1:$1,0)),Leveranciersbeoordeling!$H$1:$I$5,2,FALSE),0)","v":0},0]
["",null,null,null,null,null,null,null,null,null,null,null,null,null,null,{"$f":"INDEX($A:$O,ROW(),MATCH('Rapportage per vraag'!$C$12,'Data leveranciersbeoordeling'!$1:$1,0))","v":0},{"$f":"IFERROR(VLOOKUP(INDEX($A:$O,ROW(),MATCH('Rapportage per vraag'!$C$12,'Data leveranciersbeoordeling'!$1:$1,0)),Leveranciersbeoordeling!$H$1:$I$5,2,FALSE),0)","v":0},0]
["",null,null,null,null,null,null,null,null,null,null,null,null,null,null,{"$f":"INDEX($A:$O,ROW(),MATCH('Rapportage per vraag'!$C$12,'Data leveranciersbeoordeling'!$1:$1,0))","v":0},{"$f":"IFERROR(VLOOKUP(INDEX($A:$O,ROW(),MATCH('Rapportage per vraag'!$C$12,'Data leveranciersbeoordeling'!$1:$1,0)),Leveranciersbeoordeling!$H$1:$I$5,2,FALSE),0)","v":0},0]
["",null,null,null,null,null,null,null,null,null,null,null,null,null,null,{"$f":"INDEX($A:$O,ROW(),MATCH('Rapportage per vraag'!$C$12,'Data leveranciersbeoordeling'!$1:$1,0))","v":0},{"$f":"IFERROR(VLOOKUP(INDEX($A:$O,ROW(),MATCH('Rapportage per vraag'!$C$12,'Data leveranciersbeoordeling'!$1:$1,0)),Leveranciersbeoordeling!$H$1:$I$5,2,FALSE),0)","v":0},0]
["",null,null,null,null,null,null,null,null,null,null,null,null,null,null,{"$f":"INDEX($A:$O,ROW(),MATCH('Rapportage per vraag'!$C$12,'Data leveranciersbeoordeling'!$1:$1,0))","v":0},{"$f":"IFERROR(VLOOKUP(INDEX($A:$O,ROW(),MATCH('Rapportage per vraag'!$C$12,'Data leveranciersbeoordeling'!$1:$1,0)),Leveranciersbeoordeling!$H$1:$I$5,2,FALSE),0)","v":0},0]
["",null,null,null,null,null,null,null,null,null,null,null,null,null,null,{"$f":"INDEX($A:$O,ROW(),MATCH('Rapportage per vraag'!$C$12,'Data leveranciersbeoordeling'!$1:$1,0))","v":0},{"$f":"IFERROR(VLOOKUP(INDEX($A:$O,ROW(),MATCH('Rapportage per vraag'!$C$12,'Data leveranciersbeoordeling'!$1:$1,0)),Leveranciersbeoordeling!$H$1:$I$5,2,FALSE),0)","v":0},0]
["",null,null,null,null,null,null,null,null,null,null,null,null,null,null,{"$f":"INDEX($A:$O,ROW(),MATCH('Rapportage per vraag'!$C$12,'Data leveranciersbeoordeling'!$1:$1,0))","v":0},{"$f":"IFERROR(VLOOKUP(INDEX($A:$O,ROW(),MATCH('Rapportage per vraag'!$C$12,'Data leveranciersbeoordeling'!$1:$1,0)),Leveranciersbeoordeling!$H$1:$I$5,2,FALSE),0)","v":0},0]
["",null,null,null,null,null,null,null,null,null,null,null,null,null,null,{"$f":"INDEX($A:$O,ROW(),MATCH('Rapportage per vraag'!$C$12,'Data leveranciersbeoordeling'!$1:$1,0))","v":0},{"$f":"IFERROR(VLOOKUP(INDEX($A:$O,ROW(),MATCH('Rapportage per vraag'!$C$12,'Data leveranciersbeoordeling'!$1:$1,0)),Leveranciersbeoordeling!$H$1:$I$5,2,FALSE),0)","v":0},0]
["",null,null,null,null,null,null,null,null,null,null,null,null,null,null,{"$f":"INDEX($A:$O,ROW(),MATCH('Rapportage per vraag'!$C$12,'Data leveranciersbeoordeling'!$1:$1,0))","v":0},{"$f":"IFERROR(VLOOKUP(INDEX($A:$O,ROW(),MATCH('Rapportage per vraag'!$C$12,'Data leveranciersbeoordeling'!$1:$1,0)),Leveranciersbeoordeling!$H$1:$I$5,2,FALSE),0)","v":0},0]
["",null,null,null,null,null,null,null,null,null,null,null,null,null,null,{"$f":"INDEX($A:$O,ROW(),MATCH('Rapportage per vraag'!$C$12,'Data leveranciersbeoordeling'!$1:$1,0))","v":0},{"$f":"IFERROR(VLOOKUP(INDEX($A:$O,ROW(),MATCH('Rapportage per vraag'!$C$12,'Data leveranciersbeoordeling'!$1:$1,0)),Leveranciersbeoordeling!$H$1:$I$5,2,FALSE),0)","v":0},0]
["",null,null,null,null,null,null,null,null,null,null,null,null,null,null,{"$f":"INDEX($A:$O,ROW(),MATCH('Rapportage per vraag'!$C$12,'Data leveranciersbeoordeling'!$1:$1,0))","v":0},{"$f":"IFERROR(VLOOKUP(INDEX($A:$O,ROW(),MATCH('Rapportage per vraag'!$C$12,'Data leveranciersbeoordeling'!$1:$1,0)),Leveranciersbeoordeling!$H$1:$I$5,2,FALSE),0)","v":0},0]
["",null,null,null,null,null,null,null,null,null,null,null,null,null,null,{"$f":"INDEX($A:$O,ROW(),MATCH('Rapportage per vraag'!$C$12,'Data leveranciersbeoordeling'!$1:$1,0))","v":0},{"$f":"IFERROR(VLOOKUP(INDEX($A:$O,ROW(),MATCH('Rapportage per vraag'!$C$12,'Data leveranciersbeoordeling'!$1:$1,0)),Leveranciersbeoordeling!$H$1:$I$5,2,FALSE),0)","v":0},0]
["",null,null,null,null,null,null,null,null,null,null,null,null,null,null,{"$f":"INDEX($A:$O,ROW(),MATCH('Rapportage per vraag'!$C$12,'Data leveranciersbeoordeling'!$1:$1,0))","v":0},{"$f":"IFERROR(VLOOKUP(INDEX($A:$O,ROW(),MATCH('Rapportage per vraag'!$C$12,'Data leveranciersbeoordeling'!$1:$1,0)),Leveranciersbeoordeling!$H$1:$I$5,2,FALSE),0)","v":0},0]
["",null,null,null,null,null,null,null,null,null,null,null,null,null,null,{"$f":"INDEX($A:$O,ROW(),MATCH('Rapportage per vraag'!$C$12,'Data leveranciersbeoordeling'!$1:$1,0))","v":0},{"$f":"IFERROR(VLOOKUP(INDEX($A:$O,ROW(),MATCH('Rapportage per vraag'!$C$12,'Data leveranciersbeoordeling'!$1:$1,0)),Leveranciersbeoordeling!$H$1:$I$5,2,FALSE),0)","v":0},0]
["",null,null,null,null,null,null,null,null,null,null,null,null,null,null,{"$f":"INDEX($A:$O,ROW(),MATCH('Rapportage per vraag'!$C$12,'Data leveranciersbeoordeling'!$1:$1,0))","v":0},{"$f":"IFERROR(VLOOKUP(INDEX($A:$O,ROW(),MATCH('Rapportage per vraag'!$C$12,'Data leveranciersbeoordeling'!$1:$1,0)),Leveranciersbeoordeling!$H$1:$I$5,2,FALSE),0)","v":0},0]
["",null,null,null,null,null,null,null,null,null,null,null,null,null,null,{"$f":"INDEX($A:$O,ROW(),MATCH('Rapportage per vraag'!$C$12,'Data leveranciersbeoordeling'!$1:$1,0))","v":0},{"$f":"IFERROR(VLOOKUP(INDEX($A:$O,ROW(),MATCH('Rapportage per vraag'!$C$12,'Data leveranciersbeoordeling'!$1:$1,0)),Leveranciersbeoordeling!$H$1:$I$5,2,FALSE),0)","v":0},0]
["",null,null,null,null,null,null,null,null,null,null,null,null,null,null,{"$f":"INDEX($A:$O,ROW(),MATCH('Rapportage per vraag'!$C$12,'Data leveranciersbeoordeling'!$1:$1,0))","v":0},{"$f":"IFERROR(VLOOKUP(INDEX($A:$O,ROW(),MATCH('Rapportage per vraag'!$C$12,'Data leveranciersbeoordeling'!$1:$1,0)),Leveranciersbeoordeling!$H$1:$I$5,2,FALSE),0)","v":0},0]
["",null,null,null,null,null,null,null,null,null,null,null,null,null,null,{"$f":"INDEX($A:$O,ROW(),MATCH('Rapportage per vraag'!$C$12,'Data leveranciersbeoordeling'!$1:$1,0))","v":0},{"$f":"IFERROR(VLOOKUP(INDEX($A:$O,ROW(),MATCH('Rapportage per vraag'!$C$12,'Data leveranciersbeoordeling'!$1:$1,0)),Leveranciersbeoordeling!$H$1:$I$5,2,FALSE),0)","v":0},0]
["",null,null,null,null,null,null,null,null,null,null,null,null,null,null,{"$f":"INDEX($A:$O,ROW(),MATCH('Rapportage per vraag'!$C$12,'Data leveranciersbeoordeling'!$1:$1,0))","v":0},{"$f":"IFERROR(VLOOKUP(INDEX($A:$O,ROW(),MATCH('Rapportage per vraag'!$C$12,'Data leveranciersbeoordeling'!$1:$1,0)),Leveranciersbeoordeling!$H$1:$I$5,2,FALSE),0)","v":0},0]
["",null,null,null,null,null,null,null,null,null,null,null,null,null,null,{"$f":"INDEX($A:$O,ROW(),MATCH('Rapportage per vraag'!$C$12,'Data leveranciersbeoordeling'!$1:$1,0))","v":0},{"$f":"IFERROR(VLOOKUP(INDEX($A:$O,ROW(),MATCH('Rapportage per vraag'!$C$12,'Data leveranciersbeoordeling'!$1:$1,0)),Leveranciersbeoordeling!$H$1:$I$5,2,FALSE),0)","v":0},0]
["",null,null,null,null,null,null,null,null,null,null,null,null,null,null,{"$f":"INDEX($A:$O,ROW(),MATCH('Rapportage per vraag'!$C$12,'Data leveranciersbeoordeling'!$1:$1,0))","v":0},{"$f":"IFERROR(VLOOKUP(INDEX($A:$O,ROW(),MATCH('Rapportage per vraag'!$C$12,'Data leveranciersbeoordeling'!$1:$1,0)),Leveranciersbeoordeling!$H$1:$I$5,2,FALSE),0)","v":0},0]
["",null,null,null,null,null,null,null,null,null,null,null,null,null,null,{"$f":"INDEX($A:$O,ROW(),MATCH('Rapportage per vraag'!$C$12,'Data leveranciersbeoordeling'!$1:$1,0))","v":0},{"$f":"IFERROR(VLOOKUP(INDEX($A:$O,ROW(),MATCH('Rapportage per vraag'!$C$12,'Data leveranciersbeoordeling'!$1:$1,0)),Leveranciersbeoordeling!$H$1:$I$5,2,FALSE),0)","v":0},0]
["",null,null,null,null,null,null,null,null,null,null,null,null,null,null,{"$f":"INDEX($A:$O,ROW(),MATCH('Rapportage per vraag'!$C$12,'Data leveranciersbeoordeling'!$1:$1,0))","v":0},{"$f":"IFERROR(VLOOKUP(INDEX($A:$O,ROW(),MATCH('Rapportage per vraag'!$C$12,'Data leveranciersbeoordeling'!$1:$1,0)),Leveranciersbeoordeling!$H$1:$I$5,2,FALSE),0)","v":0},0]
["",null,null,null,null,null,null,null,null,null,null,null,null,null,null,{"$f":"INDEX($A:$O,ROW(),MATCH('Rapportage per vraag'!$C$12,'Data leveranciersbeoordeling'!$1:$1,0))","v":0},{"$f":"IFERROR(VLOOKUP(INDEX($A:$O,ROW(),MATCH('Rapportage per vraag'!$C$12,'Data leveranciersbeoordeling'!$1:$1,0)),Leveranciersbeoordeling!$H$1:$I$5,2,FALSE),0)","v":0},0]
["",null,null,null,null,null,null,null,null,null,null,null,null,null,null,{"$f":"INDEX($A:$O,ROW(),MATCH('Rapportage per vraag'!$C$12,'Data leveranciersbeoordeling'!$1:$1,0))","v":0},{"$f":"IFERROR(VLOOKUP(INDEX($A:$O,ROW(),MATCH('Rapportage per vraag'!$C$12,'Data leveranciersbeoordeling'!$1:$1,0)),Leveranciersbeoordeling!$H$1:$I$5,2,FALSE),0)","v":0},0]
["",null,null,null,null,null,null,null,null,null,null,null,null,null,null,{"$f":"INDEX($A:$O,ROW(),MATCH('Rapportage per vraag'!$C$12,'Data leveranciersbeoordeling'!$1:$1,0))","v":0},{"$f":"IFERROR(VLOOKUP(INDEX($A:$O,ROW(),MATCH('Rapportage per vraag'!$C$12,'Data leveranciersbeoordeling'!$1:$1,0)),Leveranciersbeoordeling!$H$1:$I$5,2,FALSE),0)","v":0},0]
["",null,null,null,null,null,null,null,null,null,null,null,null,null,null,{"$f":"INDEX($A:$O,ROW(),MATCH('Rapportage per vraag'!$C$12,'Data leveranciersbeoordeling'!$1:$1,0))","v":0},{"$f":"IFERROR(VLOOKUP(INDEX($A:$O,ROW(),MATCH('Rapportage per vraag'!$C$12,'Data leveranciersbeoordeling'!$1:$1,0)),Leveranciersbeoordeling!$H$1:$I$5,2,FALSE),0)","v":0},0]
["",null,null,null,null,null,null,null,null,null,null,null,null,null,null,{"$f":"INDEX($A:$O,ROW(),MATCH('Rapportage per vraag'!$C$12,'Data leveranciersbeoordeling'!$1:$1,0))","v":0},{"$f":"IFERROR(VLOOKUP(INDEX($A:$O,ROW(),MATCH('Rapportage per vraag'!$C$12,'Data leveranciersbeoordeling'!$1:$1,0)),Leveranciersbeoordeling!$H$1:$I$5,2,FALSE),0)","v":0},0]
["",null,null,null,null,null,null,null,null,null,null,null,null,null,null,{"$f":"INDEX($A:$O,ROW(),MATCH('Rapportage per vraag'!$C$12,'Data leveranciersbeoordeling'!$1:$1,0))","v":0},{"$f":"IFERROR(VLOOKUP(INDEX($A:$O,ROW(),MATCH('Rapportage per vraag'!$C$12,'Data leveranciersbeoordeling'!$1:$1,0)),Leveranciersbeoordeling!$H$1:$I$5,2,FALSE),0)","v":0},0]
["",null,null,null,null,null,null,null,null,null,null,null,null,null,null,{"$f":"INDEX($A:$O,ROW(),MATCH('Rapportage per vraag'!$C$12,'Data leveranciersbeoordeling'!$1:$1,0))","v":0},{"$f":"IFERROR(VLOOKUP(INDEX($A:$O,ROW(),MATCH('Rapportage per vraag'!$C$12,'Data leveranciersbeoordeling'!$1:$1,0)),Leveranciersbeoordeling!$H$1:$I$5,2,FALSE),0)","v":0},0]
["",null,null,null,null,null,null,null,null,null,null,null,null,null,null,{"$f":"INDEX($A:$O,ROW(),MATCH('Rapportage per vraag'!$C$12,'Data leveranciersbeoordeling'!$1:$1,0))","v":0},{"$f":"IFERROR(VLOOKUP(INDEX($A:$O,ROW(),MATCH('Rapportage per vraag'!$C$12,'Data leveranciersbeoordeling'!$1:$1,0)),Leveranciersbeoordeling!$H$1:$I$5,2,FALSE),0)","v":0},0]
["",null,null,null,null,null,null,null,null,null,null,null,null,null,null,{"$f":"INDEX($A:$O,ROW(),MATCH('Rapportage per vraag'!$C$12,'Data leveranciersbeoordeling'!$1:$1,0))","v":0},{"$f":"IFERROR(VLOOKUP(INDEX($A:$O,ROW(),MATCH('Rapportage per vraag'!$C$12,'Data leveranciersbeoordeling'!$1:$1,0)),Leveranciersbeoordeling!$H$1:$I$5,2,FALSE),0)","v":0},0]
[{"$f":"CONCATENATE(B8899,C8899,D8899)","v":""},null,null,null,null,null,null,null,null,null,null,null,null,null,null,{"$f":"INDEX($A:$O,ROW(),MATCH('Rapportage per vraag'!$C$12,'Data leveranciersbeoordeling'!$1:$1,0))","v":0},{"$f":"IFERROR(VLOOKUP(INDEX($A:$O,ROW(),MATCH('Rapportage per vraag'!$C$12,'Data leveranciersbeoordeling'!$1:$1,0)),Leveranciersbeoordeling!$H$1:$I$5,2,FALSE),0)","v":0},0]
["",null,null,null,null,null,null,null,null,null,null,null,null,null,null,{"$f":"INDEX($A:$O,ROW(),MATCH('Rapportage per vraag'!$C$12,'Data leveranciersbeoordeling'!$1:$1,0))","v":0},{"$f":"IFERROR(VLOOKUP(INDEX($A:$O,ROW(),MATCH('Rapportage per vraag'!$C$12,'Data leveranciersbeoordeling'!$1:$1,0)),Leveranciersbeoordeling!$H$1:$I$5,2,FALSE),0)","v":0},{"$f":"IF(T(P8902)=P8902,Q8902,P8902)","v":0}]
["",null,null,null,null,null,null,null,null,null,null,null,null,null,null,{"$f":"INDEX($A:$O,ROW(),MATCH('Rapportage per vraag'!$C$12,'Data leveranciersbeoordeling'!$1:$1,0))","v":0},{"$f":"IFERROR(VLOOKUP(INDEX($A:$O,ROW(),MATCH('Rapportage per vraag'!$C$12,'Data leveranciersbeoordeling'!$1:$1,0)),Leveranciersbeoordeling!$H$1:$I$5,2,FALSE),0)","v":0},0]
["",null,null,null,null,null,null,null,null,null,null,null,null,null,null,{"$f":"INDEX($A:$O,ROW(),MATCH('Rapportage per vraag'!$C$12,'Data leveranciersbeoordeling'!$1:$1,0))","v":0},{"$f":"IFERROR(VLOOKUP(INDEX($A:$O,ROW(),MATCH('Rapportage per vraag'!$C$12,'Data leveranciersbeoordeling'!$1:$1,0)),Leveranciersbeoordeling!$H$1:$I$5,2,FALSE),0)","v":0},0]
["",null,null,null,null,null,null,null,null,null,null,null,null,null,null,{"$f":"INDEX($A:$O,ROW(),MATCH('Rapportage per vraag'!$C$12,'Data leveranciersbeoordeling'!$1:$1,0))","v":0},{"$f":"IFERROR(VLOOKUP(INDEX($A:$O,ROW(),MATCH('Rapportage per vraag'!$C$12,'Data leveranciersbeoordeling'!$1:$1,0)),Leveranciersbeoordeling!$H$1:$I$5,2,FALSE),0)","v":0},0]
["",null,null,null,null,null,null,null,null,null,null,null,null,null,null,{"$f":"INDEX($A:$O,ROW(),MATCH('Rapportage per vraag'!$C$12,'Data leveranciersbeoordeling'!$1:$1,0))","v":0},{"$f":"IFERROR(VLOOKUP(INDEX($A:$O,ROW(),MATCH('Rapportage per vraag'!$C$12,'Data leveranciersbeoordeling'!$1:$1,0)),Leveranciersbeoordeling!$H$1:$I$5,2,FALSE),0)","v":0},0]
["",null,null,null,null,null,null,null,null,null,null,null,null,null,null,{"$f":"INDEX($A:$O,ROW(),MATCH('Rapportage per vraag'!$C$12,'Data leveranciersbeoordeling'!$1:$1,0))","v":0},{"$f":"IFERROR(VLOOKUP(INDEX($A:$O,ROW(),MATCH('Rapportage per vraag'!$C$12,'Data leveranciersbeoordeling'!$1:$1,0)),Leveranciersbeoordeling!$H$1:$I$5,2,FALSE),0)","v":0},0]
["",null,null,null,null,null,null,null,null,null,null,null,null,null,null,{"$f":"INDEX($A:$O,ROW(),MATCH('Rapportage per vraag'!$C$12,'Data leveranciersbeoordeling'!$1:$1,0))","v":0},{"$f":"IFERROR(VLOOKUP(INDEX($A:$O,ROW(),MATCH('Rapportage per vraag'!$C$12,'Data leveranciersbeoordeling'!$1:$1,0)),Leveranciersbeoordeling!$H$1:$I$5,2,FALSE),0)","v":0},0]
["",null,null,null,null,null,null,null,null,null,null,null,null,null,null,{"$f":"INDEX($A:$O,ROW(),MATCH('Rapportage per vraag'!$C$12,'Data leveranciersbeoordeling'!$1:$1,0))","v":0},{"$f":"IFERROR(VLOOKUP(INDEX($A:$O,ROW(),MATCH('Rapportage per vraag'!$C$12,'Data leveranciersbeoordeling'!$1:$1,0)),Leveranciersbeoordeling!$H$1:$I$5,2,FALSE),0)","v":0},0]
["",null,null,null,null,null,null,null,null,null,null,null,null,null,null,{"$f":"INDEX($A:$O,ROW(),MATCH('Rapportage per vraag'!$C$12,'Data leveranciersbeoordeling'!$1:$1,0))","v":0},{"$f":"IFERROR(VLOOKUP(INDEX($A:$O,ROW(),MATCH('Rapportage per vraag'!$C$12,'Data leveranciersbeoordeling'!$1:$1,0)),Leveranciersbeoordeling!$H$1:$I$5,2,FALSE),0)","v":0},0]
["",null,null,null,null,null,null,null,null,null,null,null,null,null,null,{"$f":"INDEX($A:$O,ROW(),MATCH('Rapportage per vraag'!$C$12,'Data leveranciersbeoordeling'!$1:$1,0))","v":0},{"$f":"IFERROR(VLOOKUP(INDEX($A:$O,ROW(),MATCH('Rapportage per vraag'!$C$12,'Data leveranciersbeoordeling'!$1:$1,0)),Leveranciersbeoordeling!$H$1:$I$5,2,FALSE),0)","v":0},0]
["",null,null,null,null,null,null,null,null,null,null,null,null,null,null,{"$f":"INDEX($A:$O,ROW(),MATCH('Rapportage per vraag'!$C$12,'Data leveranciersbeoordeling'!$1:$1,0))","v":0},{"$f":"IFERROR(VLOOKUP(INDEX($A:$O,ROW(),MATCH('Rapportage per vraag'!$C$12,'Data leveranciersbeoordeling'!$1:$1,0)),Leveranciersbeoordeling!$H$1:$I$5,2,FALSE),0)","v":0},0]
["",null,null,null,null,null,null,null,null,null,null,null,null,null,null,{"$f":"INDEX($A:$O,ROW(),MATCH('Rapportage per vraag'!$C$12,'Data leveranciersbeoordeling'!$1:$1,0))","v":0},{"$f":"IFERROR(VLOOKUP(INDEX($A:$O,ROW(),MATCH('Rapportage per vraag'!$C$12,'Data leveranciersbeoordeling'!$1:$1,0)),Leveranciersbeoordeling!$H$1:$I$5,2,FALSE),0)","v":0},0]
["",null,null,null,null,null,null,null,null,null,null,null,null,null,null,{"$f":"INDEX($A:$O,ROW(),MATCH('Rapportage per vraag'!$C$12,'Data leveranciersbeoordeling'!$1:$1,0))","v":0},{"$f":"IFERROR(VLOOKUP(INDEX($A:$O,ROW(),MATCH('Rapportage per vraag'!$C$12,'Data leveranciersbeoordeling'!$1:$1,0)),Leveranciersbeoordeling!$H$1:$I$5,2,FALSE),0)","v":0},0]
["",null,null,null,null,null,null,null,null,null,null,null,null,null,null,{"$f":"INDEX($A:$O,ROW(),MATCH('Rapportage per vraag'!$C$12,'Data leveranciersbeoordeling'!$1:$1,0))","v":0},{"$f":"IFERROR(VLOOKUP(INDEX($A:$O,ROW(),MATCH('Rapportage per vraag'!$C$12,'Data leveranciersbeoordeling'!$1:$1,0)),Leveranciersbeoordeling!$H$1:$I$5,2,FALSE),0)","v":0},0]
["",null,null,null,null,null,null,null,null,null,null,null,null,null,null,{"$f":"INDEX($A:$O,ROW(),MATCH('Rapportage per vraag'!$C$12,'Data leveranciersbeoordeling'!$1:$1,0))","v":0},{"$f":"IFERROR(VLOOKUP(INDEX($A:$O,ROW(),MATCH('Rapportage per vraag'!$C$12,'Data leveranciersbeoordeling'!$1:$1,0)),Leveranciersbeoordeling!$H$1:$I$5,2,FALSE),0)","v":0},0]
["",null,null,null,null,null,null,null,null,null,null,null,null,null,null,{"$f":"INDEX($A:$O,ROW(),MATCH('Rapportage per vraag'!$C$12,'Data leveranciersbeoordeling'!$1:$1,0))","v":0},{"$f":"IFERROR(VLOOKUP(INDEX($A:$O,ROW(),MATCH('Rapportage per vraag'!$C$12,'Data leveranciersbeoordeling'!$1:$1,0)),Leveranciersbeoordeling!$H$1:$I$5,2,FALSE),0)","v":0},0]
["",null,null,null,null,null,null,null,null,null,null,null,null,null,null,{"$f":"INDEX($A:$O,ROW(),MATCH('Rapportage per vraag'!$C$12,'Data leveranciersbeoordeling'!$1:$1,0))","v":0},{"$f":"IFERROR(VLOOKUP(INDEX($A:$O,ROW(),MATCH('Rapportage per vraag'!$C$12,'Data leveranciersbeoordeling'!$1:$1,0)),Leveranciersbeoordeling!$H$1:$I$5,2,FALSE),0)","v":0},0]
["",null,null,null,null,null,null,null,null,null,null,null,null,null,null,{"$f":"INDEX($A:$O,ROW(),MATCH('Rapportage per vraag'!$C$12,'Data leveranciersbeoordeling'!$1:$1,0))","v":0},{"$f":"IFERROR(VLOOKUP(INDEX($A:$O,ROW(),MATCH('Rapportage per vraag'!$C$12,'Data leveranciersbeoordeling'!$1:$1,0)),Leveranciersbeoordeling!$H$1:$I$5,2,FALSE),0)","v":0},0]
["",null,null,null,null,null,null,null,null,null,null,null,null,null,null,{"$f":"INDEX($A:$O,ROW(),MATCH('Rapportage per vraag'!$C$12,'Data leveranciersbeoordeling'!$1:$1,0))","v":0},{"$f":"IFERROR(VLOOKUP(INDEX($A:$O,ROW(),MATCH('Rapportage per vraag'!$C$12,'Data leveranciersbeoordeling'!$1:$1,0)),Leveranciersbeoordeling!$H$1:$I$5,2,FALSE),0)","v":0},0]
["",null,null,null,null,null,null,null,null,null,null,null,null,null,null,{"$f":"INDEX($A:$O,ROW(),MATCH('Rapportage per vraag'!$C$12,'Data leveranciersbeoordeling'!$1:$1,0))","v":0},{"$f":"IFERROR(VLOOKUP(INDEX($A:$O,ROW(),MATCH('Rapportage per vraag'!$C$12,'Data leveranciersbeoordeling'!$1:$1,0)),Leveranciersbeoordeling!$H$1:$I$5,2,FALSE),0)","v":0},0]
["",null,null,null,null,null,null,null,null,null,null,null,null,null,null,{"$f":"INDEX($A:$O,ROW(),MATCH('Rapportage per vraag'!$C$12,'Data leveranciersbeoordeling'!$1:$1,0))","v":0},{"$f":"IFERROR(VLOOKUP(INDEX($A:$O,ROW(),MATCH('Rapportage per vraag'!$C$12,'Data leveranciersbeoordeling'!$1:$1,0)),Leveranciersbeoordeling!$H$1:$I$5,2,FALSE),0)","v":0},0]
["",null,null,null,null,null,null,null,null,null,null,null,null,null,null,{"$f":"INDEX($A:$O,ROW(),MATCH('Rapportage per vraag'!$C$12,'Data leveranciersbeoordeling'!$1:$1,0))","v":0},{"$f":"IFERROR(VLOOKUP(INDEX($A:$O,ROW(),MATCH('Rapportage per vraag'!$C$12,'Data leveranciersbeoordeling'!$1:$1,0)),Leveranciersbeoordeling!$H$1:$I$5,2,FALSE),0)","v":0},0]
["",null,null,null,null,null,null,null,null,null,null,null,null,null,null,{"$f":"INDEX($A:$O,ROW(),MATCH('Rapportage per vraag'!$C$12,'Data leveranciersbeoordeling'!$1:$1,0))","v":0},{"$f":"IFERROR(VLOOKUP(INDEX($A:$O,ROW(),MATCH('Rapportage per vraag'!$C$12,'Data leveranciersbeoordeling'!$1:$1,0)),Leveranciersbeoordeling!$H$1:$I$5,2,FALSE),0)","v":0},0]
["",null,null,null,null,null,null,null,null,null,null,null,null,null,null,{"$f":"INDEX($A:$O,ROW(),MATCH('Rapportage per vraag'!$C$12,'Data leveranciersbeoordeling'!$1:$1,0))","v":0},{"$f":"IFERROR(VLOOKUP(INDEX($A:$O,ROW(),MATCH('Rapportage per vraag'!$C$12,'Data leveranciersbeoordeling'!$1:$1,0)),Leveranciersbeoordeling!$H$1:$I$5,2,FALSE),0)","v":0},0]
["",null,null,null,null,null,null,null,null,null,null,null,null,null,null,{"$f":"INDEX($A:$O,ROW(),MATCH('Rapportage per vraag'!$C$12,'Data leveranciersbeoordeling'!$1:$1,0))","v":0},{"$f":"IFERROR(VLOOKUP(INDEX($A:$O,ROW(),MATCH('Rapportage per vraag'!$C$12,'Data leveranciersbeoordeling'!$1:$1,0)),Leveranciersbeoordeling!$H$1:$I$5,2,FALSE),0)","v":0},0]
["",null,null,null,null,null,null,null,null,null,null,null,null,null,null,{"$f":"INDEX($A:$O,ROW(),MATCH('Rapportage per vraag'!$C$12,'Data leveranciersbeoordeling'!$1:$1,0))","v":0},{"$f":"IFERROR(VLOOKUP(INDEX($A:$O,ROW(),MATCH('Rapportage per vraag'!$C$12,'Data leveranciersbeoordeling'!$1:$1,0)),Leveranciersbeoordeling!$H$1:$I$5,2,FALSE),0)","v":0},0]
["",null,null,null,null,null,null,null,null,null,null,null,null,null,null,{"$f":"INDEX($A:$O,ROW(),MATCH('Rapportage per vraag'!$C$12,'Data leveranciersbeoordeling'!$1:$1,0))","v":0},{"$f":"IFERROR(VLOOKUP(INDEX($A:$O,ROW(),MATCH('Rapportage per vraag'!$C$12,'Data leveranciersbeoordeling'!$1:$1,0)),Leveranciersbeoordeling!$H$1:$I$5,2,FALSE),0)","v":0},0]
["",null,null,null,null,null,null,null,null,null,null,null,null,null,null,{"$f":"INDEX($A:$O,ROW(),MATCH('Rapportage per vraag'!$C$12,'Data leveranciersbeoordeling'!$1:$1,0))","v":0},{"$f":"IFERROR(VLOOKUP(INDEX($A:$O,ROW(),MATCH('Rapportage per vraag'!$C$12,'Data leveranciersbeoordeling'!$1:$1,0)),Leveranciersbeoordeling!$H$1:$I$5,2,FALSE),0)","v":0},0]
["",null,null,null,null,null,null,null,null,null,null,null,null,null,null,{"$f":"INDEX($A:$O,ROW(),MATCH('Rapportage per vraag'!$C$12,'Data leveranciersbeoordeling'!$1:$1,0))","v":0},{"$f":"IFERROR(VLOOKUP(INDEX($A:$O,ROW(),MATCH('Rapportage per vraag'!$C$12,'Data leveranciersbeoordeling'!$1:$1,0)),Leveranciersbeoordeling!$H$1:$I$5,2,FALSE),0)","v":0},0]
["",null,null,null,null,null,null,null,null,null,null,null,null,null,null,{"$f":"INDEX($A:$O,ROW(),MATCH('Rapportage per vraag'!$C$12,'Data leveranciersbeoordeling'!$1:$1,0))","v":0},{"$f":"IFERROR(VLOOKUP(INDEX($A:$O,ROW(),MATCH('Rapportage per vraag'!$C$12,'Data leveranciersbeoordeling'!$1:$1,0)),Leveranciersbeoordeling!$H$1:$I$5,2,FALSE),0)","v":0},0]
["",null,null,null,null,null,null,null,null,null,null,null,null,null,null,{"$f":"INDEX($A:$O,ROW(),MATCH('Rapportage per vraag'!$C$12,'Data leveranciersbeoordeling'!$1:$1,0))","v":0},{"$f":"IFERROR(VLOOKUP(INDEX($A:$O,ROW(),MATCH('Rapportage per vraag'!$C$12,'Data leveranciersbeoordeling'!$1:$1,0)),Leveranciersbeoordeling!$H$1:$I$5,2,FALSE),0)","v":0},0]
["",null,null,null,null,null,null,null,null,null,null,null,null,null,null,{"$f":"INDEX($A:$O,ROW(),MATCH('Rapportage per vraag'!$C$12,'Data leveranciersbeoordeling'!$1:$1,0))","v":0},{"$f":"IFERROR(VLOOKUP(INDEX($A:$O,ROW(),MATCH('Rapportage per vraag'!$C$12,'Data leveranciersbeoordeling'!$1:$1,0)),Leveranciersbeoordeling!$H$1:$I$5,2,FALSE),0)","v":0},0]
["",null,null,null,null,null,null,null,null,null,null,null,null,null,null,{"$f":"INDEX($A:$O,ROW(),MATCH('Rapportage per vraag'!$C$12,'Data leveranciersbeoordeling'!$1:$1,0))","v":0},{"$f":"IFERROR(VLOOKUP(INDEX($A:$O,ROW(),MATCH('Rapportage per vraag'!$C$12,'Data leveranciersbeoordeling'!$1:$1,0)),Leveranciersbeoordeling!$H$1:$I$5,2,FALSE),0)","v":0},0]
[{"$f":"CONCATENATE(B9027,C9027,D9027)","v":""},null,null,null,null,null,null,null,null,null,null,null,null,null,null,{"$f":"INDEX($A:$O,ROW(),MATCH('Rapportage per vraag'!$C$12,'Data leveranciersbeoordeling'!$1:$1,0))","v":0},{"$f":"IFERROR(VLOOKUP(INDEX($A:$O,ROW(),MATCH('Rapportage per vraag'!$C$12,'Data leveranciersbeoordeling'!$1:$1,0)),Leveranciersbeoordeling!$H$1:$I$5,2,FALSE),0)","v":0},0]
["",null,null,null,null,null,null,null,null,null,null,null,null,null,null,{"$f":"INDEX($A:$O,ROW(),MATCH('Rapportage per vraag'!$C$12,'Data leveranciersbeoordeling'!$1:$1,0))","v":0},{"$f":"IFERROR(VLOOKUP(INDEX($A:$O,ROW(),MATCH('Rapportage per vraag'!$C$12,'Data leveranciersbeoordeling'!$1:$1,0)),Leveranciersbeoordeling!$H$1:$I$5,2,FALSE),0)","v":0},0]
["",null,null,null,null,null,null,null,null,null,null,null,null,null,null,{"$f":"INDEX($A:$O,ROW(),MATCH('Rapportage per vraag'!$C$12,'Data leveranciersbeoordeling'!$1:$1,0))","v":0},{"$f":"IFERROR(VLOOKUP(INDEX($A:$O,ROW(),MATCH('Rapportage per vraag'!$C$12,'Data leveranciersbeoordeling'!$1:$1,0)),Leveranciersbeoordeling!$H$1:$I$5,2,FALSE),0)","v":0},0]
["",null,null,null,null,null,null,null,null,null,null,null,null,null,null,{"$f":"INDEX($A:$O,ROW(),MATCH('Rapportage per vraag'!$C$12,'Data leveranciersbeoordeling'!$1:$1,0))","v":0},{"$f":"IFERROR(VLOOKUP(INDEX($A:$O,ROW(),MATCH('Rapportage per vraag'!$C$12,'Data leveranciersbeoordeling'!$1:$1,0)),Leveranciersbeoordeling!$H$1:$I$5,2,FALSE),0)","v":0},0]
["",null,null,null,null,null,null,null,null,null,null,null,null,null,null,{"$f":"INDEX($A:$O,ROW(),MATCH('Rapportage per vraag'!$C$12,'Data leveranciersbeoordeling'!$1:$1,0))","v":0},{"$f":"IFERROR(VLOOKUP(INDEX($A:$O,ROW(),MATCH('Rapportage per vraag'!$C$12,'Data leveranciersbeoordeling'!$1:$1,0)),Leveranciersbeoordeling!$H$1:$I$5,2,FALSE),0)","v":0},0]
["",null,null,null,null,null,null,null,null,null,null,null,null,null,null,{"$f":"INDEX($A:$O,ROW(),MATCH('Rapportage per vraag'!$C$12,'Data leveranciersbeoordeling'!$1:$1,0))","v":0},{"$f":"IFERROR(VLOOKUP(INDEX($A:$O,ROW(),MATCH('Rapportage per vraag'!$C$12,'Data leveranciersbeoordeling'!$1:$1,0)),Leveranciersbeoordeling!$H$1:$I$5,2,FALSE),0)","v":0},0]
["",null,null,null,null,null,null,null,null,null,null,null,null,null,null,{"$f":"INDEX($A:$O,ROW(),MATCH('Rapportage per vraag'!$C$12,'Data leveranciersbeoordeling'!$1:$1,0))","v":0},{"$f":"IFERROR(VLOOKUP(INDEX($A:$O,ROW(),MATCH('Rapportage per vraag'!$C$12,'Data leveranciersbeoordeling'!$1:$1,0)),Leveranciersbeoordeling!$H$1:$I$5,2,FALSE),0)","v":0},0]
["",null,null,null,null,null,null,null,null,null,null,null,null,null,null,{"$f":"INDEX($A:$O,ROW(),MATCH('Rapportage per vraag'!$C$12,'Data leveranciersbeoordeling'!$1:$1,0))","v":0},{"$f":"IFERROR(VLOOKUP(INDEX($A:$O,ROW(),MATCH('Rapportage per vraag'!$C$12,'Data leveranciersbeoordeling'!$1:$1,0)),Leveranciersbeoordeling!$H$1:$I$5,2,FALSE),0)","v":0},0]
["",null,null,null,null,null,null,null,null,null,null,null,null,null,null,{"$f":"INDEX($A:$O,ROW(),MATCH('Rapportage per vraag'!$C$12,'Data leveranciersbeoordeling'!$1:$1,0))","v":0},{"$f":"IFERROR(VLOOKUP(INDEX($A:$O,ROW(),MATCH('Rapportage per vraag'!$C$12,'Data leveranciersbeoordeling'!$1:$1,0)),Leveranciersbeoordeling!$H$1:$I$5,2,FALSE),0)","v":0},0]
["",null,null,null,null,null,null,null,null,null,null,null,null,null,null,{"$f":"INDEX($A:$O,ROW(),MATCH('Rapportage per vraag'!$C$12,'Data leveranciersbeoordeling'!$1:$1,0))","v":0},{"$f":"IFERROR(VLOOKUP(INDEX($A:$O,ROW(),MATCH('Rapportage per vraag'!$C$12,'Data leveranciersbeoordeling'!$1:$1,0)),Leveranciersbeoordeling!$H$1:$I$5,2,FALSE),0)","v":0},0]
["",null,null,null,null,null,null,null,null,null,null,null,null,null,null,{"$f":"INDEX($A:$O,ROW(),MATCH('Rapportage per vraag'!$C$12,'Data leveranciersbeoordeling'!$1:$1,0))","v":0},{"$f":"IFERROR(VLOOKUP(INDEX($A:$O,ROW(),MATCH('Rapportage per vraag'!$C$12,'Data leveranciersbeoordeling'!$1:$1,0)),Leveranciersbeoordeling!$H$1:$I$5,2,FALSE),0)","v":0},0]
["",null,null,null,null,null,null,null,null,null,null,null,null,null,null,{"$f":"INDEX($A:$O,ROW(),MATCH('Rapportage per vraag'!$C$12,'Data leveranciersbeoordeling'!$1:$1,0))","v":0},{"$f":"IFERROR(VLOOKUP(INDEX($A:$O,ROW(),MATCH('Rapportage per vraag'!$C$12,'Data leveranciersbeoordeling'!$1:$1,0)),Leveranciersbeoordeling!$H$1:$I$5,2,FALSE),0)","v":0},0]
["",null,null,null,null,null,null,null,null,null,null,null,null,null,null,{"$f":"INDEX($A:$O,ROW(),MATCH('Rapportage per vraag'!$C$12,'Data leveranciersbeoordeling'!$1:$1,0))","v":0},{"$f":"IFERROR(VLOOKUP(INDEX($A:$O,ROW(),MATCH('Rapportage per vraag'!$C$12,'Data leveranciersbeoordeling'!$1:$1,0)),Leveranciersbeoordeling!$H$1:$I$5,2,FALSE),0)","v":0},0]
["",null,null,null,null,null,null,null,null,null,null,null,null,null,null,{"$f":"INDEX($A:$O,ROW(),MATCH('Rapportage per vraag'!$C$12,'Data leveranciersbeoordeling'!$1:$1,0))","v":0},{"$f":"IFERROR(VLOOKUP(INDEX($A:$O,ROW(),MATCH('Rapportage per vraag'!$C$12,'Data leveranciersbeoordeling'!$1:$1,0)),Leveranciersbeoordeling!$H$1:$I$5,2,FALSE),0)","v":0},0]
["",null,null,null,null,null,null,null,null,null,null,null,null,null,null,{"$f":"INDEX($A:$O,ROW(),MATCH('Rapportage per vraag'!$C$12,'Data leveranciersbeoordeling'!$1:$1,0))","v":0},{"$f":"IFERROR(VLOOKUP(INDEX($A:$O,ROW(),MATCH('Rapportage per vraag'!$C$12,'Data leveranciersbeoordeling'!$1:$1,0)),Leveranciersbeoordeling!$H$1:$I$5,2,FALSE),0)","v":0},0]
["",null,null,null,null,null,null,null,null,null,null,null,null,null,null,{"$f":"INDEX($A:$O,ROW(),MATCH('Rapportage per vraag'!$C$12,'Data leveranciersbeoordeling'!$1:$1,0))","v":0},{"$f":"IFERROR(VLOOKUP(INDEX($A:$O,ROW(),MATCH('Rapportage per vraag'!$C$12,'Data leveranciersbeoordeling'!$1:$1,0)),Leveranciersbeoordeling!$H$1:$I$5,2,FALSE),0)","v":0},0]
["",null,null,null,null,null,null,null,null,null,null,null,null,null,null,{"$f":"INDEX($A:$O,ROW(),MATCH('Rapportage per vraag'!$C$12,'Data leveranciersbeoordeling'!$1:$1,0))","v":0},{"$f":"IFERROR(VLOOKUP(INDEX($A:$O,ROW(),MATCH('Rapportage per vraag'!$C$12,'Data leveranciersbeoordeling'!$1:$1,0)),Leveranciersbeoordeling!$H$1:$I$5,2,FALSE),0)","v":0},0]
["",null,null,null,null,null,null,null,null,null,null,null,null,null,null,{"$f":"INDEX($A:$O,ROW(),MATCH('Rapportage per vraag'!$C$12,'Data leveranciersbeoordeling'!$1:$1,0))","v":0},{"$f":"IFERROR(VLOOKUP(INDEX($A:$O,ROW(),MATCH('Rapportage per vraag'!$C$12,'Data leveranciersbeoordeling'!$1:$1,0)),Leveranciersbeoordeling!$H$1:$I$5,2,FALSE),0)","v":0},0]
["",null,null,null,null,null,null,null,null,null,null,null,null,null,null,{"$f":"INDEX($A:$O,ROW(),MATCH('Rapportage per vraag'!$C$12,'Data leveranciersbeoordeling'!$1:$1,0))","v":0},{"$f":"IFERROR(VLOOKUP(INDEX($A:$O,ROW(),MATCH('Rapportage per vraag'!$C$12,'Data leveranciersbeoordeling'!$1:$1,0)),Leveranciersbeoordeling!$H$1:$I$5,2,FALSE),0)","v":0},0]
["",null,null,null,null,null,null,null,null,null,null,null,null,null,null,{"$f":"INDEX($A:$O,ROW(),MATCH('Rapportage per vraag'!$C$12,'Data leveranciersbeoordeling'!$1:$1,0))","v":0},{"$f":"IFERROR(VLOOKUP(INDEX($A:$O,ROW(),MATCH('Rapportage per vraag'!$C$12,'Data leveranciersbeoordeling'!$1:$1,0)),Leveranciersbeoordeling!$H$1:$I$5,2,FALSE),0)","v":0},0]
["",null,null,null,null,null,null,null,null,null,null,null,null,null,null,{"$f":"INDEX($A:$O,ROW(),MATCH('Rapportage per vraag'!$C$12,'Data leveranciersbeoordeling'!$1:$1,0))","v":0},{"$f":"IFERROR(VLOOKUP(INDEX($A:$O,ROW(),MATCH('Rapportage per vraag'!$C$12,'Data leveranciersbeoordeling'!$1:$1,0)),Leveranciersbeoordeling!$H$1:$I$5,2,FALSE),0)","v":0},0]
["",null,null,null,null,null,null,null,null,null,null,null,null,null,null,{"$f":"INDEX($A:$O,ROW(),MATCH('Rapportage per vraag'!$C$12,'Data leveranciersbeoordeling'!$1:$1,0))","v":0},{"$f":"IFERROR(VLOOKUP(INDEX($A:$O,ROW(),MATCH('Rapportage per vraag'!$C$12,'Data leveranciersbeoordeling'!$1:$1,0)),Leveranciersbeoordeling!$H$1:$I$5,2,FALSE),0)","v":0},0]
["",null,null,null,null,null,null,null,null,null,null,null,null,null,null,{"$f":"INDEX($A:$O,ROW(),MATCH('Rapportage per vraag'!$C$12,'Data leveranciersbeoordeling'!$1:$1,0))","v":0},{"$f":"IFERROR(VLOOKUP(INDEX($A:$O,ROW(),MATCH('Rapportage per vraag'!$C$12,'Data leveranciersbeoordeling'!$1:$1,0)),Leveranciersbeoordeling!$H$1:$I$5,2,FALSE),0)","v":0},0]
["",null,null,null,null,null,null,null,null,null,null,null,null,null,null,{"$f":"INDEX($A:$O,ROW(),MATCH('Rapportage per vraag'!$C$12,'Data leveranciersbeoordeling'!$1:$1,0))","v":0},{"$f":"IFERROR(VLOOKUP(INDEX($A:$O,ROW(),MATCH('Rapportage per vraag'!$C$12,'Data leveranciersbeoordeling'!$1:$1,0)),Leveranciersbeoordeling!$H$1:$I$5,2,FALSE),0)","v":0},0]
["",null,null,null,null,null,null,null,null,null,null,null,null,null,null,{"$f":"INDEX($A:$O,ROW(),MATCH('Rapportage per vraag'!$C$12,'Data leveranciersbeoordeling'!$1:$1,0))","v":0},{"$f":"IFERROR(VLOOKUP(INDEX($A:$O,ROW(),MATCH('Rapportage per vraag'!$C$12,'Data leveranciersbeoordeling'!$1:$1,0)),Leveranciersbeoordeling!$H$1:$I$5,2,FALSE),0)","v":0},0]
["",null,null,null,null,null,null,null,null,null,null,null,null,null,null,{"$f":"INDEX($A:$O,ROW(),MATCH('Rapportage per vraag'!$C$12,'Data leveranciersbeoordeling'!$1:$1,0))","v":0},{"$f":"IFERROR(VLOOKUP(INDEX($A:$O,ROW(),MATCH('Rapportage per vraag'!$C$12,'Data leveranciersbeoordeling'!$1:$1,0)),Leveranciersbeoordeling!$H$1:$I$5,2,FALSE),0)","v":0},0]
["",null,null,null,null,null,null,null,null,null,null,null,null,null,null,{"$f":"INDEX($A:$O,ROW(),MATCH('Rapportage per vraag'!$C$12,'Data leveranciersbeoordeling'!$1:$1,0))","v":0},{"$f":"IFERROR(VLOOKUP(INDEX($A:$O,ROW(),MATCH('Rapportage per vraag'!$C$12,'Data leveranciersbeoordeling'!$1:$1,0)),Leveranciersbeoordeling!$H$1:$I$5,2,FALSE),0)","v":0},0]
["",null,null,null,null,null,null,null,null,null,null,null,null,null,null,{"$f":"INDEX($A:$O,ROW(),MATCH('Rapportage per vraag'!$C$12,'Data leveranciersbeoordeling'!$1:$1,0))","v":0},{"$f":"IFERROR(VLOOKUP(INDEX($A:$O,ROW(),MATCH('Rapportage per vraag'!$C$12,'Data leveranciersbeoordeling'!$1:$1,0)),Leveranciersbeoordeling!$H$1:$I$5,2,FALSE),0)","v":0},0]
["",null,null,null,null,null,null,null,null,null,null,null,null,null,null,{"$f":"INDEX($A:$O,ROW(),MATCH('Rapportage per vraag'!$C$12,'Data leveranciersbeoordeling'!$1:$1,0))","v":0},{"$f":"IFERROR(VLOOKUP(INDEX($A:$O,ROW(),MATCH('Rapportage per vraag'!$C$12,'Data leveranciersbeoordeling'!$1:$1,0)),Leveranciersbeoordeling!$H$1:$I$5,2,FALSE),0)","v":0},0]
["",null,null,null,null,null,null,null,null,null,null,null,null,null,null,{"$f":"INDEX($A:$O,ROW(),MATCH('Rapportage per vraag'!$C$12,'Data leveranciersbeoordeling'!$1:$1,0))","v":0},{"$f":"IFERROR(VLOOKUP(INDEX($A:$O,ROW(),MATCH('Rapportage per vraag'!$C$12,'Data leveranciersbeoordeling'!$1:$1,0)),Leveranciersbeoordeling!$H$1:$I$5,2,FALSE),0)","v":0},0]
["",null,null,null,null,null,null,null,null,null,null,null,null,null,null,{"$f":"INDEX($A:$O,ROW(),MATCH('Rapportage per vraag'!$C$12,'Data leveranciersbeoordeling'!$1:$1,0))","v":0},{"$f":"IFERROR(VLOOKUP(INDEX($A:$O,ROW(),MATCH('Rapportage per vraag'!$C$12,'Data leveranciersbeoordeling'!$1:$1,0)),Leveranciersbeoordeling!$H$1:$I$5,2,FALSE),0)","v":0},0]
["",null,null,null,null,null,null,null,null,null,null,null,null,null,null,{"$f":"INDEX($A:$O,ROW(),MATCH('Rapportage per vraag'!$C$12,'Data leveranciersbeoordeling'!$1:$1,0))","v":0},{"$f":"IFERROR(VLOOKUP(INDEX($A:$O,ROW(),MATCH('Rapportage per vraag'!$C$12,'Data leveranciersbeoordeling'!$1:$1,0)),Leveranciersbeoordeling!$H$1:$I$5,2,FALSE),0)","v":0},0]
["",null,null,null,null,null,null,null,null,null,null,null,null,null,null,{"$f":"INDEX($A:$O,ROW(),MATCH('Rapportage per vraag'!$C$12,'Data leveranciersbeoordeling'!$1:$1,0))","v":0},{"$f":"IFERROR(VLOOKUP(INDEX($A:$O,ROW(),MATCH('Rapportage per vraag'!$C$12,'Data leveranciersbeoordeling'!$1:$1,0)),Leveranciersbeoordeling!$H$1:$I$5,2,FALSE),0)","v":0},0]
["",null,null,null,null,null,null,null,null,null,null,null,null,null,null,{"$f":"INDEX($A:$O,ROW(),MATCH('Rapportage per vraag'!$C$12,'Data leveranciersbeoordeling'!$1:$1,0))","v":0},{"$f":"IFERROR(VLOOKUP(INDEX($A:$O,ROW(),MATCH('Rapportage per vraag'!$C$12,'Data leveranciersbeoordeling'!$1:$1,0)),Leveranciersbeoordeling!$H$1:$I$5,2,FALSE),0)","v":0},0]
["",null,null,null,null,null,null,null,null,null,null,null,null,null,null,{"$f":"INDEX($A:$O,ROW(),MATCH('Rapportage per vraag'!$C$12,'Data leveranciersbeoordeling'!$1:$1,0))","v":0},{"$f":"IFERROR(VLOOKUP(INDEX($A:$O,ROW(),MATCH('Rapportage per vraag'!$C$12,'Data leveranciersbeoordeling'!$1:$1,0)),Leveranciersbeoordeling!$H$1:$I$5,2,FALSE),0)","v":0},0]
["",null,null,null,null,null,null,null,null,null,null,null,null,null,null,{"$f":"INDEX($A:$O,ROW(),MATCH('Rapportage per vraag'!$C$12,'Data leveranciersbeoordeling'!$1:$1,0))","v":0},{"$f":"IFERROR(VLOOKUP(INDEX($A:$O,ROW(),MATCH('Rapportage per vraag'!$C$12,'Data leveranciersbeoordeling'!$1:$1,0)),Leveranciersbeoordeling!$H$1:$I$5,2,FALSE),0)","v":0},0]
["",null,null,null,null,null,null,null,null,null,null,null,null,null,null,{"$f":"INDEX($A:$O,ROW(),MATCH('Rapportage per vraag'!$C$12,'Data leveranciersbeoordeling'!$1:$1,0))","v":0},{"$f":"IFERROR(VLOOKUP(INDEX($A:$O,ROW(),MATCH('Rapportage per vraag'!$C$12,'Data leveranciersbeoordeling'!$1:$1,0)),Leveranciersbeoordeling!$H$1:$I$5,2,FALSE),0)","v":0},0]
["",null,null,null,null,null,null,null,null,null,null,null,null,null,null,{"$f":"INDEX($A:$O,ROW(),MATCH('Rapportage per vraag'!$C$12,'Data leveranciersbeoordeling'!$1:$1,0))","v":0},{"$f":"IFERROR(VLOOKUP(INDEX($A:$O,ROW(),MATCH('Rapportage per vraag'!$C$12,'Data leveranciersbeoordeling'!$1:$1,0)),Leveranciersbeoordeling!$H$1:$I$5,2,FALSE),0)","v":0},0]
["",null,null,null,null,null,null,null,null,null,null,null,null,null,null,{"$f":"INDEX($A:$O,ROW(),MATCH('Rapportage per vraag'!$C$12,'Data leveranciersbeoordeling'!$1:$1,0))","v":0},{"$f":"IFERROR(VLOOKUP(INDEX($A:$O,ROW(),MATCH('Rapportage per vraag'!$C$12,'Data leveranciersbeoordeling'!$1:$1,0)),Leveranciersbeoordeling!$H$1:$I$5,2,FALSE),0)","v":0},0]
["",null,null,null,null,null,null,null,null,null,null,null,null,null,null,{"$f":"INDEX($A:$O,ROW(),MATCH('Rapportage per vraag'!$C$12,'Data leveranciersbeoordeling'!$1:$1,0))","v":0},{"$f":"IFERROR(VLOOKUP(INDEX($A:$O,ROW(),MATCH('Rapportage per vraag'!$C$12,'Data leveranciersbeoordeling'!$1:$1,0)),Leveranciersbeoordeling!$H$1:$I$5,2,FALSE),0)","v":0},0]
["",null,null,null,null,null,null,null,null,null,null,null,null,null,null,{"$f":"INDEX($A:$O,ROW(),MATCH('Rapportage per vraag'!$C$12,'Data leveranciersbeoordeling'!$1:$1,0))","v":0},{"$f":"IFERROR(VLOOKUP(INDEX($A:$O,ROW(),MATCH('Rapportage per vraag'!$C$12,'Data leveranciersbeoordeling'!$1:$1,0)),Leveranciersbeoordeling!$H$1:$I$5,2,FALSE),0)","v":0},0]
["",null,null,null,null,null,null,null,null,null,null,null,null,null,null,{"$f":"INDEX($A:$O,ROW(),MATCH('Rapportage per vraag'!$C$12,'Data leveranciersbeoordeling'!$1:$1,0))","v":0},{"$f":"IFERROR(VLOOKUP(INDEX($A:$O,ROW(),MATCH('Rapportage per vraag'!$C$12,'Data leveranciersbeoordeling'!$1:$1,0)),Leveranciersbeoordeling!$H$1:$I$5,2,FALSE),0)","v":0},0]
["",null,null,null,null,null,null,null,null,null,null,null,null,null,null,{"$f":"INDEX($A:$O,ROW(),MATCH('Rapportage per vraag'!$C$12,'Data leveranciersbeoordeling'!$1:$1,0))","v":0},{"$f":"IFERROR(VLOOKUP(INDEX($A:$O,ROW(),MATCH('Rapportage per vraag'!$C$12,'Data leveranciersbeoordeling'!$1:$1,0)),Leveranciersbeoordeling!$H$1:$I$5,2,FALSE),0)","v":0},0]
["",null,null,null,null,null,null,null,null,null,null,null,null,null,null,{"$f":"INDEX($A:$O,ROW(),MATCH('Rapportage per vraag'!$C$12,'Data leveranciersbeoordeling'!$1:$1,0))","v":0},{"$f":"IFERROR(VLOOKUP(INDEX($A:$O,ROW(),MATCH('Rapportage per vraag'!$C$12,'Data leveranciersbeoordeling'!$1:$1,0)),Leveranciersbeoordeling!$H$1:$I$5,2,FALSE),0)","v":0},0]
["",null,null,null,null,null,null,null,null,null,null,null,null,null,null,{"$f":"INDEX($A:$O,ROW(),MATCH('Rapportage per vraag'!$C$12,'Data leveranciersbeoordeling'!$1:$1,0))","v":0},{"$f":"IFERROR(VLOOKUP(INDEX($A:$O,ROW(),MATCH('Rapportage per vraag'!$C$12,'Data leveranciersbeoordeling'!$1:$1,0)),Leveranciersbeoordeling!$H$1:$I$5,2,FALSE),0)","v":0},0]
["",null,null,null,null,null,null,null,null,null,null,null,null,null,null,{"$f":"INDEX($A:$O,ROW(),MATCH('Rapportage per vraag'!$C$12,'Data leveranciersbeoordeling'!$1:$1,0))","v":0},{"$f":"IFERROR(VLOOKUP(INDEX($A:$O,ROW(),MATCH('Rapportage per vraag'!$C$12,'Data leveranciersbeoordeling'!$1:$1,0)),Leveranciersbeoordeling!$H$1:$I$5,2,FALSE),0)","v":0},0]
["",null,null,null,null,null,null,null,null,null,null,null,null,null,null,{"$f":"INDEX($A:$O,ROW(),MATCH('Rapportage per vraag'!$C$12,'Data leveranciersbeoordeling'!$1:$1,0))","v":0},{"$f":"IFERROR(VLOOKUP(INDEX($A:$O,ROW(),MATCH('Rapportage per vraag'!$C$12,'Data leveranciersbeoordeling'!$1:$1,0)),Leveranciersbeoordeling!$H$1:$I$5,2,FALSE),0)","v":0},0]
["",null,null,null,null,null,null,null,null,null,null,null,null,null,null,{"$f":"INDEX($A:$O,ROW(),MATCH('Rapportage per vraag'!$C$12,'Data leveranciersbeoordeling'!$1:$1,0))","v":0},{"$f":"IFERROR(VLOOKUP(INDEX($A:$O,ROW(),MATCH('Rapportage per vraag'!$C$12,'Data leveranciersbeoordeling'!$1:$1,0)),Leveranciersbeoordeling!$H$1:$I$5,2,FALSE),0)","v":0},0]
["",null,null,null,null,null,null,null,null,null,null,null,null,null,null,{"$f":"INDEX($A:$O,ROW(),MATCH('Rapportage per vraag'!$C$12,'Data leveranciersbeoordeling'!$1:$1,0))","v":0},{"$f":"IFERROR(VLOOKUP(INDEX($A:$O,ROW(),MATCH('Rapportage per vraag'!$C$12,'Data leveranciersbeoordeling'!$1:$1,0)),Leveranciersbeoordeling!$H$1:$I$5,2,FALSE),0)","v":0},0]
["",null,null,null,null,null,null,null,null,null,null,null,null,null,null,{"$f":"INDEX($A:$O,ROW(),MATCH('Rapportage per vraag'!$C$12,'Data leveranciersbeoordeling'!$1:$1,0))","v":0},{"$f":"IFERROR(VLOOKUP(INDEX($A:$O,ROW(),MATCH('Rapportage per vraag'!$C$12,'Data leveranciersbeoordeling'!$1:$1,0)),Leveranciersbeoordeling!$H$1:$I$5,2,FALSE),0)","v":0},0]
["",null,null,null,null,null,null,null,null,null,null,null,null,null,null,{"$f":"INDEX($A:$O,ROW(),MATCH('Rapportage per vraag'!$C$12,'Data leveranciersbeoordeling'!$1:$1,0))","v":0},{"$f":"IFERROR(VLOOKUP(INDEX($A:$O,ROW(),MATCH('Rapportage per vraag'!$C$12,'Data leveranciersbeoordeling'!$1:$1,0)),Leveranciersbeoordeling!$H$1:$I$5,2,FALSE),0)","v":0},0]
["",null,null,null,null,null,null,null,null,null,null,null,null,null,null,{"$f":"INDEX($A:$O,ROW(),MATCH('Rapportage per vraag'!$C$12,'Data leveranciersbeoordeling'!$1:$1,0))","v":0},{"$f":"IFERROR(VLOOKUP(INDEX($A:$O,ROW(),MATCH('Rapportage per vraag'!$C$12,'Data leveranciersbeoordeling'!$1:$1,0)),Leveranciersbeoordeling!$H$1:$I$5,2,FALSE),0)","v":0},0]
["",null,null,null,null,null,null,null,null,null,null,null,null,null,null,{"$f":"INDEX($A:$O,ROW(),MATCH('Rapportage per vraag'!$C$12,'Data leveranciersbeoordeling'!$1:$1,0))","v":0},{"$f":"IFERROR(VLOOKUP(INDEX($A:$O,ROW(),MATCH('Rapportage per vraag'!$C$12,'Data leveranciersbeoordeling'!$1:$1,0)),Leveranciersbeoordeling!$H$1:$I$5,2,FALSE),0)","v":0},{"$f":"IF(T(P9222)=P9222,Q9222,P9222)","v":0}]
["",null,null,null,null,null,null,null,null,null,null,null,null,null,null,{"$f":"INDEX($A:$O,ROW(),MATCH('Rapportage per vraag'!$C$12,'Data leveranciersbeoordeling'!$1:$1,0))","v":0},{"$f":"IFERROR(VLOOKUP(INDEX($A:$O,ROW(),MATCH('Rapportage per vraag'!$C$12,'Data leveranciersbeoordeling'!$1:$1,0)),Leveranciersbeoordeling!$H$1:$I$5,2,FALSE),0)","v":0},0]
["",null,null,null,null,null,null,null,null,null,null,null,null,null,null,{"$f":"INDEX($A:$O,ROW(),MATCH('Rapportage per vraag'!$C$12,'Data leveranciersbeoordeling'!$1:$1,0))","v":0},{"$f":"IFERROR(VLOOKUP(INDEX($A:$O,ROW(),MATCH('Rapportage per vraag'!$C$12,'Data leveranciersbeoordeling'!$1:$1,0)),Leveranciersbeoordeling!$H$1:$I$5,2,FALSE),0)","v":0},0]
["",null,null,null,null,null,null,null,null,null,null,null,null,null,null,{"$f":"INDEX($A:$O,ROW(),MATCH('Rapportage per vraag'!$C$12,'Data leveranciersbeoordeling'!$1:$1,0))","v":0},{"$f":"IFERROR(VLOOKUP(INDEX($A:$O,ROW(),MATCH('Rapportage per vraag'!$C$12,'Data leveranciersbeoordeling'!$1:$1,0)),Leveranciersbeoordeling!$H$1:$I$5,2,FALSE),0)","v":0},0]
["",null,null,null,null,null,null,null,null,null,null,null,null,null,null,{"$f":"INDEX($A:$O,ROW(),MATCH('Rapportage per vraag'!$C$12,'Data leveranciersbeoordeling'!$1:$1,0))","v":0},{"$f":"IFERROR(VLOOKUP(INDEX($A:$O,ROW(),MATCH('Rapportage per vraag'!$C$12,'Data leveranciersbeoordeling'!$1:$1,0)),Leveranciersbeoordeling!$H$1:$I$5,2,FALSE),0)","v":0},0]
["",null,null,null,null,null,null,null,null,null,null,null,null,null,null,{"$f":"INDEX($A:$O,ROW(),MATCH('Rapportage per vraag'!$C$12,'Data leveranciersbeoordeling'!$1:$1,0))","v":0},{"$f":"IFERROR(VLOOKUP(INDEX($A:$O,ROW(),MATCH('Rapportage per vraag'!$C$12,'Data leveranciersbeoordeling'!$1:$1,0)),Leveranciersbeoordeling!$H$1:$I$5,2,FALSE),0)","v":0},0]
["",null,null,null,null,null,null,null,null,null,null,null,null,null,null,{"$f":"INDEX($A:$O,ROW(),MATCH('Rapportage per vraag'!$C$12,'Data leveranciersbeoordeling'!$1:$1,0))","v":0},{"$f":"IFERROR(VLOOKUP(INDEX($A:$O,ROW(),MATCH('Rapportage per vraag'!$C$12,'Data leveranciersbeoordeling'!$1:$1,0)),Leveranciersbeoordeling!$H$1:$I$5,2,FALSE),0)","v":0},0]
["",null,null,null,null,null,null,null,null,null,null,null,null,null,null,{"$f":"INDEX($A:$O,ROW(),MATCH('Rapportage per vraag'!$C$12,'Data leveranciersbeoordeling'!$1:$1,0))","v":0},{"$f":"IFERROR(VLOOKUP(INDEX($A:$O,ROW(),MATCH('Rapportage per vraag'!$C$12,'Data leveranciersbeoordeling'!$1:$1,0)),Leveranciersbeoordeling!$H$1:$I$5,2,FALSE),0)","v":0},0]
["",null,null,null,null,null,null,null,null,null,null,null,null,null,null,{"$f":"INDEX($A:$O,ROW(),MATCH('Rapportage per vraag'!$C$12,'Data leveranciersbeoordeling'!$1:$1,0))","v":0},{"$f":"IFERROR(VLOOKUP(INDEX($A:$O,ROW(),MATCH('Rapportage per vraag'!$C$12,'Data leveranciersbeoordeling'!$1:$1,0)),Leveranciersbeoordeling!$H$1:$I$5,2,FALSE),0)","v":0},0]
["",null,null,null,null,null,null,null,null,null,null,null,null,null,null,{"$f":"INDEX($A:$O,ROW(),MATCH('Rapportage per vraag'!$C$12,'Data leveranciersbeoordeling'!$1:$1,0))","v":0},{"$f":"IFERROR(VLOOKUP(INDEX($A:$O,ROW(),MATCH('Rapportage per vraag'!$C$12,'Data leveranciersbeoordeling'!$1:$1,0)),Leveranciersbeoordeling!$H$1:$I$5,2,FALSE),0)","v":0},0]
["",null,null,null,null,null,null,null,null,null,null,null,null,null,null,{"$f":"INDEX($A:$O,ROW(),MATCH('Rapportage per vraag'!$C$12,'Data leveranciersbeoordeling'!$1:$1,0))","v":0},{"$f":"IFERROR(VLOOKUP(INDEX($A:$O,ROW(),MATCH('Rapportage per vraag'!$C$12,'Data leveranciersbeoordeling'!$1:$1,0)),Leveranciersbeoordeling!$H$1:$I$5,2,FALSE),0)","v":0},0]
["",null,null,null,null,null,null,null,null,null,null,null,null,null,null,{"$f":"INDEX($A:$O,ROW(),MATCH('Rapportage per vraag'!$C$12,'Data leveranciersbeoordeling'!$1:$1,0))","v":0},{"$f":"IFERROR(VLOOKUP(INDEX($A:$O,ROW(),MATCH('Rapportage per vraag'!$C$12,'Data leveranciersbeoordeling'!$1:$1,0)),Leveranciersbeoordeling!$H$1:$I$5,2,FALSE),0)","v":0},0]
["",null,null,null,null,null,null,null,null,null,null,null,null,null,null,{"$f":"INDEX($A:$O,ROW(),MATCH('Rapportage per vraag'!$C$12,'Data leveranciersbeoordeling'!$1:$1,0))","v":0},{"$f":"IFERROR(VLOOKUP(INDEX($A:$O,ROW(),MATCH('Rapportage per vraag'!$C$12,'Data leveranciersbeoordeling'!$1:$1,0)),Leveranciersbeoordeling!$H$1:$I$5,2,FALSE),0)","v":0},0]
["",null,null,null,null,null,null,null,null,null,null,null,null,null,null,{"$f":"INDEX($A:$O,ROW(),MATCH('Rapportage per vraag'!$C$12,'Data leveranciersbeoordeling'!$1:$1,0))","v":0},{"$f":"IFERROR(VLOOKUP(INDEX($A:$O,ROW(),MATCH('Rapportage per vraag'!$C$12,'Data leveranciersbeoordeling'!$1:$1,0)),Leveranciersbeoordeling!$H$1:$I$5,2,FALSE),0)","v":0},0]
["",null,null,null,null,null,null,null,null,null,null,null,null,null,null,{"$f":"INDEX($A:$O,ROW(),MATCH('Rapportage per vraag'!$C$12,'Data leveranciersbeoordeling'!$1:$1,0))","v":0},{"$f":"IFERROR(VLOOKUP(INDEX($A:$O,ROW(),MATCH('Rapportage per vraag'!$C$12,'Data leveranciersbeoordeling'!$1:$1,0)),Leveranciersbeoordeling!$H$1:$I$5,2,FALSE),0)","v":0},0]
["",null,null,null,null,null,null,null,null,null,null,null,null,null,null,{"$f":"INDEX($A:$O,ROW(),MATCH('Rapportage per vraag'!$C$12,'Data leveranciersbeoordeling'!$1:$1,0))","v":0},{"$f":"IFERROR(VLOOKUP(INDEX($A:$O,ROW(),MATCH('Rapportage per vraag'!$C$12,'Data leveranciersbeoordeling'!$1:$1,0)),Leveranciersbeoordeling!$H$1:$I$5,2,FALSE),0)","v":0},0]
["",null,null,null,null,null,null,null,null,null,null,null,null,null,null,{"$f":"INDEX($A:$O,ROW(),MATCH('Rapportage per vraag'!$C$12,'Data leveranciersbeoordeling'!$1:$1,0))","v":0},{"$f":"IFERROR(VLOOKUP(INDEX($A:$O,ROW(),MATCH('Rapportage per vraag'!$C$12,'Data leveranciersbeoordeling'!$1:$1,0)),Leveranciersbeoordeling!$H$1:$I$5,2,FALSE),0)","v":0},0]
["",null,null,null,null,null,null,null,null,null,null,null,null,null,null,{"$f":"INDEX($A:$O,ROW(),MATCH('Rapportage per vraag'!$C$12,'Data leveranciersbeoordeling'!$1:$1,0))","v":0},{"$f":"IFERROR(VLOOKUP(INDEX($A:$O,ROW(),MATCH('Rapportage per vraag'!$C$12,'Data leveranciersbeoordeling'!$1:$1,0)),Leveranciersbeoordeling!$H$1:$I$5,2,FALSE),0)","v":0},0]
["",null,null,null,null,null,null,null,null,null,null,null,null,null,null,{"$f":"INDEX($A:$O,ROW(),MATCH('Rapportage per vraag'!$C$12,'Data leveranciersbeoordeling'!$1:$1,0))","v":0},{"$f":"IFERROR(VLOOKUP(INDEX($A:$O,ROW(),MATCH('Rapportage per vraag'!$C$12,'Data leveranciersbeoordeling'!$1:$1,0)),Leveranciersbeoordeling!$H$1:$I$5,2,FALSE),0)","v":0},0]
["",null,null,null,null,null,null,null,null,null,null,null,null,null,null,{"$f":"INDEX($A:$O,ROW(),MATCH('Rapportage per vraag'!$C$12,'Data leveranciersbeoordeling'!$1:$1,0))","v":0},{"$f":"IFERROR(VLOOKUP(INDEX($A:$O,ROW(),MATCH('Rapportage per vraag'!$C$12,'Data leveranciersbeoordeling'!$1:$1,0)),Leveranciersbeoordeling!$H$1:$I$5,2,FALSE),0)","v":0},0]
["",null,null,null,null,null,null,null,null,null,null,null,null,null,null,{"$f":"INDEX($A:$O,ROW(),MATCH('Rapportage per vraag'!$C$12,'Data leveranciersbeoordeling'!$1:$1,0))","v":0},{"$f":"IFERROR(VLOOKUP(INDEX($A:$O,ROW(),MATCH('Rapportage per vraag'!$C$12,'Data leveranciersbeoordeling'!$1:$1,0)),Leveranciersbeoordeling!$H$1:$I$5,2,FALSE),0)","v":0},0]
["",null,null,null,null,null,null,null,null,null,null,null,null,null,null,{"$f":"INDEX($A:$O,ROW(),MATCH('Rapportage per vraag'!$C$12,'Data leveranciersbeoordeling'!$1:$1,0))","v":0},{"$f":"IFERROR(VLOOKUP(INDEX($A:$O,ROW(),MATCH('Rapportage per vraag'!$C$12,'Data leveranciersbeoordeling'!$1:$1,0)),Leveranciersbeoordeling!$H$1:$I$5,2,FALSE),0)","v":0},0]
["",null,null,null,null,null,null,null,null,null,null,null,null,null,null,{"$f":"INDEX($A:$O,ROW(),MATCH('Rapportage per vraag'!$C$12,'Data leveranciersbeoordeling'!$1:$1,0))","v":0},{"$f":"IFERROR(VLOOKUP(INDEX($A:$O,ROW(),MATCH('Rapportage per vraag'!$C$12,'Data leveranciersbeoordeling'!$1:$1,0)),Leveranciersbeoordeling!$H$1:$I$5,2,FALSE),0)","v":0},0]
["",null,null,null,null,null,null,null,null,null,null,null,null,null,null,{"$f":"INDEX($A:$O,ROW(),MATCH('Rapportage per vraag'!$C$12,'Data leveranciersbeoordeling'!$1:$1,0))","v":0},{"$f":"IFERROR(VLOOKUP(INDEX($A:$O,ROW(),MATCH('Rapportage per vraag'!$C$12,'Data leveranciersbeoordeling'!$1:$1,0)),Leveranciersbeoordeling!$H$1:$I$5,2,FALSE),0)","v":0},0]
["",null,null,null,null,null,null,null,null,null,null,null,null,null,null,{"$f":"INDEX($A:$O,ROW(),MATCH('Rapportage per vraag'!$C$12,'Data leveranciersbeoordeling'!$1:$1,0))","v":0},{"$f":"IFERROR(VLOOKUP(INDEX($A:$O,ROW(),MATCH('Rapportage per vraag'!$C$12,'Data leveranciersbeoordeling'!$1:$1,0)),Leveranciersbeoordeling!$H$1:$I$5,2,FALSE),0)","v":0},0]
["",null,null,null,null,null,null,null,null,null,null,null,null,null,null,{"$f":"INDEX($A:$O,ROW(),MATCH('Rapportage per vraag'!$C$12,'Data leveranciersbeoordeling'!$1:$1,0))","v":0},{"$f":"IFERROR(VLOOKUP(INDEX($A:$O,ROW(),MATCH('Rapportage per vraag'!$C$12,'Data leveranciersbeoordeling'!$1:$1,0)),Leveranciersbeoordeling!$H$1:$I$5,2,FALSE),0)","v":0},0]
["",null,null,null,null,null,null,null,null,null,null,null,null,null,null,{"$f":"INDEX($A:$O,ROW(),MATCH('Rapportage per vraag'!$C$12,'Data leveranciersbeoordeling'!$1:$1,0))","v":0},{"$f":"IFERROR(VLOOKUP(INDEX($A:$O,ROW(),MATCH('Rapportage per vraag'!$C$12,'Data leveranciersbeoordeling'!$1:$1,0)),Leveranciersbeoordeling!$H$1:$I$5,2,FALSE),0)","v":0},0]
["",null,null,null,null,null,null,null,null,null,null,null,null,null,null,{"$f":"INDEX($A:$O,ROW(),MATCH('Rapportage per vraag'!$C$12,'Data leveranciersbeoordeling'!$1:$1,0))","v":0},{"$f":"IFERROR(VLOOKUP(INDEX($A:$O,ROW(),MATCH('Rapportage per vraag'!$C$12,'Data leveranciersbeoordeling'!$1:$1,0)),Leveranciersbeoordeling!$H$1:$I$5,2,FALSE),0)","v":0},0]
["",null,null,null,null,null,null,null,null,null,null,null,null,null,null,{"$f":"INDEX($A:$O,ROW(),MATCH('Rapportage per vraag'!$C$12,'Data leveranciersbeoordeling'!$1:$1,0))","v":0},{"$f":"IFERROR(VLOOKUP(INDEX($A:$O,ROW(),MATCH('Rapportage per vraag'!$C$12,'Data leveranciersbeoordeling'!$1:$1,0)),Leveranciersbeoordeling!$H$1:$I$5,2,FALSE),0)","v":0},0]
["",null,null,null,null,null,null,null,null,null,null,null,null,null,null,{"$f":"INDEX($A:$O,ROW(),MATCH('Rapportage per vraag'!$C$12,'Data leveranciersbeoordeling'!$1:$1,0))","v":0},{"$f":"IFERROR(VLOOKUP(INDEX($A:$O,ROW(),MATCH('Rapportage per vraag'!$C$12,'Data leveranciersbeoordeling'!$1:$1,0)),Leveranciersbeoordeling!$H$1:$I$5,2,FALSE),0)","v":0},0]
["",null,null,null,null,null,null,null,null,null,null,null,null,null,null,{"$f":"INDEX($A:$O,ROW(),MATCH('Rapportage per vraag'!$C$12,'Data leveranciersbeoordeling'!$1:$1,0))","v":0},{"$f":"IFERROR(VLOOKUP(INDEX($A:$O,ROW(),MATCH('Rapportage per vraag'!$C$12,'Data leveranciersbeoordeling'!$1:$1,0)),Leveranciersbeoordeling!$H$1:$I$5,2,FALSE),0)","v":0},0]
["",null,null,null,null,null,null,null,null,null,null,null,null,null,null,{"$f":"INDEX($A:$O,ROW(),MATCH('Rapportage per vraag'!$C$12,'Data leveranciersbeoordeling'!$1:$1,0))","v":0},{"$f":"IFERROR(VLOOKUP(INDEX($A:$O,ROW(),MATCH('Rapportage per vraag'!$C$12,'Data leveranciersbeoordeling'!$1:$1,0)),Leveranciersbeoordeling!$H$1:$I$5,2,FALSE),0)","v":0},0]
["",null,null,null,null,null,null,null,null,null,null,null,null,null,null,{"$f":"INDEX($A:$O,ROW(),MATCH('Rapportage per vraag'!$C$12,'Data leveranciersbeoordeling'!$1:$1,0))","v":0},{"$f":"IFERROR(VLOOKUP(INDEX($A:$O,ROW(),MATCH('Rapportage per vraag'!$C$12,'Data leveranciersbeoordeling'!$1:$1,0)),Leveranciersbeoordeling!$H$1:$I$5,2,FALSE),0)","v":0},0]
[{"$f":"CONCATENATE(B9347,C9347,D9347)","v":""},null,null,null,null,null,null,null,null,null,null,null,null,null,null,{"$f":"INDEX($A:$O,ROW(),MATCH('Rapportage per vraag'!$C$12,'Data leveranciersbeoordeling'!$1:$1,0))","v":0},{"$f":"IFERROR(VLOOKUP(INDEX($A:$O,ROW(),MATCH('Rapportage per vraag'!$C$12,'Data leveranciersbeoordeling'!$1:$1,0)),Leveranciersbeoordeling!$H$1:$I$5,2,FALSE),0)","v":0},0]
["",null,null,null,null,null,null,null,null,null,null,null,null,null,null,{"$f":"INDEX($A:$O,ROW(),MATCH('Rapportage per vraag'!$C$12,'Data leveranciersbeoordeling'!$1:$1,0))","v":0},{"$f":"IFERROR(VLOOKUP(INDEX($A:$O,ROW(),MATCH('Rapportage per vraag'!$C$12,'Data leveranciersbeoordeling'!$1:$1,0)),Leveranciersbeoordeling!$H$1:$I$5,2,FALSE),0)","v":0},{"$f":"IF(T(P9350)=P9350,Q9350,P9350)","v":0}]
["",null,null,null,null,null,null,null,null,null,null,null,null,null,null,{"$f":"INDEX($A:$O,ROW(),MATCH('Rapportage per vraag'!$C$12,'Data leveranciersbeoordeling'!$1:$1,0))","v":0},{"$f":"IFERROR(VLOOKUP(INDEX($A:$O,ROW(),MATCH('Rapportage per vraag'!$C$12,'Data leveranciersbeoordeling'!$1:$1,0)),Leveranciersbeoordeling!$H$1:$I$5,2,FALSE),0)","v":0},0]
["",null,null,null,null,null,null,null,null,null,null,null,null,null,null,{"$f":"INDEX($A:$O,ROW(),MATCH('Rapportage per vraag'!$C$12,'Data leveranciersbeoordeling'!$1:$1,0))","v":0},{"$f":"IFERROR(VLOOKUP(INDEX($A:$O,ROW(),MATCH('Rapportage per vraag'!$C$12,'Data leveranciersbeoordeling'!$1:$1,0)),Leveranciersbeoordeling!$H$1:$I$5,2,FALSE),0)","v":0},0]
["",null,null,null,null,null,null,null,null,null,null,null,null,null,null,{"$f":"INDEX($A:$O,ROW(),MATCH('Rapportage per vraag'!$C$12,'Data leveranciersbeoordeling'!$1:$1,0))","v":0},{"$f":"IFERROR(VLOOKUP(INDEX($A:$O,ROW(),MATCH('Rapportage per vraag'!$C$12,'Data leveranciersbeoordeling'!$1:$1,0)),Leveranciersbeoordeling!$H$1:$I$5,2,FALSE),0)","v":0},0]
["",null,null,null,null,null,null,null,null,null,null,null,null,null,null,{"$f":"INDEX($A:$O,ROW(),MATCH('Rapportage per vraag'!$C$12,'Data leveranciersbeoordeling'!$1:$1,0))","v":0},{"$f":"IFERROR(VLOOKUP(INDEX($A:$O,ROW(),MATCH('Rapportage per vraag'!$C$12,'Data leveranciersbeoordeling'!$1:$1,0)),Leveranciersbeoordeling!$H$1:$I$5,2,FALSE),0)","v":0},0]
["",null,null,null,null,null,null,null,null,null,null,null,null,null,null,{"$f":"INDEX($A:$O,ROW(),MATCH('Rapportage per vraag'!$C$12,'Data leveranciersbeoordeling'!$1:$1,0))","v":0},{"$f":"IFERROR(VLOOKUP(INDEX($A:$O,ROW(),MATCH('Rapportage per vraag'!$C$12,'Data leveranciersbeoordeling'!$1:$1,0)),Leveranciersbeoordeling!$H$1:$I$5,2,FALSE),0)","v":0},0]
["",null,null,null,null,null,null,null,null,null,null,null,null,null,null,{"$f":"INDEX($A:$O,ROW(),MATCH('Rapportage per vraag'!$C$12,'Data leveranciersbeoordeling'!$1:$1,0))","v":0},{"$f":"IFERROR(VLOOKUP(INDEX($A:$O,ROW(),MATCH('Rapportage per vraag'!$C$12,'Data leveranciersbeoordeling'!$1:$1,0)),Leveranciersbeoordeling!$H$1:$I$5,2,FALSE),0)","v":0},0]
["",null,null,null,null,null,null,null,null,null,null,null,null,null,null,{"$f":"INDEX($A:$O,ROW(),MATCH('Rapportage per vraag'!$C$12,'Data leveranciersbeoordeling'!$1:$1,0))","v":0},{"$f":"IFERROR(VLOOKUP(INDEX($A:$O,ROW(),MATCH('Rapportage per vraag'!$C$12,'Data leveranciersbeoordeling'!$1:$1,0)),Leveranciersbeoordeling!$H$1:$I$5,2,FALSE),0)","v":0},0]
["",null,null,null,null,null,null,null,null,null,null,null,null,null,null,{"$f":"INDEX($A:$O,ROW(),MATCH('Rapportage per vraag'!$C$12,'Data leveranciersbeoordeling'!$1:$1,0))","v":0},{"$f":"IFERROR(VLOOKUP(INDEX($A:$O,ROW(),MATCH('Rapportage per vraag'!$C$12,'Data leveranciersbeoordeling'!$1:$1,0)),Leveranciersbeoordeling!$H$1:$I$5,2,FALSE),0)","v":0},0]
["",null,null,null,null,null,null,null,null,null,null,null,null,null,null,{"$f":"INDEX($A:$O,ROW(),MATCH('Rapportage per vraag'!$C$12,'Data leveranciersbeoordeling'!$1:$1,0))","v":0},{"$f":"IFERROR(VLOOKUP(INDEX($A:$O,ROW(),MATCH('Rapportage per vraag'!$C$12,'Data leveranciersbeoordeling'!$1:$1,0)),Leveranciersbeoordeling!$H$1:$I$5,2,FALSE),0)","v":0},0]
["",null,null,null,null,null,null,null,null,null,null,null,null,null,null,{"$f":"INDEX($A:$O,ROW(),MATCH('Rapportage per vraag'!$C$12,'Data leveranciersbeoordeling'!$1:$1,0))","v":0},{"$f":"IFERROR(VLOOKUP(INDEX($A:$O,ROW(),MATCH('Rapportage per vraag'!$C$12,'Data leveranciersbeoordeling'!$1:$1,0)),Leveranciersbeoordeling!$H$1:$I$5,2,FALSE),0)","v":0},0]
["",null,null,null,null,null,null,null,null,null,null,null,null,null,null,{"$f":"INDEX($A:$O,ROW(),MATCH('Rapportage per vraag'!$C$12,'Data leveranciersbeoordeling'!$1:$1,0))","v":0},{"$f":"IFERROR(VLOOKUP(INDEX($A:$O,ROW(),MATCH('Rapportage per vraag'!$C$12,'Data leveranciersbeoordeling'!$1:$1,0)),Leveranciersbeoordeling!$H$1:$I$5,2,FALSE),0)","v":0},0]
["",null,null,null,null,null,null,null,null,null,null,null,null,null,null,{"$f":"INDEX($A:$O,ROW(),MATCH('Rapportage per vraag'!$C$12,'Data leveranciersbeoordeling'!$1:$1,0))","v":0},{"$f":"IFERROR(VLOOKUP(INDEX($A:$O,ROW(),MATCH('Rapportage per vraag'!$C$12,'Data leveranciersbeoordeling'!$1:$1,0)),Leveranciersbeoordeling!$H$1:$I$5,2,FALSE),0)","v":0},0]
["",null,null,null,null,null,null,null,null,null,null,null,null,null,null,{"$f":"INDEX($A:$O,ROW(),MATCH('Rapportage per vraag'!$C$12,'Data leveranciersbeoordeling'!$1:$1,0))","v":0},{"$f":"IFERROR(VLOOKUP(INDEX($A:$O,ROW(),MATCH('Rapportage per vraag'!$C$12,'Data leveranciersbeoordeling'!$1:$1,0)),Leveranciersbeoordeling!$H$1:$I$5,2,FALSE),0)","v":0},0]
["",null,null,null,null,null,null,null,null,null,null,null,null,null,null,{"$f":"INDEX($A:$O,ROW(),MATCH('Rapportage per vraag'!$C$12,'Data leveranciersbeoordeling'!$1:$1,0))","v":0},{"$f":"IFERROR(VLOOKUP(INDEX($A:$O,ROW(),MATCH('Rapportage per vraag'!$C$12,'Data leveranciersbeoordeling'!$1:$1,0)),Leveranciersbeoordeling!$H$1:$I$5,2,FALSE),0)","v":0},0]
["",null,null,null,null,null,null,null,null,null,null,null,null,null,null,{"$f":"INDEX($A:$O,ROW(),MATCH('Rapportage per vraag'!$C$12,'Data leveranciersbeoordeling'!$1:$1,0))","v":0},{"$f":"IFERROR(VLOOKUP(INDEX($A:$O,ROW(),MATCH('Rapportage per vraag'!$C$12,'Data leveranciersbeoordeling'!$1:$1,0)),Leveranciersbeoordeling!$H$1:$I$5,2,FALSE),0)","v":0},0]
["",null,null,null,null,null,null,null,null,null,null,null,null,null,null,{"$f":"INDEX($A:$O,ROW(),MATCH('Rapportage per vraag'!$C$12,'Data leveranciersbeoordeling'!$1:$1,0))","v":0},{"$f":"IFERROR(VLOOKUP(INDEX($A:$O,ROW(),MATCH('Rapportage per vraag'!$C$12,'Data leveranciersbeoordeling'!$1:$1,0)),Leveranciersbeoordeling!$H$1:$I$5,2,FALSE),0)","v":0},0]
["",null,null,null,null,null,null,null,null,null,null,null,null,null,null,{"$f":"INDEX($A:$O,ROW(),MATCH('Rapportage per vraag'!$C$12,'Data leveranciersbeoordeling'!$1:$1,0))","v":0},{"$f":"IFERROR(VLOOKUP(INDEX($A:$O,ROW(),MATCH('Rapportage per vraag'!$C$12,'Data leveranciersbeoordeling'!$1:$1,0)),Leveranciersbeoordeling!$H$1:$I$5,2,FALSE),0)","v":0},0]
["",null,null,null,null,null,null,null,null,null,null,null,null,null,null,{"$f":"INDEX($A:$O,ROW(),MATCH('Rapportage per vraag'!$C$12,'Data leveranciersbeoordeling'!$1:$1,0))","v":0},{"$f":"IFERROR(VLOOKUP(INDEX($A:$O,ROW(),MATCH('Rapportage per vraag'!$C$12,'Data leveranciersbeoordeling'!$1:$1,0)),Leveranciersbeoordeling!$H$1:$I$5,2,FALSE),0)","v":0},0]
["",null,null,null,null,null,null,null,null,null,null,null,null,null,null,{"$f":"INDEX($A:$O,ROW(),MATCH('Rapportage per vraag'!$C$12,'Data leveranciersbeoordeling'!$1:$1,0))","v":0},{"$f":"IFERROR(VLOOKUP(INDEX($A:$O,ROW(),MATCH('Rapportage per vraag'!$C$12,'Data leveranciersbeoordeling'!$1:$1,0)),Leveranciersbeoordeling!$H$1:$I$5,2,FALSE),0)","v":0},0]
["",null,null,null,null,null,null,null,null,null,null,null,null,null,null,{"$f":"INDEX($A:$O,ROW(),MATCH('Rapportage per vraag'!$C$12,'Data leveranciersbeoordeling'!$1:$1,0))","v":0},{"$f":"IFERROR(VLOOKUP(INDEX($A:$O,ROW(),MATCH('Rapportage per vraag'!$C$12,'Data leveranciersbeoordeling'!$1:$1,0)),Leveranciersbeoordeling!$H$1:$I$5,2,FALSE),0)","v":0},0]
["",null,null,null,null,null,null,null,null,null,null,null,null,null,null,{"$f":"INDEX($A:$O,ROW(),MATCH('Rapportage per vraag'!$C$12,'Data leveranciersbeoordeling'!$1:$1,0))","v":0},{"$f":"IFERROR(VLOOKUP(INDEX($A:$O,ROW(),MATCH('Rapportage per vraag'!$C$12,'Data leveranciersbeoordeling'!$1:$1,0)),Leveranciersbeoordeling!$H$1:$I$5,2,FALSE),0)","v":0},0]
["",null,null,null,null,null,null,null,null,null,null,null,null,null,null,{"$f":"INDEX($A:$O,ROW(),MATCH('Rapportage per vraag'!$C$12,'Data leveranciersbeoordeling'!$1:$1,0))","v":0},{"$f":"IFERROR(VLOOKUP(INDEX($A:$O,ROW(),MATCH('Rapportage per vraag'!$C$12,'Data leveranciersbeoordeling'!$1:$1,0)),Leveranciersbeoordeling!$H$1:$I$5,2,FALSE),0)","v":0},0]
["",null,null,null,null,null,null,null,null,null,null,null,null,null,null,{"$f":"INDEX($A:$O,ROW(),MATCH('Rapportage per vraag'!$C$12,'Data leveranciersbeoordeling'!$1:$1,0))","v":0},{"$f":"IFERROR(VLOOKUP(INDEX($A:$O,ROW(),MATCH('Rapportage per vraag'!$C$12,'Data leveranciersbeoordeling'!$1:$1,0)),Leveranciersbeoordeling!$H$1:$I$5,2,FALSE),0)","v":0},0]
["",null,null,null,null,null,null,null,null,null,null,null,null,null,null,{"$f":"INDEX($A:$O,ROW(),MATCH('Rapportage per vraag'!$C$12,'Data leveranciersbeoordeling'!$1:$1,0))","v":0},{"$f":"IFERROR(VLOOKUP(INDEX($A:$O,ROW(),MATCH('Rapportage per vraag'!$C$12,'Data leveranciersbeoordeling'!$1:$1,0)),Leveranciersbeoordeling!$H$1:$I$5,2,FALSE),0)","v":0},0]
["",null,null,null,null,null,null,null,null,null,null,null,null,null,null,{"$f":"INDEX($A:$O,ROW(),MATCH('Rapportage per vraag'!$C$12,'Data leveranciersbeoordeling'!$1:$1,0))","v":0},{"$f":"IFERROR(VLOOKUP(INDEX($A:$O,ROW(),MATCH('Rapportage per vraag'!$C$12,'Data leveranciersbeoordeling'!$1:$1,0)),Leveranciersbeoordeling!$H$1:$I$5,2,FALSE),0)","v":0},0]
["",null,null,null,null,null,null,null,null,null,null,null,null,null,null,{"$f":"INDEX($A:$O,ROW(),MATCH('Rapportage per vraag'!$C$12,'Data leveranciersbeoordeling'!$1:$1,0))","v":0},{"$f":"IFERROR(VLOOKUP(INDEX($A:$O,ROW(),MATCH('Rapportage per vraag'!$C$12,'Data leveranciersbeoordeling'!$1:$1,0)),Leveranciersbeoordeling!$H$1:$I$5,2,FALSE),0)","v":0},0]
["",null,null,null,null,null,null,null,null,null,null,null,null,null,null,{"$f":"INDEX($A:$O,ROW(),MATCH('Rapportage per vraag'!$C$12,'Data leveranciersbeoordeling'!$1:$1,0))","v":0},{"$f":"IFERROR(VLOOKUP(INDEX($A:$O,ROW(),MATCH('Rapportage per vraag'!$C$12,'Data leveranciersbeoordeling'!$1:$1,0)),Leveranciersbeoordeling!$H$1:$I$5,2,FALSE),0)","v":0},0]
["",null,null,null,null,null,null,null,null,null,null,null,null,null,null,{"$f":"INDEX($A:$O,ROW(),MATCH('Rapportage per vraag'!$C$12,'Data leveranciersbeoordeling'!$1:$1,0))","v":0},{"$f":"IFERROR(VLOOKUP(INDEX($A:$O,ROW(),MATCH('Rapportage per vraag'!$C$12,'Data leveranciersbeoordeling'!$1:$1,0)),Leveranciersbeoordeling!$H$1:$I$5,2,FALSE),0)","v":0},0]
["",null,null,null,null,null,null,null,null,null,null,null,null,null,null,{"$f":"INDEX($A:$O,ROW(),MATCH('Rapportage per vraag'!$C$12,'Data leveranciersbeoordeling'!$1:$1,0))","v":0},{"$f":"IFERROR(VLOOKUP(INDEX($A:$O,ROW(),MATCH('Rapportage per vraag'!$C$12,'Data leveranciersbeoordeling'!$1:$1,0)),Leveranciersbeoordeling!$H$1:$I$5,2,FALSE),0)","v":0},0]
["",null,null,null,null,null,null,null,null,null,null,null,null,null,null,{"$f":"INDEX($A:$O,ROW(),MATCH('Rapportage per vraag'!$C$12,'Data leveranciersbeoordeling'!$1:$1,0))","v":0},{"$f":"IFERROR(VLOOKUP(INDEX($A:$O,ROW(),MATCH('Rapportage per vraag'!$C$12,'Data leveranciersbeoordeling'!$1:$1,0)),Leveranciersbeoordeling!$H$1:$I$5,2,FALSE),0)","v":0},0]
["",null,null,null,null,null,null,null,null,null,null,null,null,null,null,{"$f":"INDEX($A:$O,ROW(),MATCH('Rapportage per vraag'!$C$12,'Data leveranciersbeoordeling'!$1:$1,0))","v":0},{"$f":"IFERROR(VLOOKUP(INDEX($A:$O,ROW(),MATCH('Rapportage per vraag'!$C$12,'Data leveranciersbeoordeling'!$1:$1,0)),Leveranciersbeoordeling!$H$1:$I$5,2,FALSE),0)","v":0},0]
["",null,null,null,null,null,null,null,null,null,null,null,null,null,null,{"$f":"INDEX($A:$O,ROW(),MATCH('Rapportage per vraag'!$C$12,'Data leveranciersbeoordeling'!$1:$1,0))","v":0},{"$f":"IFERROR(VLOOKUP(INDEX($A:$O,ROW(),MATCH('Rapportage per vraag'!$C$12,'Data leveranciersbeoordeling'!$1:$1,0)),Leveranciersbeoordeling!$H$1:$I$5,2,FALSE),0)","v":0},0]
["",null,null,null,null,null,null,null,null,null,null,null,null,null,null,{"$f":"INDEX($A:$O,ROW(),MATCH('Rapportage per vraag'!$C$12,'Data leveranciersbeoordeling'!$1:$1,0))","v":0},{"$f":"IFERROR(VLOOKUP(INDEX($A:$O,ROW(),MATCH('Rapportage per vraag'!$C$12,'Data leveranciersbeoordeling'!$1:$1,0)),Leveranciersbeoordeling!$H$1:$I$5,2,FALSE),0)","v":0},0]
["",null,null,null,null,null,null,null,null,null,null,null,null,null,null,{"$f":"INDEX($A:$O,ROW(),MATCH('Rapportage per vraag'!$C$12,'Data leveranciersbeoordeling'!$1:$1,0))","v":0},{"$f":"IFERROR(VLOOKUP(INDEX($A:$O,ROW(),MATCH('Rapportage per vraag'!$C$12,'Data leveranciersbeoordeling'!$1:$1,0)),Leveranciersbeoordeling!$H$1:$I$5,2,FALSE),0)","v":0},0]
["",null,null,null,null,null,null,null,null,null,null,null,null,null,null,{"$f":"INDEX($A:$O,ROW(),MATCH('Rapportage per vraag'!$C$12,'Data leveranciersbeoordeling'!$1:$1,0))","v":0},{"$f":"IFERROR(VLOOKUP(INDEX($A:$O,ROW(),MATCH('Rapportage per vraag'!$C$12,'Data leveranciersbeoordeling'!$1:$1,0)),Leveranciersbeoordeling!$H$1:$I$5,2,FALSE),0)","v":0},0]
["",null,null,null,null,null,null,null,null,null,null,null,null,null,null,{"$f":"INDEX($A:$O,ROW(),MATCH('Rapportage per vraag'!$C$12,'Data leveranciersbeoordeling'!$1:$1,0))","v":0},{"$f":"IFERROR(VLOOKUP(INDEX($A:$O,ROW(),MATCH('Rapportage per vraag'!$C$12,'Data leveranciersbeoordeling'!$1:$1,0)),Leveranciersbeoordeling!$H$1:$I$5,2,FALSE),0)","v":0},0]
["",null,null,null,null,null,null,null,null,null,null,null,null,null,null,{"$f":"INDEX($A:$O,ROW(),MATCH('Rapportage per vraag'!$C$12,'Data leveranciersbeoordeling'!$1:$1,0))","v":0},{"$f":"IFERROR(VLOOKUP(INDEX($A:$O,ROW(),MATCH('Rapportage per vraag'!$C$12,'Data leveranciersbeoordeling'!$1:$1,0)),Leveranciersbeoordeling!$H$1:$I$5,2,FALSE),0)","v":0},0]
["",null,null,null,null,null,null,null,null,null,null,null,null,null,null,{"$f":"INDEX($A:$O,ROW(),MATCH('Rapportage per vraag'!$C$12,'Data leveranciersbeoordeling'!$1:$1,0))","v":0},{"$f":"IFERROR(VLOOKUP(INDEX($A:$O,ROW(),MATCH('Rapportage per vraag'!$C$12,'Data leveranciersbeoordeling'!$1:$1,0)),Leveranciersbeoordeling!$H$1:$I$5,2,FALSE),0)","v":0},0]
["",null,null,null,null,null,null,null,null,null,null,null,null,null,null,{"$f":"INDEX($A:$O,ROW(),MATCH('Rapportage per vraag'!$C$12,'Data leveranciersbeoordeling'!$1:$1,0))","v":0},{"$f":"IFERROR(VLOOKUP(INDEX($A:$O,ROW(),MATCH('Rapportage per vraag'!$C$12,'Data leveranciersbeoordeling'!$1:$1,0)),Leveranciersbeoordeling!$H$1:$I$5,2,FALSE),0)","v":0},0]
["",null,null,null,null,null,null,null,null,null,null,null,null,null,null,{"$f":"INDEX($A:$O,ROW(),MATCH('Rapportage per vraag'!$C$12,'Data leveranciersbeoordeling'!$1:$1,0))","v":0},{"$f":"IFERROR(VLOOKUP(INDEX($A:$O,ROW(),MATCH('Rapportage per vraag'!$C$12,'Data leveranciersbeoordeling'!$1:$1,0)),Leveranciersbeoordeling!$H$1:$I$5,2,FALSE),0)","v":0},0]
["",null,null,null,null,null,null,null,null,null,null,null,null,null,null,{"$f":"INDEX($A:$O,ROW(),MATCH('Rapportage per vraag'!$C$12,'Data leveranciersbeoordeling'!$1:$1,0))","v":0},{"$f":"IFERROR(VLOOKUP(INDEX($A:$O,ROW(),MATCH('Rapportage per vraag'!$C$12,'Data leveranciersbeoordeling'!$1:$1,0)),Leveranciersbeoordeling!$H$1:$I$5,2,FALSE),0)","v":0},0]
["",null,null,null,null,null,null,null,null,null,null,null,null,null,null,{"$f":"INDEX($A:$O,ROW(),MATCH('Rapportage per vraag'!$C$12,'Data leveranciersbeoordeling'!$1:$1,0))","v":0},{"$f":"IFERROR(VLOOKUP(INDEX($A:$O,ROW(),MATCH('Rapportage per vraag'!$C$12,'Data leveranciersbeoordeling'!$1:$1,0)),Leveranciersbeoordeling!$H$1:$I$5,2,FALSE),0)","v":0},0]
["",null,null,null,null,null,null,null,null,null,null,null,null,null,null,{"$f":"INDEX($A:$O,ROW(),MATCH('Rapportage per vraag'!$C$12,'Data leveranciersbeoordeling'!$1:$1,0))","v":0},{"$f":"IFERROR(VLOOKUP(INDEX($A:$O,ROW(),MATCH('Rapportage per vraag'!$C$12,'Data leveranciersbeoordeling'!$1:$1,0)),Leveranciersbeoordeling!$H$1:$I$5,2,FALSE),0)","v":0},0]
["",null,null,null,null,null,null,null,null,null,null,null,null,null,null,{"$f":"INDEX($A:$O,ROW(),MATCH('Rapportage per vraag'!$C$12,'Data leveranciersbeoordeling'!$1:$1,0))","v":0},{"$f":"IFERROR(VLOOKUP(INDEX($A:$O,ROW(),MATCH('Rapportage per vraag'!$C$12,'Data leveranciersbeoordeling'!$1:$1,0)),Leveranciersbeoordeling!$H$1:$I$5,2,FALSE),0)","v":0},0]
["",null,null,null,null,null,null,null,null,null,null,null,null,null,null,{"$f":"INDEX($A:$O,ROW(),MATCH('Rapportage per vraag'!$C$12,'Data leveranciersbeoordeling'!$1:$1,0))","v":0},{"$f":"IFERROR(VLOOKUP(INDEX($A:$O,ROW(),MATCH('Rapportage per vraag'!$C$12,'Data leveranciersbeoordeling'!$1:$1,0)),Leveranciersbeoordeling!$H$1:$I$5,2,FALSE),0)","v":0},0]
["",null,null,null,null,null,null,null,null,null,null,null,null,null,null,{"$f":"INDEX($A:$O,ROW(),MATCH('Rapportage per vraag'!$C$12,'Data leveranciersbeoordeling'!$1:$1,0))","v":0},{"$f":"IFERROR(VLOOKUP(INDEX($A:$O,ROW(),MATCH('Rapportage per vraag'!$C$12,'Data leveranciersbeoordeling'!$1:$1,0)),Leveranciersbeoordeling!$H$1:$I$5,2,FALSE),0)","v":0},0]
["",null,null,null,null,null,null,null,null,null,null,null,null,null,null,{"$f":"INDEX($A:$O,ROW(),MATCH('Rapportage per vraag'!$C$12,'Data leveranciersbeoordeling'!$1:$1,0))","v":0},{"$f":"IFERROR(VLOOKUP(INDEX($A:$O,ROW(),MATCH('Rapportage per vraag'!$C$12,'Data leveranciersbeoordeling'!$1:$1,0)),Leveranciersbeoordeling!$H$1:$I$5,2,FALSE),0)","v":0},0]
["",null,null,null,null,null,null,null,null,null,null,null,null,null,null,{"$f":"INDEX($A:$O,ROW(),MATCH('Rapportage per vraag'!$C$12,'Data leveranciersbeoordeling'!$1:$1,0))","v":0},{"$f":"IFERROR(VLOOKUP(INDEX($A:$O,ROW(),MATCH('Rapportage per vraag'!$C$12,'Data leveranciersbeoordeling'!$1:$1,0)),Leveranciersbeoordeling!$H$1:$I$5,2,FALSE),0)","v":0},0]
["",null,null,null,null,null,null,null,null,null,null,null,null,null,null,{"$f":"INDEX($A:$O,ROW(),MATCH('Rapportage per vraag'!$C$12,'Data leveranciersbeoordeling'!$1:$1,0))","v":0},{"$f":"IFERROR(VLOOKUP(INDEX($A:$O,ROW(),MATCH('Rapportage per vraag'!$C$12,'Data leveranciersbeoordeling'!$1:$1,0)),Leveranciersbeoordeling!$H$1:$I$5,2,FALSE),0)","v":0},0]
["",null,null,null,null,null,null,null,null,null,null,null,null,null,null,{"$f":"INDEX($A:$O,ROW(),MATCH('Rapportage per vraag'!$C$12,'Data leveranciersbeoordeling'!$1:$1,0))","v":0},{"$f":"IFERROR(VLOOKUP(INDEX($A:$O,ROW(),MATCH('Rapportage per vraag'!$C$12,'Data leveranciersbeoordeling'!$1:$1,0)),Leveranciersbeoordeling!$H$1:$I$5,2,FALSE),0)","v":0},0]
["",null,null,null,null,null,null,null,null,null,null,null,null,null,null,{"$f":"INDEX($A:$O,ROW(),MATCH('Rapportage per vraag'!$C$12,'Data leveranciersbeoordeling'!$1:$1,0))","v":0},{"$f":"IFERROR(VLOOKUP(INDEX($A:$O,ROW(),MATCH('Rapportage per vraag'!$C$12,'Data leveranciersbeoordeling'!$1:$1,0)),Leveranciersbeoordeling!$H$1:$I$5,2,FALSE),0)","v":0},0]
["",null,null,null,null,null,null,null,null,null,null,null,null,null,null,{"$f":"INDEX($A:$O,ROW(),MATCH('Rapportage per vraag'!$C$12,'Data leveranciersbeoordeling'!$1:$1,0))","v":0},{"$f":"IFERROR(VLOOKUP(INDEX($A:$O,ROW(),MATCH('Rapportage per vraag'!$C$12,'Data leveranciersbeoordeling'!$1:$1,0)),Leveranciersbeoordeling!$H$1:$I$5,2,FALSE),0)","v":0},0]
["",null,null,null,null,null,null,null,null,null,null,null,null,null,null,{"$f":"INDEX($A:$O,ROW(),MATCH('Rapportage per vraag'!$C$12,'Data leveranciersbeoordeling'!$1:$1,0))","v":0},{"$f":"IFERROR(VLOOKUP(INDEX($A:$O,ROW(),MATCH('Rapportage per vraag'!$C$12,'Data leveranciersbeoordeling'!$1:$1,0)),Leveranciersbeoordeling!$H$1:$I$5,2,FALSE),0)","v":0},0]
["",null,null,null,null,null,null,null,null,null,null,null,null,null,null,{"$f":"INDEX($A:$O,ROW(),MATCH('Rapportage per vraag'!$C$12,'Data leveranciersbeoordeling'!$1:$1,0))","v":0},{"$f":"IFERROR(VLOOKUP(INDEX($A:$O,ROW(),MATCH('Rapportage per vraag'!$C$12,'Data leveranciersbeoordeling'!$1:$1,0)),Leveranciersbeoordeling!$H$1:$I$5,2,FALSE),0)","v":0},0]
["",null,null,null,null,null,null,null,null,null,null,null,null,null,null,{"$f":"INDEX($A:$O,ROW(),MATCH('Rapportage per vraag'!$C$12,'Data leveranciersbeoordeling'!$1:$1,0))","v":0},{"$f":"IFERROR(VLOOKUP(INDEX($A:$O,ROW(),MATCH('Rapportage per vraag'!$C$12,'Data leveranciersbeoordeling'!$1:$1,0)),Leveranciersbeoordeling!$H$1:$I$5,2,FALSE),0)","v":0},0]
["",null,null,null,null,null,null,null,null,null,null,null,null,null,null,{"$f":"INDEX($A:$O,ROW(),MATCH('Rapportage per vraag'!$C$12,'Data leveranciersbeoordeling'!$1:$1,0))","v":0},{"$f":"IFERROR(VLOOKUP(INDEX($A:$O,ROW(),MATCH('Rapportage per vraag'!$C$12,'Data leveranciersbeoordeling'!$1:$1,0)),Leveranciersbeoordeling!$H$1:$I$5,2,FALSE),0)","v":0},0]
["",null,null,null,null,null,null,null,null,null,null,null,null,null,null,{"$f":"INDEX($A:$O,ROW(),MATCH('Rapportage per vraag'!$C$12,'Data leveranciersbeoordeling'!$1:$1,0))","v":0},{"$f":"IFERROR(VLOOKUP(INDEX($A:$O,ROW(),MATCH('Rapportage per vraag'!$C$12,'Data leveranciersbeoordeling'!$1:$1,0)),Leveranciersbeoordeling!$H$1:$I$5,2,FALSE),0)","v":0},0]
["",null,null,null,null,null,null,null,null,null,null,null,null,null,null,{"$f":"INDEX($A:$O,ROW(),MATCH('Rapportage per vraag'!$C$12,'Data leveranciersbeoordeling'!$1:$1,0))","v":0},{"$f":"IFERROR(VLOOKUP(INDEX($A:$O,ROW(),MATCH('Rapportage per vraag'!$C$12,'Data leveranciersbeoordeling'!$1:$1,0)),Leveranciersbeoordeling!$H$1:$I$5,2,FALSE),0)","v":0},0]
["",null,null,null,null,null,null,null,null,null,null,null,null,null,null,{"$f":"INDEX($A:$O,ROW(),MATCH('Rapportage per vraag'!$C$12,'Data leveranciersbeoordeling'!$1:$1,0))","v":0},{"$f":"IFERROR(VLOOKUP(INDEX($A:$O,ROW(),MATCH('Rapportage per vraag'!$C$12,'Data leveranciersbeoordeling'!$1:$1,0)),Leveranciersbeoordeling!$H$1:$I$5,2,FALSE),0)","v":0},0]
["",null,null,null,null,null,null,null,null,null,null,null,null,null,null,{"$f":"INDEX($A:$O,ROW(),MATCH('Rapportage per vraag'!$C$12,'Data leveranciersbeoordeling'!$1:$1,0))","v":0},{"$f":"IFERROR(VLOOKUP(INDEX($A:$O,ROW(),MATCH('Rapportage per vraag'!$C$12,'Data leveranciersbeoordeling'!$1:$1,0)),Leveranciersbeoordeling!$H$1:$I$5,2,FALSE),0)","v":0},0]
["",null,null,null,null,null,null,null,null,null,null,null,null,null,null,{"$f":"INDEX($A:$O,ROW(),MATCH('Rapportage per vraag'!$C$12,'Data leveranciersbeoordeling'!$1:$1,0))","v":0},{"$f":"IFERROR(VLOOKUP(INDEX($A:$O,ROW(),MATCH('Rapportage per vraag'!$C$12,'Data leveranciersbeoordeling'!$1:$1,0)),Leveranciersbeoordeling!$H$1:$I$5,2,FALSE),0)","v":0},0]
["",null,null,null,null,null,null,null,null,null,null,null,null,null,null,{"$f":"INDEX($A:$O,ROW(),MATCH('Rapportage per vraag'!$C$12,'Data leveranciersbeoordeling'!$1:$1,0))","v":0},{"$f":"IFERROR(VLOOKUP(INDEX($A:$O,ROW(),MATCH('Rapportage per vraag'!$C$12,'Data leveranciersbeoordeling'!$1:$1,0)),Leveranciersbeoordeling!$H$1:$I$5,2,FALSE),0)","v":0},0]
["",null,null,null,null,null,null,null,null,null,null,null,null,null,null,{"$f":"INDEX($A:$O,ROW(),MATCH('Rapportage per vraag'!$C$12,'Data leveranciersbeoordeling'!$1:$1,0))","v":0},{"$f":"IFERROR(VLOOKUP(INDEX($A:$O,ROW(),MATCH('Rapportage per vraag'!$C$12,'Data leveranciersbeoordeling'!$1:$1,0)),Leveranciersbeoordeling!$H$1:$I$5,2,FALSE),0)","v":0},0]
["",null,null,null,null,null,null,null,null,null,null,null,null,null,null,{"$f":"INDEX($A:$O,ROW(),MATCH('Rapportage per vraag'!$C$12,'Data leveranciersbeoordeling'!$1:$1,0))","v":0},{"$f":"IFERROR(VLOOKUP(INDEX($A:$O,ROW(),MATCH('Rapportage per vraag'!$C$12,'Data leveranciersbeoordeling'!$1:$1,0)),Leveranciersbeoordeling!$H$1:$I$5,2,FALSE),0)","v":0},0]
["",null,null,null,null,null,null,null,null,null,null,null,null,null,null,{"$f":"INDEX($A:$O,ROW(),MATCH('Rapportage per vraag'!$C$12,'Data leveranciersbeoordeling'!$1:$1,0))","v":0},{"$f":"IFERROR(VLOOKUP(INDEX($A:$O,ROW(),MATCH('Rapportage per vraag'!$C$12,'Data leveranciersbeoordeling'!$1:$1,0)),Leveranciersbeoordeling!$H$1:$I$5,2,FALSE),0)","v":0},0]
["",null,null,null,null,null,null,null,null,null,null,null,null,null,null,{"$f":"INDEX($A:$O,ROW(),MATCH('Rapportage per vraag'!$C$12,'Data leveranciersbeoordeling'!$1:$1,0))","v":0},{"$f":"IFERROR(VLOOKUP(INDEX($A:$O,ROW(),MATCH('Rapportage per vraag'!$C$12,'Data leveranciersbeoordeling'!$1:$1,0)),Leveranciersbeoordeling!$H$1:$I$5,2,FALSE),0)","v":0},0]
["",null,null,null,null,null,null,null,null,null,null,null,null,null,null,{"$f":"INDEX($A:$O,ROW(),MATCH('Rapportage per vraag'!$C$12,'Data leveranciersbeoordeling'!$1:$1,0))","v":0},{"$f":"IFERROR(VLOOKUP(INDEX($A:$O,ROW(),MATCH('Rapportage per vraag'!$C$12,'Data leveranciersbeoordeling'!$1:$1,0)),Leveranciersbeoordeling!$H$1:$I$5,2,FALSE),0)","v":0},0]
["",null,null,null,null,null,null,null,null,null,null,null,null,null,null,{"$f":"INDEX($A:$O,ROW(),MATCH('Rapportage per vraag'!$C$12,'Data leveranciersbeoordeling'!$1:$1,0))","v":0},{"$f":"IFERROR(VLOOKUP(INDEX($A:$O,ROW(),MATCH('Rapportage per vraag'!$C$12,'Data leveranciersbeoordeling'!$1:$1,0)),Leveranciersbeoordeling!$H$1:$I$5,2,FALSE),0)","v":0},0]
["",null,null,null,null,null,null,null,null,null,null,null,null,null,null,{"$f":"INDEX($A:$O,ROW(),MATCH('Rapportage per vraag'!$C$12,'Data leveranciersbeoordeling'!$1:$1,0))","v":0},{"$f":"IFERROR(VLOOKUP(INDEX($A:$O,ROW(),MATCH('Rapportage per vraag'!$C$12,'Data leveranciersbeoordeling'!$1:$1,0)),Leveranciersbeoordeling!$H$1:$I$5,2,FALSE),0)","v":0},0]
["",null,null,null,null,null,null,null,null,null,null,null,null,null,null,{"$f":"INDEX($A:$O,ROW(),MATCH('Rapportage per vraag'!$C$12,'Data leveranciersbeoordeling'!$1:$1,0))","v":0},{"$f":"IFERROR(VLOOKUP(INDEX($A:$O,ROW(),MATCH('Rapportage per vraag'!$C$12,'Data leveranciersbeoordeling'!$1:$1,0)),Leveranciersbeoordeling!$H$1:$I$5,2,FALSE),0)","v":0},0]
["",null,null,null,null,null,null,null,null,null,null,null,null,null,null,{"$f":"INDEX($A:$O,ROW(),MATCH('Rapportage per vraag'!$C$12,'Data leveranciersbeoordeling'!$1:$1,0))","v":0},{"$f":"IFERROR(VLOOKUP(INDEX($A:$O,ROW(),MATCH('Rapportage per vraag'!$C$12,'Data leveranciersbeoordeling'!$1:$1,0)),Leveranciersbeoordeling!$H$1:$I$5,2,FALSE),0)","v":0},0]
["",null,null,null,null,null,null,null,null,null,null,null,null,null,null,{"$f":"INDEX($A:$O,ROW(),MATCH('Rapportage per vraag'!$C$12,'Data leveranciersbeoordeling'!$1:$1,0))","v":0},{"$f":"IFERROR(VLOOKUP(INDEX($A:$O,ROW(),MATCH('Rapportage per vraag'!$C$12,'Data leveranciersbeoordeling'!$1:$1,0)),Leveranciersbeoordeling!$H$1:$I$5,2,FALSE),0)","v":0},0]
["",null,null,null,null,null,null,null,null,null,null,null,null,null,null,{"$f":"INDEX($A:$O,ROW(),MATCH('Rapportage per vraag'!$C$12,'Data leveranciersbeoordeling'!$1:$1,0))","v":0},{"$f":"IFERROR(VLOOKUP(INDEX($A:$O,ROW(),MATCH('Rapportage per vraag'!$C$12,'Data leveranciersbeoordeling'!$1:$1,0)),Leveranciersbeoordeling!$H$1:$I$5,2,FALSE),0)","v":0},0]
["",null,null,null,null,null,null,null,null,null,null,null,null,null,null,{"$f":"INDEX($A:$O,ROW(),MATCH('Rapportage per vraag'!$C$12,'Data leveranciersbeoordeling'!$1:$1,0))","v":0},{"$f":"IFERROR(VLOOKUP(INDEX($A:$O,ROW(),MATCH('Rapportage per vraag'!$C$12,'Data leveranciersbeoordeling'!$1:$1,0)),Leveranciersbeoordeling!$H$1:$I$5,2,FALSE),0)","v":0},0]
["",null,null,null,null,null,null,null,null,null,null,null,null,null,null,{"$f":"INDEX($A:$O,ROW(),MATCH('Rapportage per vraag'!$C$12,'Data leveranciersbeoordeling'!$1:$1,0))","v":0},{"$f":"IFERROR(VLOOKUP(INDEX($A:$O,ROW(),MATCH('Rapportage per vraag'!$C$12,'Data leveranciersbeoordeling'!$1:$1,0)),Leveranciersbeoordeling!$H$1:$I$5,2,FALSE),0)","v":0},0]
["",null,null,null,null,null,null,null,null,null,null,null,null,null,null,{"$f":"INDEX($A:$O,ROW(),MATCH('Rapportage per vraag'!$C$12,'Data leveranciersbeoordeling'!$1:$1,0))","v":0},{"$f":"IFERROR(VLOOKUP(INDEX($A:$O,ROW(),MATCH('Rapportage per vraag'!$C$12,'Data leveranciersbeoordeling'!$1:$1,0)),Leveranciersbeoordeling!$H$1:$I$5,2,FALSE),0)","v":0},0]
["",null,null,null,null,null,null,null,null,null,null,null,null,null,null,{"$f":"INDEX($A:$O,ROW(),MATCH('Rapportage per vraag'!$C$12,'Data leveranciersbeoordeling'!$1:$1,0))","v":0},{"$f":"IFERROR(VLOOKUP(INDEX($A:$O,ROW(),MATCH('Rapportage per vraag'!$C$12,'Data leveranciersbeoordeling'!$1:$1,0)),Leveranciersbeoordeling!$H$1:$I$5,2,FALSE),0)","v":0},0]
[{"$f":"CONCATENATE(B9539,C9539,D9539)","v":""},null,null,null,null,null,null,null,null,null,null,null,null,null,null,{"$f":"INDEX($A:$O,ROW(),MATCH('Rapportage per vraag'!$C$12,'Data leveranciersbeoordeling'!$1:$1,0))","v":0},{"$f":"IFERROR(VLOOKUP(INDEX($A:$O,ROW(),MATCH('Rapportage per vraag'!$C$12,'Data leveranciersbeoordeling'!$1:$1,0)),Leveranciersbeoordeling!$H$1:$I$5,2,FALSE),0)","v":0},0]
["",null,null,null,null,null,null,null,null,null,null,null,null,null,null,{"$f":"INDEX($A:$O,ROW(),MATCH('Rapportage per vraag'!$C$12,'Data leveranciersbeoordeling'!$1:$1,0))","v":0},{"$f":"IFERROR(VLOOKUP(INDEX($A:$O,ROW(),MATCH('Rapportage per vraag'!$C$12,'Data leveranciersbeoordeling'!$1:$1,0)),Leveranciersbeoordeling!$H$1:$I$5,2,FALSE),0)","v":0},0]
["",null,null,null,null,null,null,null,null,null,null,null,null,null,null,{"$f":"INDEX($A:$O,ROW(),MATCH('Rapportage per vraag'!$C$12,'Data leveranciersbeoordeling'!$1:$1,0))","v":0},{"$f":"IFERROR(VLOOKUP(INDEX($A:$O,ROW(),MATCH('Rapportage per vraag'!$C$12,'Data leveranciersbeoordeling'!$1:$1,0)),Leveranciersbeoordeling!$H$1:$I$5,2,FALSE),0)","v":0},0]
["",null,null,null,null,null,null,null,null,null,null,null,null,null,null,{"$f":"INDEX($A:$O,ROW(),MATCH('Rapportage per vraag'!$C$12,'Data leveranciersbeoordeling'!$1:$1,0))","v":0},{"$f":"IFERROR(VLOOKUP(INDEX($A:$O,ROW(),MATCH('Rapportage per vraag'!$C$12,'Data leveranciersbeoordeling'!$1:$1,0)),Leveranciersbeoordeling!$H$1:$I$5,2,FALSE),0)","v":0},{"$f":"IF(T(P9542)=P9542,Q9542,P9542)","v":0}]
["",null,null,null,null,null,null,null,null,null,null,null,null,null,null,{"$f":"INDEX($A:$O,ROW(),MATCH('Rapportage per vraag'!$C$12,'Data leveranciersbeoordeling'!$1:$1,0))","v":0},{"$f":"IFERROR(VLOOKUP(INDEX($A:$O,ROW(),MATCH('Rapportage per vraag'!$C$12,'Data leveranciersbeoordeling'!$1:$1,0)),Leveranciersbeoordeling!$H$1:$I$5,2,FALSE),0)","v":0},0]
["",null,null,null,null,null,null,null,null,null,null,null,null,null,null,{"$f":"INDEX($A:$O,ROW(),MATCH('Rapportage per vraag'!$C$12,'Data leveranciersbeoordeling'!$1:$1,0))","v":0},{"$f":"IFERROR(VLOOKUP(INDEX($A:$O,ROW(),MATCH('Rapportage per vraag'!$C$12,'Data leveranciersbeoordeling'!$1:$1,0)),Leveranciersbeoordeling!$H$1:$I$5,2,FALSE),0)","v":0},0]
["",null,null,null,null,null,null,null,null,null,null,null,null,null,null,{"$f":"INDEX($A:$O,ROW(),MATCH('Rapportage per vraag'!$C$12,'Data leveranciersbeoordeling'!$1:$1,0))","v":0},{"$f":"IFERROR(VLOOKUP(INDEX($A:$O,ROW(),MATCH('Rapportage per vraag'!$C$12,'Data leveranciersbeoordeling'!$1:$1,0)),Leveranciersbeoordeling!$H$1:$I$5,2,FALSE),0)","v":0},0]
["",null,null,null,null,null,null,null,null,null,null,null,null,null,null,{"$f":"INDEX($A:$O,ROW(),MATCH('Rapportage per vraag'!$C$12,'Data leveranciersbeoordeling'!$1:$1,0))","v":0},{"$f":"IFERROR(VLOOKUP(INDEX($A:$O,ROW(),MATCH('Rapportage per vraag'!$C$12,'Data leveranciersbeoordeling'!$1:$1,0)),Leveranciersbeoordeling!$H$1:$I$5,2,FALSE),0)","v":0},0]
["",null,null,null,null,null,null,null,null,null,null,null,null,null,null,{"$f":"INDEX($A:$O,ROW(),MATCH('Rapportage per vraag'!$C$12,'Data leveranciersbeoordeling'!$1:$1,0))","v":0},{"$f":"IFERROR(VLOOKUP(INDEX($A:$O,ROW(),MATCH('Rapportage per vraag'!$C$12,'Data leveranciersbeoordeling'!$1:$1,0)),Leveranciersbeoordeling!$H$1:$I$5,2,FALSE),0)","v":0},0]
["",null,null,null,null,null,null,null,null,null,null,null,null,null,null,{"$f":"INDEX($A:$O,ROW(),MATCH('Rapportage per vraag'!$C$12,'Data leveranciersbeoordeling'!$1:$1,0))","v":0},{"$f":"IFERROR(VLOOKUP(INDEX($A:$O,ROW(),MATCH('Rapportage per vraag'!$C$12,'Data leveranciersbeoordeling'!$1:$1,0)),Leveranciersbeoordeling!$H$1:$I$5,2,FALSE),0)","v":0},0]
["",null,null,null,null,null,null,null,null,null,null,null,null,null,null,{"$f":"INDEX($A:$O,ROW(),MATCH('Rapportage per vraag'!$C$12,'Data leveranciersbeoordeling'!$1:$1,0))","v":0},{"$f":"IFERROR(VLOOKUP(INDEX($A:$O,ROW(),MATCH('Rapportage per vraag'!$C$12,'Data leveranciersbeoordeling'!$1:$1,0)),Leveranciersbeoordeling!$H$1:$I$5,2,FALSE),0)","v":0},0]
["",null,null,null,null,null,null,null,null,null,null,null,null,null,null,{"$f":"INDEX($A:$O,ROW(),MATCH('Rapportage per vraag'!$C$12,'Data leveranciersbeoordeling'!$1:$1,0))","v":0},{"$f":"IFERROR(VLOOKUP(INDEX($A:$O,ROW(),MATCH('Rapportage per vraag'!$C$12,'Data leveranciersbeoordeling'!$1:$1,0)),Leveranciersbeoordeling!$H$1:$I$5,2,FALSE),0)","v":0},0]
["",null,null,null,null,null,null,null,null,null,null,null,null,null,null,{"$f":"INDEX($A:$O,ROW(),MATCH('Rapportage per vraag'!$C$12,'Data leveranciersbeoordeling'!$1:$1,0))","v":0},{"$f":"IFERROR(VLOOKUP(INDEX($A:$O,ROW(),MATCH('Rapportage per vraag'!$C$12,'Data leveranciersbeoordeling'!$1:$1,0)),Leveranciersbeoordeling!$H$1:$I$5,2,FALSE),0)","v":0},0]
["",null,null,null,null,null,null,null,null,null,null,null,null,null,null,{"$f":"INDEX($A:$O,ROW(),MATCH('Rapportage per vraag'!$C$12,'Data leveranciersbeoordeling'!$1:$1,0))","v":0},{"$f":"IFERROR(VLOOKUP(INDEX($A:$O,ROW(),MATCH('Rapportage per vraag'!$C$12,'Data leveranciersbeoordeling'!$1:$1,0)),Leveranciersbeoordeling!$H$1:$I$5,2,FALSE),0)","v":0},0]
["",null,null,null,null,null,null,null,null,null,null,null,null,null,null,{"$f":"INDEX($A:$O,ROW(),MATCH('Rapportage per vraag'!$C$12,'Data leveranciersbeoordeling'!$1:$1,0))","v":0},{"$f":"IFERROR(VLOOKUP(INDEX($A:$O,ROW(),MATCH('Rapportage per vraag'!$C$12,'Data leveranciersbeoordeling'!$1:$1,0)),Leveranciersbeoordeling!$H$1:$I$5,2,FALSE),0)","v":0},0]
["",null,null,null,null,null,null,null,null,null,null,null,null,null,null,{"$f":"INDEX($A:$O,ROW(),MATCH('Rapportage per vraag'!$C$12,'Data leveranciersbeoordeling'!$1:$1,0))","v":0},{"$f":"IFERROR(VLOOKUP(INDEX($A:$O,ROW(),MATCH('Rapportage per vraag'!$C$12,'Data leveranciersbeoordeling'!$1:$1,0)),Leveranciersbeoordeling!$H$1:$I$5,2,FALSE),0)","v":0},0]
["",null,null,null,null,null,null,null,null,null,null,null,null,null,null,{"$f":"INDEX($A:$O,ROW(),MATCH('Rapportage per vraag'!$C$12,'Data leveranciersbeoordeling'!$1:$1,0))","v":0},{"$f":"IFERROR(VLOOKUP(INDEX($A:$O,ROW(),MATCH('Rapportage per vraag'!$C$12,'Data leveranciersbeoordeling'!$1:$1,0)),Leveranciersbeoordeling!$H$1:$I$5,2,FALSE),0)","v":0},0]
["",null,null,null,null,null,null,null,null,null,null,null,null,null,null,{"$f":"INDEX($A:$O,ROW(),MATCH('Rapportage per vraag'!$C$12,'Data leveranciersbeoordeling'!$1:$1,0))","v":0},{"$f":"IFERROR(VLOOKUP(INDEX($A:$O,ROW(),MATCH('Rapportage per vraag'!$C$12,'Data leveranciersbeoordeling'!$1:$1,0)),Leveranciersbeoordeling!$H$1:$I$5,2,FALSE),0)","v":0},0]
["",null,null,null,null,null,null,null,null,null,null,null,null,null,null,{"$f":"INDEX($A:$O,ROW(),MATCH('Rapportage per vraag'!$C$12,'Data leveranciersbeoordeling'!$1:$1,0))","v":0},{"$f":"IFERROR(VLOOKUP(INDEX($A:$O,ROW(),MATCH('Rapportage per vraag'!$C$12,'Data leveranciersbeoordeling'!$1:$1,0)),Leveranciersbeoordeling!$H$1:$I$5,2,FALSE),0)","v":0},0]
["",null,null,null,null,null,null,null,null,null,null,null,null,null,null,{"$f":"INDEX($A:$O,ROW(),MATCH('Rapportage per vraag'!$C$12,'Data leveranciersbeoordeling'!$1:$1,0))","v":0},{"$f":"IFERROR(VLOOKUP(INDEX($A:$O,ROW(),MATCH('Rapportage per vraag'!$C$12,'Data leveranciersbeoordeling'!$1:$1,0)),Leveranciersbeoordeling!$H$1:$I$5,2,FALSE),0)","v":0},0]
["",null,null,null,null,null,null,null,null,null,null,null,null,null,null,{"$f":"INDEX($A:$O,ROW(),MATCH('Rapportage per vraag'!$C$12,'Data leveranciersbeoordeling'!$1:$1,0))","v":0},{"$f":"IFERROR(VLOOKUP(INDEX($A:$O,ROW(),MATCH('Rapportage per vraag'!$C$12,'Data leveranciersbeoordeling'!$1:$1,0)),Leveranciersbeoordeling!$H$1:$I$5,2,FALSE),0)","v":0},0]
["",null,null,null,null,null,null,null,null,null,null,null,null,null,null,{"$f":"INDEX($A:$O,ROW(),MATCH('Rapportage per vraag'!$C$12,'Data leveranciersbeoordeling'!$1:$1,0))","v":0},{"$f":"IFERROR(VLOOKUP(INDEX($A:$O,ROW(),MATCH('Rapportage per vraag'!$C$12,'Data leveranciersbeoordeling'!$1:$1,0)),Leveranciersbeoordeling!$H$1:$I$5,2,FALSE),0)","v":0},0]
["",null,null,null,null,null,null,null,null,null,null,null,null,null,null,{"$f":"INDEX($A:$O,ROW(),MATCH('Rapportage per vraag'!$C$12,'Data leveranciersbeoordeling'!$1:$1,0))","v":0},{"$f":"IFERROR(VLOOKUP(INDEX($A:$O,ROW(),MATCH('Rapportage per vraag'!$C$12,'Data leveranciersbeoordeling'!$1:$1,0)),Leveranciersbeoordeling!$H$1:$I$5,2,FALSE),0)","v":0},0]
["",null,null,null,null,null,null,null,null,null,null,null,null,null,null,{"$f":"INDEX($A:$O,ROW(),MATCH('Rapportage per vraag'!$C$12,'Data leveranciersbeoordeling'!$1:$1,0))","v":0},{"$f":"IFERROR(VLOOKUP(INDEX($A:$O,ROW(),MATCH('Rapportage per vraag'!$C$12,'Data leveranciersbeoordeling'!$1:$1,0)),Leveranciersbeoordeling!$H$1:$I$5,2,FALSE),0)","v":0},0]
["",null,null,null,null,null,null,null,null,null,null,null,null,null,null,{"$f":"INDEX($A:$O,ROW(),MATCH('Rapportage per vraag'!$C$12,'Data leveranciersbeoordeling'!$1:$1,0))","v":0},{"$f":"IFERROR(VLOOKUP(INDEX($A:$O,ROW(),MATCH('Rapportage per vraag'!$C$12,'Data leveranciersbeoordeling'!$1:$1,0)),Leveranciersbeoordeling!$H$1:$I$5,2,FALSE),0)","v":0},0]
["",null,null,null,null,null,null,null,null,null,null,null,null,null,null,{"$f":"INDEX($A:$O,ROW(),MATCH('Rapportage per vraag'!$C$12,'Data leveranciersbeoordeling'!$1:$1,0))","v":0},{"$f":"IFERROR(VLOOKUP(INDEX($A:$O,ROW(),MATCH('Rapportage per vraag'!$C$12,'Data leveranciersbeoordeling'!$1:$1,0)),Leveranciersbeoordeling!$H$1:$I$5,2,FALSE),0)","v":0},0]
["",null,null,null,null,null,null,null,null,null,null,null,null,null,null,{"$f":"INDEX($A:$O,ROW(),MATCH('Rapportage per vraag'!$C$12,'Data leveranciersbeoordeling'!$1:$1,0))","v":0},{"$f":"IFERROR(VLOOKUP(INDEX($A:$O,ROW(),MATCH('Rapportage per vraag'!$C$12,'Data leveranciersbeoordeling'!$1:$1,0)),Leveranciersbeoordeling!$H$1:$I$5,2,FALSE),0)","v":0},0]
["",null,null,null,null,null,null,null,null,null,null,null,null,null,null,{"$f":"INDEX($A:$O,ROW(),MATCH('Rapportage per vraag'!$C$12,'Data leveranciersbeoordeling'!$1:$1,0))","v":0},{"$f":"IFERROR(VLOOKUP(INDEX($A:$O,ROW(),MATCH('Rapportage per vraag'!$C$12,'Data leveranciersbeoordeling'!$1:$1,0)),Leveranciersbeoordeling!$H$1:$I$5,2,FALSE),0)","v":0},0]
["",null,null,null,null,null,null,null,null,null,null,null,null,null,null,{"$f":"INDEX($A:$O,ROW(),MATCH('Rapportage per vraag'!$C$12,'Data leveranciersbeoordeling'!$1:$1,0))","v":0},{"$f":"IFERROR(VLOOKUP(INDEX($A:$O,ROW(),MATCH('Rapportage per vraag'!$C$12,'Data leveranciersbeoordeling'!$1:$1,0)),Leveranciersbeoordeling!$H$1:$I$5,2,FALSE),0)","v":0},0]
["",null,null,null,null,null,null,null,null,null,null,null,null,null,null,{"$f":"INDEX($A:$O,ROW(),MATCH('Rapportage per vraag'!$C$12,'Data leveranciersbeoordeling'!$1:$1,0))","v":0},{"$f":"IFERROR(VLOOKUP(INDEX($A:$O,ROW(),MATCH('Rapportage per vraag'!$C$12,'Data leveranciersbeoordeling'!$1:$1,0)),Leveranciersbeoordeling!$H$1:$I$5,2,FALSE),0)","v":0},0]
["",null,null,null,null,null,null,null,null,null,null,null,null,null,null,{"$f":"INDEX($A:$O,ROW(),MATCH('Rapportage per vraag'!$C$12,'Data leveranciersbeoordeling'!$1:$1,0))","v":0},{"$f":"IFERROR(VLOOKUP(INDEX($A:$O,ROW(),MATCH('Rapportage per vraag'!$C$12,'Data leveranciersbeoordeling'!$1:$1,0)),Leveranciersbeoordeling!$H$1:$I$5,2,FALSE),0)","v":0},0]
["",null,null,null,null,null,null,null,null,null,null,null,null,null,null,{"$f":"INDEX($A:$O,ROW(),MATCH('Rapportage per vraag'!$C$12,'Data leveranciersbeoordeling'!$1:$1,0))","v":0},{"$f":"IFERROR(VLOOKUP(INDEX($A:$O,ROW(),MATCH('Rapportage per vraag'!$C$12,'Data leveranciersbeoordeling'!$1:$1,0)),Leveranciersbeoordeling!$H$1:$I$5,2,FALSE),0)","v":0},0]
["",null,null,null,null,null,null,null,null,null,null,null,null,null,null,{"$f":"INDEX($A:$O,ROW(),MATCH('Rapportage per vraag'!$C$12,'Data leveranciersbeoordeling'!$1:$1,0))","v":0},{"$f":"IFERROR(VLOOKUP(INDEX($A:$O,ROW(),MATCH('Rapportage per vraag'!$C$12,'Data leveranciersbeoordeling'!$1:$1,0)),Leveranciersbeoordeling!$H$1:$I$5,2,FALSE),0)","v":0},0]
["",null,null,null,null,null,null,null,null,null,null,null,null,null,null,{"$f":"INDEX($A:$O,ROW(),MATCH('Rapportage per vraag'!$C$12,'Data leveranciersbeoordeling'!$1:$1,0))","v":0},{"$f":"IFERROR(VLOOKUP(INDEX($A:$O,ROW(),MATCH('Rapportage per vraag'!$C$12,'Data leveranciersbeoordeling'!$1:$1,0)),Leveranciersbeoordeling!$H$1:$I$5,2,FALSE),0)","v":0},0]
["",null,null,null,null,null,null,null,null,null,null,null,null,null,null,{"$f":"INDEX($A:$O,ROW(),MATCH('Rapportage per vraag'!$C$12,'Data leveranciersbeoordeling'!$1:$1,0))","v":0},{"$f":"IFERROR(VLOOKUP(INDEX($A:$O,ROW(),MATCH('Rapportage per vraag'!$C$12,'Data leveranciersbeoordeling'!$1:$1,0)),Leveranciersbeoordeling!$H$1:$I$5,2,FALSE),0)","v":0},0]
["",null,null,null,null,null,null,null,null,null,null,null,null,null,null,{"$f":"INDEX($A:$O,ROW(),MATCH('Rapportage per vraag'!$C$12,'Data leveranciersbeoordeling'!$1:$1,0))","v":0},{"$f":"IFERROR(VLOOKUP(INDEX($A:$O,ROW(),MATCH('Rapportage per vraag'!$C$12,'Data leveranciersbeoordeling'!$1:$1,0)),Leveranciersbeoordeling!$H$1:$I$5,2,FALSE),0)","v":0},0]
["",null,null,null,null,null,null,null,null,null,null,null,null,null,null,{"$f":"INDEX($A:$O,ROW(),MATCH('Rapportage per vraag'!$C$12,'Data leveranciersbeoordeling'!$1:$1,0))","v":0},{"$f":"IFERROR(VLOOKUP(INDEX($A:$O,ROW(),MATCH('Rapportage per vraag'!$C$12,'Data leveranciersbeoordeling'!$1:$1,0)),Leveranciersbeoordeling!$H$1:$I$5,2,FALSE),0)","v":0},0]
["",null,null,null,null,null,null,null,null,null,null,null,null,null,null,{"$f":"INDEX($A:$O,ROW(),MATCH('Rapportage per vraag'!$C$12,'Data leveranciersbeoordeling'!$1:$1,0))","v":0},{"$f":"IFERROR(VLOOKUP(INDEX($A:$O,ROW(),MATCH('Rapportage per vraag'!$C$12,'Data leveranciersbeoordeling'!$1:$1,0)),Leveranciersbeoordeling!$H$1:$I$5,2,FALSE),0)","v":0},0]
["",null,null,null,null,null,null,null,null,null,null,null,null,null,null,{"$f":"INDEX($A:$O,ROW(),MATCH('Rapportage per vraag'!$C$12,'Data leveranciersbeoordeling'!$1:$1,0))","v":0},{"$f":"IFERROR(VLOOKUP(INDEX($A:$O,ROW(),MATCH('Rapportage per vraag'!$C$12,'Data leveranciersbeoordeling'!$1:$1,0)),Leveranciersbeoordeling!$H$1:$I$5,2,FALSE),0)","v":0},0]
["",null,null,null,null,null,null,null,null,null,null,null,null,null,null,{"$f":"INDEX($A:$O,ROW(),MATCH('Rapportage per vraag'!$C$12,'Data leveranciersbeoordeling'!$1:$1,0))","v":0},{"$f":"IFERROR(VLOOKUP(INDEX($A:$O,ROW(),MATCH('Rapportage per vraag'!$C$12,'Data leveranciersbeoordeling'!$1:$1,0)),Leveranciersbeoordeling!$H$1:$I$5,2,FALSE),0)","v":0},0]
["",null,null,null,null,null,null,null,null,null,null,null,null,null,null,{"$f":"INDEX($A:$O,ROW(),MATCH('Rapportage per vraag'!$C$12,'Data leveranciersbeoordeling'!$1:$1,0))","v":0},{"$f":"IFERROR(VLOOKUP(INDEX($A:$O,ROW(),MATCH('Rapportage per vraag'!$C$12,'Data leveranciersbeoordeling'!$1:$1,0)),Leveranciersbeoordeling!$H$1:$I$5,2,FALSE),0)","v":0},0]
["",null,null,null,null,null,null,null,null,null,null,null,null,null,null,{"$f":"INDEX($A:$O,ROW(),MATCH('Rapportage per vraag'!$C$12,'Data leveranciersbeoordeling'!$1:$1,0))","v":0},{"$f":"IFERROR(VLOOKUP(INDEX($A:$O,ROW(),MATCH('Rapportage per vraag'!$C$12,'Data leveranciersbeoordeling'!$1:$1,0)),Leveranciersbeoordeling!$H$1:$I$5,2,FALSE),0)","v":0},0]
["",null,null,null,null,null,null,null,null,null,null,null,null,null,null,{"$f":"INDEX($A:$O,ROW(),MATCH('Rapportage per vraag'!$C$12,'Data leveranciersbeoordeling'!$1:$1,0))","v":0},{"$f":"IFERROR(VLOOKUP(INDEX($A:$O,ROW(),MATCH('Rapportage per vraag'!$C$12,'Data leveranciersbeoordeling'!$1:$1,0)),Leveranciersbeoordeling!$H$1:$I$5,2,FALSE),0)","v":0},0]
["",null,null,null,null,null,null,null,null,null,null,null,null,null,null,{"$f":"INDEX($A:$O,ROW(),MATCH('Rapportage per vraag'!$C$12,'Data leveranciersbeoordeling'!$1:$1,0))","v":0},{"$f":"IFERROR(VLOOKUP(INDEX($A:$O,ROW(),MATCH('Rapportage per vraag'!$C$12,'Data leveranciersbeoordeling'!$1:$1,0)),Leveranciersbeoordeling!$H$1:$I$5,2,FALSE),0)","v":0},0]
["",null,null,null,null,null,null,null,null,null,null,null,null,null,null,{"$f":"INDEX($A:$O,ROW(),MATCH('Rapportage per vraag'!$C$12,'Data leveranciersbeoordeling'!$1:$1,0))","v":0},{"$f":"IFERROR(VLOOKUP(INDEX($A:$O,ROW(),MATCH('Rapportage per vraag'!$C$12,'Data leveranciersbeoordeling'!$1:$1,0)),Leveranciersbeoordeling!$H$1:$I$5,2,FALSE),0)","v":0},0]
["",null,null,null,null,null,null,null,null,null,null,null,null,null,null,{"$f":"INDEX($A:$O,ROW(),MATCH('Rapportage per vraag'!$C$12,'Data leveranciersbeoordeling'!$1:$1,0))","v":0},{"$f":"IFERROR(VLOOKUP(INDEX($A:$O,ROW(),MATCH('Rapportage per vraag'!$C$12,'Data leveranciersbeoordeling'!$1:$1,0)),Leveranciersbeoordeling!$H$1:$I$5,2,FALSE),0)","v":0},0]
["",null,null,null,null,null,null,null,null,null,null,null,null,null,null,{"$f":"INDEX($A:$O,ROW(),MATCH('Rapportage per vraag'!$C$12,'Data leveranciersbeoordeling'!$1:$1,0))","v":0},{"$f":"IFERROR(VLOOKUP(INDEX($A:$O,ROW(),MATCH('Rapportage per vraag'!$C$12,'Data leveranciersbeoordeling'!$1:$1,0)),Leveranciersbeoordeling!$H$1:$I$5,2,FALSE),0)","v":0},0]
["",null,null,null,null,null,null,null,null,null,null,null,null,null,null,{"$f":"INDEX($A:$O,ROW(),MATCH('Rapportage per vraag'!$C$12,'Data leveranciersbeoordeling'!$1:$1,0))","v":0},{"$f":"IFERROR(VLOOKUP(INDEX($A:$O,ROW(),MATCH('Rapportage per vraag'!$C$12,'Data leveranciersbeoordeling'!$1:$1,0)),Leveranciersbeoordeling!$H$1:$I$5,2,FALSE),0)","v":0},0]
["",null,null,null,null,null,null,null,null,null,null,null,null,null,null,{"$f":"INDEX($A:$O,ROW(),MATCH('Rapportage per vraag'!$C$12,'Data leveranciersbeoordeling'!$1:$1,0))","v":0},{"$f":"IFERROR(VLOOKUP(INDEX($A:$O,ROW(),MATCH('Rapportage per vraag'!$C$12,'Data leveranciersbeoordeling'!$1:$1,0)),Leveranciersbeoordeling!$H$1:$I$5,2,FALSE),0)","v":0},0]
["",null,null,null,null,null,null,null,null,null,null,null,null,null,null,{"$f":"INDEX($A:$O,ROW(),MATCH('Rapportage per vraag'!$C$12,'Data leveranciersbeoordeling'!$1:$1,0))","v":0},{"$f":"IFERROR(VLOOKUP(INDEX($A:$O,ROW(),MATCH('Rapportage per vraag'!$C$12,'Data leveranciersbeoordeling'!$1:$1,0)),Leveranciersbeoordeling!$H$1:$I$5,2,FALSE),0)","v":0},0]
["",null,null,null,null,null,null,null,null,null,null,null,null,null,null,{"$f":"INDEX($A:$O,ROW(),MATCH('Rapportage per vraag'!$C$12,'Data leveranciersbeoordeling'!$1:$1,0))","v":0},{"$f":"IFERROR(VLOOKUP(INDEX($A:$O,ROW(),MATCH('Rapportage per vraag'!$C$12,'Data leveranciersbeoordeling'!$1:$1,0)),Leveranciersbeoordeling!$H$1:$I$5,2,FALSE),0)","v":0},0]
["",null,null,null,null,null,null,null,null,null,null,null,null,null,null,{"$f":"INDEX($A:$O,ROW(),MATCH('Rapportage per vraag'!$C$12,'Data leveranciersbeoordeling'!$1:$1,0))","v":0},{"$f":"IFERROR(VLOOKUP(INDEX($A:$O,ROW(),MATCH('Rapportage per vraag'!$C$12,'Data leveranciersbeoordeling'!$1:$1,0)),Leveranciersbeoordeling!$H$1:$I$5,2,FALSE),0)","v":0},0]
["",null,null,null,null,null,null,null,null,null,null,null,null,null,null,{"$f":"INDEX($A:$O,ROW(),MATCH('Rapportage per vraag'!$C$12,'Data leveranciersbeoordeling'!$1:$1,0))","v":0},{"$f":"IFERROR(VLOOKUP(INDEX($A:$O,ROW(),MATCH('Rapportage per vraag'!$C$12,'Data leveranciersbeoordeling'!$1:$1,0)),Leveranciersbeoordeling!$H$1:$I$5,2,FALSE),0)","v":0},0]
["",null,null,null,null,null,null,null,null,null,null,null,null,null,null,{"$f":"INDEX($A:$O,ROW(),MATCH('Rapportage per vraag'!$C$12,'Data leveranciersbeoordeling'!$1:$1,0))","v":0},{"$f":"IFERROR(VLOOKUP(INDEX($A:$O,ROW(),MATCH('Rapportage per vraag'!$C$12,'Data leveranciersbeoordeling'!$1:$1,0)),Leveranciersbeoordeling!$H$1:$I$5,2,FALSE),0)","v":0},0]
["",null,null,null,null,null,null,null,null,null,null,null,null,null,null,{"$f":"INDEX($A:$O,ROW(),MATCH('Rapportage per vraag'!$C$12,'Data leveranciersbeoordeling'!$1:$1,0))","v":0},{"$f":"IFERROR(VLOOKUP(INDEX($A:$O,ROW(),MATCH('Rapportage per vraag'!$C$12,'Data leveranciersbeoordeling'!$1:$1,0)),Leveranciersbeoordeling!$H$1:$I$5,2,FALSE),0)","v":0},0]
["",null,null,null,null,null,null,null,null,null,null,null,null,null,null,{"$f":"INDEX($A:$O,ROW(),MATCH('Rapportage per vraag'!$C$12,'Data leveranciersbeoordeling'!$1:$1,0))","v":0},{"$f":"IFERROR(VLOOKUP(INDEX($A:$O,ROW(),MATCH('Rapportage per vraag'!$C$12,'Data leveranciersbeoordeling'!$1:$1,0)),Leveranciersbeoordeling!$H$1:$I$5,2,FALSE),0)","v":0},0]
["",null,null,null,null,null,null,null,null,null,null,null,null,null,null,{"$f":"INDEX($A:$O,ROW(),MATCH('Rapportage per vraag'!$C$12,'Data leveranciersbeoordeling'!$1:$1,0))","v":0},{"$f":"IFERROR(VLOOKUP(INDEX($A:$O,ROW(),MATCH('Rapportage per vraag'!$C$12,'Data leveranciersbeoordeling'!$1:$1,0)),Leveranciersbeoordeling!$H$1:$I$5,2,FALSE),0)","v":0},0]
["",null,null,null,null,null,null,null,null,null,null,null,null,null,null,{"$f":"INDEX($A:$O,ROW(),MATCH('Rapportage per vraag'!$C$12,'Data leveranciersbeoordeling'!$1:$1,0))","v":0},{"$f":"IFERROR(VLOOKUP(INDEX($A:$O,ROW(),MATCH('Rapportage per vraag'!$C$12,'Data leveranciersbeoordeling'!$1:$1,0)),Leveranciersbeoordeling!$H$1:$I$5,2,FALSE),0)","v":0},0]
["",null,null,null,null,null,null,null,null,null,null,null,null,null,null,{"$f":"INDEX($A:$O,ROW(),MATCH('Rapportage per vraag'!$C$12,'Data leveranciersbeoordeling'!$1:$1,0))","v":0},{"$f":"IFERROR(VLOOKUP(INDEX($A:$O,ROW(),MATCH('Rapportage per vraag'!$C$12,'Data leveranciersbeoordeling'!$1:$1,0)),Leveranciersbeoordeling!$H$1:$I$5,2,FALSE),0)","v":0},0]
["",null,null,null,null,null,null,null,null,null,null,null,null,null,null,{"$f":"INDEX($A:$O,ROW(),MATCH('Rapportage per vraag'!$C$12,'Data leveranciersbeoordeling'!$1:$1,0))","v":0},{"$f":"IFERROR(VLOOKUP(INDEX($A:$O,ROW(),MATCH('Rapportage per vraag'!$C$12,'Data leveranciersbeoordeling'!$1:$1,0)),Leveranciersbeoordeling!$H$1:$I$5,2,FALSE),0)","v":0},0]
["",null,null,null,null,null,null,null,null,null,null,null,null,null,null,{"$f":"INDEX($A:$O,ROW(),MATCH('Rapportage per vraag'!$C$12,'Data leveranciersbeoordeling'!$1:$1,0))","v":0},{"$f":"IFERROR(VLOOKUP(INDEX($A:$O,ROW(),MATCH('Rapportage per vraag'!$C$12,'Data leveranciersbeoordeling'!$1:$1,0)),Leveranciersbeoordeling!$H$1:$I$5,2,FALSE),0)","v":0},0]
["",null,null,null,null,null,null,null,null,null,null,null,null,null,null,{"$f":"INDEX($A:$O,ROW(),MATCH('Rapportage per vraag'!$C$12,'Data leveranciersbeoordeling'!$1:$1,0))","v":0},{"$f":"IFERROR(VLOOKUP(INDEX($A:$O,ROW(),MATCH('Rapportage per vraag'!$C$12,'Data leveranciersbeoordeling'!$1:$1,0)),Leveranciersbeoordeling!$H$1:$I$5,2,FALSE),0)","v":0},0]
["",null,null,null,null,null,null,null,null,null,null,null,null,null,null,{"$f":"INDEX($A:$O,ROW(),MATCH('Rapportage per vraag'!$C$12,'Data leveranciersbeoordeling'!$1:$1,0))","v":0},{"$f":"IFERROR(VLOOKUP(INDEX($A:$O,ROW(),MATCH('Rapportage per vraag'!$C$12,'Data leveranciersbeoordeling'!$1:$1,0)),Leveranciersbeoordeling!$H$1:$I$5,2,FALSE),0)","v":0},0]
["",null,null,null,null,null,null,null,null,null,null,null,null,null,null,{"$f":"INDEX($A:$O,ROW(),MATCH('Rapportage per vraag'!$C$12,'Data leveranciersbeoordeling'!$1:$1,0))","v":0},{"$f":"IFERROR(VLOOKUP(INDEX($A:$O,ROW(),MATCH('Rapportage per vraag'!$C$12,'Data leveranciersbeoordeling'!$1:$1,0)),Leveranciersbeoordeling!$H$1:$I$5,2,FALSE),0)","v":0},0]
[{"$f":"CONCATENATE(B9603,C9603,D9603)","v":""},null,null,null,null,null,null,null,null,null,null,null,null,null,null,{"$f":"INDEX($A:$O,ROW(),MATCH('Rapportage per vraag'!$C$12,'Data leveranciersbeoordeling'!$1:$1,0))","v":0},{"$f":"IFERROR(VLOOKUP(INDEX($A:$O,ROW(),MATCH('Rapportage per vraag'!$C$12,'Data leveranciersbeoordeling'!$1:$1,0)),Leveranciersbeoordeling!$H$1:$I$5,2,FALSE),0)","v":0},0]
["",null,null,null,null,null,null,null,null,null,null,null,null,null,null,{"$f":"INDEX($A:$O,ROW(),MATCH('Rapportage per vraag'!$C$12,'Data leveranciersbeoordeling'!$1:$1,0))","v":0},{"$f":"IFERROR(VLOOKUP(INDEX($A:$O,ROW(),MATCH('Rapportage per vraag'!$C$12,'Data leveranciersbeoordeling'!$1:$1,0)),Leveranciersbeoordeling!$H$1:$I$5,2,FALSE),0)","v":0},0]
["",null,null,null,null,null,null,null,null,null,null,null,null,null,null,{"$f":"INDEX($A:$O,ROW(),MATCH('Rapportage per vraag'!$C$12,'Data leveranciersbeoordeling'!$1:$1,0))","v":0},{"$f":"IFERROR(VLOOKUP(INDEX($A:$O,ROW(),MATCH('Rapportage per vraag'!$C$12,'Data leveranciersbeoordeling'!$1:$1,0)),Leveranciersbeoordeling!$H$1:$I$5,2,FALSE),0)","v":0},0]
["",null,null,null,null,null,null,null,null,null,null,null,null,null,null,{"$f":"INDEX($A:$O,ROW(),MATCH('Rapportage per vraag'!$C$12,'Data leveranciersbeoordeling'!$1:$1,0))","v":0},{"$f":"IFERROR(VLOOKUP(INDEX($A:$O,ROW(),MATCH('Rapportage per vraag'!$C$12,'Data leveranciersbeoordeling'!$1:$1,0)),Leveranciersbeoordeling!$H$1:$I$5,2,FALSE),0)","v":0},{"$f":"IF(T(P9606)=P9606,Q9606,P9606)","v":0}]
["",null,null,null,null,null,null,null,null,null,null,null,null,null,null,{"$f":"INDEX($A:$O,ROW(),MATCH('Rapportage per vraag'!$C$12,'Data leveranciersbeoordeling'!$1:$1,0))","v":0},{"$f":"IFERROR(VLOOKUP(INDEX($A:$O,ROW(),MATCH('Rapportage per vraag'!$C$12,'Data leveranciersbeoordeling'!$1:$1,0)),Leveranciersbeoordeling!$H$1:$I$5,2,FALSE),0)","v":0},0]
["",null,null,null,null,null,null,null,null,null,null,null,null,null,null,{"$f":"INDEX($A:$O,ROW(),MATCH('Rapportage per vraag'!$C$12,'Data leveranciersbeoordeling'!$1:$1,0))","v":0},{"$f":"IFERROR(VLOOKUP(INDEX($A:$O,ROW(),MATCH('Rapportage per vraag'!$C$12,'Data leveranciersbeoordeling'!$1:$1,0)),Leveranciersbeoordeling!$H$1:$I$5,2,FALSE),0)","v":0},0]
["",null,null,null,null,null,null,null,null,null,null,null,null,null,null,{"$f":"INDEX($A:$O,ROW(),MATCH('Rapportage per vraag'!$C$12,'Data leveranciersbeoordeling'!$1:$1,0))","v":0},{"$f":"IFERROR(VLOOKUP(INDEX($A:$O,ROW(),MATCH('Rapportage per vraag'!$C$12,'Data leveranciersbeoordeling'!$1:$1,0)),Leveranciersbeoordeling!$H$1:$I$5,2,FALSE),0)","v":0},0]
["",null,null,null,null,null,null,null,null,null,null,null,null,null,null,{"$f":"INDEX($A:$O,ROW(),MATCH('Rapportage per vraag'!$C$12,'Data leveranciersbeoordeling'!$1:$1,0))","v":0},{"$f":"IFERROR(VLOOKUP(INDEX($A:$O,ROW(),MATCH('Rapportage per vraag'!$C$12,'Data leveranciersbeoordeling'!$1:$1,0)),Leveranciersbeoordeling!$H$1:$I$5,2,FALSE),0)","v":0},0]
["",null,null,null,null,null,null,null,null,null,null,null,null,null,null,{"$f":"INDEX($A:$O,ROW(),MATCH('Rapportage per vraag'!$C$12,'Data leveranciersbeoordeling'!$1:$1,0))","v":0},{"$f":"IFERROR(VLOOKUP(INDEX($A:$O,ROW(),MATCH('Rapportage per vraag'!$C$12,'Data leveranciersbeoordeling'!$1:$1,0)),Leveranciersbeoordeling!$H$1:$I$5,2,FALSE),0)","v":0},0]
["",null,null,null,null,null,null,null,null,null,null,null,null,null,null,{"$f":"INDEX($A:$O,ROW(),MATCH('Rapportage per vraag'!$C$12,'Data leveranciersbeoordeling'!$1:$1,0))","v":0},{"$f":"IFERROR(VLOOKUP(INDEX($A:$O,ROW(),MATCH('Rapportage per vraag'!$C$12,'Data leveranciersbeoordeling'!$1:$1,0)),Leveranciersbeoordeling!$H$1:$I$5,2,FALSE),0)","v":0},0]
["",null,null,null,null,null,null,null,null,null,null,null,null,null,null,{"$f":"INDEX($A:$O,ROW(),MATCH('Rapportage per vraag'!$C$12,'Data leveranciersbeoordeling'!$1:$1,0))","v":0},{"$f":"IFERROR(VLOOKUP(INDEX($A:$O,ROW(),MATCH('Rapportage per vraag'!$C$12,'Data leveranciersbeoordeling'!$1:$1,0)),Leveranciersbeoordeling!$H$1:$I$5,2,FALSE),0)","v":0},0]
["",null,null,null,null,null,null,null,null,null,null,null,null,null,null,{"$f":"INDEX($A:$O,ROW(),MATCH('Rapportage per vraag'!$C$12,'Data leveranciersbeoordeling'!$1:$1,0))","v":0},{"$f":"IFERROR(VLOOKUP(INDEX($A:$O,ROW(),MATCH('Rapportage per vraag'!$C$12,'Data leveranciersbeoordeling'!$1:$1,0)),Leveranciersbeoordeling!$H$1:$I$5,2,FALSE),0)","v":0},0]
["",null,null,null,null,null,null,null,null,null,null,null,null,null,null,{"$f":"INDEX($A:$O,ROW(),MATCH('Rapportage per vraag'!$C$12,'Data leveranciersbeoordeling'!$1:$1,0))","v":0},{"$f":"IFERROR(VLOOKUP(INDEX($A:$O,ROW(),MATCH('Rapportage per vraag'!$C$12,'Data leveranciersbeoordeling'!$1:$1,0)),Leveranciersbeoordeling!$H$1:$I$5,2,FALSE),0)","v":0},0]
["",null,null,null,null,null,null,null,null,null,null,null,null,null,null,{"$f":"INDEX($A:$O,ROW(),MATCH('Rapportage per vraag'!$C$12,'Data leveranciersbeoordeling'!$1:$1,0))","v":0},{"$f":"IFERROR(VLOOKUP(INDEX($A:$O,ROW(),MATCH('Rapportage per vraag'!$C$12,'Data leveranciersbeoordeling'!$1:$1,0)),Leveranciersbeoordeling!$H$1:$I$5,2,FALSE),0)","v":0},0]
["",null,null,null,null,null,null,null,null,null,null,null,null,null,null,{"$f":"INDEX($A:$O,ROW(),MATCH('Rapportage per vraag'!$C$12,'Data leveranciersbeoordeling'!$1:$1,0))","v":0},{"$f":"IFERROR(VLOOKUP(INDEX($A:$O,ROW(),MATCH('Rapportage per vraag'!$C$12,'Data leveranciersbeoordeling'!$1:$1,0)),Leveranciersbeoordeling!$H$1:$I$5,2,FALSE),0)","v":0},0]
["",null,null,null,null,null,null,null,null,null,null,null,null,null,null,{"$f":"INDEX($A:$O,ROW(),MATCH('Rapportage per vraag'!$C$12,'Data leveranciersbeoordeling'!$1:$1,0))","v":0},{"$f":"IFERROR(VLOOKUP(INDEX($A:$O,ROW(),MATCH('Rapportage per vraag'!$C$12,'Data leveranciersbeoordeling'!$1:$1,0)),Leveranciersbeoordeling!$H$1:$I$5,2,FALSE),0)","v":0},0]
["",null,null,null,null,null,null,null,null,null,null,null,null,null,null,{"$f":"INDEX($A:$O,ROW(),MATCH('Rapportage per vraag'!$C$12,'Data leveranciersbeoordeling'!$1:$1,0))","v":0},{"$f":"IFERROR(VLOOKUP(INDEX($A:$O,ROW(),MATCH('Rapportage per vraag'!$C$12,'Data leveranciersbeoordeling'!$1:$1,0)),Leveranciersbeoordeling!$H$1:$I$5,2,FALSE),0)","v":0},0]
["",null,null,null,null,null,null,null,null,null,null,null,null,null,null,{"$f":"INDEX($A:$O,ROW(),MATCH('Rapportage per vraag'!$C$12,'Data leveranciersbeoordeling'!$1:$1,0))","v":0},{"$f":"IFERROR(VLOOKUP(INDEX($A:$O,ROW(),MATCH('Rapportage per vraag'!$C$12,'Data leveranciersbeoordeling'!$1:$1,0)),Leveranciersbeoordeling!$H$1:$I$5,2,FALSE),0)","v":0},0]
["",null,null,null,null,null,null,null,null,null,null,null,null,null,null,{"$f":"INDEX($A:$O,ROW(),MATCH('Rapportage per vraag'!$C$12,'Data leveranciersbeoordeling'!$1:$1,0))","v":0},{"$f":"IFERROR(VLOOKUP(INDEX($A:$O,ROW(),MATCH('Rapportage per vraag'!$C$12,'Data leveranciersbeoordeling'!$1:$1,0)),Leveranciersbeoordeling!$H$1:$I$5,2,FALSE),0)","v":0},0]
["",null,null,null,null,null,null,null,null,null,null,null,null,null,null,{"$f":"INDEX($A:$O,ROW(),MATCH('Rapportage per vraag'!$C$12,'Data leveranciersbeoordeling'!$1:$1,0))","v":0},{"$f":"IFERROR(VLOOKUP(INDEX($A:$O,ROW(),MATCH('Rapportage per vraag'!$C$12,'Data leveranciersbeoordeling'!$1:$1,0)),Leveranciersbeoordeling!$H$1:$I$5,2,FALSE),0)","v":0},0]
["",null,null,null,null,null,null,null,null,null,null,null,null,null,null,{"$f":"INDEX($A:$O,ROW(),MATCH('Rapportage per vraag'!$C$12,'Data leveranciersbeoordeling'!$1:$1,0))","v":0},{"$f":"IFERROR(VLOOKUP(INDEX($A:$O,ROW(),MATCH('Rapportage per vraag'!$C$12,'Data leveranciersbeoordeling'!$1:$1,0)),Leveranciersbeoordeling!$H$1:$I$5,2,FALSE),0)","v":0},0]
["",null,null,null,null,null,null,null,null,null,null,null,null,null,null,{"$f":"INDEX($A:$O,ROW(),MATCH('Rapportage per vraag'!$C$12,'Data leveranciersbeoordeling'!$1:$1,0))","v":0},{"$f":"IFERROR(VLOOKUP(INDEX($A:$O,ROW(),MATCH('Rapportage per vraag'!$C$12,'Data leveranciersbeoordeling'!$1:$1,0)),Leveranciersbeoordeling!$H$1:$I$5,2,FALSE),0)","v":0},0]
["",null,null,null,null,null,null,null,null,null,null,null,null,null,null,{"$f":"INDEX($A:$O,ROW(),MATCH('Rapportage per vraag'!$C$12,'Data leveranciersbeoordeling'!$1:$1,0))","v":0},{"$f":"IFERROR(VLOOKUP(INDEX($A:$O,ROW(),MATCH('Rapportage per vraag'!$C$12,'Data leveranciersbeoordeling'!$1:$1,0)),Leveranciersbeoordeling!$H$1:$I$5,2,FALSE),0)","v":0},0]
["",null,null,null,null,null,null,null,null,null,null,null,null,null,null,{"$f":"INDEX($A:$O,ROW(),MATCH('Rapportage per vraag'!$C$12,'Data leveranciersbeoordeling'!$1:$1,0))","v":0},{"$f":"IFERROR(VLOOKUP(INDEX($A:$O,ROW(),MATCH('Rapportage per vraag'!$C$12,'Data leveranciersbeoordeling'!$1:$1,0)),Leveranciersbeoordeling!$H$1:$I$5,2,FALSE),0)","v":0},0]
["",null,null,null,null,null,null,null,null,null,null,null,null,null,null,{"$f":"INDEX($A:$O,ROW(),MATCH('Rapportage per vraag'!$C$12,'Data leveranciersbeoordeling'!$1:$1,0))","v":0},{"$f":"IFERROR(VLOOKUP(INDEX($A:$O,ROW(),MATCH('Rapportage per vraag'!$C$12,'Data leveranciersbeoordeling'!$1:$1,0)),Leveranciersbeoordeling!$H$1:$I$5,2,FALSE),0)","v":0},0]
["",null,null,null,null,null,null,null,null,null,null,null,null,null,null,{"$f":"INDEX($A:$O,ROW(),MATCH('Rapportage per vraag'!$C$12,'Data leveranciersbeoordeling'!$1:$1,0))","v":0},{"$f":"IFERROR(VLOOKUP(INDEX($A:$O,ROW(),MATCH('Rapportage per vraag'!$C$12,'Data leveranciersbeoordeling'!$1:$1,0)),Leveranciersbeoordeling!$H$1:$I$5,2,FALSE),0)","v":0},0]
["",null,null,null,null,null,null,null,null,null,null,null,null,null,null,{"$f":"INDEX($A:$O,ROW(),MATCH('Rapportage per vraag'!$C$12,'Data leveranciersbeoordeling'!$1:$1,0))","v":0},{"$f":"IFERROR(VLOOKUP(INDEX($A:$O,ROW(),MATCH('Rapportage per vraag'!$C$12,'Data leveranciersbeoordeling'!$1:$1,0)),Leveranciersbeoordeling!$H$1:$I$5,2,FALSE),0)","v":0},0]
["",null,null,null,null,null,null,null,null,null,null,null,null,null,null,{"$f":"INDEX($A:$O,ROW(),MATCH('Rapportage per vraag'!$C$12,'Data leveranciersbeoordeling'!$1:$1,0))","v":0},{"$f":"IFERROR(VLOOKUP(INDEX($A:$O,ROW(),MATCH('Rapportage per vraag'!$C$12,'Data leveranciersbeoordeling'!$1:$1,0)),Leveranciersbeoordeling!$H$1:$I$5,2,FALSE),0)","v":0},0]
["",null,null,null,null,null,null,null,null,null,null,null,null,null,null,{"$f":"INDEX($A:$O,ROW(),MATCH('Rapportage per vraag'!$C$12,'Data leveranciersbeoordeling'!$1:$1,0))","v":0},{"$f":"IFERROR(VLOOKUP(INDEX($A:$O,ROW(),MATCH('Rapportage per vraag'!$C$12,'Data leveranciersbeoordeling'!$1:$1,0)),Leveranciersbeoordeling!$H$1:$I$5,2,FALSE),0)","v":0},0]
["",null,null,null,null,null,null,null,null,null,null,null,null,null,null,{"$f":"INDEX($A:$O,ROW(),MATCH('Rapportage per vraag'!$C$12,'Data leveranciersbeoordeling'!$1:$1,0))","v":0},{"$f":"IFERROR(VLOOKUP(INDEX($A:$O,ROW(),MATCH('Rapportage per vraag'!$C$12,'Data leveranciersbeoordeling'!$1:$1,0)),Leveranciersbeoordeling!$H$1:$I$5,2,FALSE),0)","v":0},0]
["",null,null,null,null,null,null,null,null,null,null,null,null,null,null,{"$f":"INDEX($A:$O,ROW(),MATCH('Rapportage per vraag'!$C$12,'Data leveranciersbeoordeling'!$1:$1,0))","v":0},{"$f":"IFERROR(VLOOKUP(INDEX($A:$O,ROW(),MATCH('Rapportage per vraag'!$C$12,'Data leveranciersbeoordeling'!$1:$1,0)),Leveranciersbeoordeling!$H$1:$I$5,2,FALSE),0)","v":0},0]
["",null,null,null,null,null,null,null,null,null,null,null,null,null,null,{"$f":"INDEX($A:$O,ROW(),MATCH('Rapportage per vraag'!$C$12,'Data leveranciersbeoordeling'!$1:$1,0))","v":0},{"$f":"IFERROR(VLOOKUP(INDEX($A:$O,ROW(),MATCH('Rapportage per vraag'!$C$12,'Data leveranciersbeoordeling'!$1:$1,0)),Leveranciersbeoordeling!$H$1:$I$5,2,FALSE),0)","v":0},0]
["",null,null,null,null,null,null,null,null,null,null,null,null,null,null,{"$f":"INDEX($A:$O,ROW(),MATCH('Rapportage per vraag'!$C$12,'Data leveranciersbeoordeling'!$1:$1,0))","v":0},{"$f":"IFERROR(VLOOKUP(INDEX($A:$O,ROW(),MATCH('Rapportage per vraag'!$C$12,'Data leveranciersbeoordeling'!$1:$1,0)),Leveranciersbeoordeling!$H$1:$I$5,2,FALSE),0)","v":0},0]
["",null,null,null,null,null,null,null,null,null,null,null,null,null,null,{"$f":"INDEX($A:$O,ROW(),MATCH('Rapportage per vraag'!$C$12,'Data leveranciersbeoordeling'!$1:$1,0))","v":0},{"$f":"IFERROR(VLOOKUP(INDEX($A:$O,ROW(),MATCH('Rapportage per vraag'!$C$12,'Data leveranciersbeoordeling'!$1:$1,0)),Leveranciersbeoordeling!$H$1:$I$5,2,FALSE),0)","v":0},0]
["",null,null,null,null,null,null,null,null,null,null,null,null,null,null,{"$f":"INDEX($A:$O,ROW(),MATCH('Rapportage per vraag'!$C$12,'Data leveranciersbeoordeling'!$1:$1,0))","v":0},{"$f":"IFERROR(VLOOKUP(INDEX($A:$O,ROW(),MATCH('Rapportage per vraag'!$C$12,'Data leveranciersbeoordeling'!$1:$1,0)),Leveranciersbeoordeling!$H$1:$I$5,2,FALSE),0)","v":0},0]
["",null,null,null,null,null,null,null,null,null,null,null,null,null,null,{"$f":"INDEX($A:$O,ROW(),MATCH('Rapportage per vraag'!$C$12,'Data leveranciersbeoordeling'!$1:$1,0))","v":0},{"$f":"IFERROR(VLOOKUP(INDEX($A:$O,ROW(),MATCH('Rapportage per vraag'!$C$12,'Data leveranciersbeoordeling'!$1:$1,0)),Leveranciersbeoordeling!$H$1:$I$5,2,FALSE),0)","v":0},0]
["",null,null,null,null,null,null,null,null,null,null,null,null,null,null,{"$f":"INDEX($A:$O,ROW(),MATCH('Rapportage per vraag'!$C$12,'Data leveranciersbeoordeling'!$1:$1,0))","v":0},{"$f":"IFERROR(VLOOKUP(INDEX($A:$O,ROW(),MATCH('Rapportage per vraag'!$C$12,'Data leveranciersbeoordeling'!$1:$1,0)),Leveranciersbeoordeling!$H$1:$I$5,2,FALSE),0)","v":0},0]
["",null,null,null,null,null,null,null,null,null,null,null,null,null,null,{"$f":"INDEX($A:$O,ROW(),MATCH('Rapportage per vraag'!$C$12,'Data leveranciersbeoordeling'!$1:$1,0))","v":0},{"$f":"IFERROR(VLOOKUP(INDEX($A:$O,ROW(),MATCH('Rapportage per vraag'!$C$12,'Data leveranciersbeoordeling'!$1:$1,0)),Leveranciersbeoordeling!$H$1:$I$5,2,FALSE),0)","v":0},0]
["",null,null,null,null,null,null,null,null,null,null,null,null,null,null,{"$f":"INDEX($A:$O,ROW(),MATCH('Rapportage per vraag'!$C$12,'Data leveranciersbeoordeling'!$1:$1,0))","v":0},{"$f":"IFERROR(VLOOKUP(INDEX($A:$O,ROW(),MATCH('Rapportage per vraag'!$C$12,'Data leveranciersbeoordeling'!$1:$1,0)),Leveranciersbeoordeling!$H$1:$I$5,2,FALSE),0)","v":0},0]
["",null,null,null,null,null,null,null,null,null,null,null,null,null,null,{"$f":"INDEX($A:$O,ROW(),MATCH('Rapportage per vraag'!$C$12,'Data leveranciersbeoordeling'!$1:$1,0))","v":0},{"$f":"IFERROR(VLOOKUP(INDEX($A:$O,ROW(),MATCH('Rapportage per vraag'!$C$12,'Data leveranciersbeoordeling'!$1:$1,0)),Leveranciersbeoordeling!$H$1:$I$5,2,FALSE),0)","v":0},0]
["",null,null,null,null,null,null,null,null,null,null,null,null,null,null,{"$f":"INDEX($A:$O,ROW(),MATCH('Rapportage per vraag'!$C$12,'Data leveranciersbeoordeling'!$1:$1,0))","v":0},{"$f":"IFERROR(VLOOKUP(INDEX($A:$O,ROW(),MATCH('Rapportage per vraag'!$C$12,'Data leveranciersbeoordeling'!$1:$1,0)),Leveranciersbeoordeling!$H$1:$I$5,2,FALSE),0)","v":0},0]
["",null,null,null,null,null,null,null,null,null,null,null,null,null,null,{"$f":"INDEX($A:$O,ROW(),MATCH('Rapportage per vraag'!$C$12,'Data leveranciersbeoordeling'!$1:$1,0))","v":0},{"$f":"IFERROR(VLOOKUP(INDEX($A:$O,ROW(),MATCH('Rapportage per vraag'!$C$12,'Data leveranciersbeoordeling'!$1:$1,0)),Leveranciersbeoordeling!$H$1:$I$5,2,FALSE),0)","v":0},0]
["",null,null,null,null,null,null,null,null,null,null,null,null,null,null,{"$f":"INDEX($A:$O,ROW(),MATCH('Rapportage per vraag'!$C$12,'Data leveranciersbeoordeling'!$1:$1,0))","v":0},{"$f":"IFERROR(VLOOKUP(INDEX($A:$O,ROW(),MATCH('Rapportage per vraag'!$C$12,'Data leveranciersbeoordeling'!$1:$1,0)),Leveranciersbeoordeling!$H$1:$I$5,2,FALSE),0)","v":0},0]
["",null,null,null,null,null,null,null,null,null,null,null,null,null,null,{"$f":"INDEX($A:$O,ROW(),MATCH('Rapportage per vraag'!$C$12,'Data leveranciersbeoordeling'!$1:$1,0))","v":0},{"$f":"IFERROR(VLOOKUP(INDEX($A:$O,ROW(),MATCH('Rapportage per vraag'!$C$12,'Data leveranciersbeoordeling'!$1:$1,0)),Leveranciersbeoordeling!$H$1:$I$5,2,FALSE),0)","v":0},0]
["",null,null,null,null,null,null,null,null,null,null,null,null,null,null,{"$f":"INDEX($A:$O,ROW(),MATCH('Rapportage per vraag'!$C$12,'Data leveranciersbeoordeling'!$1:$1,0))","v":0},{"$f":"IFERROR(VLOOKUP(INDEX($A:$O,ROW(),MATCH('Rapportage per vraag'!$C$12,'Data leveranciersbeoordeling'!$1:$1,0)),Leveranciersbeoordeling!$H$1:$I$5,2,FALSE),0)","v":0},0]
["",null,null,null,null,null,null,null,null,null,null,null,null,null,null,{"$f":"INDEX($A:$O,ROW(),MATCH('Rapportage per vraag'!$C$12,'Data leveranciersbeoordeling'!$1:$1,0))","v":0},{"$f":"IFERROR(VLOOKUP(INDEX($A:$O,ROW(),MATCH('Rapportage per vraag'!$C$12,'Data leveranciersbeoordeling'!$1:$1,0)),Leveranciersbeoordeling!$H$1:$I$5,2,FALSE),0)","v":0},0]
["",null,null,null,null,null,null,null,null,null,null,null,null,null,null,{"$f":"INDEX($A:$O,ROW(),MATCH('Rapportage per vraag'!$C$12,'Data leveranciersbeoordeling'!$1:$1,0))","v":0},{"$f":"IFERROR(VLOOKUP(INDEX($A:$O,ROW(),MATCH('Rapportage per vraag'!$C$12,'Data leveranciersbeoordeling'!$1:$1,0)),Leveranciersbeoordeling!$H$1:$I$5,2,FALSE),0)","v":0},0]
["",null,null,null,null,null,null,null,null,null,null,null,null,null,null,{"$f":"INDEX($A:$O,ROW(),MATCH('Rapportage per vraag'!$C$12,'Data leveranciersbeoordeling'!$1:$1,0))","v":0},{"$f":"IFERROR(VLOOKUP(INDEX($A:$O,ROW(),MATCH('Rapportage per vraag'!$C$12,'Data leveranciersbeoordeling'!$1:$1,0)),Leveranciersbeoordeling!$H$1:$I$5,2,FALSE),0)","v":0},0]
["",null,null,null,null,null,null,null,null,null,null,null,null,null,null,{"$f":"INDEX($A:$O,ROW(),MATCH('Rapportage per vraag'!$C$12,'Data leveranciersbeoordeling'!$1:$1,0))","v":0},{"$f":"IFERROR(VLOOKUP(INDEX($A:$O,ROW(),MATCH('Rapportage per vraag'!$C$12,'Data leveranciersbeoordeling'!$1:$1,0)),Leveranciersbeoordeling!$H$1:$I$5,2,FALSE),0)","v":0},0]
["",null,null,null,null,null,null,null,null,null,null,null,null,null,null,{"$f":"INDEX($A:$O,ROW(),MATCH('Rapportage per vraag'!$C$12,'Data leveranciersbeoordeling'!$1:$1,0))","v":0},{"$f":"IFERROR(VLOOKUP(INDEX($A:$O,ROW(),MATCH('Rapportage per vraag'!$C$12,'Data leveranciersbeoordeling'!$1:$1,0)),Leveranciersbeoordeling!$H$1:$I$5,2,FALSE),0)","v":0},0]
["",null,null,null,null,null,null,null,null,null,null,null,null,null,null,{"$f":"INDEX($A:$O,ROW(),MATCH('Rapportage per vraag'!$C$12,'Data leveranciersbeoordeling'!$1:$1,0))","v":0},{"$f":"IFERROR(VLOOKUP(INDEX($A:$O,ROW(),MATCH('Rapportage per vraag'!$C$12,'Data leveranciersbeoordeling'!$1:$1,0)),Leveranciersbeoordeling!$H$1:$I$5,2,FALSE),0)","v":0},0]
["",null,null,null,null,null,null,null,null,null,null,null,null,null,null,{"$f":"INDEX($A:$O,ROW(),MATCH('Rapportage per vraag'!$C$12,'Data leveranciersbeoordeling'!$1:$1,0))","v":0},{"$f":"IFERROR(VLOOKUP(INDEX($A:$O,ROW(),MATCH('Rapportage per vraag'!$C$12,'Data leveranciersbeoordeling'!$1:$1,0)),Leveranciersbeoordeling!$H$1:$I$5,2,FALSE),0)","v":0},0]
["",null,null,null,null,null,null,null,null,null,null,null,null,null,null,{"$f":"INDEX($A:$O,ROW(),MATCH('Rapportage per vraag'!$C$12,'Data leveranciersbeoordeling'!$1:$1,0))","v":0},{"$f":"IFERROR(VLOOKUP(INDEX($A:$O,ROW(),MATCH('Rapportage per vraag'!$C$12,'Data leveranciersbeoordeling'!$1:$1,0)),Leveranciersbeoordeling!$H$1:$I$5,2,FALSE),0)","v":0},0]
["",null,null,null,null,null,null,null,null,null,null,null,null,null,null,{"$f":"INDEX($A:$O,ROW(),MATCH('Rapportage per vraag'!$C$12,'Data leveranciersbeoordeling'!$1:$1,0))","v":0},{"$f":"IFERROR(VLOOKUP(INDEX($A:$O,ROW(),MATCH('Rapportage per vraag'!$C$12,'Data leveranciersbeoordeling'!$1:$1,0)),Leveranciersbeoordeling!$H$1:$I$5,2,FALSE),0)","v":0},0]
["",null,null,null,null,null,null,null,null,null,null,null,null,null,null,{"$f":"INDEX($A:$O,ROW(),MATCH('Rapportage per vraag'!$C$12,'Data leveranciersbeoordeling'!$1:$1,0))","v":0},{"$f":"IFERROR(VLOOKUP(INDEX($A:$O,ROW(),MATCH('Rapportage per vraag'!$C$12,'Data leveranciersbeoordeling'!$1:$1,0)),Leveranciersbeoordeling!$H$1:$I$5,2,FALSE),0)","v":0},0]
["",null,null,null,null,null,null,null,null,null,null,null,null,null,null,{"$f":"INDEX($A:$O,ROW(),MATCH('Rapportage per vraag'!$C$12,'Data leveranciersbeoordeling'!$1:$1,0))","v":0},{"$f":"IFERROR(VLOOKUP(INDEX($A:$O,ROW(),MATCH('Rapportage per vraag'!$C$12,'Data leveranciersbeoordeling'!$1:$1,0)),Leveranciersbeoordeling!$H$1:$I$5,2,FALSE),0)","v":0},0]
["",null,null,null,null,null,null,null,null,null,null,null,null,null,null,{"$f":"INDEX($A:$O,ROW(),MATCH('Rapportage per vraag'!$C$12,'Data leveranciersbeoordeling'!$1:$1,0))","v":0},{"$f":"IFERROR(VLOOKUP(INDEX($A:$O,ROW(),MATCH('Rapportage per vraag'!$C$12,'Data leveranciersbeoordeling'!$1:$1,0)),Leveranciersbeoordeling!$H$1:$I$5,2,FALSE),0)","v":0},0]
["",null,null,null,null,null,null,null,null,null,null,null,null,null,null,{"$f":"INDEX($A:$O,ROW(),MATCH('Rapportage per vraag'!$C$12,'Data leveranciersbeoordeling'!$1:$1,0))","v":0},{"$f":"IFERROR(VLOOKUP(INDEX($A:$O,ROW(),MATCH('Rapportage per vraag'!$C$12,'Data leveranciersbeoordeling'!$1:$1,0)),Leveranciersbeoordeling!$H$1:$I$5,2,FALSE),0)","v":0},0]
["",null,null,null,null,null,null,null,null,null,null,null,null,null,null,{"$f":"INDEX($A:$O,ROW(),MATCH('Rapportage per vraag'!$C$12,'Data leveranciersbeoordeling'!$1:$1,0))","v":0},{"$f":"IFERROR(VLOOKUP(INDEX($A:$O,ROW(),MATCH('Rapportage per vraag'!$C$12,'Data leveranciersbeoordeling'!$1:$1,0)),Leveranciersbeoordeling!$H$1:$I$5,2,FALSE),0)","v":0},0]
["",null,null,null,null,null,null,null,null,null,null,null,null,null,null,{"$f":"INDEX($A:$O,ROW(),MATCH('Rapportage per vraag'!$C$12,'Data leveranciersbeoordeling'!$1:$1,0))","v":0},{"$f":"IFERROR(VLOOKUP(INDEX($A:$O,ROW(),MATCH('Rapportage per vraag'!$C$12,'Data leveranciersbeoordeling'!$1:$1,0)),Leveranciersbeoordeling!$H$1:$I$5,2,FALSE),0)","v":0},0]
["",null,null,null,null,null,null,null,null,null,null,null,null,null,null,{"$f":"INDEX($A:$O,ROW(),MATCH('Rapportage per vraag'!$C$12,'Data leveranciersbeoordeling'!$1:$1,0))","v":0},{"$f":"IFERROR(VLOOKUP(INDEX($A:$O,ROW(),MATCH('Rapportage per vraag'!$C$12,'Data leveranciersbeoordeling'!$1:$1,0)),Leveranciersbeoordeling!$H$1:$I$5,2,FALSE),0)","v":0},0]
["",null,null,null,null,null,null,null,null,null,null,null,null,null,null,{"$f":"INDEX($A:$O,ROW(),MATCH('Rapportage per vraag'!$C$12,'Data leveranciersbeoordeling'!$1:$1,0))","v":0},{"$f":"IFERROR(VLOOKUP(INDEX($A:$O,ROW(),MATCH('Rapportage per vraag'!$C$12,'Data leveranciersbeoordeling'!$1:$1,0)),Leveranciersbeoordeling!$H$1:$I$5,2,FALSE),0)","v":0},0]
["",null,null,null,null,null,null,null,null,null,null,null,null,null,null,{"$f":"INDEX($A:$O,ROW(),MATCH('Rapportage per vraag'!$C$12,'Data leveranciersbeoordeling'!$1:$1,0))","v":0},{"$f":"IFERROR(VLOOKUP(INDEX($A:$O,ROW(),MATCH('Rapportage per vraag'!$C$12,'Data leveranciersbeoordeling'!$1:$1,0)),Leveranciersbeoordeling!$H$1:$I$5,2,FALSE),0)","v":0},0]
["",null,null,null,null,null,null,null,null,null,null,null,null,null,null,{"$f":"INDEX($A:$O,ROW(),MATCH('Rapportage per vraag'!$C$12,'Data leveranciersbeoordeling'!$1:$1,0))","v":0},{"$f":"IFERROR(VLOOKUP(INDEX($A:$O,ROW(),MATCH('Rapportage per vraag'!$C$12,'Data leveranciersbeoordeling'!$1:$1,0)),Leveranciersbeoordeling!$H$1:$I$5,2,FALSE),0)","v":0},0]
[{"$f":"CONCATENATE(B9667,C9667,D9667)","v":""},null,null,null,null,null,null,null,null,null,null,null,null,null,null,{"$f":"INDEX($A:$O,ROW(),MATCH('Rapportage per vraag'!$C$12,'Data leveranciersbeoordeling'!$1:$1,0))","v":0},{"$f":"IFERROR(VLOOKUP(INDEX($A:$O,ROW(),MATCH('Rapportage per vraag'!$C$12,'Data leveranciersbeoordeling'!$1:$1,0)),Leveranciersbeoordeling!$H$1:$I$5,2,FALSE),0)","v":0},0]
["",null,null,null,null,null,null,null,null,null,null,null,null,null,null,{"$f":"INDEX($A:$O,ROW(),MATCH('Rapportage per vraag'!$C$12,'Data leveranciersbeoordeling'!$1:$1,0))","v":0},{"$f":"IFERROR(VLOOKUP(INDEX($A:$O,ROW(),MATCH('Rapportage per vraag'!$C$12,'Data leveranciersbeoordeling'!$1:$1,0)),Leveranciersbeoordeling!$H$1:$I$5,2,FALSE),0)","v":0},0]
["",null,null,null,null,null,null,null,null,null,null,null,null,null,null,{"$f":"INDEX($A:$O,ROW(),MATCH('Rapportage per vraag'!$C$12,'Data leveranciersbeoordeling'!$1:$1,0))","v":0},{"$f":"IFERROR(VLOOKUP(INDEX($A:$O,ROW(),MATCH('Rapportage per vraag'!$C$12,'Data leveranciersbeoordeling'!$1:$1,0)),Leveranciersbeoordeling!$H$1:$I$5,2,FALSE),0)","v":0},0]
["",null,null,null,null,null,null,null,null,null,null,null,null,null,null,{"$f":"INDEX($A:$O,ROW(),MATCH('Rapportage per vraag'!$C$12,'Data leveranciersbeoordeling'!$1:$1,0))","v":0},{"$f":"IFERROR(VLOOKUP(INDEX($A:$O,ROW(),MATCH('Rapportage per vraag'!$C$12,'Data leveranciersbeoordeling'!$1:$1,0)),Leveranciersbeoordeling!$H$1:$I$5,2,FALSE),0)","v":0},{"$f":"IF(T(P9670)=P9670,Q9670,P9670)","v":0}]
["",null,null,null,null,null,null,null,null,null,null,null,null,null,null,{"$f":"INDEX($A:$O,ROW(),MATCH('Rapportage per vraag'!$C$12,'Data leveranciersbeoordeling'!$1:$1,0))","v":0},{"$f":"IFERROR(VLOOKUP(INDEX($A:$O,ROW(),MATCH('Rapportage per vraag'!$C$12,'Data leveranciersbeoordeling'!$1:$1,0)),Leveranciersbeoordeling!$H$1:$I$5,2,FALSE),0)","v":0},0]
["",null,null,null,null,null,null,null,null,null,null,null,null,null,null,{"$f":"INDEX($A:$O,ROW(),MATCH('Rapportage per vraag'!$C$12,'Data leveranciersbeoordeling'!$1:$1,0))","v":0},{"$f":"IFERROR(VLOOKUP(INDEX($A:$O,ROW(),MATCH('Rapportage per vraag'!$C$12,'Data leveranciersbeoordeling'!$1:$1,0)),Leveranciersbeoordeling!$H$1:$I$5,2,FALSE),0)","v":0},0]
["",null,null,null,null,null,null,null,null,null,null,null,null,null,null,{"$f":"INDEX($A:$O,ROW(),MATCH('Rapportage per vraag'!$C$12,'Data leveranciersbeoordeling'!$1:$1,0))","v":0},{"$f":"IFERROR(VLOOKUP(INDEX($A:$O,ROW(),MATCH('Rapportage per vraag'!$C$12,'Data leveranciersbeoordeling'!$1:$1,0)),Leveranciersbeoordeling!$H$1:$I$5,2,FALSE),0)","v":0},0]
["",null,null,null,null,null,null,null,null,null,null,null,null,null,null,{"$f":"INDEX($A:$O,ROW(),MATCH('Rapportage per vraag'!$C$12,'Data leveranciersbeoordeling'!$1:$1,0))","v":0},{"$f":"IFERROR(VLOOKUP(INDEX($A:$O,ROW(),MATCH('Rapportage per vraag'!$C$12,'Data leveranciersbeoordeling'!$1:$1,0)),Leveranciersbeoordeling!$H$1:$I$5,2,FALSE),0)","v":0},0]
["",null,null,null,null,null,null,null,null,null,null,null,null,null,null,{"$f":"INDEX($A:$O,ROW(),MATCH('Rapportage per vraag'!$C$12,'Data leveranciersbeoordeling'!$1:$1,0))","v":0},{"$f":"IFERROR(VLOOKUP(INDEX($A:$O,ROW(),MATCH('Rapportage per vraag'!$C$12,'Data leveranciersbeoordeling'!$1:$1,0)),Leveranciersbeoordeling!$H$1:$I$5,2,FALSE),0)","v":0},0]
["",null,null,null,null,null,null,null,null,null,null,null,null,null,null,{"$f":"INDEX($A:$O,ROW(),MATCH('Rapportage per vraag'!$C$12,'Data leveranciersbeoordeling'!$1:$1,0))","v":0},{"$f":"IFERROR(VLOOKUP(INDEX($A:$O,ROW(),MATCH('Rapportage per vraag'!$C$12,'Data leveranciersbeoordeling'!$1:$1,0)),Leveranciersbeoordeling!$H$1:$I$5,2,FALSE),0)","v":0},0]
["",null,null,null,null,null,null,null,null,null,null,null,null,null,null,{"$f":"INDEX($A:$O,ROW(),MATCH('Rapportage per vraag'!$C$12,'Data leveranciersbeoordeling'!$1:$1,0))","v":0},{"$f":"IFERROR(VLOOKUP(INDEX($A:$O,ROW(),MATCH('Rapportage per vraag'!$C$12,'Data leveranciersbeoordeling'!$1:$1,0)),Leveranciersbeoordeling!$H$1:$I$5,2,FALSE),0)","v":0},0]
["",null,null,null,null,null,null,null,null,null,null,null,null,null,null,{"$f":"INDEX($A:$O,ROW(),MATCH('Rapportage per vraag'!$C$12,'Data leveranciersbeoordeling'!$1:$1,0))","v":0},{"$f":"IFERROR(VLOOKUP(INDEX($A:$O,ROW(),MATCH('Rapportage per vraag'!$C$12,'Data leveranciersbeoordeling'!$1:$1,0)),Leveranciersbeoordeling!$H$1:$I$5,2,FALSE),0)","v":0},0]
["",null,null,null,null,null,null,null,null,null,null,null,null,null,null,{"$f":"INDEX($A:$O,ROW(),MATCH('Rapportage per vraag'!$C$12,'Data leveranciersbeoordeling'!$1:$1,0))","v":0},{"$f":"IFERROR(VLOOKUP(INDEX($A:$O,ROW(),MATCH('Rapportage per vraag'!$C$12,'Data leveranciersbeoordeling'!$1:$1,0)),Leveranciersbeoordeling!$H$1:$I$5,2,FALSE),0)","v":0},0]
["",null,null,null,null,null,null,null,null,null,null,null,null,null,null,{"$f":"INDEX($A:$O,ROW(),MATCH('Rapportage per vraag'!$C$12,'Data leveranciersbeoordeling'!$1:$1,0))","v":0},{"$f":"IFERROR(VLOOKUP(INDEX($A:$O,ROW(),MATCH('Rapportage per vraag'!$C$12,'Data leveranciersbeoordeling'!$1:$1,0)),Leveranciersbeoordeling!$H$1:$I$5,2,FALSE),0)","v":0},0]
["",null,null,null,null,null,null,null,null,null,null,null,null,null,null,{"$f":"INDEX($A:$O,ROW(),MATCH('Rapportage per vraag'!$C$12,'Data leveranciersbeoordeling'!$1:$1,0))","v":0},{"$f":"IFERROR(VLOOKUP(INDEX($A:$O,ROW(),MATCH('Rapportage per vraag'!$C$12,'Data leveranciersbeoordeling'!$1:$1,0)),Leveranciersbeoordeling!$H$1:$I$5,2,FALSE),0)","v":0},0]
["",null,null,null,null,null,null,null,null,null,null,null,null,null,null,{"$f":"INDEX($A:$O,ROW(),MATCH('Rapportage per vraag'!$C$12,'Data leveranciersbeoordeling'!$1:$1,0))","v":0},{"$f":"IFERROR(VLOOKUP(INDEX($A:$O,ROW(),MATCH('Rapportage per vraag'!$C$12,'Data leveranciersbeoordeling'!$1:$1,0)),Leveranciersbeoordeling!$H$1:$I$5,2,FALSE),0)","v":0},0]
["",null,null,null,null,null,null,null,null,null,null,null,null,null,null,{"$f":"INDEX($A:$O,ROW(),MATCH('Rapportage per vraag'!$C$12,'Data leveranciersbeoordeling'!$1:$1,0))","v":0},{"$f":"IFERROR(VLOOKUP(INDEX($A:$O,ROW(),MATCH('Rapportage per vraag'!$C$12,'Data leveranciersbeoordeling'!$1:$1,0)),Leveranciersbeoordeling!$H$1:$I$5,2,FALSE),0)","v":0},0]
["",null,null,null,null,null,null,null,null,null,null,null,null,null,null,{"$f":"INDEX($A:$O,ROW(),MATCH('Rapportage per vraag'!$C$12,'Data leveranciersbeoordeling'!$1:$1,0))","v":0},{"$f":"IFERROR(VLOOKUP(INDEX($A:$O,ROW(),MATCH('Rapportage per vraag'!$C$12,'Data leveranciersbeoordeling'!$1:$1,0)),Leveranciersbeoordeling!$H$1:$I$5,2,FALSE),0)","v":0},0]
["",null,null,null,null,null,null,null,null,null,null,null,null,null,null,{"$f":"INDEX($A:$O,ROW(),MATCH('Rapportage per vraag'!$C$12,'Data leveranciersbeoordeling'!$1:$1,0))","v":0},{"$f":"IFERROR(VLOOKUP(INDEX($A:$O,ROW(),MATCH('Rapportage per vraag'!$C$12,'Data leveranciersbeoordeling'!$1:$1,0)),Leveranciersbeoordeling!$H$1:$I$5,2,FALSE),0)","v":0},0]
["",null,null,null,null,null,null,null,null,null,null,null,null,null,null,{"$f":"INDEX($A:$O,ROW(),MATCH('Rapportage per vraag'!$C$12,'Data leveranciersbeoordeling'!$1:$1,0))","v":0},{"$f":"IFERROR(VLOOKUP(INDEX($A:$O,ROW(),MATCH('Rapportage per vraag'!$C$12,'Data leveranciersbeoordeling'!$1:$1,0)),Leveranciersbeoordeling!$H$1:$I$5,2,FALSE),0)","v":0},0]
["",null,null,null,null,null,null,null,null,null,null,null,null,null,null,{"$f":"INDEX($A:$O,ROW(),MATCH('Rapportage per vraag'!$C$12,'Data leveranciersbeoordeling'!$1:$1,0))","v":0},{"$f":"IFERROR(VLOOKUP(INDEX($A:$O,ROW(),MATCH('Rapportage per vraag'!$C$12,'Data leveranciersbeoordeling'!$1:$1,0)),Leveranciersbeoordeling!$H$1:$I$5,2,FALSE),0)","v":0},0]
["",null,null,null,null,null,null,null,null,null,null,null,null,null,null,{"$f":"INDEX($A:$O,ROW(),MATCH('Rapportage per vraag'!$C$12,'Data leveranciersbeoordeling'!$1:$1,0))","v":0},{"$f":"IFERROR(VLOOKUP(INDEX($A:$O,ROW(),MATCH('Rapportage per vraag'!$C$12,'Data leveranciersbeoordeling'!$1:$1,0)),Leveranciersbeoordeling!$H$1:$I$5,2,FALSE),0)","v":0},0]
["",null,null,null,null,null,null,null,null,null,null,null,null,null,null,{"$f":"INDEX($A:$O,ROW(),MATCH('Rapportage per vraag'!$C$12,'Data leveranciersbeoordeling'!$1:$1,0))","v":0},{"$f":"IFERROR(VLOOKUP(INDEX($A:$O,ROW(),MATCH('Rapportage per vraag'!$C$12,'Data leveranciersbeoordeling'!$1:$1,0)),Leveranciersbeoordeling!$H$1:$I$5,2,FALSE),0)","v":0},0]
["",null,null,null,null,null,null,null,null,null,null,null,null,null,null,{"$f":"INDEX($A:$O,ROW(),MATCH('Rapportage per vraag'!$C$12,'Data leveranciersbeoordeling'!$1:$1,0))","v":0},{"$f":"IFERROR(VLOOKUP(INDEX($A:$O,ROW(),MATCH('Rapportage per vraag'!$C$12,'Data leveranciersbeoordeling'!$1:$1,0)),Leveranciersbeoordeling!$H$1:$I$5,2,FALSE),0)","v":0},0]
["",null,null,null,null,null,null,null,null,null,null,null,null,null,null,{"$f":"INDEX($A:$O,ROW(),MATCH('Rapportage per vraag'!$C$12,'Data leveranciersbeoordeling'!$1:$1,0))","v":0},{"$f":"IFERROR(VLOOKUP(INDEX($A:$O,ROW(),MATCH('Rapportage per vraag'!$C$12,'Data leveranciersbeoordeling'!$1:$1,0)),Leveranciersbeoordeling!$H$1:$I$5,2,FALSE),0)","v":0},0]
["",null,null,null,null,null,null,null,null,null,null,null,null,null,null,{"$f":"INDEX($A:$O,ROW(),MATCH('Rapportage per vraag'!$C$12,'Data leveranciersbeoordeling'!$1:$1,0))","v":0},{"$f":"IFERROR(VLOOKUP(INDEX($A:$O,ROW(),MATCH('Rapportage per vraag'!$C$12,'Data leveranciersbeoordeling'!$1:$1,0)),Leveranciersbeoordeling!$H$1:$I$5,2,FALSE),0)","v":0},0]
["",null,null,null,null,null,null,null,null,null,null,null,null,null,null,{"$f":"INDEX($A:$O,ROW(),MATCH('Rapportage per vraag'!$C$12,'Data leveranciersbeoordeling'!$1:$1,0))","v":0},{"$f":"IFERROR(VLOOKUP(INDEX($A:$O,ROW(),MATCH('Rapportage per vraag'!$C$12,'Data leveranciersbeoordeling'!$1:$1,0)),Leveranciersbeoordeling!$H$1:$I$5,2,FALSE),0)","v":0},0]
["",null,null,null,null,null,null,null,null,null,null,null,null,null,null,{"$f":"INDEX($A:$O,ROW(),MATCH('Rapportage per vraag'!$C$12,'Data leveranciersbeoordeling'!$1:$1,0))","v":0},{"$f":"IFERROR(VLOOKUP(INDEX($A:$O,ROW(),MATCH('Rapportage per vraag'!$C$12,'Data leveranciersbeoordeling'!$1:$1,0)),Leveranciersbeoordeling!$H$1:$I$5,2,FALSE),0)","v":0},0]
["",null,null,null,null,null,null,null,null,null,null,null,null,null,null,{"$f":"INDEX($A:$O,ROW(),MATCH('Rapportage per vraag'!$C$12,'Data leveranciersbeoordeling'!$1:$1,0))","v":0},{"$f":"IFERROR(VLOOKUP(INDEX($A:$O,ROW(),MATCH('Rapportage per vraag'!$C$12,'Data leveranciersbeoordeling'!$1:$1,0)),Leveranciersbeoordeling!$H$1:$I$5,2,FALSE),0)","v":0},0]
["",null,null,null,null,null,null,null,null,null,null,null,null,null,null,{"$f":"INDEX($A:$O,ROW(),MATCH('Rapportage per vraag'!$C$12,'Data leveranciersbeoordeling'!$1:$1,0))","v":0},{"$f":"IFERROR(VLOOKUP(INDEX($A:$O,ROW(),MATCH('Rapportage per vraag'!$C$12,'Data leveranciersbeoordeling'!$1:$1,0)),Leveranciersbeoordeling!$H$1:$I$5,2,FALSE),0)","v":0},0]
["",null,null,null,null,null,null,null,null,null,null,null,null,null,null,{"$f":"INDEX($A:$O,ROW(),MATCH('Rapportage per vraag'!$C$12,'Data leveranciersbeoordeling'!$1:$1,0))","v":0},{"$f":"IFERROR(VLOOKUP(INDEX($A:$O,ROW(),MATCH('Rapportage per vraag'!$C$12,'Data leveranciersbeoordeling'!$1:$1,0)),Leveranciersbeoordeling!$H$1:$I$5,2,FALSE),0)","v":0},0]
["",null,null,null,null,null,null,null,null,null,null,null,null,null,null,{"$f":"INDEX($A:$O,ROW(),MATCH('Rapportage per vraag'!$C$12,'Data leveranciersbeoordeling'!$1:$1,0))","v":0},{"$f":"IFERROR(VLOOKUP(INDEX($A:$O,ROW(),MATCH('Rapportage per vraag'!$C$12,'Data leveranciersbeoordeling'!$1:$1,0)),Leveranciersbeoordeling!$H$1:$I$5,2,FALSE),0)","v":0},0]
["",null,null,null,null,null,null,null,null,null,null,null,null,null,null,{"$f":"INDEX($A:$O,ROW(),MATCH('Rapportage per vraag'!$C$12,'Data leveranciersbeoordeling'!$1:$1,0))","v":0},{"$f":"IFERROR(VLOOKUP(INDEX($A:$O,ROW(),MATCH('Rapportage per vraag'!$C$12,'Data leveranciersbeoordeling'!$1:$1,0)),Leveranciersbeoordeling!$H$1:$I$5,2,FALSE),0)","v":0},0]
["",null,null,null,null,null,null,null,null,null,null,null,null,null,null,{"$f":"INDEX($A:$O,ROW(),MATCH('Rapportage per vraag'!$C$12,'Data leveranciersbeoordeling'!$1:$1,0))","v":0},{"$f":"IFERROR(VLOOKUP(INDEX($A:$O,ROW(),MATCH('Rapportage per vraag'!$C$12,'Data leveranciersbeoordeling'!$1:$1,0)),Leveranciersbeoordeling!$H$1:$I$5,2,FALSE),0)","v":0},0]
["",null,null,null,null,null,null,null,null,null,null,null,null,null,null,{"$f":"INDEX($A:$O,ROW(),MATCH('Rapportage per vraag'!$C$12,'Data leveranciersbeoordeling'!$1:$1,0))","v":0},{"$f":"IFERROR(VLOOKUP(INDEX($A:$O,ROW(),MATCH('Rapportage per vraag'!$C$12,'Data leveranciersbeoordeling'!$1:$1,0)),Leveranciersbeoordeling!$H$1:$I$5,2,FALSE),0)","v":0},0]
["",null,null,null,null,null,null,null,null,null,null,null,null,null,null,{"$f":"INDEX($A:$O,ROW(),MATCH('Rapportage per vraag'!$C$12,'Data leveranciersbeoordeling'!$1:$1,0))","v":0},{"$f":"IFERROR(VLOOKUP(INDEX($A:$O,ROW(),MATCH('Rapportage per vraag'!$C$12,'Data leveranciersbeoordeling'!$1:$1,0)),Leveranciersbeoordeling!$H$1:$I$5,2,FALSE),0)","v":0},0]
["",null,null,null,null,null,null,null,null,null,null,null,null,null,null,{"$f":"INDEX($A:$O,ROW(),MATCH('Rapportage per vraag'!$C$12,'Data leveranciersbeoordeling'!$1:$1,0))","v":0},{"$f":"IFERROR(VLOOKUP(INDEX($A:$O,ROW(),MATCH('Rapportage per vraag'!$C$12,'Data leveranciersbeoordeling'!$1:$1,0)),Leveranciersbeoordeling!$H$1:$I$5,2,FALSE),0)","v":0},0]
["",null,null,null,null,null,null,null,null,null,null,null,null,null,null,{"$f":"INDEX($A:$O,ROW(),MATCH('Rapportage per vraag'!$C$12,'Data leveranciersbeoordeling'!$1:$1,0))","v":0},{"$f":"IFERROR(VLOOKUP(INDEX($A:$O,ROW(),MATCH('Rapportage per vraag'!$C$12,'Data leveranciersbeoordeling'!$1:$1,0)),Leveranciersbeoordeling!$H$1:$I$5,2,FALSE),0)","v":0},0]
["",null,null,null,null,null,null,null,null,null,null,null,null,null,null,{"$f":"INDEX($A:$O,ROW(),MATCH('Rapportage per vraag'!$C$12,'Data leveranciersbeoordeling'!$1:$1,0))","v":0},{"$f":"IFERROR(VLOOKUP(INDEX($A:$O,ROW(),MATCH('Rapportage per vraag'!$C$12,'Data leveranciersbeoordeling'!$1:$1,0)),Leveranciersbeoordeling!$H$1:$I$5,2,FALSE),0)","v":0},0]
["",null,null,null,null,null,null,null,null,null,null,null,null,null,null,{"$f":"INDEX($A:$O,ROW(),MATCH('Rapportage per vraag'!$C$12,'Data leveranciersbeoordeling'!$1:$1,0))","v":0},{"$f":"IFERROR(VLOOKUP(INDEX($A:$O,ROW(),MATCH('Rapportage per vraag'!$C$12,'Data leveranciersbeoordeling'!$1:$1,0)),Leveranciersbeoordeling!$H$1:$I$5,2,FALSE),0)","v":0},0]
["",null,null,null,null,null,null,null,null,null,null,null,null,null,null,{"$f":"INDEX($A:$O,ROW(),MATCH('Rapportage per vraag'!$C$12,'Data leveranciersbeoordeling'!$1:$1,0))","v":0},{"$f":"IFERROR(VLOOKUP(INDEX($A:$O,ROW(),MATCH('Rapportage per vraag'!$C$12,'Data leveranciersbeoordeling'!$1:$1,0)),Leveranciersbeoordeling!$H$1:$I$5,2,FALSE),0)","v":0},0]
["",null,null,null,null,null,null,null,null,null,null,null,null,null,null,{"$f":"INDEX($A:$O,ROW(),MATCH('Rapportage per vraag'!$C$12,'Data leveranciersbeoordeling'!$1:$1,0))","v":0},{"$f":"IFERROR(VLOOKUP(INDEX($A:$O,ROW(),MATCH('Rapportage per vraag'!$C$12,'Data leveranciersbeoordeling'!$1:$1,0)),Leveranciersbeoordeling!$H$1:$I$5,2,FALSE),0)","v":0},0]
["",null,null,null,null,null,null,null,null,null,null,null,null,null,null,{"$f":"INDEX($A:$O,ROW(),MATCH('Rapportage per vraag'!$C$12,'Data leveranciersbeoordeling'!$1:$1,0))","v":0},{"$f":"IFERROR(VLOOKUP(INDEX($A:$O,ROW(),MATCH('Rapportage per vraag'!$C$12,'Data leveranciersbeoordeling'!$1:$1,0)),Leveranciersbeoordeling!$H$1:$I$5,2,FALSE),0)","v":0},0]
["",null,null,null,null,null,null,null,null,null,null,null,null,null,null,{"$f":"INDEX($A:$O,ROW(),MATCH('Rapportage per vraag'!$C$12,'Data leveranciersbeoordeling'!$1:$1,0))","v":0},{"$f":"IFERROR(VLOOKUP(INDEX($A:$O,ROW(),MATCH('Rapportage per vraag'!$C$12,'Data leveranciersbeoordeling'!$1:$1,0)),Leveranciersbeoordeling!$H$1:$I$5,2,FALSE),0)","v":0},0]
["",null,null,null,null,null,null,null,null,null,null,null,null,null,null,{"$f":"INDEX($A:$O,ROW(),MATCH('Rapportage per vraag'!$C$12,'Data leveranciersbeoordeling'!$1:$1,0))","v":0},{"$f":"IFERROR(VLOOKUP(INDEX($A:$O,ROW(),MATCH('Rapportage per vraag'!$C$12,'Data leveranciersbeoordeling'!$1:$1,0)),Leveranciersbeoordeling!$H$1:$I$5,2,FALSE),0)","v":0},0]
["",null,null,null,null,null,null,null,null,null,null,null,null,null,null,{"$f":"INDEX($A:$O,ROW(),MATCH('Rapportage per vraag'!$C$12,'Data leveranciersbeoordeling'!$1:$1,0))","v":0},{"$f":"IFERROR(VLOOKUP(INDEX($A:$O,ROW(),MATCH('Rapportage per vraag'!$C$12,'Data leveranciersbeoordeling'!$1:$1,0)),Leveranciersbeoordeling!$H$1:$I$5,2,FALSE),0)","v":0},0]
["",null,null,null,null,null,null,null,null,null,null,null,null,null,null,{"$f":"INDEX($A:$O,ROW(),MATCH('Rapportage per vraag'!$C$12,'Data leveranciersbeoordeling'!$1:$1,0))","v":0},{"$f":"IFERROR(VLOOKUP(INDEX($A:$O,ROW(),MATCH('Rapportage per vraag'!$C$12,'Data leveranciersbeoordeling'!$1:$1,0)),Leveranciersbeoordeling!$H$1:$I$5,2,FALSE),0)","v":0},0]
["",null,null,null,null,null,null,null,null,null,null,null,null,null,null,{"$f":"INDEX($A:$O,ROW(),MATCH('Rapportage per vraag'!$C$12,'Data leveranciersbeoordeling'!$1:$1,0))","v":0},{"$f":"IFERROR(VLOOKUP(INDEX($A:$O,ROW(),MATCH('Rapportage per vraag'!$C$12,'Data leveranciersbeoordeling'!$1:$1,0)),Leveranciersbeoordeling!$H$1:$I$5,2,FALSE),0)","v":0},0]
["",null,null,null,null,null,null,null,null,null,null,null,null,null,null,{"$f":"INDEX($A:$O,ROW(),MATCH('Rapportage per vraag'!$C$12,'Data leveranciersbeoordeling'!$1:$1,0))","v":0},{"$f":"IFERROR(VLOOKUP(INDEX($A:$O,ROW(),MATCH('Rapportage per vraag'!$C$12,'Data leveranciersbeoordeling'!$1:$1,0)),Leveranciersbeoordeling!$H$1:$I$5,2,FALSE),0)","v":0},0]
["",null,null,null,null,null,null,null,null,null,null,null,null,null,null,{"$f":"INDEX($A:$O,ROW(),MATCH('Rapportage per vraag'!$C$12,'Data leveranciersbeoordeling'!$1:$1,0))","v":0},{"$f":"IFERROR(VLOOKUP(INDEX($A:$O,ROW(),MATCH('Rapportage per vraag'!$C$12,'Data leveranciersbeoordeling'!$1:$1,0)),Leveranciersbeoordeling!$H$1:$I$5,2,FALSE),0)","v":0},0]
["",null,null,null,null,null,null,null,null,null,null,null,null,null,null,{"$f":"INDEX($A:$O,ROW(),MATCH('Rapportage per vraag'!$C$12,'Data leveranciersbeoordeling'!$1:$1,0))","v":0},{"$f":"IFERROR(VLOOKUP(INDEX($A:$O,ROW(),MATCH('Rapportage per vraag'!$C$12,'Data leveranciersbeoordeling'!$1:$1,0)),Leveranciersbeoordeling!$H$1:$I$5,2,FALSE),0)","v":0},0]
["",null,null,null,null,null,null,null,null,null,null,null,null,null,null,{"$f":"INDEX($A:$O,ROW(),MATCH('Rapportage per vraag'!$C$12,'Data leveranciersbeoordeling'!$1:$1,0))","v":0},{"$f":"IFERROR(VLOOKUP(INDEX($A:$O,ROW(),MATCH('Rapportage per vraag'!$C$12,'Data leveranciersbeoordeling'!$1:$1,0)),Leveranciersbeoordeling!$H$1:$I$5,2,FALSE),0)","v":0},0]
["",null,null,null,null,null,null,null,null,null,null,null,null,null,null,{"$f":"INDEX($A:$O,ROW(),MATCH('Rapportage per vraag'!$C$12,'Data leveranciersbeoordeling'!$1:$1,0))","v":0},{"$f":"IFERROR(VLOOKUP(INDEX($A:$O,ROW(),MATCH('Rapportage per vraag'!$C$12,'Data leveranciersbeoordeling'!$1:$1,0)),Leveranciersbeoordeling!$H$1:$I$5,2,FALSE),0)","v":0},0]
["",null,null,null,null,null,null,null,null,null,null,null,null,null,null,{"$f":"INDEX($A:$O,ROW(),MATCH('Rapportage per vraag'!$C$12,'Data leveranciersbeoordeling'!$1:$1,0))","v":0},{"$f":"IFERROR(VLOOKUP(INDEX($A:$O,ROW(),MATCH('Rapportage per vraag'!$C$12,'Data leveranciersbeoordeling'!$1:$1,0)),Leveranciersbeoordeling!$H$1:$I$5,2,FALSE),0)","v":0},0]
["",null,null,null,null,null,null,null,null,null,null,null,null,null,null,{"$f":"INDEX($A:$O,ROW(),MATCH('Rapportage per vraag'!$C$12,'Data leveranciersbeoordeling'!$1:$1,0))","v":0},{"$f":"IFERROR(VLOOKUP(INDEX($A:$O,ROW(),MATCH('Rapportage per vraag'!$C$12,'Data leveranciersbeoordeling'!$1:$1,0)),Leveranciersbeoordeling!$H$1:$I$5,2,FALSE),0)","v":0},0]
["",null,null,null,null,null,null,null,null,null,null,null,null,null,null,{"$f":"INDEX($A:$O,ROW(),MATCH('Rapportage per vraag'!$C$12,'Data leveranciersbeoordeling'!$1:$1,0))","v":0},{"$f":"IFERROR(VLOOKUP(INDEX($A:$O,ROW(),MATCH('Rapportage per vraag'!$C$12,'Data leveranciersbeoordeling'!$1:$1,0)),Leveranciersbeoordeling!$H$1:$I$5,2,FALSE),0)","v":0},0]
["",null,null,null,null,null,null,null,null,null,null,null,null,null,null,{"$f":"INDEX($A:$O,ROW(),MATCH('Rapportage per vraag'!$C$12,'Data leveranciersbeoordeling'!$1:$1,0))","v":0},{"$f":"IFERROR(VLOOKUP(INDEX($A:$O,ROW(),MATCH('Rapportage per vraag'!$C$12,'Data leveranciersbeoordeling'!$1:$1,0)),Leveranciersbeoordeling!$H$1:$I$5,2,FALSE),0)","v":0},0]
["",null,null,null,null,null,null,null,null,null,null,null,null,null,null,{"$f":"INDEX($A:$O,ROW(),MATCH('Rapportage per vraag'!$C$12,'Data leveranciersbeoordeling'!$1:$1,0))","v":0},{"$f":"IFERROR(VLOOKUP(INDEX($A:$O,ROW(),MATCH('Rapportage per vraag'!$C$12,'Data leveranciersbeoordeling'!$1:$1,0)),Leveranciersbeoordeling!$H$1:$I$5,2,FALSE),0)","v":0},0]
["",null,null,null,null,null,null,null,null,null,null,null,null,null,null,{"$f":"INDEX($A:$O,ROW(),MATCH('Rapportage per vraag'!$C$12,'Data leveranciersbeoordeling'!$1:$1,0))","v":0},{"$f":"IFERROR(VLOOKUP(INDEX($A:$O,ROW(),MATCH('Rapportage per vraag'!$C$12,'Data leveranciersbeoordeling'!$1:$1,0)),Leveranciersbeoordeling!$H$1:$I$5,2,FALSE),0)","v":0},0]
["",null,null,null,null,null,null,null,null,null,null,null,null,null,null,{"$f":"INDEX($A:$O,ROW(),MATCH('Rapportage per vraag'!$C$12,'Data leveranciersbeoordeling'!$1:$1,0))","v":0},{"$f":"IFERROR(VLOOKUP(INDEX($A:$O,ROW(),MATCH('Rapportage per vraag'!$C$12,'Data leveranciersbeoordeling'!$1:$1,0)),Leveranciersbeoordeling!$H$1:$I$5,2,FALSE),0)","v":0},0]
["",null,null,null,null,null,null,null,null,null,null,null,null,null,null,{"$f":"INDEX($A:$O,ROW(),MATCH('Rapportage per vraag'!$C$12,'Data leveranciersbeoordeling'!$1:$1,0))","v":0},{"$f":"IFERROR(VLOOKUP(INDEX($A:$O,ROW(),MATCH('Rapportage per vraag'!$C$12,'Data leveranciersbeoordeling'!$1:$1,0)),Leveranciersbeoordeling!$H$1:$I$5,2,FALSE),0)","v":0},0]
["",null,null,null,null,null,null,null,null,null,null,null,null,null,null,{"$f":"INDEX($A:$O,ROW(),MATCH('Rapportage per vraag'!$C$12,'Data leveranciersbeoordeling'!$1:$1,0))","v":0},{"$f":"IFERROR(VLOOKUP(INDEX($A:$O,ROW(),MATCH('Rapportage per vraag'!$C$12,'Data leveranciersbeoordeling'!$1:$1,0)),Leveranciersbeoordeling!$H$1:$I$5,2,FALSE),0)","v":0},0]
["",null,null,null,null,null,null,null,null,null,null,null,null,null,null,{"$f":"INDEX($A:$O,ROW(),MATCH('Rapportage per vraag'!$C$12,'Data leveranciersbeoordeling'!$1:$1,0))","v":0},{"$f":"IFERROR(VLOOKUP(INDEX($A:$O,ROW(),MATCH('Rapportage per vraag'!$C$12,'Data leveranciersbeoordeling'!$1:$1,0)),Leveranciersbeoordeling!$H$1:$I$5,2,FALSE),0)","v":0},0]
["",null,null,null,null,null,null,null,null,null,null,null,null,null,null,{"$f":"INDEX($A:$O,ROW(),MATCH('Rapportage per vraag'!$C$12,'Data leveranciersbeoordeling'!$1:$1,0))","v":0},{"$f":"IFERROR(VLOOKUP(INDEX($A:$O,ROW(),MATCH('Rapportage per vraag'!$C$12,'Data leveranciersbeoordeling'!$1:$1,0)),Leveranciersbeoordeling!$H$1:$I$5,2,FALSE),0)","v":0},0]
[{"$f":"CONCATENATE(B9731,C9731,D9731)","v":""},null,null,null,null,null,null,null,null,null,null,null,null,null,null,{"$f":"INDEX($A:$O,ROW(),MATCH('Rapportage per vraag'!$C$12,'Data leveranciersbeoordeling'!$1:$1,0))","v":0},{"$f":"IFERROR(VLOOKUP(INDEX($A:$O,ROW(),MATCH('Rapportage per vraag'!$C$12,'Data leveranciersbeoordeling'!$1:$1,0)),Leveranciersbeoordeling!$H$1:$I$5,2,FALSE),0)","v":0},0]
["",null,null,null,null,null,null,null,null,null,null,null,null,null,null,{"$f":"INDEX($A:$O,ROW(),MATCH('Rapportage per vraag'!$C$12,'Data leveranciersbeoordeling'!$1:$1,0))","v":0},{"$f":"IFERROR(VLOOKUP(INDEX($A:$O,ROW(),MATCH('Rapportage per vraag'!$C$12,'Data leveranciersbeoordeling'!$1:$1,0)),Leveranciersbeoordeling!$H$1:$I$5,2,FALSE),0)","v":0},0]
["",null,null,null,null,null,null,null,null,null,null,null,null,null,null,{"$f":"INDEX($A:$O,ROW(),MATCH('Rapportage per vraag'!$C$12,'Data leveranciersbeoordeling'!$1:$1,0))","v":0},{"$f":"IFERROR(VLOOKUP(INDEX($A:$O,ROW(),MATCH('Rapportage per vraag'!$C$12,'Data leveranciersbeoordeling'!$1:$1,0)),Leveranciersbeoordeling!$H$1:$I$5,2,FALSE),0)","v":0},0]
["",null,null,null,null,null,null,null,null,null,null,null,null,null,null,{"$f":"INDEX($A:$O,ROW(),MATCH('Rapportage per vraag'!$C$12,'Data leveranciersbeoordeling'!$1:$1,0))","v":0},{"$f":"IFERROR(VLOOKUP(INDEX($A:$O,ROW(),MATCH('Rapportage per vraag'!$C$12,'Data leveranciersbeoordeling'!$1:$1,0)),Leveranciersbeoordeling!$H$1:$I$5,2,FALSE),0)","v":0},{"$f":"IF(T(P9734)=P9734,Q9734,P9734)","v":0}]
["",null,null,null,null,null,null,null,null,null,null,null,null,null,null,{"$f":"INDEX($A:$O,ROW(),MATCH('Rapportage per vraag'!$C$12,'Data leveranciersbeoordeling'!$1:$1,0))","v":0},{"$f":"IFERROR(VLOOKUP(INDEX($A:$O,ROW(),MATCH('Rapportage per vraag'!$C$12,'Data leveranciersbeoordeling'!$1:$1,0)),Leveranciersbeoordeling!$H$1:$I$5,2,FALSE),0)","v":0},0]
["",null,null,null,null,null,null,null,null,null,null,null,null,null,null,{"$f":"INDEX($A:$O,ROW(),MATCH('Rapportage per vraag'!$C$12,'Data leveranciersbeoordeling'!$1:$1,0))","v":0},{"$f":"IFERROR(VLOOKUP(INDEX($A:$O,ROW(),MATCH('Rapportage per vraag'!$C$12,'Data leveranciersbeoordeling'!$1:$1,0)),Leveranciersbeoordeling!$H$1:$I$5,2,FALSE),0)","v":0},0]
["",null,null,null,null,null,null,null,null,null,null,null,null,null,null,{"$f":"INDEX($A:$O,ROW(),MATCH('Rapportage per vraag'!$C$12,'Data leveranciersbeoordeling'!$1:$1,0))","v":0},{"$f":"IFERROR(VLOOKUP(INDEX($A:$O,ROW(),MATCH('Rapportage per vraag'!$C$12,'Data leveranciersbeoordeling'!$1:$1,0)),Leveranciersbeoordeling!$H$1:$I$5,2,FALSE),0)","v":0},0]
["",null,null,null,null,null,null,null,null,null,null,null,null,null,null,{"$f":"INDEX($A:$O,ROW(),MATCH('Rapportage per vraag'!$C$12,'Data leveranciersbeoordeling'!$1:$1,0))","v":0},{"$f":"IFERROR(VLOOKUP(INDEX($A:$O,ROW(),MATCH('Rapportage per vraag'!$C$12,'Data leveranciersbeoordeling'!$1:$1,0)),Leveranciersbeoordeling!$H$1:$I$5,2,FALSE),0)","v":0},0]
["",null,null,null,null,null,null,null,null,null,null,null,null,null,null,{"$f":"INDEX($A:$O,ROW(),MATCH('Rapportage per vraag'!$C$12,'Data leveranciersbeoordeling'!$1:$1,0))","v":0},{"$f":"IFERROR(VLOOKUP(INDEX($A:$O,ROW(),MATCH('Rapportage per vraag'!$C$12,'Data leveranciersbeoordeling'!$1:$1,0)),Leveranciersbeoordeling!$H$1:$I$5,2,FALSE),0)","v":0},0]
["",null,null,null,null,null,null,null,null,null,null,null,null,null,null,{"$f":"INDEX($A:$O,ROW(),MATCH('Rapportage per vraag'!$C$12,'Data leveranciersbeoordeling'!$1:$1,0))","v":0},{"$f":"IFERROR(VLOOKUP(INDEX($A:$O,ROW(),MATCH('Rapportage per vraag'!$C$12,'Data leveranciersbeoordeling'!$1:$1,0)),Leveranciersbeoordeling!$H$1:$I$5,2,FALSE),0)","v":0},0]
["",null,null,null,null,null,null,null,null,null,null,null,null,null,null,{"$f":"INDEX($A:$O,ROW(),MATCH('Rapportage per vraag'!$C$12,'Data leveranciersbeoordeling'!$1:$1,0))","v":0},{"$f":"IFERROR(VLOOKUP(INDEX($A:$O,ROW(),MATCH('Rapportage per vraag'!$C$12,'Data leveranciersbeoordeling'!$1:$1,0)),Leveranciersbeoordeling!$H$1:$I$5,2,FALSE),0)","v":0},0]
["",null,null,null,null,null,null,null,null,null,null,null,null,null,null,{"$f":"INDEX($A:$O,ROW(),MATCH('Rapportage per vraag'!$C$12,'Data leveranciersbeoordeling'!$1:$1,0))","v":0},{"$f":"IFERROR(VLOOKUP(INDEX($A:$O,ROW(),MATCH('Rapportage per vraag'!$C$12,'Data leveranciersbeoordeling'!$1:$1,0)),Leveranciersbeoordeling!$H$1:$I$5,2,FALSE),0)","v":0},0]
["",null,null,null,null,null,null,null,null,null,null,null,null,null,null,{"$f":"INDEX($A:$O,ROW(),MATCH('Rapportage per vraag'!$C$12,'Data leveranciersbeoordeling'!$1:$1,0))","v":0},{"$f":"IFERROR(VLOOKUP(INDEX($A:$O,ROW(),MATCH('Rapportage per vraag'!$C$12,'Data leveranciersbeoordeling'!$1:$1,0)),Leveranciersbeoordeling!$H$1:$I$5,2,FALSE),0)","v":0},0]
["",null,null,null,null,null,null,null,null,null,null,null,null,null,null,{"$f":"INDEX($A:$O,ROW(),MATCH('Rapportage per vraag'!$C$12,'Data leveranciersbeoordeling'!$1:$1,0))","v":0},{"$f":"IFERROR(VLOOKUP(INDEX($A:$O,ROW(),MATCH('Rapportage per vraag'!$C$12,'Data leveranciersbeoordeling'!$1:$1,0)),Leveranciersbeoordeling!$H$1:$I$5,2,FALSE),0)","v":0},0]
["",null,null,null,null,null,null,null,null,null,null,null,null,null,null,{"$f":"INDEX($A:$O,ROW(),MATCH('Rapportage per vraag'!$C$12,'Data leveranciersbeoordeling'!$1:$1,0))","v":0},{"$f":"IFERROR(VLOOKUP(INDEX($A:$O,ROW(),MATCH('Rapportage per vraag'!$C$12,'Data leveranciersbeoordeling'!$1:$1,0)),Leveranciersbeoordeling!$H$1:$I$5,2,FALSE),0)","v":0},0]
["",null,null,null,null,null,null,null,null,null,null,null,null,null,null,{"$f":"INDEX($A:$O,ROW(),MATCH('Rapportage per vraag'!$C$12,'Data leveranciersbeoordeling'!$1:$1,0))","v":0},{"$f":"IFERROR(VLOOKUP(INDEX($A:$O,ROW(),MATCH('Rapportage per vraag'!$C$12,'Data leveranciersbeoordeling'!$1:$1,0)),Leveranciersbeoordeling!$H$1:$I$5,2,FALSE),0)","v":0},0]
["",null,null,null,null,null,null,null,null,null,null,null,null,null,null,{"$f":"INDEX($A:$O,ROW(),MATCH('Rapportage per vraag'!$C$12,'Data leveranciersbeoordeling'!$1:$1,0))","v":0},{"$f":"IFERROR(VLOOKUP(INDEX($A:$O,ROW(),MATCH('Rapportage per vraag'!$C$12,'Data leveranciersbeoordeling'!$1:$1,0)),Leveranciersbeoordeling!$H$1:$I$5,2,FALSE),0)","v":0},0]
["",null,null,null,null,null,null,null,null,null,null,null,null,null,null,{"$f":"INDEX($A:$O,ROW(),MATCH('Rapportage per vraag'!$C$12,'Data leveranciersbeoordeling'!$1:$1,0))","v":0},{"$f":"IFERROR(VLOOKUP(INDEX($A:$O,ROW(),MATCH('Rapportage per vraag'!$C$12,'Data leveranciersbeoordeling'!$1:$1,0)),Leveranciersbeoordeling!$H$1:$I$5,2,FALSE),0)","v":0},0]
["",null,null,null,null,null,null,null,null,null,null,null,null,null,null,{"$f":"INDEX($A:$O,ROW(),MATCH('Rapportage per vraag'!$C$12,'Data leveranciersbeoordeling'!$1:$1,0))","v":0},{"$f":"IFERROR(VLOOKUP(INDEX($A:$O,ROW(),MATCH('Rapportage per vraag'!$C$12,'Data leveranciersbeoordeling'!$1:$1,0)),Leveranciersbeoordeling!$H$1:$I$5,2,FALSE),0)","v":0},0]
["",null,null,null,null,null,null,null,null,null,null,null,null,null,null,{"$f":"INDEX($A:$O,ROW(),MATCH('Rapportage per vraag'!$C$12,'Data leveranciersbeoordeling'!$1:$1,0))","v":0},{"$f":"IFERROR(VLOOKUP(INDEX($A:$O,ROW(),MATCH('Rapportage per vraag'!$C$12,'Data leveranciersbeoordeling'!$1:$1,0)),Leveranciersbeoordeling!$H$1:$I$5,2,FALSE),0)","v":0},0]
["",null,null,null,null,null,null,null,null,null,null,null,null,null,null,{"$f":"INDEX($A:$O,ROW(),MATCH('Rapportage per vraag'!$C$12,'Data leveranciersbeoordeling'!$1:$1,0))","v":0},{"$f":"IFERROR(VLOOKUP(INDEX($A:$O,ROW(),MATCH('Rapportage per vraag'!$C$12,'Data leveranciersbeoordeling'!$1:$1,0)),Leveranciersbeoordeling!$H$1:$I$5,2,FALSE),0)","v":0},0]
["",null,null,null,null,null,null,null,null,null,null,null,null,null,null,{"$f":"INDEX($A:$O,ROW(),MATCH('Rapportage per vraag'!$C$12,'Data leveranciersbeoordeling'!$1:$1,0))","v":0},{"$f":"IFERROR(VLOOKUP(INDEX($A:$O,ROW(),MATCH('Rapportage per vraag'!$C$12,'Data leveranciersbeoordeling'!$1:$1,0)),Leveranciersbeoordeling!$H$1:$I$5,2,FALSE),0)","v":0},0]
["",null,null,null,null,null,null,null,null,null,null,null,null,null,null,{"$f":"INDEX($A:$O,ROW(),MATCH('Rapportage per vraag'!$C$12,'Data leveranciersbeoordeling'!$1:$1,0))","v":0},{"$f":"IFERROR(VLOOKUP(INDEX($A:$O,ROW(),MATCH('Rapportage per vraag'!$C$12,'Data leveranciersbeoordeling'!$1:$1,0)),Leveranciersbeoordeling!$H$1:$I$5,2,FALSE),0)","v":0},0]
["",null,null,null,null,null,null,null,null,null,null,null,null,null,null,{"$f":"INDEX($A:$O,ROW(),MATCH('Rapportage per vraag'!$C$12,'Data leveranciersbeoordeling'!$1:$1,0))","v":0},{"$f":"IFERROR(VLOOKUP(INDEX($A:$O,ROW(),MATCH('Rapportage per vraag'!$C$12,'Data leveranciersbeoordeling'!$1:$1,0)),Leveranciersbeoordeling!$H$1:$I$5,2,FALSE),0)","v":0},0]
["",null,null,null,null,null,null,null,null,null,null,null,null,null,null,{"$f":"INDEX($A:$O,ROW(),MATCH('Rapportage per vraag'!$C$12,'Data leveranciersbeoordeling'!$1:$1,0))","v":0},{"$f":"IFERROR(VLOOKUP(INDEX($A:$O,ROW(),MATCH('Rapportage per vraag'!$C$12,'Data leveranciersbeoordeling'!$1:$1,0)),Leveranciersbeoordeling!$H$1:$I$5,2,FALSE),0)","v":0},0]
["",null,null,null,null,null,null,null,null,null,null,null,null,null,null,{"$f":"INDEX($A:$O,ROW(),MATCH('Rapportage per vraag'!$C$12,'Data leveranciersbeoordeling'!$1:$1,0))","v":0},{"$f":"IFERROR(VLOOKUP(INDEX($A:$O,ROW(),MATCH('Rapportage per vraag'!$C$12,'Data leveranciersbeoordeling'!$1:$1,0)),Leveranciersbeoordeling!$H$1:$I$5,2,FALSE),0)","v":0},0]
["",null,null,null,null,null,null,null,null,null,null,null,null,null,null,{"$f":"INDEX($A:$O,ROW(),MATCH('Rapportage per vraag'!$C$12,'Data leveranciersbeoordeling'!$1:$1,0))","v":0},{"$f":"IFERROR(VLOOKUP(INDEX($A:$O,ROW(),MATCH('Rapportage per vraag'!$C$12,'Data leveranciersbeoordeling'!$1:$1,0)),Leveranciersbeoordeling!$H$1:$I$5,2,FALSE),0)","v":0},0]
["",null,null,null,null,null,null,null,null,null,null,null,null,null,null,{"$f":"INDEX($A:$O,ROW(),MATCH('Rapportage per vraag'!$C$12,'Data leveranciersbeoordeling'!$1:$1,0))","v":0},{"$f":"IFERROR(VLOOKUP(INDEX($A:$O,ROW(),MATCH('Rapportage per vraag'!$C$12,'Data leveranciersbeoordeling'!$1:$1,0)),Leveranciersbeoordeling!$H$1:$I$5,2,FALSE),0)","v":0},0]
["",null,null,null,null,null,null,null,null,null,null,null,null,null,null,{"$f":"INDEX($A:$O,ROW(),MATCH('Rapportage per vraag'!$C$12,'Data leveranciersbeoordeling'!$1:$1,0))","v":0},{"$f":"IFERROR(VLOOKUP(INDEX($A:$O,ROW(),MATCH('Rapportage per vraag'!$C$12,'Data leveranciersbeoordeling'!$1:$1,0)),Leveranciersbeoordeling!$H$1:$I$5,2,FALSE),0)","v":0},0]
["",null,null,null,null,null,null,null,null,null,null,null,null,null,null,{"$f":"INDEX($A:$O,ROW(),MATCH('Rapportage per vraag'!$C$12,'Data leveranciersbeoordeling'!$1:$1,0))","v":0},{"$f":"IFERROR(VLOOKUP(INDEX($A:$O,ROW(),MATCH('Rapportage per vraag'!$C$12,'Data leveranciersbeoordeling'!$1:$1,0)),Leveranciersbeoordeling!$H$1:$I$5,2,FALSE),0)","v":0},0]
["",null,null,null,null,null,null,null,null,null,null,null,null,null,null,{"$f":"INDEX($A:$O,ROW(),MATCH('Rapportage per vraag'!$C$12,'Data leveranciersbeoordeling'!$1:$1,0))","v":0},{"$f":"IFERROR(VLOOKUP(INDEX($A:$O,ROW(),MATCH('Rapportage per vraag'!$C$12,'Data leveranciersbeoordeling'!$1:$1,0)),Leveranciersbeoordeling!$H$1:$I$5,2,FALSE),0)","v":0},0]
["",null,null,null,null,null,null,null,null,null,null,null,null,null,null,{"$f":"INDEX($A:$O,ROW(),MATCH('Rapportage per vraag'!$C$12,'Data leveranciersbeoordeling'!$1:$1,0))","v":0},{"$f":"IFERROR(VLOOKUP(INDEX($A:$O,ROW(),MATCH('Rapportage per vraag'!$C$12,'Data leveranciersbeoordeling'!$1:$1,0)),Leveranciersbeoordeling!$H$1:$I$5,2,FALSE),0)","v":0},0]
["",null,null,null,null,null,null,null,null,null,null,null,null,null,null,{"$f":"INDEX($A:$O,ROW(),MATCH('Rapportage per vraag'!$C$12,'Data leveranciersbeoordeling'!$1:$1,0))","v":0},{"$f":"IFERROR(VLOOKUP(INDEX($A:$O,ROW(),MATCH('Rapportage per vraag'!$C$12,'Data leveranciersbeoordeling'!$1:$1,0)),Leveranciersbeoordeling!$H$1:$I$5,2,FALSE),0)","v":0},0]
["",null,null,null,null,null,null,null,null,null,null,null,null,null,null,{"$f":"INDEX($A:$O,ROW(),MATCH('Rapportage per vraag'!$C$12,'Data leveranciersbeoordeling'!$1:$1,0))","v":0},{"$f":"IFERROR(VLOOKUP(INDEX($A:$O,ROW(),MATCH('Rapportage per vraag'!$C$12,'Data leveranciersbeoordeling'!$1:$1,0)),Leveranciersbeoordeling!$H$1:$I$5,2,FALSE),0)","v":0},0]
["",null,null,null,null,null,null,null,null,null,null,null,null,null,null,{"$f":"INDEX($A:$O,ROW(),MATCH('Rapportage per vraag'!$C$12,'Data leveranciersbeoordeling'!$1:$1,0))","v":0},{"$f":"IFERROR(VLOOKUP(INDEX($A:$O,ROW(),MATCH('Rapportage per vraag'!$C$12,'Data leveranciersbeoordeling'!$1:$1,0)),Leveranciersbeoordeling!$H$1:$I$5,2,FALSE),0)","v":0},0]
["",null,null,null,null,null,null,null,null,null,null,null,null,null,null,{"$f":"INDEX($A:$O,ROW(),MATCH('Rapportage per vraag'!$C$12,'Data leveranciersbeoordeling'!$1:$1,0))","v":0},{"$f":"IFERROR(VLOOKUP(INDEX($A:$O,ROW(),MATCH('Rapportage per vraag'!$C$12,'Data leveranciersbeoordeling'!$1:$1,0)),Leveranciersbeoordeling!$H$1:$I$5,2,FALSE),0)","v":0},0]
["",null,null,null,null,null,null,null,null,null,null,null,null,null,null,{"$f":"INDEX($A:$O,ROW(),MATCH('Rapportage per vraag'!$C$12,'Data leveranciersbeoordeling'!$1:$1,0))","v":0},{"$f":"IFERROR(VLOOKUP(INDEX($A:$O,ROW(),MATCH('Rapportage per vraag'!$C$12,'Data leveranciersbeoordeling'!$1:$1,0)),Leveranciersbeoordeling!$H$1:$I$5,2,FALSE),0)","v":0},0]
["",null,null,null,null,null,null,null,null,null,null,null,null,null,null,{"$f":"INDEX($A:$O,ROW(),MATCH('Rapportage per vraag'!$C$12,'Data leveranciersbeoordeling'!$1:$1,0))","v":0},{"$f":"IFERROR(VLOOKUP(INDEX($A:$O,ROW(),MATCH('Rapportage per vraag'!$C$12,'Data leveranciersbeoordeling'!$1:$1,0)),Leveranciersbeoordeling!$H$1:$I$5,2,FALSE),0)","v":0},0]
["",null,null,null,null,null,null,null,null,null,null,null,null,null,null,{"$f":"INDEX($A:$O,ROW(),MATCH('Rapportage per vraag'!$C$12,'Data leveranciersbeoordeling'!$1:$1,0))","v":0},{"$f":"IFERROR(VLOOKUP(INDEX($A:$O,ROW(),MATCH('Rapportage per vraag'!$C$12,'Data leveranciersbeoordeling'!$1:$1,0)),Leveranciersbeoordeling!$H$1:$I$5,2,FALSE),0)","v":0},0]
["",null,null,null,null,null,null,null,null,null,null,null,null,null,null,{"$f":"INDEX($A:$O,ROW(),MATCH('Rapportage per vraag'!$C$12,'Data leveranciersbeoordeling'!$1:$1,0))","v":0},{"$f":"IFERROR(VLOOKUP(INDEX($A:$O,ROW(),MATCH('Rapportage per vraag'!$C$12,'Data leveranciersbeoordeling'!$1:$1,0)),Leveranciersbeoordeling!$H$1:$I$5,2,FALSE),0)","v":0},0]
["",null,null,null,null,null,null,null,null,null,null,null,null,null,null,{"$f":"INDEX($A:$O,ROW(),MATCH('Rapportage per vraag'!$C$12,'Data leveranciersbeoordeling'!$1:$1,0))","v":0},{"$f":"IFERROR(VLOOKUP(INDEX($A:$O,ROW(),MATCH('Rapportage per vraag'!$C$12,'Data leveranciersbeoordeling'!$1:$1,0)),Leveranciersbeoordeling!$H$1:$I$5,2,FALSE),0)","v":0},0]
["",null,null,null,null,null,null,null,null,null,null,null,null,null,null,{"$f":"INDEX($A:$O,ROW(),MATCH('Rapportage per vraag'!$C$12,'Data leveranciersbeoordeling'!$1:$1,0))","v":0},{"$f":"IFERROR(VLOOKUP(INDEX($A:$O,ROW(),MATCH('Rapportage per vraag'!$C$12,'Data leveranciersbeoordeling'!$1:$1,0)),Leveranciersbeoordeling!$H$1:$I$5,2,FALSE),0)","v":0},0]
["",null,null,null,null,null,null,null,null,null,null,null,null,null,null,{"$f":"INDEX($A:$O,ROW(),MATCH('Rapportage per vraag'!$C$12,'Data leveranciersbeoordeling'!$1:$1,0))","v":0},{"$f":"IFERROR(VLOOKUP(INDEX($A:$O,ROW(),MATCH('Rapportage per vraag'!$C$12,'Data leveranciersbeoordeling'!$1:$1,0)),Leveranciersbeoordeling!$H$1:$I$5,2,FALSE),0)","v":0},0]
["",null,null,null,null,null,null,null,null,null,null,null,null,null,null,{"$f":"INDEX($A:$O,ROW(),MATCH('Rapportage per vraag'!$C$12,'Data leveranciersbeoordeling'!$1:$1,0))","v":0},{"$f":"IFERROR(VLOOKUP(INDEX($A:$O,ROW(),MATCH('Rapportage per vraag'!$C$12,'Data leveranciersbeoordeling'!$1:$1,0)),Leveranciersbeoordeling!$H$1:$I$5,2,FALSE),0)","v":0},0]
["",null,null,null,null,null,null,null,null,null,null,null,null,null,null,{"$f":"INDEX($A:$O,ROW(),MATCH('Rapportage per vraag'!$C$12,'Data leveranciersbeoordeling'!$1:$1,0))","v":0},{"$f":"IFERROR(VLOOKUP(INDEX($A:$O,ROW(),MATCH('Rapportage per vraag'!$C$12,'Data leveranciersbeoordeling'!$1:$1,0)),Leveranciersbeoordeling!$H$1:$I$5,2,FALSE),0)","v":0},0]
["",null,null,null,null,null,null,null,null,null,null,null,null,null,null,{"$f":"INDEX($A:$O,ROW(),MATCH('Rapportage per vraag'!$C$12,'Data leveranciersbeoordeling'!$1:$1,0))","v":0},{"$f":"IFERROR(VLOOKUP(INDEX($A:$O,ROW(),MATCH('Rapportage per vraag'!$C$12,'Data leveranciersbeoordeling'!$1:$1,0)),Leveranciersbeoordeling!$H$1:$I$5,2,FALSE),0)","v":0},0]
["",null,null,null,null,null,null,null,null,null,null,null,null,null,null,{"$f":"INDEX($A:$O,ROW(),MATCH('Rapportage per vraag'!$C$12,'Data leveranciersbeoordeling'!$1:$1,0))","v":0},{"$f":"IFERROR(VLOOKUP(INDEX($A:$O,ROW(),MATCH('Rapportage per vraag'!$C$12,'Data leveranciersbeoordeling'!$1:$1,0)),Leveranciersbeoordeling!$H$1:$I$5,2,FALSE),0)","v":0},0]
["",null,null,null,null,null,null,null,null,null,null,null,null,null,null,{"$f":"INDEX($A:$O,ROW(),MATCH('Rapportage per vraag'!$C$12,'Data leveranciersbeoordeling'!$1:$1,0))","v":0},{"$f":"IFERROR(VLOOKUP(INDEX($A:$O,ROW(),MATCH('Rapportage per vraag'!$C$12,'Data leveranciersbeoordeling'!$1:$1,0)),Leveranciersbeoordeling!$H$1:$I$5,2,FALSE),0)","v":0},0]
["",null,null,null,null,null,null,null,null,null,null,null,null,null,null,{"$f":"INDEX($A:$O,ROW(),MATCH('Rapportage per vraag'!$C$12,'Data leveranciersbeoordeling'!$1:$1,0))","v":0},{"$f":"IFERROR(VLOOKUP(INDEX($A:$O,ROW(),MATCH('Rapportage per vraag'!$C$12,'Data leveranciersbeoordeling'!$1:$1,0)),Leveranciersbeoordeling!$H$1:$I$5,2,FALSE),0)","v":0},0]
["",null,null,null,null,null,null,null,null,null,null,null,null,null,null,{"$f":"INDEX($A:$O,ROW(),MATCH('Rapportage per vraag'!$C$12,'Data leveranciersbeoordeling'!$1:$1,0))","v":0},{"$f":"IFERROR(VLOOKUP(INDEX($A:$O,ROW(),MATCH('Rapportage per vraag'!$C$12,'Data leveranciersbeoordeling'!$1:$1,0)),Leveranciersbeoordeling!$H$1:$I$5,2,FALSE),0)","v":0},0]
["",null,null,null,null,null,null,null,null,null,null,null,null,null,null,{"$f":"INDEX($A:$O,ROW(),MATCH('Rapportage per vraag'!$C$12,'Data leveranciersbeoordeling'!$1:$1,0))","v":0},{"$f":"IFERROR(VLOOKUP(INDEX($A:$O,ROW(),MATCH('Rapportage per vraag'!$C$12,'Data leveranciersbeoordeling'!$1:$1,0)),Leveranciersbeoordeling!$H$1:$I$5,2,FALSE),0)","v":0},0]
["",null,null,null,null,null,null,null,null,null,null,null,null,null,null,{"$f":"INDEX($A:$O,ROW(),MATCH('Rapportage per vraag'!$C$12,'Data leveranciersbeoordeling'!$1:$1,0))","v":0},{"$f":"IFERROR(VLOOKUP(INDEX($A:$O,ROW(),MATCH('Rapportage per vraag'!$C$12,'Data leveranciersbeoordeling'!$1:$1,0)),Leveranciersbeoordeling!$H$1:$I$5,2,FALSE),0)","v":0},0]
["",null,null,null,null,null,null,null,null,null,null,null,null,null,null,{"$f":"INDEX($A:$O,ROW(),MATCH('Rapportage per vraag'!$C$12,'Data leveranciersbeoordeling'!$1:$1,0))","v":0},{"$f":"IFERROR(VLOOKUP(INDEX($A:$O,ROW(),MATCH('Rapportage per vraag'!$C$12,'Data leveranciersbeoordeling'!$1:$1,0)),Leveranciersbeoordeling!$H$1:$I$5,2,FALSE),0)","v":0},0]
["",null,null,null,null,null,null,null,null,null,null,null,null,null,null,{"$f":"INDEX($A:$O,ROW(),MATCH('Rapportage per vraag'!$C$12,'Data leveranciersbeoordeling'!$1:$1,0))","v":0},{"$f":"IFERROR(VLOOKUP(INDEX($A:$O,ROW(),MATCH('Rapportage per vraag'!$C$12,'Data leveranciersbeoordeling'!$1:$1,0)),Leveranciersbeoordeling!$H$1:$I$5,2,FALSE),0)","v":0},0]
["",null,null,null,null,null,null,null,null,null,null,null,null,null,null,{"$f":"INDEX($A:$O,ROW(),MATCH('Rapportage per vraag'!$C$12,'Data leveranciersbeoordeling'!$1:$1,0))","v":0},{"$f":"IFERROR(VLOOKUP(INDEX($A:$O,ROW(),MATCH('Rapportage per vraag'!$C$12,'Data leveranciersbeoordeling'!$1:$1,0)),Leveranciersbeoordeling!$H$1:$I$5,2,FALSE),0)","v":0},0]
["",null,null,null,null,null,null,null,null,null,null,null,null,null,null,{"$f":"INDEX($A:$O,ROW(),MATCH('Rapportage per vraag'!$C$12,'Data leveranciersbeoordeling'!$1:$1,0))","v":0},{"$f":"IFERROR(VLOOKUP(INDEX($A:$O,ROW(),MATCH('Rapportage per vraag'!$C$12,'Data leveranciersbeoordeling'!$1:$1,0)),Leveranciersbeoordeling!$H$1:$I$5,2,FALSE),0)","v":0},0]
["",null,null,null,null,null,null,null,null,null,null,null,null,null,null,{"$f":"INDEX($A:$O,ROW(),MATCH('Rapportage per vraag'!$C$12,'Data leveranciersbeoordeling'!$1:$1,0))","v":0},{"$f":"IFERROR(VLOOKUP(INDEX($A:$O,ROW(),MATCH('Rapportage per vraag'!$C$12,'Data leveranciersbeoordeling'!$1:$1,0)),Leveranciersbeoordeling!$H$1:$I$5,2,FALSE),0)","v":0},0]
["",null,null,null,null,null,null,null,null,null,null,null,null,null,null,{"$f":"INDEX($A:$O,ROW(),MATCH('Rapportage per vraag'!$C$12,'Data leveranciersbeoordeling'!$1:$1,0))","v":0},{"$f":"IFERROR(VLOOKUP(INDEX($A:$O,ROW(),MATCH('Rapportage per vraag'!$C$12,'Data leveranciersbeoordeling'!$1:$1,0)),Leveranciersbeoordeling!$H$1:$I$5,2,FALSE),0)","v":0},0]
["",null,null,null,null,null,null,null,null,null,null,null,null,null,null,{"$f":"INDEX($A:$O,ROW(),MATCH('Rapportage per vraag'!$C$12,'Data leveranciersbeoordeling'!$1:$1,0))","v":0},{"$f":"IFERROR(VLOOKUP(INDEX($A:$O,ROW(),MATCH('Rapportage per vraag'!$C$12,'Data leveranciersbeoordeling'!$1:$1,0)),Leveranciersbeoordeling!$H$1:$I$5,2,FALSE),0)","v":0},0]
["",null,null,null,null,null,null,null,null,null,null,null,null,null,null,{"$f":"INDEX($A:$O,ROW(),MATCH('Rapportage per vraag'!$C$12,'Data leveranciersbeoordeling'!$1:$1,0))","v":0},{"$f":"IFERROR(VLOOKUP(INDEX($A:$O,ROW(),MATCH('Rapportage per vraag'!$C$12,'Data leveranciersbeoordeling'!$1:$1,0)),Leveranciersbeoordeling!$H$1:$I$5,2,FALSE),0)","v":0},0]
["",null,null,null,null,null,null,null,null,null,null,null,null,null,null,{"$f":"INDEX($A:$O,ROW(),MATCH('Rapportage per vraag'!$C$12,'Data leveranciersbeoordeling'!$1:$1,0))","v":0},{"$f":"IFERROR(VLOOKUP(INDEX($A:$O,ROW(),MATCH('Rapportage per vraag'!$C$12,'Data leveranciersbeoordeling'!$1:$1,0)),Leveranciersbeoordeling!$H$1:$I$5,2,FALSE),0)","v":0},0]
["",null,null,null,null,null,null,null,null,null,null,null,null,null,null,{"$f":"INDEX($A:$O,ROW(),MATCH('Rapportage per vraag'!$C$12,'Data leveranciersbeoordeling'!$1:$1,0))","v":0},{"$f":"IFERROR(VLOOKUP(INDEX($A:$O,ROW(),MATCH('Rapportage per vraag'!$C$12,'Data leveranciersbeoordeling'!$1:$1,0)),Leveranciersbeoordeling!$H$1:$I$5,2,FALSE),0)","v":0},0]
["",null,null,null,null,null,null,null,null,null,null,null,null,null,null,{"$f":"INDEX($A:$O,ROW(),MATCH('Rapportage per vraag'!$C$12,'Data leveranciersbeoordeling'!$1:$1,0))","v":0},{"$f":"IFERROR(VLOOKUP(INDEX($A:$O,ROW(),MATCH('Rapportage per vraag'!$C$12,'Data leveranciersbeoordeling'!$1:$1,0)),Leveranciersbeoordeling!$H$1:$I$5,2,FALSE),0)","v":0},0]
["",null,null,null,null,null,null,null,null,null,null,null,null,null,null,{"$f":"INDEX($A:$O,ROW(),MATCH('Rapportage per vraag'!$C$12,'Data leveranciersbeoordeling'!$1:$1,0))","v":0},{"$f":"IFERROR(VLOOKUP(INDEX($A:$O,ROW(),MATCH('Rapportage per vraag'!$C$12,'Data leveranciersbeoordeling'!$1:$1,0)),Leveranciersbeoordeling!$H$1:$I$5,2,FALSE),0)","v":0},0]
[{"$f":"CONCATENATE(B9795,C9795,D9795)","v":""},null,null,null,null,null,null,null,null,null,null,null,null,null,null,{"$f":"INDEX($A:$O,ROW(),MATCH('Rapportage per vraag'!$C$12,'Data leveranciersbeoordeling'!$1:$1,0))","v":0},{"$f":"IFERROR(VLOOKUP(INDEX($A:$O,ROW(),MATCH('Rapportage per vraag'!$C$12,'Data leveranciersbeoordeling'!$1:$1,0)),Leveranciersbeoordeling!$H$1:$I$5,2,FALSE),0)","v":0},0]
["",null,null,null,null,null,null,null,null,null,null,null,null,null,null,{"$f":"INDEX($A:$O,ROW(),MATCH('Rapportage per vraag'!$C$12,'Data leveranciersbeoordeling'!$1:$1,0))","v":0},{"$f":"IFERROR(VLOOKUP(INDEX($A:$O,ROW(),MATCH('Rapportage per vraag'!$C$12,'Data leveranciersbeoordeling'!$1:$1,0)),Leveranciersbeoordeling!$H$1:$I$5,2,FALSE),0)","v":0},0]
["",null,null,null,null,null,null,null,null,null,null,null,null,null,null,{"$f":"INDEX($A:$O,ROW(),MATCH('Rapportage per vraag'!$C$12,'Data leveranciersbeoordeling'!$1:$1,0))","v":0},{"$f":"IFERROR(VLOOKUP(INDEX($A:$O,ROW(),MATCH('Rapportage per vraag'!$C$12,'Data leveranciersbeoordeling'!$1:$1,0)),Leveranciersbeoordeling!$H$1:$I$5,2,FALSE),0)","v":0},0]
["",null,null,null,null,null,null,null,null,null,null,null,null,null,null,{"$f":"INDEX($A:$O,ROW(),MATCH('Rapportage per vraag'!$C$12,'Data leveranciersbeoordeling'!$1:$1,0))","v":0},{"$f":"IFERROR(VLOOKUP(INDEX($A:$O,ROW(),MATCH('Rapportage per vraag'!$C$12,'Data leveranciersbeoordeling'!$1:$1,0)),Leveranciersbeoordeling!$H$1:$I$5,2,FALSE),0)","v":0},{"$f":"IF(T(P9798)=P9798,Q9798,P9798)","v":0}]
["",null,null,null,null,null,null,null,null,null,null,null,null,null,null,{"$f":"INDEX($A:$O,ROW(),MATCH('Rapportage per vraag'!$C$12,'Data leveranciersbeoordeling'!$1:$1,0))","v":0},{"$f":"IFERROR(VLOOKUP(INDEX($A:$O,ROW(),MATCH('Rapportage per vraag'!$C$12,'Data leveranciersbeoordeling'!$1:$1,0)),Leveranciersbeoordeling!$H$1:$I$5,2,FALSE),0)","v":0},0]
["",null,null,null,null,null,null,null,null,null,null,null,null,null,null,{"$f":"INDEX($A:$O,ROW(),MATCH('Rapportage per vraag'!$C$12,'Data leveranciersbeoordeling'!$1:$1,0))","v":0},{"$f":"IFERROR(VLOOKUP(INDEX($A:$O,ROW(),MATCH('Rapportage per vraag'!$C$12,'Data leveranciersbeoordeling'!$1:$1,0)),Leveranciersbeoordeling!$H$1:$I$5,2,FALSE),0)","v":0},0]
["",null,null,null,null,null,null,null,null,null,null,null,null,null,null,{"$f":"INDEX($A:$O,ROW(),MATCH('Rapportage per vraag'!$C$12,'Data leveranciersbeoordeling'!$1:$1,0))","v":0},{"$f":"IFERROR(VLOOKUP(INDEX($A:$O,ROW(),MATCH('Rapportage per vraag'!$C$12,'Data leveranciersbeoordeling'!$1:$1,0)),Leveranciersbeoordeling!$H$1:$I$5,2,FALSE),0)","v":0},0]
["",null,null,null,null,null,null,null,null,null,null,null,null,null,null,{"$f":"INDEX($A:$O,ROW(),MATCH('Rapportage per vraag'!$C$12,'Data leveranciersbeoordeling'!$1:$1,0))","v":0},{"$f":"IFERROR(VLOOKUP(INDEX($A:$O,ROW(),MATCH('Rapportage per vraag'!$C$12,'Data leveranciersbeoordeling'!$1:$1,0)),Leveranciersbeoordeling!$H$1:$I$5,2,FALSE),0)","v":0},0]
["",null,null,null,null,null,null,null,null,null,null,null,null,null,null,{"$f":"INDEX($A:$O,ROW(),MATCH('Rapportage per vraag'!$C$12,'Data leveranciersbeoordeling'!$1:$1,0))","v":0},{"$f":"IFERROR(VLOOKUP(INDEX($A:$O,ROW(),MATCH('Rapportage per vraag'!$C$12,'Data leveranciersbeoordeling'!$1:$1,0)),Leveranciersbeoordeling!$H$1:$I$5,2,FALSE),0)","v":0},0]
["",null,null,null,null,null,null,null,null,null,null,null,null,null,null,{"$f":"INDEX($A:$O,ROW(),MATCH('Rapportage per vraag'!$C$12,'Data leveranciersbeoordeling'!$1:$1,0))","v":0},{"$f":"IFERROR(VLOOKUP(INDEX($A:$O,ROW(),MATCH('Rapportage per vraag'!$C$12,'Data leveranciersbeoordeling'!$1:$1,0)),Leveranciersbeoordeling!$H$1:$I$5,2,FALSE),0)","v":0},0]
["",null,null,null,null,null,null,null,null,null,null,null,null,null,null,{"$f":"INDEX($A:$O,ROW(),MATCH('Rapportage per vraag'!$C$12,'Data leveranciersbeoordeling'!$1:$1,0))","v":0},{"$f":"IFERROR(VLOOKUP(INDEX($A:$O,ROW(),MATCH('Rapportage per vraag'!$C$12,'Data leveranciersbeoordeling'!$1:$1,0)),Leveranciersbeoordeling!$H$1:$I$5,2,FALSE),0)","v":0},0]
["",null,null,null,null,null,null,null,null,null,null,null,null,null,null,{"$f":"INDEX($A:$O,ROW(),MATCH('Rapportage per vraag'!$C$12,'Data leveranciersbeoordeling'!$1:$1,0))","v":0},{"$f":"IFERROR(VLOOKUP(INDEX($A:$O,ROW(),MATCH('Rapportage per vraag'!$C$12,'Data leveranciersbeoordeling'!$1:$1,0)),Leveranciersbeoordeling!$H$1:$I$5,2,FALSE),0)","v":0},0]
["",null,null,null,null,null,null,null,null,null,null,null,null,null,null,{"$f":"INDEX($A:$O,ROW(),MATCH('Rapportage per vraag'!$C$12,'Data leveranciersbeoordeling'!$1:$1,0))","v":0},{"$f":"IFERROR(VLOOKUP(INDEX($A:$O,ROW(),MATCH('Rapportage per vraag'!$C$12,'Data leveranciersbeoordeling'!$1:$1,0)),Leveranciersbeoordeling!$H$1:$I$5,2,FALSE),0)","v":0},0]
["",null,null,null,null,null,null,null,null,null,null,null,null,null,null,{"$f":"INDEX($A:$O,ROW(),MATCH('Rapportage per vraag'!$C$12,'Data leveranciersbeoordeling'!$1:$1,0))","v":0},{"$f":"IFERROR(VLOOKUP(INDEX($A:$O,ROW(),MATCH('Rapportage per vraag'!$C$12,'Data leveranciersbeoordeling'!$1:$1,0)),Leveranciersbeoordeling!$H$1:$I$5,2,FALSE),0)","v":0},0]
["",null,null,null,null,null,null,null,null,null,null,null,null,null,null,{"$f":"INDEX($A:$O,ROW(),MATCH('Rapportage per vraag'!$C$12,'Data leveranciersbeoordeling'!$1:$1,0))","v":0},{"$f":"IFERROR(VLOOKUP(INDEX($A:$O,ROW(),MATCH('Rapportage per vraag'!$C$12,'Data leveranciersbeoordeling'!$1:$1,0)),Leveranciersbeoordeling!$H$1:$I$5,2,FALSE),0)","v":0},0]
["",null,null,null,null,null,null,null,null,null,null,null,null,null,null,{"$f":"INDEX($A:$O,ROW(),MATCH('Rapportage per vraag'!$C$12,'Data leveranciersbeoordeling'!$1:$1,0))","v":0},{"$f":"IFERROR(VLOOKUP(INDEX($A:$O,ROW(),MATCH('Rapportage per vraag'!$C$12,'Data leveranciersbeoordeling'!$1:$1,0)),Leveranciersbeoordeling!$H$1:$I$5,2,FALSE),0)","v":0},0]
["",null,null,null,null,null,null,null,null,null,null,null,null,null,null,{"$f":"INDEX($A:$O,ROW(),MATCH('Rapportage per vraag'!$C$12,'Data leveranciersbeoordeling'!$1:$1,0))","v":0},{"$f":"IFERROR(VLOOKUP(INDEX($A:$O,ROW(),MATCH('Rapportage per vraag'!$C$12,'Data leveranciersbeoordeling'!$1:$1,0)),Leveranciersbeoordeling!$H$1:$I$5,2,FALSE),0)","v":0},0]
["",null,null,null,null,null,null,null,null,null,null,null,null,null,null,{"$f":"INDEX($A:$O,ROW(),MATCH('Rapportage per vraag'!$C$12,'Data leveranciersbeoordeling'!$1:$1,0))","v":0},{"$f":"IFERROR(VLOOKUP(INDEX($A:$O,ROW(),MATCH('Rapportage per vraag'!$C$12,'Data leveranciersbeoordeling'!$1:$1,0)),Leveranciersbeoordeling!$H$1:$I$5,2,FALSE),0)","v":0},0]
["",null,null,null,null,null,null,null,null,null,null,null,null,null,null,{"$f":"INDEX($A:$O,ROW(),MATCH('Rapportage per vraag'!$C$12,'Data leveranciersbeoordeling'!$1:$1,0))","v":0},{"$f":"IFERROR(VLOOKUP(INDEX($A:$O,ROW(),MATCH('Rapportage per vraag'!$C$12,'Data leveranciersbeoordeling'!$1:$1,0)),Leveranciersbeoordeling!$H$1:$I$5,2,FALSE),0)","v":0},0]
["",null,null,null,null,null,null,null,null,null,null,null,null,null,null,{"$f":"INDEX($A:$O,ROW(),MATCH('Rapportage per vraag'!$C$12,'Data leveranciersbeoordeling'!$1:$1,0))","v":0},{"$f":"IFERROR(VLOOKUP(INDEX($A:$O,ROW(),MATCH('Rapportage per vraag'!$C$12,'Data leveranciersbeoordeling'!$1:$1,0)),Leveranciersbeoordeling!$H$1:$I$5,2,FALSE),0)","v":0},0]
["",null,null,null,null,null,null,null,null,null,null,null,null,null,null,{"$f":"INDEX($A:$O,ROW(),MATCH('Rapportage per vraag'!$C$12,'Data leveranciersbeoordeling'!$1:$1,0))","v":0},{"$f":"IFERROR(VLOOKUP(INDEX($A:$O,ROW(),MATCH('Rapportage per vraag'!$C$12,'Data leveranciersbeoordeling'!$1:$1,0)),Leveranciersbeoordeling!$H$1:$I$5,2,FALSE),0)","v":0},0]
["",null,null,null,null,null,null,null,null,null,null,null,null,null,null,{"$f":"INDEX($A:$O,ROW(),MATCH('Rapportage per vraag'!$C$12,'Data leveranciersbeoordeling'!$1:$1,0))","v":0},{"$f":"IFERROR(VLOOKUP(INDEX($A:$O,ROW(),MATCH('Rapportage per vraag'!$C$12,'Data leveranciersbeoordeling'!$1:$1,0)),Leveranciersbeoordeling!$H$1:$I$5,2,FALSE),0)","v":0},0]
["",null,null,null,null,null,null,null,null,null,null,null,null,null,null,{"$f":"INDEX($A:$O,ROW(),MATCH('Rapportage per vraag'!$C$12,'Data leveranciersbeoordeling'!$1:$1,0))","v":0},{"$f":"IFERROR(VLOOKUP(INDEX($A:$O,ROW(),MATCH('Rapportage per vraag'!$C$12,'Data leveranciersbeoordeling'!$1:$1,0)),Leveranciersbeoordeling!$H$1:$I$5,2,FALSE),0)","v":0},0]
["",null,null,null,null,null,null,null,null,null,null,null,null,null,null,{"$f":"INDEX($A:$O,ROW(),MATCH('Rapportage per vraag'!$C$12,'Data leveranciersbeoordeling'!$1:$1,0))","v":0},{"$f":"IFERROR(VLOOKUP(INDEX($A:$O,ROW(),MATCH('Rapportage per vraag'!$C$12,'Data leveranciersbeoordeling'!$1:$1,0)),Leveranciersbeoordeling!$H$1:$I$5,2,FALSE),0)","v":0},0]
["",null,null,null,null,null,null,null,null,null,null,null,null,null,null,{"$f":"INDEX($A:$O,ROW(),MATCH('Rapportage per vraag'!$C$12,'Data leveranciersbeoordeling'!$1:$1,0))","v":0},{"$f":"IFERROR(VLOOKUP(INDEX($A:$O,ROW(),MATCH('Rapportage per vraag'!$C$12,'Data leveranciersbeoordeling'!$1:$1,0)),Leveranciersbeoordeling!$H$1:$I$5,2,FALSE),0)","v":0},0]
["",null,null,null,null,null,null,null,null,null,null,null,null,null,null,{"$f":"INDEX($A:$O,ROW(),MATCH('Rapportage per vraag'!$C$12,'Data leveranciersbeoordeling'!$1:$1,0))","v":0},{"$f":"IFERROR(VLOOKUP(INDEX($A:$O,ROW(),MATCH('Rapportage per vraag'!$C$12,'Data leveranciersbeoordeling'!$1:$1,0)),Leveranciersbeoordeling!$H$1:$I$5,2,FALSE),0)","v":0},0]
["",null,null,null,null,null,null,null,null,null,null,null,null,null,null,{"$f":"INDEX($A:$O,ROW(),MATCH('Rapportage per vraag'!$C$12,'Data leveranciersbeoordeling'!$1:$1,0))","v":0},{"$f":"IFERROR(VLOOKUP(INDEX($A:$O,ROW(),MATCH('Rapportage per vraag'!$C$12,'Data leveranciersbeoordeling'!$1:$1,0)),Leveranciersbeoordeling!$H$1:$I$5,2,FALSE),0)","v":0},0]
["",null,null,null,null,null,null,null,null,null,null,null,null,null,null,{"$f":"INDEX($A:$O,ROW(),MATCH('Rapportage per vraag'!$C$12,'Data leveranciersbeoordeling'!$1:$1,0))","v":0},{"$f":"IFERROR(VLOOKUP(INDEX($A:$O,ROW(),MATCH('Rapportage per vraag'!$C$12,'Data leveranciersbeoordeling'!$1:$1,0)),Leveranciersbeoordeling!$H$1:$I$5,2,FALSE),0)","v":0},0]
["",null,null,null,null,null,null,null,null,null,null,null,null,null,null,{"$f":"INDEX($A:$O,ROW(),MATCH('Rapportage per vraag'!$C$12,'Data leveranciersbeoordeling'!$1:$1,0))","v":0},{"$f":"IFERROR(VLOOKUP(INDEX($A:$O,ROW(),MATCH('Rapportage per vraag'!$C$12,'Data leveranciersbeoordeling'!$1:$1,0)),Leveranciersbeoordeling!$H$1:$I$5,2,FALSE),0)","v":0},0]
["",null,null,null,null,null,null,null,null,null,null,null,null,null,null,{"$f":"INDEX($A:$O,ROW(),MATCH('Rapportage per vraag'!$C$12,'Data leveranciersbeoordeling'!$1:$1,0))","v":0},{"$f":"IFERROR(VLOOKUP(INDEX($A:$O,ROW(),MATCH('Rapportage per vraag'!$C$12,'Data leveranciersbeoordeling'!$1:$1,0)),Leveranciersbeoordeling!$H$1:$I$5,2,FALSE),0)","v":0},0]
["",null,null,null,null,null,null,null,null,null,null,null,null,null,null,{"$f":"INDEX($A:$O,ROW(),MATCH('Rapportage per vraag'!$C$12,'Data leveranciersbeoordeling'!$1:$1,0))","v":0},{"$f":"IFERROR(VLOOKUP(INDEX($A:$O,ROW(),MATCH('Rapportage per vraag'!$C$12,'Data leveranciersbeoordeling'!$1:$1,0)),Leveranciersbeoordeling!$H$1:$I$5,2,FALSE),0)","v":0},0]
["",null,null,null,null,null,null,null,null,null,null,null,null,null,null,{"$f":"INDEX($A:$O,ROW(),MATCH('Rapportage per vraag'!$C$12,'Data leveranciersbeoordeling'!$1:$1,0))","v":0},{"$f":"IFERROR(VLOOKUP(INDEX($A:$O,ROW(),MATCH('Rapportage per vraag'!$C$12,'Data leveranciersbeoordeling'!$1:$1,0)),Leveranciersbeoordeling!$H$1:$I$5,2,FALSE),0)","v":0},0]
["",null,null,null,null,null,null,null,null,null,null,null,null,null,null,{"$f":"INDEX($A:$O,ROW(),MATCH('Rapportage per vraag'!$C$12,'Data leveranciersbeoordeling'!$1:$1,0))","v":0},{"$f":"IFERROR(VLOOKUP(INDEX($A:$O,ROW(),MATCH('Rapportage per vraag'!$C$12,'Data leveranciersbeoordeling'!$1:$1,0)),Leveranciersbeoordeling!$H$1:$I$5,2,FALSE),0)","v":0},0]
["",null,null,null,null,null,null,null,null,null,null,null,null,null,null,{"$f":"INDEX($A:$O,ROW(),MATCH('Rapportage per vraag'!$C$12,'Data leveranciersbeoordeling'!$1:$1,0))","v":0},{"$f":"IFERROR(VLOOKUP(INDEX($A:$O,ROW(),MATCH('Rapportage per vraag'!$C$12,'Data leveranciersbeoordeling'!$1:$1,0)),Leveranciersbeoordeling!$H$1:$I$5,2,FALSE),0)","v":0},0]
["",null,null,null,null,null,null,null,null,null,null,null,null,null,null,{"$f":"INDEX($A:$O,ROW(),MATCH('Rapportage per vraag'!$C$12,'Data leveranciersbeoordeling'!$1:$1,0))","v":0},{"$f":"IFERROR(VLOOKUP(INDEX($A:$O,ROW(),MATCH('Rapportage per vraag'!$C$12,'Data leveranciersbeoordeling'!$1:$1,0)),Leveranciersbeoordeling!$H$1:$I$5,2,FALSE),0)","v":0},0]
["",null,null,null,null,null,null,null,null,null,null,null,null,null,null,{"$f":"INDEX($A:$O,ROW(),MATCH('Rapportage per vraag'!$C$12,'Data leveranciersbeoordeling'!$1:$1,0))","v":0},{"$f":"IFERROR(VLOOKUP(INDEX($A:$O,ROW(),MATCH('Rapportage per vraag'!$C$12,'Data leveranciersbeoordeling'!$1:$1,0)),Leveranciersbeoordeling!$H$1:$I$5,2,FALSE),0)","v":0},0]
["",null,null,null,null,null,null,null,null,null,null,null,null,null,null,{"$f":"INDEX($A:$O,ROW(),MATCH('Rapportage per vraag'!$C$12,'Data leveranciersbeoordeling'!$1:$1,0))","v":0},{"$f":"IFERROR(VLOOKUP(INDEX($A:$O,ROW(),MATCH('Rapportage per vraag'!$C$12,'Data leveranciersbeoordeling'!$1:$1,0)),Leveranciersbeoordeling!$H$1:$I$5,2,FALSE),0)","v":0},0]
["",null,null,null,null,null,null,null,null,null,null,null,null,null,null,{"$f":"INDEX($A:$O,ROW(),MATCH('Rapportage per vraag'!$C$12,'Data leveranciersbeoordeling'!$1:$1,0))","v":0},{"$f":"IFERROR(VLOOKUP(INDEX($A:$O,ROW(),MATCH('Rapportage per vraag'!$C$12,'Data leveranciersbeoordeling'!$1:$1,0)),Leveranciersbeoordeling!$H$1:$I$5,2,FALSE),0)","v":0},0]
["",null,null,null,null,null,null,null,null,null,null,null,null,null,null,{"$f":"INDEX($A:$O,ROW(),MATCH('Rapportage per vraag'!$C$12,'Data leveranciersbeoordeling'!$1:$1,0))","v":0},{"$f":"IFERROR(VLOOKUP(INDEX($A:$O,ROW(),MATCH('Rapportage per vraag'!$C$12,'Data leveranciersbeoordeling'!$1:$1,0)),Leveranciersbeoordeling!$H$1:$I$5,2,FALSE),0)","v":0},0]
["",null,null,null,null,null,null,null,null,null,null,null,null,null,null,{"$f":"INDEX($A:$O,ROW(),MATCH('Rapportage per vraag'!$C$12,'Data leveranciersbeoordeling'!$1:$1,0))","v":0},{"$f":"IFERROR(VLOOKUP(INDEX($A:$O,ROW(),MATCH('Rapportage per vraag'!$C$12,'Data leveranciersbeoordeling'!$1:$1,0)),Leveranciersbeoordeling!$H$1:$I$5,2,FALSE),0)","v":0},0]
["",null,null,null,null,null,null,null,null,null,null,null,null,null,null,{"$f":"INDEX($A:$O,ROW(),MATCH('Rapportage per vraag'!$C$12,'Data leveranciersbeoordeling'!$1:$1,0))","v":0},{"$f":"IFERROR(VLOOKUP(INDEX($A:$O,ROW(),MATCH('Rapportage per vraag'!$C$12,'Data leveranciersbeoordeling'!$1:$1,0)),Leveranciersbeoordeling!$H$1:$I$5,2,FALSE),0)","v":0},0]
["",null,null,null,null,null,null,null,null,null,null,null,null,null,null,{"$f":"INDEX($A:$O,ROW(),MATCH('Rapportage per vraag'!$C$12,'Data leveranciersbeoordeling'!$1:$1,0))","v":0},{"$f":"IFERROR(VLOOKUP(INDEX($A:$O,ROW(),MATCH('Rapportage per vraag'!$C$12,'Data leveranciersbeoordeling'!$1:$1,0)),Leveranciersbeoordeling!$H$1:$I$5,2,FALSE),0)","v":0},0]
["",null,null,null,null,null,null,null,null,null,null,null,null,null,null,{"$f":"INDEX($A:$O,ROW(),MATCH('Rapportage per vraag'!$C$12,'Data leveranciersbeoordeling'!$1:$1,0))","v":0},{"$f":"IFERROR(VLOOKUP(INDEX($A:$O,ROW(),MATCH('Rapportage per vraag'!$C$12,'Data leveranciersbeoordeling'!$1:$1,0)),Leveranciersbeoordeling!$H$1:$I$5,2,FALSE),0)","v":0},0]
["",null,null,null,null,null,null,null,null,null,null,null,null,null,null,{"$f":"INDEX($A:$O,ROW(),MATCH('Rapportage per vraag'!$C$12,'Data leveranciersbeoordeling'!$1:$1,0))","v":0},{"$f":"IFERROR(VLOOKUP(INDEX($A:$O,ROW(),MATCH('Rapportage per vraag'!$C$12,'Data leveranciersbeoordeling'!$1:$1,0)),Leveranciersbeoordeling!$H$1:$I$5,2,FALSE),0)","v":0},0]
["",null,null,null,null,null,null,null,null,null,null,null,null,null,null,{"$f":"INDEX($A:$O,ROW(),MATCH('Rapportage per vraag'!$C$12,'Data leveranciersbeoordeling'!$1:$1,0))","v":0},{"$f":"IFERROR(VLOOKUP(INDEX($A:$O,ROW(),MATCH('Rapportage per vraag'!$C$12,'Data leveranciersbeoordeling'!$1:$1,0)),Leveranciersbeoordeling!$H$1:$I$5,2,FALSE),0)","v":0},0]
["",null,null,null,null,null,null,null,null,null,null,null,null,null,null,{"$f":"INDEX($A:$O,ROW(),MATCH('Rapportage per vraag'!$C$12,'Data leveranciersbeoordeling'!$1:$1,0))","v":0},{"$f":"IFERROR(VLOOKUP(INDEX($A:$O,ROW(),MATCH('Rapportage per vraag'!$C$12,'Data leveranciersbeoordeling'!$1:$1,0)),Leveranciersbeoordeling!$H$1:$I$5,2,FALSE),0)","v":0},0]
["",null,null,null,null,null,null,null,null,null,null,null,null,null,null,{"$f":"INDEX($A:$O,ROW(),MATCH('Rapportage per vraag'!$C$12,'Data leveranciersbeoordeling'!$1:$1,0))","v":0},{"$f":"IFERROR(VLOOKUP(INDEX($A:$O,ROW(),MATCH('Rapportage per vraag'!$C$12,'Data leveranciersbeoordeling'!$1:$1,0)),Leveranciersbeoordeling!$H$1:$I$5,2,FALSE),0)","v":0},0]
["",null,null,null,null,null,null,null,null,null,null,null,null,null,null,{"$f":"INDEX($A:$O,ROW(),MATCH('Rapportage per vraag'!$C$12,'Data leveranciersbeoordeling'!$1:$1,0))","v":0},{"$f":"IFERROR(VLOOKUP(INDEX($A:$O,ROW(),MATCH('Rapportage per vraag'!$C$12,'Data leveranciersbeoordeling'!$1:$1,0)),Leveranciersbeoordeling!$H$1:$I$5,2,FALSE),0)","v":0},0]
["",null,null,null,null,null,null,null,null,null,null,null,null,null,null,{"$f":"INDEX($A:$O,ROW(),MATCH('Rapportage per vraag'!$C$12,'Data leveranciersbeoordeling'!$1:$1,0))","v":0},{"$f":"IFERROR(VLOOKUP(INDEX($A:$O,ROW(),MATCH('Rapportage per vraag'!$C$12,'Data leveranciersbeoordeling'!$1:$1,0)),Leveranciersbeoordeling!$H$1:$I$5,2,FALSE),0)","v":0},0]
["",null,null,null,null,null,null,null,null,null,null,null,null,null,null,{"$f":"INDEX($A:$O,ROW(),MATCH('Rapportage per vraag'!$C$12,'Data leveranciersbeoordeling'!$1:$1,0))","v":0},{"$f":"IFERROR(VLOOKUP(INDEX($A:$O,ROW(),MATCH('Rapportage per vraag'!$C$12,'Data leveranciersbeoordeling'!$1:$1,0)),Leveranciersbeoordeling!$H$1:$I$5,2,FALSE),0)","v":0},0]
["",null,null,null,null,null,null,null,null,null,null,null,null,null,null,{"$f":"INDEX($A:$O,ROW(),MATCH('Rapportage per vraag'!$C$12,'Data leveranciersbeoordeling'!$1:$1,0))","v":0},{"$f":"IFERROR(VLOOKUP(INDEX($A:$O,ROW(),MATCH('Rapportage per vraag'!$C$12,'Data leveranciersbeoordeling'!$1:$1,0)),Leveranciersbeoordeling!$H$1:$I$5,2,FALSE),0)","v":0},0]
["",null,null,null,null,null,null,null,null,null,null,null,null,null,null,{"$f":"INDEX($A:$O,ROW(),MATCH('Rapportage per vraag'!$C$12,'Data leveranciersbeoordeling'!$1:$1,0))","v":0},{"$f":"IFERROR(VLOOKUP(INDEX($A:$O,ROW(),MATCH('Rapportage per vraag'!$C$12,'Data leveranciersbeoordeling'!$1:$1,0)),Leveranciersbeoordeling!$H$1:$I$5,2,FALSE),0)","v":0},0]
["",null,null,null,null,null,null,null,null,null,null,null,null,null,null,{"$f":"INDEX($A:$O,ROW(),MATCH('Rapportage per vraag'!$C$12,'Data leveranciersbeoordeling'!$1:$1,0))","v":0},{"$f":"IFERROR(VLOOKUP(INDEX($A:$O,ROW(),MATCH('Rapportage per vraag'!$C$12,'Data leveranciersbeoordeling'!$1:$1,0)),Leveranciersbeoordeling!$H$1:$I$5,2,FALSE),0)","v":0},0]
["",null,null,null,null,null,null,null,null,null,null,null,null,null,null,{"$f":"INDEX($A:$O,ROW(),MATCH('Rapportage per vraag'!$C$12,'Data leveranciersbeoordeling'!$1:$1,0))","v":0},{"$f":"IFERROR(VLOOKUP(INDEX($A:$O,ROW(),MATCH('Rapportage per vraag'!$C$12,'Data leveranciersbeoordeling'!$1:$1,0)),Leveranciersbeoordeling!$H$1:$I$5,2,FALSE),0)","v":0},0]
["",null,null,null,null,null,null,null,null,null,null,null,null,null,null,{"$f":"INDEX($A:$O,ROW(),MATCH('Rapportage per vraag'!$C$12,'Data leveranciersbeoordeling'!$1:$1,0))","v":0},{"$f":"IFERROR(VLOOKUP(INDEX($A:$O,ROW(),MATCH('Rapportage per vraag'!$C$12,'Data leveranciersbeoordeling'!$1:$1,0)),Leveranciersbeoordeling!$H$1:$I$5,2,FALSE),0)","v":0},0]
["",null,null,null,null,null,null,null,null,null,null,null,null,null,null,{"$f":"INDEX($A:$O,ROW(),MATCH('Rapportage per vraag'!$C$12,'Data leveranciersbeoordeling'!$1:$1,0))","v":0},{"$f":"IFERROR(VLOOKUP(INDEX($A:$O,ROW(),MATCH('Rapportage per vraag'!$C$12,'Data leveranciersbeoordeling'!$1:$1,0)),Leveranciersbeoordeling!$H$1:$I$5,2,FALSE),0)","v":0},0]
["",null,null,null,null,null,null,null,null,null,null,null,null,null,null,{"$f":"INDEX($A:$O,ROW(),MATCH('Rapportage per vraag'!$C$12,'Data leveranciersbeoordeling'!$1:$1,0))","v":0},{"$f":"IFERROR(VLOOKUP(INDEX($A:$O,ROW(),MATCH('Rapportage per vraag'!$C$12,'Data leveranciersbeoordeling'!$1:$1,0)),Leveranciersbeoordeling!$H$1:$I$5,2,FALSE),0)","v":0},0]
["",null,null,null,null,null,null,null,null,null,null,null,null,null,null,{"$f":"INDEX($A:$O,ROW(),MATCH('Rapportage per vraag'!$C$12,'Data leveranciersbeoordeling'!$1:$1,0))","v":0},{"$f":"IFERROR(VLOOKUP(INDEX($A:$O,ROW(),MATCH('Rapportage per vraag'!$C$12,'Data leveranciersbeoordeling'!$1:$1,0)),Leveranciersbeoordeling!$H$1:$I$5,2,FALSE),0)","v":0},0]
["",null,null,null,null,null,null,null,null,null,null,null,null,null,null,{"$f":"INDEX($A:$O,ROW(),MATCH('Rapportage per vraag'!$C$12,'Data leveranciersbeoordeling'!$1:$1,0))","v":0},{"$f":"IFERROR(VLOOKUP(INDEX($A:$O,ROW(),MATCH('Rapportage per vraag'!$C$12,'Data leveranciersbeoordeling'!$1:$1,0)),Leveranciersbeoordeling!$H$1:$I$5,2,FALSE),0)","v":0},0]
["",null,null,null,null,null,null,null,null,null,null,null,null,null,null,{"$f":"INDEX($A:$O,ROW(),MATCH('Rapportage per vraag'!$C$12,'Data leveranciersbeoordeling'!$1:$1,0))","v":0},{"$f":"IFERROR(VLOOKUP(INDEX($A:$O,ROW(),MATCH('Rapportage per vraag'!$C$12,'Data leveranciersbeoordeling'!$1:$1,0)),Leveranciersbeoordeling!$H$1:$I$5,2,FALSE),0)","v":0},0]
["",null,null,null,null,null,null,null,null,null,null,null,null,null,null,{"$f":"INDEX($A:$O,ROW(),MATCH('Rapportage per vraag'!$C$12,'Data leveranciersbeoordeling'!$1:$1,0))","v":0},{"$f":"IFERROR(VLOOKUP(INDEX($A:$O,ROW(),MATCH('Rapportage per vraag'!$C$12,'Data leveranciersbeoordeling'!$1:$1,0)),Leveranciersbeoordeling!$H$1:$I$5,2,FALSE),0)","v":0},0]
["",null,null,null,null,null,null,null,null,null,null,null,null,null,null,{"$f":"INDEX($A:$O,ROW(),MATCH('Rapportage per vraag'!$C$12,'Data leveranciersbeoordeling'!$1:$1,0))","v":0},{"$f":"IFERROR(VLOOKUP(INDEX($A:$O,ROW(),MATCH('Rapportage per vraag'!$C$12,'Data leveranciersbeoordeling'!$1:$1,0)),Leveranciersbeoordeling!$H$1:$I$5,2,FALSE),0)","v":0},0]
["",null,null,null,null,null,null,null,null,null,null,null,null,null,null,{"$f":"INDEX($A:$O,ROW(),MATCH('Rapportage per vraag'!$C$12,'Data leveranciersbeoordeling'!$1:$1,0))","v":0},{"$f":"IFERROR(VLOOKUP(INDEX($A:$O,ROW(),MATCH('Rapportage per vraag'!$C$12,'Data leveranciersbeoordeling'!$1:$1,0)),Leveranciersbeoordeling!$H$1:$I$5,2,FALSE),0)","v":0},0]
["",null,null,null,null,null,null,null,null,null,null,null,null,null,null,{"$f":"INDEX($A:$O,ROW(),MATCH('Rapportage per vraag'!$C$12,'Data leveranciersbeoordeling'!$1:$1,0))","v":0},{"$f":"IFERROR(VLOOKUP(INDEX($A:$O,ROW(),MATCH('Rapportage per vraag'!$C$12,'Data leveranciersbeoordeling'!$1:$1,0)),Leveranciersbeoordeling!$H$1:$I$5,2,FALSE),0)","v":0},0]
[{"$f":"CONCATENATE(B9859,C9859,D9859)","v":""},null,null,null,null,null,null,null,null,null,null,null,null,null,null,{"$f":"INDEX($A:$O,ROW(),MATCH('Rapportage per vraag'!$C$12,'Data leveranciersbeoordeling'!$1:$1,0))","v":0},{"$f":"IFERROR(VLOOKUP(INDEX($A:$O,ROW(),MATCH('Rapportage per vraag'!$C$12,'Data leveranciersbeoordeling'!$1:$1,0)),Leveranciersbeoordeling!$H$1:$I$5,2,FALSE),0)","v":0},0]
["",null,null,null,null,null,null,null,null,null,null,null,null,null,null,{"$f":"INDEX($A:$O,ROW(),MATCH('Rapportage per vraag'!$C$12,'Data leveranciersbeoordeling'!$1:$1,0))","v":0},{"$f":"IFERROR(VLOOKUP(INDEX($A:$O,ROW(),MATCH('Rapportage per vraag'!$C$12,'Data leveranciersbeoordeling'!$1:$1,0)),Leveranciersbeoordeling!$H$1:$I$5,2,FALSE),0)","v":0},0]
["",null,null,null,null,null,null,null,null,null,null,null,null,null,null,{"$f":"INDEX($A:$O,ROW(),MATCH('Rapportage per vraag'!$C$12,'Data leveranciersbeoordeling'!$1:$1,0))","v":0},{"$f":"IFERROR(VLOOKUP(INDEX($A:$O,ROW(),MATCH('Rapportage per vraag'!$C$12,'Data leveranciersbeoordeling'!$1:$1,0)),Leveranciersbeoordeling!$H$1:$I$5,2,FALSE),0)","v":0},0]
["",null,null,null,null,null,null,null,null,null,null,null,null,null,null,{"$f":"INDEX($A:$O,ROW(),MATCH('Rapportage per vraag'!$C$12,'Data leveranciersbeoordeling'!$1:$1,0))","v":0},{"$f":"IFERROR(VLOOKUP(INDEX($A:$O,ROW(),MATCH('Rapportage per vraag'!$C$12,'Data leveranciersbeoordeling'!$1:$1,0)),Leveranciersbeoordeling!$H$1:$I$5,2,FALSE),0)","v":0},{"$f":"IF(T(P9862)=P9862,Q9862,P9862)","v":0}]
["",null,null,null,null,null,null,null,null,null,null,null,null,null,null,{"$f":"INDEX($A:$O,ROW(),MATCH('Rapportage per vraag'!$C$12,'Data leveranciersbeoordeling'!$1:$1,0))","v":0},{"$f":"IFERROR(VLOOKUP(INDEX($A:$O,ROW(),MATCH('Rapportage per vraag'!$C$12,'Data leveranciersbeoordeling'!$1:$1,0)),Leveranciersbeoordeling!$H$1:$I$5,2,FALSE),0)","v":0},0]
["",null,null,null,null,null,null,null,null,null,null,null,null,null,null,{"$f":"INDEX($A:$O,ROW(),MATCH('Rapportage per vraag'!$C$12,'Data leveranciersbeoordeling'!$1:$1,0))","v":0},{"$f":"IFERROR(VLOOKUP(INDEX($A:$O,ROW(),MATCH('Rapportage per vraag'!$C$12,'Data leveranciersbeoordeling'!$1:$1,0)),Leveranciersbeoordeling!$H$1:$I$5,2,FALSE),0)","v":0},0]
["",null,null,null,null,null,null,null,null,null,null,null,null,null,null,{"$f":"INDEX($A:$O,ROW(),MATCH('Rapportage per vraag'!$C$12,'Data leveranciersbeoordeling'!$1:$1,0))","v":0},{"$f":"IFERROR(VLOOKUP(INDEX($A:$O,ROW(),MATCH('Rapportage per vraag'!$C$12,'Data leveranciersbeoordeling'!$1:$1,0)),Leveranciersbeoordeling!$H$1:$I$5,2,FALSE),0)","v":0},0]
["",null,null,null,null,null,null,null,null,null,null,null,null,null,null,{"$f":"INDEX($A:$O,ROW(),MATCH('Rapportage per vraag'!$C$12,'Data leveranciersbeoordeling'!$1:$1,0))","v":0},{"$f":"IFERROR(VLOOKUP(INDEX($A:$O,ROW(),MATCH('Rapportage per vraag'!$C$12,'Data leveranciersbeoordeling'!$1:$1,0)),Leveranciersbeoordeling!$H$1:$I$5,2,FALSE),0)","v":0},0]
["",null,null,null,null,null,null,null,null,null,null,null,null,null,null,{"$f":"INDEX($A:$O,ROW(),MATCH('Rapportage per vraag'!$C$12,'Data leveranciersbeoordeling'!$1:$1,0))","v":0},{"$f":"IFERROR(VLOOKUP(INDEX($A:$O,ROW(),MATCH('Rapportage per vraag'!$C$12,'Data leveranciersbeoordeling'!$1:$1,0)),Leveranciersbeoordeling!$H$1:$I$5,2,FALSE),0)","v":0},0]
["",null,null,null,null,null,null,null,null,null,null,null,null,null,null,{"$f":"INDEX($A:$O,ROW(),MATCH('Rapportage per vraag'!$C$12,'Data leveranciersbeoordeling'!$1:$1,0))","v":0},{"$f":"IFERROR(VLOOKUP(INDEX($A:$O,ROW(),MATCH('Rapportage per vraag'!$C$12,'Data leveranciersbeoordeling'!$1:$1,0)),Leveranciersbeoordeling!$H$1:$I$5,2,FALSE),0)","v":0},0]
["",null,null,null,null,null,null,null,null,null,null,null,null,null,null,{"$f":"INDEX($A:$O,ROW(),MATCH('Rapportage per vraag'!$C$12,'Data leveranciersbeoordeling'!$1:$1,0))","v":0},{"$f":"IFERROR(VLOOKUP(INDEX($A:$O,ROW(),MATCH('Rapportage per vraag'!$C$12,'Data leveranciersbeoordeling'!$1:$1,0)),Leveranciersbeoordeling!$H$1:$I$5,2,FALSE),0)","v":0},0]
["",null,null,null,null,null,null,null,null,null,null,null,null,null,null,{"$f":"INDEX($A:$O,ROW(),MATCH('Rapportage per vraag'!$C$12,'Data leveranciersbeoordeling'!$1:$1,0))","v":0},{"$f":"IFERROR(VLOOKUP(INDEX($A:$O,ROW(),MATCH('Rapportage per vraag'!$C$12,'Data leveranciersbeoordeling'!$1:$1,0)),Leveranciersbeoordeling!$H$1:$I$5,2,FALSE),0)","v":0},0]
["",null,null,null,null,null,null,null,null,null,null,null,null,null,null,{"$f":"INDEX($A:$O,ROW(),MATCH('Rapportage per vraag'!$C$12,'Data leveranciersbeoordeling'!$1:$1,0))","v":0},{"$f":"IFERROR(VLOOKUP(INDEX($A:$O,ROW(),MATCH('Rapportage per vraag'!$C$12,'Data leveranciersbeoordeling'!$1:$1,0)),Leveranciersbeoordeling!$H$1:$I$5,2,FALSE),0)","v":0},0]
["",null,null,null,null,null,null,null,null,null,null,null,null,null,null,{"$f":"INDEX($A:$O,ROW(),MATCH('Rapportage per vraag'!$C$12,'Data leveranciersbeoordeling'!$1:$1,0))","v":0},{"$f":"IFERROR(VLOOKUP(INDEX($A:$O,ROW(),MATCH('Rapportage per vraag'!$C$12,'Data leveranciersbeoordeling'!$1:$1,0)),Leveranciersbeoordeling!$H$1:$I$5,2,FALSE),0)","v":0},0]
["",null,null,null,null,null,null,null,null,null,null,null,null,null,null,{"$f":"INDEX($A:$O,ROW(),MATCH('Rapportage per vraag'!$C$12,'Data leveranciersbeoordeling'!$1:$1,0))","v":0},{"$f":"IFERROR(VLOOKUP(INDEX($A:$O,ROW(),MATCH('Rapportage per vraag'!$C$12,'Data leveranciersbeoordeling'!$1:$1,0)),Leveranciersbeoordeling!$H$1:$I$5,2,FALSE),0)","v":0},0]
["",null,null,null,null,null,null,null,null,null,null,null,null,null,null,{"$f":"INDEX($A:$O,ROW(),MATCH('Rapportage per vraag'!$C$12,'Data leveranciersbeoordeling'!$1:$1,0))","v":0},{"$f":"IFERROR(VLOOKUP(INDEX($A:$O,ROW(),MATCH('Rapportage per vraag'!$C$12,'Data leveranciersbeoordeling'!$1:$1,0)),Leveranciersbeoordeling!$H$1:$I$5,2,FALSE),0)","v":0},0]
["",null,null,null,null,null,null,null,null,null,null,null,null,null,null,{"$f":"INDEX($A:$O,ROW(),MATCH('Rapportage per vraag'!$C$12,'Data leveranciersbeoordeling'!$1:$1,0))","v":0},{"$f":"IFERROR(VLOOKUP(INDEX($A:$O,ROW(),MATCH('Rapportage per vraag'!$C$12,'Data leveranciersbeoordeling'!$1:$1,0)),Leveranciersbeoordeling!$H$1:$I$5,2,FALSE),0)","v":0},0]
["",null,null,null,null,null,null,null,null,null,null,null,null,null,null,{"$f":"INDEX($A:$O,ROW(),MATCH('Rapportage per vraag'!$C$12,'Data leveranciersbeoordeling'!$1:$1,0))","v":0},{"$f":"IFERROR(VLOOKUP(INDEX($A:$O,ROW(),MATCH('Rapportage per vraag'!$C$12,'Data leveranciersbeoordeling'!$1:$1,0)),Leveranciersbeoordeling!$H$1:$I$5,2,FALSE),0)","v":0},0]
["",null,null,null,null,null,null,null,null,null,null,null,null,null,null,{"$f":"INDEX($A:$O,ROW(),MATCH('Rapportage per vraag'!$C$12,'Data leveranciersbeoordeling'!$1:$1,0))","v":0},{"$f":"IFERROR(VLOOKUP(INDEX($A:$O,ROW(),MATCH('Rapportage per vraag'!$C$12,'Data leveranciersbeoordeling'!$1:$1,0)),Leveranciersbeoordeling!$H$1:$I$5,2,FALSE),0)","v":0},0]
["",null,null,null,null,null,null,null,null,null,null,null,null,null,null,{"$f":"INDEX($A:$O,ROW(),MATCH('Rapportage per vraag'!$C$12,'Data leveranciersbeoordeling'!$1:$1,0))","v":0},{"$f":"IFERROR(VLOOKUP(INDEX($A:$O,ROW(),MATCH('Rapportage per vraag'!$C$12,'Data leveranciersbeoordeling'!$1:$1,0)),Leveranciersbeoordeling!$H$1:$I$5,2,FALSE),0)","v":0},0]
["",null,null,null,null,null,null,null,null,null,null,null,null,null,null,{"$f":"INDEX($A:$O,ROW(),MATCH('Rapportage per vraag'!$C$12,'Data leveranciersbeoordeling'!$1:$1,0))","v":0},{"$f":"IFERROR(VLOOKUP(INDEX($A:$O,ROW(),MATCH('Rapportage per vraag'!$C$12,'Data leveranciersbeoordeling'!$1:$1,0)),Leveranciersbeoordeling!$H$1:$I$5,2,FALSE),0)","v":0},0]
["",null,null,null,null,null,null,null,null,null,null,null,null,null,null,{"$f":"INDEX($A:$O,ROW(),MATCH('Rapportage per vraag'!$C$12,'Data leveranciersbeoordeling'!$1:$1,0))","v":0},{"$f":"IFERROR(VLOOKUP(INDEX($A:$O,ROW(),MATCH('Rapportage per vraag'!$C$12,'Data leveranciersbeoordeling'!$1:$1,0)),Leveranciersbeoordeling!$H$1:$I$5,2,FALSE),0)","v":0},0]
["",null,null,null,null,null,null,null,null,null,null,null,null,null,null,{"$f":"INDEX($A:$O,ROW(),MATCH('Rapportage per vraag'!$C$12,'Data leveranciersbeoordeling'!$1:$1,0))","v":0},{"$f":"IFERROR(VLOOKUP(INDEX($A:$O,ROW(),MATCH('Rapportage per vraag'!$C$12,'Data leveranciersbeoordeling'!$1:$1,0)),Leveranciersbeoordeling!$H$1:$I$5,2,FALSE),0)","v":0},0]
["",null,null,null,null,null,null,null,null,null,null,null,null,null,null,{"$f":"INDEX($A:$O,ROW(),MATCH('Rapportage per vraag'!$C$12,'Data leveranciersbeoordeling'!$1:$1,0))","v":0},{"$f":"IFERROR(VLOOKUP(INDEX($A:$O,ROW(),MATCH('Rapportage per vraag'!$C$12,'Data leveranciersbeoordeling'!$1:$1,0)),Leveranciersbeoordeling!$H$1:$I$5,2,FALSE),0)","v":0},0]
["",null,null,null,null,null,null,null,null,null,null,null,null,null,null,{"$f":"INDEX($A:$O,ROW(),MATCH('Rapportage per vraag'!$C$12,'Data leveranciersbeoordeling'!$1:$1,0))","v":0},{"$f":"IFERROR(VLOOKUP(INDEX($A:$O,ROW(),MATCH('Rapportage per vraag'!$C$12,'Data leveranciersbeoordeling'!$1:$1,0)),Leveranciersbeoordeling!$H$1:$I$5,2,FALSE),0)","v":0},0]
["",null,null,null,null,null,null,null,null,null,null,null,null,null,null,{"$f":"INDEX($A:$O,ROW(),MATCH('Rapportage per vraag'!$C$12,'Data leveranciersbeoordeling'!$1:$1,0))","v":0},{"$f":"IFERROR(VLOOKUP(INDEX($A:$O,ROW(),MATCH('Rapportage per vraag'!$C$12,'Data leveranciersbeoordeling'!$1:$1,0)),Leveranciersbeoordeling!$H$1:$I$5,2,FALSE),0)","v":0},0]
["",null,null,null,null,null,null,null,null,null,null,null,null,null,null,{"$f":"INDEX($A:$O,ROW(),MATCH('Rapportage per vraag'!$C$12,'Data leveranciersbeoordeling'!$1:$1,0))","v":0},{"$f":"IFERROR(VLOOKUP(INDEX($A:$O,ROW(),MATCH('Rapportage per vraag'!$C$12,'Data leveranciersbeoordeling'!$1:$1,0)),Leveranciersbeoordeling!$H$1:$I$5,2,FALSE),0)","v":0},0]
["",null,null,null,null,null,null,null,null,null,null,null,null,null,null,{"$f":"INDEX($A:$O,ROW(),MATCH('Rapportage per vraag'!$C$12,'Data leveranciersbeoordeling'!$1:$1,0))","v":0},{"$f":"IFERROR(VLOOKUP(INDEX($A:$O,ROW(),MATCH('Rapportage per vraag'!$C$12,'Data leveranciersbeoordeling'!$1:$1,0)),Leveranciersbeoordeling!$H$1:$I$5,2,FALSE),0)","v":0},0]
["",null,null,null,null,null,null,null,null,null,null,null,null,null,null,{"$f":"INDEX($A:$O,ROW(),MATCH('Rapportage per vraag'!$C$12,'Data leveranciersbeoordeling'!$1:$1,0))","v":0},{"$f":"IFERROR(VLOOKUP(INDEX($A:$O,ROW(),MATCH('Rapportage per vraag'!$C$12,'Data leveranciersbeoordeling'!$1:$1,0)),Leveranciersbeoordeling!$H$1:$I$5,2,FALSE),0)","v":0},0]
["",null,null,null,null,null,null,null,null,null,null,null,null,null,null,{"$f":"INDEX($A:$O,ROW(),MATCH('Rapportage per vraag'!$C$12,'Data leveranciersbeoordeling'!$1:$1,0))","v":0},{"$f":"IFERROR(VLOOKUP(INDEX($A:$O,ROW(),MATCH('Rapportage per vraag'!$C$12,'Data leveranciersbeoordeling'!$1:$1,0)),Leveranciersbeoordeling!$H$1:$I$5,2,FALSE),0)","v":0},0]
["",null,null,null,null,null,null,null,null,null,null,null,null,null,null,{"$f":"INDEX($A:$O,ROW(),MATCH('Rapportage per vraag'!$C$12,'Data leveranciersbeoordeling'!$1:$1,0))","v":0},{"$f":"IFERROR(VLOOKUP(INDEX($A:$O,ROW(),MATCH('Rapportage per vraag'!$C$12,'Data leveranciersbeoordeling'!$1:$1,0)),Leveranciersbeoordeling!$H$1:$I$5,2,FALSE),0)","v":0},0]
["",null,null,null,null,null,null,null,null,null,null,null,null,null,null,{"$f":"INDEX($A:$O,ROW(),MATCH('Rapportage per vraag'!$C$12,'Data leveranciersbeoordeling'!$1:$1,0))","v":0},{"$f":"IFERROR(VLOOKUP(INDEX($A:$O,ROW(),MATCH('Rapportage per vraag'!$C$12,'Data leveranciersbeoordeling'!$1:$1,0)),Leveranciersbeoordeling!$H$1:$I$5,2,FALSE),0)","v":0},0]
["",null,null,null,null,null,null,null,null,null,null,null,null,null,null,{"$f":"INDEX($A:$O,ROW(),MATCH('Rapportage per vraag'!$C$12,'Data leveranciersbeoordeling'!$1:$1,0))","v":0},{"$f":"IFERROR(VLOOKUP(INDEX($A:$O,ROW(),MATCH('Rapportage per vraag'!$C$12,'Data leveranciersbeoordeling'!$1:$1,0)),Leveranciersbeoordeling!$H$1:$I$5,2,FALSE),0)","v":0},0]
["",null,null,null,null,null,null,null,null,null,null,null,null,null,null,{"$f":"INDEX($A:$O,ROW(),MATCH('Rapportage per vraag'!$C$12,'Data leveranciersbeoordeling'!$1:$1,0))","v":0},{"$f":"IFERROR(VLOOKUP(INDEX($A:$O,ROW(),MATCH('Rapportage per vraag'!$C$12,'Data leveranciersbeoordeling'!$1:$1,0)),Leveranciersbeoordeling!$H$1:$I$5,2,FALSE),0)","v":0},0]
["",null,null,null,null,null,null,null,null,null,null,null,null,null,null,{"$f":"INDEX($A:$O,ROW(),MATCH('Rapportage per vraag'!$C$12,'Data leveranciersbeoordeling'!$1:$1,0))","v":0},{"$f":"IFERROR(VLOOKUP(INDEX($A:$O,ROW(),MATCH('Rapportage per vraag'!$C$12,'Data leveranciersbeoordeling'!$1:$1,0)),Leveranciersbeoordeling!$H$1:$I$5,2,FALSE),0)","v":0},0]
["",null,null,null,null,null,null,null,null,null,null,null,null,null,null,{"$f":"INDEX($A:$O,ROW(),MATCH('Rapportage per vraag'!$C$12,'Data leveranciersbeoordeling'!$1:$1,0))","v":0},{"$f":"IFERROR(VLOOKUP(INDEX($A:$O,ROW(),MATCH('Rapportage per vraag'!$C$12,'Data leveranciersbeoordeling'!$1:$1,0)),Leveranciersbeoordeling!$H$1:$I$5,2,FALSE),0)","v":0},0]
["",null,null,null,null,null,null,null,null,null,null,null,null,null,null,{"$f":"INDEX($A:$O,ROW(),MATCH('Rapportage per vraag'!$C$12,'Data leveranciersbeoordeling'!$1:$1,0))","v":0},{"$f":"IFERROR(VLOOKUP(INDEX($A:$O,ROW(),MATCH('Rapportage per vraag'!$C$12,'Data leveranciersbeoordeling'!$1:$1,0)),Leveranciersbeoordeling!$H$1:$I$5,2,FALSE),0)","v":0},0]
["",null,null,null,null,null,null,null,null,null,null,null,null,null,null,{"$f":"INDEX($A:$O,ROW(),MATCH('Rapportage per vraag'!$C$12,'Data leveranciersbeoordeling'!$1:$1,0))","v":0},{"$f":"IFERROR(VLOOKUP(INDEX($A:$O,ROW(),MATCH('Rapportage per vraag'!$C$12,'Data leveranciersbeoordeling'!$1:$1,0)),Leveranciersbeoordeling!$H$1:$I$5,2,FALSE),0)","v":0},0]
["",null,null,null,null,null,null,null,null,null,null,null,null,null,null,{"$f":"INDEX($A:$O,ROW(),MATCH('Rapportage per vraag'!$C$12,'Data leveranciersbeoordeling'!$1:$1,0))","v":0},{"$f":"IFERROR(VLOOKUP(INDEX($A:$O,ROW(),MATCH('Rapportage per vraag'!$C$12,'Data leveranciersbeoordeling'!$1:$1,0)),Leveranciersbeoordeling!$H$1:$I$5,2,FALSE),0)","v":0},0]
["",null,null,null,null,null,null,null,null,null,null,null,null,null,null,{"$f":"INDEX($A:$O,ROW(),MATCH('Rapportage per vraag'!$C$12,'Data leveranciersbeoordeling'!$1:$1,0))","v":0},{"$f":"IFERROR(VLOOKUP(INDEX($A:$O,ROW(),MATCH('Rapportage per vraag'!$C$12,'Data leveranciersbeoordeling'!$1:$1,0)),Leveranciersbeoordeling!$H$1:$I$5,2,FALSE),0)","v":0},0]
["",null,null,null,null,null,null,null,null,null,null,null,null,null,null,{"$f":"INDEX($A:$O,ROW(),MATCH('Rapportage per vraag'!$C$12,'Data leveranciersbeoordeling'!$1:$1,0))","v":0},{"$f":"IFERROR(VLOOKUP(INDEX($A:$O,ROW(),MATCH('Rapportage per vraag'!$C$12,'Data leveranciersbeoordeling'!$1:$1,0)),Leveranciersbeoordeling!$H$1:$I$5,2,FALSE),0)","v":0},0]
["",null,null,null,null,null,null,null,null,null,null,null,null,null,null,{"$f":"INDEX($A:$O,ROW(),MATCH('Rapportage per vraag'!$C$12,'Data leveranciersbeoordeling'!$1:$1,0))","v":0},{"$f":"IFERROR(VLOOKUP(INDEX($A:$O,ROW(),MATCH('Rapportage per vraag'!$C$12,'Data leveranciersbeoordeling'!$1:$1,0)),Leveranciersbeoordeling!$H$1:$I$5,2,FALSE),0)","v":0},0]
["",null,null,null,null,null,null,null,null,null,null,null,null,null,null,{"$f":"INDEX($A:$O,ROW(),MATCH('Rapportage per vraag'!$C$12,'Data leveranciersbeoordeling'!$1:$1,0))","v":0},{"$f":"IFERROR(VLOOKUP(INDEX($A:$O,ROW(),MATCH('Rapportage per vraag'!$C$12,'Data leveranciersbeoordeling'!$1:$1,0)),Leveranciersbeoordeling!$H$1:$I$5,2,FALSE),0)","v":0},0]
["",null,null,null,null,null,null,null,null,null,null,null,null,null,null,{"$f":"INDEX($A:$O,ROW(),MATCH('Rapportage per vraag'!$C$12,'Data leveranciersbeoordeling'!$1:$1,0))","v":0},{"$f":"IFERROR(VLOOKUP(INDEX($A:$O,ROW(),MATCH('Rapportage per vraag'!$C$12,'Data leveranciersbeoordeling'!$1:$1,0)),Leveranciersbeoordeling!$H$1:$I$5,2,FALSE),0)","v":0},0]
["",null,null,null,null,null,null,null,null,null,null,null,null,null,null,{"$f":"INDEX($A:$O,ROW(),MATCH('Rapportage per vraag'!$C$12,'Data leveranciersbeoordeling'!$1:$1,0))","v":0},{"$f":"IFERROR(VLOOKUP(INDEX($A:$O,ROW(),MATCH('Rapportage per vraag'!$C$12,'Data leveranciersbeoordeling'!$1:$1,0)),Leveranciersbeoordeling!$H$1:$I$5,2,FALSE),0)","v":0},0]
["",null,null,null,null,null,null,null,null,null,null,null,null,null,null,{"$f":"INDEX($A:$O,ROW(),MATCH('Rapportage per vraag'!$C$12,'Data leveranciersbeoordeling'!$1:$1,0))","v":0},{"$f":"IFERROR(VLOOKUP(INDEX($A:$O,ROW(),MATCH('Rapportage per vraag'!$C$12,'Data leveranciersbeoordeling'!$1:$1,0)),Leveranciersbeoordeling!$H$1:$I$5,2,FALSE),0)","v":0},0]
["",null,null,null,null,null,null,null,null,null,null,null,null,null,null,{"$f":"INDEX($A:$O,ROW(),MATCH('Rapportage per vraag'!$C$12,'Data leveranciersbeoordeling'!$1:$1,0))","v":0},{"$f":"IFERROR(VLOOKUP(INDEX($A:$O,ROW(),MATCH('Rapportage per vraag'!$C$12,'Data leveranciersbeoordeling'!$1:$1,0)),Leveranciersbeoordeling!$H$1:$I$5,2,FALSE),0)","v":0},0]
["",null,null,null,null,null,null,null,null,null,null,null,null,null,null,{"$f":"INDEX($A:$O,ROW(),MATCH('Rapportage per vraag'!$C$12,'Data leveranciersbeoordeling'!$1:$1,0))","v":0},{"$f":"IFERROR(VLOOKUP(INDEX($A:$O,ROW(),MATCH('Rapportage per vraag'!$C$12,'Data leveranciersbeoordeling'!$1:$1,0)),Leveranciersbeoordeling!$H$1:$I$5,2,FALSE),0)","v":0},0]
["",null,null,null,null,null,null,null,null,null,null,null,null,null,null,{"$f":"INDEX($A:$O,ROW(),MATCH('Rapportage per vraag'!$C$12,'Data leveranciersbeoordeling'!$1:$1,0))","v":0},{"$f":"IFERROR(VLOOKUP(INDEX($A:$O,ROW(),MATCH('Rapportage per vraag'!$C$12,'Data leveranciersbeoordeling'!$1:$1,0)),Leveranciersbeoordeling!$H$1:$I$5,2,FALSE),0)","v":0},0]
["",null,null,null,null,null,null,null,null,null,null,null,null,null,null,{"$f":"INDEX($A:$O,ROW(),MATCH('Rapportage per vraag'!$C$12,'Data leveranciersbeoordeling'!$1:$1,0))","v":0},{"$f":"IFERROR(VLOOKUP(INDEX($A:$O,ROW(),MATCH('Rapportage per vraag'!$C$12,'Data leveranciersbeoordeling'!$1:$1,0)),Leveranciersbeoordeling!$H$1:$I$5,2,FALSE),0)","v":0},0]
["",null,null,null,null,null,null,null,null,null,null,null,null,null,null,{"$f":"INDEX($A:$O,ROW(),MATCH('Rapportage per vraag'!$C$12,'Data leveranciersbeoordeling'!$1:$1,0))","v":0},{"$f":"IFERROR(VLOOKUP(INDEX($A:$O,ROW(),MATCH('Rapportage per vraag'!$C$12,'Data leveranciersbeoordeling'!$1:$1,0)),Leveranciersbeoordeling!$H$1:$I$5,2,FALSE),0)","v":0},0]
["",null,null,null,null,null,null,null,null,null,null,null,null,null,null,{"$f":"INDEX($A:$O,ROW(),MATCH('Rapportage per vraag'!$C$12,'Data leveranciersbeoordeling'!$1:$1,0))","v":0},{"$f":"IFERROR(VLOOKUP(INDEX($A:$O,ROW(),MATCH('Rapportage per vraag'!$C$12,'Data leveranciersbeoordeling'!$1:$1,0)),Leveranciersbeoordeling!$H$1:$I$5,2,FALSE),0)","v":0},0]
["",null,null,null,null,null,null,null,null,null,null,null,null,null,null,{"$f":"INDEX($A:$O,ROW(),MATCH('Rapportage per vraag'!$C$12,'Data leveranciersbeoordeling'!$1:$1,0))","v":0},{"$f":"IFERROR(VLOOKUP(INDEX($A:$O,ROW(),MATCH('Rapportage per vraag'!$C$12,'Data leveranciersbeoordeling'!$1:$1,0)),Leveranciersbeoordeling!$H$1:$I$5,2,FALSE),0)","v":0},0]
["",null,null,null,null,null,null,null,null,null,null,null,null,null,null,{"$f":"INDEX($A:$O,ROW(),MATCH('Rapportage per vraag'!$C$12,'Data leveranciersbeoordeling'!$1:$1,0))","v":0},{"$f":"IFERROR(VLOOKUP(INDEX($A:$O,ROW(),MATCH('Rapportage per vraag'!$C$12,'Data leveranciersbeoordeling'!$1:$1,0)),Leveranciersbeoordeling!$H$1:$I$5,2,FALSE),0)","v":0},0]
["",null,null,null,null,null,null,null,null,null,null,null,null,null,null,{"$f":"INDEX($A:$O,ROW(),MATCH('Rapportage per vraag'!$C$12,'Data leveranciersbeoordeling'!$1:$1,0))","v":0},{"$f":"IFERROR(VLOOKUP(INDEX($A:$O,ROW(),MATCH('Rapportage per vraag'!$C$12,'Data leveranciersbeoordeling'!$1:$1,0)),Leveranciersbeoordeling!$H$1:$I$5,2,FALSE),0)","v":0},0]
["",null,null,null,null,null,null,null,null,null,null,null,null,null,null,{"$f":"INDEX($A:$O,ROW(),MATCH('Rapportage per vraag'!$C$12,'Data leveranciersbeoordeling'!$1:$1,0))","v":0},{"$f":"IFERROR(VLOOKUP(INDEX($A:$O,ROW(),MATCH('Rapportage per vraag'!$C$12,'Data leveranciersbeoordeling'!$1:$1,0)),Leveranciersbeoordeling!$H$1:$I$5,2,FALSE),0)","v":0},0]
["",null,null,null,null,null,null,null,null,null,null,null,null,null,null,{"$f":"INDEX($A:$O,ROW(),MATCH('Rapportage per vraag'!$C$12,'Data leveranciersbeoordeling'!$1:$1,0))","v":0},{"$f":"IFERROR(VLOOKUP(INDEX($A:$O,ROW(),MATCH('Rapportage per vraag'!$C$12,'Data leveranciersbeoordeling'!$1:$1,0)),Leveranciersbeoordeling!$H$1:$I$5,2,FALSE),0)","v":0},0]
["",null,null,null,null,null,null,null,null,null,null,null,null,null,null,{"$f":"INDEX($A:$O,ROW(),MATCH('Rapportage per vraag'!$C$12,'Data leveranciersbeoordeling'!$1:$1,0))","v":0},{"$f":"IFERROR(VLOOKUP(INDEX($A:$O,ROW(),MATCH('Rapportage per vraag'!$C$12,'Data leveranciersbeoordeling'!$1:$1,0)),Leveranciersbeoordeling!$H$1:$I$5,2,FALSE),0)","v":0},0]
["",null,null,null,null,null,null,null,null,null,null,null,null,null,null,{"$f":"INDEX($A:$O,ROW(),MATCH('Rapportage per vraag'!$C$12,'Data leveranciersbeoordeling'!$1:$1,0))","v":0},{"$f":"IFERROR(VLOOKUP(INDEX($A:$O,ROW(),MATCH('Rapportage per vraag'!$C$12,'Data leveranciersbeoordeling'!$1:$1,0)),Leveranciersbeoordeling!$H$1:$I$5,2,FALSE),0)","v":0},0]
["",null,null,null,null,null,null,null,null,null,null,null,null,null,null,{"$f":"INDEX($A:$O,ROW(),MATCH('Rapportage per vraag'!$C$12,'Data leveranciersbeoordeling'!$1:$1,0))","v":0},{"$f":"IFERROR(VLOOKUP(INDEX($A:$O,ROW(),MATCH('Rapportage per vraag'!$C$12,'Data leveranciersbeoordeling'!$1:$1,0)),Leveranciersbeoordeling!$H$1:$I$5,2,FALSE),0)","v":0},0]
["",null,null,null,null,null,null,null,null,null,null,null,null,null,null,{"$f":"INDEX($A:$O,ROW(),MATCH('Rapportage per vraag'!$C$12,'Data leveranciersbeoordeling'!$1:$1,0))","v":0},{"$f":"IFERROR(VLOOKUP(INDEX($A:$O,ROW(),MATCH('Rapportage per vraag'!$C$12,'Data leveranciersbeoordeling'!$1:$1,0)),Leveranciersbeoordeling!$H$1:$I$5,2,FALSE),0)","v":0},0]
["",null,null,null,null,null,null,null,null,null,null,null,null,null,null,{"$f":"INDEX($A:$O,ROW(),MATCH('Rapportage per vraag'!$C$12,'Data leveranciersbeoordeling'!$1:$1,0))","v":0},{"$f":"IFERROR(VLOOKUP(INDEX($A:$O,ROW(),MATCH('Rapportage per vraag'!$C$12,'Data leveranciersbeoordeling'!$1:$1,0)),Leveranciersbeoordeling!$H$1:$I$5,2,FALSE),0)","v":0},0]
["",null,null,null,null,null,null,null,null,null,null,null,null,null,null,{"$f":"INDEX($A:$O,ROW(),MATCH('Rapportage per vraag'!$C$12,'Data leveranciersbeoordeling'!$1:$1,0))","v":0},{"$f":"IFERROR(VLOOKUP(INDEX($A:$O,ROW(),MATCH('Rapportage per vraag'!$C$12,'Data leveranciersbeoordeling'!$1:$1,0)),Leveranciersbeoordeling!$H$1:$I$5,2,FALSE),0)","v":0},0]
["",null,null,null,null,null,null,null,null,null,null,null,null,null,null,{"$f":"INDEX($A:$O,ROW(),MATCH('Rapportage per vraag'!$C$12,'Data leveranciersbeoordeling'!$1:$1,0))","v":0},{"$f":"IFERROR(VLOOKUP(INDEX($A:$O,ROW(),MATCH('Rapportage per vraag'!$C$12,'Data leveranciersbeoordeling'!$1:$1,0)),Leveranciersbeoordeling!$H$1:$I$5,2,FALSE),0)","v":0},0]
[{"$f":"CONCATENATE(B9923,C9923,D9923)","v":""},null,null,null,null,null,null,null,null,null,null,null,null,null,null,{"$f":"INDEX($A:$O,ROW(),MATCH('Rapportage per vraag'!$C$12,'Data leveranciersbeoordeling'!$1:$1,0))","v":0},{"$f":"IFERROR(VLOOKUP(INDEX($A:$O,ROW(),MATCH('Rapportage per vraag'!$C$12,'Data leveranciersbeoordeling'!$1:$1,0)),Leveranciersbeoordeling!$H$1:$I$5,2,FALSE),0)","v":0},0]
["",null,null,null,null,null,null,null,null,null,null,null,null,null,null,{"$f":"INDEX($A:$O,ROW(),MATCH('Rapportage per vraag'!$C$12,'Data leveranciersbeoordeling'!$1:$1,0))","v":0},{"$f":"IFERROR(VLOOKUP(INDEX($A:$O,ROW(),MATCH('Rapportage per vraag'!$C$12,'Data leveranciersbeoordeling'!$1:$1,0)),Leveranciersbeoordeling!$H$1:$I$5,2,FALSE),0)","v":0},0]
["",null,null,null,null,null,null,null,null,null,null,null,null,null,null,{"$f":"INDEX($A:$O,ROW(),MATCH('Rapportage per vraag'!$C$12,'Data leveranciersbeoordeling'!$1:$1,0))","v":0},{"$f":"IFERROR(VLOOKUP(INDEX($A:$O,ROW(),MATCH('Rapportage per vraag'!$C$12,'Data leveranciersbeoordeling'!$1:$1,0)),Leveranciersbeoordeling!$H$1:$I$5,2,FALSE),0)","v":0},0]
["",null,null,null,null,null,null,null,null,null,null,null,null,null,null,{"$f":"INDEX($A:$O,ROW(),MATCH('Rapportage per vraag'!$C$12,'Data leveranciersbeoordeling'!$1:$1,0))","v":0},{"$f":"IFERROR(VLOOKUP(INDEX($A:$O,ROW(),MATCH('Rapportage per vraag'!$C$12,'Data leveranciersbeoordeling'!$1:$1,0)),Leveranciersbeoordeling!$H$1:$I$5,2,FALSE),0)","v":0},{"$f":"IF(T(P9926)=P9926,Q9926,P9926)","v":0}]
["",null,null,null,null,null,null,null,null,null,null,null,null,null,null,{"$f":"INDEX($A:$O,ROW(),MATCH('Rapportage per vraag'!$C$12,'Data leveranciersbeoordeling'!$1:$1,0))","v":0},{"$f":"IFERROR(VLOOKUP(INDEX($A:$O,ROW(),MATCH('Rapportage per vraag'!$C$12,'Data leveranciersbeoordeling'!$1:$1,0)),Leveranciersbeoordeling!$H$1:$I$5,2,FALSE),0)","v":0},0]
["",null,null,null,null,null,null,null,null,null,null,null,null,null,null,{"$f":"INDEX($A:$O,ROW(),MATCH('Rapportage per vraag'!$C$12,'Data leveranciersbeoordeling'!$1:$1,0))","v":0},{"$f":"IFERROR(VLOOKUP(INDEX($A:$O,ROW(),MATCH('Rapportage per vraag'!$C$12,'Data leveranciersbeoordeling'!$1:$1,0)),Leveranciersbeoordeling!$H$1:$I$5,2,FALSE),0)","v":0},0]
["",null,null,null,null,null,null,null,null,null,null,null,null,null,null,{"$f":"INDEX($A:$O,ROW(),MATCH('Rapportage per vraag'!$C$12,'Data leveranciersbeoordeling'!$1:$1,0))","v":0},{"$f":"IFERROR(VLOOKUP(INDEX($A:$O,ROW(),MATCH('Rapportage per vraag'!$C$12,'Data leveranciersbeoordeling'!$1:$1,0)),Leveranciersbeoordeling!$H$1:$I$5,2,FALSE),0)","v":0},0]
["",null,null,null,null,null,null,null,null,null,null,null,null,null,null,{"$f":"INDEX($A:$O,ROW(),MATCH('Rapportage per vraag'!$C$12,'Data leveranciersbeoordeling'!$1:$1,0))","v":0},{"$f":"IFERROR(VLOOKUP(INDEX($A:$O,ROW(),MATCH('Rapportage per vraag'!$C$12,'Data leveranciersbeoordeling'!$1:$1,0)),Leveranciersbeoordeling!$H$1:$I$5,2,FALSE),0)","v":0},0]
["",null,null,null,null,null,null,null,null,null,null,null,null,null,null,{"$f":"INDEX($A:$O,ROW(),MATCH('Rapportage per vraag'!$C$12,'Data leveranciersbeoordeling'!$1:$1,0))","v":0},{"$f":"IFERROR(VLOOKUP(INDEX($A:$O,ROW(),MATCH('Rapportage per vraag'!$C$12,'Data leveranciersbeoordeling'!$1:$1,0)),Leveranciersbeoordeling!$H$1:$I$5,2,FALSE),0)","v":0},0]
["",null,null,null,null,null,null,null,null,null,null,null,null,null,null,{"$f":"INDEX($A:$O,ROW(),MATCH('Rapportage per vraag'!$C$12,'Data leveranciersbeoordeling'!$1:$1,0))","v":0},{"$f":"IFERROR(VLOOKUP(INDEX($A:$O,ROW(),MATCH('Rapportage per vraag'!$C$12,'Data leveranciersbeoordeling'!$1:$1,0)),Leveranciersbeoordeling!$H$1:$I$5,2,FALSE),0)","v":0},0]
["",null,null,null,null,null,null,null,null,null,null,null,null,null,null,{"$f":"INDEX($A:$O,ROW(),MATCH('Rapportage per vraag'!$C$12,'Data leveranciersbeoordeling'!$1:$1,0))","v":0},{"$f":"IFERROR(VLOOKUP(INDEX($A:$O,ROW(),MATCH('Rapportage per vraag'!$C$12,'Data leveranciersbeoordeling'!$1:$1,0)),Leveranciersbeoordeling!$H$1:$I$5,2,FALSE),0)","v":0},0]
["",null,null,null,null,null,null,null,null,null,null,null,null,null,null,{"$f":"INDEX($A:$O,ROW(),MATCH('Rapportage per vraag'!$C$12,'Data leveranciersbeoordeling'!$1:$1,0))","v":0},{"$f":"IFERROR(VLOOKUP(INDEX($A:$O,ROW(),MATCH('Rapportage per vraag'!$C$12,'Data leveranciersbeoordeling'!$1:$1,0)),Leveranciersbeoordeling!$H$1:$I$5,2,FALSE),0)","v":0},0]
["",null,null,null,null,null,null,null,null,null,null,null,null,null,null,{"$f":"INDEX($A:$O,ROW(),MATCH('Rapportage per vraag'!$C$12,'Data leveranciersbeoordeling'!$1:$1,0))","v":0},{"$f":"IFERROR(VLOOKUP(INDEX($A:$O,ROW(),MATCH('Rapportage per vraag'!$C$12,'Data leveranciersbeoordeling'!$1:$1,0)),Leveranciersbeoordeling!$H$1:$I$5,2,FALSE),0)","v":0},0]
["",null,null,null,null,null,null,null,null,null,null,null,null,null,null,{"$f":"INDEX($A:$O,ROW(),MATCH('Rapportage per vraag'!$C$12,'Data leveranciersbeoordeling'!$1:$1,0))","v":0},{"$f":"IFERROR(VLOOKUP(INDEX($A:$O,ROW(),MATCH('Rapportage per vraag'!$C$12,'Data leveranciersbeoordeling'!$1:$1,0)),Leveranciersbeoordeling!$H$1:$I$5,2,FALSE),0)","v":0},0]
["",null,null,null,null,null,null,null,null,null,null,null,null,null,null,{"$f":"INDEX($A:$O,ROW(),MATCH('Rapportage per vraag'!$C$12,'Data leveranciersbeoordeling'!$1:$1,0))","v":0},{"$f":"IFERROR(VLOOKUP(INDEX($A:$O,ROW(),MATCH('Rapportage per vraag'!$C$12,'Data leveranciersbeoordeling'!$1:$1,0)),Leveranciersbeoordeling!$H$1:$I$5,2,FALSE),0)","v":0},0]
["",null,null,null,null,null,null,null,null,null,null,null,null,null,null,{"$f":"INDEX($A:$O,ROW(),MATCH('Rapportage per vraag'!$C$12,'Data leveranciersbeoordeling'!$1:$1,0))","v":0},{"$f":"IFERROR(VLOOKUP(INDEX($A:$O,ROW(),MATCH('Rapportage per vraag'!$C$12,'Data leveranciersbeoordeling'!$1:$1,0)),Leveranciersbeoordeling!$H$1:$I$5,2,FALSE),0)","v":0},0]
["",null,null,null,null,null,null,null,null,null,null,null,null,null,null,{"$f":"INDEX($A:$O,ROW(),MATCH('Rapportage per vraag'!$C$12,'Data leveranciersbeoordeling'!$1:$1,0))","v":0},{"$f":"IFERROR(VLOOKUP(INDEX($A:$O,ROW(),MATCH('Rapportage per vraag'!$C$12,'Data leveranciersbeoordeling'!$1:$1,0)),Leveranciersbeoordeling!$H$1:$I$5,2,FALSE),0)","v":0},0]
["",null,null,null,null,null,null,null,null,null,null,null,null,null,null,{"$f":"INDEX($A:$O,ROW(),MATCH('Rapportage per vraag'!$C$12,'Data leveranciersbeoordeling'!$1:$1,0))","v":0},{"$f":"IFERROR(VLOOKUP(INDEX($A:$O,ROW(),MATCH('Rapportage per vraag'!$C$12,'Data leveranciersbeoordeling'!$1:$1,0)),Leveranciersbeoordeling!$H$1:$I$5,2,FALSE),0)","v":0},0]
["",null,null,null,null,null,null,null,null,null,null,null,null,null,null,{"$f":"INDEX($A:$O,ROW(),MATCH('Rapportage per vraag'!$C$12,'Data leveranciersbeoordeling'!$1:$1,0))","v":0},{"$f":"IFERROR(VLOOKUP(INDEX($A:$O,ROW(),MATCH('Rapportage per vraag'!$C$12,'Data leveranciersbeoordeling'!$1:$1,0)),Leveranciersbeoordeling!$H$1:$I$5,2,FALSE),0)","v":0},0]
["",null,null,null,null,null,null,null,null,null,null,null,null,null,null,{"$f":"INDEX($A:$O,ROW(),MATCH('Rapportage per vraag'!$C$12,'Data leveranciersbeoordeling'!$1:$1,0))","v":0},{"$f":"IFERROR(VLOOKUP(INDEX($A:$O,ROW(),MATCH('Rapportage per vraag'!$C$12,'Data leveranciersbeoordeling'!$1:$1,0)),Leveranciersbeoordeling!$H$1:$I$5,2,FALSE),0)","v":0},0]
["",null,null,null,null,null,null,null,null,null,null,null,null,null,null,{"$f":"INDEX($A:$O,ROW(),MATCH('Rapportage per vraag'!$C$12,'Data leveranciersbeoordeling'!$1:$1,0))","v":0},{"$f":"IFERROR(VLOOKUP(INDEX($A:$O,ROW(),MATCH('Rapportage per vraag'!$C$12,'Data leveranciersbeoordeling'!$1:$1,0)),Leveranciersbeoordeling!$H$1:$I$5,2,FALSE),0)","v":0},0]
["",null,null,null,null,null,null,null,null,null,null,null,null,null,null,{"$f":"INDEX($A:$O,ROW(),MATCH('Rapportage per vraag'!$C$12,'Data leveranciersbeoordeling'!$1:$1,0))","v":0},{"$f":"IFERROR(VLOOKUP(INDEX($A:$O,ROW(),MATCH('Rapportage per vraag'!$C$12,'Data leveranciersbeoordeling'!$1:$1,0)),Leveranciersbeoordeling!$H$1:$I$5,2,FALSE),0)","v":0},0]
["",null,null,null,null,null,null,null,null,null,null,null,null,null,null,{"$f":"INDEX($A:$O,ROW(),MATCH('Rapportage per vraag'!$C$12,'Data leveranciersbeoordeling'!$1:$1,0))","v":0},{"$f":"IFERROR(VLOOKUP(INDEX($A:$O,ROW(),MATCH('Rapportage per vraag'!$C$12,'Data leveranciersbeoordeling'!$1:$1,0)),Leveranciersbeoordeling!$H$1:$I$5,2,FALSE),0)","v":0},0]
["",null,null,null,null,null,null,null,null,null,null,null,null,null,null,{"$f":"INDEX($A:$O,ROW(),MATCH('Rapportage per vraag'!$C$12,'Data leveranciersbeoordeling'!$1:$1,0))","v":0},{"$f":"IFERROR(VLOOKUP(INDEX($A:$O,ROW(),MATCH('Rapportage per vraag'!$C$12,'Data leveranciersbeoordeling'!$1:$1,0)),Leveranciersbeoordeling!$H$1:$I$5,2,FALSE),0)","v":0},0]
["",null,null,null,null,null,null,null,null,null,null,null,null,null,null,{"$f":"INDEX($A:$O,ROW(),MATCH('Rapportage per vraag'!$C$12,'Data leveranciersbeoordeling'!$1:$1,0))","v":0},{"$f":"IFERROR(VLOOKUP(INDEX($A:$O,ROW(),MATCH('Rapportage per vraag'!$C$12,'Data leveranciersbeoordeling'!$1:$1,0)),Leveranciersbeoordeling!$H$1:$I$5,2,FALSE),0)","v":0},0]
["",null,null,null,null,null,null,null,null,null,null,null,null,null,null,{"$f":"INDEX($A:$O,ROW(),MATCH('Rapportage per vraag'!$C$12,'Data leveranciersbeoordeling'!$1:$1,0))","v":0},{"$f":"IFERROR(VLOOKUP(INDEX($A:$O,ROW(),MATCH('Rapportage per vraag'!$C$12,'Data leveranciersbeoordeling'!$1:$1,0)),Leveranciersbeoordeling!$H$1:$I$5,2,FALSE),0)","v":0},0]
["",null,null,null,null,null,null,null,null,null,null,null,null,null,null,{"$f":"INDEX($A:$O,ROW(),MATCH('Rapportage per vraag'!$C$12,'Data leveranciersbeoordeling'!$1:$1,0))","v":0},{"$f":"IFERROR(VLOOKUP(INDEX($A:$O,ROW(),MATCH('Rapportage per vraag'!$C$12,'Data leveranciersbeoordeling'!$1:$1,0)),Leveranciersbeoordeling!$H$1:$I$5,2,FALSE),0)","v":0},0]
["",null,null,null,null,null,null,null,null,null,null,null,null,null,null,{"$f":"INDEX($A:$O,ROW(),MATCH('Rapportage per vraag'!$C$12,'Data leveranciersbeoordeling'!$1:$1,0))","v":0},{"$f":"IFERROR(VLOOKUP(INDEX($A:$O,ROW(),MATCH('Rapportage per vraag'!$C$12,'Data leveranciersbeoordeling'!$1:$1,0)),Leveranciersbeoordeling!$H$1:$I$5,2,FALSE),0)","v":0},0]
["",null,null,null,null,null,null,null,null,null,null,null,null,null,null,{"$f":"INDEX($A:$O,ROW(),MATCH('Rapportage per vraag'!$C$12,'Data leveranciersbeoordeling'!$1:$1,0))","v":0},{"$f":"IFERROR(VLOOKUP(INDEX($A:$O,ROW(),MATCH('Rapportage per vraag'!$C$12,'Data leveranciersbeoordeling'!$1:$1,0)),Leveranciersbeoordeling!$H$1:$I$5,2,FALSE),0)","v":0},0]
["",null,null,null,null,null,null,null,null,null,null,null,null,null,null,{"$f":"INDEX($A:$O,ROW(),MATCH('Rapportage per vraag'!$C$12,'Data leveranciersbeoordeling'!$1:$1,0))","v":0},{"$f":"IFERROR(VLOOKUP(INDEX($A:$O,ROW(),MATCH('Rapportage per vraag'!$C$12,'Data leveranciersbeoordeling'!$1:$1,0)),Leveranciersbeoordeling!$H$1:$I$5,2,FALSE),0)","v":0},0]
["",null,null,null,null,null,null,null,null,null,null,null,null,null,null,{"$f":"INDEX($A:$O,ROW(),MATCH('Rapportage per vraag'!$C$12,'Data leveranciersbeoordeling'!$1:$1,0))","v":0},{"$f":"IFERROR(VLOOKUP(INDEX($A:$O,ROW(),MATCH('Rapportage per vraag'!$C$12,'Data leveranciersbeoordeling'!$1:$1,0)),Leveranciersbeoordeling!$H$1:$I$5,2,FALSE),0)","v":0},0]
["",null,null,null,null,null,null,null,null,null,null,null,null,null,null,{"$f":"INDEX($A:$O,ROW(),MATCH('Rapportage per vraag'!$C$12,'Data leveranciersbeoordeling'!$1:$1,0))","v":0},{"$f":"IFERROR(VLOOKUP(INDEX($A:$O,ROW(),MATCH('Rapportage per vraag'!$C$12,'Data leveranciersbeoordeling'!$1:$1,0)),Leveranciersbeoordeling!$H$1:$I$5,2,FALSE),0)","v":0},0]
["",null,null,null,null,null,null,null,null,null,null,null,null,null,null,{"$f":"INDEX($A:$O,ROW(),MATCH('Rapportage per vraag'!$C$12,'Data leveranciersbeoordeling'!$1:$1,0))","v":0},{"$f":"IFERROR(VLOOKUP(INDEX($A:$O,ROW(),MATCH('Rapportage per vraag'!$C$12,'Data leveranciersbeoordeling'!$1:$1,0)),Leveranciersbeoordeling!$H$1:$I$5,2,FALSE),0)","v":0},0]
["",null,null,null,null,null,null,null,null,null,null,null,null,null,null,{"$f":"INDEX($A:$O,ROW(),MATCH('Rapportage per vraag'!$C$12,'Data leveranciersbeoordeling'!$1:$1,0))","v":0},{"$f":"IFERROR(VLOOKUP(INDEX($A:$O,ROW(),MATCH('Rapportage per vraag'!$C$12,'Data leveranciersbeoordeling'!$1:$1,0)),Leveranciersbeoordeling!$H$1:$I$5,2,FALSE),0)","v":0},0]
["",null,null,null,null,null,null,null,null,null,null,null,null,null,null,{"$f":"INDEX($A:$O,ROW(),MATCH('Rapportage per vraag'!$C$12,'Data leveranciersbeoordeling'!$1:$1,0))","v":0},{"$f":"IFERROR(VLOOKUP(INDEX($A:$O,ROW(),MATCH('Rapportage per vraag'!$C$12,'Data leveranciersbeoordeling'!$1:$1,0)),Leveranciersbeoordeling!$H$1:$I$5,2,FALSE),0)","v":0},0]
["",null,null,null,null,null,null,null,null,null,null,null,null,null,null,{"$f":"INDEX($A:$O,ROW(),MATCH('Rapportage per vraag'!$C$12,'Data leveranciersbeoordeling'!$1:$1,0))","v":0},{"$f":"IFERROR(VLOOKUP(INDEX($A:$O,ROW(),MATCH('Rapportage per vraag'!$C$12,'Data leveranciersbeoordeling'!$1:$1,0)),Leveranciersbeoordeling!$H$1:$I$5,2,FALSE),0)","v":0},0]
["",null,null,null,null,null,null,null,null,null,null,null,null,null,null,{"$f":"INDEX($A:$O,ROW(),MATCH('Rapportage per vraag'!$C$12,'Data leveranciersbeoordeling'!$1:$1,0))","v":0},{"$f":"IFERROR(VLOOKUP(INDEX($A:$O,ROW(),MATCH('Rapportage per vraag'!$C$12,'Data leveranciersbeoordeling'!$1:$1,0)),Leveranciersbeoordeling!$H$1:$I$5,2,FALSE),0)","v":0},0]
["",null,null,null,null,null,null,null,null,null,null,null,null,null,null,{"$f":"INDEX($A:$O,ROW(),MATCH('Rapportage per vraag'!$C$12,'Data leveranciersbeoordeling'!$1:$1,0))","v":0},{"$f":"IFERROR(VLOOKUP(INDEX($A:$O,ROW(),MATCH('Rapportage per vraag'!$C$12,'Data leveranciersbeoordeling'!$1:$1,0)),Leveranciersbeoordeling!$H$1:$I$5,2,FALSE),0)","v":0},0]
["",null,null,null,null,null,null,null,null,null,null,null,null,null,null,{"$f":"INDEX($A:$O,ROW(),MATCH('Rapportage per vraag'!$C$12,'Data leveranciersbeoordeling'!$1:$1,0))","v":0},{"$f":"IFERROR(VLOOKUP(INDEX($A:$O,ROW(),MATCH('Rapportage per vraag'!$C$12,'Data leveranciersbeoordeling'!$1:$1,0)),Leveranciersbeoordeling!$H$1:$I$5,2,FALSE),0)","v":0},0]
["",null,null,null,null,null,null,null,null,null,null,null,null,null,null,{"$f":"INDEX($A:$O,ROW(),MATCH('Rapportage per vraag'!$C$12,'Data leveranciersbeoordeling'!$1:$1,0))","v":0},{"$f":"IFERROR(VLOOKUP(INDEX($A:$O,ROW(),MATCH('Rapportage per vraag'!$C$12,'Data leveranciersbeoordeling'!$1:$1,0)),Leveranciersbeoordeling!$H$1:$I$5,2,FALSE),0)","v":0},0]
["",null,null,null,null,null,null,null,null,null,null,null,null,null,null,{"$f":"INDEX($A:$O,ROW(),MATCH('Rapportage per vraag'!$C$12,'Data leveranciersbeoordeling'!$1:$1,0))","v":0},{"$f":"IFERROR(VLOOKUP(INDEX($A:$O,ROW(),MATCH('Rapportage per vraag'!$C$12,'Data leveranciersbeoordeling'!$1:$1,0)),Leveranciersbeoordeling!$H$1:$I$5,2,FALSE),0)","v":0},0]
["",null,null,null,null,null,null,null,null,null,null,null,null,null,null,{"$f":"INDEX($A:$O,ROW(),MATCH('Rapportage per vraag'!$C$12,'Data leveranciersbeoordeling'!$1:$1,0))","v":0},{"$f":"IFERROR(VLOOKUP(INDEX($A:$O,ROW(),MATCH('Rapportage per vraag'!$C$12,'Data leveranciersbeoordeling'!$1:$1,0)),Leveranciersbeoordeling!$H$1:$I$5,2,FALSE),0)","v":0},0]
["",null,null,null,null,null,null,null,null,null,null,null,null,null,null,{"$f":"INDEX($A:$O,ROW(),MATCH('Rapportage per vraag'!$C$12,'Data leveranciersbeoordeling'!$1:$1,0))","v":0},{"$f":"IFERROR(VLOOKUP(INDEX($A:$O,ROW(),MATCH('Rapportage per vraag'!$C$12,'Data leveranciersbeoordeling'!$1:$1,0)),Leveranciersbeoordeling!$H$1:$I$5,2,FALSE),0)","v":0},0]
["",null,null,null,null,null,null,null,null,null,null,null,null,null,null,{"$f":"INDEX($A:$O,ROW(),MATCH('Rapportage per vraag'!$C$12,'Data leveranciersbeoordeling'!$1:$1,0))","v":0},{"$f":"IFERROR(VLOOKUP(INDEX($A:$O,ROW(),MATCH('Rapportage per vraag'!$C$12,'Data leveranciersbeoordeling'!$1:$1,0)),Leveranciersbeoordeling!$H$1:$I$5,2,FALSE),0)","v":0},0]
["",null,null,null,null,null,null,null,null,null,null,null,null,null,null,{"$f":"INDEX($A:$O,ROW(),MATCH('Rapportage per vraag'!$C$12,'Data leveranciersbeoordeling'!$1:$1,0))","v":0},{"$f":"IFERROR(VLOOKUP(INDEX($A:$O,ROW(),MATCH('Rapportage per vraag'!$C$12,'Data leveranciersbeoordeling'!$1:$1,0)),Leveranciersbeoordeling!$H$1:$I$5,2,FALSE),0)","v":0},0]
["",null,null,null,null,null,null,null,null,null,null,null,null,null,null,{"$f":"INDEX($A:$O,ROW(),MATCH('Rapportage per vraag'!$C$12,'Data leveranciersbeoordeling'!$1:$1,0))","v":0},{"$f":"IFERROR(VLOOKUP(INDEX($A:$O,ROW(),MATCH('Rapportage per vraag'!$C$12,'Data leveranciersbeoordeling'!$1:$1,0)),Leveranciersbeoordeling!$H$1:$I$5,2,FALSE),0)","v":0},0]
["",null,null,null,null,null,null,null,null,null,null,null,null,null,null,{"$f":"INDEX($A:$O,ROW(),MATCH('Rapportage per vraag'!$C$12,'Data leveranciersbeoordeling'!$1:$1,0))","v":0},{"$f":"IFERROR(VLOOKUP(INDEX($A:$O,ROW(),MATCH('Rapportage per vraag'!$C$12,'Data leveranciersbeoordeling'!$1:$1,0)),Leveranciersbeoordeling!$H$1:$I$5,2,FALSE),0)","v":0},0]
["",null,null,null,null,null,null,null,null,null,null,null,null,null,null,{"$f":"INDEX($A:$O,ROW(),MATCH('Rapportage per vraag'!$C$12,'Data leveranciersbeoordeling'!$1:$1,0))","v":0},{"$f":"IFERROR(VLOOKUP(INDEX($A:$O,ROW(),MATCH('Rapportage per vraag'!$C$12,'Data leveranciersbeoordeling'!$1:$1,0)),Leveranciersbeoordeling!$H$1:$I$5,2,FALSE),0)","v":0},0]
["",null,null,null,null,null,null,null,null,null,null,null,null,null,null,{"$f":"INDEX($A:$O,ROW(),MATCH('Rapportage per vraag'!$C$12,'Data leveranciersbeoordeling'!$1:$1,0))","v":0},{"$f":"IFERROR(VLOOKUP(INDEX($A:$O,ROW(),MATCH('Rapportage per vraag'!$C$12,'Data leveranciersbeoordeling'!$1:$1,0)),Leveranciersbeoordeling!$H$1:$I$5,2,FALSE),0)","v":0},0]
["",null,null,null,null,null,null,null,null,null,null,null,null,null,null,{"$f":"INDEX($A:$O,ROW(),MATCH('Rapportage per vraag'!$C$12,'Data leveranciersbeoordeling'!$1:$1,0))","v":0},{"$f":"IFERROR(VLOOKUP(INDEX($A:$O,ROW(),MATCH('Rapportage per vraag'!$C$12,'Data leveranciersbeoordeling'!$1:$1,0)),Leveranciersbeoordeling!$H$1:$I$5,2,FALSE),0)","v":0},0]
["",null,null,null,null,null,null,null,null,null,null,null,null,null,null,{"$f":"INDEX($A:$O,ROW(),MATCH('Rapportage per vraag'!$C$12,'Data leveranciersbeoordeling'!$1:$1,0))","v":0},{"$f":"IFERROR(VLOOKUP(INDEX($A:$O,ROW(),MATCH('Rapportage per vraag'!$C$12,'Data leveranciersbeoordeling'!$1:$1,0)),Leveranciersbeoordeling!$H$1:$I$5,2,FALSE),0)","v":0},0]
["",null,null,null,null,null,null,null,null,null,null,null,null,null,null,{"$f":"INDEX($A:$O,ROW(),MATCH('Rapportage per vraag'!$C$12,'Data leveranciersbeoordeling'!$1:$1,0))","v":0},{"$f":"IFERROR(VLOOKUP(INDEX($A:$O,ROW(),MATCH('Rapportage per vraag'!$C$12,'Data leveranciersbeoordeling'!$1:$1,0)),Leveranciersbeoordeling!$H$1:$I$5,2,FALSE),0)","v":0},0]
["",null,null,null,null,null,null,null,null,null,null,null,null,null,null,{"$f":"INDEX($A:$O,ROW(),MATCH('Rapportage per vraag'!$C$12,'Data leveranciersbeoordeling'!$1:$1,0))","v":0},{"$f":"IFERROR(VLOOKUP(INDEX($A:$O,ROW(),MATCH('Rapportage per vraag'!$C$12,'Data leveranciersbeoordeling'!$1:$1,0)),Leveranciersbeoordeling!$H$1:$I$5,2,FALSE),0)","v":0},0]
["",null,null,null,null,null,null,null,null,null,null,null,null,null,null,{"$f":"INDEX($A:$O,ROW(),MATCH('Rapportage per vraag'!$C$12,'Data leveranciersbeoordeling'!$1:$1,0))","v":0},{"$f":"IFERROR(VLOOKUP(INDEX($A:$O,ROW(),MATCH('Rapportage per vraag'!$C$12,'Data leveranciersbeoordeling'!$1:$1,0)),Leveranciersbeoordeling!$H$1:$I$5,2,FALSE),0)","v":0},0]
["",null,null,null,null,null,null,null,null,null,null,null,null,null,null,{"$f":"INDEX($A:$O,ROW(),MATCH('Rapportage per vraag'!$C$12,'Data leveranciersbeoordeling'!$1:$1,0))","v":0},{"$f":"IFERROR(VLOOKUP(INDEX($A:$O,ROW(),MATCH('Rapportage per vraag'!$C$12,'Data leveranciersbeoordeling'!$1:$1,0)),Leveranciersbeoordeling!$H$1:$I$5,2,FALSE),0)","v":0},0]
["",null,null,null,null,null,null,null,null,null,null,null,null,null,null,{"$f":"INDEX($A:$O,ROW(),MATCH('Rapportage per vraag'!$C$12,'Data leveranciersbeoordeling'!$1:$1,0))","v":0},{"$f":"IFERROR(VLOOKUP(INDEX($A:$O,ROW(),MATCH('Rapportage per vraag'!$C$12,'Data leveranciersbeoordeling'!$1:$1,0)),Leveranciersbeoordeling!$H$1:$I$5,2,FALSE),0)","v":0},0]
["",null,null,null,null,null,null,null,null,null,null,null,null,null,null,{"$f":"INDEX($A:$O,ROW(),MATCH('Rapportage per vraag'!$C$12,'Data leveranciersbeoordeling'!$1:$1,0))","v":0},{"$f":"IFERROR(VLOOKUP(INDEX($A:$O,ROW(),MATCH('Rapportage per vraag'!$C$12,'Data leveranciersbeoordeling'!$1:$1,0)),Leveranciersbeoordeling!$H$1:$I$5,2,FALSE),0)","v":0},0]
["",null,null,null,null,null,null,null,null,null,null,null,null,null,null,{"$f":"INDEX($A:$O,ROW(),MATCH('Rapportage per vraag'!$C$12,'Data leveranciersbeoordeling'!$1:$1,0))","v":0},{"$f":"IFERROR(VLOOKUP(INDEX($A:$O,ROW(),MATCH('Rapportage per vraag'!$C$12,'Data leveranciersbeoordeling'!$1:$1,0)),Leveranciersbeoordeling!$H$1:$I$5,2,FALSE),0)","v":0},0]
["",null,null,null,null,null,null,null,null,null,null,null,null,null,null,{"$f":"INDEX($A:$O,ROW(),MATCH('Rapportage per vraag'!$C$12,'Data leveranciersbeoordeling'!$1:$1,0))","v":0},{"$f":"IFERROR(VLOOKUP(INDEX($A:$O,ROW(),MATCH('Rapportage per vraag'!$C$12,'Data leveranciersbeoordeling'!$1:$1,0)),Leveranciersbeoordeling!$H$1:$I$5,2,FALSE),0)","v":0},0]
["",null,null,null,null,null,null,null,null,null,null,null,null,null,null,{"$f":"INDEX($A:$O,ROW(),MATCH('Rapportage per vraag'!$C$12,'Data leveranciersbeoordeling'!$1:$1,0))","v":0},{"$f":"IFERROR(VLOOKUP(INDEX($A:$O,ROW(),MATCH('Rapportage per vraag'!$C$12,'Data leveranciersbeoordeling'!$1:$1,0)),Leveranciersbeoordeling!$H$1:$I$5,2,FALSE),0)","v":0},0]
["",null,null,null,null,null,null,null,null,null,null,null,null,null,null,{"$f":"INDEX($A:$O,ROW(),MATCH('Rapportage per vraag'!$C$12,'Data leveranciersbeoordeling'!$1:$1,0))","v":0},{"$f":"IFERROR(VLOOKUP(INDEX($A:$O,ROW(),MATCH('Rapportage per vraag'!$C$12,'Data leveranciersbeoordeling'!$1:$1,0)),Leveranciersbeoordeling!$H$1:$I$5,2,FALSE),0)","v":0},0]
["",null,null,null,null,null,null,null,null,null,null,null,null,null,null,{"$f":"INDEX($A:$O,ROW(),MATCH('Rapportage per vraag'!$C$12,'Data leveranciersbeoordeling'!$1:$1,0))","v":0},{"$f":"IFERROR(VLOOKUP(INDEX($A:$O,ROW(),MATCH('Rapportage per vraag'!$C$12,'Data leveranciersbeoordeling'!$1:$1,0)),Leveranciersbeoordeling!$H$1:$I$5,2,FALSE),0)","v":0},0]
["",null,null,null,null,null,null,null,null,null,null,null,null,null,null,{"$f":"INDEX($A:$O,ROW(),MATCH('Rapportage per vraag'!$C$12,'Data leveranciersbeoordeling'!$1:$1,0))","v":0},{"$f":"IFERROR(VLOOKUP(INDEX($A:$O,ROW(),MATCH('Rapportage per vraag'!$C$12,'Data leveranciersbeoordeling'!$1:$1,0)),Leveranciersbeoordeling!$H$1:$I$5,2,FALSE),0)","v":0},0]
["",null,null,null,null,null,null,null,null,null,null,null,null,null,null,{"$f":"INDEX($A:$O,ROW(),MATCH('Rapportage per vraag'!$C$12,'Data leveranciersbeoordeling'!$1:$1,0))","v":0},{"$f":"IFERROR(VLOOKUP(INDEX($A:$O,ROW(),MATCH('Rapportage per vraag'!$C$12,'Data leveranciersbeoordeling'!$1:$1,0)),Leveranciersbeoordeling!$H$1:$I$5,2,FALSE),0)","v":0},0]
[{"$f":"CONCATENATE(B9987,C9987,D9987)","v":""},null,null,null,null,null,null,null,null,null,null,null,null,null,null,{"$f":"INDEX($A:$O,ROW(),MATCH('Rapportage per vraag'!$C$12,'Data leveranciersbeoordeling'!$1:$1,0))","v":0},{"$f":"IFERROR(VLOOKUP(INDEX($A:$O,ROW(),MATCH('Rapportage per vraag'!$C$12,'Data leveranciersbeoordeling'!$1:$1,0)),Leveranciersbeoordeling!$H$1:$I$5,2,FALSE),0)","v":0},0]
["",null,null,null,null,null,null,null,null,null,null,null,null,null,null,{"$f":"INDEX($A:$O,ROW(),MATCH('Rapportage per vraag'!$C$12,'Data leveranciersbeoordeling'!$1:$1,0))","v":0},{"$f":"IFERROR(VLOOKUP(INDEX($A:$O,ROW(),MATCH('Rapportage per vraag'!$C$12,'Data leveranciersbeoordeling'!$1:$1,0)),Leveranciersbeoordeling!$H$1:$I$5,2,FALSE),0)","v":0},0]
["",null,null,null,null,null,null,null,null,null,null,null,null,null,null,{"$f":"INDEX($A:$O,ROW(),MATCH('Rapportage per vraag'!$C$12,'Data leveranciersbeoordeling'!$1:$1,0))","v":0},{"$f":"IFERROR(VLOOKUP(INDEX($A:$O,ROW(),MATCH('Rapportage per vraag'!$C$12,'Data leveranciersbeoordeling'!$1:$1,0)),Leveranciersbeoordeling!$H$1:$I$5,2,FALSE),0)","v":0},0]
["",null,null,null,null,null,null,null,null,null,null,null,null,null,null,{"$f":"INDEX($A:$O,ROW(),MATCH('Rapportage per vraag'!$C$12,'Data leveranciersbeoordeling'!$1:$1,0))","v":0},{"$f":"IFERROR(VLOOKUP(INDEX($A:$O,ROW(),MATCH('Rapportage per vraag'!$C$12,'Data leveranciersbeoordeling'!$1:$1,0)),Leveranciersbeoordeling!$H$1:$I$5,2,FALSE),0)","v":0},{"$f":"IF(T(P9990)=P9990,Q9990,P9990)","v":0}]
["",null,null,null,null,null,null,null,null,null,null,null,null,null,null,{"$f":"INDEX($A:$O,ROW(),MATCH('Rapportage per vraag'!$C$12,'Data leveranciersbeoordeling'!$1:$1,0))","v":0},{"$f":"IFERROR(VLOOKUP(INDEX($A:$O,ROW(),MATCH('Rapportage per vraag'!$C$12,'Data leveranciersbeoordeling'!$1:$1,0)),Leveranciersbeoordeling!$H$1:$I$5,2,FALSE),0)","v":0},0]
["",null,null,null,null,null,null,null,null,null,null,null,null,null,null,{"$f":"INDEX($A:$O,ROW(),MATCH('Rapportage per vraag'!$C$12,'Data leveranciersbeoordeling'!$1:$1,0))","v":0},{"$f":"IFERROR(VLOOKUP(INDEX($A:$O,ROW(),MATCH('Rapportage per vraag'!$C$12,'Data leveranciersbeoordeling'!$1:$1,0)),Leveranciersbeoordeling!$H$1:$I$5,2,FALSE),0)","v":0},0]
["",null,null,null,null,null,null,null,null,null,null,null,null,null,null,{"$f":"INDEX($A:$O,ROW(),MATCH('Rapportage per vraag'!$C$12,'Data leveranciersbeoordeling'!$1:$1,0))","v":0},{"$f":"IFERROR(VLOOKUP(INDEX($A:$O,ROW(),MATCH('Rapportage per vraag'!$C$12,'Data leveranciersbeoordeling'!$1:$1,0)),Leveranciersbeoordeling!$H$1:$I$5,2,FALSE),0)","v":0},0]
["",null,null,null,null,null,null,null,null,null,null,null,null,null,null,{"$f":"INDEX($A:$O,ROW(),MATCH('Rapportage per vraag'!$C$12,'Data leveranciersbeoordeling'!$1:$1,0))","v":0},{"$f":"IFERROR(VLOOKUP(INDEX($A:$O,ROW(),MATCH('Rapportage per vraag'!$C$12,'Data leveranciersbeoordeling'!$1:$1,0)),Leveranciersbeoordeling!$H$1:$I$5,2,FALSE),0)","v":0},0]
["",null,null,null,null,null,null,null,null,null,null,null,null,null,null,{"$f":"INDEX($A:$O,ROW(),MATCH('Rapportage per vraag'!$C$12,'Data leveranciersbeoordeling'!$1:$1,0))","v":0},{"$f":"IFERROR(VLOOKUP(INDEX($A:$O,ROW(),MATCH('Rapportage per vraag'!$C$12,'Data leveranciersbeoordeling'!$1:$1,0)),Leveranciersbeoordeling!$H$1:$I$5,2,FALSE),0)","v":0},0]
["",null,null,null,null,null,null,null,null,null,null,null,null,null,null,{"$f":"INDEX($A:$O,ROW(),MATCH('Rapportage per vraag'!$C$12,'Data leveranciersbeoordeling'!$1:$1,0))","v":0},{"$f":"IFERROR(VLOOKUP(INDEX($A:$O,ROW(),MATCH('Rapportage per vraag'!$C$12,'Data leveranciersbeoordeling'!$1:$1,0)),Leveranciersbeoordeling!$H$1:$I$5,2,FALSE),0)","v":0},0]
["",null,null,null,null,null,null,null,null,null,null,null,null,null,null,{"$f":"INDEX($A:$O,ROW(),MATCH('Rapportage per vraag'!$C$12,'Data leveranciersbeoordeling'!$1:$1,0))","v":0},{"$f":"IFERROR(VLOOKUP(INDEX($A:$O,ROW(),MATCH('Rapportage per vraag'!$C$12,'Data leveranciersbeoordeling'!$1:$1,0)),Leveranciersbeoordeling!$H$1:$I$5,2,FALSE),0)","v":0},0]
["",null,null,null,null,null,null,null,null,null,null,null,null,null,null,{"$f":"INDEX($A:$O,ROW(),MATCH('Rapportage per vraag'!$C$12,'Data leveranciersbeoordeling'!$1:$1,0))","v":0},{"$f":"IFERROR(VLOOKUP(INDEX($A:$O,ROW(),MATCH('Rapportage per vraag'!$C$12,'Data leveranciersbeoordeling'!$1:$1,0)),Leveranciersbeoordeling!$H$1:$I$5,2,FALSE),0)","v":0},0]
["",null,null,null,null,null,null,null,null,null,null,null,null,null,null,{"$f":"INDEX($A:$O,ROW(),MATCH('Rapportage per vraag'!$C$12,'Data leveranciersbeoordeling'!$1:$1,0))","v":0},{"$f":"IFERROR(VLOOKUP(INDEX($A:$O,ROW(),MATCH('Rapportage per vraag'!$C$12,'Data leveranciersbeoordeling'!$1:$1,0)),Leveranciersbeoordeling!$H$1:$I$5,2,FALSE),0)","v":0},0]
["",null,null,null,null,null,null,null,null,null,null,null,null,null,null,{"$f":"INDEX($A:$O,ROW(),MATCH('Rapportage per vraag'!$C$12,'Data leveranciersbeoordeling'!$1:$1,0))","v":0},{"$f":"IFERROR(VLOOKUP(INDEX($A:$O,ROW(),MATCH('Rapportage per vraag'!$C$12,'Data leveranciersbeoordeling'!$1:$1,0)),Leveranciersbeoordeling!$H$1:$I$5,2,FALSE),0)","v":0},0]
["",null,null,null,null,null,null,null,null,null,null,null,null,null,null,{"$f":"INDEX($A:$O,ROW(),MATCH('Rapportage per vraag'!$C$12,'Data leveranciersbeoordeling'!$1:$1,0))","v":0},{"$f":"IFERROR(VLOOKUP(INDEX($A:$O,ROW(),MATCH('Rapportage per vraag'!$C$12,'Data leveranciersbeoordeling'!$1:$1,0)),Leveranciersbeoordeling!$H$1:$I$5,2,FALSE),0)","v":0},0]

{"sheet":"Gegevens","index":6,"n_rows":11,"n_cols":2,"rows_kept":11,"cut":false,"hidden":true,"merged":[]}
["Controle"]
["Datum start","2018-04-24"]
["Datum nu",{"$f":"TODAY()","v":"2018-07-26"}]
["Verschil",{"$f":"B3-B2","v":93}]
["Check 1"]
["Check 2"]
["Check 3"]
["Check 4"]
["Check 5"]
["Check 6"]
["Check 7"]