{"text_format":"1","workbook":"xlsx","n_sheets":18,"sheets":["Gegevens","DataHome","Home","Rapportage","RappMndDag","RappKanalen","RappZoekwoorden","RappBestemming","RappHerkSessies","RappLaadtijd","Sessies dag","Kanalen","Search console","Sessies","Provincie","Apparaatoverzicht","Laadtijd","Hulpblad"],"not_rendered":{"charts":25,"images":9,"macros":1,"external_links":1,"defined_names":5,"comments":0,"pivot_tables":0},"unopened":[],"bounds":{"document_bytes":16777216,"sheet_cells":100000,"rows_first":2000,"rows_last":500,"rows_between":2000,"halvings":0,"cell_chars":16384,"cell_head_chars":4096},"cells_cut":0,"cells_raw":0,"read":"whole","date_system":"1900"}

{"sheet":"Gegevens","index":0,"n_rows":11,"n_cols":2,"rows_kept":11,"cut":false,"hidden":true,"merged":[]}
["Controle"]
["Datum start","2018-04-18"]
["Datum nu",{"$f":"NOW()","v":"2018-04-25T09:15:46.320"}]
["Verschil",{"$f":"B3-B2","v":7.3859527777749463}]
["Check 1"]
["Check 2"]
["Check 3"]
["Check 4"]
["Check 5"]
["Check 6"]
["Check 7"]

{"sheet":"DataHome","index":1,"n_rows":32,"n_cols":6,"rows_kept":32,"cut":false,"hidden":true,"merged":[]}
[]
[]
[]
[]
[]
[]
[]
[]
[]
["Jaar","MaandNaam","Maand",null,"datum vanaadg"]
[{"$f":"YEAR(NOW())","v":2018},"Januari","01",null,"dag",{"$f":"DAY(TODAY())","v":25}]
[{"$f":" IF(MONTH(DATEVALUE(F11 &Home!E9&F13))+1>=F12,YEAR(TODAY())-1,\"\")","v":2017},"Februari","02",null,"maand",{"$f":"MONTH(TODAY())","v":4}]
[null,"Maart","03",null,"jaar",{"$f":"YEAR(TODAY())","v":2018}]
[null,"April","04"]
[null,"Mei","05"]
[null,"Juni","06"]
[null,"Juli","07"]
[null,"Augustus","08"]
[null,"September","09"]
[null,"Oktober","010"]
[null,"November","011"]
[null,"December","012"]
[]
[null,"Rapportages",null,null,"DataSheets"]
[null,"Sessies per dag / maand",null,null,"Home"]
[null,"Sessies per kanaal",null,null,"Sessies dag"]
[null,"Sessies per zoekwoord",null,null,"Kanalen"]
[null,"Bestemmingspagina",null,null,"Search console"]
[null,"Herkomst van sessies",null,null,"Sessies"]
[null,"Laadtijden",null,null,"Provincie"]
[null,null,null,null,"Apparaatoverzicht"]
[null,null,null,null,"Laadtijd"]

{"sheet":"Home","index":2,"n_rows":15,"n_cols":19,"rows_kept":15,"cut":false,"hidden":false,"merged":[]}
[null,null,null,null,null,null,null,null,null,null,null,null,null,null,null,null,null,"Datum start"]
[null,"Rapportage Google Analytics",null,null,null,null,null,null,null,null,null,null,null,null,null,null,null,"Datum nu",{"$f":"TODAY()","v":"2018-04-25"}]
[null,null,null,null,null,null,null,null,null,null,null,null,null,null,null,null,null,"Verschil",{"$f":"S2-S1","v":43215}]
[null,null,null,null,null,null,null,null,null,null,null,null,null,null,null,null,null,"Check 1"]
[null,null,null,null,null,null,null,null,null,null,null,null,null,null,null,null,null,"Check 2"]
[null,null,null,null,null,null,null,null,null,null,null,null,null,null,null,null,null,"Check 3"]
[null,null,null,null,null,null,null,null,null,null,null,null,null,null,null,null,null,"Check 4"]
[null,null,null,null,null,null,null,null,null,null,null,null,null,null,null,null,null,"Check 5"]
[null,null,null,"Maand","Mei",null,null,null,null,null,null,null,null,null,null,null,null,"Check 6"]
[null,null,null,"Jaar",2017,null,null,null,null,null,null,null,null,null,null,null,null,"Check 7"]
[]
[]
[]
[null,null,null,null,null,null,null,null,null,"*","info@terzake-excel.nl"]
[null,null,null,null,null,null,null,null,null,"(","0317 200 009"]

{"sheet":"Rapportage","index":3,"n_rows":178,"n_cols":19,"rows_kept":178,"cut":false,"hidden":true,"merged":[]}
["Rapportage jaar",2017]
["Rapportage maand","08"]
[]
["Aantal sessies",null,null,null,null,null,null,null,null,null,null,null,null,null,null,null,null,{"$f":"DATE($B$1-2,ROW(1:1),1)","v":"2015-01-01"},{"$f":"R5-1","v":"2015-01-31"}]
[null,{"$f":"B1-2","v":2015},{"$f":"B5+1","v":2016},{"$f":"C5+1","v":2017},2018,2019,2020,2021,2022,2023,2024,null,null,null,null,null,null,{"$f":"DATE($B$1-2,ROW(2:2),1)","v":"2015-02-01"},{"$f":"R6-1","v":"2015-02-28"}]
["januari",{"$f":"SUMIFS('Sessies dag'!$B:$B,'Sessies dag'!$A:$A,\">=\"&$R4,'Sessies dag'!$A:$A,\"<=\"&$S4)","v":0},{"$f":"SUMIFS('Sessies dag'!$B:$B,'Sessies dag'!$A:$A,\">=\"&DATE(C$5,MONTH($R4),DAY($R4)),'Sessies dag'!$A:$A,\"<=\"&DATE(C$5,MONTH($S4),DAY($S4)))","v":0},{"$f":"SUMIFS('Sessies dag'!$B:$B,'Sessies dag'!$A:$A,\">=\"&DATE(D$5,MONTH($R4),DAY($R4)),'Sessies dag'!$A:$A,\"<=\"&DATE(D$5,MONTH($S4),DAY($S4)))","v":0},{"$f":"SUMIFS('Sessies dag'!$B:$B,'Sessies dag'!$A:$A,\">=\"&DATE(E$5,MONTH($R4),DAY($R4)),'Sessies dag'!$A:$A,\"<=\"&DATE(E$5,MONTH($S4),DAY($S4)))","v":0},{"$f":"SUMIFS('Sessies dag'!$B:$B,'Sessies dag'!$A:$A,\">=\"&DATE(F$5,MONTH($R4),DAY($R4)),'Sessies dag'!$A:$A,\"<=\"&DATE(F$5,MONTH($S4),DAY($S4)))","v":0},{"$f":"SUMIFS('Sessies dag'!$B:$B,'Sessies dag'!$A:$A,\">=\"&DATE(G$5,MONTH($R4),DAY($R4)),'Sessies dag'!$A:$A,\"<=\"&DATE(G$5,MONTH($S4),DAY($S4)))","v":0},{"$f":"SUMIFS('Sessies dag'!$B:$B,'Sessies dag'!$A:$A,\">=\"&DATE(H$5,MONTH($R4),DAY($R4)),'Sessies dag'!$A:$A,\"<=\"&DATE(H$5,MONTH($S4),DAY($S4)))","v":0},{"$f":"SUMIFS('Sessies dag'!$B:$B,'Sessies dag'!$A:$A,\">=\"&DATE(I$5,MONTH($R4),DAY($R4)),'Sessies dag'!$A:$A,\"<=\"&DATE(I$5,MONTH($S4),DAY($S4)))","v":0},{"$f":"SUMIFS('Sessies dag'!$B:$B,'Sessies dag'!$A:$A,\">=\"&DATE(J$5,MONTH($R4),DAY($R4)),'Sessies dag'!$A:$A,\"<=\"&DATE(J$5,MONTH($S4),DAY($S4)))","v":0},{"$f":"SUMIFS('Sessies dag'!$B:$B,'Sessies dag'!$A:$A,\">=\"&DATE(K$5,MONTH($R4),DAY($R4)),'Sessies dag'!$A:$A,\"<=\"&DATE(K$5,MONTH($S4),DAY($S4)))","v":0},null,null,null,null,null,null,"2015-03-01","2015-03-31"]
["februari",{"$f":"SUMIFS('Sessies dag'!$B:$B,'Sessies dag'!$A:$A,\">=\"&$R5,'Sessies dag'!$A:$A,\"<=\"&$S5)","v":0},{"$f":"SUMIFS('Sessies dag'!$B:$B,'Sessies dag'!$A:$A,\">=\"&DATE(C$5,MONTH($R5),DAY($R5)),'Sessies dag'!$A:$A,\"<=\"&DATE(C$5,MONTH($S5),DAY($S5)))","v":0},{"$f":"SUMIFS('Sessies dag'!$B:$B,'Sessies dag'!$A:$A,\">=\"&DATE(D$5,MONTH($R5),DAY($R5)),'Sessies dag'!$A:$A,\"<=\"&DATE(D$5,MONTH($S5),DAY($S5)))","v":0},{"$f":"SUMIFS('Sessies dag'!$B:$B,'Sessies dag'!$A:$A,\">=\"&DATE(E$5,MONTH($R5),DAY($R5)),'Sessies dag'!$A:$A,\"<=\"&DATE(E$5,MONTH($S5),DAY($S5)))","v":0},{"$f":"SUMIFS('Sessies dag'!$B:$B,'Sessies dag'!$A:$A,\">=\"&DATE(F$5,MONTH($R5),DAY($R5)),'Sessies dag'!$A:$A,\"<=\"&DATE(F$5,MONTH($S5),DAY($S5)))","v":0},{"$f":"SUMIFS('Sessies dag'!$B:$B,'Sessies dag'!$A:$A,\">=\"&DATE(G$5,MONTH($R5),DAY($R5)),'Sessies dag'!$A:$A,\"<=\"&DATE(G$5,MONTH($S5),DAY($S5)))","v":0},{"$f":"SUMIFS('Sessies dag'!$B:$B,'Sessies dag'!$A:$A,\">=\"&DATE(H$5,MONTH($R5),DAY($R5)),'Sessies dag'!$A:$A,\"<=\"&DATE(H$5,MONTH($S5),DAY($S5)))","v":0},{"$f":"SUMIFS('Sessies dag'!$B:$B,'Sessies dag'!$A:$A,\">=\"&DATE(I$5,MONTH($R5),DAY($R5)),'Sessies dag'!$A:$A,\"<=\"&DATE(I$5,MONTH($S5),DAY($S5)))","v":0},{"$f":"SUMIFS('Sessies dag'!$B:$B,'Sessies dag'!$A:$A,\">=\"&DATE(J$5,MONTH($R5),DAY($R5)),'Sessies dag'!$A:$A,\"<=\"&DATE(J$5,MONTH($S5),DAY($S5)))","v":0},{"$f":"SUMIFS('Sessies dag'!$B:$B,'Sessies dag'!$A:$A,\">=\"&DATE(K$5,MONTH($R5),DAY($R5)),'Sessies dag'!$A:$A,\"<=\"&DATE(K$5,MONTH($S5),DAY($S5)))","v":0},null,null,null,null,null,null,"2015-04-01","2015-04-30"]
["maart",{"$f":"SUMIFS('Sessies dag'!$B:$B,'Sessies dag'!$A:$A,\">=\"&$R6,'Sessies dag'!$A:$A,\"<=\"&$S6)","v":0},{"$f":"SUMIFS('Sessies dag'!$B:$B,'Sessies dag'!$A:$A,\">=\"&DATE(C$5,MONTH($R6),DAY($R6)),'Sessies dag'!$A:$A,\"<=\"&DATE(C$5,MONTH($S6),DAY($S6)))","v":0},{"$f":"SUMIFS('Sessies dag'!$B:$B,'Sessies dag'!$A:$A,\">=\"&DATE(D$5,MONTH($R6),DAY($R6)),'Sessies dag'!$A:$A,\"<=\"&DATE(D$5,MONTH($S6),DAY($S6)))","v":0},{"$f":"SUMIFS('Sessies dag'!$B:$B,'Sessies dag'!$A:$A,\">=\"&DATE(E$5,MONTH($R6),DAY($R6)),'Sessies dag'!$A:$A,\"<=\"&DATE(E$5,MONTH($S6),DAY($S6)))","v":0},{"$f":"SUMIFS('Sessies dag'!$B:$B,'Sessies dag'!$A:$A,\">=\"&DATE(F$5,MONTH($R6),DAY($R6)),'Sessies dag'!$A:$A,\"<=\"&DATE(F$5,MONTH($S6),DAY($S6)))","v":0},{"$f":"SUMIFS('Sessies dag'!$B:$B,'Sessies dag'!$A:$A,\">=\"&DATE(G$5,MONTH($R6),DAY($R6)),'Sessies dag'!$A:$A,\"<=\"&DATE(G$5,MONTH($S6),DAY($S6)))","v":0},{"$f":"SUMIFS('Sessies dag'!$B:$B,'Sessies dag'!$A:$A,\">=\"&DATE(H$5,MONTH($R6),DAY($R6)),'Sessies dag'!$A:$A,\"<=\"&DATE(H$5,MONTH($S6),DAY($S6)))","v":0},{"$f":"SUMIFS('Sessies dag'!$B:$B,'Sessies dag'!$A:$A,\">=\"&DATE(I$5,MONTH($R6),DAY($R6)),'Sessies dag'!$A:$A,\"<=\"&DATE(I$5,MONTH($S6),DAY($S6)))","v":0},{"$f":"SUMIFS('Sessies dag'!$B:$B,'Sessies dag'!$A:$A,\">=\"&DATE(J$5,MONTH($R6),DAY($R6)),'Sessies dag'!$A:$A,\"<=\"&DATE(J$5,MONTH($S6),DAY($S6)))","v":0},{"$f":"SUMIFS('Sessies dag'!$B:$B,'Sessies dag'!$A:$A,\">=\"&DATE(K$5,MONTH($R6),DAY($R6)),'Sessies dag'!$A:$A,\"<=\"&DATE(K$5,MONTH($S6),DAY($S6)))","v":0},null,null,null,null,null,null,"2015-05-01","2015-05-31"]
["april",{"$f":"SUMIFS('Sessies dag'!$B:$B,'Sessies dag'!$A:$A,\">=\"&$R7,'Sessies dag'!$A:$A,\"<=\"&$S7)","v":0},{"$f":"SUMIFS('Sessies dag'!$B:$B,'Sessies dag'!$A:$A,\">=\"&DATE(C$5,MONTH($R7),DAY($R7)),'Sessies dag'!$A:$A,\"<=\"&DATE(C$5,MONTH($S7),DAY($S7)))","v":0},{"$f":"SUMIFS('Sessies dag'!$B:$B,'Sessies dag'!$A:$A,\">=\"&DATE(D$5,MONTH($R7),DAY($R7)),'Sessies dag'!$A:$A,\"<=\"&DATE(D$5,MONTH($S7),DAY($S7)))","v":0},{"$f":"SUMIFS('Sessies dag'!$B:$B,'Sessies dag'!$A:$A,\">=\"&DATE(E$5,MONTH($R7),DAY($R7)),'Sessies dag'!$A:$A,\"<=\"&DATE(E$5,MONTH($S7),DAY($S7)))","v":0},{"$f":"SUMIFS('Sessies dag'!$B:$B,'Sessies dag'!$A:$A,\">=\"&DATE(F$5,MONTH($R7),DAY($R7)),'Sessies dag'!$A:$A,\"<=\"&DATE(F$5,MONTH($S7),DAY($S7)))","v":0},{"$f":"SUMIFS('Sessies dag'!$B:$B,'Sessies dag'!$A:$A,\">=\"&DATE(G$5,MONTH($R7),DAY($R7)),'Sessies dag'!$A:$A,\"<=\"&DATE(G$5,MONTH($S7),DAY($S7)))","v":0},{"$f":"SUMIFS('Sessies dag'!$B:$B,'Sessies dag'!$A:$A,\">=\"&DATE(H$5,MONTH($R7),DAY($R7)),'Sessies dag'!$A:$A,\"<=\"&DATE(H$5,MONTH($S7),DAY($S7)))","v":0},{"$f":"SUMIFS('Sessies dag'!$B:$B,'Sessies dag'!$A:$A,\">=\"&DATE(I$5,MONTH($R7),DAY($R7)),'Sessies dag'!$A:$A,\"<=\"&DATE(I$5,MONTH($S7),DAY($S7)))","v":0},{"$f":"SUMIFS('Sessies dag'!$B:$B,'Sessies dag'!$A:$A,\">=\"&DATE(J$5,MONTH($R7),DAY($R7)),'Sessies dag'!$A:$A,\"<=\"&DATE(J$5,MONTH($S7),DAY($S7)))","v":0},{"$f":"SUMIFS('Sessies dag'!$B:$B,'Sessies dag'!$A:$A,\">=\"&DATE(K$5,MONTH($R7),DAY($R7)),'Sessies dag'!$A:$A,\"<=\"&DATE(K$5,MONTH($S7),DAY($S7)))","v":0},null,null,null,null,null,null,"2015-06-01","2015-06-30"]
["mei",{"$f":"SUMIFS('Sessies dag'!$B:$B,'Sessies dag'!$A:$A,\">=\"&$R8,'Sessies dag'!$A:$A,\"<=\"&$S8)","v":0},{"$f":"SUMIFS('Sessies dag'!$B:$B,'Sessies dag'!$A:$A,\">=\"&DATE(C$5,MONTH($R8),DAY($R8)),'Sessies dag'!$A:$A,\"<=\"&DATE(C$5,MONTH($S8),DAY($S8)))","v":0},{"$f":"SUMIFS('Sessies dag'!$B:$B,'Sessies dag'!$A:$A,\">=\"&DATE(D$5,MONTH($R8),DAY($R8)),'Sessies dag'!$A:$A,\"<=\"&DATE(D$5,MONTH($S8),DAY($S8)))","v":0},{"$f":"SUMIFS('Sessies dag'!$B:$B,'Sessies dag'!$A:$A,\">=\"&DATE(E$5,MONTH($R8),DAY($R8)),'Sessies dag'!$A:$A,\"<=\"&DATE(E$5,MONTH($S8),DAY($S8)))","v":0},{"$f":"SUMIFS('Sessies dag'!$B:$B,'Sessies dag'!$A:$A,\">=\"&DATE(F$5,MONTH($R8),DAY($R8)),'Sessies dag'!$A:$A,\"<=\"&DATE(F$5,MONTH($S8),DAY($S8)))","v":0},{"$f":"SUMIFS('Sessies dag'!$B:$B,'Sessies dag'!$A:$A,\">=\"&DATE(G$5,MONTH($R8),DAY($R8)),'Sessies dag'!$A:$A,\"<=\"&DATE(G$5,MONTH($S8),DAY($S8)))","v":0},{"$f":"SUMIFS('Sessies dag'!$B:$B,'Sessies dag'!$A:$A,\">=\"&DATE(H$5,MONTH($R8),DAY($R8)),'Sessies dag'!$A:$A,\"<=\"&DATE(H$5,MONTH($S8),DAY($S8)))","v":0},{"$f":"SUMIFS('Sessies dag'!$B:$B,'Sessies dag'!$A:$A,\">=\"&DATE(I$5,MONTH($R8),DAY($R8)),'Sessies dag'!$A:$A,\"<=\"&DATE(I$5,MONTH($S8),DAY($S8)))","v":0},{"$f":"SUMIFS('Sessies dag'!$B:$B,'Sessies dag'!$A:$A,\">=\"&DATE(J$5,MONTH($R8),DAY($R8)),'Sessies dag'!$A:$A,\"<=\"&DATE(J$5,MONTH($S8),DAY($S8)))","v":0},{"$f":"SUMIFS('Sessies dag'!$B:$B,'Sessies dag'!$A:$A,\">=\"&DATE(K$5,MONTH($R8),DAY($R8)),'Sessies dag'!$A:$A,\"<=\"&DATE(K$5,MONTH($S8),DAY($S8)))","v":0},null,null,null,null,null,null,"2015-07-01","2015-07-31"]
["juni",{"$f":"SUMIFS('Sessies dag'!$B:$B,'Sessies dag'!$A:$A,\">=\"&$R9,'Sessies dag'!$A:$A,\"<=\"&$S9)","v":0},{"$f":"SUMIFS('Sessies dag'!$B:$B,'Sessies dag'!$A:$A,\">=\"&DATE(C$5,MONTH($R9),DAY($R9)),'Sessies dag'!$A:$A,\"<=\"&DATE(C$5,MONTH($S9),DAY($S9)))","v":0},{"$f":"SUMIFS('Sessies dag'!$B:$B,'Sessies dag'!$A:$A,\">=\"&DATE(D$5,MONTH($R9),DAY($R9)),'Sessies dag'!$A:$A,\"<=\"&DATE(D$5,MONTH($S9),DAY($S9)))","v":0},{"$f":"SUMIFS('Sessies dag'!$B:$B,'Sessies dag'!$A:$A,\">=\"&DATE(E$5,MONTH($R9),DAY($R9)),'Sessies dag'!$A:$A,\"<=\"&DATE(E$5,MONTH($S9),DAY($S9)))","v":0},{"$f":"SUMIFS('Sessies dag'!$B:$B,'Sessies dag'!$A:$A,\">=\"&DATE(F$5,MONTH($R9),DAY($R9)),'Sessies dag'!$A:$A,\"<=\"&DATE(F$5,MONTH($S9),DAY($S9)))","v":0},{"$f":"SUMIFS('Sessies dag'!$B:$B,'Sessies dag'!$A:$A,\">=\"&DATE(G$5,MONTH($R9),DAY($R9)),'Sessies dag'!$A:$A,\"<=\"&DATE(G$5,MONTH($S9),DAY($S9)))","v":0},{"$f":"SUMIFS('Sessies dag'!$B:$B,'Sessies dag'!$A:$A,\">=\"&DATE(H$5,MONTH($R9),DAY($R9)),'Sessies dag'!$A:$A,\"<=\"&DATE(H$5,MONTH($S9),DAY($S9)))","v":0},{"$f":"SUMIFS('Sessies dag'!$B:$B,'Sessies dag'!$A:$A,\">=\"&DATE(I$5,MONTH($R9),DAY($R9)),'Sessies dag'!$A:$A,\"<=\"&DATE(I$5,MONTH($S9),DAY($S9)))","v":0},{"$f":"SUMIFS('Sessies dag'!$B:$B,'Sessies dag'!$A:$A,\">=\"&DATE(J$5,MONTH($R9),DAY($R9)),'Sessies dag'!$A:$A,\"<=\"&DATE(J$5,MONTH($S9),DAY($S9)))","v":0},{"$f":"SUMIFS('Sessies dag'!$B:$B,'Sessies dag'!$A:$A,\">=\"&DATE(K$5,MONTH($R9),DAY($R9)),'Sessies dag'!$A:$A,\"<=\"&DATE(K$5,MONTH($S9),DAY($S9)))","v":0},null,null,null,null,null,null,"2015-08-01","2015-08-31"]
["juli",{"$f":"SUMIFS('Sessies dag'!$B:$B,'Sessies dag'!$A:$A,\">=\"&$R10,'Sessies dag'!$A:$A,\"<=\"&$S10)","v":0},{"$f":"SUMIFS('Sessies dag'!$B:$B,'Sessies dag'!$A:$A,\">=\"&DATE(C$5,MONTH($R10),DAY($R10)),'Sessies dag'!$A:$A,\"<=\"&DATE(C$5,MONTH($S10),DAY($S10)))","v":0},{"$f":"SUMIFS('Sessies dag'!$B:$B,'Sessies dag'!$A:$A,\">=\"&DATE(D$5,MONTH($R10),DAY($R10)),'Sessies dag'!$A:$A,\"<=\"&DATE(D$5,MONTH($S10),DAY($S10)))","v":0},{"$f":"SUMIFS('Sessies dag'!$B:$B,'Sessies dag'!$A:$A,\">=\"&DATE(E$5,MONTH($R10),DAY($R10)),'Sessies dag'!$A:$A,\"<=\"&DATE(E$5,MONTH($S10),DAY($S10)))","v":0},{"$f":"SUMIFS('Sessies dag'!$B:$B,'Sessies dag'!$A:$A,\">=\"&DATE(F$5,MONTH($R10),DAY($R10)),'Sessies dag'!$A:$A,\"<=\"&DATE(F$5,MONTH($S10),DAY($S10)))","v":0},{"$f":"SUMIFS('Sessies dag'!$B:$B,'Sessies dag'!$A:$A,\">=\"&DATE(G$5,MONTH($R10),DAY($R10)),'Sessies dag'!$A:$A,\"<=\"&DATE(G$5,MONTH($S10),DAY($S10)))","v":0},{"$f":"SUMIFS('Sessies dag'!$B:$B,'Sessies dag'!$A:$A,\">=\"&DATE(H$5,MONTH($R10),DAY($R10)),'Sessies dag'!$A:$A,\"<=\"&DATE(H$5,MONTH($S10),DAY($S10)))","v":0},{"$f":"SUMIFS('Sessies dag'!$B:$B,'Sessies dag'!$A:$A,\">=\"&DATE(I$5,MONTH($R10),DAY($R10)),'Sessies dag'!$A:$A,\"<=\"&DATE(I$5,MONTH($S10),DAY($S10)))","v":0},{"$f":"SUMIFS('Sessies dag'!$B:$B,'Sessies dag'!$A:$A,\">=\"&DATE(J$5,MONTH($R10),DAY($R10)),'Sessies dag'!$A:$A,\"<=\"&DATE(J$5,MONTH($S10),DAY($S10)))","v":0},{"$f":"SUMIFS('Sessies dag'!$B:$B,'Sessies dag'!$A:$A,\">=\"&DATE(K$5,MONTH($R10),DAY($R10)),'Sessies dag'!$A:$A,\"<=\"&DATE(K$5,MONTH($S10),DAY($S10)))","v":0},null,null,null,null,null,null,"2015-09-01","2015-09-30"]
["augustus",{"$f":"SUMIFS('Sessies dag'!$B:$B,'Sessies dag'!$A:$A,\">=\"&$R11,'Sessies dag'!$A:$A,\"<=\"&$S11)","v":0},{"$f":"SUMIFS('Sessies dag'!$B:$B,'Sessies dag'!$A:$A,\">=\"&DATE(C$5,MONTH($R11),DAY($R11)),'Sessies dag'!$A:$A,\"<=\"&DATE(C$5,MONTH($S11),DAY($S11)))","v":0},{"$f":"SUMIFS('Sessies dag'!$B:$B,'Sessies dag'!$A:$A,\">=\"&DATE(D$5,MONTH($R11),DAY($R11)),'Sessies dag'!$A:$A,\"<=\"&DATE(D$5,MONTH($S11),DAY($S11)))","v":0},{"$f":"SUMIFS('Sessies dag'!$B:$B,'Sessies dag'!$A:$A,\">=\"&DATE(E$5,MONTH($R11),DAY($R11)),'Sessies dag'!$A:$A,\"<=\"&DATE(E$5,MONTH($S11),DAY($S11)))","v":0},{"$f":"SUMIFS('Sessies dag'!$B:$B,'Sessies dag'!$A:$A,\">=\"&DATE(F$5,MONTH($R11),DAY($R11)),'Sessies dag'!$A:$A,\"<=\"&DATE(F$5,MONTH($S11),DAY($S11)))","v":0},{"$f":"SUMIFS('Sessies dag'!$B:$B,'Sessies dag'!$A:$A,\">=\"&DATE(G$5,MONTH($R11),DAY($R11)),'Sessies dag'!$A:$A,\"<=\"&DATE(G$5,MONTH($S11),DAY($S11)))","v":0},{"$f":"SUMIFS('Sessies dag'!$B:$B,'Sessies dag'!$A:$A,\">=\"&DATE(H$5,MONTH($R11),DAY($R11)),'Sessies dag'!$A:$A,\"<=\"&DATE(H$5,MONTH($S11),DAY($S11)))","v":0},{"$f":"SUMIFS('Sessies dag'!$B:$B,'Sessies dag'!$A:$A,\">=\"&DATE(I$5,MONTH($R11),DAY($R11)),'Sessies dag'!$A:$A,\"<=\"&DATE(I$5,MONTH($S11),DAY($S11)))","v":0},{"$f":"SUMIFS('Sessies dag'!$B:$B,'Sessies dag'!$A:$A,\">=\"&DATE(J$5,MONTH($R11),DAY($R11)),'Sessies dag'!$A:$A,\"<=\"&DATE(J$5,MONTH($S11),DAY($S11)))","v":0},{"$f":"SUMIFS('Sessies dag'!$B:$B,'Sessies dag'!$A:$A,\">=\"&DATE(K$5,MONTH($R11),DAY($R11)),'Sessies dag'!$A:$A,\"<=\"&DATE(K$5,MONTH($S11),DAY($S11)))","v":0},null,null,null,null,null,null,"2015-10-01","2015-10-31"]
["september",{"$f":"SUMIFS('Sessies dag'!$B:$B,'Sessies dag'!$A:$A,\">=\"&$R12,'Sessies dag'!$A:$A,\"<=\"&$S12)","v":0},{"$f":"SUMIFS('Sessies dag'!$B:$B,'Sessies dag'!$A:$A,\">=\"&DATE(C$5,MONTH($R12),DAY($R12)),'Sessies dag'!$A:$A,\"<=\"&DATE(C$5,MONTH($S12),DAY($S12)))","v":0},{"$f":"SUMIFS('Sessies dag'!$B:$B,'Sessies dag'!$A:$A,\">=\"&DATE(D$5,MONTH($R12),DAY($R12)),'Sessies dag'!$A:$A,\"<=\"&DATE(D$5,MONTH($S12),DAY($S12)))","v":0},{"$f":"SUMIFS('Sessies dag'!$B:$B,'Sessies dag'!$A:$A,\">=\"&DATE(E$5,MONTH($R12),DAY($R12)),'Sessies dag'!$A:$A,\"<=\"&DATE(E$5,MONTH($S12),DAY($S12)))","v":0},{"$f":"SUMIFS('Sessies dag'!$B:$B,'Sessies dag'!$A:$A,\">=\"&DATE(F$5,MONTH($R12),DAY($R12)),'Sessies dag'!$A:$A,\"<=\"&DATE(F$5,MONTH($S12),DAY($S12)))","v":0},{"$f":"SUMIFS('Sessies dag'!$B:$B,'Sessies dag'!$A:$A,\">=\"&DATE(G$5,MONTH($R12),DAY($R12)),'Sessies dag'!$A:$A,\"<=\"&DATE(G$5,MONTH($S12),DAY($S12)))","v":0},{"$f":"SUMIFS('Sessies dag'!$B:$B,'Sessies dag'!$A:$A,\">=\"&DATE(H$5,MONTH($R12),DAY($R12)),'Sessies dag'!$A:$A,\"<=\"&DATE(H$5,MONTH($S12),DAY($S12)))","v":0},{"$f":"SUMIFS('Sessies dag'!$B:$B,'Sessies dag'!$A:$A,\">=\"&DATE(I$5,MONTH($R12),DAY($R12)),'Sessies dag'!$A:$A,\"<=\"&DATE(I$5,MONTH($S12),DAY($S12)))","v":0},{"$f":"SUMIFS('Sessies dag'!$B:$B,'Sessies dag'!$A:$A,\">=\"&DATE(J$5,MONTH($R12),DAY($R12)),'Sessies dag'!$A:$A,\"<=\"&DATE(J$5,MONTH($S12),DAY($S12)))","v":0},{"$f":"SUMIFS('Sessies dag'!$B:$B,'Sessies dag'!$A:$A,\">=\"&DATE(K$5,MONTH($R12),DAY($R12)),'Sessies dag'!$A:$A,\"<=\"&DATE(K$5,MONTH($S12),DAY($S12)))","v":0},null,null,null,null,null,null,"2015-11-01","2015-11-30"]
["oktober",{"$f":"SUMIFS('Sessies dag'!$B:$B,'Sessies dag'!$A:$A,\">=\"&$R13,'Sessies dag'!$A:$A,\"<=\"&$S13)","v":0},{"$f":"SUMIFS('Sessies dag'!$B:$B,'Sessies dag'!$A:$A,\">=\"&DATE(C$5,MONTH($R13),DAY($R13)),'Sessies dag'!$A:$A,\"<=\"&DATE(C$5,MONTH($S13),DAY($S13)))","v":0},{"$f":"SUMIFS('Sessies dag'!$B:$B,'Sessies dag'!$A:$A,\">=\"&DATE(D$5,MONTH($R13),DAY($R13)),'Sessies dag'!$A:$A,\"<=\"&DATE(D$5,MONTH($S13),DAY($S13)))","v":0},{"$f":"SUMIFS('Sessies dag'!$B:$B,'Sessies dag'!$A:$A,\">=\"&DATE(E$5,MONTH($R13),DAY($R13)),'Sessies dag'!$A:$A,\"<=\"&DATE(E$5,MONTH($S13),DAY($S13)))","v":0},{"$f":"SUMIFS('Sessies dag'!$B:$B,'Sessies dag'!$A:$A,\">=\"&DATE(F$5,MONTH($R13),DAY($R13)),'Sessies dag'!$A:$A,\"<=\"&DATE(F$5,MONTH($S13),DAY($S13)))","v":0},{"$f":"SUMIFS('Sessies dag'!$B:$B,'Sessies dag'!$A:$A,\">=\"&DATE(G$5,MONTH($R13),DAY($R13)),'Sessies dag'!$A:$A,\"<=\"&DATE(G$5,MONTH($S13),DAY($S13)))","v":0},{"$f":"SUMIFS('Sessies dag'!$B:$B,'Sessies dag'!$A:$A,\">=\"&DATE(H$5,MONTH($R13),DAY($R13)),'Sessies dag'!$A:$A,\"<=\"&DATE(H$5,MONTH($S13),DAY($S13)))","v":0},{"$f":"SUMIFS('Sessies dag'!$B:$B,'Sessies dag'!$A:$A,\">=\"&DATE(I$5,MONTH($R13),DAY($R13)),'Sessies dag'!$A:$A,\"<=\"&DATE(I$5,MONTH($S13),DAY($S13)))","v":0},{"$f":"SUMIFS('Sessies dag'!$B:$B,'Sessies dag'!$A:$A,\">=\"&DATE(J$5,MONTH($R13),DAY($R13)),'Sessies dag'!$A:$A,\"<=\"&DATE(J$5,MONTH($S13),DAY($S13)))","v":0},{"$f":"SUMIFS('Sessies dag'!$B:$B,'Sessies dag'!$A:$A,\">=\"&DATE(K$5,MONTH($R13),DAY($R13)),'Sessies dag'!$A:$A,\"<=\"&DATE(K$5,MONTH($S13),DAY($S13)))","v":0},null,null,null,null,null,null,{"$f":"DATE($B$1-2,ROW(12:12),1)","v":"2015-12-01"},{"$f":"DATE($B$1-2,ROW(13:13),1)-1","v":"2015-12-31"}]
["november",{"$f":"SUMIFS('Sessies dag'!$B:$B,'Sessies dag'!$A:$A,\">=\"&$R14,'Sessies dag'!$A:$A,\"<=\"&$S14)","v":0},{"$f":"SUMIFS('Sessies dag'!$B:$B,'Sessies dag'!$A:$A,\">=\"&DATE(C$5,MONTH($R14),DAY($R14)),'Sessies dag'!$A:$A,\"<=\"&DATE(C$5,MONTH($S14),DAY($S14)))","v":0},{"$f":"SUMIFS('Sessies dag'!$B:$B,'Sessies dag'!$A:$A,\">=\"&DATE(D$5,MONTH($R14),DAY($R14)),'Sessies dag'!$A:$A,\"<=\"&DATE(D$5,MONTH($S14),DAY($S14)))","v":0},{"$f":"SUMIFS('Sessies dag'!$B:$B,'Sessies dag'!$A:$A,\">=\"&DATE(E$5,MONTH($R14),DAY($R14)),'Sessies dag'!$A:$A,\"<=\"&DATE(E$5,MONTH($S14),DAY($S14)))","v":0},{"$f":"SUMIFS('Sessies dag'!$B:$B,'Sessies dag'!$A:$A,\">=\"&DATE(F$5,MONTH($R14),DAY($R14)),'Sessies dag'!$A:$A,\"<=\"&DATE(F$5,MONTH($S14),DAY($S14)))","v":0},{"$f":"SUMIFS('Sessies dag'!$B:$B,'Sessies dag'!$A:$A,\">=\"&DATE(G$5,MONTH($R14),DAY($R14)),'Sessies dag'!$A:$A,\"<=\"&DATE(G$5,MONTH($S14),DAY($S14)))","v":0},{"$f":"SUMIFS('Sessies dag'!$B:$B,'Sessies dag'!$A:$A,\">=\"&DATE(H$5,MONTH($R14),DAY($R14)),'Sessies dag'!$A:$A,\"<=\"&DATE(H$5,MONTH($S14),DAY($S14)))","v":0},{"$f":"SUMIFS('Sessies dag'!$B:$B,'Sessies dag'!$A:$A,\">=\"&DATE(I$5,MONTH($R14),DAY($R14)),'Sessies dag'!$A:$A,\"<=\"&DATE(I$5,MONTH($S14),DAY($S14)))","v":0},{"$f":"SUMIFS('Sessies dag'!$B:$B,'Sessies dag'!$A:$A,\">=\"&DATE(J$5,MONTH($R14),DAY($R14)),'Sessies dag'!$A:$A,\"<=\"&DATE(J$5,MONTH($S14),DAY($S14)))","v":0},{"$f":"SUMIFS('Sessies dag'!$B:$B,'Sessies dag'!$A:$A,\">=\"&DATE(K$5,MONTH($R14),DAY($R14)),'Sessies dag'!$A:$A,\"<=\"&DATE(K$5,MONTH($S14),DAY($S14)))","v":0}]
["december",{"$f":"SUMIFS('Sessies dag'!$B:$B,'Sessies dag'!$A:$A,\">=\"&$R15,'Sessies dag'!$A:$A,\"<=\"&$S15)","v":0},{"$f":"SUMIFS('Sessies dag'!$B:$B,'Sessies dag'!$A:$A,\">=\"&DATE(C$5,MONTH($R15),DAY($R15)),'Sessies dag'!$A:$A,\"<=\"&DATE(C$5,MONTH($S15),DAY($S15)))","v":0},{"$f":"SUMIFS('Sessies dag'!$B:$B,'Sessies dag'!$A:$A,\">=\"&DATE(D$5,MONTH($R15),DAY($R15)),'Sessies dag'!$A:$A,\"<=\"&DATE(D$5,MONTH($S15),DAY($S15)))","v":0},{"$f":"SUMIFS('Sessies dag'!$B:$B,'Sessies dag'!$A:$A,\">=\"&DATE(E$5,MONTH($R15),DAY($R15)),'Sessies dag'!$A:$A,\"<=\"&DATE(E$5,MONTH($S15),DAY($S15)))","v":0},{"$f":"SUMIFS('Sessies dag'!$B:$B,'Sessies dag'!$A:$A,\">=\"&DATE(F$5,MONTH($R15),DAY($R15)),'Sessies dag'!$A:$A,\"<=\"&DATE(F$5,MONTH($S15),DAY($S15)))","v":0},{"$f":"SUMIFS('Sessies dag'!$B:$B,'Sessies dag'!$A:$A,\">=\"&DATE(G$5,MONTH($R15),DAY($R15)),'Sessies dag'!$A:$A,\"<=\"&DATE(G$5,MONTH($S15),DAY($S15)))","v":0},{"$f":"SUMIFS('Sessies dag'!$B:$B,'Sessies dag'!$A:$A,\">=\"&DATE(H$5,MONTH($R15),DAY($R15)),'Sessies dag'!$A:$A,\"<=\"&DATE(H$5,MONTH($S15),DAY($S15)))","v":0},{"$f":"SUMIFS('Sessies dag'!$B:$B,'Sessies dag'!$A:$A,\">=\"&DATE(I$5,MONTH($R15),DAY($R15)),'Sessies dag'!$A:$A,\"<=\"&DATE(I$5,MONTH($S15),DAY($S15)))","v":0},{"$f":"SUMIFS('Sessies dag'!$B:$B,'Sessies dag'!$A:$A,\">=\"&DATE(J$5,MONTH($R15),DAY($R15)),'Sessies dag'!$A:$A,\"<=\"&DATE(J$5,MONTH($S15),DAY($S15)))","v":0},{"$f":"SUMIFS('Sessies dag'!$B:$B,'Sessies dag'!$A:$A,\">=\"&DATE(K$5,MONTH($R15),DAY($R15)),'Sessies dag'!$A:$A,\"<=\"&DATE(K$5,MONTH($S15),DAY($S15)))","v":0}]
[]
["Sessies per dag van de week"]
["Jaar"]
[2017]
[]
[null,"ma","di","wo","do","vr","za","zo"]
["januari",{"$f":"SUMIFS('Sessies dag'!$B:$B,'Sessies dag'!$C:$C,COLUMN(A:A),'Sessies dag'!$A:$A,\">=\"&DATE($A$21,MONTH($R4),1),'Sessies dag'!$A:$A,\"<=\"&DATE($A$21,MONTH($S4),DAY($S4)))","v":0},{"$f":"SUMIFS('Sessies dag'!$B:$B,'Sessies dag'!$C:$C,COLUMN(B:B),'Sessies dag'!$A:$A,\">=\"&DATE($A$21,MONTH($R4),1),'Sessies dag'!$A:$A,\"<=\"&DATE($A$21,MONTH($S4),DAY($S4)))","v":0},{"$f":"SUMIFS('Sessies dag'!$B:$B,'Sessies dag'!$C:$C,COLUMN(C:C),'Sessies dag'!$A:$A,\">=\"&DATE($A$21,MONTH($R4),1),'Sessies dag'!$A:$A,\"<=\"&DATE($A$21,MONTH($S4),DAY($S4)))","v":0},{"$f":"SUMIFS('Sessies dag'!$B:$B,'Sessies dag'!$C:$C,COLUMN(D:D),'Sessies dag'!$A:$A,\">=\"&DATE($A$21,MONTH($R4),1),'Sessies dag'!$A:$A,\"<=\"&DATE($A$21,MONTH($S4),DAY($S4)))","v":0},{"$f":"SUMIFS('Sessies dag'!$B:$B,'Sessies dag'!$C:$C,COLUMN(E:E),'Sessies dag'!$A:$A,\">=\"&DATE($A$21,MONTH($R4),1),'Sessies dag'!$A:$A,\"<=\"&DATE($A$21,MONTH($S4),DAY($S4)))","v":0},{"$f":"SUMIFS('Sessies dag'!$B:$B,'Sessies dag'!$C:$C,COLUMN(F:F),'Sessies dag'!$A:$A,\">=\"&DATE($A$21,MONTH($R4),1),'Sessies dag'!$A:$A,\"<=\"&DATE($A$21,MONTH($S4),DAY($S4)))","v":0},{"$f":"SUMIFS('Sessies dag'!$B:$B,'Sessies dag'!$C:$C,COLUMN(G:G),'Sessies dag'!$A:$A,\">=\"&DATE($A$21,MONTH($R4),1),'Sessies dag'!$A:$A,\"<=\"&DATE($A$21,MONTH($S4),DAY($S4)))","v":0}]
["februari",{"$f":"SUMIFS('Sessies dag'!$B:$B,'Sessies dag'!$C:$C,COLUMN(A:A),'Sessies dag'!$A:$A,\">=\"&DATE($A$21,MONTH($R5),1),'Sessies dag'!$A:$A,\"<=\"&DATE($A$21,MONTH($S5),DAY($S5)))","v":0},{"$f":"SUMIFS('Sessies dag'!$B:$B,'Sessies dag'!$C:$C,COLUMN(B:B),'Sessies dag'!$A:$A,\">=\"&DATE($A$21,MONTH($R5),1),'Sessies dag'!$A:$A,\"<=\"&DATE($A$21,MONTH($S5),DAY($S5)))","v":0},{"$f":"SUMIFS('Sessies dag'!$B:$B,'Sessies dag'!$C:$C,COLUMN(C:C),'Sessies dag'!$A:$A,\">=\"&DATE($A$21,MONTH($R5),1),'Sessies dag'!$A:$A,\"<=\"&DATE($A$21,MONTH($S5),DAY($S5)))","v":0},{"$f":"SUMIFS('Sessies dag'!$B:$B,'Sessies dag'!$C:$C,COLUMN(D:D),'Sessies dag'!$A:$A,\">=\"&DATE($A$21,MONTH($R5),1),'Sessies dag'!$A:$A,\"<=\"&DATE($A$21,MONTH($S5),DAY($S5)))","v":0},{"$f":"SUMIFS('Sessies dag'!$B:$B,'Sessies dag'!$C:$C,COLUMN(E:E),'Sessies dag'!$A:$A,\">=\"&DATE($A$21,MONTH($R5),1),'Sessies dag'!$A:$A,\"<=\"&DATE($A$21,MONTH($S5),DAY($S5)))","v":0},{"$f":"SUMIFS('Sessies dag'!$B:$B,'Sessies dag'!$C:$C,COLUMN(F:F),'Sessies dag'!$A:$A,\">=\"&DATE($A$21,MONTH($R5),1),'Sessies dag'!$A:$A,\"<=\"&DATE($A$21,MONTH($S5),DAY($S5)))","v":0},{"$f":"SUMIFS('Sessies dag'!$B:$B,'Sessies dag'!$C:$C,COLUMN(G:G),'Sessies dag'!$A:$A,\">=\"&DATE($A$21,MONTH($R5),1),'Sessies dag'!$A:$A,\"<=\"&DATE($A$21,MONTH($S5),DAY($S5)))","v":0}]
["maart",{"$f":"SUMIFS('Sessies dag'!$B:$B,'Sessies dag'!$C:$C,COLUMN(A:A),'Sessies dag'!$A:$A,\">=\"&DATE($A$21,MONTH($R6),1),'Sessies dag'!$A:$A,\"<=\"&DATE($A$21,MONTH($S6),DAY($S6)))","v":0},{"$f":"SUMIFS('Sessies dag'!$B:$B,'Sessies dag'!$C:$C,COLUMN(B:B),'Sessies dag'!$A:$A,\">=\"&DATE($A$21,MONTH($R6),1),'Sessies dag'!$A:$A,\"<=\"&DATE($A$21,MONTH($S6),DAY($S6)))","v":0},{"$f":"SUMIFS('Sessies dag'!$B:$B,'Sessies dag'!$C:$C,COLUMN(C:C),'Sessies dag'!$A:$A,\">=\"&DATE($A$21,MONTH($R6),1),'Sessies dag'!$A:$A,\"<=\"&DATE($A$21,MONTH($S6),DAY($S6)))","v":0},{"$f":"SUMIFS('Sessies dag'!$B:$B,'Sessies dag'!$C:$C,COLUMN(D:D),'Sessies dag'!$A:$A,\">=\"&DATE($A$21,MONTH($R6),1),'Sessies dag'!$A:$A,\"<=\"&DATE($A$21,MONTH($S6),DAY($S6)))","v":0},{"$f":"SUMIFS('Sessies dag'!$B:$B,'Sessies dag'!$C:$C,COLUMN(E:E),'Sessies dag'!$A:$A,\">=\"&DATE($A$21,MONTH($R6),1),'Sessies dag'!$A:$A,\"<=\"&DATE($A$21,MONTH($S6),DAY($S6)))","v":0},{"$f":"SUMIFS('Sessies dag'!$B:$B,'Sessies dag'!$C:$C,COLUMN(F:F),'Sessies dag'!$A:$A,\">=\"&DATE($A$21,MONTH($R6),1),'Sessies dag'!$A:$A,\"<=\"&DATE($A$21,MONTH($S6),DAY($S6)))","v":0},{"$f":"SUMIFS('Sessies dag'!$B:$B,'Sessies dag'!$C:$C,COLUMN(G:G),'Sessies dag'!$A:$A,\">=\"&DATE($A$21,MONTH($R6),1),'Sessies dag'!$A:$A,\"<=\"&DATE($A$21,MONTH($S6),DAY($S6)))","v":0}]
["april",{"$f":"SUMIFS('Sessies dag'!$B:$B,'Sessies dag'!$C:$C,COLUMN(A:A),'Sessies dag'!$A:$A,\">=\"&DATE($A$21,MONTH($R7),1),'Sessies dag'!$A:$A,\"<=\"&DATE($A$21,MONTH($S7),DAY($S7)))","v":0},{"$f":"SUMIFS('Sessies dag'!$B:$B,'Sessies dag'!$C:$C,COLUMN(B:B),'Sessies dag'!$A:$A,\">=\"&DATE($A$21,MONTH($R7),1),'Sessies dag'!$A:$A,\"<=\"&DATE($A$21,MONTH($S7),DAY($S7)))","v":0},{"$f":"SUMIFS('Sessies dag'!$B:$B,'Sessies dag'!$C:$C,COLUMN(C:C),'Sessies dag'!$A:$A,\">=\"&DATE($A$21,MONTH($R7),1),'Sessies dag'!$A:$A,\"<=\"&DATE($A$21,MONTH($S7),DAY($S7)))","v":0},{"$f":"SUMIFS('Sessies dag'!$B:$B,'Sessies dag'!$C:$C,COLUMN(D:D),'Sessies dag'!$A:$A,\">=\"&DATE($A$21,MONTH($R7),1),'Sessies dag'!$A:$A,\"<=\"&DATE($A$21,MONTH($S7),DAY($S7)))","v":0},{"$f":"SUMIFS('Sessies dag'!$B:$B,'Sessies dag'!$C:$C,COLUMN(E:E),'Sessies dag'!$A:$A,\">=\"&DATE($A$21,MONTH($R7),1),'Sessies dag'!$A:$A,\"<=\"&DATE($A$21,MONTH($S7),DAY($S7)))","v":0},{"$f":"SUMIFS('Sessies dag'!$B:$B,'Sessies dag'!$C:$C,COLUMN(F:F),'Sessies dag'!$A:$A,\">=\"&DATE($A$21,MONTH($R7),1),'Sessies dag'!$A:$A,\"<=\"&DATE($A$21,MONTH($S7),DAY($S7)))","v":0},{"$f":"SUMIFS('Sessies dag'!$B:$B,'Sessies dag'!$C:$C,COLUMN(G:G),'Sessies dag'!$A:$A,\">=\"&DATE($A$21,MONTH($R7),1),'Sessies dag'!$A:$A,\"<=\"&DATE($A$21,MONTH($S7),DAY($S7)))","v":0}]
["mei",{"$f":"SUMIFS('Sessies dag'!$B:$B,'Sessies dag'!$C:$C,COLUMN(A:A),'Sessies dag'!$A:$A,\">=\"&DATE($A$21,MONTH($R8),1),'Sessies dag'!$A:$A,\"<=\"&DATE($A$21,MONTH($S8),DAY($S8)))","v":0},{"$f":"SUMIFS('Sessies dag'!$B:$B,'Sessies dag'!$C:$C,COLUMN(B:B),'Sessies dag'!$A:$A,\">=\"&DATE($A$21,MONTH($R8),1),'Sessies dag'!$A:$A,\"<=\"&DATE($A$21,MONTH($S8),DAY($S8)))","v":0},{"$f":"SUMIFS('Sessies dag'!$B:$B,'Sessies dag'!$C:$C,COLUMN(C:C),'Sessies dag'!$A:$A,\">=\"&DATE($A$21,MONTH($R8),1),'Sessies dag'!$A:$A,\"<=\"&DATE($A$21,MONTH($S8),DAY($S8)))","v":0},{"$f":"SUMIFS('Sessies dag'!$B:$B,'Sessies dag'!$C:$C,COLUMN(D:D),'Sessies dag'!$A:$A,\">=\"&DATE($A$21,MONTH($R8),1),'Sessies dag'!$A:$A,\"<=\"&DATE($A$21,MONTH($S8),DAY($S8)))","v":0},{"$f":"SUMIFS('Sessies dag'!$B:$B,'Sessies dag'!$C:$C,COLUMN(E:E),'Sessies dag'!$A:$A,\">=\"&DATE($A$21,MONTH($R8),1),'Sessies dag'!$A:$A,\"<=\"&DATE($A$21,MONTH($S8),DAY($S8)))","v":0},{"$f":"SUMIFS('Sessies dag'!$B:$B,'Sessies dag'!$C:$C,COLUMN(F:F),'Sessies dag'!$A:$A,\">=\"&DATE($A$21,MONTH($R8),1),'Sessies dag'!$A:$A,\"<=\"&DATE($A$21,MONTH($S8),DAY($S8)))","v":0},{"$f":"SUMIFS('Sessies dag'!$B:$B,'Sessies dag'!$C:$C,COLUMN(G:G),'Sessies dag'!$A:$A,\">=\"&DATE($A$21,MONTH($R8),1),'Sessies dag'!$A:$A,\"<=\"&DATE($A$21,MONTH($S8),DAY($S8)))","v":0}]
["juni",{"$f":"SUMIFS('Sessies dag'!$B:$B,'Sessies dag'!$C:$C,COLUMN(A:A),'Sessies dag'!$A:$A,\">=\"&DATE($A$21,MONTH($R9),1),'Sessies dag'!$A:$A,\"<=\"&DATE($A$21,MONTH($S9),DAY($S9)))","v":0},{"$f":"SUMIFS('Sessies dag'!$B:$B,'Sessies dag'!$C:$C,COLUMN(B:B),'Sessies dag'!$A:$A,\">=\"&DATE($A$21,MONTH($R9),1),'Sessies dag'!$A:$A,\"<=\"&DATE($A$21,MONTH($S9),DAY($S9)))","v":0},{"$f":"SUMIFS('Sessies dag'!$B:$B,'Sessies dag'!$C:$C,COLUMN(C:C),'Sessies dag'!$A:$A,\">=\"&DATE($A$21,MONTH($R9),1),'Sessies dag'!$A:$A,\"<=\"&DATE($A$21,MONTH($S9),DAY($S9)))","v":0},{"$f":"SUMIFS('Sessies dag'!$B:$B,'Sessies dag'!$C:$C,COLUMN(D:D),'Sessies dag'!$A:$A,\">=\"&DATE($A$21,MONTH($R9),1),'Sessies dag'!$A:$A,\"<=\"&DATE($A$21,MONTH($S9),DAY($S9)))","v":0},{"$f":"SUMIFS('Sessies dag'!$B:$B,'Sessies dag'!$C:$C,COLUMN(E:E),'Sessies dag'!$A:$A,\">=\"&DATE($A$21,MONTH($R9),1),'Sessies dag'!$A:$A,\"<=\"&DATE($A$21,MONTH($S9),DAY($S9)))","v":0},{"$f":"SUMIFS('Sessies dag'!$B:$B,'Sessies dag'!$C:$C,COLUMN(F:F),'Sessies dag'!$A:$A,\">=\"&DATE($A$21,MONTH($R9),1),'Sessies dag'!$A:$A,\"<=\"&DATE($A$21,MONTH($S9),DAY($S9)))","v":0},{"$f":"SUMIFS('Sessies dag'!$B:$B,'Sessies dag'!$C:$C,COLUMN(G:G),'Sessies dag'!$A:$A,\">=\"&DATE($A$21,MONTH($R9),1),'Sessies dag'!$A:$A,\"<=\"&DATE($A$21,MONTH($S9),DAY($S9)))","v":0}]
["juli",{"$f":"SUMIFS('Sessies dag'!$B:$B,'Sessies dag'!$C:$C,COLUMN(A:A),'Sessies dag'!$A:$A,\">=\"&DATE($A$21,MONTH($R10),1),'Sessies dag'!$A:$A,\"<=\"&DATE($A$21,MONTH($S10),DAY($S10)))","v":0},{"$f":"SUMIFS('Sessies dag'!$B:$B,'Sessies dag'!$C:$C,COLUMN(B:B),'Sessies dag'!$A:$A,\">=\"&DATE($A$21,MONTH($R10),1),'Sessies dag'!$A:$A,\"<=\"&DATE($A$21,MONTH($S10),DAY($S10)))","v":0},{"$f":"SUMIFS('Sessies dag'!$B:$B,'Sessies dag'!$C:$C,COLUMN(C:C),'Sessies dag'!$A:$A,\">=\"&DATE($A$21,MONTH($R10),1),'Sessies dag'!$A:$A,\"<=\"&DATE($A$21,MONTH($S10),DAY($S10)))","v":0},{"$f":"SUMIFS('Sessies dag'!$B:$B,'Sessies dag'!$C:$C,COLUMN(D:D),'Sessies dag'!$A:$A,\">=\"&DATE($A$21,MONTH($R10),1),'Sessies dag'!$A:$A,\"<=\"&DATE($A$21,MONTH($S10),DAY($S10)))","v":0},{"$f":"SUMIFS('Sessies dag'!$B:$B,'Sessies dag'!$C:$C,COLUMN(E:E),'Sessies dag'!$A:$A,\">=\"&DATE($A$21,MONTH($R10),1),'Sessies dag'!$A:$A,\"<=\"&DATE($A$21,MONTH($S10),DAY($S10)))","v":0},{"$f":"SUMIFS('Sessies dag'!$B:$B,'Sessies dag'!$C:$C,COLUMN(F:F),'Sessies dag'!$A:$A,\">=\"&DATE($A$21,MONTH($R10),1),'Sessies dag'!$A:$A,\"<=\"&DATE($A$21,MONTH($S10),DAY($S10)))","v":0},{"$f":"SUMIFS('Sessies dag'!$B:$B,'Sessies dag'!$C:$C,COLUMN(G:G),'Sessies dag'!$A:$A,\">=\"&DATE($A$21,MONTH($R10),1),'Sessies dag'!$A:$A,\"<=\"&DATE($A$21,MONTH($S10),DAY($S10)))","v":0}]
["augustus",{"$f":"SUMIFS('Sessies dag'!$B:$B,'Sessies dag'!$C:$C,COLUMN(A:A),'Sessies dag'!$A:$A,\">=\"&DATE($A$21,MONTH($R11),1),'Sessies dag'!$A:$A,\"<=\"&DATE($A$21,MONTH($S11),DAY($S11)))","v":0},{"$f":"SUMIFS('Sessies dag'!$B:$B,'Sessies dag'!$C:$C,COLUMN(B:B),'Sessies dag'!$A:$A,\">=\"&DATE($A$21,MONTH($R11),1),'Sessies dag'!$A:$A,\"<=\"&DATE($A$21,MONTH($S11),DAY($S11)))","v":0},{"$f":"SUMIFS('Sessies dag'!$B:$B,'Sessies dag'!$C:$C,COLUMN(C:C),'Sessies dag'!$A:$A,\">=\"&DATE($A$21,MONTH($R11),1),'Sessies dag'!$A:$A,\"<=\"&DATE($A$21,MONTH($S11),DAY($S11)))","v":0},{"$f":"SUMIFS('Sessies dag'!$B:$B,'Sessies dag'!$C:$C,COLUMN(D:D),'Sessies dag'!$A:$A,\">=\"&DATE($A$21,MONTH($R11),1),'Sessies dag'!$A:$A,\"<=\"&DATE($A$21,MONTH($S11),DAY($S11)))","v":0},{"$f":"SUMIFS('Sessies dag'!$B:$B,'Sessies dag'!$C:$C,COLUMN(E:E),'Sessies dag'!$A:$A,\">=\"&DATE($A$21,MONTH($R11),1),'Sessies dag'!$A:$A,\"<=\"&DATE($A$21,MONTH($S11),DAY($S11)))","v":0},{"$f":"SUMIFS('Sessies dag'!$B:$B,'Sessies dag'!$C:$C,COLUMN(F:F),'Sessies dag'!$A:$A,\">=\"&DATE($A$21,MONTH($R11),1),'Sessies dag'!$A:$A,\"<=\"&DATE($A$21,MONTH($S11),DAY($S11)))","v":0},{"$f":"SUMIFS('Sessies dag'!$B:$B,'Sessies dag'!$C:$C,COLUMN(G:G),'Sessies dag'!$A:$A,\">=\"&DATE($A$21,MONTH($R11),1),'Sessies dag'!$A:$A,\"<=\"&DATE($A$21,MONTH($S11),DAY($S11)))","v":0}]
["september",{"$f":"SUMIFS('Sessies dag'!$B:$B,'Sessies dag'!$C:$C,COLUMN(A:A),'Sessies dag'!$A:$A,\">=\"&DATE($A$21,MONTH($R12),1),'Sessies dag'!$A:$A,\"<=\"&DATE($A$21,MONTH($S12),DAY($S12)))","v":0},{"$f":"SUMIFS('Sessies dag'!$B:$B,'Sessies dag'!$C:$C,COLUMN(B:B),'Sessies dag'!$A:$A,\">=\"&DATE($A$21,MONTH($R12),1),'Sessies dag'!$A:$A,\"<=\"&DATE($A$21,MONTH($S12),DAY($S12)))","v":0},{"$f":"SUMIFS('Sessies dag'!$B:$B,'Sessies dag'!$C:$C,COLUMN(C:C),'Sessies dag'!$A:$A,\">=\"&DATE($A$21,MONTH($R12),1),'Sessies dag'!$A:$A,\"<=\"&DATE($A$21,MONTH($S12),DAY($S12)))","v":0},{"$f":"SUMIFS('Sessies dag'!$B:$B,'Sessies dag'!$C:$C,COLUMN(D:D),'Sessies dag'!$A:$A,\">=\"&DATE($A$21,MONTH($R12),1),'Sessies dag'!$A:$A,\"<=\"&DATE($A$21,MONTH($S12),DAY($S12)))","v":0},{"$f":"SUMIFS('Sessies dag'!$B:$B,'Sessies dag'!$C:$C,COLUMN(E:E),'Sessies dag'!$A:$A,\">=\"&DATE($A$21,MONTH($R12),1),'Sessies dag'!$A:$A,\"<=\"&DATE($A$21,MONTH($S12),DAY($S12)))","v":0},{"$f":"SUMIFS('Sessies dag'!$B:$B,'Sessies dag'!$C:$C,COLUMN(F:F),'Sessies dag'!$A:$A,\">=\"&DATE($A$21,MONTH($R12),1),'Sessies dag'!$A:$A,\"<=\"&DATE($A$21,MONTH($S12),DAY($S12)))","v":0},{"$f":"SUMIFS('Sessies dag'!$B:$B,'Sessies dag'!$C:$C,COLUMN(G:G),'Sessies dag'!$A:$A,\">=\"&DATE($A$21,MONTH($R12),1),'Sessies dag'!$A:$A,\"<=\"&DATE($A$21,MONTH($S12),DAY($S12)))","v":0}]
["oktober",{"$f":"SUMIFS('Sessies dag'!$B:$B,'Sessies dag'!$C:$C,COLUMN(A:A),'Sessies dag'!$A:$A,\">=\"&DATE($A$21,MONTH($R13),1),'Sessies dag'!$A:$A,\"<=\"&DATE($A$21,MONTH($S13),DAY($S13)))","v":0},{"$f":"SUMIFS('Sessies dag'!$B:$B,'Sessies dag'!$C:$C,COLUMN(B:B),'Sessies dag'!$A:$A,\">=\"&DATE($A$21,MONTH($R13),1),'Sessies dag'!$A:$A,\"<=\"&DATE($A$21,MONTH($S13),DAY($S13)))","v":0},{"$f":"SUMIFS('Sessies dag'!$B:$B,'Sessies dag'!$C:$C,COLUMN(C:C),'Sessies dag'!$A:$A,\">=\"&DATE($A$21,MONTH($R13),1),'Sessies dag'!$A:$A,\"<=\"&DATE($A$21,MONTH($S13),DAY($S13)))","v":0},{"$f":"SUMIFS('Sessies dag'!$B:$B,'Sessies dag'!$C:$C,COLUMN(D:D),'Sessies dag'!$A:$A,\">=\"&DATE($A$21,MONTH($R13),1),'Sessies dag'!$A:$A,\"<=\"&DATE($A$21,MONTH($S13),DAY($S13)))","v":0},{"$f":"SUMIFS('Sessies dag'!$B:$B,'Sessies dag'!$C:$C,COLUMN(E:E),'Sessies dag'!$A:$A,\">=\"&DATE($A$21,MONTH($R13),1),'Sessies dag'!$A:$A,\"<=\"&DATE($A$21,MONTH($S13),DAY($S13)))","v":0},{"$f":"SUMIFS('Sessies dag'!$B:$B,'Sessies dag'!$C:$C,COLUMN(F:F),'Sessies dag'!$A:$A,\">=\"&DATE($A$21,MONTH($R13),1),'Sessies dag'!$A:$A,\"<=\"&DATE($A$21,MONTH($S13),DAY($S13)))","v":0},{"$f":"SUMIFS('Sessies dag'!$B:$B,'Sessies dag'!$C:$C,COLUMN(G:G),'Sessies dag'!$A:$A,\">=\"&DATE($A$21,MONTH($R13),1),'Sessies dag'!$A:$A,\"<=\"&DATE($A$21,MONTH($S13),DAY($S13)))","v":0}]
["november",{"$f":"SUMIFS('Sessies dag'!$B:$B,'Sessies dag'!$C:$C,COLUMN(A:A),'Sessies dag'!$A:$A,\">=\"&DATE($A$21,MONTH($R14),1),'Sessies dag'!$A:$A,\"<=\"&DATE($A$21,MONTH($S14),DAY($S14)))","v":0},{"$f":"SUMIFS('Sessies dag'!$B:$B,'Sessies dag'!$C:$C,COLUMN(B:B),'Sessies dag'!$A:$A,\">=\"&DATE($A$21,MONTH($R14),1),'Sessies dag'!$A:$A,\"<=\"&DATE($A$21,MONTH($S14),DAY($S14)))","v":0},{"$f":"SUMIFS('Sessies dag'!$B:$B,'Sessies dag'!$C:$C,COLUMN(C:C),'Sessies dag'!$A:$A,\">=\"&DATE($A$21,MONTH($R14),1),'Sessies dag'!$A:$A,\"<=\"&DATE($A$21,MONTH($S14),DAY($S14)))","v":0},{"$f":"SUMIFS('Sessies dag'!$B:$B,'Sessies dag'!$C:$C,COLUMN(D:D),'Sessies dag'!$A:$A,\">=\"&DATE($A$21,MONTH($R14),1),'Sessies dag'!$A:$A,\"<=\"&DATE($A$21,MONTH($S14),DAY($S14)))","v":0},{"$f":"SUMIFS('Sessies dag'!$B:$B,'Sessies dag'!$C:$C,COLUMN(E:E),'Sessies dag'!$A:$A,\">=\"&DATE($A$21,MONTH($R14),1),'Sessies dag'!$A:$A,\"<=\"&DATE($A$21,MONTH($S14),DAY($S14)))","v":0},{"$f":"SUMIFS('Sessies dag'!$B:$B,'Sessies dag'!$C:$C,COLUMN(F:F),'Sessies dag'!$A:$A,\">=\"&DATE($A$21,MONTH($R14),1),'Sessies dag'!$A:$A,\"<=\"&DATE($A$21,MONTH($S14),DAY($S14)))","v":0},{"$f":"SUMIFS('Sessies dag'!$B:$B,'Sessies dag'!$C:$C,COLUMN(G:G),'Sessies dag'!$A:$A,\">=\"&DATE($A$21,MONTH($R14),1),'Sessies dag'!$A:$A,\"<=\"&DATE($A$21,MONTH($S14),DAY($S14)))","v":0}]
["december",{"$f":"SUMIFS('Sessies dag'!$B:$B,'Sessies dag'!$C:$C,COLUMN(A:A),'Sessies dag'!$A:$A,\">=\"&DATE($A$21,MONTH($R15),1),'Sessies dag'!$A:$A,\"<=\"&DATE($A$21,MONTH($S15),DAY($S15)))","v":0},{"$f":"SUMIFS('Sessies dag'!$B:$B,'Sessies dag'!$C:$C,COLUMN(B:B),'Sessies dag'!$A:$A,\">=\"&DATE($A$21,MONTH($R15),1),'Sessies dag'!$A:$A,\"<=\"&DATE($A$21,MONTH($S15),DAY($S15)))","v":0},{"$f":"SUMIFS('Sessies dag'!$B:$B,'Sessies dag'!$C:$C,COLUMN(C:C),'Sessies dag'!$A:$A,\">=\"&DATE($A$21,MONTH($R15),1),'Sessies dag'!$A:$A,\"<=\"&DATE($A$21,MONTH($S15),DAY($S15)))","v":0},{"$f":"SUMIFS('Sessies dag'!$B:$B,'Sessies dag'!$C:$C,COLUMN(D:D),'Sessies dag'!$A:$A,\">=\"&DATE($A$21,MONTH($R15),1),'Sessies dag'!$A:$A,\"<=\"&DATE($A$21,MONTH($S15),DAY($S15)))","v":0},{"$f":"SUMIFS('Sessies dag'!$B:$B,'Sessies dag'!$C:$C,COLUMN(E:E),'Sessies dag'!$A:$A,\">=\"&DATE($A$21,MONTH($R15),1),'Sessies dag'!$A:$A,\"<=\"&DATE($A$21,MONTH($S15),DAY($S15)))","v":0},{"$f":"SUMIFS('Sessies dag'!$B:$B,'Sessies dag'!$C:$C,COLUMN(F:F),'Sessies dag'!$A:$A,\">=\"&DATE($A$21,MONTH($R15),1),'Sessies dag'!$A:$A,\"<=\"&DATE($A$21,MONTH($S15),DAY($S15)))","v":0},{"$f":"SUMIFS('Sessies dag'!$B:$B,'Sessies dag'!$C:$C,COLUMN(G:G),'Sessies dag'!$A:$A,\">=\"&DATE($A$21,MONTH($R15),1),'Sessies dag'!$A:$A,\"<=\"&DATE($A$21,MONTH($S15),DAY($S15)))","v":0}]
[]
["Kanalen"]
["Jaar"]
[2017]
[]
[null,"Organic Search","Direct","Referral","Social","Email","(Other)"]
["januari",{"$f":"SUMIFS(Kanalen!$D:$D,Kanalen!$A:$A,$A$39,Kanalen!$B:$B,ROW(1:1),Kanalen!$C:$C,B$41)","v":0},{"$f":"SUMIFS(Kanalen!$D:$D,Kanalen!$A:$A,$A$39,Kanalen!$B:$B,ROW(1:1),Kanalen!$C:$C,C$41)","v":0},{"$f":"SUMIFS(Kanalen!$D:$D,Kanalen!$A:$A,$A$39,Kanalen!$B:$B,ROW(1:1),Kanalen!$C:$C,D$41)","v":0},{"$f":"SUMIFS(Kanalen!$D:$D,Kanalen!$A:$A,$A$39,Kanalen!$B:$B,ROW(1:1),Kanalen!$C:$C,E$41)","v":0},{"$f":"SUMIFS(Kanalen!$D:$D,Kanalen!$A:$A,$A$39,Kanalen!$B:$B,ROW(1:1),Kanalen!$C:$C,F$41)","v":0},{"$f":"SUMIFS(Kanalen!$D:$D,Kanalen!$A:$A,$A$39,Kanalen!$B:$B,ROW(1:1),Kanalen!$C:$C,G$41)","v":0}]
["februari",{"$f":"SUMIFS(Kanalen!$D:$D,Kanalen!$A:$A,$A$39,Kanalen!$B:$B,ROW(2:2),Kanalen!$C:$C,B$41)","v":0},{"$f":"SUMIFS(Kanalen!$D:$D,Kanalen!$A:$A,$A$39,Kanalen!$B:$B,ROW(2:2),Kanalen!$C:$C,C$41)","v":0},{"$f":"SUMIFS(Kanalen!$D:$D,Kanalen!$A:$A,$A$39,Kanalen!$B:$B,ROW(2:2),Kanalen!$C:$C,D$41)","v":0},{"$f":"SUMIFS(Kanalen!$D:$D,Kanalen!$A:$A,$A$39,Kanalen!$B:$B,ROW(2:2),Kanalen!$C:$C,E$41)","v":0},{"$f":"SUMIFS(Kanalen!$D:$D,Kanalen!$A:$A,$A$39,Kanalen!$B:$B,ROW(2:2),Kanalen!$C:$C,F$41)","v":0},{"$f":"SUMIFS(Kanalen!$D:$D,Kanalen!$A:$A,$A$39,Kanalen!$B:$B,ROW(2:2),Kanalen!$C:$C,G$41)","v":0}]
["maart",{"$f":"SUMIFS(Kanalen!$D:$D,Kanalen!$A:$A,$A$39,Kanalen!$B:$B,ROW(3:3),Kanalen!$C:$C,B$41)","v":0},{"$f":"SUMIFS(Kanalen!$D:$D,Kanalen!$A:$A,$A$39,Kanalen!$B:$B,ROW(3:3),Kanalen!$C:$C,C$41)","v":0},{"$f":"SUMIFS(Kanalen!$D:$D,Kanalen!$A:$A,$A$39,Kanalen!$B:$B,ROW(3:3),Kanalen!$C:$C,D$41)","v":0},{"$f":"SUMIFS(Kanalen!$D:$D,Kanalen!$A:$A,$A$39,Kanalen!$B:$B,ROW(3:3),Kanalen!$C:$C,E$41)","v":0},{"$f":"SUMIFS(Kanalen!$D:$D,Kanalen!$A:$A,$A$39,Kanalen!$B:$B,ROW(3:3),Kanalen!$C:$C,F$41)","v":0},{"$f":"SUMIFS(Kanalen!$D:$D,Kanalen!$A:$A,$A$39,Kanalen!$B:$B,ROW(3:3),Kanalen!$C:$C,G$41)","v":0}]
["april",{"$f":"SUMIFS(Kanalen!$D:$D,Kanalen!$A:$A,$A$39,Kanalen!$B:$B,ROW(4:4),Kanalen!$C:$C,B$41)","v":0},{"$f":"SUMIFS(Kanalen!$D:$D,Kanalen!$A:$A,$A$39,Kanalen!$B:$B,ROW(4:4),Kanalen!$C:$C,C$41)","v":0},{"$f":"SUMIFS(Kanalen!$D:$D,Kanalen!$A:$A,$A$39,Kanalen!$B:$B,ROW(4:4),Kanalen!$C:$C,D$41)","v":0},{"$f":"SUMIFS(Kanalen!$D:$D,Kanalen!$A:$A,$A$39,Kanalen!$B:$B,ROW(4:4),Kanalen!$C:$C,E$41)","v":0},{"$f":"SUMIFS(Kanalen!$D:$D,Kanalen!$A:$A,$A$39,Kanalen!$B:$B,ROW(4:4),Kanalen!$C:$C,F$41)","v":0},{"$f":"SUMIFS(Kanalen!$D:$D,Kanalen!$A:$A,$A$39,Kanalen!$B:$B,ROW(4:4),Kanalen!$C:$C,G$41)","v":0}]
["mei",{"$f":"SUMIFS(Kanalen!$D:$D,Kanalen!$A:$A,$A$39,Kanalen!$B:$B,ROW(5:5),Kanalen!$C:$C,B$41)","v":0},{"$f":"SUMIFS(Kanalen!$D:$D,Kanalen!$A:$A,$A$39,Kanalen!$B:$B,ROW(5:5),Kanalen!$C:$C,C$41)","v":0},{"$f":"SUMIFS(Kanalen!$D:$D,Kanalen!$A:$A,$A$39,Kanalen!$B:$B,ROW(5:5),Kanalen!$C:$C,D$41)","v":0},{"$f":"SUMIFS(Kanalen!$D:$D,Kanalen!$A:$A,$A$39,Kanalen!$B:$B,ROW(5:5),Kanalen!$C:$C,E$41)","v":0},{"$f":"SUMIFS(Kanalen!$D:$D,Kanalen!$A:$A,$A$39,Kanalen!$B:$B,ROW(5:5),Kanalen!$C:$C,F$41)","v":0},{"$f":"SUMIFS(Kanalen!$D:$D,Kanalen!$A:$A,$A$39,Kanalen!$B:$B,ROW(5:5),Kanalen!$C:$C,G$41)","v":0}]
["juni",{"$f":"SUMIFS(Kanalen!$D:$D,Kanalen!$A:$A,$A$39,Kanalen!$B:$B,ROW(6:6),Kanalen!$C:$C,B$41)","v":0},{"$f":"SUMIFS(Kanalen!$D:$D,Kanalen!$A:$A,$A$39,Kanalen!$B:$B,ROW(6:6),Kanalen!$C:$C,C$41)","v":0},{"$f":"SUMIFS(Kanalen!$D:$D,Kanalen!$A:$A,$A$39,Kanalen!$B:$B,ROW(6:6),Kanalen!$C:$C,D$41)","v":0},{"$f":"SUMIFS(Kanalen!$D:$D,Kanalen!$A:$A,$A$39,Kanalen!$B:$B,ROW(6:6),Kanalen!$C:$C,E$41)","v":0},{"$f":"SUMIFS(Kanalen!$D:$D,Kanalen!$A:$A,$A$39,Kanalen!$B:$B,ROW(6:6),Kanalen!$C:$C,F$41)","v":0},{"$f":"SUMIFS(Kanalen!$D:$D,Kanalen!$A:$A,$A$39,Kanalen!$B:$B,ROW(6:6),Kanalen!$C:$C,G$41)","v":0}]
["juli",{"$f":"SUMIFS(Kanalen!$D:$D,Kanalen!$A:$A,$A$39,Kanalen!$B:$B,ROW(7:7),Kanalen!$C:$C,B$41)","v":0},{"$f":"SUMIFS(Kanalen!$D:$D,Kanalen!$A:$A,$A$39,Kanalen!$B:$B,ROW(7:7),Kanalen!$C:$C,C$41)","v":0},{"$f":"SUMIFS(Kanalen!$D:$D,Kanalen!$A:$A,$A$39,Kanalen!$B:$B,ROW(7:7),Kanalen!$C:$C,D$41)","v":0},{"$f":"SUMIFS(Kanalen!$D:$D,Kanalen!$A:$A,$A$39,Kanalen!$B:$B,ROW(7:7),Kanalen!$C:$C,E$41)","v":0},{"$f":"SUMIFS(Kanalen!$D:$D,Kanalen!$A:$A,$A$39,Kanalen!$B:$B,ROW(7:7),Kanalen!$C:$C,F$41)","v":0},{"$f":"SUMIFS(Kanalen!$D:$D,Kanalen!$A:$A,$A$39,Kanalen!$B:$B,ROW(7:7),Kanalen!$C:$C,G$41)","v":0}]
["augustus",{"$f":"SUMIFS(Kanalen!$D:$D,Kanalen!$A:$A,$A$39,Kanalen!$B:$B,ROW(8:8),Kanalen!$C:$C,B$41)","v":0},{"$f":"SUMIFS(Kanalen!$D:$D,Kanalen!$A:$A,$A$39,Kanalen!$B:$B,ROW(8:8),Kanalen!$C:$C,C$41)","v":0},{"$f":"SUMIFS(Kanalen!$D:$D,Kanalen!$A:$A,$A$39,Kanalen!$B:$B,ROW(8:8),Kanalen!$C:$C,D$41)","v":0},{"$f":"SUMIFS(Kanalen!$D:$D,Kanalen!$A:$A,$A$39,Kanalen!$B:$B,ROW(8:8),Kanalen!$C:$C,E$41)","v":0},{"$f":"SUMIFS(Kanalen!$D:$D,Kanalen!$A:$A,$A$39,Kanalen!$B:$B,ROW(8:8),Kanalen!$C:$C,F$41)","v":0},{"$f":"SUMIFS(Kanalen!$D:$D,Kanalen!$A:$A,$A$39,Kanalen!$B:$B,ROW(8:8),Kanalen!$C:$C,G$41)","v":0}]
["september",{"$f":"SUMIFS(Kanalen!$D:$D,Kanalen!$A:$A,$A$39,Kanalen!$B:$B,ROW(9:9),Kanalen!$C:$C,B$41)","v":0},{"$f":"SUMIFS(Kanalen!$D:$D,Kanalen!$A:$A,$A$39,Kanalen!$B:$B,ROW(9:9),Kanalen!$C:$C,C$41)","v":0},{"$f":"SUMIFS(Kanalen!$D:$D,Kanalen!$A:$A,$A$39,Kanalen!$B:$B,ROW(9:9),Kanalen!$C:$C,D$41)","v":0},{"$f":"SUMIFS(Kanalen!$D:$D,Kanalen!$A:$A,$A$39,Kanalen!$B:$B,ROW(9:9),Kanalen!$C:$C,E$41)","v":0},{"$f":"SUMIFS(Kanalen!$D:$D,Kanalen!$A:$A,$A$39,Kanalen!$B:$B,ROW(9:9),Kanalen!$C:$C,F$41)","v":0},{"$f":"SUMIFS(Kanalen!$D:$D,Kanalen!$A:$A,$A$39,Kanalen!$B:$B,ROW(9:9),Kanalen!$C:$C,G$41)","v":0}]
["oktober",{"$f":"SUMIFS(Kanalen!$D:$D,Kanalen!$A:$A,$A$39,Kanalen!$B:$B,ROW(10:10),Kanalen!$C:$C,B$41)","v":0},{"$f":"SUMIFS(Kanalen!$D:$D,Kanalen!$A:$A,$A$39,Kanalen!$B:$B,ROW(10:10),Kanalen!$C:$C,C$41)","v":0},{"$f":"SUMIFS(Kanalen!$D:$D,Kanalen!$A:$A,$A$39,Kanalen!$B:$B,ROW(10:10),Kanalen!$C:$C,D$41)","v":0},{"$f":"SUMIFS(Kanalen!$D:$D,Kanalen!$A:$A,$A$39,Kanalen!$B:$B,ROW(10:10),Kanalen!$C:$C,E$41)","v":0},{"$f":"SUMIFS(Kanalen!$D:$D,Kanalen!$A:$A,$A$39,Kanalen!$B:$B,ROW(10:10),Kanalen!$C:$C,F$41)","v":0},{"$f":"SUMIFS(Kanalen!$D:$D,Kanalen!$A:$A,$A$39,Kanalen!$B:$B,ROW(10:10),Kanalen!$C:$C,G$41)","v":0}]
["november",{"$f":"SUMIFS(Kanalen!$D:$D,Kanalen!$A:$A,$A$39,Kanalen!$B:$B,ROW(11:11),Kanalen!$C:$C,B$41)","v":0},{"$f":"SUMIFS(Kanalen!$D:$D,Kanalen!$A:$A,$A$39,Kanalen!$B:$B,ROW(11:11),Kanalen!$C:$C,C$41)","v":0},{"$f":"SUMIFS(Kanalen!$D:$D,Kanalen!$A:$A,$A$39,Kanalen!$B:$B,ROW(11:11),Kanalen!$C:$C,D$41)","v":0},{"$f":"SUMIFS(Kanalen!$D:$D,Kanalen!$A:$A,$A$39,Kanalen!$B:$B,ROW(11:11),Kanalen!$C:$C,E$41)","v":0},{"$f":"SUMIFS(Kanalen!$D:$D,Kanalen!$A:$A,$A$39,Kanalen!$B:$B,ROW(11:11),Kanalen!$C:$C,F$41)","v":0},{"$f":"SUMIFS(Kanalen!$D:$D,Kanalen!$A:$A,$A$39,Kanalen!$B:$B,ROW(11:11),Kanalen!$C:$C,G$41)","v":0}]
["december",{"$f":"SUMIFS(Kanalen!$D:$D,Kanalen!$A:$A,$A$39,Kanalen!$B:$B,ROW(12:12),Kanalen!$C:$C,B$41)","v":0},{"$f":"SUMIFS(Kanalen!$D:$D,Kanalen!$A:$A,$A$39,Kanalen!$B:$B,ROW(12:12),Kanalen!$C:$C,C$41)","v":0},{"$f":"SUMIFS(Kanalen!$D:$D,Kanalen!$A:$A,$A$39,Kanalen!$B:$B,ROW(12:12),Kanalen!$C:$C,D$41)","v":0},{"$f":"SUMIFS(Kanalen!$D:$D,Kanalen!$A:$A,$A$39,Kanalen!$B:$B,ROW(12:12),Kanalen!$C:$C,E$41)","v":0},{"$f":"SUMIFS(Kanalen!$D:$D,Kanalen!$A:$A,$A$39,Kanalen!$B:$B,ROW(12:12),Kanalen!$C:$C,F$41)","v":0},{"$f":"SUMIFS(Kanalen!$D:$D,Kanalen!$A:$A,$A$39,Kanalen!$B:$B,ROW(12:12),Kanalen!$C:$C,G$41)","v":0}]
[]
["Top 10 zoekwoorden waarop gevonden wordt obv aantal klikken"]
[]
["Zoekwoord","Aantal klikken","Vertoningen","Positie"]
[]
[]
[]
[]
[]
[]
[]
[]
[]
[]
[]
[]
["Top 10 zoekwoorden waarop gevonden wordt obv aantal vertoningen"]
["Zoekwoord","Aantal klikken","Vertoningen","Positie"]
[]
[]
[]
[]
[]
[]
[]
[]
[]
[]
[]
[]
["Zoekwoorden waarop de site gevonden moet worden"]
["Zoekwoord","Aantal klikken","Vertoningen","Positie"]
["draaitabel",{"$f":"IF(A86=\"\",\"\",SUMIFS('Search console'!D:D,'Search console'!$C:$C,\"*\"&$A86&\"*\"))","v":0},{"$f":"IF(A86=\"\",\"\",SUMIFS('Search console'!E:E,'Search console'!$C:$C,\"*\"&$A86&\"*\"))","v":0},{"$f":"IF(A86=\"\",\"\",SUMIFS('Search console'!G:G,'Search console'!$C:$C,\"*\"&$A86&\"*\"))","v":0}]
["beoordeling",{"$f":"IF(A87=\"\",\"\",SUMIFS('Search console'!D:D,'Search console'!$C:$C,\"*\"&$A87&\"*\"))","v":0},{"$f":"IF(A87=\"\",\"\",SUMIFS('Search console'!E:E,'Search console'!$C:$C,\"*\"&$A87&\"*\"))","v":0},{"$f":"IF(A87=\"\",\"\",SUMIFS('Search console'!G:G,'Search console'!$C:$C,\"*\"&$A87&\"*\"))","v":0}]
["Excel",{"$f":"IF(A88=\"\",\"\",SUMIFS('Search console'!D:D,'Search console'!$C:$C,\"*\"&$A88&\"*\"))","v":0},{"$f":"IF(A88=\"\",\"\",SUMIFS('Search console'!E:E,'Search console'!$C:$C,\"*\"&$A88&\"*\"))","v":0},{"$f":"IF(A88=\"\",\"\",SUMIFS('Search console'!G:G,'Search console'!$C:$C,\"*\"&$A88&\"*\"))","v":0}]
[null,{"$f":"IF(A89=\"\",\"\",SUMIFS('Search console'!D:D,'Search console'!$C:$C,\"*\"&$A89&\"*\"))","v":""},{"$f":"IF(A89=\"\",\"\",SUMIFS('Search console'!E:E,'Search console'!$C:$C,\"*\"&$A89&\"*\"))","v":""},{"$f":"IF(A89=\"\",\"\",SUMIFS('Search console'!G:G,'Search console'!$C:$C,\"*\"&$A89&\"*\"))","v":""}]
[null,{"$f":"IF(A90=\"\",\"\",SUMIFS('Search console'!D:D,'Search console'!$C:$C,\"*\"&$A90&\"*\"))","v":""},{"$f":"IF(A90=\"\",\"\",SUMIFS('Search console'!E:E,'Search console'!$C:$C,\"*\"&$A90&\"*\"))","v":""},{"$f":"IF(A90=\"\",\"\",SUMIFS('Search console'!G:G,'Search console'!$C:$C,\"*\"&$A90&\"*\"))","v":""}]
[null,{"$f":"IF(A91=\"\",\"\",SUMIFS('Search console'!D:D,'Search console'!$C:$C,\"*\"&$A91&\"*\"))","v":""},{"$f":"IF(A91=\"\",\"\",SUMIFS('Search console'!E:E,'Search console'!$C:$C,\"*\"&$A91&\"*\"))","v":""},{"$f":"IF(A91=\"\",\"\",SUMIFS('Search console'!G:G,'Search console'!$C:$C,\"*\"&$A91&\"*\"))","v":""}]
[null,{"$f":"IF(A92=\"\",\"\",SUMIFS('Search console'!D:D,'Search console'!$C:$C,\"*\"&$A92&\"*\"))","v":""},{"$f":"IF(A92=\"\",\"\",SUMIFS('Search console'!E:E,'Search console'!$C:$C,\"*\"&$A92&\"*\"))","v":""},{"$f":"IF(A92=\"\",\"\",SUMIFS('Search console'!G:G,'Search console'!$C:$C,\"*\"&$A92&\"*\"))","v":""}]
[null,{"$f":"IF(A93=\"\",\"\",SUMIFS('Search console'!D:D,'Search console'!$C:$C,\"*\"&$A93&\"*\"))","v":""},{"$f":"IF(A93=\"\",\"\",SUMIFS('Search console'!E:E,'Search console'!$C:$C,\"*\"&$A93&\"*\"))","v":""},{"$f":"IF(A93=\"\",\"\",SUMIFS('Search console'!G:G,'Search console'!$C:$C,\"*\"&$A93&\"*\"))","v":""}]
[null,{"$f":"IF(A94=\"\",\"\",SUMIFS('Search console'!D:D,'Search console'!$C:$C,\"*\"&$A94&\"*\"))","v":""},{"$f":"IF(A94=\"\",\"\",SUMIFS('Search console'!E:E,'Search console'!$C:$C,\"*\"&$A94&\"*\"))","v":""},{"$f":"IF(A94=\"\",\"\",SUMIFS('Search console'!G:G,'Search console'!$C:$C,\"*\"&$A94&\"*\"))","v":""}]
[null,{"$f":"IF(A95=\"\",\"\",SUMIFS('Search console'!D:D,'Search console'!$C:$C,\"*\"&$A95&\"*\"))","v":""},{"$f":"IF(A95=\"\",\"\",SUMIFS('Search console'!E:E,'Search console'!$C:$C,\"*\"&$A95&\"*\"))","v":""},{"$f":"IF(A95=\"\",\"\",SUMIFS('Search console'!G:G,'Search console'!$C:$C,\"*\"&$A95&\"*\"))","v":""}]
[]
[]
["Bestemmingspagina top 10 obv sessies"]
["Paginatitel","Sessies","% nieuwe sessies","Nieuwe gebruikers","Bounce percentage","Pagina's / sessie","Gem. sessieduur"]
[]
[]
[]
[]
[]
[]
[]
[]
[]
[]
[]
[]
["Bestemmingspagina onderste 10 obv sessies"]
["Paginatitel","Sessies","% nieuwe sessies","Nieuwe gebruikers","Bounce percentage","Pagina's / sessie","Gem. sessieduur"]
[]
[]
[]
[]
[]
[]
[]
[]
[]
[]
[]
[]
["Bestemmingspagina top 10 obv sessieduur"]
["Paginatitel","Sessies","% nieuwe sessies","Nieuwe gebruikers","Bounce percentage","Pagina's / sessie","Gem. sessieduur"]
[]
[]
[]
[]
[]
[]
[]
[]
[]
[]
[]
["Sessies per provincie"]
["Jaar",2017]
["Maand",1]
[]
["Provincie","Sessies"]
["South Holland",{"$f":"SUMIFS(Provincie!$D:$D,Provincie!$C:$C,$A144,Provincie!A:A,$B$140,Provincie!B:B,$B$141)","v":0}]
["North Holland",{"$f":"SUMIFS(Provincie!$D:$D,Provincie!$C:$C,$A145,Provincie!A:A,$B$140,Provincie!B:B,$B$141)","v":0}]
["North Brabant",{"$f":"SUMIFS(Provincie!$D:$D,Provincie!$C:$C,$A146,Provincie!A:A,$B$140,Provincie!B:B,$B$141)","v":0}]
["Gelderland",{"$f":"SUMIFS(Provincie!$D:$D,Provincie!$C:$C,$A147,Provincie!A:A,$B$140,Provincie!B:B,$B$141)","v":0}]
["Utrecht",{"$f":"SUMIFS(Provincie!$D:$D,Provincie!$C:$C,$A148,Provincie!A:A,$B$140,Provincie!B:B,$B$141)","v":0}]
["Overijssel",{"$f":"SUMIFS(Provincie!$D:$D,Provincie!$C:$C,$A149,Provincie!A:A,$B$140,Provincie!B:B,$B$141)","v":0}]
["Limburg",{"$f":"SUMIFS(Provincie!$D:$D,Provincie!$C:$C,$A150,Provincie!A:A,$B$140,Provincie!B:B,$B$141)","v":0}]
["Friesland",{"$f":"SUMIFS(Provincie!$D:$D,Provincie!$C:$C,$A151,Provincie!A:A,$B$140,Provincie!B:B,$B$141)","v":0}]
["Groningen",{"$f":"SUMIFS(Provincie!$D:$D,Provincie!$C:$C,$A152,Provincie!A:A,$B$140,Provincie!B:B,$B$141)","v":0}]
["Drenthe",{"$f":"SUMIFS(Provincie!$D:$D,Provincie!$C:$C,$A153,Provincie!A:A,$B$140,Provincie!B:B,$B$141)","v":0}]
["Flevoland",{"$f":"SUMIFS(Provincie!$D:$D,Provincie!$C:$C,$A154,Provincie!A:A,$B$140,Provincie!B:B,$B$141)","v":0}]
["Zeeland",{"$f":"SUMIFS(Provincie!$D:$D,Provincie!$C:$C,$A155,Provincie!A:A,$B$140,Provincie!B:B,$B$141)","v":0}]
["(not set)",{"$f":"SUMIFS(Provincie!$D:$D,Provincie!$C:$C,$A156,Provincie!A:A,$B$140,Provincie!B:B,$B$141)","v":0}]
[]
["Apparaatoverzicht"]
["Jaar",2017]
["Maand",1]
[]
["desktop",{"$f":"SUMIFS(Apparaatoverzicht!$D:$D,Apparaatoverzicht!$C:$C,$A162,Apparaatoverzicht!$A:$A,$B$159,Apparaatoverzicht!$B:$B,$B$160)","v":0}]
["mobile",{"$f":"SUMIFS(Apparaatoverzicht!$D:$D,Apparaatoverzicht!$C:$C,$A163,Apparaatoverzicht!$A:$A,$B$159,Apparaatoverzicht!$B:$B,$B$160)","v":0}]
["tablet",{"$f":"SUMIFS(Apparaatoverzicht!$D:$D,Apparaatoverzicht!$C:$C,$A164,Apparaatoverzicht!$A:$A,$B$159,Apparaatoverzicht!$B:$B,$B$160)","v":0}]
[]
["Laadtijd"]
["Jaar",2017]
["Maand",1]
[]
[null,"Aantal"]
["Kleiner dan of gelijk aan 1 seconde",{"$f":"COUNTIFS(Laadtijd!$A:$A,$B$167,Laadtijd!$B:$B,$B$168,Laadtijd!$D:$D,\"<=1\",Laadtijd!$D:$D,\"<>0\")","v":0}]
["Tussen 1 en 2 seconden",{"$f":"COUNTIFS(Laadtijd!$A:$A,$B$167,Laadtijd!$B:$B,$B$168,Laadtijd!$D:$D,\">\"&ROW(1:1),Laadtijd!$D:$D,\"<=\"&ROW(2:2))","v":0}]
["Tussen 2 en 3 seconden",{"$f":"COUNTIFS(Laadtijd!$A:$A,$B$167,Laadtijd!$B:$B,$B$168,Laadtijd!$D:$D,\">\"&ROW(2:2),Laadtijd!$D:$D,\"<=\"&ROW(3:3))","v":0}]
["Tussen 3 en 4 seconden",{"$f":"COUNTIFS(Laadtijd!$A:$A,$B$167,Laadtijd!$B:$B,$B$168,Laadtijd!$D:$D,\">\"&ROW(3:3),Laadtijd!$D:$D,\"<=\"&ROW(4:4))","v":0}]
["Tussen 4 en 5 seconden",{"$f":"COUNTIFS(Laadtijd!$A:$A,$B$167,Laadtijd!$B:$B,$B$168,Laadtijd!$D:$D,\">\"&ROW(4:4),Laadtijd!$D:$D,\"<=\"&ROW(5:5))","v":0}]
["Groter dan 5 seconden",{"$f":"COUNTIFS(Laadtijd!$A:$A,$B$167,Laadtijd!$B:$B,$B$168,Laadtijd!$D:$D,\">\"&ROW(5:5))","v":0}]
[]
["Nul",{"$f":"COUNTIFS(Laadtijd!$A:$A,$B$167,Laadtijd!$B:$B,$B$168,Laadtijd!$D:$D,0)","v":0}]

{"sheet":"RappMndDag","index":4,"n_rows":35,"n_cols":19,"rows_kept":35,"cut":false,"hidden":true,"merged":[]}
["Rapportage maand",5,null,null,null,null,null,null,null,null,null,null,"Kies scherm"]
["Rapportage jaar",2017,null,null,null,null,null,null,null,null,null,null,"Sessies per kanaal"]
[]
["Aantal sessies per maand",null,null,null,null,null,null,null,null,null,null,null,null,null,null,null,null,{"$f":"DATE($B$1-2,ROW(1:1),1)","v":"1903-01-01"},{"$f":"R5-1","v":"1903-01-31"}]
[null,{"$f":"B2-2","v":2015},{"$f":"B5+1","v":2016},2017,2018,2019,2020,2021,2022,2023,{"$f":"L5-1","v":2017},{"$f":"YEAR(NOW())","v":2018},null,null,null,null,null,"1903-02-01",{"$f":"R6-1","v":"1903-02-28"}]
["januari",{"$f":"SUMIFS('Sessies dag'!$B:$B,'Sessies dag'!$A:$A,\">=\"&$R4,'Sessies dag'!$A:$A,\"<=\"&$S4)","v":0},{"$f":"SUMIFS('Sessies dag'!$B:$B,'Sessies dag'!$A:$A,\">=\"&DATE(C$5,MONTH($R4),DAY($R4)),'Sessies dag'!$A:$A,\"<=\"&DATE(C$5,MONTH($S4),DAY($S4)))","v":0},{"$f":"SUMIFS('Sessies dag'!$B:$B,'Sessies dag'!$A:$A,\">=\"&DATE(D$5,MONTH($R4),DAY($R4)),'Sessies dag'!$A:$A,\"<=\"&DATE(D$5,MONTH($S4),DAY($S4)))","v":0},{"$f":"SUMIFS('Sessies dag'!$B:$B,'Sessies dag'!$A:$A,\">=\"&DATE(E$5,MONTH($R4),DAY($R4)),'Sessies dag'!$A:$A,\"<=\"&DATE(E$5,MONTH($S4),DAY($S4)))","v":0},{"$f":"SUMIFS('Sessies dag'!$B:$B,'Sessies dag'!$A:$A,\">=\"&DATE(F$5,MONTH($R4),DAY($R4)),'Sessies dag'!$A:$A,\"<=\"&DATE(F$5,MONTH($S4),DAY($S4)))","v":0},{"$f":"SUMIFS('Sessies dag'!$B:$B,'Sessies dag'!$A:$A,\">=\"&DATE(G$5,MONTH($R4),DAY($R4)),'Sessies dag'!$A:$A,\"<=\"&DATE(G$5,MONTH($S4),DAY($S4)))","v":0},{"$f":"SUMIFS('Sessies dag'!$B:$B,'Sessies dag'!$A:$A,\">=\"&DATE(H$5,MONTH($R4),DAY($R4)),'Sessies dag'!$A:$A,\"<=\"&DATE(H$5,MONTH($S4),DAY($S4)))","v":0},{"$f":"SUMIFS('Sessies dag'!$B:$B,'Sessies dag'!$A:$A,\">=\"&DATE(I$5,MONTH($R4),DAY($R4)),'Sessies dag'!$A:$A,\"<=\"&DATE(I$5,MONTH($S4),DAY($S4)))","v":0},{"$f":"SUMIFS('Sessies dag'!$B:$B,'Sessies dag'!$A:$A,\">=\"&DATE(J$5,MONTH($R4),DAY($R4)),'Sessies dag'!$A:$A,\"<=\"&DATE(J$5,MONTH($S4),DAY($S4)))","v":0},{"$f":" IF(MONTH(TODAY())<MONTH(DATEVALUE(DataHome!$F$11 &$A6&DataHome!$F$13)),SUMIFS('Sessies dag'!$B:$B,'Sessies dag'!$A:$A,\">=\"&DATE(K$5,MONTH($R4),DAY($R4)),'Sessies dag'!$A:$A,\"<=\"&DATE(K$5,MONTH($S4),DAY($S4))),0)","v":0},{"$f":"SUMIFS('Sessies dag'!$B:$B,'Sessies dag'!$A:$A,\">=\"&DATE(L$5,MONTH($R4),DAY($R4)),'Sessies dag'!$A:$A,\"<=\"&DATE(L$5,MONTH($S4),DAY($S4)))","v":0},null,null,null,null,null,"1903-03-01","1903-03-31"]
["februari",{"$f":"SUMIFS('Sessies dag'!$B:$B,'Sessies dag'!$A:$A,\">=\"&$R5,'Sessies dag'!$A:$A,\"<=\"&$S5)","v":0},{"$f":"SUMIFS('Sessies dag'!$B:$B,'Sessies dag'!$A:$A,\">=\"&DATE(C$5,MONTH($R5),DAY($R5)),'Sessies dag'!$A:$A,\"<=\"&DATE(C$5,MONTH($S5),DAY($S5)))","v":0},{"$f":"SUMIFS('Sessies dag'!$B:$B,'Sessies dag'!$A:$A,\">=\"&DATE(D$5,MONTH($R5),DAY($R5)),'Sessies dag'!$A:$A,\"<=\"&DATE(D$5,MONTH($S5),DAY($S5)))","v":0},{"$f":"SUMIFS('Sessies dag'!$B:$B,'Sessies dag'!$A:$A,\">=\"&DATE(E$5,MONTH($R5),DAY($R5)),'Sessies dag'!$A:$A,\"<=\"&DATE(E$5,MONTH($S5),DAY($S5)))","v":0},{"$f":"SUMIFS('Sessies dag'!$B:$B,'Sessies dag'!$A:$A,\">=\"&DATE(F$5,MONTH($R5),DAY($R5)),'Sessies dag'!$A:$A,\"<=\"&DATE(F$5,MONTH($S5),DAY($S5)))","v":0},{"$f":"SUMIFS('Sessies dag'!$B:$B,'Sessies dag'!$A:$A,\">=\"&DATE(G$5,MONTH($R5),DAY($R5)),'Sessies dag'!$A:$A,\"<=\"&DATE(G$5,MONTH($S5),DAY($S5)))","v":0},{"$f":"SUMIFS('Sessies dag'!$B:$B,'Sessies dag'!$A:$A,\">=\"&DATE(H$5,MONTH($R5),DAY($R5)),'Sessies dag'!$A:$A,\"<=\"&DATE(H$5,MONTH($S5),DAY($S5)))","v":0},{"$f":"SUMIFS('Sessies dag'!$B:$B,'Sessies dag'!$A:$A,\">=\"&DATE(I$5,MONTH($R5),DAY($R5)),'Sessies dag'!$A:$A,\"<=\"&DATE(I$5,MONTH($S5),DAY($S5)))","v":0},{"$f":"SUMIFS('Sessies dag'!$B:$B,'Sessies dag'!$A:$A,\">=\"&DATE(J$5,MONTH($R5),DAY($R5)),'Sessies dag'!$A:$A,\"<=\"&DATE(J$5,MONTH($S5),DAY($S5)))","v":0},{"$f":" IF(MONTH(TODAY())<MONTH(DATEVALUE(DataHome!$F$11 &$A7&DataHome!$F$13)),SUMIFS('Sessies dag'!$B:$B,'Sessies dag'!$A:$A,\">=\"&DATE(K$5,MONTH($R5),DAY($R5)),'Sessies dag'!$A:$A,\"<=\"&DATE(K$5,MONTH($S5),DAY($S5))),0)","v":0},{"$f":"SUMIFS('Sessies dag'!$B:$B,'Sessies dag'!$A:$A,\">=\"&DATE(L$5,MONTH($R5),DAY($R5)),'Sessies dag'!$A:$A,\"<=\"&DATE(L$5,MONTH($S5),DAY($S5)))","v":0},null,null,null,null,null,"1903-04-01","1903-04-30"]
["maart",{"$f":"SUMIFS('Sessies dag'!$B:$B,'Sessies dag'!$A:$A,\">=\"&$R6,'Sessies dag'!$A:$A,\"<=\"&$S6)","v":0},{"$f":"SUMIFS('Sessies dag'!$B:$B,'Sessies dag'!$A:$A,\">=\"&DATE(C$5,MONTH($R6),DAY($R6)),'Sessies dag'!$A:$A,\"<=\"&DATE(C$5,MONTH($S6),DAY($S6)))","v":0},{"$f":"SUMIFS('Sessies dag'!$B:$B,'Sessies dag'!$A:$A,\">=\"&DATE(D$5,MONTH($R6),DAY($R6)),'Sessies dag'!$A:$A,\"<=\"&DATE(D$5,MONTH($S6),DAY($S6)))","v":0},{"$f":"SUMIFS('Sessies dag'!$B:$B,'Sessies dag'!$A:$A,\">=\"&DATE(E$5,MONTH($R6),DAY($R6)),'Sessies dag'!$A:$A,\"<=\"&DATE(E$5,MONTH($S6),DAY($S6)))","v":0},{"$f":"SUMIFS('Sessies dag'!$B:$B,'Sessies dag'!$A:$A,\">=\"&DATE(F$5,MONTH($R6),DAY($R6)),'Sessies dag'!$A:$A,\"<=\"&DATE(F$5,MONTH($S6),DAY($S6)))","v":0},{"$f":"SUMIFS('Sessies dag'!$B:$B,'Sessies dag'!$A:$A,\">=\"&DATE(G$5,MONTH($R6),DAY($R6)),'Sessies dag'!$A:$A,\"<=\"&DATE(G$5,MONTH($S6),DAY($S6)))","v":0},{"$f":"SUMIFS('Sessies dag'!$B:$B,'Sessies dag'!$A:$A,\">=\"&DATE(H$5,MONTH($R6),DAY($R6)),'Sessies dag'!$A:$A,\"<=\"&DATE(H$5,MONTH($S6),DAY($S6)))","v":0},{"$f":"SUMIFS('Sessies dag'!$B:$B,'Sessies dag'!$A:$A,\">=\"&DATE(I$5,MONTH($R6),DAY($R6)),'Sessies dag'!$A:$A,\"<=\"&DATE(I$5,MONTH($S6),DAY($S6)))","v":0},{"$f":"SUMIFS('Sessies dag'!$B:$B,'Sessies dag'!$A:$A,\">=\"&DATE(J$5,MONTH($R6),DAY($R6)),'Sessies dag'!$A:$A,\"<=\"&DATE(J$5,MONTH($S6),DAY($S6)))","v":0},{"$f":" IF(MONTH(TODAY())<MONTH(DATEVALUE(DataHome!$F$11 &$A8&DataHome!$F$13)),SUMIFS('Sessies dag'!$B:$B,'Sessies dag'!$A:$A,\">=\"&DATE(K$5,MONTH($R6),DAY($R6)),'Sessies dag'!$A:$A,\"<=\"&DATE(K$5,MONTH($S6),DAY($S6))),0)","v":0},{"$f":"SUMIFS('Sessies dag'!$B:$B,'Sessies dag'!$A:$A,\">=\"&DATE(L$5,MONTH($R6),DAY($R6)),'Sessies dag'!$A:$A,\"<=\"&DATE(L$5,MONTH($S6),DAY($S6)))","v":0},null,null,null,null,null,"1903-05-01","1903-05-31"]
["april",{"$f":"SUMIFS('Sessies dag'!$B:$B,'Sessies dag'!$A:$A,\">=\"&$R7,'Sessies dag'!$A:$A,\"<=\"&$S7)","v":0},{"$f":"SUMIFS('Sessies dag'!$B:$B,'Sessies dag'!$A:$A,\">=\"&DATE(C$5,MONTH($R7),DAY($R7)),'Sessies dag'!$A:$A,\"<=\"&DATE(C$5,MONTH($S7),DAY($S7)))","v":0},{"$f":"SUMIFS('Sessies dag'!$B:$B,'Sessies dag'!$A:$A,\">=\"&DATE(D$5,MONTH($R7),DAY($R7)),'Sessies dag'!$A:$A,\"<=\"&DATE(D$5,MONTH($S7),DAY($S7)))","v":0},{"$f":"SUMIFS('Sessies dag'!$B:$B,'Sessies dag'!$A:$A,\">=\"&DATE(E$5,MONTH($R7),DAY($R7)),'Sessies dag'!$A:$A,\"<=\"&DATE(E$5,MONTH($S7),DAY($S7)))","v":0},{"$f":"SUMIFS('Sessies dag'!$B:$B,'Sessies dag'!$A:$A,\">=\"&DATE(F$5,MONTH($R7),DAY($R7)),'Sessies dag'!$A:$A,\"<=\"&DATE(F$5,MONTH($S7),DAY($S7)))","v":0},{"$f":"SUMIFS('Sessies dag'!$B:$B,'Sessies dag'!$A:$A,\">=\"&DATE(G$5,MONTH($R7),DAY($R7)),'Sessies dag'!$A:$A,\"<=\"&DATE(G$5,MONTH($S7),DAY($S7)))","v":0},{"$f":"SUMIFS('Sessies dag'!$B:$B,'Sessies dag'!$A:$A,\">=\"&DATE(H$5,MONTH($R7),DAY($R7)),'Sessies dag'!$A:$A,\"<=\"&DATE(H$5,MONTH($S7),DAY($S7)))","v":0},{"$f":"SUMIFS('Sessies dag'!$B:$B,'Sessies dag'!$A:$A,\">=\"&DATE(I$5,MONTH($R7),DAY($R7)),'Sessies dag'!$A:$A,\"<=\"&DATE(I$5,MONTH($S7),DAY($S7)))","v":0},{"$f":"SUMIFS('Sessies dag'!$B:$B,'Sessies dag'!$A:$A,\">=\"&DATE(J$5,MONTH($R7),DAY($R7)),'Sessies dag'!$A:$A,\"<=\"&DATE(J$5,MONTH($S7),DAY($S7)))","v":0},{"$f":" IF(MONTH(TODAY())<MONTH(DATEVALUE(DataHome!$F$11 &$A9&DataHome!$F$13)),SUMIFS('Sessies dag'!$B:$B,'Sessies dag'!$A:$A,\">=\"&DATE(K$5,MONTH($R7),DAY($R7)),'Sessies dag'!$A:$A,\"<=\"&DATE(K$5,MONTH($S7),DAY($S7))),0)","v":0},{"$f":"SUMIFS('Sessies dag'!$B:$B,'Sessies dag'!$A:$A,\">=\"&DATE(L$5,MONTH($R7),DAY($R7)),'Sessies dag'!$A:$A,\"<=\"&DATE(L$5,MONTH($S7),DAY($S7)))","v":0},null,null,null,null,null,"1903-06-01","1903-06-30"]
["mei",{"$f":"SUMIFS('Sessies dag'!$B:$B,'Sessies dag'!$A:$A,\">=\"&$R8,'Sessies dag'!$A:$A,\"<=\"&$S8)","v":0},{"$f":"SUMIFS('Sessies dag'!$B:$B,'Sessies dag'!$A:$A,\">=\"&DATE(C$5,MONTH($R8),DAY($R8)),'Sessies dag'!$A:$A,\"<=\"&DATE(C$5,MONTH($S8),DAY($S8)))","v":0},{"$f":"SUMIFS('Sessies dag'!$B:$B,'Sessies dag'!$A:$A,\">=\"&DATE(D$5,MONTH($R8),DAY($R8)),'Sessies dag'!$A:$A,\"<=\"&DATE(D$5,MONTH($S8),DAY($S8)))","v":0},{"$f":"SUMIFS('Sessies dag'!$B:$B,'Sessies dag'!$A:$A,\">=\"&DATE(E$5,MONTH($R8),DAY($R8)),'Sessies dag'!$A:$A,\"<=\"&DATE(E$5,MONTH($S8),DAY($S8)))","v":0},{"$f":"SUMIFS('Sessies dag'!$B:$B,'Sessies dag'!$A:$A,\">=\"&DATE(F$5,MONTH($R8),DAY($R8)),'Sessies dag'!$A:$A,\"<=\"&DATE(F$5,MONTH($S8),DAY($S8)))","v":0},{"$f":"SUMIFS('Sessies dag'!$B:$B,'Sessies dag'!$A:$A,\">=\"&DATE(G$5,MONTH($R8),DAY($R8)),'Sessies dag'!$A:$A,\"<=\"&DATE(G$5,MONTH($S8),DAY($S8)))","v":0},{"$f":"SUMIFS('Sessies dag'!$B:$B,'Sessies dag'!$A:$A,\">=\"&DATE(H$5,MONTH($R8),DAY($R8)),'Sessies dag'!$A:$A,\"<=\"&DATE(H$5,MONTH($S8),DAY($S8)))","v":0},{"$f":"SUMIFS('Sessies dag'!$B:$B,'Sessies dag'!$A:$A,\">=\"&DATE(I$5,MONTH($R8),DAY($R8)),'Sessies dag'!$A:$A,\"<=\"&DATE(I$5,MONTH($S8),DAY($S8)))","v":0},{"$f":"SUMIFS('Sessies dag'!$B:$B,'Sessies dag'!$A:$A,\">=\"&DATE(J$5,MONTH($R8),DAY($R8)),'Sessies dag'!$A:$A,\"<=\"&DATE(J$5,MONTH($S8),DAY($S8)))","v":0},{"$f":" IF(MONTH(TODAY())<MONTH(DATEVALUE(DataHome!$F$11 &$A10&DataHome!$F$13)),SUMIFS('Sessies dag'!$B:$B,'Sessies dag'!$A:$A,\">=\"&DATE(K$5,MONTH($R8),DAY($R8)),'Sessies dag'!$A:$A,\"<=\"&DATE(K$5,MONTH($S8),DAY($S8))),0)","v":0},{"$f":"SUMIFS('Sessies dag'!$B:$B,'Sessies dag'!$A:$A,\">=\"&DATE(L$5,MONTH($R8),DAY($R8)),'Sessies dag'!$A:$A,\"<=\"&DATE(L$5,MONTH($S8),DAY($S8)))","v":0},null,null,null,null,null,"1903-07-01","1903-07-31"]
["juni",{"$f":"SUMIFS('Sessies dag'!$B:$B,'Sessies dag'!$A:$A,\">=\"&$R9,'Sessies dag'!$A:$A,\"<=\"&$S9)","v":0},{"$f":"SUMIFS('Sessies dag'!$B:$B,'Sessies dag'!$A:$A,\">=\"&DATE(C$5,MONTH($R9),DAY($R9)),'Sessies dag'!$A:$A,\"<=\"&DATE(C$5,MONTH($S9),DAY($S9)))","v":0},{"$f":"SUMIFS('Sessies dag'!$B:$B,'Sessies dag'!$A:$A,\">=\"&DATE(D$5,MONTH($R9),DAY($R9)),'Sessies dag'!$A:$A,\"<=\"&DATE(D$5,MONTH($S9),DAY($S9)))","v":0},{"$f":"SUMIFS('Sessies dag'!$B:$B,'Sessies dag'!$A:$A,\">=\"&DATE(E$5,MONTH($R9),DAY($R9)),'Sessies dag'!$A:$A,\"<=\"&DATE(E$5,MONTH($S9),DAY($S9)))","v":0},{"$f":"SUMIFS('Sessies dag'!$B:$B,'Sessies dag'!$A:$A,\">=\"&DATE(F$5,MONTH($R9),DAY($R9)),'Sessies dag'!$A:$A,\"<=\"&DATE(F$5,MONTH($S9),DAY($S9)))","v":0},{"$f":"SUMIFS('Sessies dag'!$B:$B,'Sessies dag'!$A:$A,\">=\"&DATE(G$5,MONTH($R9),DAY($R9)),'Sessies dag'!$A:$A,\"<=\"&DATE(G$5,MONTH($S9),DAY($S9)))","v":0},{"$f":"SUMIFS('Sessies dag'!$B:$B,'Sessies dag'!$A:$A,\">=\"&DATE(H$5,MONTH($R9),DAY($R9)),'Sessies dag'!$A:$A,\"<=\"&DATE(H$5,MONTH($S9),DAY($S9)))","v":0},{"$f":"SUMIFS('Sessies dag'!$B:$B,'Sessies dag'!$A:$A,\">=\"&DATE(I$5,MONTH($R9),DAY($R9)),'Sessies dag'!$A:$A,\"<=\"&DATE(I$5,MONTH($S9),DAY($S9)))","v":0},{"$f":"SUMIFS('Sessies dag'!$B:$B,'Sessies dag'!$A:$A,\">=\"&DATE(J$5,MONTH($R9),DAY($R9)),'Sessies dag'!$A:$A,\"<=\"&DATE(J$5,MONTH($S9),DAY($S9)))","v":0},{"$f":" IF(MONTH(TODAY())-2<MONTH(DATEVALUE(DataHome!$F$11 &$A11&DataHome!$F$13)),SUMIFS('Sessies dag'!$B:$B,'Sessies dag'!$A:$A,\">=\"&DATE(K$5,MONTH($R9),DAY($R9)),'Sessies dag'!$A:$A,\"<=\"&DATE(K$5,MONTH($S9),DAY($S9))),0)","v":0},{"$f":"SUMIFS('Sessies dag'!$B:$B,'Sessies dag'!$A:$A,\">=\"&DATE(L$5,MONTH($R9),DAY($R9)),'Sessies dag'!$A:$A,\"<=\"&DATE(L$5,MONTH($S9),DAY($S9)))","v":0},null,null,null,null,null,"1903-08-01","1903-08-31"]
["juli",{"$f":"SUMIFS('Sessies dag'!$B:$B,'Sessies dag'!$A:$A,\">=\"&$R10,'Sessies dag'!$A:$A,\"<=\"&$S10)","v":0},{"$f":"SUMIFS('Sessies dag'!$B:$B,'Sessies dag'!$A:$A,\">=\"&DATE(C$5,MONTH($R10),DAY($R10)),'Sessies dag'!$A:$A,\"<=\"&DATE(C$5,MONTH($S10),DAY($S10)))","v":0},{"$f":"SUMIFS('Sessies dag'!$B:$B,'Sessies dag'!$A:$A,\">=\"&DATE(D$5,MONTH($R10),DAY($R10)),'Sessies dag'!$A:$A,\"<=\"&DATE(D$5,MONTH($S10),DAY($S10)))","v":0},{"$f":"SUMIFS('Sessies dag'!$B:$B,'Sessies dag'!$A:$A,\">=\"&DATE(E$5,MONTH($R10),DAY($R10)),'Sessies dag'!$A:$A,\"<=\"&DATE(E$5,MONTH($S10),DAY($S10)))","v":0},{"$f":"SUMIFS('Sessies dag'!$B:$B,'Sessies dag'!$A:$A,\">=\"&DATE(F$5,MONTH($R10),DAY($R10)),'Sessies dag'!$A:$A,\"<=\"&DATE(F$5,MONTH($S10),DAY($S10)))","v":0},{"$f":"SUMIFS('Sessies dag'!$B:$B,'Sessies dag'!$A:$A,\">=\"&DATE(G$5,MONTH($R10),DAY($R10)),'Sessies dag'!$A:$A,\"<=\"&DATE(G$5,MONTH($S10),DAY($S10)))","v":0},{"$f":"SUMIFS('Sessies dag'!$B:$B,'Sessies dag'!$A:$A,\">=\"&DATE(H$5,MONTH($R10),DAY($R10)),'Sessies dag'!$A:$A,\"<=\"&DATE(H$5,MONTH($S10),DAY($S10)))","v":0},{"$f":"SUMIFS('Sessies dag'!$B:$B,'Sessies dag'!$A:$A,\">=\"&DATE(I$5,MONTH($R10),DAY($R10)),'Sessies dag'!$A:$A,\"<=\"&DATE(I$5,MONTH($S10),DAY($S10)))","v":0},{"$f":"SUMIFS('Sessies dag'!$B:$B,'Sessies dag'!$A:$A,\">=\"&DATE(J$5,MONTH($R10),DAY($R10)),'Sessies dag'!$A:$A,\"<=\"&DATE(J$5,MONTH($S10),DAY($S10)))","v":0},{"$f":" IF(MONTH(TODAY())-2<MONTH(DATEVALUE(DataHome!$F$11 &$A12&DataHome!$F$13)),SUMIFS('Sessies dag'!$B:$B,'Sessies dag'!$A:$A,\">=\"&DATE(K$5,MONTH($R10),DAY($R10)),'Sessies dag'!$A:$A,\"<=\"&DATE(K$5,MONTH($S10),DAY($S10))),0)","v":0},{"$f":"SUMIFS('Sessies dag'!$B:$B,'Sessies dag'!$A:$A,\">=\"&DATE(L$5,MONTH($R10),DAY($R10)),'Sessies dag'!$A:$A,\"<=\"&DATE(L$5,MONTH($S10),DAY($S10)))","v":0},null,null,null,null,null,"1903-09-01","1903-09-30"]
["augustus",{"$f":"SUMIFS('Sessies dag'!$B:$B,'Sessies dag'!$A:$A,\">=\"&$R11,'Sessies dag'!$A:$A,\"<=\"&$S11)","v":0},{"$f":"SUMIFS('Sessies dag'!$B:$B,'Sessies dag'!$A:$A,\">=\"&DATE(C$5,MONTH($R11),DAY($R11)),'Sessies dag'!$A:$A,\"<=\"&DATE(C$5,MONTH($S11),DAY($S11)))","v":0},{"$f":"SUMIFS('Sessies dag'!$B:$B,'Sessies dag'!$A:$A,\">=\"&DATE(D$5,MONTH($R11),DAY($R11)),'Sessies dag'!$A:$A,\"<=\"&DATE(D$5,MONTH($S11),DAY($S11)))","v":0},{"$f":"SUMIFS('Sessies dag'!$B:$B,'Sessies dag'!$A:$A,\">=\"&DATE(E$5,MONTH($R11),DAY($R11)),'Sessies dag'!$A:$A,\"<=\"&DATE(E$5,MONTH($S11),DAY($S11)))","v":0},{"$f":"SUMIFS('Sessies dag'!$B:$B,'Sessies dag'!$A:$A,\">=\"&DATE(F$5,MONTH($R11),DAY($R11)),'Sessies dag'!$A:$A,\"<=\"&DATE(F$5,MONTH($S11),DAY($S11)))","v":0},{"$f":"SUMIFS('Sessies dag'!$B:$B,'Sessies dag'!$A:$A,\">=\"&DATE(G$5,MONTH($R11),DAY($R11)),'Sessies dag'!$A:$A,\"<=\"&DATE(G$5,MONTH($S11),DAY($S11)))","v":0},{"$f":"SUMIFS('Sessies dag'!$B:$B,'Sessies dag'!$A:$A,\">=\"&DATE(H$5,MONTH($R11),DAY($R11)),'Sessies dag'!$A:$A,\"<=\"&DATE(H$5,MONTH($S11),DAY($S11)))","v":0},{"$f":"SUMIFS('Sessies dag'!$B:$B,'Sessies dag'!$A:$A,\">=\"&DATE(I$5,MONTH($R11),DAY($R11)),'Sessies dag'!$A:$A,\"<=\"&DATE(I$5,MONTH($S11),DAY($S11)))","v":0},{"$f":"SUMIFS('Sessies dag'!$B:$B,'Sessies dag'!$A:$A,\">=\"&DATE(J$5,MONTH($R11),DAY($R11)),'Sessies dag'!$A:$A,\"<=\"&DATE(J$5,MONTH($S11),DAY($S11)))","v":0},{"$f":" IF(MONTH(TODAY())-2<MONTH(DATEVALUE(DataHome!$F$11 &$A13&DataHome!$F$13)),SUMIFS('Sessies dag'!$B:$B,'Sessies dag'!$A:$A,\">=\"&DATE(K$5,MONTH($R11),DAY($R11)),'Sessies dag'!$A:$A,\"<=\"&DATE(K$5,MONTH($S11),DAY($S11))),0)","v":0},{"$f":"SUMIFS('Sessies dag'!$B:$B,'Sessies dag'!$A:$A,\">=\"&DATE(L$5,MONTH($R11),DAY($R11)),'Sessies dag'!$A:$A,\"<=\"&DATE(L$5,MONTH($S11),DAY($S11)))","v":0},null,null,null,null,null,"1903-10-01","1903-10-31"]
["september",{"$f":"SUMIFS('Sessies dag'!$B:$B,'Sessies dag'!$A:$A,\">=\"&$R12,'Sessies dag'!$A:$A,\"<=\"&$S12)","v":0},{"$f":"SUMIFS('Sessies dag'!$B:$B,'Sessies dag'!$A:$A,\">=\"&DATE(C$5,MONTH($R12),DAY($R12)),'Sessies dag'!$A:$A,\"<=\"&DATE(C$5,MONTH($S12),DAY($S12)))","v":0},{"$f":"SUMIFS('Sessies dag'!$B:$B,'Sessies dag'!$A:$A,\">=\"&DATE(D$5,MONTH($R12),DAY($R12)),'Sessies dag'!$A:$A,\"<=\"&DATE(D$5,MONTH($S12),DAY($S12)))","v":0},{"$f":"SUMIFS('Sessies dag'!$B:$B,'Sessies dag'!$A:$A,\">=\"&DATE(E$5,MONTH($R12),DAY($R12)),'Sessies dag'!$A:$A,\"<=\"&DATE(E$5,MONTH($S12),DAY($S12)))","v":0},{"$f":"SUMIFS('Sessies dag'!$B:$B,'Sessies dag'!$A:$A,\">=\"&DATE(F$5,MONTH($R12),DAY($R12)),'Sessies dag'!$A:$A,\"<=\"&DATE(F$5,MONTH($S12),DAY($S12)))","v":0},{"$f":"SUMIFS('Sessies dag'!$B:$B,'Sessies dag'!$A:$A,\">=\"&DATE(G$5,MONTH($R12),DAY($R12)),'Sessies dag'!$A:$A,\"<=\"&DATE(G$5,MONTH($S12),DAY($S12)))","v":0},{"$f":"SUMIFS('Sessies dag'!$B:$B,'Sessies dag'!$A:$A,\">=\"&DATE(H$5,MONTH($R12),DAY($R12)),'Sessies dag'!$A:$A,\"<=\"&DATE(H$5,MONTH($S12),DAY($S12)))","v":0},{"$f":"SUMIFS('Sessies dag'!$B:$B,'Sessies dag'!$A:$A,\">=\"&DATE(I$5,MONTH($R12),DAY($R12)),'Sessies dag'!$A:$A,\"<=\"&DATE(I$5,MONTH($S12),DAY($S12)))","v":0},{"$f":"SUMIFS('Sessies dag'!$B:$B,'Sessies dag'!$A:$A,\">=\"&DATE(J$5,MONTH($R12),DAY($R12)),'Sessies dag'!$A:$A,\"<=\"&DATE(J$5,MONTH($S12),DAY($S12)))","v":0},{"$f":" IF(MONTH(TODAY())-2<MONTH(DATEVALUE(DataHome!$F$11 &$A14&DataHome!$F$13)),SUMIFS('Sessies dag'!$B:$B,'Sessies dag'!$A:$A,\">=\"&DATE(K$5,MONTH($R12),DAY($R12)),'Sessies dag'!$A:$A,\"<=\"&DATE(K$5,MONTH($S12),DAY($S12))),0)","v":0},{"$f":"SUMIFS('Sessies dag'!$B:$B,'Sessies dag'!$A:$A,\">=\"&DATE(L$5,MONTH($R12),DAY($R12)),'Sessies dag'!$A:$A,\"<=\"&DATE(L$5,MONTH($S12),DAY($S12)))","v":0},null,null,null,null,null,"1903-11-01","1903-11-30"]
["oktober",{"$f":"SUMIFS('Sessies dag'!$B:$B,'Sessies dag'!$A:$A,\">=\"&$R13,'Sessies dag'!$A:$A,\"<=\"&$S13)","v":0},{"$f":"SUMIFS('Sessies dag'!$B:$B,'Sessies dag'!$A:$A,\">=\"&DATE(C$5,MONTH($R13),DAY($R13)),'Sessies dag'!$A:$A,\"<=\"&DATE(C$5,MONTH($S13),DAY($S13)))","v":0},{"$f":"SUMIFS('Sessies dag'!$B:$B,'Sessies dag'!$A:$A,\">=\"&DATE(D$5,MONTH($R13),DAY($R13)),'Sessies dag'!$A:$A,\"<=\"&DATE(D$5,MONTH($S13),DAY($S13)))","v":0},{"$f":"SUMIFS('Sessies dag'!$B:$B,'Sessies dag'!$A:$A,\">=\"&DATE(E$5,MONTH($R13),DAY($R13)),'Sessies dag'!$A:$A,\"<=\"&DATE(E$5,MONTH($S13),DAY($S13)))","v":0},{"$f":"SUMIFS('Sessies dag'!$B:$B,'Sessies dag'!$A:$A,\">=\"&DATE(F$5,MONTH($R13),DAY($R13)),'Sessies dag'!$A:$A,\"<=\"&DATE(F$5,MONTH($S13),DAY($S13)))","v":0},{"$f":"SUMIFS('Sessies dag'!$B:$B,'Sessies dag'!$A:$A,\">=\"&DATE(G$5,MONTH($R13),DAY($R13)),'Sessies dag'!$A:$A,\"<=\"&DATE(G$5,MONTH($S13),DAY($S13)))","v":0},{"$f":"SUMIFS('Sessies dag'!$B:$B,'Sessies dag'!$A:$A,\">=\"&DATE(H$5,MONTH($R13),DAY($R13)),'Sessies dag'!$A:$A,\"<=\"&DATE(H$5,MONTH($S13),DAY($S13)))","v":0},{"$f":"SUMIFS('Sessies dag'!$B:$B,'Sessies dag'!$A:$A,\">=\"&DATE(I$5,MONTH($R13),DAY($R13)),'Sessies dag'!$A:$A,\"<=\"&DATE(I$5,MONTH($S13),DAY($S13)))","v":0},{"$f":"SUMIFS('Sessies dag'!$B:$B,'Sessies dag'!$A:$A,\">=\"&DATE(J$5,MONTH($R13),DAY($R13)),'Sessies dag'!$A:$A,\"<=\"&DATE(J$5,MONTH($S13),DAY($S13)))","v":0},{"$f":" IF(MONTH(TODAY())-2<MONTH(DATEVALUE(DataHome!$F$11 &$A15&DataHome!$F$13)),SUMIFS('Sessies dag'!$B:$B,'Sessies dag'!$A:$A,\">=\"&DATE(K$5,MONTH($R13),DAY($R13)),'Sessies dag'!$A:$A,\"<=\"&DATE(K$5,MONTH($S13),DAY($S13))),0)","v":0},{"$f":"SUMIFS('Sessies dag'!$B:$B,'Sessies dag'!$A:$A,\">=\"&DATE(L$5,MONTH($R13),DAY($R13)),'Sessies dag'!$A:$A,\"<=\"&DATE(L$5,MONTH($S13),DAY($S13)))","v":0},null,null,null,null,null,"1903-12-01",{"$f":"DATE(#REF!-2,ROW(13:13),1)-1","v":{"$error":"#REF!"}}]
["november",{"$f":"SUMIFS('Sessies dag'!$B:$B,'Sessies dag'!$A:$A,\">=\"&$R14,'Sessies dag'!$A:$A,\"<=\"&$S14)","v":0},{"$f":"SUMIFS('Sessies dag'!$B:$B,'Sessies dag'!$A:$A,\">=\"&DATE(C$5,MONTH($R14),DAY($R14)),'Sessies dag'!$A:$A,\"<=\"&DATE(C$5,MONTH($S14),DAY($S14)))","v":0},{"$f":"SUMIFS('Sessies dag'!$B:$B,'Sessies dag'!$A:$A,\">=\"&DATE(D$5,MONTH($R14),DAY($R14)),'Sessies dag'!$A:$A,\"<=\"&DATE(D$5,MONTH($S14),DAY($S14)))","v":0},{"$f":"SUMIFS('Sessies dag'!$B:$B,'Sessies dag'!$A:$A,\">=\"&DATE(E$5,MONTH($R14),DAY($R14)),'Sessies dag'!$A:$A,\"<=\"&DATE(E$5,MONTH($S14),DAY($S14)))","v":0},{"$f":"SUMIFS('Sessies dag'!$B:$B,'Sessies dag'!$A:$A,\">=\"&DATE(F$5,MONTH($R14),DAY($R14)),'Sessies dag'!$A:$A,\"<=\"&DATE(F$5,MONTH($S14),DAY($S14)))","v":0},{"$f":"SUMIFS('Sessies dag'!$B:$B,'Sessies dag'!$A:$A,\">=\"&DATE(G$5,MONTH($R14),DAY($R14)),'Sessies dag'!$A:$A,\"<=\"&DATE(G$5,MONTH($S14),DAY($S14)))","v":0},{"$f":"SUMIFS('Sessies dag'!$B:$B,'Sessies dag'!$A:$A,\">=\"&DATE(H$5,MONTH($R14),DAY($R14)),'Sessies dag'!$A:$A,\"<=\"&DATE(H$5,MONTH($S14),DAY($S14)))","v":0},{"$f":"SUMIFS('Sessies dag'!$B:$B,'Sessies dag'!$A:$A,\">=\"&DATE(I$5,MONTH($R14),DAY($R14)),'Sessies dag'!$A:$A,\"<=\"&DATE(I$5,MONTH($S14),DAY($S14)))","v":0},{"$f":"SUMIFS('Sessies dag'!$B:$B,'Sessies dag'!$A:$A,\">=\"&DATE(J$5,MONTH($R14),DAY($R14)),'Sessies dag'!$A:$A,\"<=\"&DATE(J$5,MONTH($S14),DAY($S14)))","v":0},{"$f":" IF(MONTH(TODAY())-2<MONTH(DATEVALUE(DataHome!$F$11 &$A16&DataHome!$F$13)),SUMIFS('Sessies dag'!$B:$B,'Sessies dag'!$A:$A,\">=\"&DATE(K$5,MONTH($R14),DAY($R14)),'Sessies dag'!$A:$A,\"<=\"&DATE(K$5,MONTH($S14),DAY($S14))),0)","v":0},{"$f":"SUMIFS('Sessies dag'!$B:$B,'Sessies dag'!$A:$A,\">=\"&DATE(L$5,MONTH($R14),DAY($R14)),'Sessies dag'!$A:$A,\"<=\"&DATE(L$5,MONTH($S14),DAY($S14)))","v":0}]
["december",{"$f":"SUMIFS('Sessies dag'!$B:$B,'Sessies dag'!$A:$A,\">=\"&$R15,'Sessies dag'!$A:$A,\"<=\"&$S15)","v":0},{"$f":"SUMIFS('Sessies dag'!$B:$B,'Sessies dag'!$A:$A,\">=\"&DATE(C$5,MONTH($R15),DAY($R15)),'Sessies dag'!$A:$A,\"<=\"&DATE(C$5,MONTH($S15),DAY($S15)))","v":0},{"$f":"SUMIFS('Sessies dag'!$B:$B,'Sessies dag'!$A:$A,\">=\"&DATE(D$5,MONTH($R15),DAY($R15)),'Sessies dag'!$A:$A,\"<=\"&DATE(D$5,MONTH($S15),DAY($S15)))","v":0},{"$f":"SUMIFS('Sessies dag'!$B:$B,'Sessies dag'!$A:$A,\">=\"&DATE(E$5,MONTH($R15),DAY($R15)),'Sessies dag'!$A:$A,\"<=\"&DATE(E$5,MONTH($S15),DAY($S15)))","v":0},{"$f":"SUMIFS('Sessies dag'!$B:$B,'Sessies dag'!$A:$A,\">=\"&DATE(F$5,MONTH($R15),DAY($R15)),'Sessies dag'!$A:$A,\"<=\"&DATE(F$5,MONTH($S15),DAY($S15)))","v":0},{"$f":"SUMIFS('Sessies dag'!$B:$B,'Sessies dag'!$A:$A,\">=\"&DATE(G$5,MONTH($R15),DAY($R15)),'Sessies dag'!$A:$A,\"<=\"&DATE(G$5,MONTH($S15),DAY($S15)))","v":0},{"$f":"SUMIFS('Sessies dag'!$B:$B,'Sessies dag'!$A:$A,\">=\"&DATE(H$5,MONTH($R15),DAY($R15)),'Sessies dag'!$A:$A,\"<=\"&DATE(H$5,MONTH($S15),DAY($S15)))","v":0},{"$f":"SUMIFS('Sessies dag'!$B:$B,'Sessies dag'!$A:$A,\">=\"&DATE(I$5,MONTH($R15),DAY($R15)),'Sessies dag'!$A:$A,\"<=\"&DATE(I$5,MONTH($S15),DAY($S15)))","v":0},{"$f":"SUMIFS('Sessies dag'!$B:$B,'Sessies dag'!$A:$A,\">=\"&DATE(J$5,MONTH($R15),DAY($R15)),'Sessies dag'!$A:$A,\"<=\"&DATE(J$5,MONTH($S15),DAY($S15)))","v":0},{"$f":" IF(MONTH(TODAY())-2<MONTH(DATEVALUE(DataHome!$F$11 &$A17&DataHome!$F$13)),SUMIFS('Sessies dag'!$B:$B,'Sessies dag'!$A:$A,\">=\"&DATE(K$5,MONTH($R15),DAY($R15)),'Sessies dag'!$A:$A,\"<=\"&DATE(K$5,MONTH($S15),DAY($S15))),0)","v":0},{"$f":"SUMIFS('Sessies dag'!$B:$B,'Sessies dag'!$A:$A,\">=\"&DATE(L$5,MONTH($R15),DAY($R15)),'Sessies dag'!$A:$A,\"<=\"&DATE(L$5,MONTH($S15),DAY($S15)))","v":0}]
[]
["Sessies per dag van de week"]
["Jaar"]
[{"$f":"B1","v":5}]
[]
[null,"ma","di","wo","do","vr","za","zo"]
["januari",{"$f":"SUMIFS('Sessies dag'!$B:$B,'Sessies dag'!$C:$C,COLUMN(A:A),'Sessies dag'!$A:$A,\">=\"&DATE($B$2,MONTH($R4),1),'Sessies dag'!$A:$A,\"<=\"&DATE($B$2,MONTH($S4),DAY($S4)))","v":0},{"$f":"SUMIFS('Sessies dag'!$B:$B,'Sessies dag'!$C:$C,COLUMN(B:B),'Sessies dag'!$A:$A,\">=\"&DATE($B$2,MONTH($R4),1),'Sessies dag'!$A:$A,\"<=\"&DATE($B$2,MONTH($S4),DAY($S4)))","v":0},{"$f":"SUMIFS('Sessies dag'!$B:$B,'Sessies dag'!$C:$C,COLUMN(C:C),'Sessies dag'!$A:$A,\">=\"&DATE($B$2,MONTH($R4),1),'Sessies dag'!$A:$A,\"<=\"&DATE($B$2,MONTH($S4),DAY($S4)))","v":0},{"$f":"SUMIFS('Sessies dag'!$B:$B,'Sessies dag'!$C:$C,COLUMN(D:D),'Sessies dag'!$A:$A,\">=\"&DATE($B$2,MONTH($R4),1),'Sessies dag'!$A:$A,\"<=\"&DATE($B$2,MONTH($S4),DAY($S4)))","v":0},{"$f":"SUMIFS('Sessies dag'!$B:$B,'Sessies dag'!$C:$C,COLUMN(E:E),'Sessies dag'!$A:$A,\">=\"&DATE($B$2,MONTH($R4),1),'Sessies dag'!$A:$A,\"<=\"&DATE($B$2,MONTH($S4),DAY($S4)))","v":0},{"$f":"SUMIFS('Sessies dag'!$B:$B,'Sessies dag'!$C:$C,COLUMN(F:F),'Sessies dag'!$A:$A,\">=\"&DATE($B$2,MONTH($R4),1),'Sessies dag'!$A:$A,\"<=\"&DATE($B$2,MONTH($S4),DAY($S4)))","v":0},{"$f":"SUMIFS('Sessies dag'!$B:$B,'Sessies dag'!$C:$C,COLUMN(G:G),'Sessies dag'!$A:$A,\">=\"&DATE($B$2,MONTH($R4),1),'Sessies dag'!$A:$A,\"<=\"&DATE($B$2,MONTH($S4),DAY($S4)))","v":0}]
["februari",{"$f":"SUMIFS('Sessies dag'!$B:$B,'Sessies dag'!$C:$C,COLUMN(A:A),'Sessies dag'!$A:$A,\">=\"&DATE($B$2,MONTH($R5),1),'Sessies dag'!$A:$A,\"<=\"&DATE($B$2,MONTH($S5),DAY($S5)))","v":0},{"$f":"SUMIFS('Sessies dag'!$B:$B,'Sessies dag'!$C:$C,COLUMN(B:B),'Sessies dag'!$A:$A,\">=\"&DATE($B$2,MONTH($R5),1),'Sessies dag'!$A:$A,\"<=\"&DATE($B$2,MONTH($S5),DAY($S5)))","v":0},{"$f":"SUMIFS('Sessies dag'!$B:$B,'Sessies dag'!$C:$C,COLUMN(C:C),'Sessies dag'!$A:$A,\">=\"&DATE($B$2,MONTH($R5),1),'Sessies dag'!$A:$A,\"<=\"&DATE($B$2,MONTH($S5),DAY($S5)))","v":0},{"$f":"SUMIFS('Sessies dag'!$B:$B,'Sessies dag'!$C:$C,COLUMN(D:D),'Sessies dag'!$A:$A,\">=\"&DATE($B$2,MONTH($R5),1),'Sessies dag'!$A:$A,\"<=\"&DATE($B$2,MONTH($S5),DAY($S5)))","v":0},{"$f":"SUMIFS('Sessies dag'!$B:$B,'Sessies dag'!$C:$C,COLUMN(E:E),'Sessies dag'!$A:$A,\">=\"&DATE($B$2,MONTH($R5),1),'Sessies dag'!$A:$A,\"<=\"&DATE($B$2,MONTH($S5),DAY($S5)))","v":0},{"$f":"SUMIFS('Sessies dag'!$B:$B,'Sessies dag'!$C:$C,COLUMN(F:F),'Sessies dag'!$A:$A,\">=\"&DATE($B$2,MONTH($R5),1),'Sessies dag'!$A:$A,\"<=\"&DATE($B$2,MONTH($S5),DAY($S5)))","v":0},{"$f":"SUMIFS('Sessies dag'!$B:$B,'Sessies dag'!$C:$C,COLUMN(G:G),'Sessies dag'!$A:$A,\">=\"&DATE($B$2,MONTH($R5),1),'Sessies dag'!$A:$A,\"<=\"&DATE($B$2,MONTH($S5),DAY($S5)))","v":0}]
["maart",{"$f":"SUMIFS('Sessies dag'!$B:$B,'Sessies dag'!$C:$C,COLUMN(A:A),'Sessies dag'!$A:$A,\">=\"&DATE($B$2,MONTH($R6),1),'Sessies dag'!$A:$A,\"<=\"&DATE($B$2,MONTH($S6),DAY($S6)))","v":0},{"$f":"SUMIFS('Sessies dag'!$B:$B,'Sessies dag'!$C:$C,COLUMN(B:B),'Sessies dag'!$A:$A,\">=\"&DATE($B$2,MONTH($R6),1),'Sessies dag'!$A:$A,\"<=\"&DATE($B$2,MONTH($S6),DAY($S6)))","v":0},{"$f":"SUMIFS('Sessies dag'!$B:$B,'Sessies dag'!$C:$C,COLUMN(C:C),'Sessies dag'!$A:$A,\">=\"&DATE($B$2,MONTH($R6),1),'Sessies dag'!$A:$A,\"<=\"&DATE($B$2,MONTH($S6),DAY($S6)))","v":0},{"$f":"SUMIFS('Sessies dag'!$B:$B,'Sessies dag'!$C:$C,COLUMN(D:D),'Sessies dag'!$A:$A,\">=\"&DATE($B$2,MONTH($R6),1),'Sessies dag'!$A:$A,\"<=\"&DATE($B$2,MONTH($S6),DAY($S6)))","v":0},{"$f":"SUMIFS('Sessies dag'!$B:$B,'Sessies dag'!$C:$C,COLUMN(E:E),'Sessies dag'!$A:$A,\">=\"&DATE($B$2,MONTH($R6),1),'Sessies dag'!$A:$A,\"<=\"&DATE($B$2,MONTH($S6),DAY($S6)))","v":0},{"$f":"SUMIFS('Sessies dag'!$B:$B,'Sessies dag'!$C:$C,COLUMN(F:F),'Sessies dag'!$A:$A,\">=\"&DATE($B$2,MONTH($R6),1),'Sessies dag'!$A:$A,\"<=\"&DATE($B$2,MONTH($S6),DAY($S6)))","v":0},{"$f":"SUMIFS('Sessies dag'!$B:$B,'Sessies dag'!$C:$C,COLUMN(G:G),'Sessies dag'!$A:$A,\">=\"&DATE($B$2,MONTH($R6),1),'Sessies dag'!$A:$A,\"<=\"&DATE($B$2,MONTH($S6),DAY($S6)))","v":0}]
["april",{"$f":"SUMIFS('Sessies dag'!$B:$B,'Sessies dag'!$C:$C,COLUMN(A:A),'Sessies dag'!$A:$A,\">=\"&DATE($B$2,MONTH($R7),1),'Sessies dag'!$A:$A,\"<=\"&DATE($B$2,MONTH($S7),DAY($S7)))","v":0},{"$f":"SUMIFS('Sessies dag'!$B:$B,'Sessies dag'!$C:$C,COLUMN(B:B),'Sessies dag'!$A:$A,\">=\"&DATE($B$2,MONTH($R7),1),'Sessies dag'!$A:$A,\"<=\"&DATE($B$2,MONTH($S7),DAY($S7)))","v":0},{"$f":"SUMIFS('Sessies dag'!$B:$B,'Sessies dag'!$C:$C,COLUMN(C:C),'Sessies dag'!$A:$A,\">=\"&DATE($B$2,MONTH($R7),1),'Sessies dag'!$A:$A,\"<=\"&DATE($B$2,MONTH($S7),DAY($S7)))","v":0},{"$f":"SUMIFS('Sessies dag'!$B:$B,'Sessies dag'!$C:$C,COLUMN(D:D),'Sessies dag'!$A:$A,\">=\"&DATE($B$2,MONTH($R7),1),'Sessies dag'!$A:$A,\"<=\"&DATE($B$2,MONTH($S7),DAY($S7)))","v":0},{"$f":"SUMIFS('Sessies dag'!$B:$B,'Sessies dag'!$C:$C,COLUMN(E:E),'Sessies dag'!$A:$A,\">=\"&DATE($B$2,MONTH($R7),1),'Sessies dag'!$A:$A,\"<=\"&DATE($B$2,MONTH($S7),DAY($S7)))","v":0},{"$f":"SUMIFS('Sessies dag'!$B:$B,'Sessies dag'!$C:$C,COLUMN(F:F),'Sessies dag'!$A:$A,\">=\"&DATE($B$2,MONTH($R7),1),'Sessies dag'!$A:$A,\"<=\"&DATE($B$2,MONTH($S7),DAY($S7)))","v":0},{"$f":"SUMIFS('Sessies dag'!$B:$B,'Sessies dag'!$C:$C,COLUMN(G:G),'Sessies dag'!$A:$A,\">=\"&DATE($B$2,MONTH($R7),1),'Sessies dag'!$A:$A,\"<=\"&DATE($B$2,MONTH($S7),DAY($S7)))","v":0}]
["mei",{"$f":"SUMIFS('Sessies dag'!$B:$B,'Sessies dag'!$C:$C,COLUMN(A:A),'Sessies dag'!$A:$A,\">=\"&DATE($B$2,MONTH($R8),1),'Sessies dag'!$A:$A,\"<=\"&DATE($B$2,MONTH($S8),DAY($S8)))","v":0},{"$f":"SUMIFS('Sessies dag'!$B:$B,'Sessies dag'!$C:$C,COLUMN(B:B),'Sessies dag'!$A:$A,\">=\"&DATE($B$2,MONTH($R8),1),'Sessies dag'!$A:$A,\"<=\"&DATE($B$2,MONTH($S8),DAY($S8)))","v":0},{"$f":"SUMIFS('Sessies dag'!$B:$B,'Sessies dag'!$C:$C,COLUMN(C:C),'Sessies dag'!$A:$A,\">=\"&DATE($B$2,MONTH($R8),1),'Sessies dag'!$A:$A,\"<=\"&DATE($B$2,MONTH($S8),DAY($S8)))","v":0},{"$f":"SUMIFS('Sessies dag'!$B:$B,'Sessies dag'!$C:$C,COLUMN(D:D),'Sessies dag'!$A:$A,\">=\"&DATE($B$2,MONTH($R8),1),'Sessies dag'!$A:$A,\"<=\"&DATE($B$2,MONTH($S8),DAY($S8)))","v":0},{"$f":"SUMIFS('Sessies dag'!$B:$B,'Sessies dag'!$C:$C,COLUMN(E:E),'Sessies dag'!$A:$A,\">=\"&DATE($B$2,MONTH($R8),1),'Sessies dag'!$A:$A,\"<=\"&DATE($B$2,MONTH($S8),DAY($S8)))","v":0},{"$f":"SUMIFS('Sessies dag'!$B:$B,'Sessies dag'!$C:$C,COLUMN(F:F),'Sessies dag'!$A:$A,\">=\"&DATE($B$2,MONTH($R8),1),'Sessies dag'!$A:$A,\"<=\"&DATE($B$2,MONTH($S8),DAY($S8)))","v":0},{"$f":"SUMIFS('Sessies dag'!$B:$B,'Sessies dag'!$C:$C,COLUMN(G:G),'Sessies dag'!$A:$A,\">=\"&DATE($B$2,MONTH($R8),1),'Sessies dag'!$A:$A,\"<=\"&DATE($B$2,MONTH($S8),DAY($S8)))","v":0}]
["juni",{"$f":"SUMIFS('Sessies dag'!$B:$B,'Sessies dag'!$C:$C,COLUMN(A:A),'Sessies dag'!$A:$A,\">=\"&DATE($B$2,MONTH($R9),1),'Sessies dag'!$A:$A,\"<=\"&DATE($B$2,MONTH($S9),DAY($S9)))","v":0},{"$f":"SUMIFS('Sessies dag'!$B:$B,'Sessies dag'!$C:$C,COLUMN(B:B),'Sessies dag'!$A:$A,\">=\"&DATE($B$2,MONTH($R9),1),'Sessies dag'!$A:$A,\"<=\"&DATE($B$2,MONTH($S9),DAY($S9)))","v":0},{"$f":"SUMIFS('Sessies dag'!$B:$B,'Sessies dag'!$C:$C,COLUMN(C:C),'Sessies dag'!$A:$A,\">=\"&DATE($B$2,MONTH($R9),1),'Sessies dag'!$A:$A,\"<=\"&DATE($B$2,MONTH($S9),DAY($S9)))","v":0},{"$f":"SUMIFS('Sessies dag'!$B:$B,'Sessies dag'!$C:$C,COLUMN(D:D),'Sessies dag'!$A:$A,\">=\"&DATE($B$2,MONTH($R9),1),'Sessies dag'!$A:$A,\"<=\"&DATE($B$2,MONTH($S9),DAY($S9)))","v":0},{"$f":"SUMIFS('Sessies dag'!$B:$B,'Sessies dag'!$C:$C,COLUMN(E:E),'Sessies dag'!$A:$A,\">=\"&DATE($B$2,MONTH($R9),1),'Sessies dag'!$A:$A,\"<=\"&DATE($B$2,MONTH($S9),DAY($S9)))","v":0},{"$f":"SUMIFS('Sessies dag'!$B:$B,'Sessies dag'!$C:$C,COLUMN(F:F),'Sessies dag'!$A:$A,\">=\"&DATE($B$2,MONTH($R9),1),'Sessies dag'!$A:$A,\"<=\"&DATE($B$2,MONTH($S9),DAY($S9)))","v":0},{"$f":"SUMIFS('Sessies dag'!$B:$B,'Sessies dag'!$C:$C,COLUMN(G:G),'Sessies dag'!$A:$A,\">=\"&DATE($B$2,MONTH($R9),1),'Sessies dag'!$A:$A,\"<=\"&DATE($B$2,MONTH($S9),DAY($S9)))","v":0}]
["juli",{"$f":"SUMIFS('Sessies dag'!$B:$B,'Sessies dag'!$C:$C,COLUMN(A:A),'Sessies dag'!$A:$A,\">=\"&DATE($B$2,MONTH($R10),1),'Sessies dag'!$A:$A,\"<=\"&DATE($B$2,MONTH($S10),DAY($S10)))","v":0},{"$f":"SUMIFS('Sessies dag'!$B:$B,'Sessies dag'!$C:$C,COLUMN(B:B),'Sessies dag'!$A:$A,\">=\"&DATE($B$2,MONTH($R10),1),'Sessies dag'!$A:$A,\"<=\"&DATE($B$2,MONTH($S10),DAY($S10)))","v":0},{"$f":"SUMIFS('Sessies dag'!$B:$B,'Sessies dag'!$C:$C,COLUMN(C:C),'Sessies dag'!$A:$A,\">=\"&DATE($B$2,MONTH($R10),1),'Sessies dag'!$A:$A,\"<=\"&DATE($B$2,MONTH($S10),DAY($S10)))","v":0},{"$f":"SUMIFS('Sessies dag'!$B:$B,'Sessies dag'!$C:$C,COLUMN(D:D),'Sessies dag'!$A:$A,\">=\"&DATE($B$2,MONTH($R10),1),'Sessies dag'!$A:$A,\"<=\"&DATE($B$2,MONTH($S10),DAY($S10)))","v":0},{"$f":"SUMIFS('Sessies dag'!$B:$B,'Sessies dag'!$C:$C,COLUMN(E:E),'Sessies dag'!$A:$A,\">=\"&DATE($B$2,MONTH($R10),1),'Sessies dag'!$A:$A,\"<=\"&DATE($B$2,MONTH($S10),DAY($S10)))","v":0},{"$f":"SUMIFS('Sessies dag'!$B:$B,'Sessies dag'!$C:$C,COLUMN(F:F),'Sessies dag'!$A:$A,\">=\"&DATE($B$2,MONTH($R10),1),'Sessies dag'!$A:$A,\"<=\"&DATE($B$2,MONTH($S10),DAY($S10)))","v":0},{"$f":"SUMIFS('Sessies dag'!$B:$B,'Sessies dag'!$C:$C,COLUMN(G:G),'Sessies dag'!$A:$A,\">=\"&DATE($B$2,MONTH($R10),1),'Sessies dag'!$A:$A,\"<=\"&DATE($B$2,MONTH($S10),DAY($S10)))","v":0}]
["augustus",{"$f":"SUMIFS('Sessies dag'!$B:$B,'Sessies dag'!$C:$C,COLUMN(A:A),'Sessies dag'!$A:$A,\">=\"&DATE($B$2,MONTH($R11),1),'Sessies dag'!$A:$A,\"<=\"&DATE($B$2,MONTH($S11),DAY($S11)))","v":0},{"$f":"SUMIFS('Sessies dag'!$B:$B,'Sessies dag'!$C:$C,COLUMN(B:B),'Sessies dag'!$A:$A,\">=\"&DATE($B$2,MONTH($R11),1),'Sessies dag'!$A:$A,\"<=\"&DATE($B$2,MONTH($S11),DAY($S11)))","v":0},{"$f":"SUMIFS('Sessies dag'!$B:$B,'Sessies dag'!$C:$C,COLUMN(C:C),'Sessies dag'!$A:$A,\">=\"&DATE($B$2,MONTH($R11),1),'Sessies dag'!$A:$A,\"<=\"&DATE($B$2,MONTH($S11),DAY($S11)))","v":0},{"$f":"SUMIFS('Sessies dag'!$B:$B,'Sessies dag'!$C:$C,COLUMN(D:D),'Sessies dag'!$A:$A,\">=\"&DATE($B$2,MONTH($R11),1),'Sessies dag'!$A:$A,\"<=\"&DATE($B$2,MONTH($S11),DAY($S11)))","v":0},{"$f":"SUMIFS('Sessies dag'!$B:$B,'Sessies dag'!$C:$C,COLUMN(E:E),'Sessies dag'!$A:$A,\">=\"&DATE($B$2,MONTH($R11),1),'Sessies dag'!$A:$A,\"<=\"&DATE($B$2,MONTH($S11),DAY($S11)))","v":0},{"$f":"SUMIFS('Sessies dag'!$B:$B,'Sessies dag'!$C:$C,COLUMN(F:F),'Sessies dag'!$A:$A,\">=\"&DATE($B$2,MONTH($R11),1),'Sessies dag'!$A:$A,\"<=\"&DATE($B$2,MONTH($S11),DAY($S11)))","v":0},{"$f":"SUMIFS('Sessies dag'!$B:$B,'Sessies dag'!$C:$C,COLUMN(G:G),'Sessies dag'!$A:$A,\">=\"&DATE($B$2,MONTH($R11),1),'Sessies dag'!$A:$A,\"<=\"&DATE($B$2,MONTH($S11),DAY($S11)))","v":0}]
["september",{"$f":"SUMIFS('Sessies dag'!$B:$B,'Sessies dag'!$C:$C,COLUMN(A:A),'Sessies dag'!$A:$A,\">=\"&DATE($B$2,MONTH($R12),1),'Sessies dag'!$A:$A,\"<=\"&DATE($B$2,MONTH($S12),DAY($S12)))","v":0},{"$f":"SUMIFS('Sessies dag'!$B:$B,'Sessies dag'!$C:$C,COLUMN(B:B),'Sessies dag'!$A:$A,\">=\"&DATE($B$2,MONTH($R12),1),'Sessies dag'!$A:$A,\"<=\"&DATE($B$2,MONTH($S12),DAY($S12)))","v":0},{"$f":"SUMIFS('Sessies dag'!$B:$B,'Sessies dag'!$C:$C,COLUMN(C:C),'Sessies dag'!$A:$A,\">=\"&DATE($B$2,MONTH($R12),1),'Sessies dag'!$A:$A,\"<=\"&DATE($B$2,MONTH($S12),DAY($S12)))","v":0},{"$f":"SUMIFS('Sessies dag'!$B:$B,'Sessies dag'!$C:$C,COLUMN(D:D),'Sessies dag'!$A:$A,\">=\"&DATE($B$2,MONTH($R12),1),'Sessies dag'!$A:$A,\"<=\"&DATE($B$2,MONTH($S12),DAY($S12)))","v":0},{"$f":"SUMIFS('Sessies dag'!$B:$B,'Sessies dag'!$C:$C,COLUMN(E:E),'Sessies dag'!$A:$A,\">=\"&DATE($B$2,MONTH($R12),1),'Sessies dag'!$A:$A,\"<=\"&DATE($B$2,MONTH($S12),DAY($S12)))","v":0},{"$f":"SUMIFS('Sessies dag'!$B:$B,'Sessies dag'!$C:$C,COLUMN(F:F),'Sessies dag'!$A:$A,\">=\"&DATE($B$2,MONTH($R12),1),'Sessies dag'!$A:$A,\"<=\"&DATE($B$2,MONTH($S12),DAY($S12)))","v":0},{"$f":"SUMIFS('Sessies dag'!$B:$B,'Sessies dag'!$C:$C,COLUMN(G:G),'Sessies dag'!$A:$A,\">=\"&DATE($B$2,MONTH($R12),1),'Sessies dag'!$A:$A,\"<=\"&DATE($B$2,MONTH($S12),DAY($S12)))","v":0}]
["oktober",{"$f":"SUMIFS('Sessies dag'!$B:$B,'Sessies dag'!$C:$C,COLUMN(A:A),'Sessies dag'!$A:$A,\">=\"&DATE($B$2,MONTH($R13),1),'Sessies dag'!$A:$A,\"<=\"&DATE($B$2,MONTH($S13),DAY($S13)))","v":0},{"$f":"SUMIFS('Sessies dag'!$B:$B,'Sessies dag'!$C:$C,COLUMN(B:B),'Sessies dag'!$A:$A,\">=\"&DATE($B$2,MONTH($R13),1),'Sessies dag'!$A:$A,\"<=\"&DATE($B$2,MONTH($S13),DAY($S13)))","v":0},{"$f":"SUMIFS('Sessies dag'!$B:$B,'Sessies dag'!$C:$C,COLUMN(C:C),'Sessies dag'!$A:$A,\">=\"&DATE($B$2,MONTH($R13),1),'Sessies dag'!$A:$A,\"<=\"&DATE($B$2,MONTH($S13),DAY($S13)))","v":0},{"$f":"SUMIFS('Sessies dag'!$B:$B,'Sessies dag'!$C:$C,COLUMN(D:D),'Sessies dag'!$A:$A,\">=\"&DATE($B$2,MONTH($R13),1),'Sessies dag'!$A:$A,\"<=\"&DATE($B$2,MONTH($S13),DAY($S13)))","v":0},{"$f":"SUMIFS('Sessies dag'!$B:$B,'Sessies dag'!$C:$C,COLUMN(E:E),'Sessies dag'!$A:$A,\">=\"&DATE($B$2,MONTH($R13),1),'Sessies dag'!$A:$A,\"<=\"&DATE($B$2,MONTH($S13),DAY($S13)))","v":0},{"$f":"SUMIFS('Sessies dag'!$B:$B,'Sessies dag'!$C:$C,COLUMN(F:F),'Sessies dag'!$A:$A,\">=\"&DATE($B$2,MONTH($R13),1),'Sessies dag'!$A:$A,\"<=\"&DATE($B$2,MONTH($S13),DAY($S13)))","v":0},{"$f":"SUMIFS('Sessies dag'!$B:$B,'Sessies dag'!$C:$C,COLUMN(G:G),'Sessies dag'!$A:$A,\">=\"&DATE($B$2,MONTH($R13),1),'Sessies dag'!$A:$A,\"<=\"&DATE($B$2,MONTH($S13),DAY($S13)))","v":0}]
["november",{"$f":"SUMIFS('Sessies dag'!$B:$B,'Sessies dag'!$C:$C,COLUMN(A:A),'Sessies dag'!$A:$A,\">=\"&DATE($B$2,MONTH($R14),1),'Sessies dag'!$A:$A,\"<=\"&DATE($B$2,MONTH($S14),DAY($S14)))","v":0},{"$f":"SUMIFS('Sessies dag'!$B:$B,'Sessies dag'!$C:$C,COLUMN(B:B),'Sessies dag'!$A:$A,\">=\"&DATE($B$2,MONTH($R14),1),'Sessies dag'!$A:$A,\"<=\"&DATE($B$2,MONTH($S14),DAY($S14)))","v":0},{"$f":"SUMIFS('Sessies dag'!$B:$B,'Sessies dag'!$C:$C,COLUMN(C:C),'Sessies dag'!$A:$A,\">=\"&DATE($B$2,MONTH($R14),1),'Sessies dag'!$A:$A,\"<=\"&DATE($B$2,MONTH($S14),DAY($S14)))","v":0},{"$f":"SUMIFS('Sessies dag'!$B:$B,'Sessies dag'!$C:$C,COLUMN(D:D),'Sessies dag'!$A:$A,\">=\"&DATE($B$2,MONTH($R14),1),'Sessies dag'!$A:$A,\"<=\"&DATE($B$2,MONTH($S14),DAY($S14)))","v":0},{"$f":"SUMIFS('Sessies dag'!$B:$B,'Sessies dag'!$C:$C,COLUMN(E:E),'Sessies dag'!$A:$A,\">=\"&DATE($B$2,MONTH($R14),1),'Sessies dag'!$A:$A,\"<=\"&DATE($B$2,MONTH($S14),DAY($S14)))","v":0},{"$f":"SUMIFS('Sessies dag'!$B:$B,'Sessies dag'!$C:$C,COLUMN(F:F),'Sessies dag'!$A:$A,\">=\"&DATE($B$2,MONTH($R14),1),'Sessies dag'!$A:$A,\"<=\"&DATE($B$2,MONTH($S14),DAY($S14)))","v":0},{"$f":"SUMIFS('Sessies dag'!$B:$B,'Sessies dag'!$C:$C,COLUMN(G:G),'Sessies dag'!$A:$A,\">=\"&DATE($B$2,MONTH($R14),1),'Sessies dag'!$A:$A,\"<=\"&DATE($B$2,MONTH($S14),DAY($S14)))","v":0}]
["december",{"$f":"SUMIFS('Sessies dag'!$B:$B,'Sessies dag'!$C:$C,COLUMN(A:A),'Sessies dag'!$A:$A,\">=\"&DATE($B$2,MONTH($R15),1),'Sessies dag'!$A:$A,\"<=\"&DATE($B$2,MONTH($S15),DAY($S15)))","v":0},{"$f":"SUMIFS('Sessies dag'!$B:$B,'Sessies dag'!$C:$C,COLUMN(B:B),'Sessies dag'!$A:$A,\">=\"&DATE($B$2,MONTH($R15),1),'Sessies dag'!$A:$A,\"<=\"&DATE($B$2,MONTH($S15),DAY($S15)))","v":0},{"$f":"SUMIFS('Sessies dag'!$B:$B,'Sessies dag'!$C:$C,COLUMN(C:C),'Sessies dag'!$A:$A,\">=\"&DATE($B$2,MONTH($R15),1),'Sessies dag'!$A:$A,\"<=\"&DATE($B$2,MONTH($S15),DAY($S15)))","v":0},{"$f":"SUMIFS('Sessies dag'!$B:$B,'Sessies dag'!$C:$C,COLUMN(D:D),'Sessies dag'!$A:$A,\">=\"&DATE($B$2,MONTH($R15),1),'Sessies dag'!$A:$A,\"<=\"&DATE($B$2,MONTH($S15),DAY($S15)))","v":0},{"$f":"SUMIFS('Sessies dag'!$B:$B,'Sessies dag'!$C:$C,COLUMN(E:E),'Sessies dag'!$A:$A,\">=\"&DATE($B$2,MONTH($R15),1),'Sessies dag'!$A:$A,\"<=\"&DATE($B$2,MONTH($S15),DAY($S15)))","v":0},{"$f":"SUMIFS('Sessies dag'!$B:$B,'Sessies dag'!$C:$C,COLUMN(F:F),'Sessies dag'!$A:$A,\">=\"&DATE($B$2,MONTH($R15),1),'Sessies dag'!$A:$A,\"<=\"&DATE($B$2,MONTH($S15),DAY($S15)))","v":0},{"$f":"SUMIFS('Sessies dag'!$B:$B,'Sessies dag'!$C:$C,COLUMN(G:G),'Sessies dag'!$A:$A,\">=\"&DATE($B$2,MONTH($R15),1),'Sessies dag'!$A:$A,\"<=\"&DATE($B$2,MONTH($S15),DAY($S15)))","v":0}]

{"sheet":"RappKanalen","index":5,"n_rows":19,"n_cols":13,"rows_kept":19,"cut":false,"hidden":true,"merged":[]}
["Rapportage maand",{"$f":"Home!E9","v":"Mei"},null,null,null,null,null,null,null,null,null,null,"Kies scherm"]
["Rapportage jaar",{"$f":"Home!E10","v":2017},null,null,null,null,null,null,null,null,null,null,"Sessies per zoekwoord"]
[]
[]
["Kanalen"]
[]
[null,"Organic Search","Direct","Referral","Social","Email","(Other)"]
["januari",{"$f":"SUMIFS(Kanalen!$D:$D,Kanalen!$A:$A,$B$2,Kanalen!$B:$B,ROW(1:1),Kanalen!$C:$C,B$7)","v":0},{"$f":"SUMIFS(Kanalen!$D:$D,Kanalen!$A:$A,$B$2,Kanalen!$B:$B,ROW(1:1),Kanalen!$C:$C,C$7)","v":0},{"$f":"SUMIFS(Kanalen!$D:$D,Kanalen!$A:$A,$B$2,Kanalen!$B:$B,ROW(1:1),Kanalen!$C:$C,D$7)","v":0},{"$f":"SUMIFS(Kanalen!$D:$D,Kanalen!$A:$A,$B$2,Kanalen!$B:$B,ROW(1:1),Kanalen!$C:$C,E$7)","v":0},{"$f":"SUMIFS(Kanalen!$D:$D,Kanalen!$A:$A,$B$2,Kanalen!$B:$B,ROW(1:1),Kanalen!$C:$C,F$7)","v":0},{"$f":"SUMIFS(Kanalen!$D:$D,Kanalen!$A:$A,$B$2,Kanalen!$B:$B,ROW(1:1),Kanalen!$C:$C,G$7)","v":0}]
["februari",{"$f":"SUMIFS(Kanalen!$D:$D,Kanalen!$A:$A,$B$2,Kanalen!$B:$B,ROW(2:2),Kanalen!$C:$C,B$7)","v":0},{"$f":"SUMIFS(Kanalen!$D:$D,Kanalen!$A:$A,$B$2,Kanalen!$B:$B,ROW(2:2),Kanalen!$C:$C,C$7)","v":0},{"$f":"SUMIFS(Kanalen!$D:$D,Kanalen!$A:$A,$B$2,Kanalen!$B:$B,ROW(2:2),Kanalen!$C:$C,D$7)","v":0},{"$f":"SUMIFS(Kanalen!$D:$D,Kanalen!$A:$A,$B$2,Kanalen!$B:$B,ROW(2:2),Kanalen!$C:$C,E$7)","v":0},{"$f":"SUMIFS(Kanalen!$D:$D,Kanalen!$A:$A,$B$2,Kanalen!$B:$B,ROW(2:2),Kanalen!$C:$C,F$7)","v":0},{"$f":"SUMIFS(Kanalen!$D:$D,Kanalen!$A:$A,$B$2,Kanalen!$B:$B,ROW(2:2),Kanalen!$C:$C,G$7)","v":0}]
["maart",{"$f":"SUMIFS(Kanalen!$D:$D,Kanalen!$A:$A,$B$2,Kanalen!$B:$B,ROW(3:3),Kanalen!$C:$C,B$7)","v":0},{"$f":"SUMIFS(Kanalen!$D:$D,Kanalen!$A:$A,$B$2,Kanalen!$B:$B,ROW(3:3),Kanalen!$C:$C,C$7)","v":0},{"$f":"SUMIFS(Kanalen!$D:$D,Kanalen!$A:$A,$B$2,Kanalen!$B:$B,ROW(3:3),Kanalen!$C:$C,D$7)","v":0},{"$f":"SUMIFS(Kanalen!$D:$D,Kanalen!$A:$A,$B$2,Kanalen!$B:$B,ROW(3:3),Kanalen!$C:$C,E$7)","v":0},{"$f":"SUMIFS(Kanalen!$D:$D,Kanalen!$A:$A,$B$2,Kanalen!$B:$B,ROW(3:3),Kanalen!$C:$C,F$7)","v":0},{"$f":"SUMIFS(Kanalen!$D:$D,Kanalen!$A:$A,$B$2,Kanalen!$B:$B,ROW(3:3),Kanalen!$C:$C,G$7)","v":0}]
["april",{"$f":"SUMIFS(Kanalen!$D:$D,Kanalen!$A:$A,$B$2,Kanalen!$B:$B,ROW(4:4),Kanalen!$C:$C,B$7)","v":0},{"$f":"SUMIFS(Kanalen!$D:$D,Kanalen!$A:$A,$B$2,Kanalen!$B:$B,ROW(4:4),Kanalen!$C:$C,C$7)","v":0},{"$f":"SUMIFS(Kanalen!$D:$D,Kanalen!$A:$A,$B$2,Kanalen!$B:$B,ROW(4:4),Kanalen!$C:$C,D$7)","v":0},{"$f":"SUMIFS(Kanalen!$D:$D,Kanalen!$A:$A,$B$2,Kanalen!$B:$B,ROW(4:4),Kanalen!$C:$C,E$7)","v":0},{"$f":"SUMIFS(Kanalen!$D:$D,Kanalen!$A:$A,$B$2,Kanalen!$B:$B,ROW(4:4),Kanalen!$C:$C,F$7)","v":0},{"$f":"SUMIFS(Kanalen!$D:$D,Kanalen!$A:$A,$B$2,Kanalen!$B:$B,ROW(4:4),Kanalen!$C:$C,G$7)","v":0}]
["mei",{"$f":"SUMIFS(Kanalen!$D:$D,Kanalen!$A:$A,$B$2,Kanalen!$B:$B,ROW(5:5),Kanalen!$C:$C,B$7)","v":0},{"$f":"SUMIFS(Kanalen!$D:$D,Kanalen!$A:$A,$B$2,Kanalen!$B:$B,ROW(5:5),Kanalen!$C:$C,C$7)","v":0},{"$f":"SUMIFS(Kanalen!$D:$D,Kanalen!$A:$A,$B$2,Kanalen!$B:$B,ROW(5:5),Kanalen!$C:$C,D$7)","v":0},{"$f":"SUMIFS(Kanalen!$D:$D,Kanalen!$A:$A,$B$2,Kanalen!$B:$B,ROW(5:5),Kanalen!$C:$C,E$7)","v":0},{"$f":"SUMIFS(Kanalen!$D:$D,Kanalen!$A:$A,$B$2,Kanalen!$B:$B,ROW(5:5),Kanalen!$C:$C,F$7)","v":0},{"$f":"SUMIFS(Kanalen!$D:$D,Kanalen!$A:$A,$B$2,Kanalen!$B:$B,ROW(5:5),Kanalen!$C:$C,G$7)","v":0}]
["juni",{"$f":"SUMIFS(Kanalen!$D:$D,Kanalen!$A:$A,$B$2,Kanalen!$B:$B,ROW(6:6),Kanalen!$C:$C,B$7)","v":0},{"$f":"SUMIFS(Kanalen!$D:$D,Kanalen!$A:$A,$B$2,Kanalen!$B:$B,ROW(6:6),Kanalen!$C:$C,C$7)","v":0},{"$f":"SUMIFS(Kanalen!$D:$D,Kanalen!$A:$A,$B$2,Kanalen!$B:$B,ROW(6:6),Kanalen!$C:$C,D$7)","v":0},{"$f":"SUMIFS(Kanalen!$D:$D,Kanalen!$A:$A,$B$2,Kanalen!$B:$B,ROW(6:6),Kanalen!$C:$C,E$7)","v":0},{"$f":"SUMIFS(Kanalen!$D:$D,Kanalen!$A:$A,$B$2,Kanalen!$B:$B,ROW(6:6),Kanalen!$C:$C,F$7)","v":0},{"$f":"SUMIFS(Kanalen!$D:$D,Kanalen!$A:$A,$B$2,Kanalen!$B:$B,ROW(6:6),Kanalen!$C:$C,G$7)","v":0}]
["juli",{"$f":"SUMIFS(Kanalen!$D:$D,Kanalen!$A:$A,$B$2,Kanalen!$B:$B,ROW(7:7),Kanalen!$C:$C,B$7)","v":0},{"$f":"SUMIFS(Kanalen!$D:$D,Kanalen!$A:$A,$B$2,Kanalen!$B:$B,ROW(7:7),Kanalen!$C:$C,C$7)","v":0},{"$f":"SUMIFS(Kanalen!$D:$D,Kanalen!$A:$A,$B$2,Kanalen!$B:$B,ROW(7:7),Kanalen!$C:$C,D$7)","v":0},{"$f":"SUMIFS(Kanalen!$D:$D,Kanalen!$A:$A,$B$2,Kanalen!$B:$B,ROW(7:7),Kanalen!$C:$C,E$7)","v":0},{"$f":"SUMIFS(Kanalen!$D:$D,Kanalen!$A:$A,$B$2,Kanalen!$B:$B,ROW(7:7),Kanalen!$C:$C,F$7)","v":0},{"$f":"SUMIFS(Kanalen!$D:$D,Kanalen!$A:$A,$B$2,Kanalen!$B:$B,ROW(7:7),Kanalen!$C:$C,G$7)","v":0}]
["augustus",{"$f":"SUMIFS(Kanalen!$D:$D,Kanalen!$A:$A,$B$2,Kanalen!$B:$B,ROW(8:8),Kanalen!$C:$C,B$7)","v":0},{"$f":"SUMIFS(Kanalen!$D:$D,Kanalen!$A:$A,$B$2,Kanalen!$B:$B,ROW(8:8),Kanalen!$C:$C,C$7)","v":0},{"$f":"SUMIFS(Kanalen!$D:$D,Kanalen!$A:$A,$B$2,Kanalen!$B:$B,ROW(8:8),Kanalen!$C:$C,D$7)","v":0},{"$f":"SUMIFS(Kanalen!$D:$D,Kanalen!$A:$A,$B$2,Kanalen!$B:$B,ROW(8:8),Kanalen!$C:$C,E$7)","v":0},{"$f":"SUMIFS(Kanalen!$D:$D,Kanalen!$A:$A,$B$2,Kanalen!$B:$B,ROW(8:8),Kanalen!$C:$C,F$7)","v":0},{"$f":"SUMIFS(Kanalen!$D:$D,Kanalen!$A:$A,$B$2,Kanalen!$B:$B,ROW(8:8),Kanalen!$C:$C,G$7)","v":0}]
["september",{"$f":"SUMIFS(Kanalen!$D:$D,Kanalen!$A:$A,$B$2,Kanalen!$B:$B,ROW(9:9),Kanalen!$C:$C,B$7)","v":0},{"$f":"SUMIFS(Kanalen!$D:$D,Kanalen!$A:$A,$B$2,Kanalen!$B:$B,ROW(9:9),Kanalen!$C:$C,C$7)","v":0},{"$f":"SUMIFS(Kanalen!$D:$D,Kanalen!$A:$A,$B$2,Kanalen!$B:$B,ROW(9:9),Kanalen!$C:$C,D$7)","v":0},{"$f":"SUMIFS(Kanalen!$D:$D,Kanalen!$A:$A,$B$2,Kanalen!$B:$B,ROW(9:9),Kanalen!$C:$C,E$7)","v":0},{"$f":"SUMIFS(Kanalen!$D:$D,Kanalen!$A:$A,$B$2,Kanalen!$B:$B,ROW(9:9),Kanalen!$C:$C,F$7)","v":0},{"$f":"SUMIFS(Kanalen!$D:$D,Kanalen!$A:$A,$B$2,Kanalen!$B:$B,ROW(9:9),Kanalen!$C:$C,G$7)","v":0}]
["oktober",{"$f":"SUMIFS(Kanalen!$D:$D,Kanalen!$A:$A,$B$2,Kanalen!$B:$B,ROW(10:10),Kanalen!$C:$C,B$7)","v":0},{"$f":"SUMIFS(Kanalen!$D:$D,Kanalen!$A:$A,$B$2,Kanalen!$B:$B,ROW(10:10),Kanalen!$C:$C,C$7)","v":0},{"$f":"SUMIFS(Kanalen!$D:$D,Kanalen!$A:$A,$B$2,Kanalen!$B:$B,ROW(10:10),Kanalen!$C:$C,D$7)","v":0},{"$f":"SUMIFS(Kanalen!$D:$D,Kanalen!$A:$A,$B$2,Kanalen!$B:$B,ROW(10:10),Kanalen!$C:$C,E$7)","v":0},{"$f":"SUMIFS(Kanalen!$D:$D,Kanalen!$A:$A,$B$2,Kanalen!$B:$B,ROW(10:10),Kanalen!$C:$C,F$7)","v":0},{"$f":"SUMIFS(Kanalen!$D:$D,Kanalen!$A:$A,$B$2,Kanalen!$B:$B,ROW(10:10),Kanalen!$C:$C,G$7)","v":0}]
["november",{"$f":"SUMIFS(Kanalen!$D:$D,Kanalen!$A:$A,$B$2,Kanalen!$B:$B,ROW(11:11),Kanalen!$C:$C,B$7)","v":0},{"$f":"SUMIFS(Kanalen!$D:$D,Kanalen!$A:$A,$B$2,Kanalen!$B:$B,ROW(11:11),Kanalen!$C:$C,C$7)","v":0},{"$f":"SUMIFS(Kanalen!$D:$D,Kanalen!$A:$A,$B$2,Kanalen!$B:$B,ROW(11:11),Kanalen!$C:$C,D$7)","v":0},{"$f":"SUMIFS(Kanalen!$D:$D,Kanalen!$A:$A,$B$2,Kanalen!$B:$B,ROW(11:11),Kanalen!$C:$C,E$7)","v":0},{"$f":"SUMIFS(Kanalen!$D:$D,Kanalen!$A:$A,$B$2,Kanalen!$B:$B,ROW(11:11),Kanalen!$C:$C,F$7)","v":0},{"$f":"SUMIFS(Kanalen!$D:$D,Kanalen!$A:$A,$B$2,Kanalen!$B:$B,ROW(11:11),Kanalen!$C:$C,G$7)","v":0}]
["december",{"$f":"SUMIFS(Kanalen!$D:$D,Kanalen!$A:$A,$B$2,Kanalen!$B:$B,ROW(12:12),Kanalen!$C:$C,B$7)","v":0},{"$f":"SUMIFS(Kanalen!$D:$D,Kanalen!$A:$A,$B$2,Kanalen!$B:$B,ROW(12:12),Kanalen!$C:$C,C$7)","v":0},{"$f":"SUMIFS(Kanalen!$D:$D,Kanalen!$A:$A,$B$2,Kanalen!$B:$B,ROW(12:12),Kanalen!$C:$C,D$7)","v":0},{"$f":"SUMIFS(Kanalen!$D:$D,Kanalen!$A:$A,$B$2,Kanalen!$B:$B,ROW(12:12),Kanalen!$C:$C,E$7)","v":0},{"$f":"SUMIFS(Kanalen!$D:$D,Kanalen!$A:$A,$B$2,Kanalen!$B:$B,ROW(12:12),Kanalen!$C:$C,F$7)","v":0},{"$f":"SUMIFS(Kanalen!$D:$D,Kanalen!$A:$A,$B$2,Kanalen!$B:$B,ROW(12:12),Kanalen!$C:$C,G$7)","v":0}]

{"sheet":"RappZoekwoorden","index":6,"n_rows":43,"n_cols":13,"rows_kept":43,"cut":false,"hidden":true,"merged":[]}
[null,"Rapportage maand",{"$f":"MONTH(DATEVALUE(\"1 \"&Home!E9&C2))","v":5},null,null,null,null,null,null,null,null,null,"Kies scherm"]
[null,"Rapportage jaar",{"$f":"Home!E10","v":2017},null,null,null,null,null,null,null,null,null,"Bestemmingspagina"]
[null,"Top 10 zoekwoorden waarop gevonden wordt obv aantal klikken"]
[]
[null,"Zoekwoord","Aantal klikken","Vertoningen","Positie"]
[1]
[2]
[3]
[4]
[5]
[6]
[7]
[8]
[9]
[10]
[]
[null,"Top 10 zoekwoorden waarop gevonden wordt obv aantal vertoningen"]
[]
[null,"Zoekwoord","Aantal klikken","Vertoningen","Positie"]
[1]
[2]
[3]
[4]
[5]
[6]
[7]
[8]
[9]
[10]
[]
[null,"Zoekwoorden waarop de site gevonden moet worden (zelf invullen)"]
[]
[null,"Zoekwoord","Aantal klikken","Vertoningen","Positie"]
[1,"Macro",{"$f":"IF(B34=\"\",\"\",SUMIFS('Search console'!D:D,'Search console'!$C:$C,\"*\"&$B34&\"*\"))","v":0},{"$f":"IF(B34=\"\",\"\",SUMIFS('Search console'!E:E,'Search console'!$C:$C,\"*\"&$B34&\"*\"))","v":0},{"$f":"IF(B34=\"\",\"\",SUMIFS('Search console'!G:G,'Search console'!$C:$C,\"*\"&$B34&\"*\"))","v":0}]
[2,null,{"$f":"IF(B35=\"\",\"\",SUMIFS('Search console'!D:D,'Search console'!$C:$C,\"*\"&$B35&\"*\"))","v":""},{"$f":"IF(B35=\"\",\"\",SUMIFS('Search console'!E:E,'Search console'!$C:$C,\"*\"&$B35&\"*\"))","v":""},{"$f":"IF(B35=\"\",\"\",SUMIFS('Search console'!G:G,'Search console'!$C:$C,\"*\"&$B35&\"*\"))","v":""}]
[3,null,{"$f":"IF(B36=\"\",\"\",SUMIFS('Search console'!D:D,'Search console'!$C:$C,\"*\"&$B36&\"*\"))","v":""},{"$f":"IF(B36=\"\",\"\",SUMIFS('Search console'!E:E,'Search console'!$C:$C,\"*\"&$B36&\"*\"))","v":""},{"$f":"IF(B36=\"\",\"\",SUMIFS('Search console'!G:G,'Search console'!$C:$C,\"*\"&$B36&\"*\"))","v":""}]
[4,null,{"$f":"IF(B37=\"\",\"\",SUMIFS('Search console'!D:D,'Search console'!$C:$C,\"*\"&$B37&\"*\"))","v":""},{"$f":"IF(B37=\"\",\"\",SUMIFS('Search console'!E:E,'Search console'!$C:$C,\"*\"&$B37&\"*\"))","v":""},{"$f":"IF(B37=\"\",\"\",SUMIFS('Search console'!G:G,'Search console'!$C:$C,\"*\"&$B37&\"*\"))","v":""}]
[5,null,{"$f":"IF(B38=\"\",\"\",SUMIFS('Search console'!D:D,'Search console'!$C:$C,\"*\"&$B38&\"*\"))","v":""},{"$f":"IF(B38=\"\",\"\",SUMIFS('Search console'!E:E,'Search console'!$C:$C,\"*\"&$B38&\"*\"))","v":""},{"$f":"IF(B38=\"\",\"\",SUMIFS('Search console'!G:G,'Search console'!$C:$C,\"*\"&$B38&\"*\"))","v":""}]
[6,null,{"$f":"IF(B39=\"\",\"\",SUMIFS('Search console'!D:D,'Search console'!$C:$C,\"*\"&$B39&\"*\"))","v":""},{"$f":"IF(B39=\"\",\"\",SUMIFS('Search console'!E:E,'Search console'!$C:$C,\"*\"&$B39&\"*\"))","v":""},{"$f":"IF(B39=\"\",\"\",SUMIFS('Search console'!G:G,'Search console'!$C:$C,\"*\"&$B39&\"*\"))","v":""}]
[7,null,{"$f":"IF(B40=\"\",\"\",SUMIFS('Search console'!D:D,'Search console'!$C:$C,\"*\"&$B40&\"*\"))","v":""},{"$f":"IF(B40=\"\",\"\",SUMIFS('Search console'!E:E,'Search console'!$C:$C,\"*\"&$B40&\"*\"))","v":""},{"$f":"IF(B40=\"\",\"\",SUMIFS('Search console'!G:G,'Search console'!$C:$C,\"*\"&$B40&\"*\"))","v":""}]
[8,null,{"$f":"IF(B41=\"\",\"\",SUMIFS('Search console'!D:D,'Search console'!$C:$C,\"*\"&$B41&\"*\"))","v":""},{"$f":"IF(B41=\"\",\"\",SUMIFS('Search console'!E:E,'Search console'!$C:$C,\"*\"&$B41&\"*\"))","v":""},{"$f":"IF(B41=\"\",\"\",SUMIFS('Search console'!G:G,'Search console'!$C:$C,\"*\"&$B41&\"*\"))","v":""}]
[9,null,{"$f":"IF(B42=\"\",\"\",SUMIFS('Search console'!D:D,'Search console'!$C:$C,\"*\"&$B42&\"*\"))","v":""},{"$f":"IF(B42=\"\",\"\",SUMIFS('Search console'!E:E,'Search console'!$C:$C,\"*\"&$B42&\"*\"))","v":""},{"$f":"IF(B42=\"\",\"\",SUMIFS('Search console'!G:G,'Search console'!$C:$C,\"*\"&$B42&\"*\"))","v":""}]
[10,null,{"$f":"IF(B43=\"\",\"\",SUMIFS('Search console'!D:D,'Search console'!$C:$C,\"*\"&$B43&\"*\"))","v":""},{"$f":"IF(B43=\"\",\"\",SUMIFS('Search console'!E:E,'Search console'!$C:$C,\"*\"&$B43&\"*\"))","v":""},{"$f":"IF(B43=\"\",\"\",SUMIFS('Search console'!G:G,'Search console'!$C:$C,\"*\"&$B43&\"*\"))","v":""}]

{"sheet":"RappBestemming","index":7,"n_rows":34,"n_cols":13,"rows_kept":34,"cut":false,"hidden":true,"merged":[]}
["Rapportage maand",{"$f":"MONTH(DATEVALUE(\"1 \"&Home!E9&B2))","v":5},null,null,null,null,null,null,null,null,null,null,"Kies scherm"]
["Rapportage jaar",{"$f":"Home!E10","v":2017},null,null,null,null,null,null,null,null,null,null,"Herkomst van sessies"]
[]
["Bestemmingspagina top 10 obv sessies"]
[]
["Paginatitel","Sessies","% nieuwe sessies","Nieuwe gebruikers","Bounce percentage","Pagina's / sessie","Gem. sessieduur"]
[]
[]
[]
[]
[]
[]
[]
[]
[]
[]
[]
["Bestemmingspagina onderste 10 obv sessies"]
[]
["Paginatitel","Sessies","% nieuwe sessies","Nieuwe gebruikers","Bounce percentage","Pagina's / sessie","Gem. sessieduur"]
[]
[]
[]
[]
[]
[]
[]
[]
[]
[]
[]
["Bestemmingspagina top 10 obv sessieduur"]
[]
["Paginatitel","Sessies","% nieuwe sessies","Nieuwe gebruikers","Bounce percentage","Pagina's / sessie","Gem. sessieduur"]

{"sheet":"RappHerkSessies","index":8,"n_rows":26,"n_cols":13,"rows_kept":26,"cut":false,"hidden":true,"merged":[]}
["Rapportage jaar",{"$f":"MONTH(DATEVALUE(\"1 \"&Home!E9&B2))","v":5},null,null,null,null,null,null,null,null,null,null,"Kies scherm"]
["Rapportage maand",{"$f":"Home!E10","v":2017},null,null,null,null,null,null,null,null,null,null,"Laadtijden"]
[]
[]
["Sessies per provincie"]
[]
["Provincie","Sessies"]
["South Holland",{"$f":"SUMIFS(Provincie!$D:$D,Provincie!$C:$C,$A8,Provincie!A:A,$B$2,Provincie!B:B,$B$1)","v":0}]
["North Holland",{"$f":"SUMIFS(Provincie!$D:$D,Provincie!$C:$C,$A9,Provincie!A:A,$B$2,Provincie!B:B,$B$1)","v":0}]
["North Brabant",{"$f":"SUMIFS(Provincie!$D:$D,Provincie!$C:$C,$A10,Provincie!A:A,$B$2,Provincie!B:B,$B$1)","v":0}]
["Gelderland",{"$f":"SUMIFS(Provincie!$D:$D,Provincie!$C:$C,$A11,Provincie!A:A,$B$2,Provincie!B:B,$B$1)","v":0}]
["Utrecht",{"$f":"SUMIFS(Provincie!$D:$D,Provincie!$C:$C,$A12,Provincie!A:A,$B$2,Provincie!B:B,$B$1)","v":0}]
["Overijssel",{"$f":"SUMIFS(Provincie!$D:$D,Provincie!$C:$C,$A13,Provincie!A:A,$B$2,Provincie!B:B,$B$1)","v":0}]
["Limburg",{"$f":"SUMIFS(Provincie!$D:$D,Provincie!$C:$C,$A14,Provincie!A:A,$B$2,Provincie!B:B,$B$1)","v":0}]
["Friesland",{"$f":"SUMIFS(Provincie!$D:$D,Provincie!$C:$C,$A15,Provincie!A:A,$B$2,Provincie!B:B,$B$1)","v":0}]
["Groningen",{"$f":"SUMIFS(Provincie!$D:$D,Provincie!$C:$C,$A16,Provincie!A:A,$B$2,Provincie!B:B,$B$1)","v":0}]
["Drenthe",{"$f":"SUMIFS(Provincie!$D:$D,Provincie!$C:$C,$A17,Provincie!A:A,$B$2,Provincie!B:B,$B$1)","v":0}]
["Flevoland",{"$f":"SUMIFS(Provincie!$D:$D,Provincie!$C:$C,$A18,Provincie!A:A,$B$2,Provincie!B:B,$B$1)","v":0}]
["Zeeland",{"$f":"SUMIFS(Provincie!$D:$D,Provincie!$C:$C,$A19,Provincie!A:A,$B$2,Provincie!B:B,$B$1)","v":0}]
["(not set)",{"$f":"SUMIFS(Provincie!$D:$D,Provincie!$C:$C,$A20,Provincie!A:A,$B$2,Provincie!B:B,$B$1)","v":0}]
[]
["Apparaatoverzicht"]
[]
["desktop",250]
["mobile",300]
["tablet",29]

{"sheet":"RappLaadtijd","index":9,"n_rows":14,"n_cols":13,"rows_kept":14,"cut":false,"hidden":true,"merged":[]}
["Rapportage maand",{"$f":"MONTH(DATEVALUE(\"1 \"&Home!E9&B2))","v":5},null,null,null,null,null,null,null,null,null,null,"Kies scherm"]
["Rapportage jaar",{"$f":"Home!E10","v":2017},null,null,null,null,null,null,null,null,null,null,"Sessies per dag / maand"]
[]
["Frequentie van gemiddelde laadtijden per pagina"]
[]
["Gemiddelde laadtijd","Frequentie"]
["Kleiner dan of gelijk aan 1 seconde",{"$f":"COUNTIFS(Laadtijd!$A:$A,$B$2,Laadtijd!$B:$B,$B$1,Laadtijd!$D:$D,\"<=1\",Laadtijd!$D:$D,\"<>0\")","v":0}]
["Tussen 1 en 2 seconden",{"$f":"COUNTIFS(Laadtijd!$A:$A,$B$2,Laadtijd!$B:$B,$B$1,Laadtijd!$D:$D,\">\"&ROW(1:1),Laadtijd!$D:$D,\"<=\"&ROW(2:2))","v":0}]
["Tussen 2 en 3 seconden",{"$f":"COUNTIFS(Laadtijd!$A:$A,$B$2,Laadtijd!$B:$B,$B$1,Laadtijd!$D:$D,\">\"&ROW(2:2),Laadtijd!$D:$D,\"<=\"&ROW(3:3))","v":0}]
["Tussen 3 en 4 seconden",{"$f":"COUNTIFS(Laadtijd!$A:$A,$B$2,Laadtijd!$B:$B,$B$1,Laadtijd!$D:$D,\">\"&ROW(3:3),Laadtijd!$D:$D,\"<=\"&ROW(4:4))","v":0}]
["Tussen 4 en 5 seconden",{"$f":"COUNTIFS(Laadtijd!$A:$A,$B$2,Laadtijd!$B:$B,$B$1,Laadtijd!$D:$D,\">\"&ROW(4:4),Laadtijd!$D:$D,\"<=\"&ROW(5:5))","v":0}]
["Groter dan 5 seconden",{"$f":"COUNTIFS(Laadtijd!$A:$A,$B$2,Laadtijd!$B:$B,$B$1,Laadtijd!$D:$D,\">\"&ROW(5:5))","v":0}]
[]
["Nul",{"$f":"COUNTIFS(Laadtijd!$A:$A,$B$1,Laadtijd!$B:$B,$B$2,Laadtijd!$D:$D,0)","v":0}]

{"sheet":"Sessies dag","index":10,"n_rows":1,"n_cols":13,"rows_kept":1,"cut":false,"hidden":true,"merged":[]}
["Dagindex","Sessies","Dag van de week",null,null,null,null,null,null,null,null,"Kies scherm:","Kanalen"]

{"sheet":"Kanalen","index":11,"n_rows":1,"n_cols":13,"rows_kept":1,"cut":false,"hidden":true,"merged":[]}
["Jaar","Maand","Default Channel Grouping","Sessies",null,null,null,null,null,null,null,"Kies scherm:","Search console"]

{"sheet":"Search console","index":12,"n_rows":1,"n_cols":13,"rows_kept":1,"cut":false,"hidden":true,"merged":[]}
["Jaar","Maand","Zoekopdrachten","Aantal klikken","Vertoningen","CTR","Positie",null,null,null,null,"Kies scherm:","Sessies"]

{"sheet":"Sessies","index":13,"n_rows":1,"n_cols":13,"rows_kept":1,"cut":false,"hidden":true,"merged":[]}
["Jaar","Maand","Default Channel Grouping","Paginatitel","Sessies","% nieuwe sessies","Nieuwe gebruikers","Bouncepercentage","Pagina's/sessie","Gem. sessieduur",null,"Kies scherm:","Provincie"]

{"sheet":"Provincie","index":14,"n_rows":1,"n_cols":13,"rows_kept":1,"cut":false,"hidden":true,"merged":[]}
["Jaar","Maand","Regio","Sessies","% nieuwe sessies","Nieuwe gebruikers","Bouncepercentage","Pagina's/sessie","Gem. sessieduur",null,null,"Kies scherm:","Apparaatoverzicht"]

{"sheet":"Apparaatoverzicht","index":15,"n_rows":1,"n_cols":13,"rows_kept":1,"cut":false,"hidden":true,"merged":[]}
["Jaar","Maand","Apparaatcategorie","Sessies","% nieuwe sessies","Nieuwe gebruikers","Bouncepercentage","Pagina's/sessie","Gem. sessieduur",null,null,"Kies scherm:","Laadtijd"]

{"sheet":"Laadtijd","index":16,"n_rows":1,"n_cols":13,"rows_kept":1,"cut":false,"hidden":true,"merged":[]}
["Jaar","Maand","Paginatitel","Gem. laadtijd van pagina (sec.)","Paginaweergaven","Bouncepercentage","Uitstappercentage","Paginawaarde",null,null,null,"Kies scherm:","Home"]

{"sheet":"Hulpblad","index":17,"n_rows":1,"n_cols":10,"rows_kept":1,"cut":false,"hidden":true,"merged":[]}
["Jaar","Maand","Default Channel Grouping","Paginatitel","Sessies","% nieuwe sessies","Nieuwe gebruikers","Bouncepercentage","Pagina's/sessie","Gem. sessieduur"]